{"text_format":"1","workbook":"xlsx","n_sheets":14,"sheets":["INSCRITS","RESULTATS","SPRINT","BATONS","NAGE","PLANCHE","SURFSKI","OCEANMAN","CNC","RELAIS SPRINT","RELAIS TUBE","SAUV PLANCHE","RELAIS COMBINE","EQUIPE"],"not_rendered":{"charts":0,"images":16,"macros":1,"external_links":1,"defined_names":16,"comments":0,"pivot_tables":0},"unopened":[],"bounds":{"document_bytes":16777216,"sheet_cells":100000,"rows_first":2000,"rows_last":500,"rows_between":2000,"halvings":0,"cell_chars":16384,"cell_head_chars":4096},"cells_cut":0,"cells_raw":0,"read":"whole","date_system":"1900"}

{"sheet":"INSCRITS","index":0,"n_rows":71,"n_cols":23,"rows_kept":71,"cut":false,"hidden":true,"merged":[[1,12,1,19],[2,12,2,18],[2,19,2,23]]}
[]
[" "]
[null,null,null,null,null,null,null,null,null,null,null,null,11,null,null,null,null,null,null,"RELAIS"]
[null,null,null,"N°","n° Licence","Année","Sexe  M. ou F.","Date de Naissance","NOM","Prénom","Catégorie","Club","SPRINT","BATONS","Nage","PLANCHE","SURF SKI","OCEANMAN","CNC","RELAIS SPRINT","RELAIS TUBE","SAUVETAGE PLANCHE","RELAIS COMBINE"]
[null,null,null,161,null,1994,"H",null,"THEO","Valentin","Junior","Amiens sauvetage","X","X","X","X",null,null,"X"]
["place","points",null,162,null,1994,"H",null,"LATAPIE","Robin","Junior","AQUALOVE","X","X","X","X","X","X"]
["x",0,null,163,null,1994,"H",null,"MARCO","Clement","Junior","AQUALOVE","X","X","X","X","X","X"]
[1,20]
[2,18,null,165,null,1993,"H",null,"HAREL","Romain","Junior","ASCA44","X","X",null,"X",null,"X","X"]
[3,16,null,166,null,1993,"H",null,"DOLE","François","Junior","ASCE DINARD","X","X","X","X","X","X","X"]
[4,14,null,167,null,1993,"H",null,"HERVE","Axel","Junior","ASCE DINARD","X","X","X","X","X","X","X"]
["4*",0]
[5,13,null,169,null,1993,"H",null,"POUTRIQUET","Maxime","Junior","ASCE DINARD","X","X","X","X","X","X","X"]
["5*",0,null,170,null,1993,"H",null,"RIGOT","Quentin","Junior","ASCE DINARD","X","X","X","X","X","X","X"]
[6,12,null,171,null,1993,"H",null,"DABCHY","Yassine","Junior","ASCE DINARD ","X","X","X","X","X","X","X"]
["6*",0,null,172,null,1994,"H",null,"JEHAN","Thomas","Junior","ASCE DINARD ","X","X","X","X","X","X","X"]
[7,11,null,173,null,1993,"H",null,"FOS","Robin","Junior","BEGLES","X","X","X","X","X","X"]
["7*",0,null,174,null,1993,"H",null,"HAZERA","Olivier","Junior","BEGLES","X","X",null,"X","X","X"]
[8,10,null,175,null,1994,"H",null,"PHILIPPEAU","Jodicael","Junior","BEGLES","X","X","X","X","X","X"]
["8*",0,null,176,null,1993,"H",null,"CALEY","Simon","Junior","Biarritz SC","X","X","X","X",null,null,"X"]
[9,8,null,177,null,1993,"H",null,"GASQUET","Mathieu","Junior","Biarritz SC","X",null,"X","X",null,null,"X"]
["9*",0,null,178,null,1993,"H",null,"SORIA","Samuel","Junior","Biarritz SC","X","X","X","X","X","X","X"]
[10,7,null,179,null,1993,"H",null,"KATOUH","Karim","Junior","Cannes Sauvetage Côtier","X","X","X","X"]
["10*",0,null,180,null,1994,"H",null,"DUSSES","Sykvain","Junior","Capbreton","X","X","X","X"]
[11,6,null,181,null,1994,"H",null,"GLIZE","Corentin","Junior","Capbreton",null,"X",null,"X"]
["11*",0,null,182,null,1993,"H",null,"DUBOIS CONSTANT","Antoine","Junior","EMULATION SAUVETAGE NATATION PERPIGNAN","X","X","X","X","X","X"]
[12,5,null,183,null,1993,"H",null,"BLANC","Guillaume","Junior","ENA","X","X","X","X","X","X"]
["12*",0,null,184,null,1993,"H",null,"BONNAFONT","Charles","Junior","ENA","X","X","X","X"]
[13,4,null,185,null,1993,"H",null,"COUTANCEAU","Guillaume","Junior","ENA",null,null,"X","X"]
["13*",0,null,186,null,1994,"H",null,"CARISSAN","Ludovic","Junior","epstn","X","X","X","X",null,null,"X"]
[14,3,null,187,null,1993,"H",null,"DEHEZ","Rémy","Junior","HSC","X","X","X","X","X","X"]
["14*",0,null,188,null,1993,"H",null,"FERRIER","Paul","Junior","HSC","X","X","X","X"]
[15,2,null,189,null,1994,"H",null,"SOULE SUSBIELLE","Xavier","Junior","HSC",null,"X",null,"X"]
["15*",0,null,190,null,1993,"H",null,"BLOUIN","Roman","Junior","MIMIZAN SAUVETAGE"]
[16,1,null,191,null,1994,"H",null,"DUBLINEAU","Clément","Junior","MIMIZAN SAUVETAGE",null,"X","X","X",null,null,"X"]
["16*",0,null,192,null,1993,"H",null,"GONZALES","Ulysse","Junior","MIMIZAN SAUVETAGE","X","X","X","X",null,null,"X"]
[17,0,null,193,null,1994,"H",null,"MAILHÉ","Loic","Junior","MNSL","X","X",null,"X","X","X","X"]
["Forfait",0,null,194,null,1994,"H",null,"NOGUES","Remi","Junior","MNSL","X","X",null,"X","X","X","X"]
["Abandon",0,null,195,null,1993,"H",null,"SUBRA","Olivier","Junior","MNSL","X","X",null,"X","X","X","X"]
["Disqualifie",0,null,196,null,1994,"H",null,"ZAMBELLI","Sylvain","Junior","MNSL","X","X",null,"X","X","X","X"]
[null,null,null,197,null,1993,"H",null,"RUAULT","Briag","Junior","RENNES BREIZH SAUVETAGE COTIER","X","X","X","X","X"]
[]
[]
[null,"ordre"]
[]
[]
[]
[]
[]
["place","points"]
["x",0]
[1,40]
[2,36]
[3,32]
[4,28]
[5,26]
[6,24]
[7,22]
[8,20]
[9,16]
[10,14]
[11,12]
[12,10]
[13,8]
[14,6]
[15,4]
[16,2]
[17,0]
["Forfait",0]
["Abandon",0]
["Disqualifie",0]

{"sheet":"RESULTATS","index":1,"n_rows":205,"n_cols":45,"rows_kept":205,"cut":false,"hidden":true,"merged":[[0,0,0,30],[1,0,1,30],[3,0,3,4],[3,31,3,43],[3,9,3,30]]}
[]
[]
["N°","n° Licence","Année","Sexe  M. ou F.","Date de Naissance","NOM","Prénom","Cat.","Club","SPRINT","Pl.","Pts","BATONS","Pl.","Pts","PLANCHE","Pl.","Pts","NAGE","Pl.","Pts","SURF SKI","Pl.","Pts","OCEANMAN","Pl.","Pts","CNC","Pl.","Pts","TOTAUX","Relais sprint","Pl.","Pts","Relais Bouée Tube","Pl.","Pts","Sauvetage Planche","Pl.","Pts","Relais Combiné","Pl.","Pts","TOTAUX","TOTAL GENERAL"]
["Messieurs",null,null,null,null,null,null,null,null,"INDIVIDUELLE",null,null,null,null,null,null,null,null,null,null,null,null,null,null,null,null,null,null,null,null,null,"RELAIS"]
[161,{"$f":"IF($A5=\"\",\"\",VLOOKUP($A5,INSCRITS!$D$4:$W$501,2,0))","v":0},{"$f":"IF($A5=\"\",\"\",VLOOKUP($A5,INSCRITS!$D$4:$W$501,3,0))","v":1994},{"$f":"IF($A5=\"\",\"\",VLOOKUP($A5,INSCRITS!$D$4:$W$501,4,0))","v":"H"},{"$f":"IF($A5=\"\",\"\",VLOOKUP($A5,INSCRITS!$D$4:$W$501,5,0))","v":"00:00:00"},{"$f":"IF($A5=\"\",\"\",VLOOKUP($A5,INSCRITS!$D$4:$W$501,6,0))","v":"THEO"},{"$f":"IF($A5=\"\",\"\",VLOOKUP($A5,INSCRITS!$D$4:$W$501,7,0))","v":"Valentin"},{"$f":"IF($A5=\"\",\"\",VLOOKUP($A5,INSCRITS!$D$4:$W$501,8,0))","v":"Junior"},{"$f":"IF($A5=\"\",\"\",VLOOKUP($A5,INSCRITS!$D$4:$W$501,9,0))","v":"Amiens sauvetage"},{"$f":"IF($A5=\"\",\"\",VLOOKUP($A5,INSCRITS!$D$4:$W$506,10,0))","v":"X"},{"$f":"IF(ISNA(VLOOKUP($A5,SPRINT!AD$7:AJ$50,6,0)),\"\",VLOOKUP($A5,SPRINT!AD$7:AJ$50,6,0))","v":""},{"$f":"IF(ISNA(VLOOKUP($A5,SPRINT!AD$7:AJ$50,7,0)),\"\",VLOOKUP($A5,SPRINT!AD$7:AJ$50,7,0))","v":""},{"$f":"IF($A5=\"\",\"\",VLOOKUP($A5,INSCRITS!$D$4:$W$506,11,0))","v":"X"},{"$f":"IF(ISNA(VLOOKUP($A5,BATONS!AD$7:AJ$51,6,0)),\"\",VLOOKUP($A5,BATONS!AD$7:AJ$51,6,0))","v":""},{"$f":"IF(ISNA(VLOOKUP($A5,BATONS!AD$7:AJ$51,7,0)),\"\",VLOOKUP($A5,BATONS!AD$7:AJ$51,7,0))","v":""},{"$f":"IF($A5=\"\",\"\",VLOOKUP($A5,INSCRITS!$D$4:$W$506,12,0))","v":"X"},{"$f":"IF(ISNA(VLOOKUP($A5,PLANCHE!AC$7:AI$52,6,0)),\"\",VLOOKUP($A5,PLANCHE!AC$7:AI$52,6,0))","v":""},{"$f":"IF(ISNA(VLOOKUP($A5,PLANCHE!AC$7:AI$52,7,0)),\"\",VLOOKUP($A5,PLANCHE!AC$7:AI$52,7,0))","v":""},{"$f":"IF($A5=\"\",\"\",VLOOKUP($A5,INSCRITS!$D$4:$W$506,13,0))","v":"X"},{"$f":"IF(ISNA(VLOOKUP($A5,NAGE!N$7:T$52,6,0)),\"\",VLOOKUP($A5,NAGE!N$7:T$52,6,0))","v":7},{"$f":"IF(ISNA(VLOOKUP($A5,NAGE!N$7:T$52,7,0)),\"\",VLOOKUP($A5,NAGE!N$7:T$52,7,0))","v":11},{"$f":"IF($A5=\"\",\"\",VLOOKUP($A5,INSCRITS!$D$4:$W$506,14,0))","v":0},{"$f":"IF(ISNA(VLOOKUP($A5,SURFSKI!AC$8:AI$53,6,0)),\"\",VLOOKUP($A5,SURFSKI!AC$8:AI$53,6,0))","v":""},{"$f":"IF(ISNA(VLOOKUP($A5,SURFSKI!AC$8:AI$53,7,0)),\"\",VLOOKUP($A5,SURFSKI!AC$8:AI$53,7,0))","v":""},{"$f":"IF($A5=\"\",\"\",VLOOKUP($A5,INSCRITS!$D$4:$W$506,15,0))","v":0},{"$f":"IF(ISNA(VLOOKUP($A5,OCEANMAN!AD$7:AJ$52,6,0)),\"\",VLOOKUP($A5,OCEANMAN!AD$7:AJ$52,6,0))","v":""},{"$f":"IF(ISNA(VLOOKUP($A5,OCEANMAN!AD$7:AJ$52,7,0)),\"\",VLOOKUP($A5,OCEANMAN!AD$7:AJ$52,7,0))","v":""},{"$f":"IF($A5=\"\",\"\",VLOOKUP($A5,INSCRITS!$D$4:$W$506,16,0))","v":"X"},{"$f":"IF(ISNA(VLOOKUP($A5,CNC!N$7:AC$52,6,0)),\"\",VLOOKUP($A5,CNC!N$7:AC$52,6,0))","v":6},{"$f":"IF(ISNA(VLOOKUP($A5,CNC!N$7:AC$52,7,0)),\"\",VLOOKUP($A5,CNC!N$7:AC$52,7,0))","v":12},{"$f":"SUM(L5,O5,R5,U5,X5,AA5,AD5)","v":23},{"$f":"IF($A5=\"\",\"\",VLOOKUP($A5,INSCRITS!$D$4:$W$506,16,0))","v":"X"},null,{"$f":"IF(AG5=\"\",\"\",VLOOKUP(AG5,[0]!Relais,2))","v":""},{"$f":"IF($A5=\"\",\"\",VLOOKUP($A5,INSCRITS!$D$4:$W$506,17,0))","v":0},null,{"$f":"IF(AJ5=\"\",\"\",VLOOKUP(AJ5,[0]!Relais,2))","v":""},{"$f":"IF($A5=\"\",\"\",VLOOKUP($A5,INSCRITS!$D$4:$W$506,18,0))","v":0},null,{"$f":"IF(AM5=\"\",\"\",VLOOKUP(AM5,[0]!Relais,2))","v":""},{"$f":"IF($A5=\"\",\"\",VLOOKUP($A5,INSCRITS!$D$4:$W$506,19,0))","v":0},null,{"$f":"IF(AP5=\"\",\"\",VLOOKUP(AP5,[0]!Relais,2))","v":""},{"$f":"SUM(AH5,AK5,AN5,AQ5)","v":0},{"$f":"AE5+AR5","v":23}]
[162,{"$f":"IF($A6=\"\",\"\",VLOOKUP($A6,INSCRITS!$D$4:$W$501,2,0))","v":0},{"$f":"IF($A6=\"\",\"\",VLOOKUP($A6,INSCRITS!$D$4:$W$501,3,0))","v":1994},{"$f":"IF($A6=\"\",\"\",VLOOKUP($A6,INSCRITS!$D$4:$W$501,4,0))","v":"H"},{"$f":"IF($A6=\"\",\"\",VLOOKUP($A6,INSCRITS!$D$4:$W$501,5,0))","v":"00:00:00"},{"$f":"IF($A6=\"\",\"\",VLOOKUP($A6,INSCRITS!$D$4:$W$501,6,0))","v":"LATAPIE"},{"$f":"IF($A6=\"\",\"\",VLOOKUP($A6,INSCRITS!$D$4:$W$501,7,0))","v":"Robin"},{"$f":"IF($A6=\"\",\"\",VLOOKUP($A6,INSCRITS!$D$4:$W$501,8,0))","v":"Junior"},{"$f":"IF($A6=\"\",\"\",VLOOKUP($A6,INSCRITS!$D$4:$W$501,9,0))","v":"AQUALOVE"},{"$f":"IF($A6=\"\",\"\",VLOOKUP($A6,INSCRITS!$D$4:$W$506,10,0))","v":"X"},{"$f":"IF(ISNA(VLOOKUP($A6,SPRINT!AD$7:AJ$50,6,0)),\"\",VLOOKUP($A6,SPRINT!AD$7:AJ$50,6,0))","v":""},{"$f":"IF(ISNA(VLOOKUP($A6,SPRINT!AD$7:AJ$50,7,0)),\"\",VLOOKUP($A6,SPRINT!AD$7:AJ$50,7,0))","v":""},{"$f":"IF($A6=\"\",\"\",VLOOKUP($A6,INSCRITS!$D$4:$W$506,11,0))","v":"X"},{"$f":"IF(ISNA(VLOOKUP($A6,BATONS!AD$7:AJ$51,6,0)),\"\",VLOOKUP($A6,BATONS!AD$7:AJ$51,6,0))","v":""},{"$f":"IF(ISNA(VLOOKUP($A6,BATONS!AD$7:AJ$51,7,0)),\"\",VLOOKUP($A6,BATONS!AD$7:AJ$51,7,0))","v":""},{"$f":"IF($A6=\"\",\"\",VLOOKUP($A6,INSCRITS!$D$4:$W$506,12,0))","v":"X"},{"$f":"IF(ISNA(VLOOKUP($A6,PLANCHE!AC$7:AI$52,6,0)),\"\",VLOOKUP($A6,PLANCHE!AC$7:AI$52,6,0))","v":12},{"$f":"IF(ISNA(VLOOKUP($A6,PLANCHE!AC$7:AI$52,7,0)),\"\",VLOOKUP($A6,PLANCHE!AC$7:AI$52,7,0))","v":5},{"$f":"IF($A6=\"\",\"\",VLOOKUP($A6,INSCRITS!$D$4:$W$506,13,0))","v":"X"},{"$f":"IF(ISNA(VLOOKUP($A6,NAGE!N$7:T$52,6,0)),\"\",VLOOKUP($A6,NAGE!N$7:T$52,6,0))","v":"disq"},{"$f":"IF(ISNA(VLOOKUP($A6,NAGE!N$7:T$52,7,0)),\"\",VLOOKUP($A6,NAGE!N$7:T$52,7,0))","v":0},{"$f":"IF($A6=\"\",\"\",VLOOKUP($A6,INSCRITS!$D$4:$W$506,14,0))","v":"X"},{"$f":"IF(ISNA(VLOOKUP($A6,SURFSKI!AC$8:AI$53,6,0)),\"\",VLOOKUP($A6,SURFSKI!AC$8:AI$53,6,0))","v":4},{"$f":"IF(ISNA(VLOOKUP($A6,SURFSKI!AC$8:AI$53,7,0)),\"\",VLOOKUP($A6,SURFSKI!AC$8:AI$53,7,0))","v":14},{"$f":"IF($A6=\"\",\"\",VLOOKUP($A6,INSCRITS!$D$4:$W$506,15,0))","v":"X"},{"$f":"IF(ISNA(VLOOKUP($A6,OCEANMAN!AD$7:AJ$52,6,0)),\"\",VLOOKUP($A6,OCEANMAN!AD$7:AJ$52,6,0))","v":7},{"$f":"IF(ISNA(VLOOKUP($A6,OCEANMAN!AD$7:AJ$52,7,0)),\"\",VLOOKUP($A6,OCEANMAN!AD$7:AJ$52,7,0))","v":11},{"$f":"IF($A6=\"\",\"\",VLOOKUP($A6,INSCRITS!$D$4:$W$506,16,0))","v":0},{"$f":"IF(ISNA(VLOOKUP($A6,CNC!N$7:AC$52,6,0)),\"\",VLOOKUP($A6,CNC!N$7:AC$52,6,0))","v":""},{"$f":"IF(ISNA(VLOOKUP($A6,CNC!N$7:AC$52,7,0)),\"\",VLOOKUP($A6,CNC!N$7:AC$52,7,0))","v":""},{"$f":"SUM(L6,O6,R6,U6,X6,AA6,AD6)","v":30},{"$f":"IF($A6=\"\",\"\",VLOOKUP($A6,INSCRITS!$D$4:$W$506,16,0))","v":0},null,{"$f":"IF(AG6=\"\",\"\",VLOOKUP(AG6,[0]!Relais,2))","v":""},{"$f":"IF($A6=\"\",\"\",VLOOKUP($A6,INSCRITS!$D$4:$W$506,17,0))","v":0},null,{"$f":"IF(AJ6=\"\",\"\",VLOOKUP(AJ6,[0]!Relais,2))","v":""},{"$f":"IF($A6=\"\",\"\",VLOOKUP($A6,INSCRITS!$D$4:$W$506,18,0))","v":0},null,{"$f":"IF(AM6=\"\",\"\",VLOOKUP(AM6,[0]!Relais,2))","v":""},{"$f":"IF($A6=\"\",\"\",VLOOKUP($A6,INSCRITS!$D$4:$W$506,19,0))","v":0},null,{"$f":"IF(AP6=\"\",\"\",VLOOKUP(AP6,[0]!Relais,2))","v":""},{"$f":"SUM(AH6,AK6,AN6,AQ6)","v":0},{"$f":"AE6+AR6","v":30}]
[163,{"$f":"IF($A7=\"\",\"\",VLOOKUP($A7,INSCRITS!$D$4:$W$501,2,0))","v":0},{"$f":"IF($A7=\"\",\"\",VLOOKUP($A7,INSCRITS!$D$4:$W$501,3,0))","v":1994},{"$f":"IF($A7=\"\",\"\",VLOOKUP($A7,INSCRITS!$D$4:$W$501,4,0))","v":"H"},{"$f":"IF($A7=\"\",\"\",VLOOKUP($A7,INSCRITS!$D$4:$W$501,5,0))","v":"00:00:00"},{"$f":"IF($A7=\"\",\"\",VLOOKUP($A7,INSCRITS!$D$4:$W$501,6,0))","v":"MARCO"},{"$f":"IF($A7=\"\",\"\",VLOOKUP($A7,INSCRITS!$D$4:$W$501,7,0))","v":"Clement"},{"$f":"IF($A7=\"\",\"\",VLOOKUP($A7,INSCRITS!$D$4:$W$501,8,0))","v":"Junior"},{"$f":"IF($A7=\"\",\"\",VLOOKUP($A7,INSCRITS!$D$4:$W$501,9,0))","v":"AQUALOVE"},{"$f":"IF($A7=\"\",\"\",VLOOKUP($A7,INSCRITS!$D$4:$W$506,10,0))","v":"X"},{"$f":"IF(ISNA(VLOOKUP($A7,SPRINT!AD$7:AJ$50,6,0)),\"\",VLOOKUP($A7,SPRINT!AD$7:AJ$50,6,0))","v":""},{"$f":"IF(ISNA(VLOOKUP($A7,SPRINT!AD$7:AJ$50,7,0)),\"\",VLOOKUP($A7,SPRINT!AD$7:AJ$50,7,0))","v":""},{"$f":"IF($A7=\"\",\"\",VLOOKUP($A7,INSCRITS!$D$4:$W$506,11,0))","v":"X"},{"$f":"IF(ISNA(VLOOKUP($A7,BATONS!AD$7:AJ$51,6,0)),\"\",VLOOKUP($A7,BATONS!AD$7:AJ$51,6,0))","v":16},{"$f":"IF(ISNA(VLOOKUP($A7,BATONS!AD$7:AJ$51,7,0)),\"\",VLOOKUP($A7,BATONS!AD$7:AJ$51,7,0))","v":1},{"$f":"IF($A7=\"\",\"\",VLOOKUP($A7,INSCRITS!$D$4:$W$506,12,0))","v":"X"},{"$f":"IF(ISNA(VLOOKUP($A7,PLANCHE!AC$7:AI$52,6,0)),\"\",VLOOKUP($A7,PLANCHE!AC$7:AI$52,6,0))","v":5},{"$f":"IF(ISNA(VLOOKUP($A7,PLANCHE!AC$7:AI$52,7,0)),\"\",VLOOKUP($A7,PLANCHE!AC$7:AI$52,7,0))","v":13},{"$f":"IF($A7=\"\",\"\",VLOOKUP($A7,INSCRITS!$D$4:$W$506,13,0))","v":"X"},{"$f":"IF(ISNA(VLOOKUP($A7,NAGE!N$7:T$52,6,0)),\"\",VLOOKUP($A7,NAGE!N$7:T$52,6,0))","v":5},{"$f":"IF(ISNA(VLOOKUP($A7,NAGE!N$7:T$52,7,0)),\"\",VLOOKUP($A7,NAGE!N$7:T$52,7,0))","v":13},{"$f":"IF($A7=\"\",\"\",VLOOKUP($A7,INSCRITS!$D$4:$W$506,14,0))","v":"X"},{"$f":"IF(ISNA(VLOOKUP($A7,SURFSKI!AC$8:AI$53,6,0)),\"\",VLOOKUP($A7,SURFSKI!AC$8:AI$53,6,0))","v":6},{"$f":"IF(ISNA(VLOOKUP($A7,SURFSKI!AC$8:AI$53,7,0)),\"\",VLOOKUP($A7,SURFSKI!AC$8:AI$53,7,0))","v":12},{"$f":"IF($A7=\"\",\"\",VLOOKUP($A7,INSCRITS!$D$4:$W$506,15,0))","v":"X"},{"$f":"IF(ISNA(VLOOKUP($A7,OCEANMAN!AD$7:AJ$52,6,0)),\"\",VLOOKUP($A7,OCEANMAN!AD$7:AJ$52,6,0))","v":2},{"$f":"IF(ISNA(VLOOKUP($A7,OCEANMAN!AD$7:AJ$52,7,0)),\"\",VLOOKUP($A7,OCEANMAN!AD$7:AJ$52,7,0))","v":18},{"$f":"IF($A7=\"\",\"\",VLOOKUP($A7,INSCRITS!$D$4:$W$506,16,0))","v":0},{"$f":"IF(ISNA(VLOOKUP($A7,CNC!N$7:AC$52,6,0)),\"\",VLOOKUP($A7,CNC!N$7:AC$52,6,0))","v":3},{"$f":"IF(ISNA(VLOOKUP($A7,CNC!N$7:AC$52,7,0)),\"\",VLOOKUP($A7,CNC!N$7:AC$52,7,0))","v":16},73,{"$f":"IF($A7=\"\",\"\",VLOOKUP($A7,INSCRITS!$D$4:$W$506,16,0))","v":0},null,{"$f":"IF(AG7=\"\",\"\",VLOOKUP(AG7,[0]!Relais,2))","v":""},{"$f":"IF($A7=\"\",\"\",VLOOKUP($A7,INSCRITS!$D$4:$W$506,17,0))","v":0},null,{"$f":"IF(AJ7=\"\",\"\",VLOOKUP(AJ7,[0]!Relais,2))","v":""},{"$f":"IF($A7=\"\",\"\",VLOOKUP($A7,INSCRITS!$D$4:$W$506,18,0))","v":0},null,{"$f":"IF(AM7=\"\",\"\",VLOOKUP(AM7,[0]!Relais,2))","v":""},{"$f":"IF($A7=\"\",\"\",VLOOKUP($A7,INSCRITS!$D$4:$W$506,19,0))","v":0},null,{"$f":"IF(AP7=\"\",\"\",VLOOKUP(AP7,[0]!Relais,2))","v":""},0,73]
[164,{"$f":"IF($A8=\"\",\"\",VLOOKUP($A8,INSCRITS!$D$4:$W$501,2,0))","v":{"$error":"#N/A"}},{"$f":"IF($A8=\"\",\"\",VLOOKUP($A8,INSCRITS!$D$4:$W$501,3,0))","v":{"$error":"#N/A"}},{"$f":"IF($A8=\"\",\"\",VLOOKUP($A8,INSCRITS!$D$4:$W$501,4,0))","v":{"$error":"#N/A"}},{"$f":"IF($A8=\"\",\"\",VLOOKUP($A8,INSCRITS!$D$4:$W$501,5,0))","v":{"$error":"#N/A"}},{"$f":"IF($A8=\"\",\"\",VLOOKUP($A8,INSCRITS!$D$4:$W$501,6,0))","v":{"$error":"#N/A"}},{"$f":"IF($A8=\"\",\"\",VLOOKUP($A8,INSCRITS!$D$4:$W$501,7,0))","v":{"$error":"#N/A"}},{"$f":"IF($A8=\"\",\"\",VLOOKUP($A8,INSCRITS!$D$4:$W$501,8,0))","v":{"$error":"#N/A"}},{"$f":"IF($A8=\"\",\"\",VLOOKUP($A8,INSCRITS!$D$4:$W$501,9,0))","v":{"$error":"#N/A"}},{"$f":"IF($A8=\"\",\"\",VLOOKUP($A8,INSCRITS!$D$4:$W$506,10,0))","v":{"$error":"#N/A"}},{"$f":"IF(ISNA(VLOOKUP($A8,SPRINT!AD$7:AJ$50,6,0)),\"\",VLOOKUP($A8,SPRINT!AD$7:AJ$50,6,0))","v":""},{"$f":"IF(ISNA(VLOOKUP($A8,SPRINT!AD$7:AJ$50,7,0)),\"\",VLOOKUP($A8,SPRINT!AD$7:AJ$50,7,0))","v":""},{"$f":"IF($A8=\"\",\"\",VLOOKUP($A8,INSCRITS!$D$4:$W$506,11,0))","v":{"$error":"#N/A"}},{"$f":"IF(ISNA(VLOOKUP($A8,BATONS!AD$7:AJ$51,6,0)),\"\",VLOOKUP($A8,BATONS!AD$7:AJ$51,6,0))","v":""},{"$f":"IF(ISNA(VLOOKUP($A8,BATONS!AD$7:AJ$51,7,0)),\"\",VLOOKUP($A8,BATONS!AD$7:AJ$51,7,0))","v":""},{"$f":"IF($A8=\"\",\"\",VLOOKUP($A8,INSCRITS!$D$4:$W$506,12,0))","v":{"$error":"#N/A"}},{"$f":"IF(ISNA(VLOOKUP($A8,PLANCHE!AC$7:AI$52,6,0)),\"\",VLOOKUP($A8,PLANCHE!AC$7:AI$52,6,0))","v":""},{"$f":"IF(ISNA(VLOOKUP($A8,PLANCHE!AC$7:AI$52,7,0)),\"\",VLOOKUP($A8,PLANCHE!AC$7:AI$52,7,0))","v":""},{"$f":"IF($A8=\"\",\"\",VLOOKUP($A8,INSCRITS!$D$4:$W$506,13,0))","v":{"$error":"#N/A"}},{"$f":"IF(ISNA(VLOOKUP($A8,NAGE!N$7:T$52,6,0)),\"\",VLOOKUP($A8,NAGE!N$7:T$52,6,0))","v":""},{"$f":"IF(ISNA(VLOOKUP($A8,NAGE!N$7:T$52,7,0)),\"\",VLOOKUP($A8,NAGE!N$7:T$52,7,0))","v":""},{"$f":"IF($A8=\"\",\"\",VLOOKUP($A8,INSCRITS!$D$4:$W$506,14,0))","v":{"$error":"#N/A"}},{"$f":"IF(ISNA(VLOOKUP($A8,SURFSKI!AC$8:AI$53,6,0)),\"\",VLOOKUP($A8,SURFSKI!AC$8:AI$53,6,0))","v":""},{"$f":"IF(ISNA(VLOOKUP($A8,SURFSKI!AC$8:AI$53,7,0)),\"\",VLOOKUP($A8,SURFSKI!AC$8:AI$53,7,0))","v":""},{"$f":"IF($A8=\"\",\"\",VLOOKUP($A8,INSCRITS!$D$4:$W$506,15,0))","v":{"$error":"#N/A"}},{"$f":"IF(ISNA(VLOOKUP($A8,OCEANMAN!AD$7:AJ$52,6,0)),\"\",VLOOKUP($A8,OCEANMAN!AD$7:AJ$52,6,0))","v":""},{"$f":"IF(ISNA(VLOOKUP($A8,OCEANMAN!AD$7:AJ$52,7,0)),\"\",VLOOKUP($A8,OCEANMAN!AD$7:AJ$52,7,0))","v":""},{"$f":"IF($A8=\"\",\"\",VLOOKUP($A8,INSCRITS!$D$4:$W$506,16,0))","v":{"$error":"#N/A"}},{"$f":"IF(ISNA(VLOOKUP($A8,CNC!N$7:AC$52,6,0)),\"\",VLOOKUP($A8,CNC!N$7:AC$52,6,0))","v":""},{"$f":"IF(ISNA(VLOOKUP($A8,CNC!N$7:AC$52,7,0)),\"\",VLOOKUP($A8,CNC!N$7:AC$52,7,0))","v":""},0,{"$f":"IF($A8=\"\",\"\",VLOOKUP($A8,INSCRITS!$D$4:$W$506,16,0))","v":{"$error":"#N/A"}},null,{"$f":"IF(AG8=\"\",\"\",VLOOKUP(AG8,[0]!Relais,2))","v":""},{"$f":"IF($A8=\"\",\"\",VLOOKUP($A8,INSCRITS!$D$4:$W$506,17,0))","v":{"$error":"#N/A"}},null,{"$f":"IF(AJ8=\"\",\"\",VLOOKUP(AJ8,[0]!Relais,2))","v":""},{"$f":"IF($A8=\"\",\"\",VLOOKUP($A8,INSCRITS!$D$4:$W$506,18,0))","v":{"$error":"#N/A"}},null,{"$f":"IF(AM8=\"\",\"\",VLOOKUP(AM8,[0]!Relais,2))","v":""},{"$f":"IF($A8=\"\",\"\",VLOOKUP($A8,INSCRITS!$D$4:$W$506,19,0))","v":{"$error":"#N/A"}},null,{"$f":"IF(AP8=\"\",\"\",VLOOKUP(AP8,[0]!Relais,2))","v":""},0,0]
[165,{"$f":"IF($A9=\"\",\"\",VLOOKUP($A9,INSCRITS!$D$4:$W$501,2,0))","v":0},{"$f":"IF($A9=\"\",\"\",VLOOKUP($A9,INSCRITS!$D$4:$W$501,3,0))","v":1993},{"$f":"IF($A9=\"\",\"\",VLOOKUP($A9,INSCRITS!$D$4:$W$501,4,0))","v":"H"},{"$f":"IF($A9=\"\",\"\",VLOOKUP($A9,INSCRITS!$D$4:$W$501,5,0))","v":"00:00:00"},{"$f":"IF($A9=\"\",\"\",VLOOKUP($A9,INSCRITS!$D$4:$W$501,6,0))","v":"HAREL"},{"$f":"IF($A9=\"\",\"\",VLOOKUP($A9,INSCRITS!$D$4:$W$501,7,0))","v":"Romain"},{"$f":"IF($A9=\"\",\"\",VLOOKUP($A9,INSCRITS!$D$4:$W$501,8,0))","v":"Junior"},{"$f":"IF($A9=\"\",\"\",VLOOKUP($A9,INSCRITS!$D$4:$W$501,9,0))","v":"ASCA44"},{"$f":"IF($A9=\"\",\"\",VLOOKUP($A9,INSCRITS!$D$4:$W$506,10,0))","v":"X"},{"$f":"IF(ISNA(VLOOKUP($A9,SPRINT!AD$7:AJ$50,6,0)),\"\",VLOOKUP($A9,SPRINT!AD$7:AJ$50,6,0))","v":8},{"$f":"IF(ISNA(VLOOKUP($A9,SPRINT!AD$7:AJ$50,7,0)),\"\",VLOOKUP($A9,SPRINT!AD$7:AJ$50,7,0))","v":10},{"$f":"IF($A9=\"\",\"\",VLOOKUP($A9,INSCRITS!$D$4:$W$506,11,0))","v":"X"},{"$f":"IF(ISNA(VLOOKUP($A9,BATONS!AD$7:AJ$51,6,0)),\"\",VLOOKUP($A9,BATONS!AD$7:AJ$51,6,0))","v":4},{"$f":"IF(ISNA(VLOOKUP($A9,BATONS!AD$7:AJ$51,7,0)),\"\",VLOOKUP($A9,BATONS!AD$7:AJ$51,7,0))","v":14},{"$f":"IF($A9=\"\",\"\",VLOOKUP($A9,INSCRITS!$D$4:$W$506,12,0))","v":0},{"$f":"IF(ISNA(VLOOKUP($A9,PLANCHE!AC$7:AI$52,6,0)),\"\",VLOOKUP($A9,PLANCHE!AC$7:AI$52,6,0))","v":""},{"$f":"IF(ISNA(VLOOKUP($A9,PLANCHE!AC$7:AI$52,7,0)),\"\",VLOOKUP($A9,PLANCHE!AC$7:AI$52,7,0))","v":""},{"$f":"IF($A9=\"\",\"\",VLOOKUP($A9,INSCRITS!$D$4:$W$506,13,0))","v":"X"},{"$f":"IF(ISNA(VLOOKUP($A9,NAGE!N$7:T$52,6,0)),\"\",VLOOKUP($A9,NAGE!N$7:T$52,6,0))","v":""},{"$f":"IF(ISNA(VLOOKUP($A9,NAGE!N$7:T$52,7,0)),\"\",VLOOKUP($A9,NAGE!N$7:T$52,7,0))","v":""},{"$f":"IF($A9=\"\",\"\",VLOOKUP($A9,INSCRITS!$D$4:$W$506,14,0))","v":0},{"$f":"IF(ISNA(VLOOKUP($A9,SURFSKI!AC$8:AI$53,6,0)),\"\",VLOOKUP($A9,SURFSKI!AC$8:AI$53,6,0))","v":""},{"$f":"IF(ISNA(VLOOKUP($A9,SURFSKI!AC$8:AI$53,7,0)),\"\",VLOOKUP($A9,SURFSKI!AC$8:AI$53,7,0))","v":""},{"$f":"IF($A9=\"\",\"\",VLOOKUP($A9,INSCRITS!$D$4:$W$506,15,0))","v":"X"},{"$f":"IF(ISNA(VLOOKUP($A9,OCEANMAN!AD$7:AJ$52,6,0)),\"\",VLOOKUP($A9,OCEANMAN!AD$7:AJ$52,6,0))","v":"Abs"},{"$f":"IF(ISNA(VLOOKUP($A9,OCEANMAN!AD$7:AJ$52,7,0)),\"\",VLOOKUP($A9,OCEANMAN!AD$7:AJ$52,7,0))","v":0},{"$f":"IF($A9=\"\",\"\",VLOOKUP($A9,INSCRITS!$D$4:$W$506,16,0))","v":"X"},{"$f":"IF(ISNA(VLOOKUP($A9,CNC!N$7:AC$52,6,0)),\"\",VLOOKUP($A9,CNC!N$7:AC$52,6,0))","v":16},{"$f":"IF(ISNA(VLOOKUP($A9,CNC!N$7:AC$52,7,0)),\"\",VLOOKUP($A9,CNC!N$7:AC$52,7,0))","v":1},25,{"$f":"IF($A9=\"\",\"\",VLOOKUP($A9,INSCRITS!$D$4:$W$506,16,0))","v":"X"},null,{"$f":"IF(AG9=\"\",\"\",VLOOKUP(AG9,[0]!Relais,2))","v":""},{"$f":"IF($A9=\"\",\"\",VLOOKUP($A9,INSCRITS!$D$4:$W$506,17,0))","v":0},null,{"$f":"IF(AJ9=\"\",\"\",VLOOKUP(AJ9,[0]!Relais,2))","v":""},{"$f":"IF($A9=\"\",\"\",VLOOKUP($A9,INSCRITS!$D$4:$W$506,18,0))","v":0},null,{"$f":"IF(AM9=\"\",\"\",VLOOKUP(AM9,[0]!Relais,2))","v":""},{"$f":"IF($A9=\"\",\"\",VLOOKUP($A9,INSCRITS!$D$4:$W$506,19,0))","v":0},null,{"$f":"IF(AP9=\"\",\"\",VLOOKUP(AP9,[0]!Relais,2))","v":""},0,25]
[166,{"$f":"IF($A10=\"\",\"\",VLOOKUP($A10,INSCRITS!$D$4:$W$501,2,0))","v":0},{"$f":"IF($A10=\"\",\"\",VLOOKUP($A10,INSCRITS!$D$4:$W$501,3,0))","v":1993},{"$f":"IF($A10=\"\",\"\",VLOOKUP($A10,INSCRITS!$D$4:$W$501,4,0))","v":"H"},{"$f":"IF($A10=\"\",\"\",VLOOKUP($A10,INSCRITS!$D$4:$W$501,5,0))","v":"00:00:00"},{"$f":"IF($A10=\"\",\"\",VLOOKUP($A10,INSCRITS!$D$4:$W$501,6,0))","v":"DOLE"},{"$f":"IF($A10=\"\",\"\",VLOOKUP($A10,INSCRITS!$D$4:$W$501,7,0))","v":"François"},{"$f":"IF($A10=\"\",\"\",VLOOKUP($A10,INSCRITS!$D$4:$W$501,8,0))","v":"Junior"},{"$f":"IF($A10=\"\",\"\",VLOOKUP($A10,INSCRITS!$D$4:$W$501,9,0))","v":"ASCE DINARD"},{"$f":"IF($A10=\"\",\"\",VLOOKUP($A10,INSCRITS!$D$4:$W$506,10,0))","v":"X"},{"$f":"IF(ISNA(VLOOKUP($A10,SPRINT!AD$7:AJ$50,6,0)),\"\",VLOOKUP($A10,SPRINT!AD$7:AJ$50,6,0))","v":""},{"$f":"IF(ISNA(VLOOKUP($A10,SPRINT!AD$7:AJ$50,7,0)),\"\",VLOOKUP($A10,SPRINT!AD$7:AJ$50,7,0))","v":""},{"$f":"IF($A10=\"\",\"\",VLOOKUP($A10,INSCRITS!$D$4:$W$506,11,0))","v":"X"},{"$f":"IF(ISNA(VLOOKUP($A10,BATONS!AD$7:AJ$51,6,0)),\"\",VLOOKUP($A10,BATONS!AD$7:AJ$51,6,0))","v":13},{"$f":"IF(ISNA(VLOOKUP($A10,BATONS!AD$7:AJ$51,7,0)),\"\",VLOOKUP($A10,BATONS!AD$7:AJ$51,7,0))","v":4},{"$f":"IF($A10=\"\",\"\",VLOOKUP($A10,INSCRITS!$D$4:$W$506,12,0))","v":"X"},{"$f":"IF(ISNA(VLOOKUP($A10,PLANCHE!AC$7:AI$52,6,0)),\"\",VLOOKUP($A10,PLANCHE!AC$7:AI$52,6,0))","v":""},{"$f":"IF(ISNA(VLOOKUP($A10,PLANCHE!AC$7:AI$52,7,0)),\"\",VLOOKUP($A10,PLANCHE!AC$7:AI$52,7,0))","v":""},{"$f":"IF($A10=\"\",\"\",VLOOKUP($A10,INSCRITS!$D$4:$W$506,13,0))","v":"X"},{"$f":"IF(ISNA(VLOOKUP($A10,NAGE!N$7:T$52,6,0)),\"\",VLOOKUP($A10,NAGE!N$7:T$52,6,0))","v":25},{"$f":"IF(ISNA(VLOOKUP($A10,NAGE!N$7:T$52,7,0)),\"\",VLOOKUP($A10,NAGE!N$7:T$52,7,0))","v":0},{"$f":"IF($A10=\"\",\"\",VLOOKUP($A10,INSCRITS!$D$4:$W$506,14,0))","v":"X"},{"$f":"IF(ISNA(VLOOKUP($A10,SURFSKI!AC$8:AI$53,6,0)),\"\",VLOOKUP($A10,SURFSKI!AC$8:AI$53,6,0))","v":17},{"$f":"IF(ISNA(VLOOKUP($A10,SURFSKI!AC$8:AI$53,7,0)),\"\",VLOOKUP($A10,SURFSKI!AC$8:AI$53,7,0))","v":0},{"$f":"IF($A10=\"\",\"\",VLOOKUP($A10,INSCRITS!$D$4:$W$506,15,0))","v":"X"},{"$f":"IF(ISNA(VLOOKUP($A10,OCEANMAN!AD$7:AJ$52,6,0)),\"\",VLOOKUP($A10,OCEANMAN!AD$7:AJ$52,6,0))","v":14},{"$f":"IF(ISNA(VLOOKUP($A10,OCEANMAN!AD$7:AJ$52,7,0)),\"\",VLOOKUP($A10,OCEANMAN!AD$7:AJ$52,7,0))","v":3},{"$f":"IF($A10=\"\",\"\",VLOOKUP($A10,INSCRITS!$D$4:$W$506,16,0))","v":"X"},{"$f":"IF(ISNA(VLOOKUP($A10,CNC!N$7:AC$52,6,0)),\"\",VLOOKUP($A10,CNC!N$7:AC$52,6,0))","v":""},{"$f":"IF(ISNA(VLOOKUP($A10,CNC!N$7:AC$52,7,0)),\"\",VLOOKUP($A10,CNC!N$7:AC$52,7,0))","v":""},7,{"$f":"IF($A10=\"\",\"\",VLOOKUP($A10,INSCRITS!$D$4:$W$506,16,0))","v":"X"},null,{"$f":"IF(AG10=\"\",\"\",VLOOKUP(AG10,[0]!Relais,2))","v":""},{"$f":"IF($A10=\"\",\"\",VLOOKUP($A10,INSCRITS!$D$4:$W$506,17,0))","v":0},null,{"$f":"IF(AJ10=\"\",\"\",VLOOKUP(AJ10,[0]!Relais,2))","v":""},{"$f":"IF($A10=\"\",\"\",VLOOKUP($A10,INSCRITS!$D$4:$W$506,18,0))","v":0},null,{"$f":"IF(AM10=\"\",\"\",VLOOKUP(AM10,[0]!Relais,2))","v":""},{"$f":"IF($A10=\"\",\"\",VLOOKUP($A10,INSCRITS!$D$4:$W$506,19,0))","v":0},null,{"$f":"IF(AP10=\"\",\"\",VLOOKUP(AP10,[0]!Relais,2))","v":""},0,7]
[167,{"$f":"IF($A11=\"\",\"\",VLOOKUP($A11,INSCRITS!$D$4:$W$501,2,0))","v":0},{"$f":"IF($A11=\"\",\"\",VLOOKUP($A11,INSCRITS!$D$4:$W$501,3,0))","v":1993},{"$f":"IF($A11=\"\",\"\",VLOOKUP($A11,INSCRITS!$D$4:$W$501,4,0))","v":"H"},{"$f":"IF($A11=\"\",\"\",VLOOKUP($A11,INSCRITS!$D$4:$W$501,5,0))","v":"00:00:00"},{"$f":"IF($A11=\"\",\"\",VLOOKUP($A11,INSCRITS!$D$4:$W$501,6,0))","v":"HERVE"},{"$f":"IF($A11=\"\",\"\",VLOOKUP($A11,INSCRITS!$D$4:$W$501,7,0))","v":"Axel"},{"$f":"IF($A11=\"\",\"\",VLOOKUP($A11,INSCRITS!$D$4:$W$501,8,0))","v":"Junior"},{"$f":"IF($A11=\"\",\"\",VLOOKUP($A11,INSCRITS!$D$4:$W$501,9,0))","v":"ASCE DINARD"},{"$f":"IF($A11=\"\",\"\",VLOOKUP($A11,INSCRITS!$D$4:$W$506,10,0))","v":"X"},{"$f":"IF(ISNA(VLOOKUP($A11,SPRINT!AD$7:AJ$50,6,0)),\"\",VLOOKUP($A11,SPRINT!AD$7:AJ$50,6,0))","v":1},{"$f":"IF(ISNA(VLOOKUP($A11,SPRINT!AD$7:AJ$50,7,0)),\"\",VLOOKUP($A11,SPRINT!AD$7:AJ$50,7,0))","v":20},{"$f":"IF($A11=\"\",\"\",VLOOKUP($A11,INSCRITS!$D$4:$W$506,11,0))","v":"X"},{"$f":"IF(ISNA(VLOOKUP($A11,BATONS!AD$7:AJ$51,6,0)),\"\",VLOOKUP($A11,BATONS!AD$7:AJ$51,6,0))","v":2},{"$f":"IF(ISNA(VLOOKUP($A11,BATONS!AD$7:AJ$51,7,0)),\"\",VLOOKUP($A11,BATONS!AD$7:AJ$51,7,0))","v":18},{"$f":"IF($A11=\"\",\"\",VLOOKUP($A11,INSCRITS!$D$4:$W$506,12,0))","v":"X"},{"$f":"IF(ISNA(VLOOKUP($A11,PLANCHE!AC$7:AI$52,6,0)),\"\",VLOOKUP($A11,PLANCHE!AC$7:AI$52,6,0))","v":7},{"$f":"IF(ISNA(VLOOKUP($A11,PLANCHE!AC$7:AI$52,7,0)),\"\",VLOOKUP($A11,PLANCHE!AC$7:AI$52,7,0))","v":11},{"$f":"IF($A11=\"\",\"\",VLOOKUP($A11,INSCRITS!$D$4:$W$506,13,0))","v":"X"},{"$f":"IF(ISNA(VLOOKUP($A11,NAGE!N$7:T$52,6,0)),\"\",VLOOKUP($A11,NAGE!N$7:T$52,6,0))","v":13},{"$f":"IF(ISNA(VLOOKUP($A11,NAGE!N$7:T$52,7,0)),\"\",VLOOKUP($A11,NAGE!N$7:T$52,7,0))","v":4},{"$f":"IF($A11=\"\",\"\",VLOOKUP($A11,INSCRITS!$D$4:$W$506,14,0))","v":"X"},{"$f":"IF(ISNA(VLOOKUP($A11,SURFSKI!AC$8:AI$53,6,0)),\"\",VLOOKUP($A11,SURFSKI!AC$8:AI$53,6,0))","v":8},{"$f":"IF(ISNA(VLOOKUP($A11,SURFSKI!AC$8:AI$53,7,0)),\"\",VLOOKUP($A11,SURFSKI!AC$8:AI$53,7,0))","v":10},{"$f":"IF($A11=\"\",\"\",VLOOKUP($A11,INSCRITS!$D$4:$W$506,15,0))","v":"X"},{"$f":"IF(ISNA(VLOOKUP($A11,OCEANMAN!AD$7:AJ$52,6,0)),\"\",VLOOKUP($A11,OCEANMAN!AD$7:AJ$52,6,0))","v":8},{"$f":"IF(ISNA(VLOOKUP($A11,OCEANMAN!AD$7:AJ$52,7,0)),\"\",VLOOKUP($A11,OCEANMAN!AD$7:AJ$52,7,0))","v":10},{"$f":"IF($A11=\"\",\"\",VLOOKUP($A11,INSCRITS!$D$4:$W$506,16,0))","v":"X"},{"$f":"IF(ISNA(VLOOKUP($A11,CNC!N$7:AC$52,6,0)),\"\",VLOOKUP($A11,CNC!N$7:AC$52,6,0))","v":13},{"$f":"IF(ISNA(VLOOKUP($A11,CNC!N$7:AC$52,7,0)),\"\",VLOOKUP($A11,CNC!N$7:AC$52,7,0))","v":4},77,{"$f":"IF($A11=\"\",\"\",VLOOKUP($A11,INSCRITS!$D$4:$W$506,16,0))","v":"X"},null,{"$f":"IF(AG11=\"\",\"\",VLOOKUP(AG11,[0]!Relais,2))","v":""},{"$f":"IF($A11=\"\",\"\",VLOOKUP($A11,INSCRITS!$D$4:$W$506,17,0))","v":0},null,{"$f":"IF(AJ11=\"\",\"\",VLOOKUP(AJ11,[0]!Relais,2))","v":""},{"$f":"IF($A11=\"\",\"\",VLOOKUP($A11,INSCRITS!$D$4:$W$506,18,0))","v":0},null,{"$f":"IF(AM11=\"\",\"\",VLOOKUP(AM11,[0]!Relais,2))","v":""},{"$f":"IF($A11=\"\",\"\",VLOOKUP($A11,INSCRITS!$D$4:$W$506,19,0))","v":0},null,{"$f":"IF(AP11=\"\",\"\",VLOOKUP(AP11,[0]!Relais,2))","v":""},0,77]
[169,{"$f":"IF($A12=\"\",\"\",VLOOKUP($A12,INSCRITS!$D$4:$W$501,2,0))","v":0},{"$f":"IF($A12=\"\",\"\",VLOOKUP($A12,INSCRITS!$D$4:$W$501,3,0))","v":1993},{"$f":"IF($A12=\"\",\"\",VLOOKUP($A12,INSCRITS!$D$4:$W$501,4,0))","v":"H"},{"$f":"IF($A12=\"\",\"\",VLOOKUP($A12,INSCRITS!$D$4:$W$501,5,0))","v":"00:00:00"},{"$f":"IF($A12=\"\",\"\",VLOOKUP($A12,INSCRITS!$D$4:$W$501,6,0))","v":"POUTRIQUET"},{"$f":"IF($A12=\"\",\"\",VLOOKUP($A12,INSCRITS!$D$4:$W$501,7,0))","v":"Maxime"},{"$f":"IF($A12=\"\",\"\",VLOOKUP($A12,INSCRITS!$D$4:$W$501,8,0))","v":"Junior"},{"$f":"IF($A12=\"\",\"\",VLOOKUP($A12,INSCRITS!$D$4:$W$501,9,0))","v":"ASCE DINARD"},{"$f":"IF($A12=\"\",\"\",VLOOKUP($A12,INSCRITS!$D$4:$W$506,10,0))","v":"X"},{"$f":"IF(ISNA(VLOOKUP($A12,SPRINT!AD$7:AJ$50,6,0)),\"\",VLOOKUP($A12,SPRINT!AD$7:AJ$50,6,0))","v":15},{"$f":"IF(ISNA(VLOOKUP($A12,SPRINT!AD$7:AJ$50,7,0)),\"\",VLOOKUP($A12,SPRINT!AD$7:AJ$50,7,0))","v":2},{"$f":"IF($A12=\"\",\"\",VLOOKUP($A12,INSCRITS!$D$4:$W$506,11,0))","v":"X"},{"$f":"IF(ISNA(VLOOKUP($A12,BATONS!AD$7:AJ$51,6,0)),\"\",VLOOKUP($A12,BATONS!AD$7:AJ$51,6,0))","v":""},{"$f":"IF(ISNA(VLOOKUP($A12,BATONS!AD$7:AJ$51,7,0)),\"\",VLOOKUP($A12,BATONS!AD$7:AJ$51,7,0))","v":""},{"$f":"IF($A12=\"\",\"\",VLOOKUP($A12,INSCRITS!$D$4:$W$506,12,0))","v":"X"},{"$f":"IF(ISNA(VLOOKUP($A12,PLANCHE!AC$7:AI$52,6,0)),\"\",VLOOKUP($A12,PLANCHE!AC$7:AI$52,6,0))","v":""},{"$f":"IF(ISNA(VLOOKUP($A12,PLANCHE!AC$7:AI$52,7,0)),\"\",VLOOKUP($A12,PLANCHE!AC$7:AI$52,7,0))","v":""},{"$f":"IF($A12=\"\",\"\",VLOOKUP($A12,INSCRITS!$D$4:$W$506,13,0))","v":"X"},{"$f":"IF(ISNA(VLOOKUP($A12,NAGE!N$7:T$52,6,0)),\"\",VLOOKUP($A12,NAGE!N$7:T$52,6,0))","v":20},{"$f":"IF(ISNA(VLOOKUP($A12,NAGE!N$7:T$52,7,0)),\"\",VLOOKUP($A12,NAGE!N$7:T$52,7,0))","v":0},{"$f":"IF($A12=\"\",\"\",VLOOKUP($A12,INSCRITS!$D$4:$W$506,14,0))","v":"X"},{"$f":"IF(ISNA(VLOOKUP($A12,SURFSKI!AC$8:AI$53,6,0)),\"\",VLOOKUP($A12,SURFSKI!AC$8:AI$53,6,0))","v":13},{"$f":"IF(ISNA(VLOOKUP($A12,SURFSKI!AC$8:AI$53,7,0)),\"\",VLOOKUP($A12,SURFSKI!AC$8:AI$53,7,0))","v":4},{"$f":"IF($A12=\"\",\"\",VLOOKUP($A12,INSCRITS!$D$4:$W$506,15,0))","v":"X"},{"$f":"IF(ISNA(VLOOKUP($A12,OCEANMAN!AD$7:AJ$52,6,0)),\"\",VLOOKUP($A12,OCEANMAN!AD$7:AJ$52,6,0))","v":11},{"$f":"IF(ISNA(VLOOKUP($A12,OCEANMAN!AD$7:AJ$52,7,0)),\"\",VLOOKUP($A12,OCEANMAN!AD$7:AJ$52,7,0))","v":6},{"$f":"IF($A12=\"\",\"\",VLOOKUP($A12,INSCRITS!$D$4:$W$506,16,0))","v":"X"},{"$f":"IF(ISNA(VLOOKUP($A12,CNC!N$7:AC$52,6,0)),\"\",VLOOKUP($A12,CNC!N$7:AC$52,6,0))","v":""},{"$f":"IF(ISNA(VLOOKUP($A12,CNC!N$7:AC$52,7,0)),\"\",VLOOKUP($A12,CNC!N$7:AC$52,7,0))","v":""},12,{"$f":"IF($A12=\"\",\"\",VLOOKUP($A12,INSCRITS!$D$4:$W$506,16,0))","v":"X"},null,{"$f":"IF(AG12=\"\",\"\",VLOOKUP(AG12,[0]!Relais,2))","v":""},{"$f":"IF($A12=\"\",\"\",VLOOKUP($A12,INSCRITS!$D$4:$W$506,17,0))","v":0},null,{"$f":"IF(AJ12=\"\",\"\",VLOOKUP(AJ12,[0]!Relais,2))","v":""},{"$f":"IF($A12=\"\",\"\",VLOOKUP($A12,INSCRITS!$D$4:$W$506,18,0))","v":0},null,{"$f":"IF(AM12=\"\",\"\",VLOOKUP(AM12,[0]!Relais,2))","v":""},{"$f":"IF($A12=\"\",\"\",VLOOKUP($A12,INSCRITS!$D$4:$W$506,19,0))","v":0},null,{"$f":"IF(AP12=\"\",\"\",VLOOKUP(AP12,[0]!Relais,2))","v":""},0,12]
[170,{"$f":"IF($A13=\"\",\"\",VLOOKUP($A13,INSCRITS!$D$4:$W$501,2,0))","v":0},{"$f":"IF($A13=\"\",\"\",VLOOKUP($A13,INSCRITS!$D$4:$W$501,3,0))","v":1993},{"$f":"IF($A13=\"\",\"\",VLOOKUP($A13,INSCRITS!$D$4:$W$501,4,0))","v":"H"},{"$f":"IF($A13=\"\",\"\",VLOOKUP($A13,INSCRITS!$D$4:$W$501,5,0))","v":"00:00:00"},{"$f":"IF($A13=\"\",\"\",VLOOKUP($A13,INSCRITS!$D$4:$W$501,6,0))","v":"RIGOT"},{"$f":"IF($A13=\"\",\"\",VLOOKUP($A13,INSCRITS!$D$4:$W$501,7,0))","v":"Quentin"},{"$f":"IF($A13=\"\",\"\",VLOOKUP($A13,INSCRITS!$D$4:$W$501,8,0))","v":"Junior"},{"$f":"IF($A13=\"\",\"\",VLOOKUP($A13,INSCRITS!$D$4:$W$501,9,0))","v":"ASCE DINARD"},{"$f":"IF($A13=\"\",\"\",VLOOKUP($A13,INSCRITS!$D$4:$W$506,10,0))","v":"X"},{"$f":"IF(ISNA(VLOOKUP($A13,SPRINT!AD$7:AJ$50,6,0)),\"\",VLOOKUP($A13,SPRINT!AD$7:AJ$50,6,0))","v":""},{"$f":"IF(ISNA(VLOOKUP($A13,SPRINT!AD$7:AJ$50,7,0)),\"\",VLOOKUP($A13,SPRINT!AD$7:AJ$50,7,0))","v":""},{"$f":"IF($A13=\"\",\"\",VLOOKUP($A13,INSCRITS!$D$4:$W$506,11,0))","v":"X"},{"$f":"IF(ISNA(VLOOKUP($A13,BATONS!AD$7:AJ$51,6,0)),\"\",VLOOKUP($A13,BATONS!AD$7:AJ$51,6,0))","v":14},{"$f":"IF(ISNA(VLOOKUP($A13,BATONS!AD$7:AJ$51,7,0)),\"\",VLOOKUP($A13,BATONS!AD$7:AJ$51,7,0))","v":3},{"$f":"IF($A13=\"\",\"\",VLOOKUP($A13,INSCRITS!$D$4:$W$506,12,0))","v":"X"},{"$f":"IF(ISNA(VLOOKUP($A13,PLANCHE!AC$7:AI$52,6,0)),\"\",VLOOKUP($A13,PLANCHE!AC$7:AI$52,6,0))","v":""},{"$f":"IF(ISNA(VLOOKUP($A13,PLANCHE!AC$7:AI$52,7,0)),\"\",VLOOKUP($A13,PLANCHE!AC$7:AI$52,7,0))","v":""},{"$f":"IF($A13=\"\",\"\",VLOOKUP($A13,INSCRITS!$D$4:$W$506,13,0))","v":"X"},{"$f":"IF(ISNA(VLOOKUP($A13,NAGE!N$7:T$52,6,0)),\"\",VLOOKUP($A13,NAGE!N$7:T$52,6,0))","v":22},{"$f":"IF(ISNA(VLOOKUP($A13,NAGE!N$7:T$52,7,0)),\"\",VLOOKUP($A13,NAGE!N$7:T$52,7,0))","v":0},{"$f":"IF($A13=\"\",\"\",VLOOKUP($A13,INSCRITS!$D$4:$W$506,14,0))","v":"X"},{"$f":"IF(ISNA(VLOOKUP($A13,SURFSKI!AC$8:AI$53,6,0)),\"\",VLOOKUP($A13,SURFSKI!AC$8:AI$53,6,0))","v":""},{"$f":"IF(ISNA(VLOOKUP($A13,SURFSKI!AC$8:AI$53,7,0)),\"\",VLOOKUP($A13,SURFSKI!AC$8:AI$53,7,0))","v":""},{"$f":"IF($A13=\"\",\"\",VLOOKUP($A13,INSCRITS!$D$4:$W$506,15,0))","v":"X"},{"$f":"IF(ISNA(VLOOKUP($A13,OCEANMAN!AD$7:AJ$52,6,0)),\"\",VLOOKUP($A13,OCEANMAN!AD$7:AJ$52,6,0))","v":15},{"$f":"IF(ISNA(VLOOKUP($A13,OCEANMAN!AD$7:AJ$52,7,0)),\"\",VLOOKUP($A13,OCEANMAN!AD$7:AJ$52,7,0))","v":2},{"$f":"IF($A13=\"\",\"\",VLOOKUP($A13,INSCRITS!$D$4:$W$506,16,0))","v":"X"},{"$f":"IF(ISNA(VLOOKUP($A13,CNC!N$7:AC$52,6,0)),\"\",VLOOKUP($A13,CNC!N$7:AC$52,6,0))","v":""},{"$f":"IF(ISNA(VLOOKUP($A13,CNC!N$7:AC$52,7,0)),\"\",VLOOKUP($A13,CNC!N$7:AC$52,7,0))","v":""},5,{"$f":"IF($A13=\"\",\"\",VLOOKUP($A13,INSCRITS!$D$4:$W$506,16,0))","v":"X"},null,{"$f":"IF(AG13=\"\",\"\",VLOOKUP(AG13,[0]!Relais,2))","v":""},{"$f":"IF($A13=\"\",\"\",VLOOKUP($A13,INSCRITS!$D$4:$W$506,17,0))","v":0},null,{"$f":"IF(AJ13=\"\",\"\",VLOOKUP(AJ13,[0]!Relais,2))","v":""},{"$f":"IF($A13=\"\",\"\",VLOOKUP($A13,INSCRITS!$D$4:$W$506,18,0))","v":0},null,{"$f":"IF(AM13=\"\",\"\",VLOOKUP(AM13,[0]!Relais,2))","v":""},{"$f":"IF($A13=\"\",\"\",VLOOKUP($A13,INSCRITS!$D$4:$W$506,19,0))","v":0},null,{"$f":"IF(AP13=\"\",\"\",VLOOKUP(AP13,[0]!Relais,2))","v":""},0,5]
[171,{"$f":"IF($A14=\"\",\"\",VLOOKUP($A14,INSCRITS!$D$4:$W$501,2,0))","v":0},{"$f":"IF($A14=\"\",\"\",VLOOKUP($A14,INSCRITS!$D$4:$W$501,3,0))","v":1993},{"$f":"IF($A14=\"\",\"\",VLOOKUP($A14,INSCRITS!$D$4:$W$501,4,0))","v":"H"},{"$f":"IF($A14=\"\",\"\",VLOOKUP($A14,INSCRITS!$D$4:$W$501,5,0))","v":"00:00:00"},{"$f":"IF($A14=\"\",\"\",VLOOKUP($A14,INSCRITS!$D$4:$W$501,6,0))","v":"DABCHY"},{"$f":"IF($A14=\"\",\"\",VLOOKUP($A14,INSCRITS!$D$4:$W$501,7,0))","v":"Yassine"},{"$f":"IF($A14=\"\",\"\",VLOOKUP($A14,INSCRITS!$D$4:$W$501,8,0))","v":"Junior"},{"$f":"IF($A14=\"\",\"\",VLOOKUP($A14,INSCRITS!$D$4:$W$501,9,0))","v":"ASCE DINARD "},{"$f":"IF($A14=\"\",\"\",VLOOKUP($A14,INSCRITS!$D$4:$W$506,10,0))","v":"X"},{"$f":"IF(ISNA(VLOOKUP($A14,SPRINT!AD$7:AJ$50,6,0)),\"\",VLOOKUP($A14,SPRINT!AD$7:AJ$50,6,0))","v":""},{"$f":"IF(ISNA(VLOOKUP($A14,SPRINT!AD$7:AJ$50,7,0)),\"\",VLOOKUP($A14,SPRINT!AD$7:AJ$50,7,0))","v":""},{"$f":"IF($A14=\"\",\"\",VLOOKUP($A14,INSCRITS!$D$4:$W$506,11,0))","v":"X"},{"$f":"IF(ISNA(VLOOKUP($A14,BATONS!AD$7:AJ$51,6,0)),\"\",VLOOKUP($A14,BATONS!AD$7:AJ$51,6,0))","v":""},{"$f":"IF(ISNA(VLOOKUP($A14,BATONS!AD$7:AJ$51,7,0)),\"\",VLOOKUP($A14,BATONS!AD$7:AJ$51,7,0))","v":""},{"$f":"IF($A14=\"\",\"\",VLOOKUP($A14,INSCRITS!$D$4:$W$506,12,0))","v":"X"},{"$f":"IF(ISNA(VLOOKUP($A14,PLANCHE!AC$7:AI$52,6,0)),\"\",VLOOKUP($A14,PLANCHE!AC$7:AI$52,6,0))","v":""},{"$f":"IF(ISNA(VLOOKUP($A14,PLANCHE!AC$7:AI$52,7,0)),\"\",VLOOKUP($A14,PLANCHE!AC$7:AI$52,7,0))","v":""},{"$f":"IF($A14=\"\",\"\",VLOOKUP($A14,INSCRITS!$D$4:$W$506,13,0))","v":"X"},{"$f":"IF(ISNA(VLOOKUP($A14,NAGE!N$7:T$52,6,0)),\"\",VLOOKUP($A14,NAGE!N$7:T$52,6,0))","v":27},{"$f":"IF(ISNA(VLOOKUP($A14,NAGE!N$7:T$52,7,0)),\"\",VLOOKUP($A14,NAGE!N$7:T$52,7,0))","v":0},{"$f":"IF($A14=\"\",\"\",VLOOKUP($A14,INSCRITS!$D$4:$W$506,14,0))","v":"X"},{"$f":"IF(ISNA(VLOOKUP($A14,SURFSKI!AC$8:AI$53,6,0)),\"\",VLOOKUP($A14,SURFSKI!AC$8:AI$53,6,0))","v":"abs"},{"$f":"IF(ISNA(VLOOKUP($A14,SURFSKI!AC$8:AI$53,7,0)),\"\",VLOOKUP($A14,SURFSKI!AC$8:AI$53,7,0))","v":0},{"$f":"IF($A14=\"\",\"\",VLOOKUP($A14,INSCRITS!$D$4:$W$506,15,0))","v":"X"},{"$f":"IF(ISNA(VLOOKUP($A14,OCEANMAN!AD$7:AJ$52,6,0)),\"\",VLOOKUP($A14,OCEANMAN!AD$7:AJ$52,6,0))","v":"Abd"},{"$f":"IF(ISNA(VLOOKUP($A14,OCEANMAN!AD$7:AJ$52,7,0)),\"\",VLOOKUP($A14,OCEANMAN!AD$7:AJ$52,7,0))","v":0},{"$f":"IF($A14=\"\",\"\",VLOOKUP($A14,INSCRITS!$D$4:$W$506,16,0))","v":"X"},{"$f":"IF(ISNA(VLOOKUP($A14,CNC!N$7:AC$52,6,0)),\"\",VLOOKUP($A14,CNC!N$7:AC$52,6,0))","v":""},{"$f":"IF(ISNA(VLOOKUP($A14,CNC!N$7:AC$52,7,0)),\"\",VLOOKUP($A14,CNC!N$7:AC$52,7,0))","v":""},0,{"$f":"IF($A14=\"\",\"\",VLOOKUP($A14,INSCRITS!$D$4:$W$506,16,0))","v":"X"},null,{"$f":"IF(AG14=\"\",\"\",VLOOKUP(AG14,[0]!Relais,2))","v":""},{"$f":"IF($A14=\"\",\"\",VLOOKUP($A14,INSCRITS!$D$4:$W$506,17,0))","v":0},null,{"$f":"IF(AJ14=\"\",\"\",VLOOKUP(AJ14,[0]!Relais,2))","v":""},{"$f":"IF($A14=\"\",\"\",VLOOKUP($A14,INSCRITS!$D$4:$W$506,18,0))","v":0},null,{"$f":"IF(AM14=\"\",\"\",VLOOKUP(AM14,[0]!Relais,2))","v":""},{"$f":"IF($A14=\"\",\"\",VLOOKUP($A14,INSCRITS!$D$4:$W$506,19,0))","v":0},null,{"$f":"IF(AP14=\"\",\"\",VLOOKUP(AP14,[0]!Relais,2))","v":""},0,0]
[172,{"$f":"IF($A15=\"\",\"\",VLOOKUP($A15,INSCRITS!$D$4:$W$501,2,0))","v":0},{"$f":"IF($A15=\"\",\"\",VLOOKUP($A15,INSCRITS!$D$4:$W$501,3,0))","v":1994},{"$f":"IF($A15=\"\",\"\",VLOOKUP($A15,INSCRITS!$D$4:$W$501,4,0))","v":"H"},{"$f":"IF($A15=\"\",\"\",VLOOKUP($A15,INSCRITS!$D$4:$W$501,5,0))","v":"00:00:00"},{"$f":"IF($A15=\"\",\"\",VLOOKUP($A15,INSCRITS!$D$4:$W$501,6,0))","v":"JEHAN"},{"$f":"IF($A15=\"\",\"\",VLOOKUP($A15,INSCRITS!$D$4:$W$501,7,0))","v":"Thomas"},{"$f":"IF($A15=\"\",\"\",VLOOKUP($A15,INSCRITS!$D$4:$W$501,8,0))","v":"Junior"},{"$f":"IF($A15=\"\",\"\",VLOOKUP($A15,INSCRITS!$D$4:$W$501,9,0))","v":"ASCE DINARD "},{"$f":"IF($A15=\"\",\"\",VLOOKUP($A15,INSCRITS!$D$4:$W$506,10,0))","v":"X"},{"$f":"IF(ISNA(VLOOKUP($A15,SPRINT!AD$7:AJ$50,6,0)),\"\",VLOOKUP($A15,SPRINT!AD$7:AJ$50,6,0))","v":""},{"$f":"IF(ISNA(VLOOKUP($A15,SPRINT!AD$7:AJ$50,7,0)),\"\",VLOOKUP($A15,SPRINT!AD$7:AJ$50,7,0))","v":""},{"$f":"IF($A15=\"\",\"\",VLOOKUP($A15,INSCRITS!$D$4:$W$506,11,0))","v":"X"},{"$f":"IF(ISNA(VLOOKUP($A15,BATONS!AD$7:AJ$51,6,0)),\"\",VLOOKUP($A15,BATONS!AD$7:AJ$51,6,0))","v":""},{"$f":"IF(ISNA(VLOOKUP($A15,BATONS!AD$7:AJ$51,7,0)),\"\",VLOOKUP($A15,BATONS!AD$7:AJ$51,7,0))","v":""},{"$f":"IF($A15=\"\",\"\",VLOOKUP($A15,INSCRITS!$D$4:$W$506,12,0))","v":"X"},{"$f":"IF(ISNA(VLOOKUP($A15,PLANCHE!AC$7:AI$52,6,0)),\"\",VLOOKUP($A15,PLANCHE!AC$7:AI$52,6,0))","v":""},{"$f":"IF(ISNA(VLOOKUP($A15,PLANCHE!AC$7:AI$52,7,0)),\"\",VLOOKUP($A15,PLANCHE!AC$7:AI$52,7,0))","v":""},{"$f":"IF($A15=\"\",\"\",VLOOKUP($A15,INSCRITS!$D$4:$W$506,13,0))","v":"X"},{"$f":"IF(ISNA(VLOOKUP($A15,NAGE!N$7:T$52,6,0)),\"\",VLOOKUP($A15,NAGE!N$7:T$52,6,0))","v":24},{"$f":"IF(ISNA(VLOOKUP($A15,NAGE!N$7:T$52,7,0)),\"\",VLOOKUP($A15,NAGE!N$7:T$52,7,0))","v":0},{"$f":"IF($A15=\"\",\"\",VLOOKUP($A15,INSCRITS!$D$4:$W$506,14,0))","v":"X"},{"$f":"IF(ISNA(VLOOKUP($A15,SURFSKI!AC$8:AI$53,6,0)),\"\",VLOOKUP($A15,SURFSKI!AC$8:AI$53,6,0))","v":15},{"$f":"IF(ISNA(VLOOKUP($A15,SURFSKI!AC$8:AI$53,7,0)),\"\",VLOOKUP($A15,SURFSKI!AC$8:AI$53,7,0))","v":2},{"$f":"IF($A15=\"\",\"\",VLOOKUP($A15,INSCRITS!$D$4:$W$506,15,0))","v":"X"},{"$f":"IF(ISNA(VLOOKUP($A15,OCEANMAN!AD$7:AJ$52,6,0)),\"\",VLOOKUP($A15,OCEANMAN!AD$7:AJ$52,6,0))","v":""},{"$f":"IF(ISNA(VLOOKUP($A15,OCEANMAN!AD$7:AJ$52,7,0)),\"\",VLOOKUP($A15,OCEANMAN!AD$7:AJ$52,7,0))","v":""},{"$f":"IF($A15=\"\",\"\",VLOOKUP($A15,INSCRITS!$D$4:$W$506,16,0))","v":"X"},{"$f":"IF(ISNA(VLOOKUP($A15,CNC!N$7:AC$52,6,0)),\"\",VLOOKUP($A15,CNC!N$7:AC$52,6,0))","v":""},{"$f":"IF(ISNA(VLOOKUP($A15,CNC!N$7:AC$52,7,0)),\"\",VLOOKUP($A15,CNC!N$7:AC$52,7,0))","v":""},2,{"$f":"IF($A15=\"\",\"\",VLOOKUP($A15,INSCRITS!$D$4:$W$506,16,0))","v":"X"},null,{"$f":"IF(AG15=\"\",\"\",VLOOKUP(AG15,[0]!Relais,2))","v":""},{"$f":"IF($A15=\"\",\"\",VLOOKUP($A15,INSCRITS!$D$4:$W$506,17,0))","v":0},null,{"$f":"IF(AJ15=\"\",\"\",VLOOKUP(AJ15,[0]!Relais,2))","v":""},{"$f":"IF($A15=\"\",\"\",VLOOKUP($A15,INSCRITS!$D$4:$W$506,18,0))","v":0},null,{"$f":"IF(AM15=\"\",\"\",VLOOKUP(AM15,[0]!Relais,2))","v":""},{"$f":"IF($A15=\"\",\"\",VLOOKUP($A15,INSCRITS!$D$4:$W$506,19,0))","v":0},null,{"$f":"IF(AP15=\"\",\"\",VLOOKUP(AP15,[0]!Relais,2))","v":""},0,2]
[173,{"$f":"IF($A16=\"\",\"\",VLOOKUP($A16,INSCRITS!$D$4:$W$501,2,0))","v":0},{"$f":"IF($A16=\"\",\"\",VLOOKUP($A16,INSCRITS!$D$4:$W$501,3,0))","v":1993},{"$f":"IF($A16=\"\",\"\",VLOOKUP($A16,INSCRITS!$D$4:$W$501,4,0))","v":"H"},{"$f":"IF($A16=\"\",\"\",VLOOKUP($A16,INSCRITS!$D$4:$W$501,5,0))","v":"00:00:00"},{"$f":"IF($A16=\"\",\"\",VLOOKUP($A16,INSCRITS!$D$4:$W$501,6,0))","v":"FOS"},{"$f":"IF($A16=\"\",\"\",VLOOKUP($A16,INSCRITS!$D$4:$W$501,7,0))","v":"Robin"},{"$f":"IF($A16=\"\",\"\",VLOOKUP($A16,INSCRITS!$D$4:$W$501,8,0))","v":"Junior"},{"$f":"IF($A16=\"\",\"\",VLOOKUP($A16,INSCRITS!$D$4:$W$501,9,0))","v":"BEGLES"},{"$f":"IF($A16=\"\",\"\",VLOOKUP($A16,INSCRITS!$D$4:$W$506,10,0))","v":"X"},{"$f":"IF(ISNA(VLOOKUP($A16,SPRINT!AD$7:AJ$50,6,0)),\"\",VLOOKUP($A16,SPRINT!AD$7:AJ$50,6,0))","v":5},{"$f":"IF(ISNA(VLOOKUP($A16,SPRINT!AD$7:AJ$50,7,0)),\"\",VLOOKUP($A16,SPRINT!AD$7:AJ$50,7,0))","v":13},{"$f":"IF($A16=\"\",\"\",VLOOKUP($A16,INSCRITS!$D$4:$W$506,11,0))","v":"X"},{"$f":"IF(ISNA(VLOOKUP($A16,BATONS!AD$7:AJ$51,6,0)),\"\",VLOOKUP($A16,BATONS!AD$7:AJ$51,6,0))","v":""},{"$f":"IF(ISNA(VLOOKUP($A16,BATONS!AD$7:AJ$51,7,0)),\"\",VLOOKUP($A16,BATONS!AD$7:AJ$51,7,0))","v":""},{"$f":"IF($A16=\"\",\"\",VLOOKUP($A16,INSCRITS!$D$4:$W$506,12,0))","v":"X"},{"$f":"IF(ISNA(VLOOKUP($A16,PLANCHE!AC$7:AI$52,6,0)),\"\",VLOOKUP($A16,PLANCHE!AC$7:AI$52,6,0))","v":3},{"$f":"IF(ISNA(VLOOKUP($A16,PLANCHE!AC$7:AI$52,7,0)),\"\",VLOOKUP($A16,PLANCHE!AC$7:AI$52,7,0))","v":16},{"$f":"IF($A16=\"\",\"\",VLOOKUP($A16,INSCRITS!$D$4:$W$506,13,0))","v":"X"},{"$f":"IF(ISNA(VLOOKUP($A16,NAGE!N$7:T$52,6,0)),\"\",VLOOKUP($A16,NAGE!N$7:T$52,6,0))","v":""},{"$f":"IF(ISNA(VLOOKUP($A16,NAGE!N$7:T$52,7,0)),\"\",VLOOKUP($A16,NAGE!N$7:T$52,7,0))","v":""},{"$f":"IF($A16=\"\",\"\",VLOOKUP($A16,INSCRITS!$D$4:$W$506,14,0))","v":"X"},{"$f":"IF(ISNA(VLOOKUP($A16,SURFSKI!AC$8:AI$53,6,0)),\"\",VLOOKUP($A16,SURFSKI!AC$8:AI$53,6,0))","v":2},{"$f":"IF(ISNA(VLOOKUP($A16,SURFSKI!AC$8:AI$53,7,0)),\"\",VLOOKUP($A16,SURFSKI!AC$8:AI$53,7,0))","v":18},{"$f":"IF($A16=\"\",\"\",VLOOKUP($A16,INSCRITS!$D$4:$W$506,15,0))","v":"X"},{"$f":"IF(ISNA(VLOOKUP($A16,OCEANMAN!AD$7:AJ$52,6,0)),\"\",VLOOKUP($A16,OCEANMAN!AD$7:AJ$52,6,0))","v":6},{"$f":"IF(ISNA(VLOOKUP($A16,OCEANMAN!AD$7:AJ$52,7,0)),\"\",VLOOKUP($A16,OCEANMAN!AD$7:AJ$52,7,0))","v":12},{"$f":"IF($A16=\"\",\"\",VLOOKUP($A16,INSCRITS!$D$4:$W$506,16,0))","v":0},{"$f":"IF(ISNA(VLOOKUP($A16,CNC!N$7:AC$52,6,0)),\"\",VLOOKUP($A16,CNC!N$7:AC$52,6,0))","v":""},{"$f":"IF(ISNA(VLOOKUP($A16,CNC!N$7:AC$52,7,0)),\"\",VLOOKUP($A16,CNC!N$7:AC$52,7,0))","v":""},59,{"$f":"IF($A16=\"\",\"\",VLOOKUP($A16,INSCRITS!$D$4:$W$506,16,0))","v":0},null,{"$f":"IF(AG16=\"\",\"\",VLOOKUP(AG16,[0]!Relais,2))","v":""},{"$f":"IF($A16=\"\",\"\",VLOOKUP($A16,INSCRITS!$D$4:$W$506,17,0))","v":0},null,{"$f":"IF(AJ16=\"\",\"\",VLOOKUP(AJ16,[0]!Relais,2))","v":""},{"$f":"IF($A16=\"\",\"\",VLOOKUP($A16,INSCRITS!$D$4:$W$506,18,0))","v":0},null,{"$f":"IF(AM16=\"\",\"\",VLOOKUP(AM16,[0]!Relais,2))","v":""},{"$f":"IF($A16=\"\",\"\",VLOOKUP($A16,INSCRITS!$D$4:$W$506,19,0))","v":0},null,{"$f":"IF(AP16=\"\",\"\",VLOOKUP(AP16,[0]!Relais,2))","v":""},0,59]
[174,{"$f":"IF($A17=\"\",\"\",VLOOKUP($A17,INSCRITS!$D$4:$W$501,2,0))","v":0},{"$f":"IF($A17=\"\",\"\",VLOOKUP($A17,INSCRITS!$D$4:$W$501,3,0))","v":1993},{"$f":"IF($A17=\"\",\"\",VLOOKUP($A17,INSCRITS!$D$4:$W$501,4,0))","v":"H"},{"$f":"IF($A17=\"\",\"\",VLOOKUP($A17,INSCRITS!$D$4:$W$501,5,0))","v":"00:00:00"},{"$f":"IF($A17=\"\",\"\",VLOOKUP($A17,INSCRITS!$D$4:$W$501,6,0))","v":"HAZERA"},{"$f":"IF($A17=\"\",\"\",VLOOKUP($A17,INSCRITS!$D$4:$W$501,7,0))","v":"Olivier"},{"$f":"IF($A17=\"\",\"\",VLOOKUP($A17,INSCRITS!$D$4:$W$501,8,0))","v":"Junior"},{"$f":"IF($A17=\"\",\"\",VLOOKUP($A17,INSCRITS!$D$4:$W$501,9,0))","v":"BEGLES"},{"$f":"IF($A17=\"\",\"\",VLOOKUP($A17,INSCRITS!$D$4:$W$506,10,0))","v":"X"},{"$f":"IF(ISNA(VLOOKUP($A17,SPRINT!AD$7:AJ$50,6,0)),\"\",VLOOKUP($A17,SPRINT!AD$7:AJ$50,6,0))","v":""},{"$f":"IF(ISNA(VLOOKUP($A17,SPRINT!AD$7:AJ$50,7,0)),\"\",VLOOKUP($A17,SPRINT!AD$7:AJ$50,7,0))","v":""},{"$f":"IF($A17=\"\",\"\",VLOOKUP($A17,INSCRITS!$D$4:$W$506,11,0))","v":"X"},{"$f":"IF(ISNA(VLOOKUP($A17,BATONS!AD$7:AJ$51,6,0)),\"\",VLOOKUP($A17,BATONS!AD$7:AJ$51,6,0))","v":""},{"$f":"IF(ISNA(VLOOKUP($A17,BATONS!AD$7:AJ$51,7,0)),\"\",VLOOKUP($A17,BATONS!AD$7:AJ$51,7,0))","v":""},{"$f":"IF($A17=\"\",\"\",VLOOKUP($A17,INSCRITS!$D$4:$W$506,12,0))","v":0},{"$f":"IF(ISNA(VLOOKUP($A17,PLANCHE!AC$7:AI$52,6,0)),\"\",VLOOKUP($A17,PLANCHE!AC$7:AI$52,6,0))","v":""},{"$f":"IF(ISNA(VLOOKUP($A17,PLANCHE!AC$7:AI$52,7,0)),\"\",VLOOKUP($A17,PLANCHE!AC$7:AI$52,7,0))","v":""},{"$f":"IF($A17=\"\",\"\",VLOOKUP($A17,INSCRITS!$D$4:$W$506,13,0))","v":"X"},{"$f":"IF(ISNA(VLOOKUP($A17,NAGE!N$7:T$52,6,0)),\"\",VLOOKUP($A17,NAGE!N$7:T$52,6,0))","v":""},{"$f":"IF(ISNA(VLOOKUP($A17,NAGE!N$7:T$52,7,0)),\"\",VLOOKUP($A17,NAGE!N$7:T$52,7,0))","v":""},{"$f":"IF($A17=\"\",\"\",VLOOKUP($A17,INSCRITS!$D$4:$W$506,14,0))","v":"X"},{"$f":"IF(ISNA(VLOOKUP($A17,SURFSKI!AC$8:AI$53,6,0)),\"\",VLOOKUP($A17,SURFSKI!AC$8:AI$53,6,0))","v":11},{"$f":"IF(ISNA(VLOOKUP($A17,SURFSKI!AC$8:AI$53,7,0)),\"\",VLOOKUP($A17,SURFSKI!AC$8:AI$53,7,0))","v":6},{"$f":"IF($A17=\"\",\"\",VLOOKUP($A17,INSCRITS!$D$4:$W$506,15,0))","v":"X"},{"$f":"IF(ISNA(VLOOKUP($A17,OCEANMAN!AD$7:AJ$52,6,0)),\"\",VLOOKUP($A17,OCEANMAN!AD$7:AJ$52,6,0))","v":"Abd"},{"$f":"IF(ISNA(VLOOKUP($A17,OCEANMAN!AD$7:AJ$52,7,0)),\"\",VLOOKUP($A17,OCEANMAN!AD$7:AJ$52,7,0))","v":0},{"$f":"IF($A17=\"\",\"\",VLOOKUP($A17,INSCRITS!$D$4:$W$506,16,0))","v":0},{"$f":"IF(ISNA(VLOOKUP($A17,CNC!N$7:AC$52,6,0)),\"\",VLOOKUP($A17,CNC!N$7:AC$52,6,0))","v":""},{"$f":"IF(ISNA(VLOOKUP($A17,CNC!N$7:AC$52,7,0)),\"\",VLOOKUP($A17,CNC!N$7:AC$52,7,0))","v":""},6,{"$f":"IF($A17=\"\",\"\",VLOOKUP($A17,INSCRITS!$D$4:$W$506,16,0))","v":0},null,{"$f":"IF(AG17=\"\",\"\",VLOOKUP(AG17,[0]!Relais,2))","v":""},{"$f":"IF($A17=\"\",\"\",VLOOKUP($A17,INSCRITS!$D$4:$W$506,17,0))","v":0},null,{"$f":"IF(AJ17=\"\",\"\",VLOOKUP(AJ17,[0]!Relais,2))","v":""},{"$f":"IF($A17=\"\",\"\",VLOOKUP($A17,INSCRITS!$D$4:$W$506,18,0))","v":0},null,{"$f":"IF(AM17=\"\",\"\",VLOOKUP(AM17,[0]!Relais,2))","v":""},{"$f":"IF($A17=\"\",\"\",VLOOKUP($A17,INSCRITS!$D$4:$W$506,19,0))","v":0},null,{"$f":"IF(AP17=\"\",\"\",VLOOKUP(AP17,[0]!Relais,2))","v":""},0,6]
[175,{"$f":"IF($A18=\"\",\"\",VLOOKUP($A18,INSCRITS!$D$4:$W$501,2,0))","v":0},{"$f":"IF($A18=\"\",\"\",VLOOKUP($A18,INSCRITS!$D$4:$W$501,3,0))","v":1994},{"$f":"IF($A18=\"\",\"\",VLOOKUP($A18,INSCRITS!$D$4:$W$501,4,0))","v":"H"},{"$f":"IF($A18=\"\",\"\",VLOOKUP($A18,INSCRITS!$D$4:$W$501,5,0))","v":"00:00:00"},{"$f":"IF($A18=\"\",\"\",VLOOKUP($A18,INSCRITS!$D$4:$W$501,6,0))","v":"PHILIPPEAU"},{"$f":"IF($A18=\"\",\"\",VLOOKUP($A18,INSCRITS!$D$4:$W$501,7,0))","v":"Jodicael"},{"$f":"IF($A18=\"\",\"\",VLOOKUP($A18,INSCRITS!$D$4:$W$501,8,0))","v":"Junior"},{"$f":"IF($A18=\"\",\"\",VLOOKUP($A18,INSCRITS!$D$4:$W$501,9,0))","v":"BEGLES"},{"$f":"IF($A18=\"\",\"\",VLOOKUP($A18,INSCRITS!$D$4:$W$506,10,0))","v":"X"},{"$f":"IF(ISNA(VLOOKUP($A18,SPRINT!AD$7:AJ$50,6,0)),\"\",VLOOKUP($A18,SPRINT!AD$7:AJ$50,6,0))","v":11},{"$f":"IF(ISNA(VLOOKUP($A18,SPRINT!AD$7:AJ$50,7,0)),\"\",VLOOKUP($A18,SPRINT!AD$7:AJ$50,7,0))","v":6},{"$f":"IF($A18=\"\",\"\",VLOOKUP($A18,INSCRITS!$D$4:$W$506,11,0))","v":"X"},{"$f":"IF(ISNA(VLOOKUP($A18,BATONS!AD$7:AJ$51,6,0)),\"\",VLOOKUP($A18,BATONS!AD$7:AJ$51,6,0))","v":11},{"$f":"IF(ISNA(VLOOKUP($A18,BATONS!AD$7:AJ$51,7,0)),\"\",VLOOKUP($A18,BATONS!AD$7:AJ$51,7,0))","v":6},{"$f":"IF($A18=\"\",\"\",VLOOKUP($A18,INSCRITS!$D$4:$W$506,12,0))","v":"X"},{"$f":"IF(ISNA(VLOOKUP($A18,PLANCHE!AC$7:AI$52,6,0)),\"\",VLOOKUP($A18,PLANCHE!AC$7:AI$52,6,0))","v":11},{"$f":"IF(ISNA(VLOOKUP($A18,PLANCHE!AC$7:AI$52,7,0)),\"\",VLOOKUP($A18,PLANCHE!AC$7:AI$52,7,0))","v":6},{"$f":"IF($A18=\"\",\"\",VLOOKUP($A18,INSCRITS!$D$4:$W$506,13,0))","v":"X"},{"$f":"IF(ISNA(VLOOKUP($A18,NAGE!N$7:T$52,6,0)),\"\",VLOOKUP($A18,NAGE!N$7:T$52,6,0))","v":21},{"$f":"IF(ISNA(VLOOKUP($A18,NAGE!N$7:T$52,7,0)),\"\",VLOOKUP($A18,NAGE!N$7:T$52,7,0))","v":0},{"$f":"IF($A18=\"\",\"\",VLOOKUP($A18,INSCRITS!$D$4:$W$506,14,0))","v":"X"},{"$f":"IF(ISNA(VLOOKUP($A18,SURFSKI!AC$8:AI$53,6,0)),\"\",VLOOKUP($A18,SURFSKI!AC$8:AI$53,6,0))","v":5},{"$f":"IF(ISNA(VLOOKUP($A18,SURFSKI!AC$8:AI$53,7,0)),\"\",VLOOKUP($A18,SURFSKI!AC$8:AI$53,7,0))","v":13},{"$f":"IF($A18=\"\",\"\",VLOOKUP($A18,INSCRITS!$D$4:$W$506,15,0))","v":"X"},{"$f":"IF(ISNA(VLOOKUP($A18,OCEANMAN!AD$7:AJ$52,6,0)),\"\",VLOOKUP($A18,OCEANMAN!AD$7:AJ$52,6,0))","v":9},{"$f":"IF(ISNA(VLOOKUP($A18,OCEANMAN!AD$7:AJ$52,7,0)),\"\",VLOOKUP($A18,OCEANMAN!AD$7:AJ$52,7,0))","v":8},{"$f":"IF($A18=\"\",\"\",VLOOKUP($A18,INSCRITS!$D$4:$W$506,16,0))","v":0},{"$f":"IF(ISNA(VLOOKUP($A18,CNC!N$7:AC$52,6,0)),\"\",VLOOKUP($A18,CNC!N$7:AC$52,6,0))","v":""},{"$f":"IF(ISNA(VLOOKUP($A18,CNC!N$7:AC$52,7,0)),\"\",VLOOKUP($A18,CNC!N$7:AC$52,7,0))","v":""},39,{"$f":"IF($A18=\"\",\"\",VLOOKUP($A18,INSCRITS!$D$4:$W$506,16,0))","v":0},null,{"$f":"IF(AG18=\"\",\"\",VLOOKUP(AG18,[0]!Relais,2))","v":""},{"$f":"IF($A18=\"\",\"\",VLOOKUP($A18,INSCRITS!$D$4:$W$506,17,0))","v":0},null,{"$f":"IF(AJ18=\"\",\"\",VLOOKUP(AJ18,[0]!Relais,2))","v":""},{"$f":"IF($A18=\"\",\"\",VLOOKUP($A18,INSCRITS!$D$4:$W$506,18,0))","v":0},null,{"$f":"IF(AM18=\"\",\"\",VLOOKUP(AM18,[0]!Relais,2))","v":""},{"$f":"IF($A18=\"\",\"\",VLOOKUP($A18,INSCRITS!$D$4:$W$506,19,0))","v":0},null,{"$f":"IF(AP18=\"\",\"\",VLOOKUP(AP18,[0]!Relais,2))","v":""},0,39]
[176,{"$f":"IF($A19=\"\",\"\",VLOOKUP($A19,INSCRITS!$D$4:$W$501,2,0))","v":0},{"$f":"IF($A19=\"\",\"\",VLOOKUP($A19,INSCRITS!$D$4:$W$501,3,0))","v":1993},{"$f":"IF($A19=\"\",\"\",VLOOKUP($A19,INSCRITS!$D$4:$W$501,4,0))","v":"H"},{"$f":"IF($A19=\"\",\"\",VLOOKUP($A19,INSCRITS!$D$4:$W$501,5,0))","v":"00:00:00"},{"$f":"IF($A19=\"\",\"\",VLOOKUP($A19,INSCRITS!$D$4:$W$501,6,0))","v":"CALEY"},{"$f":"IF($A19=\"\",\"\",VLOOKUP($A19,INSCRITS!$D$4:$W$501,7,0))","v":"Simon"},{"$f":"IF($A19=\"\",\"\",VLOOKUP($A19,INSCRITS!$D$4:$W$501,8,0))","v":"Junior"},{"$f":"IF($A19=\"\",\"\",VLOOKUP($A19,INSCRITS!$D$4:$W$501,9,0))","v":"Biarritz SC"},{"$f":"IF($A19=\"\",\"\",VLOOKUP($A19,INSCRITS!$D$4:$W$506,10,0))","v":"X"},{"$f":"IF(ISNA(VLOOKUP($A19,SPRINT!AD$7:AJ$50,6,0)),\"\",VLOOKUP($A19,SPRINT!AD$7:AJ$50,6,0))","v":""},{"$f":"IF(ISNA(VLOOKUP($A19,SPRINT!AD$7:AJ$50,7,0)),\"\",VLOOKUP($A19,SPRINT!AD$7:AJ$50,7,0))","v":""},{"$f":"IF($A19=\"\",\"\",VLOOKUP($A19,INSCRITS!$D$4:$W$506,11,0))","v":"X"},{"$f":"IF(ISNA(VLOOKUP($A19,BATONS!AD$7:AJ$51,6,0)),\"\",VLOOKUP($A19,BATONS!AD$7:AJ$51,6,0))","v":9},{"$f":"IF(ISNA(VLOOKUP($A19,BATONS!AD$7:AJ$51,7,0)),\"\",VLOOKUP($A19,BATONS!AD$7:AJ$51,7,0))","v":8},{"$f":"IF($A19=\"\",\"\",VLOOKUP($A19,INSCRITS!$D$4:$W$506,12,0))","v":"X"},{"$f":"IF(ISNA(VLOOKUP($A19,PLANCHE!AC$7:AI$52,6,0)),\"\",VLOOKUP($A19,PLANCHE!AC$7:AI$52,6,0))","v":""},{"$f":"IF(ISNA(VLOOKUP($A19,PLANCHE!AC$7:AI$52,7,0)),\"\",VLOOKUP($A19,PLANCHE!AC$7:AI$52,7,0))","v":""},{"$f":"IF($A19=\"\",\"\",VLOOKUP($A19,INSCRITS!$D$4:$W$506,13,0))","v":"X"},{"$f":"IF(ISNA(VLOOKUP($A19,NAGE!N$7:T$52,6,0)),\"\",VLOOKUP($A19,NAGE!N$7:T$52,6,0))","v":16},{"$f":"IF(ISNA(VLOOKUP($A19,NAGE!N$7:T$52,7,0)),\"\",VLOOKUP($A19,NAGE!N$7:T$52,7,0))","v":1},{"$f":"IF($A19=\"\",\"\",VLOOKUP($A19,INSCRITS!$D$4:$W$506,14,0))","v":0},{"$f":"IF(ISNA(VLOOKUP($A19,SURFSKI!AC$8:AI$53,6,0)),\"\",VLOOKUP($A19,SURFSKI!AC$8:AI$53,6,0))","v":""},{"$f":"IF(ISNA(VLOOKUP($A19,SURFSKI!AC$8:AI$53,7,0)),\"\",VLOOKUP($A19,SURFSKI!AC$8:AI$53,7,0))","v":""},{"$f":"IF($A19=\"\",\"\",VLOOKUP($A19,INSCRITS!$D$4:$W$506,15,0))","v":0},{"$f":"IF(ISNA(VLOOKUP($A19,OCEANMAN!AD$7:AJ$52,6,0)),\"\",VLOOKUP($A19,OCEANMAN!AD$7:AJ$52,6,0))","v":""},{"$f":"IF(ISNA(VLOOKUP($A19,OCEANMAN!AD$7:AJ$52,7,0)),\"\",VLOOKUP($A19,OCEANMAN!AD$7:AJ$52,7,0))","v":""},{"$f":"IF($A19=\"\",\"\",VLOOKUP($A19,INSCRITS!$D$4:$W$506,16,0))","v":"X"},{"$f":"IF(ISNA(VLOOKUP($A19,CNC!N$7:AC$52,6,0)),\"\",VLOOKUP($A19,CNC!N$7:AC$52,6,0))","v":""},{"$f":"IF(ISNA(VLOOKUP($A19,CNC!N$7:AC$52,7,0)),\"\",VLOOKUP($A19,CNC!N$7:AC$52,7,0))","v":""},9,{"$f":"IF($A19=\"\",\"\",VLOOKUP($A19,INSCRITS!$D$4:$W$506,16,0))","v":"X"},null,{"$f":"IF(AG19=\"\",\"\",VLOOKUP(AG19,[0]!Relais,2))","v":""},{"$f":"IF($A19=\"\",\"\",VLOOKUP($A19,INSCRITS!$D$4:$W$506,17,0))","v":0},null,{"$f":"IF(AJ19=\"\",\"\",VLOOKUP(AJ19,[0]!Relais,2))","v":""},{"$f":"IF($A19=\"\",\"\",VLOOKUP($A19,INSCRITS!$D$4:$W$506,18,0))","v":0},null,{"$f":"IF(AM19=\"\",\"\",VLOOKUP(AM19,[0]!Relais,2))","v":""},{"$f":"IF($A19=\"\",\"\",VLOOKUP($A19,INSCRITS!$D$4:$W$506,19,0))","v":0},null,{"$f":"IF(AP19=\"\",\"\",VLOOKUP(AP19,[0]!Relais,2))","v":""},0,9]
[177,{"$f":"IF($A20=\"\",\"\",VLOOKUP($A20,INSCRITS!$D$4:$W$501,2,0))","v":0},{"$f":"IF($A20=\"\",\"\",VLOOKUP($A20,INSCRITS!$D$4:$W$501,3,0))","v":1993},{"$f":"IF($A20=\"\",\"\",VLOOKUP($A20,INSCRITS!$D$4:$W$501,4,0))","v":"H"},{"$f":"IF($A20=\"\",\"\",VLOOKUP($A20,INSCRITS!$D$4:$W$501,5,0))","v":"00:00:00"},{"$f":"IF($A20=\"\",\"\",VLOOKUP($A20,INSCRITS!$D$4:$W$501,6,0))","v":"GASQUET"},{"$f":"IF($A20=\"\",\"\",VLOOKUP($A20,INSCRITS!$D$4:$W$501,7,0))","v":"Mathieu"},{"$f":"IF($A20=\"\",\"\",VLOOKUP($A20,INSCRITS!$D$4:$W$501,8,0))","v":"Junior"},{"$f":"IF($A20=\"\",\"\",VLOOKUP($A20,INSCRITS!$D$4:$W$501,9,0))","v":"Biarritz SC"},{"$f":"IF($A20=\"\",\"\",VLOOKUP($A20,INSCRITS!$D$4:$W$506,10,0))","v":"X"},{"$f":"IF(ISNA(VLOOKUP($A20,SPRINT!AD$7:AJ$50,6,0)),\"\",VLOOKUP($A20,SPRINT!AD$7:AJ$50,6,0))","v":""},{"$f":"IF(ISNA(VLOOKUP($A20,SPRINT!AD$7:AJ$50,7,0)),\"\",VLOOKUP($A20,SPRINT!AD$7:AJ$50,7,0))","v":""},{"$f":"IF($A20=\"\",\"\",VLOOKUP($A20,INSCRITS!$D$4:$W$506,11,0))","v":0},{"$f":"IF(ISNA(VLOOKUP($A20,BATONS!AD$7:AJ$51,6,0)),\"\",VLOOKUP($A20,BATONS!AD$7:AJ$51,6,0))","v":""},{"$f":"IF(ISNA(VLOOKUP($A20,BATONS!AD$7:AJ$51,7,0)),\"\",VLOOKUP($A20,BATONS!AD$7:AJ$51,7,0))","v":""},{"$f":"IF($A20=\"\",\"\",VLOOKUP($A20,INSCRITS!$D$4:$W$506,12,0))","v":"X"},{"$f":"IF(ISNA(VLOOKUP($A20,PLANCHE!AC$7:AI$52,6,0)),\"\",VLOOKUP($A20,PLANCHE!AC$7:AI$52,6,0))","v":10},{"$f":"IF(ISNA(VLOOKUP($A20,PLANCHE!AC$7:AI$52,7,0)),\"\",VLOOKUP($A20,PLANCHE!AC$7:AI$52,7,0))","v":7},{"$f":"IF($A20=\"\",\"\",VLOOKUP($A20,INSCRITS!$D$4:$W$506,13,0))","v":"X"},{"$f":"IF(ISNA(VLOOKUP($A20,NAGE!N$7:T$52,6,0)),\"\",VLOOKUP($A20,NAGE!N$7:T$52,6,0))","v":9},{"$f":"IF(ISNA(VLOOKUP($A20,NAGE!N$7:T$52,7,0)),\"\",VLOOKUP($A20,NAGE!N$7:T$52,7,0))","v":8},{"$f":"IF($A20=\"\",\"\",VLOOKUP($A20,INSCRITS!$D$4:$W$506,14,0))","v":0},{"$f":"IF(ISNA(VLOOKUP($A20,SURFSKI!AC$8:AI$53,6,0)),\"\",VLOOKUP($A20,SURFSKI!AC$8:AI$53,6,0))","v":""},{"$f":"IF(ISNA(VLOOKUP($A20,SURFSKI!AC$8:AI$53,7,0)),\"\",VLOOKUP($A20,SURFSKI!AC$8:AI$53,7,0))","v":""},{"$f":"IF($A20=\"\",\"\",VLOOKUP($A20,INSCRITS!$D$4:$W$506,15,0))","v":0},{"$f":"IF(ISNA(VLOOKUP($A20,OCEANMAN!AD$7:AJ$52,6,0)),\"\",VLOOKUP($A20,OCEANMAN!AD$7:AJ$52,6,0))","v":""},{"$f":"IF(ISNA(VLOOKUP($A20,OCEANMAN!AD$7:AJ$52,7,0)),\"\",VLOOKUP($A20,OCEANMAN!AD$7:AJ$52,7,0))","v":""},{"$f":"IF($A20=\"\",\"\",VLOOKUP($A20,INSCRITS!$D$4:$W$506,16,0))","v":"X"},{"$f":"IF(ISNA(VLOOKUP($A20,CNC!N$7:AC$52,6,0)),\"\",VLOOKUP($A20,CNC!N$7:AC$52,6,0))","v":7},{"$f":"IF(ISNA(VLOOKUP($A20,CNC!N$7:AC$52,7,0)),\"\",VLOOKUP($A20,CNC!N$7:AC$52,7,0))","v":11},26,{"$f":"IF($A20=\"\",\"\",VLOOKUP($A20,INSCRITS!$D$4:$W$506,16,0))","v":"X"},null,{"$f":"IF(AG20=\"\",\"\",VLOOKUP(AG20,[0]!Relais,2))","v":""},{"$f":"IF($A20=\"\",\"\",VLOOKUP($A20,INSCRITS!$D$4:$W$506,17,0))","v":0},null,{"$f":"IF(AJ20=\"\",\"\",VLOOKUP(AJ20,[0]!Relais,2))","v":""},{"$f":"IF($A20=\"\",\"\",VLOOKUP($A20,INSCRITS!$D$4:$W$506,18,0))","v":0},null,{"$f":"IF(AM20=\"\",\"\",VLOOKUP(AM20,[0]!Relais,2))","v":""},{"$f":"IF($A20=\"\",\"\",VLOOKUP($A20,INSCRITS!$D$4:$W$506,19,0))","v":0},null,{"$f":"IF(AP20=\"\",\"\",VLOOKUP(AP20,[0]!Relais,2))","v":""},0,26]
[178,{"$f":"IF($A21=\"\",\"\",VLOOKUP($A21,INSCRITS!$D$4:$W$501,2,0))","v":0},{"$f":"IF($A21=\"\",\"\",VLOOKUP($A21,INSCRITS!$D$4:$W$501,3,0))","v":1993},{"$f":"IF($A21=\"\",\"\",VLOOKUP($A21,INSCRITS!$D$4:$W$501,4,0))","v":"H"},{"$f":"IF($A21=\"\",\"\",VLOOKUP($A21,INSCRITS!$D$4:$W$501,5,0))","v":"00:00:00"},{"$f":"IF($A21=\"\",\"\",VLOOKUP($A21,INSCRITS!$D$4:$W$501,6,0))","v":"SORIA"},{"$f":"IF($A21=\"\",\"\",VLOOKUP($A21,INSCRITS!$D$4:$W$501,7,0))","v":"Samuel"},{"$f":"IF($A21=\"\",\"\",VLOOKUP($A21,INSCRITS!$D$4:$W$501,8,0))","v":"Junior"},{"$f":"IF($A21=\"\",\"\",VLOOKUP($A21,INSCRITS!$D$4:$W$501,9,0))","v":"Biarritz SC"},{"$f":"IF($A21=\"\",\"\",VLOOKUP($A21,INSCRITS!$D$4:$W$506,10,0))","v":"X"},{"$f":"IF(ISNA(VLOOKUP($A21,SPRINT!AD$7:AJ$50,6,0)),\"\",VLOOKUP($A21,SPRINT!AD$7:AJ$50,6,0))","v":10},{"$f":"IF(ISNA(VLOOKUP($A21,SPRINT!AD$7:AJ$50,7,0)),\"\",VLOOKUP($A21,SPRINT!AD$7:AJ$50,7,0))","v":7},{"$f":"IF($A21=\"\",\"\",VLOOKUP($A21,INSCRITS!$D$4:$W$506,11,0))","v":"X"},{"$f":"IF(ISNA(VLOOKUP($A21,BATONS!AD$7:AJ$51,6,0)),\"\",VLOOKUP($A21,BATONS!AD$7:AJ$51,6,0))","v":""},{"$f":"IF(ISNA(VLOOKUP($A21,BATONS!AD$7:AJ$51,7,0)),\"\",VLOOKUP($A21,BATONS!AD$7:AJ$51,7,0))","v":""},{"$f":"IF($A21=\"\",\"\",VLOOKUP($A21,INSCRITS!$D$4:$W$506,12,0))","v":"X"},{"$f":"IF(ISNA(VLOOKUP($A21,PLANCHE!AC$7:AI$52,6,0)),\"\",VLOOKUP($A21,PLANCHE!AC$7:AI$52,6,0))","v":2},{"$f":"IF(ISNA(VLOOKUP($A21,PLANCHE!AC$7:AI$52,7,0)),\"\",VLOOKUP($A21,PLANCHE!AC$7:AI$52,7,0))","v":18},{"$f":"IF($A21=\"\",\"\",VLOOKUP($A21,INSCRITS!$D$4:$W$506,13,0))","v":"X"},{"$f":"IF(ISNA(VLOOKUP($A21,NAGE!N$7:T$52,6,0)),\"\",VLOOKUP($A21,NAGE!N$7:T$52,6,0))","v":15},{"$f":"IF(ISNA(VLOOKUP($A21,NAGE!N$7:T$52,7,0)),\"\",VLOOKUP($A21,NAGE!N$7:T$52,7,0))","v":2},{"$f":"IF($A21=\"\",\"\",VLOOKUP($A21,INSCRITS!$D$4:$W$506,14,0))","v":"X"},{"$f":"IF(ISNA(VLOOKUP($A21,SURFSKI!AC$8:AI$53,6,0)),\"\",VLOOKUP($A21,SURFSKI!AC$8:AI$53,6,0))","v":3},{"$f":"IF(ISNA(VLOOKUP($A21,SURFSKI!AC$8:AI$53,7,0)),\"\",VLOOKUP($A21,SURFSKI!AC$8:AI$53,7,0))","v":16},{"$f":"IF($A21=\"\",\"\",VLOOKUP($A21,INSCRITS!$D$4:$W$506,15,0))","v":"X"},{"$f":"IF(ISNA(VLOOKUP($A21,OCEANMAN!AD$7:AJ$52,6,0)),\"\",VLOOKUP($A21,OCEANMAN!AD$7:AJ$52,6,0))","v":3},{"$f":"IF(ISNA(VLOOKUP($A21,OCEANMAN!AD$7:AJ$52,7,0)),\"\",VLOOKUP($A21,OCEANMAN!AD$7:AJ$52,7,0))","v":16},{"$f":"IF($A21=\"\",\"\",VLOOKUP($A21,INSCRITS!$D$4:$W$506,16,0))","v":"X"},{"$f":"IF(ISNA(VLOOKUP($A21,CNC!N$7:AC$52,6,0)),\"\",VLOOKUP($A21,CNC!N$7:AC$52,6,0))","v":9},{"$f":"IF(ISNA(VLOOKUP($A21,CNC!N$7:AC$52,7,0)),\"\",VLOOKUP($A21,CNC!N$7:AC$52,7,0))","v":8},67,{"$f":"IF($A21=\"\",\"\",VLOOKUP($A21,INSCRITS!$D$4:$W$506,16,0))","v":"X"},null,{"$f":"IF(AG21=\"\",\"\",VLOOKUP(AG21,[0]!Relais,2))","v":""},{"$f":"IF($A21=\"\",\"\",VLOOKUP($A21,INSCRITS!$D$4:$W$506,17,0))","v":0},null,{"$f":"IF(AJ21=\"\",\"\",VLOOKUP(AJ21,[0]!Relais,2))","v":""},{"$f":"IF($A21=\"\",\"\",VLOOKUP($A21,INSCRITS!$D$4:$W$506,18,0))","v":0},null,{"$f":"IF(AM21=\"\",\"\",VLOOKUP(AM21,[0]!Relais,2))","v":""},{"$f":"IF($A21=\"\",\"\",VLOOKUP($A21,INSCRITS!$D$4:$W$506,19,0))","v":0},null,{"$f":"IF(AP21=\"\",\"\",VLOOKUP(AP21,[0]!Relais,2))","v":""},0,67]
[179,{"$f":"IF($A22=\"\",\"\",VLOOKUP($A22,INSCRITS!$D$4:$W$501,2,0))","v":0},{"$f":"IF($A22=\"\",\"\",VLOOKUP($A22,INSCRITS!$D$4:$W$501,3,0))","v":1993},{"$f":"IF($A22=\"\",\"\",VLOOKUP($A22,INSCRITS!$D$4:$W$501,4,0))","v":"H"},{"$f":"IF($A22=\"\",\"\",VLOOKUP($A22,INSCRITS!$D$4:$W$501,5,0))","v":"00:00:00"},{"$f":"IF($A22=\"\",\"\",VLOOKUP($A22,INSCRITS!$D$4:$W$501,6,0))","v":"KATOUH"},{"$f":"IF($A22=\"\",\"\",VLOOKUP($A22,INSCRITS!$D$4:$W$501,7,0))","v":"Karim"},{"$f":"IF($A22=\"\",\"\",VLOOKUP($A22,INSCRITS!$D$4:$W$501,8,0))","v":"Junior"},{"$f":"IF($A22=\"\",\"\",VLOOKUP($A22,INSCRITS!$D$4:$W$501,9,0))","v":"Cannes Sauvetage Côtier"},{"$f":"IF($A22=\"\",\"\",VLOOKUP($A22,INSCRITS!$D$4:$W$506,10,0))","v":"X"},{"$f":"IF(ISNA(VLOOKUP($A22,SPRINT!AD$7:AJ$50,6,0)),\"\",VLOOKUP($A22,SPRINT!AD$7:AJ$50,6,0))","v":""},{"$f":"IF(ISNA(VLOOKUP($A22,SPRINT!AD$7:AJ$50,7,0)),\"\",VLOOKUP($A22,SPRINT!AD$7:AJ$50,7,0))","v":""},{"$f":"IF($A22=\"\",\"\",VLOOKUP($A22,INSCRITS!$D$4:$W$506,11,0))","v":"X"},{"$f":"IF(ISNA(VLOOKUP($A22,BATONS!AD$7:AJ$51,6,0)),\"\",VLOOKUP($A22,BATONS!AD$7:AJ$51,6,0))","v":""},{"$f":"IF(ISNA(VLOOKUP($A22,BATONS!AD$7:AJ$51,7,0)),\"\",VLOOKUP($A22,BATONS!AD$7:AJ$51,7,0))","v":""},{"$f":"IF($A22=\"\",\"\",VLOOKUP($A22,INSCRITS!$D$4:$W$506,12,0))","v":"X"},{"$f":"IF(ISNA(VLOOKUP($A22,PLANCHE!AC$7:AI$52,6,0)),\"\",VLOOKUP($A22,PLANCHE!AC$7:AI$52,6,0))","v":""},{"$f":"IF(ISNA(VLOOKUP($A22,PLANCHE!AC$7:AI$52,7,0)),\"\",VLOOKUP($A22,PLANCHE!AC$7:AI$52,7,0))","v":""},{"$f":"IF($A22=\"\",\"\",VLOOKUP($A22,INSCRITS!$D$4:$W$506,13,0))","v":"X"},{"$f":"IF(ISNA(VLOOKUP($A22,NAGE!N$7:T$52,6,0)),\"\",VLOOKUP($A22,NAGE!N$7:T$52,6,0))","v":10},{"$f":"IF(ISNA(VLOOKUP($A22,NAGE!N$7:T$52,7,0)),\"\",VLOOKUP($A22,NAGE!N$7:T$52,7,0))","v":7},{"$f":"IF($A22=\"\",\"\",VLOOKUP($A22,INSCRITS!$D$4:$W$506,14,0))","v":0},{"$f":"IF(ISNA(VLOOKUP($A22,SURFSKI!AC$8:AI$53,6,0)),\"\",VLOOKUP($A22,SURFSKI!AC$8:AI$53,6,0))","v":""},{"$f":"IF(ISNA(VLOOKUP($A22,SURFSKI!AC$8:AI$53,7,0)),\"\",VLOOKUP($A22,SURFSKI!AC$8:AI$53,7,0))","v":""},{"$f":"IF($A22=\"\",\"\",VLOOKUP($A22,INSCRITS!$D$4:$W$506,15,0))","v":0},{"$f":"IF(ISNA(VLOOKUP($A22,OCEANMAN!AD$7:AJ$52,6,0)),\"\",VLOOKUP($A22,OCEANMAN!AD$7:AJ$52,6,0))","v":""},{"$f":"IF(ISNA(VLOOKUP($A22,OCEANMAN!AD$7:AJ$52,7,0)),\"\",VLOOKUP($A22,OCEANMAN!AD$7:AJ$52,7,0))","v":""},{"$f":"IF($A22=\"\",\"\",VLOOKUP($A22,INSCRITS!$D$4:$W$506,16,0))","v":0},{"$f":"IF(ISNA(VLOOKUP($A22,CNC!N$7:AC$52,6,0)),\"\",VLOOKUP($A22,CNC!N$7:AC$52,6,0))","v":14},{"$f":"IF(ISNA(VLOOKUP($A22,CNC!N$7:AC$52,7,0)),\"\",VLOOKUP($A22,CNC!N$7:AC$52,7,0))","v":3},10,{"$f":"IF($A22=\"\",\"\",VLOOKUP($A22,INSCRITS!$D$4:$W$506,16,0))","v":0},null,{"$f":"IF(AG22=\"\",\"\",VLOOKUP(AG22,[0]!Relais,2))","v":""},{"$f":"IF($A22=\"\",\"\",VLOOKUP($A22,INSCRITS!$D$4:$W$506,17,0))","v":0},null,{"$f":"IF(AJ22=\"\",\"\",VLOOKUP(AJ22,[0]!Relais,2))","v":""},{"$f":"IF($A22=\"\",\"\",VLOOKUP($A22,INSCRITS!$D$4:$W$506,18,0))","v":0},null,{"$f":"IF(AM22=\"\",\"\",VLOOKUP(AM22,[0]!Relais,2))","v":""},{"$f":"IF($A22=\"\",\"\",VLOOKUP($A22,INSCRITS!$D$4:$W$506,19,0))","v":0},null,{"$f":"IF(AP22=\"\",\"\",VLOOKUP(AP22,[0]!Relais,2))","v":""},0,10]
[180,{"$f":"IF($A23=\"\",\"\",VLOOKUP($A23,INSCRITS!$D$4:$W$501,2,0))","v":0},{"$f":"IF($A23=\"\",\"\",VLOOKUP($A23,INSCRITS!$D$4:$W$501,3,0))","v":1994},{"$f":"IF($A23=\"\",\"\",VLOOKUP($A23,INSCRITS!$D$4:$W$501,4,0))","v":"H"},{"$f":"IF($A23=\"\",\"\",VLOOKUP($A23,INSCRITS!$D$4:$W$501,5,0))","v":"00:00:00"},{"$f":"IF($A23=\"\",\"\",VLOOKUP($A23,INSCRITS!$D$4:$W$501,6,0))","v":"DUSSES"},{"$f":"IF($A23=\"\",\"\",VLOOKUP($A23,INSCRITS!$D$4:$W$501,7,0))","v":"Sykvain"},{"$f":"IF($A23=\"\",\"\",VLOOKUP($A23,INSCRITS!$D$4:$W$501,8,0))","v":"Junior"},{"$f":"IF($A23=\"\",\"\",VLOOKUP($A23,INSCRITS!$D$4:$W$501,9,0))","v":"Capbreton"},{"$f":"IF($A23=\"\",\"\",VLOOKUP($A23,INSCRITS!$D$4:$W$506,10,0))","v":"X"},{"$f":"IF(ISNA(VLOOKUP($A23,SPRINT!AD$7:AJ$50,6,0)),\"\",VLOOKUP($A23,SPRINT!AD$7:AJ$50,6,0))","v":6},{"$f":"IF(ISNA(VLOOKUP($A23,SPRINT!AD$7:AJ$50,7,0)),\"\",VLOOKUP($A23,SPRINT!AD$7:AJ$50,7,0))","v":12},{"$f":"IF($A23=\"\",\"\",VLOOKUP($A23,INSCRITS!$D$4:$W$506,11,0))","v":"X"},{"$f":"IF(ISNA(VLOOKUP($A23,BATONS!AD$7:AJ$51,6,0)),\"\",VLOOKUP($A23,BATONS!AD$7:AJ$51,6,0))","v":7},{"$f":"IF(ISNA(VLOOKUP($A23,BATONS!AD$7:AJ$51,7,0)),\"\",VLOOKUP($A23,BATONS!AD$7:AJ$51,7,0))","v":11},{"$f":"IF($A23=\"\",\"\",VLOOKUP($A23,INSCRITS!$D$4:$W$506,12,0))","v":"X"},{"$f":"IF(ISNA(VLOOKUP($A23,PLANCHE!AC$7:AI$52,6,0)),\"\",VLOOKUP($A23,PLANCHE!AC$7:AI$52,6,0))","v":""},{"$f":"IF(ISNA(VLOOKUP($A23,PLANCHE!AC$7:AI$52,7,0)),\"\",VLOOKUP($A23,PLANCHE!AC$7:AI$52,7,0))","v":""},{"$f":"IF($A23=\"\",\"\",VLOOKUP($A23,INSCRITS!$D$4:$W$506,13,0))","v":"X"},{"$f":"IF(ISNA(VLOOKUP($A23,NAGE!N$7:T$52,6,0)),\"\",VLOOKUP($A23,NAGE!N$7:T$52,6,0))","v":26},{"$f":"IF(ISNA(VLOOKUP($A23,NAGE!N$7:T$52,7,0)),\"\",VLOOKUP($A23,NAGE!N$7:T$52,7,0))","v":0},{"$f":"IF($A23=\"\",\"\",VLOOKUP($A23,INSCRITS!$D$4:$W$506,14,0))","v":0},{"$f":"IF(ISNA(VLOOKUP($A23,SURFSKI!AC$8:AI$53,6,0)),\"\",VLOOKUP($A23,SURFSKI!AC$8:AI$53,6,0))","v":""},{"$f":"IF(ISNA(VLOOKUP($A23,SURFSKI!AC$8:AI$53,7,0)),\"\",VLOOKUP($A23,SURFSKI!AC$8:AI$53,7,0))","v":""},{"$f":"IF($A23=\"\",\"\",VLOOKUP($A23,INSCRITS!$D$4:$W$506,15,0))","v":0},{"$f":"IF(ISNA(VLOOKUP($A23,OCEANMAN!AD$7:AJ$52,6,0)),\"\",VLOOKUP($A23,OCEANMAN!AD$7:AJ$52,6,0))","v":""},{"$f":"IF(ISNA(VLOOKUP($A23,OCEANMAN!AD$7:AJ$52,7,0)),\"\",VLOOKUP($A23,OCEANMAN!AD$7:AJ$52,7,0))","v":""},{"$f":"IF($A23=\"\",\"\",VLOOKUP($A23,INSCRITS!$D$4:$W$506,16,0))","v":0},{"$f":"IF(ISNA(VLOOKUP($A23,CNC!N$7:AC$52,6,0)),\"\",VLOOKUP($A23,CNC!N$7:AC$52,6,0))","v":""},{"$f":"IF(ISNA(VLOOKUP($A23,CNC!N$7:AC$52,7,0)),\"\",VLOOKUP($A23,CNC!N$7:AC$52,7,0))","v":""},23,{"$f":"IF($A23=\"\",\"\",VLOOKUP($A23,INSCRITS!$D$4:$W$506,16,0))","v":0},null,{"$f":"IF(AG23=\"\",\"\",VLOOKUP(AG23,[0]!Relais,2))","v":""},{"$f":"IF($A23=\"\",\"\",VLOOKUP($A23,INSCRITS!$D$4:$W$506,17,0))","v":0},null,{"$f":"IF(AJ23=\"\",\"\",VLOOKUP(AJ23,[0]!Relais,2))","v":""},{"$f":"IF($A23=\"\",\"\",VLOOKUP($A23,INSCRITS!$D$4:$W$506,18,0))","v":0},null,{"$f":"IF(AM23=\"\",\"\",VLOOKUP(AM23,[0]!Relais,2))","v":""},{"$f":"IF($A23=\"\",\"\",VLOOKUP($A23,INSCRITS!$D$4:$W$506,19,0))","v":0},null,{"$f":"IF(AP23=\"\",\"\",VLOOKUP(AP23,[0]!Relais,2))","v":""},0,23]
[181,{"$f":"IF($A24=\"\",\"\",VLOOKUP($A24,INSCRITS!$D$4:$W$501,2,0))","v":0},{"$f":"IF($A24=\"\",\"\",VLOOKUP($A24,INSCRITS!$D$4:$W$501,3,0))","v":1994},{"$f":"IF($A24=\"\",\"\",VLOOKUP($A24,INSCRITS!$D$4:$W$501,4,0))","v":"H"},{"$f":"IF($A24=\"\",\"\",VLOOKUP($A24,INSCRITS!$D$4:$W$501,5,0))","v":"00:00:00"},{"$f":"IF($A24=\"\",\"\",VLOOKUP($A24,INSCRITS!$D$4:$W$501,6,0))","v":"GLIZE"},{"$f":"IF($A24=\"\",\"\",VLOOKUP($A24,INSCRITS!$D$4:$W$501,7,0))","v":"Corentin"},{"$f":"IF($A24=\"\",\"\",VLOOKUP($A24,INSCRITS!$D$4:$W$501,8,0))","v":"Junior"},{"$f":"IF($A24=\"\",\"\",VLOOKUP($A24,INSCRITS!$D$4:$W$501,9,0))","v":"Capbreton"},{"$f":"IF($A24=\"\",\"\",VLOOKUP($A24,INSCRITS!$D$4:$W$506,10,0))","v":0},{"$f":"IF(ISNA(VLOOKUP($A24,SPRINT!AD$7:AJ$50,6,0)),\"\",VLOOKUP($A24,SPRINT!AD$7:AJ$50,6,0))","v":""},{"$f":"IF(ISNA(VLOOKUP($A24,SPRINT!AD$7:AJ$50,7,0)),\"\",VLOOKUP($A24,SPRINT!AD$7:AJ$50,7,0))","v":""},{"$f":"IF($A24=\"\",\"\",VLOOKUP($A24,INSCRITS!$D$4:$W$506,11,0))","v":"X"},{"$f":"IF(ISNA(VLOOKUP($A24,BATONS!AD$7:AJ$51,6,0)),\"\",VLOOKUP($A24,BATONS!AD$7:AJ$51,6,0))","v":15},{"$f":"IF(ISNA(VLOOKUP($A24,BATONS!AD$7:AJ$51,7,0)),\"\",VLOOKUP($A24,BATONS!AD$7:AJ$51,7,0))","v":2},{"$f":"IF($A24=\"\",\"\",VLOOKUP($A24,INSCRITS!$D$4:$W$506,12,0))","v":0},{"$f":"IF(ISNA(VLOOKUP($A24,PLANCHE!AC$7:AI$52,6,0)),\"\",VLOOKUP($A24,PLANCHE!AC$7:AI$52,6,0))","v":""},{"$f":"IF(ISNA(VLOOKUP($A24,PLANCHE!AC$7:AI$52,7,0)),\"\",VLOOKUP($A24,PLANCHE!AC$7:AI$52,7,0))","v":""},{"$f":"IF($A24=\"\",\"\",VLOOKUP($A24,INSCRITS!$D$4:$W$506,13,0))","v":"X"},{"$f":"IF(ISNA(VLOOKUP($A24,NAGE!N$7:T$52,6,0)),\"\",VLOOKUP($A24,NAGE!N$7:T$52,6,0))","v":"abs"},{"$f":"IF(ISNA(VLOOKUP($A24,NAGE!N$7:T$52,7,0)),\"\",VLOOKUP($A24,NAGE!N$7:T$52,7,0))","v":0},{"$f":"IF($A24=\"\",\"\",VLOOKUP($A24,INSCRITS!$D$4:$W$506,14,0))","v":0},{"$f":"IF(ISNA(VLOOKUP($A24,SURFSKI!AC$8:AI$53,6,0)),\"\",VLOOKUP($A24,SURFSKI!AC$8:AI$53,6,0))","v":""},{"$f":"IF(ISNA(VLOOKUP($A24,SURFSKI!AC$8:AI$53,7,0)),\"\",VLOOKUP($A24,SURFSKI!AC$8:AI$53,7,0))","v":""},{"$f":"IF($A24=\"\",\"\",VLOOKUP($A24,INSCRITS!$D$4:$W$506,15,0))","v":0},{"$f":"IF(ISNA(VLOOKUP($A24,OCEANMAN!AD$7:AJ$52,6,0)),\"\",VLOOKUP($A24,OCEANMAN!AD$7:AJ$52,6,0))","v":""},{"$f":"IF(ISNA(VLOOKUP($A24,OCEANMAN!AD$7:AJ$52,7,0)),\"\",VLOOKUP($A24,OCEANMAN!AD$7:AJ$52,7,0))","v":""},{"$f":"IF($A24=\"\",\"\",VLOOKUP($A24,INSCRITS!$D$4:$W$506,16,0))","v":0},{"$f":"IF(ISNA(VLOOKUP($A24,CNC!N$7:AC$52,6,0)),\"\",VLOOKUP($A24,CNC!N$7:AC$52,6,0))","v":""},{"$f":"IF(ISNA(VLOOKUP($A24,CNC!N$7:AC$52,7,0)),\"\",VLOOKUP($A24,CNC!N$7:AC$52,7,0))","v":""},2,{"$f":"IF($A24=\"\",\"\",VLOOKUP($A24,INSCRITS!$D$4:$W$506,16,0))","v":0},null,{"$f":"IF(AG24=\"\",\"\",VLOOKUP(AG24,[0]!Relais,2))","v":""},{"$f":"IF($A24=\"\",\"\",VLOOKUP($A24,INSCRITS!$D$4:$W$506,17,0))","v":0},null,{"$f":"IF(AJ24=\"\",\"\",VLOOKUP(AJ24,[0]!Relais,2))","v":""},{"$f":"IF($A24=\"\",\"\",VLOOKUP($A24,INSCRITS!$D$4:$W$506,18,0))","v":0},null,{"$f":"IF(AM24=\"\",\"\",VLOOKUP(AM24,[0]!Relais,2))","v":""},{"$f":"IF($A24=\"\",\"\",VLOOKUP($A24,INSCRITS!$D$4:$W$506,19,0))","v":0},null,{"$f":"IF(AP24=\"\",\"\",VLOOKUP(AP24,[0]!Relais,2))","v":""},0,2]
[182,{"$f":"IF($A25=\"\",\"\",VLOOKUP($A25,INSCRITS!$D$4:$W$501,2,0))","v":0},{"$f":"IF($A25=\"\",\"\",VLOOKUP($A25,INSCRITS!$D$4:$W$501,3,0))","v":1993},{"$f":"IF($A25=\"\",\"\",VLOOKUP($A25,INSCRITS!$D$4:$W$501,4,0))","v":"H"},{"$f":"IF($A25=\"\",\"\",VLOOKUP($A25,INSCRITS!$D$4:$W$501,5,0))","v":"00:00:00"},{"$f":"IF($A25=\"\",\"\",VLOOKUP($A25,INSCRITS!$D$4:$W$501,6,0))","v":"DUBOIS CONSTANT"},{"$f":"IF($A25=\"\",\"\",VLOOKUP($A25,INSCRITS!$D$4:$W$501,7,0))","v":"Antoine"},{"$f":"IF($A25=\"\",\"\",VLOOKUP($A25,INSCRITS!$D$4:$W$501,8,0))","v":"Junior"},{"$f":"IF($A25=\"\",\"\",VLOOKUP($A25,INSCRITS!$D$4:$W$501,9,0))","v":"EMULATION SAUVETAGE NATATION PERPIGNAN"},{"$f":"IF($A25=\"\",\"\",VLOOKUP($A25,INSCRITS!$D$4:$W$506,10,0))","v":"X"},{"$f":"IF(ISNA(VLOOKUP($A25,SPRINT!AD$7:AJ$50,6,0)),\"\",VLOOKUP($A25,SPRINT!AD$7:AJ$50,6,0))","v":2},{"$f":"IF(ISNA(VLOOKUP($A25,SPRINT!AD$7:AJ$50,7,0)),\"\",VLOOKUP($A25,SPRINT!AD$7:AJ$50,7,0))","v":18},{"$f":"IF($A25=\"\",\"\",VLOOKUP($A25,INSCRITS!$D$4:$W$506,11,0))","v":"X"},{"$f":"IF(ISNA(VLOOKUP($A25,BATONS!AD$7:AJ$51,6,0)),\"\",VLOOKUP($A25,BATONS!AD$7:AJ$51,6,0))","v":""},{"$f":"IF(ISNA(VLOOKUP($A25,BATONS!AD$7:AJ$51,7,0)),\"\",VLOOKUP($A25,BATONS!AD$7:AJ$51,7,0))","v":""},{"$f":"IF($A25=\"\",\"\",VLOOKUP($A25,INSCRITS!$D$4:$W$506,12,0))","v":"X"},{"$f":"IF(ISNA(VLOOKUP($A25,PLANCHE!AC$7:AI$52,6,0)),\"\",VLOOKUP($A25,PLANCHE!AC$7:AI$52,6,0))","v":""},{"$f":"IF(ISNA(VLOOKUP($A25,PLANCHE!AC$7:AI$52,7,0)),\"\",VLOOKUP($A25,PLANCHE!AC$7:AI$52,7,0))","v":""},{"$f":"IF($A25=\"\",\"\",VLOOKUP($A25,INSCRITS!$D$4:$W$506,13,0))","v":"X"},{"$f":"IF(ISNA(VLOOKUP($A25,NAGE!N$7:T$52,6,0)),\"\",VLOOKUP($A25,NAGE!N$7:T$52,6,0))","v":19},{"$f":"IF(ISNA(VLOOKUP($A25,NAGE!N$7:T$52,7,0)),\"\",VLOOKUP($A25,NAGE!N$7:T$52,7,0))","v":0},{"$f":"IF($A25=\"\",\"\",VLOOKUP($A25,INSCRITS!$D$4:$W$506,14,0))","v":"X"},{"$f":"IF(ISNA(VLOOKUP($A25,SURFSKI!AC$8:AI$53,6,0)),\"\",VLOOKUP($A25,SURFSKI!AC$8:AI$53,6,0))","v":""},{"$f":"IF(ISNA(VLOOKUP($A25,SURFSKI!AC$8:AI$53,7,0)),\"\",VLOOKUP($A25,SURFSKI!AC$8:AI$53,7,0))","v":""},{"$f":"IF($A25=\"\",\"\",VLOOKUP($A25,INSCRITS!$D$4:$W$506,15,0))","v":"X"},{"$f":"IF(ISNA(VLOOKUP($A25,OCEANMAN!AD$7:AJ$52,6,0)),\"\",VLOOKUP($A25,OCEANMAN!AD$7:AJ$52,6,0))","v":""},{"$f":"IF(ISNA(VLOOKUP($A25,OCEANMAN!AD$7:AJ$52,7,0)),\"\",VLOOKUP($A25,OCEANMAN!AD$7:AJ$52,7,0))","v":""},{"$f":"IF($A25=\"\",\"\",VLOOKUP($A25,INSCRITS!$D$4:$W$506,16,0))","v":0},{"$f":"IF(ISNA(VLOOKUP($A25,CNC!N$7:AC$52,6,0)),\"\",VLOOKUP($A25,CNC!N$7:AC$52,6,0))","v":""},{"$f":"IF(ISNA(VLOOKUP($A25,CNC!N$7:AC$52,7,0)),\"\",VLOOKUP($A25,CNC!N$7:AC$52,7,0))","v":""},18,{"$f":"IF($A25=\"\",\"\",VLOOKUP($A25,INSCRITS!$D$4:$W$506,16,0))","v":0},null,{"$f":"IF(AG25=\"\",\"\",VLOOKUP(AG25,[0]!Relais,2))","v":""},{"$f":"IF($A25=\"\",\"\",VLOOKUP($A25,INSCRITS!$D$4:$W$506,17,0))","v":0},null,{"$f":"IF(AJ25=\"\",\"\",VLOOKUP(AJ25,[0]!Relais,2))","v":""},{"$f":"IF($A25=\"\",\"\",VLOOKUP($A25,INSCRITS!$D$4:$W$506,18,0))","v":0},null,{"$f":"IF(AM25=\"\",\"\",VLOOKUP(AM25,[0]!Relais,2))","v":""},{"$f":"IF($A25=\"\",\"\",VLOOKUP($A25,INSCRITS!$D$4:$W$506,19,0))","v":0},null,{"$f":"IF(AP25=\"\",\"\",VLOOKUP(AP25,[0]!Relais,2))","v":""},0,18]
[183,{"$f":"IF($A26=\"\",\"\",VLOOKUP($A26,INSCRITS!$D$4:$W$501,2,0))","v":0},{"$f":"IF($A26=\"\",\"\",VLOOKUP($A26,INSCRITS!$D$4:$W$501,3,0))","v":1993},{"$f":"IF($A26=\"\",\"\",VLOOKUP($A26,INSCRITS!$D$4:$W$501,4,0))","v":"H"},{"$f":"IF($A26=\"\",\"\",VLOOKUP($A26,INSCRITS!$D$4:$W$501,5,0))","v":"00:00:00"},{"$f":"IF($A26=\"\",\"\",VLOOKUP($A26,INSCRITS!$D$4:$W$501,6,0))","v":"BLANC"},{"$f":"IF($A26=\"\",\"\",VLOOKUP($A26,INSCRITS!$D$4:$W$501,7,0))","v":"Guillaume"},{"$f":"IF($A26=\"\",\"\",VLOOKUP($A26,INSCRITS!$D$4:$W$501,8,0))","v":"Junior"},{"$f":"IF($A26=\"\",\"\",VLOOKUP($A26,INSCRITS!$D$4:$W$501,9,0))","v":"ENA"},{"$f":"IF($A26=\"\",\"\",VLOOKUP($A26,INSCRITS!$D$4:$W$506,10,0))","v":"X"},{"$f":"IF(ISNA(VLOOKUP($A26,SPRINT!AD$7:AJ$50,6,0)),\"\",VLOOKUP($A26,SPRINT!AD$7:AJ$50,6,0))","v":4},{"$f":"IF(ISNA(VLOOKUP($A26,SPRINT!AD$7:AJ$50,7,0)),\"\",VLOOKUP($A26,SPRINT!AD$7:AJ$50,7,0))","v":14},{"$f":"IF($A26=\"\",\"\",VLOOKUP($A26,INSCRITS!$D$4:$W$506,11,0))","v":"X"},{"$f":"IF(ISNA(VLOOKUP($A26,BATONS!AD$7:AJ$51,6,0)),\"\",VLOOKUP($A26,BATONS!AD$7:AJ$51,6,0))","v":""},{"$f":"IF(ISNA(VLOOKUP($A26,BATONS!AD$7:AJ$51,7,0)),\"\",VLOOKUP($A26,BATONS!AD$7:AJ$51,7,0))","v":""},{"$f":"IF($A26=\"\",\"\",VLOOKUP($A26,INSCRITS!$D$4:$W$506,12,0))","v":"X"},{"$f":"IF(ISNA(VLOOKUP($A26,PLANCHE!AC$7:AI$52,6,0)),\"\",VLOOKUP($A26,PLANCHE!AC$7:AI$52,6,0))","v":8},{"$f":"IF(ISNA(VLOOKUP($A26,PLANCHE!AC$7:AI$52,7,0)),\"\",VLOOKUP($A26,PLANCHE!AC$7:AI$52,7,0))","v":10},{"$f":"IF($A26=\"\",\"\",VLOOKUP($A26,INSCRITS!$D$4:$W$506,13,0))","v":"X"},{"$f":"IF(ISNA(VLOOKUP($A26,NAGE!N$7:T$52,6,0)),\"\",VLOOKUP($A26,NAGE!N$7:T$52,6,0))","v":3},{"$f":"IF(ISNA(VLOOKUP($A26,NAGE!N$7:T$52,7,0)),\"\",VLOOKUP($A26,NAGE!N$7:T$52,7,0))","v":16},{"$f":"IF($A26=\"\",\"\",VLOOKUP($A26,INSCRITS!$D$4:$W$506,14,0))","v":"X"},{"$f":"IF(ISNA(VLOOKUP($A26,SURFSKI!AC$8:AI$53,6,0)),\"\",VLOOKUP($A26,SURFSKI!AC$8:AI$53,6,0))","v":9},{"$f":"IF(ISNA(VLOOKUP($A26,SURFSKI!AC$8:AI$53,7,0)),\"\",VLOOKUP($A26,SURFSKI!AC$8:AI$53,7,0))","v":8},{"$f":"IF($A26=\"\",\"\",VLOOKUP($A26,INSCRITS!$D$4:$W$506,15,0))","v":"X"},{"$f":"IF(ISNA(VLOOKUP($A26,OCEANMAN!AD$7:AJ$52,6,0)),\"\",VLOOKUP($A26,OCEANMAN!AD$7:AJ$52,6,0))","v":4},{"$f":"IF(ISNA(VLOOKUP($A26,OCEANMAN!AD$7:AJ$52,7,0)),\"\",VLOOKUP($A26,OCEANMAN!AD$7:AJ$52,7,0))","v":14},{"$f":"IF($A26=\"\",\"\",VLOOKUP($A26,INSCRITS!$D$4:$W$506,16,0))","v":0},{"$f":"IF(ISNA(VLOOKUP($A26,CNC!N$7:AC$52,6,0)),\"\",VLOOKUP($A26,CNC!N$7:AC$52,6,0))","v":4},{"$f":"IF(ISNA(VLOOKUP($A26,CNC!N$7:AC$52,7,0)),\"\",VLOOKUP($A26,CNC!N$7:AC$52,7,0))","v":14},76,{"$f":"IF($A26=\"\",\"\",VLOOKUP($A26,INSCRITS!$D$4:$W$506,16,0))","v":0},null,{"$f":"IF(AG26=\"\",\"\",VLOOKUP(AG26,[0]!Relais,2))","v":""},{"$f":"IF($A26=\"\",\"\",VLOOKUP($A26,INSCRITS!$D$4:$W$506,17,0))","v":0},null,{"$f":"IF(AJ26=\"\",\"\",VLOOKUP(AJ26,[0]!Relais,2))","v":""},{"$f":"IF($A26=\"\",\"\",VLOOKUP($A26,INSCRITS!$D$4:$W$506,18,0))","v":0},null,{"$f":"IF(AM26=\"\",\"\",VLOOKUP(AM26,[0]!Relais,2))","v":""},{"$f":"IF($A26=\"\",\"\",VLOOKUP($A26,INSCRITS!$D$4:$W$506,19,0))","v":0},null,{"$f":"IF(AP26=\"\",\"\",VLOOKUP(AP26,[0]!Relais,2))","v":""},0,76]
[184,{"$f":"IF($A27=\"\",\"\",VLOOKUP($A27,INSCRITS!$D$4:$W$501,2,0))","v":0},{"$f":"IF($A27=\"\",\"\",VLOOKUP($A27,INSCRITS!$D$4:$W$501,3,0))","v":1993},{"$f":"IF($A27=\"\",\"\",VLOOKUP($A27,INSCRITS!$D$4:$W$501,4,0))","v":"H"},{"$f":"IF($A27=\"\",\"\",VLOOKUP($A27,INSCRITS!$D$4:$W$501,5,0))","v":"00:00:00"},{"$f":"IF($A27=\"\",\"\",VLOOKUP($A27,INSCRITS!$D$4:$W$501,6,0))","v":"BONNAFONT"},{"$f":"IF($A27=\"\",\"\",VLOOKUP($A27,INSCRITS!$D$4:$W$501,7,0))","v":"Charles"},{"$f":"IF($A27=\"\",\"\",VLOOKUP($A27,INSCRITS!$D$4:$W$501,8,0))","v":"Junior"},{"$f":"IF($A27=\"\",\"\",VLOOKUP($A27,INSCRITS!$D$4:$W$501,9,0))","v":"ENA"},{"$f":"IF($A27=\"\",\"\",VLOOKUP($A27,INSCRITS!$D$4:$W$506,10,0))","v":"X"},{"$f":"IF(ISNA(VLOOKUP($A27,SPRINT!AD$7:AJ$50,6,0)),\"\",VLOOKUP($A27,SPRINT!AD$7:AJ$50,6,0))","v":""},{"$f":"IF(ISNA(VLOOKUP($A27,SPRINT!AD$7:AJ$50,7,0)),\"\",VLOOKUP($A27,SPRINT!AD$7:AJ$50,7,0))","v":""},{"$f":"IF($A27=\"\",\"\",VLOOKUP($A27,INSCRITS!$D$4:$W$506,11,0))","v":"X"},{"$f":"IF(ISNA(VLOOKUP($A27,BATONS!AD$7:AJ$51,6,0)),\"\",VLOOKUP($A27,BATONS!AD$7:AJ$51,6,0))","v":""},{"$f":"IF(ISNA(VLOOKUP($A27,BATONS!AD$7:AJ$51,7,0)),\"\",VLOOKUP($A27,BATONS!AD$7:AJ$51,7,0))","v":""},{"$f":"IF($A27=\"\",\"\",VLOOKUP($A27,INSCRITS!$D$4:$W$506,12,0))","v":"X"},{"$f":"IF(ISNA(VLOOKUP($A27,PLANCHE!AC$7:AI$52,6,0)),\"\",VLOOKUP($A27,PLANCHE!AC$7:AI$52,6,0))","v":""},{"$f":"IF(ISNA(VLOOKUP($A27,PLANCHE!AC$7:AI$52,7,0)),\"\",VLOOKUP($A27,PLANCHE!AC$7:AI$52,7,0))","v":""},{"$f":"IF($A27=\"\",\"\",VLOOKUP($A27,INSCRITS!$D$4:$W$506,13,0))","v":"X"},{"$f":"IF(ISNA(VLOOKUP($A27,NAGE!N$7:T$52,6,0)),\"\",VLOOKUP($A27,NAGE!N$7:T$52,6,0))","v":6},{"$f":"IF(ISNA(VLOOKUP($A27,NAGE!N$7:T$52,7,0)),\"\",VLOOKUP($A27,NAGE!N$7:T$52,7,0))","v":12},{"$f":"IF($A27=\"\",\"\",VLOOKUP($A27,INSCRITS!$D$4:$W$506,14,0))","v":0},{"$f":"IF(ISNA(VLOOKUP($A27,SURFSKI!AC$8:AI$53,6,0)),\"\",VLOOKUP($A27,SURFSKI!AC$8:AI$53,6,0))","v":""},{"$f":"IF(ISNA(VLOOKUP($A27,SURFSKI!AC$8:AI$53,7,0)),\"\",VLOOKUP($A27,SURFSKI!AC$8:AI$53,7,0))","v":""},{"$f":"IF($A27=\"\",\"\",VLOOKUP($A27,INSCRITS!$D$4:$W$506,15,0))","v":0},{"$f":"IF(ISNA(VLOOKUP($A27,OCEANMAN!AD$7:AJ$52,6,0)),\"\",VLOOKUP($A27,OCEANMAN!AD$7:AJ$52,6,0))","v":""},{"$f":"IF(ISNA(VLOOKUP($A27,OCEANMAN!AD$7:AJ$52,7,0)),\"\",VLOOKUP($A27,OCEANMAN!AD$7:AJ$52,7,0))","v":""},{"$f":"IF($A27=\"\",\"\",VLOOKUP($A27,INSCRITS!$D$4:$W$506,16,0))","v":0},{"$f":"IF(ISNA(VLOOKUP($A27,CNC!N$7:AC$52,6,0)),\"\",VLOOKUP($A27,CNC!N$7:AC$52,6,0))","v":12},{"$f":"IF(ISNA(VLOOKUP($A27,CNC!N$7:AC$52,7,0)),\"\",VLOOKUP($A27,CNC!N$7:AC$52,7,0))","v":5},17,{"$f":"IF($A27=\"\",\"\",VLOOKUP($A27,INSCRITS!$D$4:$W$506,16,0))","v":0},null,{"$f":"IF(AG27=\"\",\"\",VLOOKUP(AG27,[0]!Relais,2))","v":""},{"$f":"IF($A27=\"\",\"\",VLOOKUP($A27,INSCRITS!$D$4:$W$506,17,0))","v":0},null,{"$f":"IF(AJ27=\"\",\"\",VLOOKUP(AJ27,[0]!Relais,2))","v":""},{"$f":"IF($A27=\"\",\"\",VLOOKUP($A27,INSCRITS!$D$4:$W$506,18,0))","v":0},null,{"$f":"IF(AM27=\"\",\"\",VLOOKUP(AM27,[0]!Relais,2))","v":""},{"$f":"IF($A27=\"\",\"\",VLOOKUP($A27,INSCRITS!$D$4:$W$506,19,0))","v":0},null,{"$f":"IF(AP27=\"\",\"\",VLOOKUP(AP27,[0]!Relais,2))","v":""},0,17]
[185,{"$f":"IF($A28=\"\",\"\",VLOOKUP($A28,INSCRITS!$D$4:$W$501,2,0))","v":0},{"$f":"IF($A28=\"\",\"\",VLOOKUP($A28,INSCRITS!$D$4:$W$501,3,0))","v":1993},{"$f":"IF($A28=\"\",\"\",VLOOKUP($A28,INSCRITS!$D$4:$W$501,4,0))","v":"H"},{"$f":"IF($A28=\"\",\"\",VLOOKUP($A28,INSCRITS!$D$4:$W$501,5,0))","v":"00:00:00"},{"$f":"IF($A28=\"\",\"\",VLOOKUP($A28,INSCRITS!$D$4:$W$501,6,0))","v":"COUTANCEAU"},{"$f":"IF($A28=\"\",\"\",VLOOKUP($A28,INSCRITS!$D$4:$W$501,7,0))","v":"Guillaume"},{"$f":"IF($A28=\"\",\"\",VLOOKUP($A28,INSCRITS!$D$4:$W$501,8,0))","v":"Junior"},{"$f":"IF($A28=\"\",\"\",VLOOKUP($A28,INSCRITS!$D$4:$W$501,9,0))","v":"ENA"},{"$f":"IF($A28=\"\",\"\",VLOOKUP($A28,INSCRITS!$D$4:$W$506,10,0))","v":0},{"$f":"IF(ISNA(VLOOKUP($A28,SPRINT!AD$7:AJ$50,6,0)),\"\",VLOOKUP($A28,SPRINT!AD$7:AJ$50,6,0))","v":""},{"$f":"IF(ISNA(VLOOKUP($A28,SPRINT!AD$7:AJ$50,7,0)),\"\",VLOOKUP($A28,SPRINT!AD$7:AJ$50,7,0))","v":""},{"$f":"IF($A28=\"\",\"\",VLOOKUP($A28,INSCRITS!$D$4:$W$506,11,0))","v":0},{"$f":"IF(ISNA(VLOOKUP($A28,BATONS!AD$7:AJ$51,6,0)),\"\",VLOOKUP($A28,BATONS!AD$7:AJ$51,6,0))","v":""},{"$f":"IF(ISNA(VLOOKUP($A28,BATONS!AD$7:AJ$51,7,0)),\"\",VLOOKUP($A28,BATONS!AD$7:AJ$51,7,0))","v":""},{"$f":"IF($A28=\"\",\"\",VLOOKUP($A28,INSCRITS!$D$4:$W$506,12,0))","v":"X"},{"$f":"IF(ISNA(VLOOKUP($A28,PLANCHE!AC$7:AI$52,6,0)),\"\",VLOOKUP($A28,PLANCHE!AC$7:AI$52,6,0))","v":6},{"$f":"IF(ISNA(VLOOKUP($A28,PLANCHE!AC$7:AI$52,7,0)),\"\",VLOOKUP($A28,PLANCHE!AC$7:AI$52,7,0))","v":12},{"$f":"IF($A28=\"\",\"\",VLOOKUP($A28,INSCRITS!$D$4:$W$506,13,0))","v":"X"},{"$f":"IF(ISNA(VLOOKUP($A28,NAGE!N$7:T$52,6,0)),\"\",VLOOKUP($A28,NAGE!N$7:T$52,6,0))","v":1},{"$f":"IF(ISNA(VLOOKUP($A28,NAGE!N$7:T$52,7,0)),\"\",VLOOKUP($A28,NAGE!N$7:T$52,7,0))","v":20},{"$f":"IF($A28=\"\",\"\",VLOOKUP($A28,INSCRITS!$D$4:$W$506,14,0))","v":0},{"$f":"IF(ISNA(VLOOKUP($A28,SURFSKI!AC$8:AI$53,6,0)),\"\",VLOOKUP($A28,SURFSKI!AC$8:AI$53,6,0))","v":""},{"$f":"IF(ISNA(VLOOKUP($A28,SURFSKI!AC$8:AI$53,7,0)),\"\",VLOOKUP($A28,SURFSKI!AC$8:AI$53,7,0))","v":""},{"$f":"IF($A28=\"\",\"\",VLOOKUP($A28,INSCRITS!$D$4:$W$506,15,0))","v":0},{"$f":"IF(ISNA(VLOOKUP($A28,OCEANMAN!AD$7:AJ$52,6,0)),\"\",VLOOKUP($A28,OCEANMAN!AD$7:AJ$52,6,0))","v":""},{"$f":"IF(ISNA(VLOOKUP($A28,OCEANMAN!AD$7:AJ$52,7,0)),\"\",VLOOKUP($A28,OCEANMAN!AD$7:AJ$52,7,0))","v":""},{"$f":"IF($A28=\"\",\"\",VLOOKUP($A28,INSCRITS!$D$4:$W$506,16,0))","v":0},{"$f":"IF(ISNA(VLOOKUP($A28,CNC!N$7:AC$52,6,0)),\"\",VLOOKUP($A28,CNC!N$7:AC$52,6,0))","v":5},{"$f":"IF(ISNA(VLOOKUP($A28,CNC!N$7:AC$52,7,0)),\"\",VLOOKUP($A28,CNC!N$7:AC$52,7,0))","v":13},45,{"$f":"IF($A28=\"\",\"\",VLOOKUP($A28,INSCRITS!$D$4:$W$506,16,0))","v":0},null,{"$f":"IF(AG28=\"\",\"\",VLOOKUP(AG28,[0]!Relais,2))","v":""},{"$f":"IF($A28=\"\",\"\",VLOOKUP($A28,INSCRITS!$D$4:$W$506,17,0))","v":0},null,{"$f":"IF(AJ28=\"\",\"\",VLOOKUP(AJ28,[0]!Relais,2))","v":""},{"$f":"IF($A28=\"\",\"\",VLOOKUP($A28,INSCRITS!$D$4:$W$506,18,0))","v":0},null,{"$f":"IF(AM28=\"\",\"\",VLOOKUP(AM28,[0]!Relais,2))","v":""},{"$f":"IF($A28=\"\",\"\",VLOOKUP($A28,INSCRITS!$D$4:$W$506,19,0))","v":0},null,{"$f":"IF(AP28=\"\",\"\",VLOOKUP(AP28,[0]!Relais,2))","v":""},0,45]
[186,{"$f":"IF($A29=\"\",\"\",VLOOKUP($A29,INSCRITS!$D$4:$W$501,2,0))","v":0},{"$f":"IF($A29=\"\",\"\",VLOOKUP($A29,INSCRITS!$D$4:$W$501,3,0))","v":1994},{"$f":"IF($A29=\"\",\"\",VLOOKUP($A29,INSCRITS!$D$4:$W$501,4,0))","v":"H"},{"$f":"IF($A29=\"\",\"\",VLOOKUP($A29,INSCRITS!$D$4:$W$501,5,0))","v":"00:00:00"},{"$f":"IF($A29=\"\",\"\",VLOOKUP($A29,INSCRITS!$D$4:$W$501,6,0))","v":"CARISSAN"},{"$f":"IF($A29=\"\",\"\",VLOOKUP($A29,INSCRITS!$D$4:$W$501,7,0))","v":"Ludovic"},{"$f":"IF($A29=\"\",\"\",VLOOKUP($A29,INSCRITS!$D$4:$W$501,8,0))","v":"Junior"},{"$f":"IF($A29=\"\",\"\",VLOOKUP($A29,INSCRITS!$D$4:$W$501,9,0))","v":"epstn"},{"$f":"IF($A29=\"\",\"\",VLOOKUP($A29,INSCRITS!$D$4:$W$506,10,0))","v":"X"},{"$f":"IF(ISNA(VLOOKUP($A29,SPRINT!AD$7:AJ$50,6,0)),\"\",VLOOKUP($A29,SPRINT!AD$7:AJ$50,6,0))","v":""},{"$f":"IF(ISNA(VLOOKUP($A29,SPRINT!AD$7:AJ$50,7,0)),\"\",VLOOKUP($A29,SPRINT!AD$7:AJ$50,7,0))","v":""},{"$f":"IF($A29=\"\",\"\",VLOOKUP($A29,INSCRITS!$D$4:$W$506,11,0))","v":"X"},{"$f":"IF(ISNA(VLOOKUP($A29,BATONS!AD$7:AJ$51,6,0)),\"\",VLOOKUP($A29,BATONS!AD$7:AJ$51,6,0))","v":""},{"$f":"IF(ISNA(VLOOKUP($A29,BATONS!AD$7:AJ$51,7,0)),\"\",VLOOKUP($A29,BATONS!AD$7:AJ$51,7,0))","v":""},{"$f":"IF($A29=\"\",\"\",VLOOKUP($A29,INSCRITS!$D$4:$W$506,12,0))","v":"X"},{"$f":"IF(ISNA(VLOOKUP($A29,PLANCHE!AC$7:AI$52,6,0)),\"\",VLOOKUP($A29,PLANCHE!AC$7:AI$52,6,0))","v":""},{"$f":"IF(ISNA(VLOOKUP($A29,PLANCHE!AC$7:AI$52,7,0)),\"\",VLOOKUP($A29,PLANCHE!AC$7:AI$52,7,0))","v":""},{"$f":"IF($A29=\"\",\"\",VLOOKUP($A29,INSCRITS!$D$4:$W$506,13,0))","v":"X"},{"$f":"IF(ISNA(VLOOKUP($A29,NAGE!N$7:T$52,6,0)),\"\",VLOOKUP($A29,NAGE!N$7:T$52,6,0))","v":2},{"$f":"IF(ISNA(VLOOKUP($A29,NAGE!N$7:T$52,7,0)),\"\",VLOOKUP($A29,NAGE!N$7:T$52,7,0))","v":18},{"$f":"IF($A29=\"\",\"\",VLOOKUP($A29,INSCRITS!$D$4:$W$506,14,0))","v":0},{"$f":"IF(ISNA(VLOOKUP($A29,SURFSKI!AC$8:AI$53,6,0)),\"\",VLOOKUP($A29,SURFSKI!AC$8:AI$53,6,0))","v":""},{"$f":"IF(ISNA(VLOOKUP($A29,SURFSKI!AC$8:AI$53,7,0)),\"\",VLOOKUP($A29,SURFSKI!AC$8:AI$53,7,0))","v":""},{"$f":"IF($A29=\"\",\"\",VLOOKUP($A29,INSCRITS!$D$4:$W$506,15,0))","v":0},{"$f":"IF(ISNA(VLOOKUP($A29,OCEANMAN!AD$7:AJ$52,6,0)),\"\",VLOOKUP($A29,OCEANMAN!AD$7:AJ$52,6,0))","v":""},{"$f":"IF(ISNA(VLOOKUP($A29,OCEANMAN!AD$7:AJ$52,7,0)),\"\",VLOOKUP($A29,OCEANMAN!AD$7:AJ$52,7,0))","v":""},{"$f":"IF($A29=\"\",\"\",VLOOKUP($A29,INSCRITS!$D$4:$W$506,16,0))","v":"X"},{"$f":"IF(ISNA(VLOOKUP($A29,CNC!N$7:AC$52,6,0)),\"\",VLOOKUP($A29,CNC!N$7:AC$52,6,0))","v":2},{"$f":"IF(ISNA(VLOOKUP($A29,CNC!N$7:AC$52,7,0)),\"\",VLOOKUP($A29,CNC!N$7:AC$52,7,0))","v":18},36,{"$f":"IF($A29=\"\",\"\",VLOOKUP($A29,INSCRITS!$D$4:$W$506,16,0))","v":"X"},null,{"$f":"IF(AG29=\"\",\"\",VLOOKUP(AG29,[0]!Relais,2))","v":""},{"$f":"IF($A29=\"\",\"\",VLOOKUP($A29,INSCRITS!$D$4:$W$506,17,0))","v":0},null,{"$f":"IF(AJ29=\"\",\"\",VLOOKUP(AJ29,[0]!Relais,2))","v":""},{"$f":"IF($A29=\"\",\"\",VLOOKUP($A29,INSCRITS!$D$4:$W$506,18,0))","v":0},null,{"$f":"IF(AM29=\"\",\"\",VLOOKUP(AM29,[0]!Relais,2))","v":""},{"$f":"IF($A29=\"\",\"\",VLOOKUP($A29,INSCRITS!$D$4:$W$506,19,0))","v":0},null,{"$f":"IF(AP29=\"\",\"\",VLOOKUP(AP29,[0]!Relais,2))","v":""},0,36]
[187,{"$f":"IF($A30=\"\",\"\",VLOOKUP($A30,INSCRITS!$D$4:$W$501,2,0))","v":0},{"$f":"IF($A30=\"\",\"\",VLOOKUP($A30,INSCRITS!$D$4:$W$501,3,0))","v":1993},{"$f":"IF($A30=\"\",\"\",VLOOKUP($A30,INSCRITS!$D$4:$W$501,4,0))","v":"H"},{"$f":"IF($A30=\"\",\"\",VLOOKUP($A30,INSCRITS!$D$4:$W$501,5,0))","v":"00:00:00"},{"$f":"IF($A30=\"\",\"\",VLOOKUP($A30,INSCRITS!$D$4:$W$501,6,0))","v":"DEHEZ"},{"$f":"IF($A30=\"\",\"\",VLOOKUP($A30,INSCRITS!$D$4:$W$501,7,0))","v":"Rémy"},{"$f":"IF($A30=\"\",\"\",VLOOKUP($A30,INSCRITS!$D$4:$W$501,8,0))","v":"Junior"},{"$f":"IF($A30=\"\",\"\",VLOOKUP($A30,INSCRITS!$D$4:$W$501,9,0))","v":"HSC"},{"$f":"IF($A30=\"\",\"\",VLOOKUP($A30,INSCRITS!$D$4:$W$506,10,0))","v":"X"},{"$f":"IF(ISNA(VLOOKUP($A30,SPRINT!AD$7:AJ$50,6,0)),\"\",VLOOKUP($A30,SPRINT!AD$7:AJ$50,6,0))","v":""},{"$f":"IF(ISNA(VLOOKUP($A30,SPRINT!AD$7:AJ$50,7,0)),\"\",VLOOKUP($A30,SPRINT!AD$7:AJ$50,7,0))","v":""},{"$f":"IF($A30=\"\",\"\",VLOOKUP($A30,INSCRITS!$D$4:$W$506,11,0))","v":"X"},{"$f":"IF(ISNA(VLOOKUP($A30,BATONS!AD$7:AJ$51,6,0)),\"\",VLOOKUP($A30,BATONS!AD$7:AJ$51,6,0))","v":6},{"$f":"IF(ISNA(VLOOKUP($A30,BATONS!AD$7:AJ$51,7,0)),\"\",VLOOKUP($A30,BATONS!AD$7:AJ$51,7,0))","v":12},{"$f":"IF($A30=\"\",\"\",VLOOKUP($A30,INSCRITS!$D$4:$W$506,12,0))","v":"X"},{"$f":"IF(ISNA(VLOOKUP($A30,PLANCHE!AC$7:AI$52,6,0)),\"\",VLOOKUP($A30,PLANCHE!AC$7:AI$52,6,0))","v":1},{"$f":"IF(ISNA(VLOOKUP($A30,PLANCHE!AC$7:AI$52,7,0)),\"\",VLOOKUP($A30,PLANCHE!AC$7:AI$52,7,0))","v":20},{"$f":"IF($A30=\"\",\"\",VLOOKUP($A30,INSCRITS!$D$4:$W$506,13,0))","v":"X"},{"$f":"IF(ISNA(VLOOKUP($A30,NAGE!N$7:T$52,6,0)),\"\",VLOOKUP($A30,NAGE!N$7:T$52,6,0))","v":4},{"$f":"IF(ISNA(VLOOKUP($A30,NAGE!N$7:T$52,7,0)),\"\",VLOOKUP($A30,NAGE!N$7:T$52,7,0))","v":14},{"$f":"IF($A30=\"\",\"\",VLOOKUP($A30,INSCRITS!$D$4:$W$506,14,0))","v":"X"},{"$f":"IF(ISNA(VLOOKUP($A30,SURFSKI!AC$8:AI$53,6,0)),\"\",VLOOKUP($A30,SURFSKI!AC$8:AI$53,6,0))","v":1},{"$f":"IF(ISNA(VLOOKUP($A30,SURFSKI!AC$8:AI$53,7,0)),\"\",VLOOKUP($A30,SURFSKI!AC$8:AI$53,7,0))","v":20},{"$f":"IF($A30=\"\",\"\",VLOOKUP($A30,INSCRITS!$D$4:$W$506,15,0))","v":"X"},{"$f":"IF(ISNA(VLOOKUP($A30,OCEANMAN!AD$7:AJ$52,6,0)),\"\",VLOOKUP($A30,OCEANMAN!AD$7:AJ$52,6,0))","v":1},{"$f":"IF(ISNA(VLOOKUP($A30,OCEANMAN!AD$7:AJ$52,7,0)),\"\",VLOOKUP($A30,OCEANMAN!AD$7:AJ$52,7,0))","v":20},{"$f":"IF($A30=\"\",\"\",VLOOKUP($A30,INSCRITS!$D$4:$W$506,16,0))","v":0},{"$f":"IF(ISNA(VLOOKUP($A30,CNC!N$7:AC$52,6,0)),\"\",VLOOKUP($A30,CNC!N$7:AC$52,6,0))","v":1},{"$f":"IF(ISNA(VLOOKUP($A30,CNC!N$7:AC$52,7,0)),\"\",VLOOKUP($A30,CNC!N$7:AC$52,7,0))","v":20},106,{"$f":"IF($A30=\"\",\"\",VLOOKUP($A30,INSCRITS!$D$4:$W$506,16,0))","v":0},null,{"$f":"IF(AG30=\"\",\"\",VLOOKUP(AG30,[0]!Relais,2))","v":""},{"$f":"IF($A30=\"\",\"\",VLOOKUP($A30,INSCRITS!$D$4:$W$506,17,0))","v":0},null,{"$f":"IF(AJ30=\"\",\"\",VLOOKUP(AJ30,[0]!Relais,2))","v":""},{"$f":"IF($A30=\"\",\"\",VLOOKUP($A30,INSCRITS!$D$4:$W$506,18,0))","v":0},null,{"$f":"IF(AM30=\"\",\"\",VLOOKUP(AM30,[0]!Relais,2))","v":""},{"$f":"IF($A30=\"\",\"\",VLOOKUP($A30,INSCRITS!$D$4:$W$506,19,0))","v":0},null,{"$f":"IF(AP30=\"\",\"\",VLOOKUP(AP30,[0]!Relais,2))","v":""},0,106]
[188,{"$f":"IF($A31=\"\",\"\",VLOOKUP($A31,INSCRITS!$D$4:$W$501,2,0))","v":0},{"$f":"IF($A31=\"\",\"\",VLOOKUP($A31,INSCRITS!$D$4:$W$501,3,0))","v":1993},{"$f":"IF($A31=\"\",\"\",VLOOKUP($A31,INSCRITS!$D$4:$W$501,4,0))","v":"H"},{"$f":"IF($A31=\"\",\"\",VLOOKUP($A31,INSCRITS!$D$4:$W$501,5,0))","v":"00:00:00"},{"$f":"IF($A31=\"\",\"\",VLOOKUP($A31,INSCRITS!$D$4:$W$501,6,0))","v":"FERRIER"},{"$f":"IF($A31=\"\",\"\",VLOOKUP($A31,INSCRITS!$D$4:$W$501,7,0))","v":"Paul"},{"$f":"IF($A31=\"\",\"\",VLOOKUP($A31,INSCRITS!$D$4:$W$501,8,0))","v":"Junior"},{"$f":"IF($A31=\"\",\"\",VLOOKUP($A31,INSCRITS!$D$4:$W$501,9,0))","v":"HSC"},{"$f":"IF($A31=\"\",\"\",VLOOKUP($A31,INSCRITS!$D$4:$W$506,10,0))","v":"X"},{"$f":"IF(ISNA(VLOOKUP($A31,SPRINT!AD$7:AJ$50,6,0)),\"\",VLOOKUP($A31,SPRINT!AD$7:AJ$50,6,0))","v":3},{"$f":"IF(ISNA(VLOOKUP($A31,SPRINT!AD$7:AJ$50,7,0)),\"\",VLOOKUP($A31,SPRINT!AD$7:AJ$50,7,0))","v":16},{"$f":"IF($A31=\"\",\"\",VLOOKUP($A31,INSCRITS!$D$4:$W$506,11,0))","v":"X"},{"$f":"IF(ISNA(VLOOKUP($A31,BATONS!AD$7:AJ$51,6,0)),\"\",VLOOKUP($A31,BATONS!AD$7:AJ$51,6,0))","v":12},{"$f":"IF(ISNA(VLOOKUP($A31,BATONS!AD$7:AJ$51,7,0)),\"\",VLOOKUP($A31,BATONS!AD$7:AJ$51,7,0))","v":5},{"$f":"IF($A31=\"\",\"\",VLOOKUP($A31,INSCRITS!$D$4:$W$506,12,0))","v":"X"},{"$f":"IF(ISNA(VLOOKUP($A31,PLANCHE!AC$7:AI$52,6,0)),\"\",VLOOKUP($A31,PLANCHE!AC$7:AI$52,6,0))","v":15},{"$f":"IF(ISNA(VLOOKUP($A31,PLANCHE!AC$7:AI$52,7,0)),\"\",VLOOKUP($A31,PLANCHE!AC$7:AI$52,7,0))","v":2},{"$f":"IF($A31=\"\",\"\",VLOOKUP($A31,INSCRITS!$D$4:$W$506,13,0))","v":"X"},{"$f":"IF(ISNA(VLOOKUP($A31,NAGE!N$7:T$52,6,0)),\"\",VLOOKUP($A31,NAGE!N$7:T$52,6,0))","v":17},{"$f":"IF(ISNA(VLOOKUP($A31,NAGE!N$7:T$52,7,0)),\"\",VLOOKUP($A31,NAGE!N$7:T$52,7,0))","v":0},{"$f":"IF($A31=\"\",\"\",VLOOKUP($A31,INSCRITS!$D$4:$W$506,14,0))","v":0},{"$f":"IF(ISNA(VLOOKUP($A31,SURFSKI!AC$8:AI$53,6,0)),\"\",VLOOKUP($A31,SURFSKI!AC$8:AI$53,6,0))","v":""},{"$f":"IF(ISNA(VLOOKUP($A31,SURFSKI!AC$8:AI$53,7,0)),\"\",VLOOKUP($A31,SURFSKI!AC$8:AI$53,7,0))","v":""},{"$f":"IF($A31=\"\",\"\",VLOOKUP($A31,INSCRITS!$D$4:$W$506,15,0))","v":0},{"$f":"IF(ISNA(VLOOKUP($A31,OCEANMAN!AD$7:AJ$52,6,0)),\"\",VLOOKUP($A31,OCEANMAN!AD$7:AJ$52,6,0))","v":""},{"$f":"IF(ISNA(VLOOKUP($A31,OCEANMAN!AD$7:AJ$52,7,0)),\"\",VLOOKUP($A31,OCEANMAN!AD$7:AJ$52,7,0))","v":""},{"$f":"IF($A31=\"\",\"\",VLOOKUP($A31,INSCRITS!$D$4:$W$506,16,0))","v":0},{"$f":"IF(ISNA(VLOOKUP($A31,CNC!N$7:AC$52,6,0)),\"\",VLOOKUP($A31,CNC!N$7:AC$52,6,0))","v":""},{"$f":"IF(ISNA(VLOOKUP($A31,CNC!N$7:AC$52,7,0)),\"\",VLOOKUP($A31,CNC!N$7:AC$52,7,0))","v":""},23,{"$f":"IF($A31=\"\",\"\",VLOOKUP($A31,INSCRITS!$D$4:$W$506,16,0))","v":0},null,{"$f":"IF(AG31=\"\",\"\",VLOOKUP(AG31,[0]!Relais,2))","v":""},{"$f":"IF($A31=\"\",\"\",VLOOKUP($A31,INSCRITS!$D$4:$W$506,17,0))","v":0},null,{"$f":"IF(AJ31=\"\",\"\",VLOOKUP(AJ31,[0]!Relais,2))","v":""},{"$f":"IF($A31=\"\",\"\",VLOOKUP($A31,INSCRITS!$D$4:$W$506,18,0))","v":0},null,{"$f":"IF(AM31=\"\",\"\",VLOOKUP(AM31,[0]!Relais,2))","v":""},{"$f":"IF($A31=\"\",\"\",VLOOKUP($A31,INSCRITS!$D$4:$W$506,19,0))","v":0},null,{"$f":"IF(AP31=\"\",\"\",VLOOKUP(AP31,[0]!Relais,2))","v":""},0,23]
[189,{"$f":"IF($A32=\"\",\"\",VLOOKUP($A32,INSCRITS!$D$4:$W$501,2,0))","v":0},{"$f":"IF($A32=\"\",\"\",VLOOKUP($A32,INSCRITS!$D$4:$W$501,3,0))","v":1994},{"$f":"IF($A32=\"\",\"\",VLOOKUP($A32,INSCRITS!$D$4:$W$501,4,0))","v":"H"},{"$f":"IF($A32=\"\",\"\",VLOOKUP($A32,INSCRITS!$D$4:$W$501,5,0))","v":"00:00:00"},{"$f":"IF($A32=\"\",\"\",VLOOKUP($A32,INSCRITS!$D$4:$W$501,6,0))","v":"SOULE SUSBIELLE"},{"$f":"IF($A32=\"\",\"\",VLOOKUP($A32,INSCRITS!$D$4:$W$501,7,0))","v":"Xavier"},{"$f":"IF($A32=\"\",\"\",VLOOKUP($A32,INSCRITS!$D$4:$W$501,8,0))","v":"Junior"},{"$f":"IF($A32=\"\",\"\",VLOOKUP($A32,INSCRITS!$D$4:$W$501,9,0))","v":"HSC"},{"$f":"IF($A32=\"\",\"\",VLOOKUP($A32,INSCRITS!$D$4:$W$506,10,0))","v":0},{"$f":"IF(ISNA(VLOOKUP($A32,SPRINT!AD$7:AJ$50,6,0)),\"\",VLOOKUP($A32,SPRINT!AD$7:AJ$50,6,0))","v":""},{"$f":"IF(ISNA(VLOOKUP($A32,SPRINT!AD$7:AJ$50,7,0)),\"\",VLOOKUP($A32,SPRINT!AD$7:AJ$50,7,0))","v":""},{"$f":"IF($A32=\"\",\"\",VLOOKUP($A32,INSCRITS!$D$4:$W$506,11,0))","v":"X"},{"$f":"IF(ISNA(VLOOKUP($A32,BATONS!AD$7:AJ$51,6,0)),\"\",VLOOKUP($A32,BATONS!AD$7:AJ$51,6,0))","v":1},{"$f":"IF(ISNA(VLOOKUP($A32,BATONS!AD$7:AJ$51,7,0)),\"\",VLOOKUP($A32,BATONS!AD$7:AJ$51,7,0))","v":20},{"$f":"IF($A32=\"\",\"\",VLOOKUP($A32,INSCRITS!$D$4:$W$506,12,0))","v":0},{"$f":"IF(ISNA(VLOOKUP($A32,PLANCHE!AC$7:AI$52,6,0)),\"\",VLOOKUP($A32,PLANCHE!AC$7:AI$52,6,0))","v":""},{"$f":"IF(ISNA(VLOOKUP($A32,PLANCHE!AC$7:AI$52,7,0)),\"\",VLOOKUP($A32,PLANCHE!AC$7:AI$52,7,0))","v":""},{"$f":"IF($A32=\"\",\"\",VLOOKUP($A32,INSCRITS!$D$4:$W$506,13,0))","v":"X"},{"$f":"IF(ISNA(VLOOKUP($A32,NAGE!N$7:T$52,6,0)),\"\",VLOOKUP($A32,NAGE!N$7:T$52,6,0))","v":""},{"$f":"IF(ISNA(VLOOKUP($A32,NAGE!N$7:T$52,7,0)),\"\",VLOOKUP($A32,NAGE!N$7:T$52,7,0))","v":""},{"$f":"IF($A32=\"\",\"\",VLOOKUP($A32,INSCRITS!$D$4:$W$506,14,0))","v":0},{"$f":"IF(ISNA(VLOOKUP($A32,SURFSKI!AC$8:AI$53,6,0)),\"\",VLOOKUP($A32,SURFSKI!AC$8:AI$53,6,0))","v":""},{"$f":"IF(ISNA(VLOOKUP($A32,SURFSKI!AC$8:AI$53,7,0)),\"\",VLOOKUP($A32,SURFSKI!AC$8:AI$53,7,0))","v":""},{"$f":"IF($A32=\"\",\"\",VLOOKUP($A32,INSCRITS!$D$4:$W$506,15,0))","v":0},{"$f":"IF(ISNA(VLOOKUP($A32,OCEANMAN!AD$7:AJ$52,6,0)),\"\",VLOOKUP($A32,OCEANMAN!AD$7:AJ$52,6,0))","v":""},{"$f":"IF(ISNA(VLOOKUP($A32,OCEANMAN!AD$7:AJ$52,7,0)),\"\",VLOOKUP($A32,OCEANMAN!AD$7:AJ$52,7,0))","v":""},{"$f":"IF($A32=\"\",\"\",VLOOKUP($A32,INSCRITS!$D$4:$W$506,16,0))","v":0},{"$f":"IF(ISNA(VLOOKUP($A32,CNC!N$7:AC$52,6,0)),\"\",VLOOKUP($A32,CNC!N$7:AC$52,6,0))","v":""},{"$f":"IF(ISNA(VLOOKUP($A32,CNC!N$7:AC$52,7,0)),\"\",VLOOKUP($A32,CNC!N$7:AC$52,7,0))","v":""},20,{"$f":"IF($A32=\"\",\"\",VLOOKUP($A32,INSCRITS!$D$4:$W$506,16,0))","v":0},null,{"$f":"IF(AG32=\"\",\"\",VLOOKUP(AG32,[0]!Relais,2))","v":""},{"$f":"IF($A32=\"\",\"\",VLOOKUP($A32,INSCRITS!$D$4:$W$506,17,0))","v":0},null,{"$f":"IF(AJ32=\"\",\"\",VLOOKUP(AJ32,[0]!Relais,2))","v":""},{"$f":"IF($A32=\"\",\"\",VLOOKUP($A32,INSCRITS!$D$4:$W$506,18,0))","v":0},null,{"$f":"IF(AM32=\"\",\"\",VLOOKUP(AM32,[0]!Relais,2))","v":""},{"$f":"IF($A32=\"\",\"\",VLOOKUP($A32,INSCRITS!$D$4:$W$506,19,0))","v":0},null,{"$f":"IF(AP32=\"\",\"\",VLOOKUP(AP32,[0]!Relais,2))","v":""},0,20]
[190,{"$f":"IF($A33=\"\",\"\",VLOOKUP($A33,INSCRITS!$D$4:$W$501,2,0))","v":0},{"$f":"IF($A33=\"\",\"\",VLOOKUP($A33,INSCRITS!$D$4:$W$501,3,0))","v":1993},{"$f":"IF($A33=\"\",\"\",VLOOKUP($A33,INSCRITS!$D$4:$W$501,4,0))","v":"H"},{"$f":"IF($A33=\"\",\"\",VLOOKUP($A33,INSCRITS!$D$4:$W$501,5,0))","v":"00:00:00"},{"$f":"IF($A33=\"\",\"\",VLOOKUP($A33,INSCRITS!$D$4:$W$501,6,0))","v":"BLOUIN"},{"$f":"IF($A33=\"\",\"\",VLOOKUP($A33,INSCRITS!$D$4:$W$501,7,0))","v":"Roman"},{"$f":"IF($A33=\"\",\"\",VLOOKUP($A33,INSCRITS!$D$4:$W$501,8,0))","v":"Junior"},{"$f":"IF($A33=\"\",\"\",VLOOKUP($A33,INSCRITS!$D$4:$W$501,9,0))","v":"MIMIZAN SAUVETAGE"},{"$f":"IF($A33=\"\",\"\",VLOOKUP($A33,INSCRITS!$D$4:$W$506,10,0))","v":0},{"$f":"IF(ISNA(VLOOKUP($A33,SPRINT!AD$7:AJ$50,6,0)),\"\",VLOOKUP($A33,SPRINT!AD$7:AJ$50,6,0))","v":""},{"$f":"IF(ISNA(VLOOKUP($A33,SPRINT!AD$7:AJ$50,7,0)),\"\",VLOOKUP($A33,SPRINT!AD$7:AJ$50,7,0))","v":""},{"$f":"IF($A33=\"\",\"\",VLOOKUP($A33,INSCRITS!$D$4:$W$506,11,0))","v":0},{"$f":"IF(ISNA(VLOOKUP($A33,BATONS!AD$7:AJ$51,6,0)),\"\",VLOOKUP($A33,BATONS!AD$7:AJ$51,6,0))","v":""},{"$f":"IF(ISNA(VLOOKUP($A33,BATONS!AD$7:AJ$51,7,0)),\"\",VLOOKUP($A33,BATONS!AD$7:AJ$51,7,0))","v":""},{"$f":"IF($A33=\"\",\"\",VLOOKUP($A33,INSCRITS!$D$4:$W$506,12,0))","v":0},{"$f":"IF(ISNA(VLOOKUP($A33,PLANCHE!AC$7:AI$52,6,0)),\"\",VLOOKUP($A33,PLANCHE!AC$7:AI$52,6,0))","v":""},{"$f":"IF(ISNA(VLOOKUP($A33,PLANCHE!AC$7:AI$52,7,0)),\"\",VLOOKUP($A33,PLANCHE!AC$7:AI$52,7,0))","v":""},{"$f":"IF($A33=\"\",\"\",VLOOKUP($A33,INSCRITS!$D$4:$W$506,13,0))","v":0},{"$f":"IF(ISNA(VLOOKUP($A33,NAGE!N$7:T$52,6,0)),\"\",VLOOKUP($A33,NAGE!N$7:T$52,6,0))","v":""},{"$f":"IF(ISNA(VLOOKUP($A33,NAGE!N$7:T$52,7,0)),\"\",VLOOKUP($A33,NAGE!N$7:T$52,7,0))","v":""},{"$f":"IF($A33=\"\",\"\",VLOOKUP($A33,INSCRITS!$D$4:$W$506,14,0))","v":0},{"$f":"IF(ISNA(VLOOKUP($A33,SURFSKI!AC$8:AI$53,6,0)),\"\",VLOOKUP($A33,SURFSKI!AC$8:AI$53,6,0))","v":""},{"$f":"IF(ISNA(VLOOKUP($A33,SURFSKI!AC$8:AI$53,7,0)),\"\",VLOOKUP($A33,SURFSKI!AC$8:AI$53,7,0))","v":""},{"$f":"IF($A33=\"\",\"\",VLOOKUP($A33,INSCRITS!$D$4:$W$506,15,0))","v":0},{"$f":"IF(ISNA(VLOOKUP($A33,OCEANMAN!AD$7:AJ$52,6,0)),\"\",VLOOKUP($A33,OCEANMAN!AD$7:AJ$52,6,0))","v":""},{"$f":"IF(ISNA(VLOOKUP($A33,OCEANMAN!AD$7:AJ$52,7,0)),\"\",VLOOKUP($A33,OCEANMAN!AD$7:AJ$52,7,0))","v":""},{"$f":"IF($A33=\"\",\"\",VLOOKUP($A33,INSCRITS!$D$4:$W$506,16,0))","v":0},{"$f":"IF(ISNA(VLOOKUP($A33,CNC!N$7:AC$52,6,0)),\"\",VLOOKUP($A33,CNC!N$7:AC$52,6,0))","v":""},{"$f":"IF(ISNA(VLOOKUP($A33,CNC!N$7:AC$52,7,0)),\"\",VLOOKUP($A33,CNC!N$7:AC$52,7,0))","v":""},0,{"$f":"IF($A33=\"\",\"\",VLOOKUP($A33,INSCRITS!$D$4:$W$506,16,0))","v":0},null,{"$f":"IF(AG33=\"\",\"\",VLOOKUP(AG33,[0]!Relais,2))","v":""},{"$f":"IF($A33=\"\",\"\",VLOOKUP($A33,INSCRITS!$D$4:$W$506,17,0))","v":0},null,{"$f":"IF(AJ33=\"\",\"\",VLOOKUP(AJ33,[0]!Relais,2))","v":""},{"$f":"IF($A33=\"\",\"\",VLOOKUP($A33,INSCRITS!$D$4:$W$506,18,0))","v":0},null,{"$f":"IF(AM33=\"\",\"\",VLOOKUP(AM33,[0]!Relais,2))","v":""},{"$f":"IF($A33=\"\",\"\",VLOOKUP($A33,INSCRITS!$D$4:$W$506,19,0))","v":0},null,{"$f":"IF(AP33=\"\",\"\",VLOOKUP(AP33,[0]!Relais,2))","v":""},0,0]
[191,{"$f":"IF($A34=\"\",\"\",VLOOKUP($A34,INSCRITS!$D$4:$W$501,2,0))","v":0},{"$f":"IF($A34=\"\",\"\",VLOOKUP($A34,INSCRITS!$D$4:$W$501,3,0))","v":1994},{"$f":"IF($A34=\"\",\"\",VLOOKUP($A34,INSCRITS!$D$4:$W$501,4,0))","v":"H"},{"$f":"IF($A34=\"\",\"\",VLOOKUP($A34,INSCRITS!$D$4:$W$501,5,0))","v":"00:00:00"},{"$f":"IF($A34=\"\",\"\",VLOOKUP($A34,INSCRITS!$D$4:$W$501,6,0))","v":"DUBLINEAU"},{"$f":"IF($A34=\"\",\"\",VLOOKUP($A34,INSCRITS!$D$4:$W$501,7,0))","v":"Clément"},{"$f":"IF($A34=\"\",\"\",VLOOKUP($A34,INSCRITS!$D$4:$W$501,8,0))","v":"Junior"},{"$f":"IF($A34=\"\",\"\",VLOOKUP($A34,INSCRITS!$D$4:$W$501,9,0))","v":"MIMIZAN SAUVETAGE"},{"$f":"IF($A34=\"\",\"\",VLOOKUP($A34,INSCRITS!$D$4:$W$506,10,0))","v":0},{"$f":"IF(ISNA(VLOOKUP($A34,SPRINT!AD$7:AJ$50,6,0)),\"\",VLOOKUP($A34,SPRINT!AD$7:AJ$50,6,0))","v":""},{"$f":"IF(ISNA(VLOOKUP($A34,SPRINT!AD$7:AJ$50,7,0)),\"\",VLOOKUP($A34,SPRINT!AD$7:AJ$50,7,0))","v":""},{"$f":"IF($A34=\"\",\"\",VLOOKUP($A34,INSCRITS!$D$4:$W$506,11,0))","v":"X"},{"$f":"IF(ISNA(VLOOKUP($A34,BATONS!AD$7:AJ$51,6,0)),\"\",VLOOKUP($A34,BATONS!AD$7:AJ$51,6,0))","v":""},{"$f":"IF(ISNA(VLOOKUP($A34,BATONS!AD$7:AJ$51,7,0)),\"\",VLOOKUP($A34,BATONS!AD$7:AJ$51,7,0))","v":""},{"$f":"IF($A34=\"\",\"\",VLOOKUP($A34,INSCRITS!$D$4:$W$506,12,0))","v":"X"},{"$f":"IF(ISNA(VLOOKUP($A34,PLANCHE!AC$7:AI$52,6,0)),\"\",VLOOKUP($A34,PLANCHE!AC$7:AI$52,6,0))","v":4},{"$f":"IF(ISNA(VLOOKUP($A34,PLANCHE!AC$7:AI$52,7,0)),\"\",VLOOKUP($A34,PLANCHE!AC$7:AI$52,7,0))","v":14},{"$f":"IF($A34=\"\",\"\",VLOOKUP($A34,INSCRITS!$D$4:$W$506,13,0))","v":"X"},{"$f":"IF(ISNA(VLOOKUP($A34,NAGE!N$7:T$52,6,0)),\"\",VLOOKUP($A34,NAGE!N$7:T$52,6,0))","v":8},{"$f":"IF(ISNA(VLOOKUP($A34,NAGE!N$7:T$52,7,0)),\"\",VLOOKUP($A34,NAGE!N$7:T$52,7,0))","v":10},{"$f":"IF($A34=\"\",\"\",VLOOKUP($A34,INSCRITS!$D$4:$W$506,14,0))","v":0},{"$f":"IF(ISNA(VLOOKUP($A34,SURFSKI!AC$8:AI$53,6,0)),\"\",VLOOKUP($A34,SURFSKI!AC$8:AI$53,6,0))","v":""},{"$f":"IF(ISNA(VLOOKUP($A34,SURFSKI!AC$8:AI$53,7,0)),\"\",VLOOKUP($A34,SURFSKI!AC$8:AI$53,7,0))","v":""},{"$f":"IF($A34=\"\",\"\",VLOOKUP($A34,INSCRITS!$D$4:$W$506,15,0))","v":0},{"$f":"IF(ISNA(VLOOKUP($A34,OCEANMAN!AD$7:AJ$52,6,0)),\"\",VLOOKUP($A34,OCEANMAN!AD$7:AJ$52,6,0))","v":""},{"$f":"IF(ISNA(VLOOKUP($A34,OCEANMAN!AD$7:AJ$52,7,0)),\"\",VLOOKUP($A34,OCEANMAN!AD$7:AJ$52,7,0))","v":""},{"$f":"IF($A34=\"\",\"\",VLOOKUP($A34,INSCRITS!$D$4:$W$506,16,0))","v":"X"},{"$f":"IF(ISNA(VLOOKUP($A34,CNC!N$7:AC$52,6,0)),\"\",VLOOKUP($A34,CNC!N$7:AC$52,6,0))","v":8},{"$f":"IF(ISNA(VLOOKUP($A34,CNC!N$7:AC$52,7,0)),\"\",VLOOKUP($A34,CNC!N$7:AC$52,7,0))","v":10},34,{"$f":"IF($A34=\"\",\"\",VLOOKUP($A34,INSCRITS!$D$4:$W$506,16,0))","v":"X"},null,{"$f":"IF(AG34=\"\",\"\",VLOOKUP(AG34,[0]!Relais,2))","v":""},{"$f":"IF($A34=\"\",\"\",VLOOKUP($A34,INSCRITS!$D$4:$W$506,17,0))","v":0},null,{"$f":"IF(AJ34=\"\",\"\",VLOOKUP(AJ34,[0]!Relais,2))","v":""},{"$f":"IF($A34=\"\",\"\",VLOOKUP($A34,INSCRITS!$D$4:$W$506,18,0))","v":0},null,{"$f":"IF(AM34=\"\",\"\",VLOOKUP(AM34,[0]!Relais,2))","v":""},{"$f":"IF($A34=\"\",\"\",VLOOKUP($A34,INSCRITS!$D$4:$W$506,19,0))","v":0},null,{"$f":"IF(AP34=\"\",\"\",VLOOKUP(AP34,[0]!Relais,2))","v":""},0,34]
[192,{"$f":"IF($A35=\"\",\"\",VLOOKUP($A35,INSCRITS!$D$4:$W$501,2,0))","v":0},{"$f":"IF($A35=\"\",\"\",VLOOKUP($A35,INSCRITS!$D$4:$W$501,3,0))","v":1993},{"$f":"IF($A35=\"\",\"\",VLOOKUP($A35,INSCRITS!$D$4:$W$501,4,0))","v":"H"},{"$f":"IF($A35=\"\",\"\",VLOOKUP($A35,INSCRITS!$D$4:$W$501,5,0))","v":"00:00:00"},{"$f":"IF($A35=\"\",\"\",VLOOKUP($A35,INSCRITS!$D$4:$W$501,6,0))","v":"GONZALES"},{"$f":"IF($A35=\"\",\"\",VLOOKUP($A35,INSCRITS!$D$4:$W$501,7,0))","v":"Ulysse"},{"$f":"IF($A35=\"\",\"\",VLOOKUP($A35,INSCRITS!$D$4:$W$501,8,0))","v":"Junior"},{"$f":"IF($A35=\"\",\"\",VLOOKUP($A35,INSCRITS!$D$4:$W$501,9,0))","v":"MIMIZAN SAUVETAGE"},{"$f":"IF($A35=\"\",\"\",VLOOKUP($A35,INSCRITS!$D$4:$W$506,10,0))","v":"X"},{"$f":"IF(ISNA(VLOOKUP($A35,SPRINT!AD$7:AJ$50,6,0)),\"\",VLOOKUP($A35,SPRINT!AD$7:AJ$50,6,0))","v":14},{"$f":"IF(ISNA(VLOOKUP($A35,SPRINT!AD$7:AJ$50,7,0)),\"\",VLOOKUP($A35,SPRINT!AD$7:AJ$50,7,0))","v":3},{"$f":"IF($A35=\"\",\"\",VLOOKUP($A35,INSCRITS!$D$4:$W$506,11,0))","v":"X"},{"$f":"IF(ISNA(VLOOKUP($A35,BATONS!AD$7:AJ$51,6,0)),\"\",VLOOKUP($A35,BATONS!AD$7:AJ$51,6,0))","v":3},{"$f":"IF(ISNA(VLOOKUP($A35,BATONS!AD$7:AJ$51,7,0)),\"\",VLOOKUP($A35,BATONS!AD$7:AJ$51,7,0))","v":16},{"$f":"IF($A35=\"\",\"\",VLOOKUP($A35,INSCRITS!$D$4:$W$506,12,0))","v":"X"},{"$f":"IF(ISNA(VLOOKUP($A35,PLANCHE!AC$7:AI$52,6,0)),\"\",VLOOKUP($A35,PLANCHE!AC$7:AI$52,6,0))","v":13},{"$f":"IF(ISNA(VLOOKUP($A35,PLANCHE!AC$7:AI$52,7,0)),\"\",VLOOKUP($A35,PLANCHE!AC$7:AI$52,7,0))","v":4},{"$f":"IF($A35=\"\",\"\",VLOOKUP($A35,INSCRITS!$D$4:$W$506,13,0))","v":"X"},{"$f":"IF(ISNA(VLOOKUP($A35,NAGE!N$7:T$52,6,0)),\"\",VLOOKUP($A35,NAGE!N$7:T$52,6,0))","v":12},{"$f":"IF(ISNA(VLOOKUP($A35,NAGE!N$7:T$52,7,0)),\"\",VLOOKUP($A35,NAGE!N$7:T$52,7,0))","v":5},{"$f":"IF($A35=\"\",\"\",VLOOKUP($A35,INSCRITS!$D$4:$W$506,14,0))","v":0},{"$f":"IF(ISNA(VLOOKUP($A35,SURFSKI!AC$8:AI$53,6,0)),\"\",VLOOKUP($A35,SURFSKI!AC$8:AI$53,6,0))","v":""},{"$f":"IF(ISNA(VLOOKUP($A35,SURFSKI!AC$8:AI$53,7,0)),\"\",VLOOKUP($A35,SURFSKI!AC$8:AI$53,7,0))","v":""},{"$f":"IF($A35=\"\",\"\",VLOOKUP($A35,INSCRITS!$D$4:$W$506,15,0))","v":0},{"$f":"IF(ISNA(VLOOKUP($A35,OCEANMAN!AD$7:AJ$52,6,0)),\"\",VLOOKUP($A35,OCEANMAN!AD$7:AJ$52,6,0))","v":""},{"$f":"IF(ISNA(VLOOKUP($A35,OCEANMAN!AD$7:AJ$52,7,0)),\"\",VLOOKUP($A35,OCEANMAN!AD$7:AJ$52,7,0))","v":""},{"$f":"IF($A35=\"\",\"\",VLOOKUP($A35,INSCRITS!$D$4:$W$506,16,0))","v":"X"},{"$f":"IF(ISNA(VLOOKUP($A35,CNC!N$7:AC$52,6,0)),\"\",VLOOKUP($A35,CNC!N$7:AC$52,6,0))","v":10},{"$f":"IF(ISNA(VLOOKUP($A35,CNC!N$7:AC$52,7,0)),\"\",VLOOKUP($A35,CNC!N$7:AC$52,7,0))","v":7},35,{"$f":"IF($A35=\"\",\"\",VLOOKUP($A35,INSCRITS!$D$4:$W$506,16,0))","v":"X"},null,{"$f":"IF(AG35=\"\",\"\",VLOOKUP(AG35,[0]!Relais,2))","v":""},{"$f":"IF($A35=\"\",\"\",VLOOKUP($A35,INSCRITS!$D$4:$W$506,17,0))","v":0},null,{"$f":"IF(AJ35=\"\",\"\",VLOOKUP(AJ35,[0]!Relais,2))","v":""},{"$f":"IF($A35=\"\",\"\",VLOOKUP($A35,INSCRITS!$D$4:$W$506,18,0))","v":0},null,{"$f":"IF(AM35=\"\",\"\",VLOOKUP(AM35,[0]!Relais,2))","v":""},{"$f":"IF($A35=\"\",\"\",VLOOKUP($A35,INSCRITS!$D$4:$W$506,19,0))","v":0},null,{"$f":"IF(AP35=\"\",\"\",VLOOKUP(AP35,[0]!Relais,2))","v":""},0,35]
[193,{"$f":"IF($A36=\"\",\"\",VLOOKUP($A36,INSCRITS!$D$4:$W$501,2,0))","v":0},{"$f":"IF($A36=\"\",\"\",VLOOKUP($A36,INSCRITS!$D$4:$W$501,3,0))","v":1994},{"$f":"IF($A36=\"\",\"\",VLOOKUP($A36,INSCRITS!$D$4:$W$501,4,0))","v":"H"},{"$f":"IF($A36=\"\",\"\",VLOOKUP($A36,INSCRITS!$D$4:$W$501,5,0))","v":"00:00:00"},{"$f":"IF($A36=\"\",\"\",VLOOKUP($A36,INSCRITS!$D$4:$W$501,6,0))","v":"MAILHÉ"},{"$f":"IF($A36=\"\",\"\",VLOOKUP($A36,INSCRITS!$D$4:$W$501,7,0))","v":"Loic"},{"$f":"IF($A36=\"\",\"\",VLOOKUP($A36,INSCRITS!$D$4:$W$501,8,0))","v":"Junior"},{"$f":"IF($A36=\"\",\"\",VLOOKUP($A36,INSCRITS!$D$4:$W$501,9,0))","v":"MNSL"},{"$f":"IF($A36=\"\",\"\",VLOOKUP($A36,INSCRITS!$D$4:$W$506,10,0))","v":"X"},{"$f":"IF(ISNA(VLOOKUP($A36,SPRINT!AD$7:AJ$50,6,0)),\"\",VLOOKUP($A36,SPRINT!AD$7:AJ$50,6,0))","v":12},{"$f":"IF(ISNA(VLOOKUP($A36,SPRINT!AD$7:AJ$50,7,0)),\"\",VLOOKUP($A36,SPRINT!AD$7:AJ$50,7,0))","v":5},{"$f":"IF($A36=\"\",\"\",VLOOKUP($A36,INSCRITS!$D$4:$W$506,11,0))","v":"X"},{"$f":"IF(ISNA(VLOOKUP($A36,BATONS!AD$7:AJ$51,6,0)),\"\",VLOOKUP($A36,BATONS!AD$7:AJ$51,6,0))","v":8},{"$f":"IF(ISNA(VLOOKUP($A36,BATONS!AD$7:AJ$51,7,0)),\"\",VLOOKUP($A36,BATONS!AD$7:AJ$51,7,0))","v":10},{"$f":"IF($A36=\"\",\"\",VLOOKUP($A36,INSCRITS!$D$4:$W$506,12,0))","v":0},{"$f":"IF(ISNA(VLOOKUP($A36,PLANCHE!AC$7:AI$52,6,0)),\"\",VLOOKUP($A36,PLANCHE!AC$7:AI$52,6,0))","v":9},{"$f":"IF(ISNA(VLOOKUP($A36,PLANCHE!AC$7:AI$52,7,0)),\"\",VLOOKUP($A36,PLANCHE!AC$7:AI$52,7,0))","v":8},{"$f":"IF($A36=\"\",\"\",VLOOKUP($A36,INSCRITS!$D$4:$W$506,13,0))","v":"X"},{"$f":"IF(ISNA(VLOOKUP($A36,NAGE!N$7:T$52,6,0)),\"\",VLOOKUP($A36,NAGE!N$7:T$52,6,0))","v":11},{"$f":"IF(ISNA(VLOOKUP($A36,NAGE!N$7:T$52,7,0)),\"\",VLOOKUP($A36,NAGE!N$7:T$52,7,0))","v":6},{"$f":"IF($A36=\"\",\"\",VLOOKUP($A36,INSCRITS!$D$4:$W$506,14,0))","v":"X"},{"$f":"IF(ISNA(VLOOKUP($A36,SURFSKI!AC$8:AI$53,6,0)),\"\",VLOOKUP($A36,SURFSKI!AC$8:AI$53,6,0))","v":7},{"$f":"IF(ISNA(VLOOKUP($A36,SURFSKI!AC$8:AI$53,7,0)),\"\",VLOOKUP($A36,SURFSKI!AC$8:AI$53,7,0))","v":11},{"$f":"IF($A36=\"\",\"\",VLOOKUP($A36,INSCRITS!$D$4:$W$506,15,0))","v":"X"},{"$f":"IF(ISNA(VLOOKUP($A36,OCEANMAN!AD$7:AJ$52,6,0)),\"\",VLOOKUP($A36,OCEANMAN!AD$7:AJ$52,6,0))","v":5},{"$f":"IF(ISNA(VLOOKUP($A36,OCEANMAN!AD$7:AJ$52,7,0)),\"\",VLOOKUP($A36,OCEANMAN!AD$7:AJ$52,7,0))","v":13},{"$f":"IF($A36=\"\",\"\",VLOOKUP($A36,INSCRITS!$D$4:$W$506,16,0))","v":"X"},{"$f":"IF(ISNA(VLOOKUP($A36,CNC!N$7:AC$52,6,0)),\"\",VLOOKUP($A36,CNC!N$7:AC$52,6,0))","v":11},{"$f":"IF(ISNA(VLOOKUP($A36,CNC!N$7:AC$52,7,0)),\"\",VLOOKUP($A36,CNC!N$7:AC$52,7,0))","v":6},59,{"$f":"IF($A36=\"\",\"\",VLOOKUP($A36,INSCRITS!$D$4:$W$506,16,0))","v":"X"},null,{"$f":"IF(AG36=\"\",\"\",VLOOKUP(AG36,[0]!Relais,2))","v":""},{"$f":"IF($A36=\"\",\"\",VLOOKUP($A36,INSCRITS!$D$4:$W$506,17,0))","v":0},null,{"$f":"IF(AJ36=\"\",\"\",VLOOKUP(AJ36,[0]!Relais,2))","v":""},{"$f":"IF($A36=\"\",\"\",VLOOKUP($A36,INSCRITS!$D$4:$W$506,18,0))","v":0},null,{"$f":"IF(AM36=\"\",\"\",VLOOKUP(AM36,[0]!Relais,2))","v":""},{"$f":"IF($A36=\"\",\"\",VLOOKUP($A36,INSCRITS!$D$4:$W$506,19,0))","v":0},null,{"$f":"IF(AP36=\"\",\"\",VLOOKUP(AP36,[0]!Relais,2))","v":""},0,59]
[194,{"$f":"IF($A37=\"\",\"\",VLOOKUP($A37,INSCRITS!$D$4:$W$501,2,0))","v":0},{"$f":"IF($A37=\"\",\"\",VLOOKUP($A37,INSCRITS!$D$4:$W$501,3,0))","v":1994},{"$f":"IF($A37=\"\",\"\",VLOOKUP($A37,INSCRITS!$D$4:$W$501,4,0))","v":"H"},{"$f":"IF($A37=\"\",\"\",VLOOKUP($A37,INSCRITS!$D$4:$W$501,5,0))","v":"00:00:00"},{"$f":"IF($A37=\"\",\"\",VLOOKUP($A37,INSCRITS!$D$4:$W$501,6,0))","v":"NOGUES"},{"$f":"IF($A37=\"\",\"\",VLOOKUP($A37,INSCRITS!$D$4:$W$501,7,0))","v":"Remi"},{"$f":"IF($A37=\"\",\"\",VLOOKUP($A37,INSCRITS!$D$4:$W$501,8,0))","v":"Junior"},{"$f":"IF($A37=\"\",\"\",VLOOKUP($A37,INSCRITS!$D$4:$W$501,9,0))","v":"MNSL"},{"$f":"IF($A37=\"\",\"\",VLOOKUP($A37,INSCRITS!$D$4:$W$506,10,0))","v":"X"},{"$f":"IF(ISNA(VLOOKUP($A37,SPRINT!AD$7:AJ$50,6,0)),\"\",VLOOKUP($A37,SPRINT!AD$7:AJ$50,6,0))","v":7},{"$f":"IF(ISNA(VLOOKUP($A37,SPRINT!AD$7:AJ$50,7,0)),\"\",VLOOKUP($A37,SPRINT!AD$7:AJ$50,7,0))","v":11},{"$f":"IF($A37=\"\",\"\",VLOOKUP($A37,INSCRITS!$D$4:$W$506,11,0))","v":"X"},{"$f":"IF(ISNA(VLOOKUP($A37,BATONS!AD$7:AJ$51,6,0)),\"\",VLOOKUP($A37,BATONS!AD$7:AJ$51,6,0))","v":5},{"$f":"IF(ISNA(VLOOKUP($A37,BATONS!AD$7:AJ$51,7,0)),\"\",VLOOKUP($A37,BATONS!AD$7:AJ$51,7,0))","v":13},{"$f":"IF($A37=\"\",\"\",VLOOKUP($A37,INSCRITS!$D$4:$W$506,12,0))","v":0},{"$f":"IF(ISNA(VLOOKUP($A37,PLANCHE!AC$7:AI$52,6,0)),\"\",VLOOKUP($A37,PLANCHE!AC$7:AI$52,6,0))","v":16},{"$f":"IF(ISNA(VLOOKUP($A37,PLANCHE!AC$7:AI$52,7,0)),\"\",VLOOKUP($A37,PLANCHE!AC$7:AI$52,7,0))","v":1},{"$f":"IF($A37=\"\",\"\",VLOOKUP($A37,INSCRITS!$D$4:$W$506,13,0))","v":"X"},{"$f":"IF(ISNA(VLOOKUP($A37,NAGE!N$7:T$52,6,0)),\"\",VLOOKUP($A37,NAGE!N$7:T$52,6,0))","v":14},{"$f":"IF(ISNA(VLOOKUP($A37,NAGE!N$7:T$52,7,0)),\"\",VLOOKUP($A37,NAGE!N$7:T$52,7,0))","v":3},{"$f":"IF($A37=\"\",\"\",VLOOKUP($A37,INSCRITS!$D$4:$W$506,14,0))","v":"X"},{"$f":"IF(ISNA(VLOOKUP($A37,SURFSKI!AC$8:AI$53,6,0)),\"\",VLOOKUP($A37,SURFSKI!AC$8:AI$53,6,0))","v":10},{"$f":"IF(ISNA(VLOOKUP($A37,SURFSKI!AC$8:AI$53,7,0)),\"\",VLOOKUP($A37,SURFSKI!AC$8:AI$53,7,0))","v":7},{"$f":"IF($A37=\"\",\"\",VLOOKUP($A37,INSCRITS!$D$4:$W$506,15,0))","v":"X"},{"$f":"IF(ISNA(VLOOKUP($A37,OCEANMAN!AD$7:AJ$52,6,0)),\"\",VLOOKUP($A37,OCEANMAN!AD$7:AJ$52,6,0))","v":12},{"$f":"IF(ISNA(VLOOKUP($A37,OCEANMAN!AD$7:AJ$52,7,0)),\"\",VLOOKUP($A37,OCEANMAN!AD$7:AJ$52,7,0))","v":5},{"$f":"IF($A37=\"\",\"\",VLOOKUP($A37,INSCRITS!$D$4:$W$506,16,0))","v":"X"},{"$f":"IF(ISNA(VLOOKUP($A37,CNC!N$7:AC$52,6,0)),\"\",VLOOKUP($A37,CNC!N$7:AC$52,6,0))","v":15},{"$f":"IF(ISNA(VLOOKUP($A37,CNC!N$7:AC$52,7,0)),\"\",VLOOKUP($A37,CNC!N$7:AC$52,7,0))","v":2},42,{"$f":"IF($A37=\"\",\"\",VLOOKUP($A37,INSCRITS!$D$4:$W$506,16,0))","v":"X"},null,{"$f":"IF(AG37=\"\",\"\",VLOOKUP(AG37,[0]!Relais,2))","v":""},{"$f":"IF($A37=\"\",\"\",VLOOKUP($A37,INSCRITS!$D$4:$W$506,17,0))","v":0},null,{"$f":"IF(AJ37=\"\",\"\",VLOOKUP(AJ37,[0]!Relais,2))","v":""},{"$f":"IF($A37=\"\",\"\",VLOOKUP($A37,INSCRITS!$D$4:$W$506,18,0))","v":0},null,{"$f":"IF(AM37=\"\",\"\",VLOOKUP(AM37,[0]!Relais,2))","v":""},{"$f":"IF($A37=\"\",\"\",VLOOKUP($A37,INSCRITS!$D$4:$W$506,19,0))","v":0},null,{"$f":"IF(AP37=\"\",\"\",VLOOKUP(AP37,[0]!Relais,2))","v":""},0,42]
[195,{"$f":"IF($A38=\"\",\"\",VLOOKUP($A38,INSCRITS!$D$4:$W$501,2,0))","v":0},{"$f":"IF($A38=\"\",\"\",VLOOKUP($A38,INSCRITS!$D$4:$W$501,3,0))","v":1993},{"$f":"IF($A38=\"\",\"\",VLOOKUP($A38,INSCRITS!$D$4:$W$501,4,0))","v":"H"},{"$f":"IF($A38=\"\",\"\",VLOOKUP($A38,INSCRITS!$D$4:$W$501,5,0))","v":"00:00:00"},{"$f":"IF($A38=\"\",\"\",VLOOKUP($A38,INSCRITS!$D$4:$W$501,6,0))","v":"SUBRA"},{"$f":"IF($A38=\"\",\"\",VLOOKUP($A38,INSCRITS!$D$4:$W$501,7,0))","v":"Olivier"},{"$f":"IF($A38=\"\",\"\",VLOOKUP($A38,INSCRITS!$D$4:$W$501,8,0))","v":"Junior"},{"$f":"IF($A38=\"\",\"\",VLOOKUP($A38,INSCRITS!$D$4:$W$501,9,0))","v":"MNSL"},{"$f":"IF($A38=\"\",\"\",VLOOKUP($A38,INSCRITS!$D$4:$W$506,10,0))","v":"X"},{"$f":"IF(ISNA(VLOOKUP($A38,SPRINT!AD$7:AJ$50,6,0)),\"\",VLOOKUP($A38,SPRINT!AD$7:AJ$50,6,0))","v":9},{"$f":"IF(ISNA(VLOOKUP($A38,SPRINT!AD$7:AJ$50,7,0)),\"\",VLOOKUP($A38,SPRINT!AD$7:AJ$50,7,0))","v":8},{"$f":"IF($A38=\"\",\"\",VLOOKUP($A38,INSCRITS!$D$4:$W$506,11,0))","v":"X"},{"$f":"IF(ISNA(VLOOKUP($A38,BATONS!AD$7:AJ$51,6,0)),\"\",VLOOKUP($A38,BATONS!AD$7:AJ$51,6,0))","v":""},{"$f":"IF(ISNA(VLOOKUP($A38,BATONS!AD$7:AJ$51,7,0)),\"\",VLOOKUP($A38,BATONS!AD$7:AJ$51,7,0))","v":""},{"$f":"IF($A38=\"\",\"\",VLOOKUP($A38,INSCRITS!$D$4:$W$506,12,0))","v":0},{"$f":"IF(ISNA(VLOOKUP($A38,PLANCHE!AC$7:AI$52,6,0)),\"\",VLOOKUP($A38,PLANCHE!AC$7:AI$52,6,0))","v":14},{"$f":"IF(ISNA(VLOOKUP($A38,PLANCHE!AC$7:AI$52,7,0)),\"\",VLOOKUP($A38,PLANCHE!AC$7:AI$52,7,0))","v":3},{"$f":"IF($A38=\"\",\"\",VLOOKUP($A38,INSCRITS!$D$4:$W$506,13,0))","v":"X"},{"$f":"IF(ISNA(VLOOKUP($A38,NAGE!N$7:T$52,6,0)),\"\",VLOOKUP($A38,NAGE!N$7:T$52,6,0))","v":18},{"$f":"IF(ISNA(VLOOKUP($A38,NAGE!N$7:T$52,7,0)),\"\",VLOOKUP($A38,NAGE!N$7:T$52,7,0))","v":0},{"$f":"IF($A38=\"\",\"\",VLOOKUP($A38,INSCRITS!$D$4:$W$506,14,0))","v":"X"},{"$f":"IF(ISNA(VLOOKUP($A38,SURFSKI!AC$8:AI$53,6,0)),\"\",VLOOKUP($A38,SURFSKI!AC$8:AI$53,6,0))","v":12},{"$f":"IF(ISNA(VLOOKUP($A38,SURFSKI!AC$8:AI$53,7,0)),\"\",VLOOKUP($A38,SURFSKI!AC$8:AI$53,7,0))","v":5},{"$f":"IF($A38=\"\",\"\",VLOOKUP($A38,INSCRITS!$D$4:$W$506,15,0))","v":"X"},{"$f":"IF(ISNA(VLOOKUP($A38,OCEANMAN!AD$7:AJ$52,6,0)),\"\",VLOOKUP($A38,OCEANMAN!AD$7:AJ$52,6,0))","v":10},{"$f":"IF(ISNA(VLOOKUP($A38,OCEANMAN!AD$7:AJ$52,7,0)),\"\",VLOOKUP($A38,OCEANMAN!AD$7:AJ$52,7,0))","v":7},{"$f":"IF($A38=\"\",\"\",VLOOKUP($A38,INSCRITS!$D$4:$W$506,16,0))","v":"X"},{"$f":"IF(ISNA(VLOOKUP($A38,CNC!N$7:AC$52,6,0)),\"\",VLOOKUP($A38,CNC!N$7:AC$52,6,0))","v":""},{"$f":"IF(ISNA(VLOOKUP($A38,CNC!N$7:AC$52,7,0)),\"\",VLOOKUP($A38,CNC!N$7:AC$52,7,0))","v":""},23,{"$f":"IF($A38=\"\",\"\",VLOOKUP($A38,INSCRITS!$D$4:$W$506,16,0))","v":"X"},null,{"$f":"IF(AG38=\"\",\"\",VLOOKUP(AG38,[0]!Relais,2))","v":""},{"$f":"IF($A38=\"\",\"\",VLOOKUP($A38,INSCRITS!$D$4:$W$506,17,0))","v":0},null,{"$f":"IF(AJ38=\"\",\"\",VLOOKUP(AJ38,[0]!Relais,2))","v":""},{"$f":"IF($A38=\"\",\"\",VLOOKUP($A38,INSCRITS!$D$4:$W$506,18,0))","v":0},null,{"$f":"IF(AM38=\"\",\"\",VLOOKUP(AM38,[0]!Relais,2))","v":""},{"$f":"IF($A38=\"\",\"\",VLOOKUP($A38,INSCRITS!$D$4:$W$506,19,0))","v":0},null,{"$f":"IF(AP38=\"\",\"\",VLOOKUP(AP38,[0]!Relais,2))","v":""},0,23]
[196,{"$f":"IF($A39=\"\",\"\",VLOOKUP($A39,INSCRITS!$D$4:$W$501,2,0))","v":0},{"$f":"IF($A39=\"\",\"\",VLOOKUP($A39,INSCRITS!$D$4:$W$501,3,0))","v":1994},{"$f":"IF($A39=\"\",\"\",VLOOKUP($A39,INSCRITS!$D$4:$W$501,4,0))","v":"H"},{"$f":"IF($A39=\"\",\"\",VLOOKUP($A39,INSCRITS!$D$4:$W$501,5,0))","v":"00:00:00"},{"$f":"IF($A39=\"\",\"\",VLOOKUP($A39,INSCRITS!$D$4:$W$501,6,0))","v":"ZAMBELLI"},{"$f":"IF($A39=\"\",\"\",VLOOKUP($A39,INSCRITS!$D$4:$W$501,7,0))","v":"Sylvain"},{"$f":"IF($A39=\"\",\"\",VLOOKUP($A39,INSCRITS!$D$4:$W$501,8,0))","v":"Junior"},{"$f":"IF($A39=\"\",\"\",VLOOKUP($A39,INSCRITS!$D$4:$W$501,9,0))","v":"MNSL"},{"$f":"IF($A39=\"\",\"\",VLOOKUP($A39,INSCRITS!$D$4:$W$506,10,0))","v":"X"},{"$f":"IF(ISNA(VLOOKUP($A39,SPRINT!AD$7:AJ$50,6,0)),\"\",VLOOKUP($A39,SPRINT!AD$7:AJ$50,6,0))","v":13},{"$f":"IF(ISNA(VLOOKUP($A39,SPRINT!AD$7:AJ$50,7,0)),\"\",VLOOKUP($A39,SPRINT!AD$7:AJ$50,7,0))","v":4},{"$f":"IF($A39=\"\",\"\",VLOOKUP($A39,INSCRITS!$D$4:$W$506,11,0))","v":"X"},{"$f":"IF(ISNA(VLOOKUP($A39,BATONS!AD$7:AJ$51,6,0)),\"\",VLOOKUP($A39,BATONS!AD$7:AJ$51,6,0))","v":10},{"$f":"IF(ISNA(VLOOKUP($A39,BATONS!AD$7:AJ$51,7,0)),\"\",VLOOKUP($A39,BATONS!AD$7:AJ$51,7,0))","v":7},{"$f":"IF($A39=\"\",\"\",VLOOKUP($A39,INSCRITS!$D$4:$W$506,12,0))","v":0},{"$f":"IF(ISNA(VLOOKUP($A39,PLANCHE!AC$7:AI$52,6,0)),\"\",VLOOKUP($A39,PLANCHE!AC$7:AI$52,6,0))","v":""},{"$f":"IF(ISNA(VLOOKUP($A39,PLANCHE!AC$7:AI$52,7,0)),\"\",VLOOKUP($A39,PLANCHE!AC$7:AI$52,7,0))","v":""},{"$f":"IF($A39=\"\",\"\",VLOOKUP($A39,INSCRITS!$D$4:$W$506,13,0))","v":"X"},{"$f":"IF(ISNA(VLOOKUP($A39,NAGE!N$7:T$52,6,0)),\"\",VLOOKUP($A39,NAGE!N$7:T$52,6,0))","v":""},{"$f":"IF(ISNA(VLOOKUP($A39,NAGE!N$7:T$52,7,0)),\"\",VLOOKUP($A39,NAGE!N$7:T$52,7,0))","v":""},{"$f":"IF($A39=\"\",\"\",VLOOKUP($A39,INSCRITS!$D$4:$W$506,14,0))","v":"X"},{"$f":"IF(ISNA(VLOOKUP($A39,SURFSKI!AC$8:AI$53,6,0)),\"\",VLOOKUP($A39,SURFSKI!AC$8:AI$53,6,0))","v":14},{"$f":"IF(ISNA(VLOOKUP($A39,SURFSKI!AC$8:AI$53,7,0)),\"\",VLOOKUP($A39,SURFSKI!AC$8:AI$53,7,0))","v":3},{"$f":"IF($A39=\"\",\"\",VLOOKUP($A39,INSCRITS!$D$4:$W$506,15,0))","v":"X"},{"$f":"IF(ISNA(VLOOKUP($A39,OCEANMAN!AD$7:AJ$52,6,0)),\"\",VLOOKUP($A39,OCEANMAN!AD$7:AJ$52,6,0))","v":13},{"$f":"IF(ISNA(VLOOKUP($A39,OCEANMAN!AD$7:AJ$52,7,0)),\"\",VLOOKUP($A39,OCEANMAN!AD$7:AJ$52,7,0))","v":4},{"$f":"IF($A39=\"\",\"\",VLOOKUP($A39,INSCRITS!$D$4:$W$506,16,0))","v":"X"},{"$f":"IF(ISNA(VLOOKUP($A39,CNC!N$7:AC$52,6,0)),\"\",VLOOKUP($A39,CNC!N$7:AC$52,6,0))","v":""},{"$f":"IF(ISNA(VLOOKUP($A39,CNC!N$7:AC$52,7,0)),\"\",VLOOKUP($A39,CNC!N$7:AC$52,7,0))","v":""},18,{"$f":"IF($A39=\"\",\"\",VLOOKUP($A39,INSCRITS!$D$4:$W$506,16,0))","v":"X"},null,{"$f":"IF(AG39=\"\",\"\",VLOOKUP(AG39,[0]!Relais,2))","v":""},{"$f":"IF($A39=\"\",\"\",VLOOKUP($A39,INSCRITS!$D$4:$W$506,17,0))","v":0},null,{"$f":"IF(AJ39=\"\",\"\",VLOOKUP(AJ39,[0]!Relais,2))","v":""},{"$f":"IF($A39=\"\",\"\",VLOOKUP($A39,INSCRITS!$D$4:$W$506,18,0))","v":0},null,{"$f":"IF(AM39=\"\",\"\",VLOOKUP(AM39,[0]!Relais,2))","v":""},{"$f":"IF($A39=\"\",\"\",VLOOKUP($A39,INSCRITS!$D$4:$W$506,19,0))","v":0},null,{"$f":"IF(AP39=\"\",\"\",VLOOKUP(AP39,[0]!Relais,2))","v":""},0,18]
[197,{"$f":"IF($A40=\"\",\"\",VLOOKUP($A40,INSCRITS!$D$4:$W$501,2,0))","v":0},{"$f":"IF($A40=\"\",\"\",VLOOKUP($A40,INSCRITS!$D$4:$W$501,3,0))","v":1993},{"$f":"IF($A40=\"\",\"\",VLOOKUP($A40,INSCRITS!$D$4:$W$501,4,0))","v":"H"},{"$f":"IF($A40=\"\",\"\",VLOOKUP($A40,INSCRITS!$D$4:$W$501,5,0))","v":"00:00:00"},{"$f":"IF($A40=\"\",\"\",VLOOKUP($A40,INSCRITS!$D$4:$W$501,6,0))","v":"RUAULT"},{"$f":"IF($A40=\"\",\"\",VLOOKUP($A40,INSCRITS!$D$4:$W$501,7,0))","v":"Briag"},{"$f":"IF($A40=\"\",\"\",VLOOKUP($A40,INSCRITS!$D$4:$W$501,8,0))","v":"Junior"},{"$f":"IF($A40=\"\",\"\",VLOOKUP($A40,INSCRITS!$D$4:$W$501,9,0))","v":"RENNES BREIZH SAUVETAGE COTIER"},{"$f":"IF($A40=\"\",\"\",VLOOKUP($A40,INSCRITS!$D$4:$W$506,10,0))","v":"X"},{"$f":"IF(ISNA(VLOOKUP($A40,SPRINT!AD$7:AJ$50,6,0)),\"\",VLOOKUP($A40,SPRINT!AD$7:AJ$50,6,0))","v":""},{"$f":"IF(ISNA(VLOOKUP($A40,SPRINT!AD$7:AJ$50,7,0)),\"\",VLOOKUP($A40,SPRINT!AD$7:AJ$50,7,0))","v":""},{"$f":"IF($A40=\"\",\"\",VLOOKUP($A40,INSCRITS!$D$4:$W$506,11,0))","v":"X"},{"$f":"IF(ISNA(VLOOKUP($A40,BATONS!AD$7:AJ$51,6,0)),\"\",VLOOKUP($A40,BATONS!AD$7:AJ$51,6,0))","v":""},{"$f":"IF(ISNA(VLOOKUP($A40,BATONS!AD$7:AJ$51,7,0)),\"\",VLOOKUP($A40,BATONS!AD$7:AJ$51,7,0))","v":""},{"$f":"IF($A40=\"\",\"\",VLOOKUP($A40,INSCRITS!$D$4:$W$506,12,0))","v":"X"},{"$f":"IF(ISNA(VLOOKUP($A40,PLANCHE!AC$7:AI$52,6,0)),\"\",VLOOKUP($A40,PLANCHE!AC$7:AI$52,6,0))","v":""},{"$f":"IF(ISNA(VLOOKUP($A40,PLANCHE!AC$7:AI$52,7,0)),\"\",VLOOKUP($A40,PLANCHE!AC$7:AI$52,7,0))","v":""},{"$f":"IF($A40=\"\",\"\",VLOOKUP($A40,INSCRITS!$D$4:$W$506,13,0))","v":"X"},{"$f":"IF(ISNA(VLOOKUP($A40,NAGE!N$7:T$52,6,0)),\"\",VLOOKUP($A40,NAGE!N$7:T$52,6,0))","v":23},{"$f":"IF(ISNA(VLOOKUP($A40,NAGE!N$7:T$52,7,0)),\"\",VLOOKUP($A40,NAGE!N$7:T$52,7,0))","v":0},{"$f":"IF($A40=\"\",\"\",VLOOKUP($A40,INSCRITS!$D$4:$W$506,14,0))","v":"X"},{"$f":"IF(ISNA(VLOOKUP($A40,SURFSKI!AC$8:AI$53,6,0)),\"\",VLOOKUP($A40,SURFSKI!AC$8:AI$53,6,0))","v":16},{"$f":"IF(ISNA(VLOOKUP($A40,SURFSKI!AC$8:AI$53,7,0)),\"\",VLOOKUP($A40,SURFSKI!AC$8:AI$53,7,0))","v":1},{"$f":"IF($A40=\"\",\"\",VLOOKUP($A40,INSCRITS!$D$4:$W$506,15,0))","v":0},{"$f":"IF(ISNA(VLOOKUP($A40,OCEANMAN!AD$7:AJ$52,6,0)),\"\",VLOOKUP($A40,OCEANMAN!AD$7:AJ$52,6,0))","v":""},{"$f":"IF(ISNA(VLOOKUP($A40,OCEANMAN!AD$7:AJ$52,7,0)),\"\",VLOOKUP($A40,OCEANMAN!AD$7:AJ$52,7,0))","v":""},{"$f":"IF($A40=\"\",\"\",VLOOKUP($A40,INSCRITS!$D$4:$W$506,16,0))","v":0},{"$f":"IF(ISNA(VLOOKUP($A40,CNC!N$7:AC$52,6,0)),\"\",VLOOKUP($A40,CNC!N$7:AC$52,6,0))","v":""},{"$f":"IF(ISNA(VLOOKUP($A40,CNC!N$7:AC$52,7,0)),\"\",VLOOKUP($A40,CNC!N$7:AC$52,7,0))","v":""},1,{"$f":"IF($A40=\"\",\"\",VLOOKUP($A40,INSCRITS!$D$4:$W$506,16,0))","v":0},null,{"$f":"IF(AG40=\"\",\"\",VLOOKUP(AG40,[0]!Relais,2))","v":""},{"$f":"IF($A40=\"\",\"\",VLOOKUP($A40,INSCRITS!$D$4:$W$506,17,0))","v":0},null,{"$f":"IF(AJ40=\"\",\"\",VLOOKUP(AJ40,[0]!Relais,2))","v":""},{"$f":"IF($A40=\"\",\"\",VLOOKUP($A40,INSCRITS!$D$4:$W$506,18,0))","v":0},null,{"$f":"IF(AM40=\"\",\"\",VLOOKUP(AM40,[0]!Relais,2))","v":""},{"$f":"IF($A40=\"\",\"\",VLOOKUP($A40,INSCRITS!$D$4:$W$506,19,0))","v":0},null,{"$f":"IF(AP40=\"\",\"\",VLOOKUP(AP40,[0]!Relais,2))","v":""},0,1]
[null,{"$f":"IF($A41=\"\",\"\",VLOOKUP($A41,INSCRITS!$D$4:$W$501,2,0))","v":""},{"$f":"IF($A41=\"\",\"\",VLOOKUP($A41,INSCRITS!$D$4:$W$501,3,0))","v":""},{"$f":"IF($A41=\"\",\"\",VLOOKUP($A41,INSCRITS!$D$4:$W$501,4,0))","v":""},{"$f":"IF($A41=\"\",\"\",VLOOKUP($A41,INSCRITS!$D$4:$W$501,5,0))","v":""},{"$f":"IF($A41=\"\",\"\",VLOOKUP($A41,INSCRITS!$D$4:$W$501,6,0))","v":""},{"$f":"IF($A41=\"\",\"\",VLOOKUP($A41,INSCRITS!$D$4:$W$501,7,0))","v":""},{"$f":"IF($A41=\"\",\"\",VLOOKUP($A41,INSCRITS!$D$4:$W$501,8,0))","v":""},{"$f":"IF($A41=\"\",\"\",VLOOKUP($A41,INSCRITS!$D$4:$W$501,9,0))","v":""},{"$f":"IF($A41=\"\",\"\",VLOOKUP($A41,INSCRITS!$D$4:$W$506,10,0))","v":""},{"$f":"IF(ISNA(VLOOKUP($A41,SPRINT!AD$7:AJ$50,6,0)),\"\",VLOOKUP($A41,SPRINT!AD$7:AJ$50,6,0))","v":""},{"$f":"IF(ISNA(VLOOKUP($A41,SPRINT!AD$7:AJ$50,7,0)),\"\",VLOOKUP($A41,SPRINT!AD$7:AJ$50,7,0))","v":""},{"$f":"IF($A41=\"\",\"\",VLOOKUP($A41,INSCRITS!$D$4:$W$506,11,0))","v":""},{"$f":"IF(ISNA(VLOOKUP($A41,BATONS!AD$7:AJ$51,6,0)),\"\",VLOOKUP($A41,BATONS!AD$7:AJ$51,6,0))","v":""},{"$f":"IF(ISNA(VLOOKUP($A41,BATONS!AD$7:AJ$51,7,0)),\"\",VLOOKUP($A41,BATONS!AD$7:AJ$51,7,0))","v":""},{"$f":"IF($A41=\"\",\"\",VLOOKUP($A41,INSCRITS!$D$4:$W$506,12,0))","v":""},{"$f":"IF(ISNA(VLOOKUP($A41,PLANCHE!AC$7:AI$52,6,0)),\"\",VLOOKUP($A41,PLANCHE!AC$7:AI$52,6,0))","v":""},{"$f":"IF(ISNA(VLOOKUP($A41,PLANCHE!AC$7:AI$52,7,0)),\"\",VLOOKUP($A41,PLANCHE!AC$7:AI$52,7,0))","v":""},{"$f":"IF($A41=\"\",\"\",VLOOKUP($A41,INSCRITS!$D$4:$W$506,13,0))","v":""},{"$f":"IF(ISNA(VLOOKUP($A41,NAGE!N$7:T$52,6,0)),\"\",VLOOKUP($A41,NAGE!N$7:T$52,6,0))","v":""},{"$f":"IF(ISNA(VLOOKUP($A41,NAGE!N$7:T$52,7,0)),\"\",VLOOKUP($A41,NAGE!N$7:T$52,7,0))","v":""},{"$f":"IF($A41=\"\",\"\",VLOOKUP($A41,INSCRITS!$D$4:$W$506,14,0))","v":""},{"$f":"IF(ISNA(VLOOKUP($A41,SURFSKI!AC$8:AI$53,6,0)),\"\",VLOOKUP($A41,SURFSKI!AC$8:AI$53,6,0))","v":""},{"$f":"IF(ISNA(VLOOKUP($A41,SURFSKI!AC$8:AI$53,7,0)),\"\",VLOOKUP($A41,SURFSKI!AC$8:AI$53,7,0))","v":""},{"$f":"IF($A41=\"\",\"\",VLOOKUP($A41,INSCRITS!$D$4:$W$506,15,0))","v":""},{"$f":"IF(ISNA(VLOOKUP($A41,OCEANMAN!AD$7:AJ$52,6,0)),\"\",VLOOKUP($A41,OCEANMAN!AD$7:AJ$52,6,0))","v":""},{"$f":"IF(ISNA(VLOOKUP($A41,OCEANMAN!AD$7:AJ$52,7,0)),\"\",VLOOKUP($A41,OCEANMAN!AD$7:AJ$52,7,0))","v":""},{"$f":"IF($A41=\"\",\"\",VLOOKUP($A41,INSCRITS!$D$4:$W$506,16,0))","v":""},{"$f":"IF(ISNA(VLOOKUP($A41,CNC!N$7:AC$52,6,0)),\"\",VLOOKUP($A41,CNC!N$7:AC$52,6,0))","v":""},{"$f":"IF(ISNA(VLOOKUP($A41,CNC!N$7:AC$52,7,0)),\"\",VLOOKUP($A41,CNC!N$7:AC$52,7,0))","v":""},0,{"$f":"IF($A41=\"\",\"\",VLOOKUP($A41,INSCRITS!$D$4:$W$506,16,0))","v":""},null,{"$f":"IF(AG41=\"\",\"\",VLOOKUP(AG41,[0]!Relais,2))","v":""},{"$f":"IF($A41=\"\",\"\",VLOOKUP($A41,INSCRITS!$D$4:$W$506,17,0))","v":""},null,{"$f":"IF(AJ41=\"\",\"\",VLOOKUP(AJ41,[0]!Relais,2))","v":""},{"$f":"IF($A41=\"\",\"\",VLOOKUP($A41,INSCRITS!$D$4:$W$506,18,0))","v":""},null,{"$f":"IF(AM41=\"\",\"\",VLOOKUP(AM41,[0]!Relais,2))","v":""},{"$f":"IF($A41=\"\",\"\",VLOOKUP($A41,INSCRITS!$D$4:$W$506,19,0))","v":""},null,{"$f":"IF(AP41=\"\",\"\",VLOOKUP(AP41,[0]!Relais,2))","v":""},0,0]
[null,{"$f":"IF($A42=\"\",\"\",VLOOKUP($A42,INSCRITS!$D$4:$W$501,2,0))","v":""},{"$f":"IF($A42=\"\",\"\",VLOOKUP($A42,INSCRITS!$D$4:$W$501,3,0))","v":""},{"$f":"IF($A42=\"\",\"\",VLOOKUP($A42,INSCRITS!$D$4:$W$501,4,0))","v":""},{"$f":"IF($A42=\"\",\"\",VLOOKUP($A42,INSCRITS!$D$4:$W$501,5,0))","v":""},{"$f":"IF($A42=\"\",\"\",VLOOKUP($A42,INSCRITS!$D$4:$W$501,6,0))","v":""},{"$f":"IF($A42=\"\",\"\",VLOOKUP($A42,INSCRITS!$D$4:$W$501,7,0))","v":""},{"$f":"IF($A42=\"\",\"\",VLOOKUP($A42,INSCRITS!$D$4:$W$501,8,0))","v":""},{"$f":"IF($A42=\"\",\"\",VLOOKUP($A42,INSCRITS!$D$4:$W$501,9,0))","v":""},{"$f":"IF($A42=\"\",\"\",VLOOKUP($A42,INSCRITS!$D$4:$W$506,10,0))","v":""},{"$f":"IF(ISNA(VLOOKUP($A42,SPRINT!AD$7:AJ$50,6,0)),\"\",VLOOKUP($A42,SPRINT!AD$7:AJ$50,6,0))","v":""},{"$f":"IF(ISNA(VLOOKUP($A42,SPRINT!AD$7:AJ$50,7,0)),\"\",VLOOKUP($A42,SPRINT!AD$7:AJ$50,7,0))","v":""},{"$f":"IF($A42=\"\",\"\",VLOOKUP($A42,INSCRITS!$D$4:$W$506,11,0))","v":""},{"$f":"IF(ISNA(VLOOKUP($A42,BATONS!AD$7:AJ$51,6,0)),\"\",VLOOKUP($A42,BATONS!AD$7:AJ$51,6,0))","v":""},{"$f":"IF(ISNA(VLOOKUP($A42,BATONS!AD$7:AJ$51,7,0)),\"\",VLOOKUP($A42,BATONS!AD$7:AJ$51,7,0))","v":""},{"$f":"IF($A42=\"\",\"\",VLOOKUP($A42,INSCRITS!$D$4:$W$506,12,0))","v":""},{"$f":"IF(ISNA(VLOOKUP($A42,PLANCHE!AC$7:AI$52,6,0)),\"\",VLOOKUP($A42,PLANCHE!AC$7:AI$52,6,0))","v":""},{"$f":"IF(ISNA(VLOOKUP($A42,PLANCHE!AC$7:AI$52,7,0)),\"\",VLOOKUP($A42,PLANCHE!AC$7:AI$52,7,0))","v":""},{"$f":"IF($A42=\"\",\"\",VLOOKUP($A42,INSCRITS!$D$4:$W$506,13,0))","v":""},{"$f":"IF(ISNA(VLOOKUP($A42,NAGE!N$7:T$52,6,0)),\"\",VLOOKUP($A42,NAGE!N$7:T$52,6,0))","v":""},{"$f":"IF(ISNA(VLOOKUP($A42,NAGE!N$7:T$52,7,0)),\"\",VLOOKUP($A42,NAGE!N$7:T$52,7,0))","v":""},{"$f":"IF($A42=\"\",\"\",VLOOKUP($A42,INSCRITS!$D$4:$W$506,14,0))","v":""},{"$f":"IF(ISNA(VLOOKUP($A42,SURFSKI!AC$8:AI$53,6,0)),\"\",VLOOKUP($A42,SURFSKI!AC$8:AI$53,6,0))","v":""},{"$f":"IF(ISNA(VLOOKUP($A42,SURFSKI!AC$8:AI$53,7,0)),\"\",VLOOKUP($A42,SURFSKI!AC$8:AI$53,7,0))","v":""},{"$f":"IF($A42=\"\",\"\",VLOOKUP($A42,INSCRITS!$D$4:$W$506,15,0))","v":""},{"$f":"IF(ISNA(VLOOKUP($A42,OCEANMAN!AD$7:AJ$52,6,0)),\"\",VLOOKUP($A42,OCEANMAN!AD$7:AJ$52,6,0))","v":""},{"$f":"IF(ISNA(VLOOKUP($A42,OCEANMAN!AD$7:AJ$52,7,0)),\"\",VLOOKUP($A42,OCEANMAN!AD$7:AJ$52,7,0))","v":""},{"$f":"IF($A42=\"\",\"\",VLOOKUP($A42,INSCRITS!$D$4:$W$506,16,0))","v":""},{"$f":"IF(ISNA(VLOOKUP($A42,CNC!N$7:AC$52,6,0)),\"\",VLOOKUP($A42,CNC!N$7:AC$52,6,0))","v":""},{"$f":"IF(ISNA(VLOOKUP($A42,CNC!N$7:AC$52,7,0)),\"\",VLOOKUP($A42,CNC!N$7:AC$52,7,0))","v":""},0,{"$f":"IF($A42=\"\",\"\",VLOOKUP($A42,INSCRITS!$D$4:$W$506,16,0))","v":""},null,{"$f":"IF(AG42=\"\",\"\",VLOOKUP(AG42,[0]!Relais,2))","v":""},{"$f":"IF($A42=\"\",\"\",VLOOKUP($A42,INSCRITS!$D$4:$W$506,17,0))","v":""},null,{"$f":"IF(AJ42=\"\",\"\",VLOOKUP(AJ42,[0]!Relais,2))","v":""},{"$f":"IF($A42=\"\",\"\",VLOOKUP($A42,INSCRITS!$D$4:$W$506,18,0))","v":""},null,{"$f":"IF(AM42=\"\",\"\",VLOOKUP(AM42,[0]!Relais,2))","v":""},{"$f":"IF($A42=\"\",\"\",VLOOKUP($A42,INSCRITS!$D$4:$W$506,19,0))","v":""},null,{"$f":"IF(AP42=\"\",\"\",VLOOKUP(AP42,[0]!Relais,2))","v":""},0,0]
[null,{"$f":"IF($A43=\"\",\"\",VLOOKUP($A43,INSCRITS!$D$4:$W$501,2,0))","v":""},{"$f":"IF($A43=\"\",\"\",VLOOKUP($A43,INSCRITS!$D$4:$W$501,3,0))","v":""},{"$f":"IF($A43=\"\",\"\",VLOOKUP($A43,INSCRITS!$D$4:$W$501,4,0))","v":""},{"$f":"IF($A43=\"\",\"\",VLOOKUP($A43,INSCRITS!$D$4:$W$501,5,0))","v":""},{"$f":"IF($A43=\"\",\"\",VLOOKUP($A43,INSCRITS!$D$4:$W$501,6,0))","v":""},{"$f":"IF($A43=\"\",\"\",VLOOKUP($A43,INSCRITS!$D$4:$W$501,7,0))","v":""},{"$f":"IF($A43=\"\",\"\",VLOOKUP($A43,INSCRITS!$D$4:$W$501,8,0))","v":""},{"$f":"IF($A43=\"\",\"\",VLOOKUP($A43,INSCRITS!$D$4:$W$501,9,0))","v":""},{"$f":"IF($A43=\"\",\"\",VLOOKUP($A43,INSCRITS!$D$4:$W$506,10,0))","v":""},{"$f":"IF(ISNA(VLOOKUP($A43,SPRINT!AD$7:AJ$50,6,0)),\"\",VLOOKUP($A43,SPRINT!AD$7:AJ$50,6,0))","v":""},{"$f":"IF(ISNA(VLOOKUP($A43,SPRINT!AD$7:AJ$50,7,0)),\"\",VLOOKUP($A43,SPRINT!AD$7:AJ$50,7,0))","v":""},{"$f":"IF($A43=\"\",\"\",VLOOKUP($A43,INSCRITS!$D$4:$W$506,11,0))","v":""},{"$f":"IF(ISNA(VLOOKUP($A43,BATONS!AD$7:AJ$51,6,0)),\"\",VLOOKUP($A43,BATONS!AD$7:AJ$51,6,0))","v":""},{"$f":"IF(ISNA(VLOOKUP($A43,BATONS!AD$7:AJ$51,7,0)),\"\",VLOOKUP($A43,BATONS!AD$7:AJ$51,7,0))","v":""},{"$f":"IF($A43=\"\",\"\",VLOOKUP($A43,INSCRITS!$D$4:$W$506,12,0))","v":""},{"$f":"IF(ISNA(VLOOKUP($A43,PLANCHE!AC$7:AI$52,6,0)),\"\",VLOOKUP($A43,PLANCHE!AC$7:AI$52,6,0))","v":""},{"$f":"IF(ISNA(VLOOKUP($A43,PLANCHE!AC$7:AI$52,7,0)),\"\",VLOOKUP($A43,PLANCHE!AC$7:AI$52,7,0))","v":""},{"$f":"IF($A43=\"\",\"\",VLOOKUP($A43,INSCRITS!$D$4:$W$506,13,0))","v":""},{"$f":"IF(ISNA(VLOOKUP($A43,NAGE!N$7:T$52,6,0)),\"\",VLOOKUP($A43,NAGE!N$7:T$52,6,0))","v":""},{"$f":"IF(ISNA(VLOOKUP($A43,NAGE!N$7:T$52,7,0)),\"\",VLOOKUP($A43,NAGE!N$7:T$52,7,0))","v":""},{"$f":"IF($A43=\"\",\"\",VLOOKUP($A43,INSCRITS!$D$4:$W$506,14,0))","v":""},{"$f":"IF(ISNA(VLOOKUP($A43,SURFSKI!AC$8:AI$53,6,0)),\"\",VLOOKUP($A43,SURFSKI!AC$8:AI$53,6,0))","v":""},{"$f":"IF(ISNA(VLOOKUP($A43,SURFSKI!AC$8:AI$53,7,0)),\"\",VLOOKUP($A43,SURFSKI!AC$8:AI$53,7,0))","v":""},{"$f":"IF($A43=\"\",\"\",VLOOKUP($A43,INSCRITS!$D$4:$W$506,15,0))","v":""},{"$f":"IF(ISNA(VLOOKUP($A43,OCEANMAN!AD$7:AJ$52,6,0)),\"\",VLOOKUP($A43,OCEANMAN!AD$7:AJ$52,6,0))","v":""},{"$f":"IF(ISNA(VLOOKUP($A43,OCEANMAN!AD$7:AJ$52,7,0)),\"\",VLOOKUP($A43,OCEANMAN!AD$7:AJ$52,7,0))","v":""},{"$f":"IF($A43=\"\",\"\",VLOOKUP($A43,INSCRITS!$D$4:$W$506,16,0))","v":""},{"$f":"IF(ISNA(VLOOKUP($A43,CNC!N$7:AC$52,6,0)),\"\",VLOOKUP($A43,CNC!N$7:AC$52,6,0))","v":""},{"$f":"IF(ISNA(VLOOKUP($A43,CNC!N$7:AC$52,7,0)),\"\",VLOOKUP($A43,CNC!N$7:AC$52,7,0))","v":""},0,{"$f":"IF($A43=\"\",\"\",VLOOKUP($A43,INSCRITS!$D$4:$W$506,16,0))","v":""},null,{"$f":"IF(AG43=\"\",\"\",VLOOKUP(AG43,[0]!Relais,2))","v":""},{"$f":"IF($A43=\"\",\"\",VLOOKUP($A43,INSCRITS!$D$4:$W$506,17,0))","v":""},null,{"$f":"IF(AJ43=\"\",\"\",VLOOKUP(AJ43,[0]!Relais,2))","v":""},{"$f":"IF($A43=\"\",\"\",VLOOKUP($A43,INSCRITS!$D$4:$W$506,18,0))","v":""},null,{"$f":"IF(AM43=\"\",\"\",VLOOKUP(AM43,[0]!Relais,2))","v":""},{"$f":"IF($A43=\"\",\"\",VLOOKUP($A43,INSCRITS!$D$4:$W$506,19,0))","v":""},null,{"$f":"IF(AP43=\"\",\"\",VLOOKUP(AP43,[0]!Relais,2))","v":""},0,0]
[null,{"$f":"IF($A44=\"\",\"\",VLOOKUP($A44,INSCRITS!$D$4:$W$501,2,0))","v":""},{"$f":"IF($A44=\"\",\"\",VLOOKUP($A44,INSCRITS!$D$4:$W$501,3,0))","v":""},{"$f":"IF($A44=\"\",\"\",VLOOKUP($A44,INSCRITS!$D$4:$W$501,4,0))","v":""},{"$f":"IF($A44=\"\",\"\",VLOOKUP($A44,INSCRITS!$D$4:$W$501,5,0))","v":""},{"$f":"IF($A44=\"\",\"\",VLOOKUP($A44,INSCRITS!$D$4:$W$501,6,0))","v":""},{"$f":"IF($A44=\"\",\"\",VLOOKUP($A44,INSCRITS!$D$4:$W$501,7,0))","v":""},{"$f":"IF($A44=\"\",\"\",VLOOKUP($A44,INSCRITS!$D$4:$W$501,8,0))","v":""},{"$f":"IF($A44=\"\",\"\",VLOOKUP($A44,INSCRITS!$D$4:$W$501,9,0))","v":""},{"$f":"IF($A44=\"\",\"\",VLOOKUP($A44,INSCRITS!$D$4:$W$506,10,0))","v":""},{"$f":"IF(ISNA(VLOOKUP($A44,SPRINT!AD$7:AJ$50,6,0)),\"\",VLOOKUP($A44,SPRINT!AD$7:AJ$50,6,0))","v":""},{"$f":"IF(ISNA(VLOOKUP($A44,SPRINT!AD$7:AJ$50,7,0)),\"\",VLOOKUP($A44,SPRINT!AD$7:AJ$50,7,0))","v":""},{"$f":"IF($A44=\"\",\"\",VLOOKUP($A44,INSCRITS!$D$4:$W$506,11,0))","v":""},{"$f":"IF(ISNA(VLOOKUP($A44,BATONS!AD$7:AJ$51,6,0)),\"\",VLOOKUP($A44,BATONS!AD$7:AJ$51,6,0))","v":""},{"$f":"IF(ISNA(VLOOKUP($A44,BATONS!AD$7:AJ$51,7,0)),\"\",VLOOKUP($A44,BATONS!AD$7:AJ$51,7,0))","v":""},{"$f":"IF($A44=\"\",\"\",VLOOKUP($A44,INSCRITS!$D$4:$W$506,12,0))","v":""},{"$f":"IF(ISNA(VLOOKUP($A44,PLANCHE!AC$7:AI$52,6,0)),\"\",VLOOKUP($A44,PLANCHE!AC$7:AI$52,6,0))","v":""},{"$f":"IF(ISNA(VLOOKUP($A44,PLANCHE!AC$7:AI$52,7,0)),\"\",VLOOKUP($A44,PLANCHE!AC$7:AI$52,7,0))","v":""},{"$f":"IF($A44=\"\",\"\",VLOOKUP($A44,INSCRITS!$D$4:$W$506,13,0))","v":""},{"$f":"IF(ISNA(VLOOKUP($A44,NAGE!N$7:T$52,6,0)),\"\",VLOOKUP($A44,NAGE!N$7:T$52,6,0))","v":""},{"$f":"IF(ISNA(VLOOKUP($A44,NAGE!N$7:T$52,7,0)),\"\",VLOOKUP($A44,NAGE!N$7:T$52,7,0))","v":""},{"$f":"IF($A44=\"\",\"\",VLOOKUP($A44,INSCRITS!$D$4:$W$506,14,0))","v":""},{"$f":"IF(ISNA(VLOOKUP($A44,SURFSKI!AC$8:AI$53,6,0)),\"\",VLOOKUP($A44,SURFSKI!AC$8:AI$53,6,0))","v":""},{"$f":"IF(ISNA(VLOOKUP($A44,SURFSKI!AC$8:AI$53,7,0)),\"\",VLOOKUP($A44,SURFSKI!AC$8:AI$53,7,0))","v":""},{"$f":"IF($A44=\"\",\"\",VLOOKUP($A44,INSCRITS!$D$4:$W$506,15,0))","v":""},{"$f":"IF(ISNA(VLOOKUP($A44,OCEANMAN!AD$7:AJ$52,6,0)),\"\",VLOOKUP($A44,OCEANMAN!AD$7:AJ$52,6,0))","v":""},{"$f":"IF(ISNA(VLOOKUP($A44,OCEANMAN!AD$7:AJ$52,7,0)),\"\",VLOOKUP($A44,OCEANMAN!AD$7:AJ$52,7,0))","v":""},{"$f":"IF($A44=\"\",\"\",VLOOKUP($A44,INSCRITS!$D$4:$W$506,16,0))","v":""},{"$f":"IF(ISNA(VLOOKUP($A44,CNC!N$7:AC$52,6,0)),\"\",VLOOKUP($A44,CNC!N$7:AC$52,6,0))","v":""},{"$f":"IF(ISNA(VLOOKUP($A44,CNC!N$7:AC$52,7,0)),\"\",VLOOKUP($A44,CNC!N$7:AC$52,7,0))","v":""},0,{"$f":"IF($A44=\"\",\"\",VLOOKUP($A44,INSCRITS!$D$4:$W$506,16,0))","v":""},null,{"$f":"IF(AG44=\"\",\"\",VLOOKUP(AG44,[0]!Relais,2))","v":""},{"$f":"IF($A44=\"\",\"\",VLOOKUP($A44,INSCRITS!$D$4:$W$506,17,0))","v":""},null,{"$f":"IF(AJ44=\"\",\"\",VLOOKUP(AJ44,[0]!Relais,2))","v":""},{"$f":"IF($A44=\"\",\"\",VLOOKUP($A44,INSCRITS!$D$4:$W$506,18,0))","v":""},null,{"$f":"IF(AM44=\"\",\"\",VLOOKUP(AM44,[0]!Relais,2))","v":""},{"$f":"IF($A44=\"\",\"\",VLOOKUP($A44,INSCRITS!$D$4:$W$506,19,0))","v":""},null,{"$f":"IF(AP44=\"\",\"\",VLOOKUP(AP44,[0]!Relais,2))","v":""},0,0]
[null,{"$f":"IF($A45=\"\",\"\",VLOOKUP($A45,INSCRITS!$D$4:$W$501,2,0))","v":""},{"$f":"IF($A45=\"\",\"\",VLOOKUP($A45,INSCRITS!$D$4:$W$501,3,0))","v":""},{"$f":"IF($A45=\"\",\"\",VLOOKUP($A45,INSCRITS!$D$4:$W$501,4,0))","v":""},{"$f":"IF($A45=\"\",\"\",VLOOKUP($A45,INSCRITS!$D$4:$W$501,5,0))","v":""},{"$f":"IF($A45=\"\",\"\",VLOOKUP($A45,INSCRITS!$D$4:$W$501,6,0))","v":""},{"$f":"IF($A45=\"\",\"\",VLOOKUP($A45,INSCRITS!$D$4:$W$501,7,0))","v":""},{"$f":"IF($A45=\"\",\"\",VLOOKUP($A45,INSCRITS!$D$4:$W$501,8,0))","v":""},{"$f":"IF($A45=\"\",\"\",VLOOKUP($A45,INSCRITS!$D$4:$W$501,9,0))","v":""},{"$f":"IF($A45=\"\",\"\",VLOOKUP($A45,INSCRITS!$D$4:$W$506,10,0))","v":""},{"$f":"IF(ISNA(VLOOKUP($A45,SPRINT!AD$7:AJ$50,6,0)),\"\",VLOOKUP($A45,SPRINT!AD$7:AJ$50,6,0))","v":""},{"$f":"IF(ISNA(VLOOKUP($A45,SPRINT!AD$7:AJ$50,7,0)),\"\",VLOOKUP($A45,SPRINT!AD$7:AJ$50,7,0))","v":""},{"$f":"IF($A45=\"\",\"\",VLOOKUP($A45,INSCRITS!$D$4:$W$506,11,0))","v":""},{"$f":"IF(ISNA(VLOOKUP($A45,BATONS!AD$7:AJ$51,6,0)),\"\",VLOOKUP($A45,BATONS!AD$7:AJ$51,6,0))","v":""},{"$f":"IF(ISNA(VLOOKUP($A45,BATONS!AD$7:AJ$51,7,0)),\"\",VLOOKUP($A45,BATONS!AD$7:AJ$51,7,0))","v":""},{"$f":"IF($A45=\"\",\"\",VLOOKUP($A45,INSCRITS!$D$4:$W$506,12,0))","v":""},{"$f":"IF(ISNA(VLOOKUP($A45,PLANCHE!AC$7:AI$52,6,0)),\"\",VLOOKUP($A45,PLANCHE!AC$7:AI$52,6,0))","v":""},{"$f":"IF(ISNA(VLOOKUP($A45,PLANCHE!AC$7:AI$52,7,0)),\"\",VLOOKUP($A45,PLANCHE!AC$7:AI$52,7,0))","v":""},{"$f":"IF($A45=\"\",\"\",VLOOKUP($A45,INSCRITS!$D$4:$W$506,13,0))","v":""},{"$f":"IF(ISNA(VLOOKUP($A45,NAGE!N$7:T$52,6,0)),\"\",VLOOKUP($A45,NAGE!N$7:T$52,6,0))","v":""},{"$f":"IF(ISNA(VLOOKUP($A45,NAGE!N$7:T$52,7,0)),\"\",VLOOKUP($A45,NAGE!N$7:T$52,7,0))","v":""},{"$f":"IF($A45=\"\",\"\",VLOOKUP($A45,INSCRITS!$D$4:$W$506,14,0))","v":""},{"$f":"IF(ISNA(VLOOKUP($A45,SURFSKI!AC$8:AI$53,6,0)),\"\",VLOOKUP($A45,SURFSKI!AC$8:AI$53,6,0))","v":""},{"$f":"IF(ISNA(VLOOKUP($A45,SURFSKI!AC$8:AI$53,7,0)),\"\",VLOOKUP($A45,SURFSKI!AC$8:AI$53,7,0))","v":""},{"$f":"IF($A45=\"\",\"\",VLOOKUP($A45,INSCRITS!$D$4:$W$506,15,0))","v":""},{"$f":"IF(ISNA(VLOOKUP($A45,OCEANMAN!AD$7:AJ$52,6,0)),\"\",VLOOKUP($A45,OCEANMAN!AD$7:AJ$52,6,0))","v":""},{"$f":"IF(ISNA(VLOOKUP($A45,OCEANMAN!AD$7:AJ$52,7,0)),\"\",VLOOKUP($A45,OCEANMAN!AD$7:AJ$52,7,0))","v":""},{"$f":"IF($A45=\"\",\"\",VLOOKUP($A45,INSCRITS!$D$4:$W$506,16,0))","v":""},{"$f":"IF(ISNA(VLOOKUP($A45,CNC!N$7:AC$52,6,0)),\"\",VLOOKUP($A45,CNC!N$7:AC$52,6,0))","v":""},{"$f":"IF(ISNA(VLOOKUP($A45,CNC!N$7:AC$52,7,0)),\"\",VLOOKUP($A45,CNC!N$7:AC$52,7,0))","v":""},0,{"$f":"IF($A45=\"\",\"\",VLOOKUP($A45,INSCRITS!$D$4:$W$506,16,0))","v":""},null,{"$f":"IF(AG45=\"\",\"\",VLOOKUP(AG45,[0]!Relais,2))","v":""},{"$f":"IF($A45=\"\",\"\",VLOOKUP($A45,INSCRITS!$D$4:$W$506,17,0))","v":""},null,{"$f":"IF(AJ45=\"\",\"\",VLOOKUP(AJ45,[0]!Relais,2))","v":""},{"$f":"IF($A45=\"\",\"\",VLOOKUP($A45,INSCRITS!$D$4:$W$506,18,0))","v":""},null,{"$f":"IF(AM45=\"\",\"\",VLOOKUP(AM45,[0]!Relais,2))","v":""},{"$f":"IF($A45=\"\",\"\",VLOOKUP($A45,INSCRITS!$D$4:$W$506,19,0))","v":""},null,{"$f":"IF(AP45=\"\",\"\",VLOOKUP(AP45,[0]!Relais,2))","v":""},0,0]
[null,{"$f":"IF($A46=\"\",\"\",VLOOKUP($A46,INSCRITS!$D$4:$W$501,2,0))","v":""},{"$f":"IF($A46=\"\",\"\",VLOOKUP($A46,INSCRITS!$D$4:$W$501,3,0))","v":""},{"$f":"IF($A46=\"\",\"\",VLOOKUP($A46,INSCRITS!$D$4:$W$501,4,0))","v":""},{"$f":"IF($A46=\"\",\"\",VLOOKUP($A46,INSCRITS!$D$4:$W$501,5,0))","v":""},{"$f":"IF($A46=\"\",\"\",VLOOKUP($A46,INSCRITS!$D$4:$W$501,6,0))","v":""},{"$f":"IF($A46=\"\",\"\",VLOOKUP($A46,INSCRITS!$D$4:$W$501,7,0))","v":""},{"$f":"IF($A46=\"\",\"\",VLOOKUP($A46,INSCRITS!$D$4:$W$501,8,0))","v":""},{"$f":"IF($A46=\"\",\"\",VLOOKUP($A46,INSCRITS!$D$4:$W$501,9,0))","v":""},{"$f":"IF($A46=\"\",\"\",VLOOKUP($A46,INSCRITS!$D$4:$W$506,10,0))","v":""},{"$f":"IF(ISNA(VLOOKUP($A46,SPRINT!AD$7:AJ$50,6,0)),\"\",VLOOKUP($A46,SPRINT!AD$7:AJ$50,6,0))","v":""},{"$f":"IF(ISNA(VLOOKUP($A46,SPRINT!AD$7:AJ$50,7,0)),\"\",VLOOKUP($A46,SPRINT!AD$7:AJ$50,7,0))","v":""},{"$f":"IF($A46=\"\",\"\",VLOOKUP($A46,INSCRITS!$D$4:$W$506,11,0))","v":""},{"$f":"IF(ISNA(VLOOKUP($A46,BATONS!AD$7:AJ$51,6,0)),\"\",VLOOKUP($A46,BATONS!AD$7:AJ$51,6,0))","v":""},{"$f":"IF(ISNA(VLOOKUP($A46,BATONS!AD$7:AJ$51,7,0)),\"\",VLOOKUP($A46,BATONS!AD$7:AJ$51,7,0))","v":""},{"$f":"IF($A46=\"\",\"\",VLOOKUP($A46,INSCRITS!$D$4:$W$506,12,0))","v":""},{"$f":"IF(ISNA(VLOOKUP($A46,PLANCHE!AC$7:AI$52,6,0)),\"\",VLOOKUP($A46,PLANCHE!AC$7:AI$52,6,0))","v":""},{"$f":"IF(ISNA(VLOOKUP($A46,PLANCHE!AC$7:AI$52,7,0)),\"\",VLOOKUP($A46,PLANCHE!AC$7:AI$52,7,0))","v":""},{"$f":"IF($A46=\"\",\"\",VLOOKUP($A46,INSCRITS!$D$4:$W$506,13,0))","v":""},{"$f":"IF(ISNA(VLOOKUP($A46,NAGE!N$7:T$52,6,0)),\"\",VLOOKUP($A46,NAGE!N$7:T$52,6,0))","v":""},{"$f":"IF(ISNA(VLOOKUP($A46,NAGE!N$7:T$52,7,0)),\"\",VLOOKUP($A46,NAGE!N$7:T$52,7,0))","v":""},{"$f":"IF($A46=\"\",\"\",VLOOKUP($A46,INSCRITS!$D$4:$W$506,14,0))","v":""},{"$f":"IF(ISNA(VLOOKUP($A46,SURFSKI!AC$8:AI$53,6,0)),\"\",VLOOKUP($A46,SURFSKI!AC$8:AI$53,6,0))","v":""},{"$f":"IF(ISNA(VLOOKUP($A46,SURFSKI!AC$8:AI$53,7,0)),\"\",VLOOKUP($A46,SURFSKI!AC$8:AI$53,7,0))","v":""},{"$f":"IF($A46=\"\",\"\",VLOOKUP($A46,INSCRITS!$D$4:$W$506,15,0))","v":""},{"$f":"IF(ISNA(VLOOKUP($A46,OCEANMAN!AD$7:AJ$52,6,0)),\"\",VLOOKUP($A46,OCEANMAN!AD$7:AJ$52,6,0))","v":""},{"$f":"IF(ISNA(VLOOKUP($A46,OCEANMAN!AD$7:AJ$52,7,0)),\"\",VLOOKUP($A46,OCEANMAN!AD$7:AJ$52,7,0))","v":""},{"$f":"IF($A46=\"\",\"\",VLOOKUP($A46,INSCRITS!$D$4:$W$506,16,0))","v":""},{"$f":"IF(ISNA(VLOOKUP($A46,CNC!N$7:AC$52,6,0)),\"\",VLOOKUP($A46,CNC!N$7:AC$52,6,0))","v":""},{"$f":"IF(ISNA(VLOOKUP($A46,CNC!N$7:AC$52,7,0)),\"\",VLOOKUP($A46,CNC!N$7:AC$52,7,0))","v":""},0,{"$f":"IF($A46=\"\",\"\",VLOOKUP($A46,INSCRITS!$D$4:$W$506,16,0))","v":""},null,{"$f":"IF(AG46=\"\",\"\",VLOOKUP(AG46,[0]!Relais,2))","v":""},{"$f":"IF($A46=\"\",\"\",VLOOKUP($A46,INSCRITS!$D$4:$W$506,17,0))","v":""},null,{"$f":"IF(AJ46=\"\",\"\",VLOOKUP(AJ46,[0]!Relais,2))","v":""},{"$f":"IF($A46=\"\",\"\",VLOOKUP($A46,INSCRITS!$D$4:$W$506,18,0))","v":""},null,{"$f":"IF(AM46=\"\",\"\",VLOOKUP(AM46,[0]!Relais,2))","v":""},{"$f":"IF($A46=\"\",\"\",VLOOKUP($A46,INSCRITS!$D$4:$W$506,19,0))","v":""},null,{"$f":"IF(AP46=\"\",\"\",VLOOKUP(AP46,[0]!Relais,2))","v":""},0,0]
[null,{"$f":"IF($A47=\"\",\"\",VLOOKUP($A47,INSCRITS!$D$4:$W$501,2,0))","v":""},{"$f":"IF($A47=\"\",\"\",VLOOKUP($A47,INSCRITS!$D$4:$W$501,3,0))","v":""},{"$f":"IF($A47=\"\",\"\",VLOOKUP($A47,INSCRITS!$D$4:$W$501,4,0))","v":""},{"$f":"IF($A47=\"\",\"\",VLOOKUP($A47,INSCRITS!$D$4:$W$501,5,0))","v":""},{"$f":"IF($A47=\"\",\"\",VLOOKUP($A47,INSCRITS!$D$4:$W$501,6,0))","v":""},{"$f":"IF($A47=\"\",\"\",VLOOKUP($A47,INSCRITS!$D$4:$W$501,7,0))","v":""},{"$f":"IF($A47=\"\",\"\",VLOOKUP($A47,INSCRITS!$D$4:$W$501,8,0))","v":""},{"$f":"IF($A47=\"\",\"\",VLOOKUP($A47,INSCRITS!$D$4:$W$501,9,0))","v":""},{"$f":"IF($A47=\"\",\"\",VLOOKUP($A47,INSCRITS!$D$4:$W$506,10,0))","v":""},{"$f":"IF(ISNA(VLOOKUP($A47,SPRINT!AD$7:AJ$50,6,0)),\"\",VLOOKUP($A47,SPRINT!AD$7:AJ$50,6,0))","v":""},{"$f":"IF(ISNA(VLOOKUP($A47,SPRINT!AD$7:AJ$50,7,0)),\"\",VLOOKUP($A47,SPRINT!AD$7:AJ$50,7,0))","v":""},{"$f":"IF($A47=\"\",\"\",VLOOKUP($A47,INSCRITS!$D$4:$W$506,11,0))","v":""},{"$f":"IF(ISNA(VLOOKUP($A47,BATONS!AD$7:AJ$51,6,0)),\"\",VLOOKUP($A47,BATONS!AD$7:AJ$51,6,0))","v":""},{"$f":"IF(ISNA(VLOOKUP($A47,BATONS!AD$7:AJ$51,7,0)),\"\",VLOOKUP($A47,BATONS!AD$7:AJ$51,7,0))","v":""},{"$f":"IF($A47=\"\",\"\",VLOOKUP($A47,INSCRITS!$D$4:$W$506,12,0))","v":""},{"$f":"IF(ISNA(VLOOKUP($A47,PLANCHE!AC$7:AI$52,6,0)),\"\",VLOOKUP($A47,PLANCHE!AC$7:AI$52,6,0))","v":""},{"$f":"IF(ISNA(VLOOKUP($A47,PLANCHE!AC$7:AI$52,7,0)),\"\",VLOOKUP($A47,PLANCHE!AC$7:AI$52,7,0))","v":""},{"$f":"IF($A47=\"\",\"\",VLOOKUP($A47,INSCRITS!$D$4:$W$506,13,0))","v":""},{"$f":"IF(ISNA(VLOOKUP($A47,NAGE!N$7:T$52,6,0)),\"\",VLOOKUP($A47,NAGE!N$7:T$52,6,0))","v":""},{"$f":"IF(ISNA(VLOOKUP($A47,NAGE!N$7:T$52,7,0)),\"\",VLOOKUP($A47,NAGE!N$7:T$52,7,0))","v":""},{"$f":"IF($A47=\"\",\"\",VLOOKUP($A47,INSCRITS!$D$4:$W$506,14,0))","v":""},{"$f":"IF(ISNA(VLOOKUP($A47,SURFSKI!AC$8:AI$53,6,0)),\"\",VLOOKUP($A47,SURFSKI!AC$8:AI$53,6,0))","v":""},{"$f":"IF(ISNA(VLOOKUP($A47,SURFSKI!AC$8:AI$53,7,0)),\"\",VLOOKUP($A47,SURFSKI!AC$8:AI$53,7,0))","v":""},{"$f":"IF($A47=\"\",\"\",VLOOKUP($A47,INSCRITS!$D$4:$W$506,15,0))","v":""},{"$f":"IF(ISNA(VLOOKUP($A47,OCEANMAN!AD$7:AJ$52,6,0)),\"\",VLOOKUP($A47,OCEANMAN!AD$7:AJ$52,6,0))","v":""},{"$f":"IF(ISNA(VLOOKUP($A47,OCEANMAN!AD$7:AJ$52,7,0)),\"\",VLOOKUP($A47,OCEANMAN!AD$7:AJ$52,7,0))","v":""},{"$f":"IF($A47=\"\",\"\",VLOOKUP($A47,INSCRITS!$D$4:$W$506,16,0))","v":""},{"$f":"IF(ISNA(VLOOKUP($A47,CNC!N$7:AC$52,6,0)),\"\",VLOOKUP($A47,CNC!N$7:AC$52,6,0))","v":""},{"$f":"IF(ISNA(VLOOKUP($A47,CNC!N$7:AC$52,7,0)),\"\",VLOOKUP($A47,CNC!N$7:AC$52,7,0))","v":""},0,{"$f":"IF($A47=\"\",\"\",VLOOKUP($A47,INSCRITS!$D$4:$W$506,16,0))","v":""},null,{"$f":"IF(AG47=\"\",\"\",VLOOKUP(AG47,[0]!Relais,2))","v":""},{"$f":"IF($A47=\"\",\"\",VLOOKUP($A47,INSCRITS!$D$4:$W$506,17,0))","v":""},null,{"$f":"IF(AJ47=\"\",\"\",VLOOKUP(AJ47,[0]!Relais,2))","v":""},{"$f":"IF($A47=\"\",\"\",VLOOKUP($A47,INSCRITS!$D$4:$W$506,18,0))","v":""},null,{"$f":"IF(AM47=\"\",\"\",VLOOKUP(AM47,[0]!Relais,2))","v":""},{"$f":"IF($A47=\"\",\"\",VLOOKUP($A47,INSCRITS!$D$4:$W$506,19,0))","v":""},null,{"$f":"IF(AP47=\"\",\"\",VLOOKUP(AP47,[0]!Relais,2))","v":""},0,0]
[null,{"$f":"IF($A48=\"\",\"\",VLOOKUP($A48,INSCRITS!$D$4:$W$501,2,0))","v":""},{"$f":"IF($A48=\"\",\"\",VLOOKUP($A48,INSCRITS!$D$4:$W$501,3,0))","v":""},{"$f":"IF($A48=\"\",\"\",VLOOKUP($A48,INSCRITS!$D$4:$W$501,4,0))","v":""},{"$f":"IF($A48=\"\",\"\",VLOOKUP($A48,INSCRITS!$D$4:$W$501,5,0))","v":""},{"$f":"IF($A48=\"\",\"\",VLOOKUP($A48,INSCRITS!$D$4:$W$501,6,0))","v":""},{"$f":"IF($A48=\"\",\"\",VLOOKUP($A48,INSCRITS!$D$4:$W$501,7,0))","v":""},{"$f":"IF($A48=\"\",\"\",VLOOKUP($A48,INSCRITS!$D$4:$W$501,8,0))","v":""},{"$f":"IF($A48=\"\",\"\",VLOOKUP($A48,INSCRITS!$D$4:$W$501,9,0))","v":""},{"$f":"IF($A48=\"\",\"\",VLOOKUP($A48,INSCRITS!$D$4:$W$506,10,0))","v":""},{"$f":"IF(ISNA(VLOOKUP($A48,SPRINT!AD$7:AJ$50,6,0)),\"\",VLOOKUP($A48,SPRINT!AD$7:AJ$50,6,0))","v":""},{"$f":"IF(ISNA(VLOOKUP($A48,SPRINT!AD$7:AJ$50,7,0)),\"\",VLOOKUP($A48,SPRINT!AD$7:AJ$50,7,0))","v":""},{"$f":"IF($A48=\"\",\"\",VLOOKUP($A48,INSCRITS!$D$4:$W$506,11,0))","v":""},{"$f":"IF(ISNA(VLOOKUP($A48,BATONS!AD$7:AJ$51,6,0)),\"\",VLOOKUP($A48,BATONS!AD$7:AJ$51,6,0))","v":""},{"$f":"IF(ISNA(VLOOKUP($A48,BATONS!AD$7:AJ$51,7,0)),\"\",VLOOKUP($A48,BATONS!AD$7:AJ$51,7,0))","v":""},{"$f":"IF($A48=\"\",\"\",VLOOKUP($A48,INSCRITS!$D$4:$W$506,12,0))","v":""},{"$f":"IF(ISNA(VLOOKUP($A48,PLANCHE!AC$7:AI$52,6,0)),\"\",VLOOKUP($A48,PLANCHE!AC$7:AI$52,6,0))","v":""},{"$f":"IF(ISNA(VLOOKUP($A48,PLANCHE!AC$7:AI$52,7,0)),\"\",VLOOKUP($A48,PLANCHE!AC$7:AI$52,7,0))","v":""},{"$f":"IF($A48=\"\",\"\",VLOOKUP($A48,INSCRITS!$D$4:$W$506,13,0))","v":""},{"$f":"IF(ISNA(VLOOKUP($A48,NAGE!N$7:T$52,6,0)),\"\",VLOOKUP($A48,NAGE!N$7:T$52,6,0))","v":""},{"$f":"IF(ISNA(VLOOKUP($A48,NAGE!N$7:T$52,7,0)),\"\",VLOOKUP($A48,NAGE!N$7:T$52,7,0))","v":""},{"$f":"IF($A48=\"\",\"\",VLOOKUP($A48,INSCRITS!$D$4:$W$506,14,0))","v":""},{"$f":"IF(ISNA(VLOOKUP($A48,SURFSKI!AC$8:AI$53,6,0)),\"\",VLOOKUP($A48,SURFSKI!AC$8:AI$53,6,0))","v":""},{"$f":"IF(ISNA(VLOOKUP($A48,SURFSKI!AC$8:AI$53,7,0)),\"\",VLOOKUP($A48,SURFSKI!AC$8:AI$53,7,0))","v":""},{"$f":"IF($A48=\"\",\"\",VLOOKUP($A48,INSCRITS!$D$4:$W$506,15,0))","v":""},{"$f":"IF(ISNA(VLOOKUP($A48,OCEANMAN!AD$7:AJ$52,6,0)),\"\",VLOOKUP($A48,OCEANMAN!AD$7:AJ$52,6,0))","v":""},{"$f":"IF(ISNA(VLOOKUP($A48,OCEANMAN!AD$7:AJ$52,7,0)),\"\",VLOOKUP($A48,OCEANMAN!AD$7:AJ$52,7,0))","v":""},{"$f":"IF($A48=\"\",\"\",VLOOKUP($A48,INSCRITS!$D$4:$W$506,16,0))","v":""},{"$f":"IF(ISNA(VLOOKUP($A48,CNC!N$7:AC$52,6,0)),\"\",VLOOKUP($A48,CNC!N$7:AC$52,6,0))","v":""},{"$f":"IF(ISNA(VLOOKUP($A48,CNC!N$7:AC$52,7,0)),\"\",VLOOKUP($A48,CNC!N$7:AC$52,7,0))","v":""},0,{"$f":"IF($A48=\"\",\"\",VLOOKUP($A48,INSCRITS!$D$4:$W$506,16,0))","v":""},null,{"$f":"IF(AG48=\"\",\"\",VLOOKUP(AG48,[0]!Relais,2))","v":""},{"$f":"IF($A48=\"\",\"\",VLOOKUP($A48,INSCRITS!$D$4:$W$506,17,0))","v":""},null,{"$f":"IF(AJ48=\"\",\"\",VLOOKUP(AJ48,[0]!Relais,2))","v":""},{"$f":"IF($A48=\"\",\"\",VLOOKUP($A48,INSCRITS!$D$4:$W$506,18,0))","v":""},null,{"$f":"IF(AM48=\"\",\"\",VLOOKUP(AM48,[0]!Relais,2))","v":""},{"$f":"IF($A48=\"\",\"\",VLOOKUP($A48,INSCRITS!$D$4:$W$506,19,0))","v":""},null,{"$f":"IF(AP48=\"\",\"\",VLOOKUP(AP48,[0]!Relais,2))","v":""},0,0]
[null,{"$f":"IF($A49=\"\",\"\",VLOOKUP($A49,INSCRITS!$D$4:$W$501,2,0))","v":""},{"$f":"IF($A49=\"\",\"\",VLOOKUP($A49,INSCRITS!$D$4:$W$501,3,0))","v":""},{"$f":"IF($A49=\"\",\"\",VLOOKUP($A49,INSCRITS!$D$4:$W$501,4,0))","v":""},{"$f":"IF($A49=\"\",\"\",VLOOKUP($A49,INSCRITS!$D$4:$W$501,5,0))","v":""},{"$f":"IF($A49=\"\",\"\",VLOOKUP($A49,INSCRITS!$D$4:$W$501,6,0))","v":""},{"$f":"IF($A49=\"\",\"\",VLOOKUP($A49,INSCRITS!$D$4:$W$501,7,0))","v":""},{"$f":"IF($A49=\"\",\"\",VLOOKUP($A49,INSCRITS!$D$4:$W$501,8,0))","v":""},{"$f":"IF($A49=\"\",\"\",VLOOKUP($A49,INSCRITS!$D$4:$W$501,9,0))","v":""},{"$f":"IF($A49=\"\",\"\",VLOOKUP($A49,INSCRITS!$D$4:$W$506,10,0))","v":""},{"$f":"IF(ISNA(VLOOKUP($A49,SPRINT!AD$7:AJ$50,6,0)),\"\",VLOOKUP($A49,SPRINT!AD$7:AJ$50,6,0))","v":""},{"$f":"IF(ISNA(VLOOKUP($A49,SPRINT!AD$7:AJ$50,7,0)),\"\",VLOOKUP($A49,SPRINT!AD$7:AJ$50,7,0))","v":""},{"$f":"IF($A49=\"\",\"\",VLOOKUP($A49,INSCRITS!$D$4:$W$506,11,0))","v":""},{"$f":"IF(ISNA(VLOOKUP($A49,BATONS!AD$7:AJ$51,6,0)),\"\",VLOOKUP($A49,BATONS!AD$7:AJ$51,6,0))","v":""},{"$f":"IF(ISNA(VLOOKUP($A49,BATONS!AD$7:AJ$51,7,0)),\"\",VLOOKUP($A49,BATONS!AD$7:AJ$51,7,0))","v":""},{"$f":"IF($A49=\"\",\"\",VLOOKUP($A49,INSCRITS!$D$4:$W$506,12,0))","v":""},{"$f":"IF(ISNA(VLOOKUP($A49,PLANCHE!AC$7:AI$52,6,0)),\"\",VLOOKUP($A49,PLANCHE!AC$7:AI$52,6,0))","v":""},{"$f":"IF(ISNA(VLOOKUP($A49,PLANCHE!AC$7:AI$52,7,0)),\"\",VLOOKUP($A49,PLANCHE!AC$7:AI$52,7,0))","v":""},{"$f":"IF($A49=\"\",\"\",VLOOKUP($A49,INSCRITS!$D$4:$W$506,13,0))","v":""},{"$f":"IF(ISNA(VLOOKUP($A49,NAGE!N$7:T$52,6,0)),\"\",VLOOKUP($A49,NAGE!N$7:T$52,6,0))","v":""},{"$f":"IF(ISNA(VLOOKUP($A49,NAGE!N$7:T$52,7,0)),\"\",VLOOKUP($A49,NAGE!N$7:T$52,7,0))","v":""},{"$f":"IF($A49=\"\",\"\",VLOOKUP($A49,INSCRITS!$D$4:$W$506,14,0))","v":""},{"$f":"IF(ISNA(VLOOKUP($A49,SURFSKI!AC$8:AI$53,6,0)),\"\",VLOOKUP($A49,SURFSKI!AC$8:AI$53,6,0))","v":""},{"$f":"IF(ISNA(VLOOKUP($A49,SURFSKI!AC$8:AI$53,7,0)),\"\",VLOOKUP($A49,SURFSKI!AC$8:AI$53,7,0))","v":""},{"$f":"IF($A49=\"\",\"\",VLOOKUP($A49,INSCRITS!$D$4:$W$506,15,0))","v":""},{"$f":"IF(ISNA(VLOOKUP($A49,OCEANMAN!AD$7:AJ$52,6,0)),\"\",VLOOKUP($A49,OCEANMAN!AD$7:AJ$52,6,0))","v":""},{"$f":"IF(ISNA(VLOOKUP($A49,OCEANMAN!AD$7:AJ$52,7,0)),\"\",VLOOKUP($A49,OCEANMAN!AD$7:AJ$52,7,0))","v":""},{"$f":"IF($A49=\"\",\"\",VLOOKUP($A49,INSCRITS!$D$4:$W$506,16,0))","v":""},{"$f":"IF(ISNA(VLOOKUP($A49,CNC!N$7:AC$52,6,0)),\"\",VLOOKUP($A49,CNC!N$7:AC$52,6,0))","v":""},{"$f":"IF(ISNA(VLOOKUP($A49,CNC!N$7:AC$52,7,0)),\"\",VLOOKUP($A49,CNC!N$7:AC$52,7,0))","v":""},0,{"$f":"IF($A49=\"\",\"\",VLOOKUP($A49,INSCRITS!$D$4:$W$506,16,0))","v":""},null,{"$f":"IF(AG49=\"\",\"\",VLOOKUP(AG49,[0]!Relais,2))","v":""},{"$f":"IF($A49=\"\",\"\",VLOOKUP($A49,INSCRITS!$D$4:$W$506,17,0))","v":""},null,{"$f":"IF(AJ49=\"\",\"\",VLOOKUP(AJ49,[0]!Relais,2))","v":""},{"$f":"IF($A49=\"\",\"\",VLOOKUP($A49,INSCRITS!$D$4:$W$506,18,0))","v":""},null,{"$f":"IF(AM49=\"\",\"\",VLOOKUP(AM49,[0]!Relais,2))","v":""},{"$f":"IF($A49=\"\",\"\",VLOOKUP($A49,INSCRITS!$D$4:$W$506,19,0))","v":""},null,{"$f":"IF(AP49=\"\",\"\",VLOOKUP(AP49,[0]!Relais,2))","v":""},0,0]
[null,{"$f":"IF($A50=\"\",\"\",VLOOKUP($A50,INSCRITS!$D$4:$W$501,2,0))","v":""},{"$f":"IF($A50=\"\",\"\",VLOOKUP($A50,INSCRITS!$D$4:$W$501,3,0))","v":""},{"$f":"IF($A50=\"\",\"\",VLOOKUP($A50,INSCRITS!$D$4:$W$501,4,0))","v":""},{"$f":"IF($A50=\"\",\"\",VLOOKUP($A50,INSCRITS!$D$4:$W$501,5,0))","v":""},{"$f":"IF($A50=\"\",\"\",VLOOKUP($A50,INSCRITS!$D$4:$W$501,6,0))","v":""},{"$f":"IF($A50=\"\",\"\",VLOOKUP($A50,INSCRITS!$D$4:$W$501,7,0))","v":""},{"$f":"IF($A50=\"\",\"\",VLOOKUP($A50,INSCRITS!$D$4:$W$501,8,0))","v":""},{"$f":"IF($A50=\"\",\"\",VLOOKUP($A50,INSCRITS!$D$4:$W$501,9,0))","v":""},{"$f":"IF($A50=\"\",\"\",VLOOKUP($A50,INSCRITS!$D$4:$W$506,10,0))","v":""},{"$f":"IF(ISNA(VLOOKUP($A50,SPRINT!AD$7:AJ$50,6,0)),\"\",VLOOKUP($A50,SPRINT!AD$7:AJ$50,6,0))","v":""},{"$f":"IF(ISNA(VLOOKUP($A50,SPRINT!AD$7:AJ$50,7,0)),\"\",VLOOKUP($A50,SPRINT!AD$7:AJ$50,7,0))","v":""},{"$f":"IF($A50=\"\",\"\",VLOOKUP($A50,INSCRITS!$D$4:$W$506,11,0))","v":""},{"$f":"IF(ISNA(VLOOKUP($A50,BATONS!AD$7:AJ$51,6,0)),\"\",VLOOKUP($A50,BATONS!AD$7:AJ$51,6,0))","v":""},{"$f":"IF(ISNA(VLOOKUP($A50,BATONS!AD$7:AJ$51,7,0)),\"\",VLOOKUP($A50,BATONS!AD$7:AJ$51,7,0))","v":""},{"$f":"IF($A50=\"\",\"\",VLOOKUP($A50,INSCRITS!$D$4:$W$506,12,0))","v":""},{"$f":"IF(ISNA(VLOOKUP($A50,PLANCHE!AC$7:AI$52,6,0)),\"\",VLOOKUP($A50,PLANCHE!AC$7:AI$52,6,0))","v":""},{"$f":"IF(ISNA(VLOOKUP($A50,PLANCHE!AC$7:AI$52,7,0)),\"\",VLOOKUP($A50,PLANCHE!AC$7:AI$52,7,0))","v":""},{"$f":"IF($A50=\"\",\"\",VLOOKUP($A50,INSCRITS!$D$4:$W$506,13,0))","v":""},{"$f":"IF(ISNA(VLOOKUP($A50,NAGE!N$7:T$52,6,0)),\"\",VLOOKUP($A50,NAGE!N$7:T$52,6,0))","v":""},{"$f":"IF(ISNA(VLOOKUP($A50,NAGE!N$7:T$52,7,0)),\"\",VLOOKUP($A50,NAGE!N$7:T$52,7,0))","v":""},{"$f":"IF($A50=\"\",\"\",VLOOKUP($A50,INSCRITS!$D$4:$W$506,14,0))","v":""},{"$f":"IF(ISNA(VLOOKUP($A50,SURFSKI!AC$8:AI$53,6,0)),\"\",VLOOKUP($A50,SURFSKI!AC$8:AI$53,6,0))","v":""},{"$f":"IF(ISNA(VLOOKUP($A50,SURFSKI!AC$8:AI$53,7,0)),\"\",VLOOKUP($A50,SURFSKI!AC$8:AI$53,7,0))","v":""},{"$f":"IF($A50=\"\",\"\",VLOOKUP($A50,INSCRITS!$D$4:$W$506,15,0))","v":""},{"$f":"IF(ISNA(VLOOKUP($A50,OCEANMAN!AD$7:AJ$52,6,0)),\"\",VLOOKUP($A50,OCEANMAN!AD$7:AJ$52,6,0))","v":""},{"$f":"IF(ISNA(VLOOKUP($A50,OCEANMAN!AD$7:AJ$52,7,0)),\"\",VLOOKUP($A50,OCEANMAN!AD$7:AJ$52,7,0))","v":""},{"$f":"IF($A50=\"\",\"\",VLOOKUP($A50,INSCRITS!$D$4:$W$506,16,0))","v":""},{"$f":"IF(ISNA(VLOOKUP($A50,CNC!N$7:AC$52,6,0)),\"\",VLOOKUP($A50,CNC!N$7:AC$52,6,0))","v":""},{"$f":"IF(ISNA(VLOOKUP($A50,CNC!N$7:AC$52,7,0)),\"\",VLOOKUP($A50,CNC!N$7:AC$52,7,0))","v":""},0,{"$f":"IF($A50=\"\",\"\",VLOOKUP($A50,INSCRITS!$D$4:$W$506,16,0))","v":""},null,{"$f":"IF(AG50=\"\",\"\",VLOOKUP(AG50,[0]!Relais,2))","v":""},{"$f":"IF($A50=\"\",\"\",VLOOKUP($A50,INSCRITS!$D$4:$W$506,17,0))","v":""},null,{"$f":"IF(AJ50=\"\",\"\",VLOOKUP(AJ50,[0]!Relais,2))","v":""},{"$f":"IF($A50=\"\",\"\",VLOOKUP($A50,INSCRITS!$D$4:$W$506,18,0))","v":""},null,{"$f":"IF(AM50=\"\",\"\",VLOOKUP(AM50,[0]!Relais,2))","v":""},{"$f":"IF($A50=\"\",\"\",VLOOKUP($A50,INSCRITS!$D$4:$W$506,19,0))","v":""},null,{"$f":"IF(AP50=\"\",\"\",VLOOKUP(AP50,[0]!Relais,2))","v":""},0,0]
[null,{"$f":"IF($A51=\"\",\"\",VLOOKUP($A51,INSCRITS!$D$4:$W$501,2,0))","v":""},{"$f":"IF($A51=\"\",\"\",VLOOKUP($A51,INSCRITS!$D$4:$W$501,3,0))","v":""},{"$f":"IF($A51=\"\",\"\",VLOOKUP($A51,INSCRITS!$D$4:$W$501,4,0))","v":""},{"$f":"IF($A51=\"\",\"\",VLOOKUP($A51,INSCRITS!$D$4:$W$501,5,0))","v":""},{"$f":"IF($A51=\"\",\"\",VLOOKUP($A51,INSCRITS!$D$4:$W$501,6,0))","v":""},{"$f":"IF($A51=\"\",\"\",VLOOKUP($A51,INSCRITS!$D$4:$W$501,7,0))","v":""},{"$f":"IF($A51=\"\",\"\",VLOOKUP($A51,INSCRITS!$D$4:$W$501,8,0))","v":""},{"$f":"IF($A51=\"\",\"\",VLOOKUP($A51,INSCRITS!$D$4:$W$501,9,0))","v":""},{"$f":"IF($A51=\"\",\"\",VLOOKUP($A51,INSCRITS!$D$4:$W$506,10,0))","v":""},{"$f":"IF(ISNA(VLOOKUP($A51,SPRINT!AD$7:AJ$50,6,0)),\"\",VLOOKUP($A51,SPRINT!AD$7:AJ$50,6,0))","v":""},{"$f":"IF(ISNA(VLOOKUP($A51,SPRINT!AD$7:AJ$50,7,0)),\"\",VLOOKUP($A51,SPRINT!AD$7:AJ$50,7,0))","v":""},{"$f":"IF($A51=\"\",\"\",VLOOKUP($A51,INSCRITS!$D$4:$W$506,11,0))","v":""},{"$f":"IF(ISNA(VLOOKUP($A51,BATONS!AD$7:AJ$51,6,0)),\"\",VLOOKUP($A51,BATONS!AD$7:AJ$51,6,0))","v":""},{"$f":"IF(ISNA(VLOOKUP($A51,BATONS!AD$7:AJ$51,7,0)),\"\",VLOOKUP($A51,BATONS!AD$7:AJ$51,7,0))","v":""},{"$f":"IF($A51=\"\",\"\",VLOOKUP($A51,INSCRITS!$D$4:$W$506,12,0))","v":""},{"$f":"IF(ISNA(VLOOKUP($A51,PLANCHE!AC$7:AI$52,6,0)),\"\",VLOOKUP($A51,PLANCHE!AC$7:AI$52,6,0))","v":""},{"$f":"IF(ISNA(VLOOKUP($A51,PLANCHE!AC$7:AI$52,7,0)),\"\",VLOOKUP($A51,PLANCHE!AC$7:AI$52,7,0))","v":""},{"$f":"IF($A51=\"\",\"\",VLOOKUP($A51,INSCRITS!$D$4:$W$506,13,0))","v":""},{"$f":"IF(ISNA(VLOOKUP($A51,NAGE!N$7:T$52,6,0)),\"\",VLOOKUP($A51,NAGE!N$7:T$52,6,0))","v":""},{"$f":"IF(ISNA(VLOOKUP($A51,NAGE!N$7:T$52,7,0)),\"\",VLOOKUP($A51,NAGE!N$7:T$52,7,0))","v":""},{"$f":"IF($A51=\"\",\"\",VLOOKUP($A51,INSCRITS!$D$4:$W$506,14,0))","v":""},{"$f":"IF(ISNA(VLOOKUP($A51,SURFSKI!AC$8:AI$53,6,0)),\"\",VLOOKUP($A51,SURFSKI!AC$8:AI$53,6,0))","v":""},{"$f":"IF(ISNA(VLOOKUP($A51,SURFSKI!AC$8:AI$53,7,0)),\"\",VLOOKUP($A51,SURFSKI!AC$8:AI$53,7,0))","v":""},{"$f":"IF($A51=\"\",\"\",VLOOKUP($A51,INSCRITS!$D$4:$W$506,15,0))","v":""},{"$f":"IF(ISNA(VLOOKUP($A51,OCEANMAN!AD$7:AJ$52,6,0)),\"\",VLOOKUP($A51,OCEANMAN!AD$7:AJ$52,6,0))","v":""},{"$f":"IF(ISNA(VLOOKUP($A51,OCEANMAN!AD$7:AJ$52,7,0)),\"\",VLOOKUP($A51,OCEANMAN!AD$7:AJ$52,7,0))","v":""},{"$f":"IF($A51=\"\",\"\",VLOOKUP($A51,INSCRITS!$D$4:$W$506,16,0))","v":""},{"$f":"IF(ISNA(VLOOKUP($A51,CNC!N$7:AC$52,6,0)),\"\",VLOOKUP($A51,CNC!N$7:AC$52,6,0))","v":""},{"$f":"IF(ISNA(VLOOKUP($A51,CNC!N$7:AC$52,7,0)),\"\",VLOOKUP($A51,CNC!N$7:AC$52,7,0))","v":""},0,{"$f":"IF($A51=\"\",\"\",VLOOKUP($A51,INSCRITS!$D$4:$W$506,16,0))","v":""},null,{"$f":"IF(AG51=\"\",\"\",VLOOKUP(AG51,[0]!Relais,2))","v":""},{"$f":"IF($A51=\"\",\"\",VLOOKUP($A51,INSCRITS!$D$4:$W$506,17,0))","v":""},null,{"$f":"IF(AJ51=\"\",\"\",VLOOKUP(AJ51,[0]!Relais,2))","v":""},{"$f":"IF($A51=\"\",\"\",VLOOKUP($A51,INSCRITS!$D$4:$W$506,18,0))","v":""},null,{"$f":"IF(AM51=\"\",\"\",VLOOKUP(AM51,[0]!Relais,2))","v":""},{"$f":"IF($A51=\"\",\"\",VLOOKUP($A51,INSCRITS!$D$4:$W$506,19,0))","v":""},null,{"$f":"IF(AP51=\"\",\"\",VLOOKUP(AP51,[0]!Relais,2))","v":""},0,0]
[null,{"$f":"IF($A52=\"\",\"\",VLOOKUP($A52,INSCRITS!$D$4:$W$501,2,0))","v":""},{"$f":"IF($A52=\"\",\"\",VLOOKUP($A52,INSCRITS!$D$4:$W$501,3,0))","v":""},{"$f":"IF($A52=\"\",\"\",VLOOKUP($A52,INSCRITS!$D$4:$W$501,4,0))","v":""},{"$f":"IF($A52=\"\",\"\",VLOOKUP($A52,INSCRITS!$D$4:$W$501,5,0))","v":""},{"$f":"IF($A52=\"\",\"\",VLOOKUP($A52,INSCRITS!$D$4:$W$501,6,0))","v":""},{"$f":"IF($A52=\"\",\"\",VLOOKUP($A52,INSCRITS!$D$4:$W$501,7,0))","v":""},{"$f":"IF($A52=\"\",\"\",VLOOKUP($A52,INSCRITS!$D$4:$W$501,8,0))","v":""},{"$f":"IF($A52=\"\",\"\",VLOOKUP($A52,INSCRITS!$D$4:$W$501,9,0))","v":""},{"$f":"IF($A52=\"\",\"\",VLOOKUP($A52,INSCRITS!$D$4:$W$506,10,0))","v":""},{"$f":"IF(ISNA(VLOOKUP($A52,SPRINT!AD$7:AJ$50,6,0)),\"\",VLOOKUP($A52,SPRINT!AD$7:AJ$50,6,0))","v":""},{"$f":"IF(ISNA(VLOOKUP($A52,SPRINT!AD$7:AJ$50,7,0)),\"\",VLOOKUP($A52,SPRINT!AD$7:AJ$50,7,0))","v":""},{"$f":"IF($A52=\"\",\"\",VLOOKUP($A52,INSCRITS!$D$4:$W$506,11,0))","v":""},{"$f":"IF(ISNA(VLOOKUP($A52,BATONS!AD$7:AJ$51,6,0)),\"\",VLOOKUP($A52,BATONS!AD$7:AJ$51,6,0))","v":""},{"$f":"IF(ISNA(VLOOKUP($A52,BATONS!AD$7:AJ$51,7,0)),\"\",VLOOKUP($A52,BATONS!AD$7:AJ$51,7,0))","v":""},{"$f":"IF($A52=\"\",\"\",VLOOKUP($A52,INSCRITS!$D$4:$W$506,12,0))","v":""},{"$f":"IF(ISNA(VLOOKUP($A52,PLANCHE!AC$7:AI$52,6,0)),\"\",VLOOKUP($A52,PLANCHE!AC$7:AI$52,6,0))","v":""},{"$f":"IF(ISNA(VLOOKUP($A52,PLANCHE!AC$7:AI$52,7,0)),\"\",VLOOKUP($A52,PLANCHE!AC$7:AI$52,7,0))","v":""},{"$f":"IF($A52=\"\",\"\",VLOOKUP($A52,INSCRITS!$D$4:$W$506,13,0))","v":""},{"$f":"IF(ISNA(VLOOKUP($A52,NAGE!N$7:T$52,6,0)),\"\",VLOOKUP($A52,NAGE!N$7:T$52,6,0))","v":""},{"$f":"IF(ISNA(VLOOKUP($A52,NAGE!N$7:T$52,7,0)),\"\",VLOOKUP($A52,NAGE!N$7:T$52,7,0))","v":""},{"$f":"IF($A52=\"\",\"\",VLOOKUP($A52,INSCRITS!$D$4:$W$506,14,0))","v":""},{"$f":"IF(ISNA(VLOOKUP($A52,SURFSKI!AC$8:AI$53,6,0)),\"\",VLOOKUP($A52,SURFSKI!AC$8:AI$53,6,0))","v":""},{"$f":"IF(ISNA(VLOOKUP($A52,SURFSKI!AC$8:AI$53,7,0)),\"\",VLOOKUP($A52,SURFSKI!AC$8:AI$53,7,0))","v":""},{"$f":"IF($A52=\"\",\"\",VLOOKUP($A52,INSCRITS!$D$4:$W$506,15,0))","v":""},{"$f":"IF(ISNA(VLOOKUP($A52,OCEANMAN!AD$7:AJ$52,6,0)),\"\",VLOOKUP($A52,OCEANMAN!AD$7:AJ$52,6,0))","v":""},{"$f":"IF(ISNA(VLOOKUP($A52,OCEANMAN!AD$7:AJ$52,7,0)),\"\",VLOOKUP($A52,OCEANMAN!AD$7:AJ$52,7,0))","v":""},{"$f":"IF($A52=\"\",\"\",VLOOKUP($A52,INSCRITS!$D$4:$W$506,16,0))","v":""},{"$f":"IF(ISNA(VLOOKUP($A52,CNC!N$7:AC$52,6,0)),\"\",VLOOKUP($A52,CNC!N$7:AC$52,6,0))","v":""},{"$f":"IF(ISNA(VLOOKUP($A52,CNC!N$7:AC$52,7,0)),\"\",VLOOKUP($A52,CNC!N$7:AC$52,7,0))","v":""},0,{"$f":"IF($A52=\"\",\"\",VLOOKUP($A52,INSCRITS!$D$4:$W$506,16,0))","v":""},null,{"$f":"IF(AG52=\"\",\"\",VLOOKUP(AG52,[0]!Relais,2))","v":""},{"$f":"IF($A52=\"\",\"\",VLOOKUP($A52,INSCRITS!$D$4:$W$506,17,0))","v":""},null,{"$f":"IF(AJ52=\"\",\"\",VLOOKUP(AJ52,[0]!Relais,2))","v":""},{"$f":"IF($A52=\"\",\"\",VLOOKUP($A52,INSCRITS!$D$4:$W$506,18,0))","v":""},null,{"$f":"IF(AM52=\"\",\"\",VLOOKUP(AM52,[0]!Relais,2))","v":""},{"$f":"IF($A52=\"\",\"\",VLOOKUP($A52,INSCRITS!$D$4:$W$506,19,0))","v":""},null,{"$f":"IF(AP52=\"\",\"\",VLOOKUP(AP52,[0]!Relais,2))","v":""},0,0]
[null,{"$f":"IF($A53=\"\",\"\",VLOOKUP($A53,INSCRITS!$D$4:$W$501,2,0))","v":""},{"$f":"IF($A53=\"\",\"\",VLOOKUP($A53,INSCRITS!$D$4:$W$501,3,0))","v":""},{"$f":"IF($A53=\"\",\"\",VLOOKUP($A53,INSCRITS!$D$4:$W$501,4,0))","v":""},{"$f":"IF($A53=\"\",\"\",VLOOKUP($A53,INSCRITS!$D$4:$W$501,5,0))","v":""},{"$f":"IF($A53=\"\",\"\",VLOOKUP($A53,INSCRITS!$D$4:$W$501,6,0))","v":""},{"$f":"IF($A53=\"\",\"\",VLOOKUP($A53,INSCRITS!$D$4:$W$501,7,0))","v":""},{"$f":"IF($A53=\"\",\"\",VLOOKUP($A53,INSCRITS!$D$4:$W$501,8,0))","v":""},{"$f":"IF($A53=\"\",\"\",VLOOKUP($A53,INSCRITS!$D$4:$W$501,9,0))","v":""},{"$f":"IF($A53=\"\",\"\",VLOOKUP($A53,INSCRITS!$D$4:$W$506,10,0))","v":""},{"$f":"IF(ISNA(VLOOKUP($A53,SPRINT!AD$7:AJ$50,6,0)),\"\",VLOOKUP($A53,SPRINT!AD$7:AJ$50,6,0))","v":""},{"$f":"IF(ISNA(VLOOKUP($A53,SPRINT!AD$7:AJ$50,7,0)),\"\",VLOOKUP($A53,SPRINT!AD$7:AJ$50,7,0))","v":""},{"$f":"IF($A53=\"\",\"\",VLOOKUP($A53,INSCRITS!$D$4:$W$506,11,0))","v":""},{"$f":"IF(ISNA(VLOOKUP($A53,BATONS!AD$7:AJ$51,6,0)),\"\",VLOOKUP($A53,BATONS!AD$7:AJ$51,6,0))","v":""},{"$f":"IF(ISNA(VLOOKUP($A53,BATONS!AD$7:AJ$51,7,0)),\"\",VLOOKUP($A53,BATONS!AD$7:AJ$51,7,0))","v":""},{"$f":"IF($A53=\"\",\"\",VLOOKUP($A53,INSCRITS!$D$4:$W$506,12,0))","v":""},{"$f":"IF(ISNA(VLOOKUP($A53,PLANCHE!AC$7:AI$52,6,0)),\"\",VLOOKUP($A53,PLANCHE!AC$7:AI$52,6,0))","v":""},{"$f":"IF(ISNA(VLOOKUP($A53,PLANCHE!AC$7:AI$52,7,0)),\"\",VLOOKUP($A53,PLANCHE!AC$7:AI$52,7,0))","v":""},{"$f":"IF($A53=\"\",\"\",VLOOKUP($A53,INSCRITS!$D$4:$W$506,13,0))","v":""},{"$f":"IF(ISNA(VLOOKUP($A53,NAGE!N$7:T$52,6,0)),\"\",VLOOKUP($A53,NAGE!N$7:T$52,6,0))","v":""},{"$f":"IF(ISNA(VLOOKUP($A53,NAGE!N$7:T$52,7,0)),\"\",VLOOKUP($A53,NAGE!N$7:T$52,7,0))","v":""},{"$f":"IF($A53=\"\",\"\",VLOOKUP($A53,INSCRITS!$D$4:$W$506,14,0))","v":""},{"$f":"IF(ISNA(VLOOKUP($A53,SURFSKI!AC$8:AI$53,6,0)),\"\",VLOOKUP($A53,SURFSKI!AC$8:AI$53,6,0))","v":""},{"$f":"IF(ISNA(VLOOKUP($A53,SURFSKI!AC$8:AI$53,7,0)),\"\",VLOOKUP($A53,SURFSKI!AC$8:AI$53,7,0))","v":""},{"$f":"IF($A53=\"\",\"\",VLOOKUP($A53,INSCRITS!$D$4:$W$506,15,0))","v":""},{"$f":"IF(ISNA(VLOOKUP($A53,OCEANMAN!AD$7:AJ$52,6,0)),\"\",VLOOKUP($A53,OCEANMAN!AD$7:AJ$52,6,0))","v":""},{"$f":"IF(ISNA(VLOOKUP($A53,OCEANMAN!AD$7:AJ$52,7,0)),\"\",VLOOKUP($A53,OCEANMAN!AD$7:AJ$52,7,0))","v":""},{"$f":"IF($A53=\"\",\"\",VLOOKUP($A53,INSCRITS!$D$4:$W$506,16,0))","v":""},{"$f":"IF(ISNA(VLOOKUP($A53,CNC!N$7:AC$52,6,0)),\"\",VLOOKUP($A53,CNC!N$7:AC$52,6,0))","v":""},{"$f":"IF(ISNA(VLOOKUP($A53,CNC!N$7:AC$52,7,0)),\"\",VLOOKUP($A53,CNC!N$7:AC$52,7,0))","v":""},0,{"$f":"IF($A53=\"\",\"\",VLOOKUP($A53,INSCRITS!$D$4:$W$506,16,0))","v":""},null,{"$f":"IF(AG53=\"\",\"\",VLOOKUP(AG53,[0]!Relais,2))","v":""},{"$f":"IF($A53=\"\",\"\",VLOOKUP($A53,INSCRITS!$D$4:$W$506,17,0))","v":""},null,{"$f":"IF(AJ53=\"\",\"\",VLOOKUP(AJ53,[0]!Relais,2))","v":""},{"$f":"IF($A53=\"\",\"\",VLOOKUP($A53,INSCRITS!$D$4:$W$506,18,0))","v":""},null,{"$f":"IF(AM53=\"\",\"\",VLOOKUP(AM53,[0]!Relais,2))","v":""},{"$f":"IF($A53=\"\",\"\",VLOOKUP($A53,INSCRITS!$D$4:$W$506,19,0))","v":""},null,{"$f":"IF(AP53=\"\",\"\",VLOOKUP(AP53,[0]!Relais,2))","v":""},0,0]
[null,{"$f":"IF($A54=\"\",\"\",VLOOKUP($A54,INSCRITS!$D$4:$W$501,2,0))","v":""},{"$f":"IF($A54=\"\",\"\",VLOOKUP($A54,INSCRITS!$D$4:$W$501,3,0))","v":""},{"$f":"IF($A54=\"\",\"\",VLOOKUP($A54,INSCRITS!$D$4:$W$501,4,0))","v":""},{"$f":"IF($A54=\"\",\"\",VLOOKUP($A54,INSCRITS!$D$4:$W$501,5,0))","v":""},{"$f":"IF($A54=\"\",\"\",VLOOKUP($A54,INSCRITS!$D$4:$W$501,6,0))","v":""},{"$f":"IF($A54=\"\",\"\",VLOOKUP($A54,INSCRITS!$D$4:$W$501,7,0))","v":""},{"$f":"IF($A54=\"\",\"\",VLOOKUP($A54,INSCRITS!$D$4:$W$501,8,0))","v":""},{"$f":"IF($A54=\"\",\"\",VLOOKUP($A54,INSCRITS!$D$4:$W$501,9,0))","v":""},{"$f":"IF($A54=\"\",\"\",VLOOKUP($A54,INSCRITS!$D$4:$W$506,10,0))","v":""},{"$f":"IF(ISNA(VLOOKUP($A54,SPRINT!AD$7:AJ$50,6,0)),\"\",VLOOKUP($A54,SPRINT!AD$7:AJ$50,6,0))","v":""},{"$f":"IF(ISNA(VLOOKUP($A54,SPRINT!AD$7:AJ$50,7,0)),\"\",VLOOKUP($A54,SPRINT!AD$7:AJ$50,7,0))","v":""},{"$f":"IF($A54=\"\",\"\",VLOOKUP($A54,INSCRITS!$D$4:$W$506,11,0))","v":""},{"$f":"IF(ISNA(VLOOKUP($A54,BATONS!AD$7:AJ$51,6,0)),\"\",VLOOKUP($A54,BATONS!AD$7:AJ$51,6,0))","v":""},{"$f":"IF(ISNA(VLOOKUP($A54,BATONS!AD$7:AJ$51,7,0)),\"\",VLOOKUP($A54,BATONS!AD$7:AJ$51,7,0))","v":""},{"$f":"IF($A54=\"\",\"\",VLOOKUP($A54,INSCRITS!$D$4:$W$506,12,0))","v":""},{"$f":"IF(ISNA(VLOOKUP($A54,PLANCHE!AC$7:AI$52,6,0)),\"\",VLOOKUP($A54,PLANCHE!AC$7:AI$52,6,0))","v":""},{"$f":"IF(ISNA(VLOOKUP($A54,PLANCHE!AC$7:AI$52,7,0)),\"\",VLOOKUP($A54,PLANCHE!AC$7:AI$52,7,0))","v":""},{"$f":"IF($A54=\"\",\"\",VLOOKUP($A54,INSCRITS!$D$4:$W$506,13,0))","v":""},{"$f":"IF(ISNA(VLOOKUP($A54,NAGE!N$7:T$52,6,0)),\"\",VLOOKUP($A54,NAGE!N$7:T$52,6,0))","v":""},{"$f":"IF(ISNA(VLOOKUP($A54,NAGE!N$7:T$52,7,0)),\"\",VLOOKUP($A54,NAGE!N$7:T$52,7,0))","v":""},{"$f":"IF($A54=\"\",\"\",VLOOKUP($A54,INSCRITS!$D$4:$W$506,14,0))","v":""},{"$f":"IF(ISNA(VLOOKUP($A54,SURFSKI!AC$8:AI$53,6,0)),\"\",VLOOKUP($A54,SURFSKI!AC$8:AI$53,6,0))","v":""},{"$f":"IF(ISNA(VLOOKUP($A54,SURFSKI!AC$8:AI$53,7,0)),\"\",VLOOKUP($A54,SURFSKI!AC$8:AI$53,7,0))","v":""},{"$f":"IF($A54=\"\",\"\",VLOOKUP($A54,INSCRITS!$D$4:$W$506,15,0))","v":""},{"$f":"IF(ISNA(VLOOKUP($A54,OCEANMAN!AD$7:AJ$52,6,0)),\"\",VLOOKUP($A54,OCEANMAN!AD$7:AJ$52,6,0))","v":""},{"$f":"IF(ISNA(VLOOKUP($A54,OCEANMAN!AD$7:AJ$52,7,0)),\"\",VLOOKUP($A54,OCEANMAN!AD$7:AJ$52,7,0))","v":""},{"$f":"IF($A54=\"\",\"\",VLOOKUP($A54,INSCRITS!$D$4:$W$506,16,0))","v":""},{"$f":"IF(ISNA(VLOOKUP($A54,CNC!N$7:AC$52,6,0)),\"\",VLOOKUP($A54,CNC!N$7:AC$52,6,0))","v":""},{"$f":"IF(ISNA(VLOOKUP($A54,CNC!N$7:AC$52,7,0)),\"\",VLOOKUP($A54,CNC!N$7:AC$52,7,0))","v":""},0,{"$f":"IF($A54=\"\",\"\",VLOOKUP($A54,INSCRITS!$D$4:$W$506,16,0))","v":""},null,{"$f":"IF(AG54=\"\",\"\",VLOOKUP(AG54,[0]!Relais,2))","v":""},{"$f":"IF($A54=\"\",\"\",VLOOKUP($A54,INSCRITS!$D$4:$W$506,17,0))","v":""},null,{"$f":"IF(AJ54=\"\",\"\",VLOOKUP(AJ54,[0]!Relais,2))","v":""},{"$f":"IF($A54=\"\",\"\",VLOOKUP($A54,INSCRITS!$D$4:$W$506,18,0))","v":""},null,{"$f":"IF(AM54=\"\",\"\",VLOOKUP(AM54,[0]!Relais,2))","v":""},{"$f":"IF($A54=\"\",\"\",VLOOKUP($A54,INSCRITS!$D$4:$W$506,19,0))","v":""},null,{"$f":"IF(AP54=\"\",\"\",VLOOKUP(AP54,[0]!Relais,2))","v":""},0,0]
[null,{"$f":"IF($A55=\"\",\"\",VLOOKUP($A55,INSCRITS!$D$4:$W$501,2,0))","v":""},{"$f":"IF($A55=\"\",\"\",VLOOKUP($A55,INSCRITS!$D$4:$W$501,3,0))","v":""},{"$f":"IF($A55=\"\",\"\",VLOOKUP($A55,INSCRITS!$D$4:$W$501,4,0))","v":""},{"$f":"IF($A55=\"\",\"\",VLOOKUP($A55,INSCRITS!$D$4:$W$501,5,0))","v":""},{"$f":"IF($A55=\"\",\"\",VLOOKUP($A55,INSCRITS!$D$4:$W$501,6,0))","v":""},{"$f":"IF($A55=\"\",\"\",VLOOKUP($A55,INSCRITS!$D$4:$W$501,7,0))","v":""},{"$f":"IF($A55=\"\",\"\",VLOOKUP($A55,INSCRITS!$D$4:$W$501,8,0))","v":""},{"$f":"IF($A55=\"\",\"\",VLOOKUP($A55,INSCRITS!$D$4:$W$501,9,0))","v":""},{"$f":"IF($A55=\"\",\"\",VLOOKUP($A55,INSCRITS!$D$4:$W$506,10,0))","v":""},{"$f":"IF(ISNA(VLOOKUP($A55,SPRINT!AD$7:AJ$50,6,0)),\"\",VLOOKUP($A55,SPRINT!AD$7:AJ$50,6,0))","v":""},{"$f":"IF(ISNA(VLOOKUP($A55,SPRINT!AD$7:AJ$50,7,0)),\"\",VLOOKUP($A55,SPRINT!AD$7:AJ$50,7,0))","v":""},{"$f":"IF($A55=\"\",\"\",VLOOKUP($A55,INSCRITS!$D$4:$W$506,11,0))","v":""},{"$f":"IF(ISNA(VLOOKUP($A55,BATONS!AD$7:AJ$51,6,0)),\"\",VLOOKUP($A55,BATONS!AD$7:AJ$51,6,0))","v":""},{"$f":"IF(ISNA(VLOOKUP($A55,BATONS!AD$7:AJ$51,7,0)),\"\",VLOOKUP($A55,BATONS!AD$7:AJ$51,7,0))","v":""},{"$f":"IF($A55=\"\",\"\",VLOOKUP($A55,INSCRITS!$D$4:$W$506,12,0))","v":""},{"$f":"IF(ISNA(VLOOKUP($A55,PLANCHE!AC$7:AI$52,6,0)),\"\",VLOOKUP($A55,PLANCHE!AC$7:AI$52,6,0))","v":""},{"$f":"IF(ISNA(VLOOKUP($A55,PLANCHE!AC$7:AI$52,7,0)),\"\",VLOOKUP($A55,PLANCHE!AC$7:AI$52,7,0))","v":""},{"$f":"IF($A55=\"\",\"\",VLOOKUP($A55,INSCRITS!$D$4:$W$506,13,0))","v":""},{"$f":"IF(ISNA(VLOOKUP($A55,NAGE!N$7:T$52,6,0)),\"\",VLOOKUP($A55,NAGE!N$7:T$52,6,0))","v":""},{"$f":"IF(ISNA(VLOOKUP($A55,NAGE!N$7:T$52,7,0)),\"\",VLOOKUP($A55,NAGE!N$7:T$52,7,0))","v":""},{"$f":"IF($A55=\"\",\"\",VLOOKUP($A55,INSCRITS!$D$4:$W$506,14,0))","v":""},{"$f":"IF(ISNA(VLOOKUP($A55,SURFSKI!AC$8:AI$53,6,0)),\"\",VLOOKUP($A55,SURFSKI!AC$8:AI$53,6,0))","v":""},{"$f":"IF(ISNA(VLOOKUP($A55,SURFSKI!AC$8:AI$53,7,0)),\"\",VLOOKUP($A55,SURFSKI!AC$8:AI$53,7,0))","v":""},{"$f":"IF($A55=\"\",\"\",VLOOKUP($A55,INSCRITS!$D$4:$W$506,15,0))","v":""},{"$f":"IF(ISNA(VLOOKUP($A55,OCEANMAN!AD$7:AJ$52,6,0)),\"\",VLOOKUP($A55,OCEANMAN!AD$7:AJ$52,6,0))","v":""},{"$f":"IF(ISNA(VLOOKUP($A55,OCEANMAN!AD$7:AJ$52,7,0)),\"\",VLOOKUP($A55,OCEANMAN!AD$7:AJ$52,7,0))","v":""},{"$f":"IF($A55=\"\",\"\",VLOOKUP($A55,INSCRITS!$D$4:$W$506,16,0))","v":""},{"$f":"IF(ISNA(VLOOKUP($A55,CNC!N$7:AC$52,6,0)),\"\",VLOOKUP($A55,CNC!N$7:AC$52,6,0))","v":""},{"$f":"IF(ISNA(VLOOKUP($A55,CNC!N$7:AC$52,7,0)),\"\",VLOOKUP($A55,CNC!N$7:AC$52,7,0))","v":""},0,{"$f":"IF($A55=\"\",\"\",VLOOKUP($A55,INSCRITS!$D$4:$W$506,16,0))","v":""},null,{"$f":"IF(AG55=\"\",\"\",VLOOKUP(AG55,[0]!Relais,2))","v":""},{"$f":"IF($A55=\"\",\"\",VLOOKUP($A55,INSCRITS!$D$4:$W$506,17,0))","v":""},null,{"$f":"IF(AJ55=\"\",\"\",VLOOKUP(AJ55,[0]!Relais,2))","v":""},{"$f":"IF($A55=\"\",\"\",VLOOKUP($A55,INSCRITS!$D$4:$W$506,18,0))","v":""},null,{"$f":"IF(AM55=\"\",\"\",VLOOKUP(AM55,[0]!Relais,2))","v":""},{"$f":"IF($A55=\"\",\"\",VLOOKUP($A55,INSCRITS!$D$4:$W$506,19,0))","v":""},null,{"$f":"IF(AP55=\"\",\"\",VLOOKUP(AP55,[0]!Relais,2))","v":""},0,0]
[null,{"$f":"IF($A56=\"\",\"\",VLOOKUP($A56,INSCRITS!$D$4:$W$501,2,0))","v":""},{"$f":"IF($A56=\"\",\"\",VLOOKUP($A56,INSCRITS!$D$4:$W$501,3,0))","v":""},{"$f":"IF($A56=\"\",\"\",VLOOKUP($A56,INSCRITS!$D$4:$W$501,4,0))","v":""},{"$f":"IF($A56=\"\",\"\",VLOOKUP($A56,INSCRITS!$D$4:$W$501,5,0))","v":""},{"$f":"IF($A56=\"\",\"\",VLOOKUP($A56,INSCRITS!$D$4:$W$501,6,0))","v":""},{"$f":"IF($A56=\"\",\"\",VLOOKUP($A56,INSCRITS!$D$4:$W$501,7,0))","v":""},{"$f":"IF($A56=\"\",\"\",VLOOKUP($A56,INSCRITS!$D$4:$W$501,8,0))","v":""},{"$f":"IF($A56=\"\",\"\",VLOOKUP($A56,INSCRITS!$D$4:$W$501,9,0))","v":""},{"$f":"IF($A56=\"\",\"\",VLOOKUP($A56,INSCRITS!$D$4:$W$506,10,0))","v":""},{"$f":"IF(ISNA(VLOOKUP($A56,SPRINT!AD$7:AJ$50,6,0)),\"\",VLOOKUP($A56,SPRINT!AD$7:AJ$50,6,0))","v":""},{"$f":"IF(ISNA(VLOOKUP($A56,SPRINT!AD$7:AJ$50,7,0)),\"\",VLOOKUP($A56,SPRINT!AD$7:AJ$50,7,0))","v":""},{"$f":"IF($A56=\"\",\"\",VLOOKUP($A56,INSCRITS!$D$4:$W$506,11,0))","v":""},{"$f":"IF(ISNA(VLOOKUP($A56,BATONS!AD$7:AJ$51,6,0)),\"\",VLOOKUP($A56,BATONS!AD$7:AJ$51,6,0))","v":""},{"$f":"IF(ISNA(VLOOKUP($A56,BATONS!AD$7:AJ$51,7,0)),\"\",VLOOKUP($A56,BATONS!AD$7:AJ$51,7,0))","v":""},{"$f":"IF($A56=\"\",\"\",VLOOKUP($A56,INSCRITS!$D$4:$W$506,12,0))","v":""},{"$f":"IF(ISNA(VLOOKUP($A56,PLANCHE!AC$7:AI$52,6,0)),\"\",VLOOKUP($A56,PLANCHE!AC$7:AI$52,6,0))","v":""},{"$f":"IF(ISNA(VLOOKUP($A56,PLANCHE!AC$7:AI$52,7,0)),\"\",VLOOKUP($A56,PLANCHE!AC$7:AI$52,7,0))","v":""},{"$f":"IF($A56=\"\",\"\",VLOOKUP($A56,INSCRITS!$D$4:$W$506,13,0))","v":""},{"$f":"IF(ISNA(VLOOKUP($A56,NAGE!N$7:T$52,6,0)),\"\",VLOOKUP($A56,NAGE!N$7:T$52,6,0))","v":""},{"$f":"IF(ISNA(VLOOKUP($A56,NAGE!N$7:T$52,7,0)),\"\",VLOOKUP($A56,NAGE!N$7:T$52,7,0))","v":""},{"$f":"IF($A56=\"\",\"\",VLOOKUP($A56,INSCRITS!$D$4:$W$506,14,0))","v":""},{"$f":"IF(ISNA(VLOOKUP($A56,SURFSKI!AC$8:AI$53,6,0)),\"\",VLOOKUP($A56,SURFSKI!AC$8:AI$53,6,0))","v":""},{"$f":"IF(ISNA(VLOOKUP($A56,SURFSKI!AC$8:AI$53,7,0)),\"\",VLOOKUP($A56,SURFSKI!AC$8:AI$53,7,0))","v":""},{"$f":"IF($A56=\"\",\"\",VLOOKUP($A56,INSCRITS!$D$4:$W$506,15,0))","v":""},{"$f":"IF(ISNA(VLOOKUP($A56,OCEANMAN!AD$7:AJ$52,6,0)),\"\",VLOOKUP($A56,OCEANMAN!AD$7:AJ$52,6,0))","v":""},{"$f":"IF(ISNA(VLOOKUP($A56,OCEANMAN!AD$7:AJ$52,7,0)),\"\",VLOOKUP($A56,OCEANMAN!AD$7:AJ$52,7,0))","v":""},{"$f":"IF($A56=\"\",\"\",VLOOKUP($A56,INSCRITS!$D$4:$W$506,16,0))","v":""},{"$f":"IF(ISNA(VLOOKUP($A56,CNC!N$7:AC$52,6,0)),\"\",VLOOKUP($A56,CNC!N$7:AC$52,6,0))","v":""},{"$f":"IF(ISNA(VLOOKUP($A56,CNC!N$7:AC$52,7,0)),\"\",VLOOKUP($A56,CNC!N$7:AC$52,7,0))","v":""},0,{"$f":"IF($A56=\"\",\"\",VLOOKUP($A56,INSCRITS!$D$4:$W$506,16,0))","v":""},null,{"$f":"IF(AG56=\"\",\"\",VLOOKUP(AG56,[0]!Relais,2))","v":""},{"$f":"IF($A56=\"\",\"\",VLOOKUP($A56,INSCRITS!$D$4:$W$506,17,0))","v":""},null,{"$f":"IF(AJ56=\"\",\"\",VLOOKUP(AJ56,[0]!Relais,2))","v":""},{"$f":"IF($A56=\"\",\"\",VLOOKUP($A56,INSCRITS!$D$4:$W$506,18,0))","v":""},null,{"$f":"IF(AM56=\"\",\"\",VLOOKUP(AM56,[0]!Relais,2))","v":""},{"$f":"IF($A56=\"\",\"\",VLOOKUP($A56,INSCRITS!$D$4:$W$506,19,0))","v":""},null,{"$f":"IF(AP56=\"\",\"\",VLOOKUP(AP56,[0]!Relais,2))","v":""},0,0]
[null,{"$f":"IF($A57=\"\",\"\",VLOOKUP($A57,INSCRITS!$D$4:$W$501,2,0))","v":""},{"$f":"IF($A57=\"\",\"\",VLOOKUP($A57,INSCRITS!$D$4:$W$501,3,0))","v":""},{"$f":"IF($A57=\"\",\"\",VLOOKUP($A57,INSCRITS!$D$4:$W$501,4,0))","v":""},{"$f":"IF($A57=\"\",\"\",VLOOKUP($A57,INSCRITS!$D$4:$W$501,5,0))","v":""},{"$f":"IF($A57=\"\",\"\",VLOOKUP($A57,INSCRITS!$D$4:$W$501,6,0))","v":""},{"$f":"IF($A57=\"\",\"\",VLOOKUP($A57,INSCRITS!$D$4:$W$501,7,0))","v":""},{"$f":"IF($A57=\"\",\"\",VLOOKUP($A57,INSCRITS!$D$4:$W$501,8,0))","v":""},{"$f":"IF($A57=\"\",\"\",VLOOKUP($A57,INSCRITS!$D$4:$W$501,9,0))","v":""},{"$f":"IF($A57=\"\",\"\",VLOOKUP($A57,INSCRITS!$D$4:$W$506,10,0))","v":""},{"$f":"IF(ISNA(VLOOKUP($A57,SPRINT!AD$7:AJ$50,6,0)),\"\",VLOOKUP($A57,SPRINT!AD$7:AJ$50,6,0))","v":""},{"$f":"IF(ISNA(VLOOKUP($A57,SPRINT!AD$7:AJ$50,7,0)),\"\",VLOOKUP($A57,SPRINT!AD$7:AJ$50,7,0))","v":""},{"$f":"IF($A57=\"\",\"\",VLOOKUP($A57,INSCRITS!$D$4:$W$506,11,0))","v":""},{"$f":"IF(ISNA(VLOOKUP($A57,BATONS!AD$7:AJ$51,6,0)),\"\",VLOOKUP($A57,BATONS!AD$7:AJ$51,6,0))","v":""},{"$f":"IF(ISNA(VLOOKUP($A57,BATONS!AD$7:AJ$51,7,0)),\"\",VLOOKUP($A57,BATONS!AD$7:AJ$51,7,0))","v":""},{"$f":"IF($A57=\"\",\"\",VLOOKUP($A57,INSCRITS!$D$4:$W$506,12,0))","v":""},{"$f":"IF(ISNA(VLOOKUP($A57,PLANCHE!AC$7:AI$52,6,0)),\"\",VLOOKUP($A57,PLANCHE!AC$7:AI$52,6,0))","v":""},{"$f":"IF(ISNA(VLOOKUP($A57,PLANCHE!AC$7:AI$52,7,0)),\"\",VLOOKUP($A57,PLANCHE!AC$7:AI$52,7,0))","v":""},{"$f":"IF($A57=\"\",\"\",VLOOKUP($A57,INSCRITS!$D$4:$W$506,13,0))","v":""},{"$f":"IF(ISNA(VLOOKUP($A57,NAGE!N$7:T$52,6,0)),\"\",VLOOKUP($A57,NAGE!N$7:T$52,6,0))","v":""},{"$f":"IF(ISNA(VLOOKUP($A57,NAGE!N$7:T$52,7,0)),\"\",VLOOKUP($A57,NAGE!N$7:T$52,7,0))","v":""},{"$f":"IF($A57=\"\",\"\",VLOOKUP($A57,INSCRITS!$D$4:$W$506,14,0))","v":""},{"$f":"IF(ISNA(VLOOKUP($A57,SURFSKI!AC$8:AI$53,6,0)),\"\",VLOOKUP($A57,SURFSKI!AC$8:AI$53,6,0))","v":""},{"$f":"IF(ISNA(VLOOKUP($A57,SURFSKI!AC$8:AI$53,7,0)),\"\",VLOOKUP($A57,SURFSKI!AC$8:AI$53,7,0))","v":""},{"$f":"IF($A57=\"\",\"\",VLOOKUP($A57,INSCRITS!$D$4:$W$506,15,0))","v":""},{"$f":"IF(ISNA(VLOOKUP($A57,OCEANMAN!AD$7:AJ$52,6,0)),\"\",VLOOKUP($A57,OCEANMAN!AD$7:AJ$52,6,0))","v":""},{"$f":"IF(ISNA(VLOOKUP($A57,OCEANMAN!AD$7:AJ$52,7,0)),\"\",VLOOKUP($A57,OCEANMAN!AD$7:AJ$52,7,0))","v":""},{"$f":"IF($A57=\"\",\"\",VLOOKUP($A57,INSCRITS!$D$4:$W$506,16,0))","v":""},{"$f":"IF(ISNA(VLOOKUP($A57,CNC!N$7:AC$52,6,0)),\"\",VLOOKUP($A57,CNC!N$7:AC$52,6,0))","v":""},{"$f":"IF(ISNA(VLOOKUP($A57,CNC!N$7:AC$52,7,0)),\"\",VLOOKUP($A57,CNC!N$7:AC$52,7,0))","v":""},0,{"$f":"IF($A57=\"\",\"\",VLOOKUP($A57,INSCRITS!$D$4:$W$506,16,0))","v":""},null,{"$f":"IF(AG57=\"\",\"\",VLOOKUP(AG57,[0]!Relais,2))","v":""},{"$f":"IF($A57=\"\",\"\",VLOOKUP($A57,INSCRITS!$D$4:$W$506,17,0))","v":""},null,{"$f":"IF(AJ57=\"\",\"\",VLOOKUP(AJ57,[0]!Relais,2))","v":""},{"$f":"IF($A57=\"\",\"\",VLOOKUP($A57,INSCRITS!$D$4:$W$506,18,0))","v":""},null,{"$f":"IF(AM57=\"\",\"\",VLOOKUP(AM57,[0]!Relais,2))","v":""},{"$f":"IF($A57=\"\",\"\",VLOOKUP($A57,INSCRITS!$D$4:$W$506,19,0))","v":""},null,{"$f":"IF(AP57=\"\",\"\",VLOOKUP(AP57,[0]!Relais,2))","v":""},0,0]
[null,{"$f":"IF($A58=\"\",\"\",VLOOKUP($A58,INSCRITS!$D$4:$W$501,2,0))","v":""},{"$f":"IF($A58=\"\",\"\",VLOOKUP($A58,INSCRITS!$D$4:$W$501,3,0))","v":""},{"$f":"IF($A58=\"\",\"\",VLOOKUP($A58,INSCRITS!$D$4:$W$501,4,0))","v":""},{"$f":"IF($A58=\"\",\"\",VLOOKUP($A58,INSCRITS!$D$4:$W$501,5,0))","v":""},{"$f":"IF($A58=\"\",\"\",VLOOKUP($A58,INSCRITS!$D$4:$W$501,6,0))","v":""},{"$f":"IF($A58=\"\",\"\",VLOOKUP($A58,INSCRITS!$D$4:$W$501,7,0))","v":""},{"$f":"IF($A58=\"\",\"\",VLOOKUP($A58,INSCRITS!$D$4:$W$501,8,0))","v":""},{"$f":"IF($A58=\"\",\"\",VLOOKUP($A58,INSCRITS!$D$4:$W$501,9,0))","v":""},{"$f":"IF($A58=\"\",\"\",VLOOKUP($A58,INSCRITS!$D$4:$W$506,10,0))","v":""},{"$f":"IF(ISNA(VLOOKUP($A58,SPRINT!AD$7:AJ$50,6,0)),\"\",VLOOKUP($A58,SPRINT!AD$7:AJ$50,6,0))","v":""},{"$f":"IF(ISNA(VLOOKUP($A58,SPRINT!AD$7:AJ$50,7,0)),\"\",VLOOKUP($A58,SPRINT!AD$7:AJ$50,7,0))","v":""},{"$f":"IF($A58=\"\",\"\",VLOOKUP($A58,INSCRITS!$D$4:$W$506,11,0))","v":""},{"$f":"IF(ISNA(VLOOKUP($A58,BATONS!AD$7:AJ$51,6,0)),\"\",VLOOKUP($A58,BATONS!AD$7:AJ$51,6,0))","v":""},{"$f":"IF(ISNA(VLOOKUP($A58,BATONS!AD$7:AJ$51,7,0)),\"\",VLOOKUP($A58,BATONS!AD$7:AJ$51,7,0))","v":""},{"$f":"IF($A58=\"\",\"\",VLOOKUP($A58,INSCRITS!$D$4:$W$506,12,0))","v":""},{"$f":"IF(ISNA(VLOOKUP($A58,PLANCHE!AC$7:AI$52,6,0)),\"\",VLOOKUP($A58,PLANCHE!AC$7:AI$52,6,0))","v":""},{"$f":"IF(ISNA(VLOOKUP($A58,PLANCHE!AC$7:AI$52,7,0)),\"\",VLOOKUP($A58,PLANCHE!AC$7:AI$52,7,0))","v":""},{"$f":"IF($A58=\"\",\"\",VLOOKUP($A58,INSCRITS!$D$4:$W$506,13,0))","v":""},{"$f":"IF(ISNA(VLOOKUP($A58,NAGE!N$7:T$52,6,0)),\"\",VLOOKUP($A58,NAGE!N$7:T$52,6,0))","v":""},{"$f":"IF(ISNA(VLOOKUP($A58,NAGE!N$7:T$52,7,0)),\"\",VLOOKUP($A58,NAGE!N$7:T$52,7,0))","v":""},{"$f":"IF($A58=\"\",\"\",VLOOKUP($A58,INSCRITS!$D$4:$W$506,14,0))","v":""},{"$f":"IF(ISNA(VLOOKUP($A58,SURFSKI!AC$8:AI$53,6,0)),\"\",VLOOKUP($A58,SURFSKI!AC$8:AI$53,6,0))","v":""},{"$f":"IF(ISNA(VLOOKUP($A58,SURFSKI!AC$8:AI$53,7,0)),\"\",VLOOKUP($A58,SURFSKI!AC$8:AI$53,7,0))","v":""},{"$f":"IF($A58=\"\",\"\",VLOOKUP($A58,INSCRITS!$D$4:$W$506,15,0))","v":""},{"$f":"IF(ISNA(VLOOKUP($A58,OCEANMAN!AD$7:AJ$52,6,0)),\"\",VLOOKUP($A58,OCEANMAN!AD$7:AJ$52,6,0))","v":""},{"$f":"IF(ISNA(VLOOKUP($A58,OCEANMAN!AD$7:AJ$52,7,0)),\"\",VLOOKUP($A58,OCEANMAN!AD$7:AJ$52,7,0))","v":""},{"$f":"IF($A58=\"\",\"\",VLOOKUP($A58,INSCRITS!$D$4:$W$506,16,0))","v":""},{"$f":"IF(ISNA(VLOOKUP($A58,CNC!N$7:AC$52,6,0)),\"\",VLOOKUP($A58,CNC!N$7:AC$52,6,0))","v":""},{"$f":"IF(ISNA(VLOOKUP($A58,CNC!N$7:AC$52,7,0)),\"\",VLOOKUP($A58,CNC!N$7:AC$52,7,0))","v":""},0,{"$f":"IF($A58=\"\",\"\",VLOOKUP($A58,INSCRITS!$D$4:$W$506,16,0))","v":""},null,{"$f":"IF(AG58=\"\",\"\",VLOOKUP(AG58,[0]!Relais,2))","v":""},{"$f":"IF($A58=\"\",\"\",VLOOKUP($A58,INSCRITS!$D$4:$W$506,17,0))","v":""},null,{"$f":"IF(AJ58=\"\",\"\",VLOOKUP(AJ58,[0]!Relais,2))","v":""},{"$f":"IF($A58=\"\",\"\",VLOOKUP($A58,INSCRITS!$D$4:$W$506,18,0))","v":""},null,{"$f":"IF(AM58=\"\",\"\",VLOOKUP(AM58,[0]!Relais,2))","v":""},{"$f":"IF($A58=\"\",\"\",VLOOKUP($A58,INSCRITS!$D$4:$W$506,19,0))","v":""},null,{"$f":"IF(AP58=\"\",\"\",VLOOKUP(AP58,[0]!Relais,2))","v":""},0,0]
[null,{"$f":"IF($A59=\"\",\"\",VLOOKUP($A59,INSCRITS!$D$4:$W$501,2,0))","v":""},{"$f":"IF($A59=\"\",\"\",VLOOKUP($A59,INSCRITS!$D$4:$W$501,3,0))","v":""},{"$f":"IF($A59=\"\",\"\",VLOOKUP($A59,INSCRITS!$D$4:$W$501,4,0))","v":""},{"$f":"IF($A59=\"\",\"\",VLOOKUP($A59,INSCRITS!$D$4:$W$501,5,0))","v":""},{"$f":"IF($A59=\"\",\"\",VLOOKUP($A59,INSCRITS!$D$4:$W$501,6,0))","v":""},{"$f":"IF($A59=\"\",\"\",VLOOKUP($A59,INSCRITS!$D$4:$W$501,7,0))","v":""},{"$f":"IF($A59=\"\",\"\",VLOOKUP($A59,INSCRITS!$D$4:$W$501,8,0))","v":""},{"$f":"IF($A59=\"\",\"\",VLOOKUP($A59,INSCRITS!$D$4:$W$501,9,0))","v":""},{"$f":"IF($A59=\"\",\"\",VLOOKUP($A59,INSCRITS!$D$4:$W$506,10,0))","v":""},{"$f":"IF(ISNA(VLOOKUP($A59,SPRINT!AD$7:AJ$50,6,0)),\"\",VLOOKUP($A59,SPRINT!AD$7:AJ$50,6,0))","v":""},{"$f":"IF(ISNA(VLOOKUP($A59,SPRINT!AD$7:AJ$50,7,0)),\"\",VLOOKUP($A59,SPRINT!AD$7:AJ$50,7,0))","v":""},{"$f":"IF($A59=\"\",\"\",VLOOKUP($A59,INSCRITS!$D$4:$W$506,11,0))","v":""},{"$f":"IF(ISNA(VLOOKUP($A59,BATONS!AD$7:AJ$51,6,0)),\"\",VLOOKUP($A59,BATONS!AD$7:AJ$51,6,0))","v":""},{"$f":"IF(ISNA(VLOOKUP($A59,BATONS!AD$7:AJ$51,7,0)),\"\",VLOOKUP($A59,BATONS!AD$7:AJ$51,7,0))","v":""},{"$f":"IF($A59=\"\",\"\",VLOOKUP($A59,INSCRITS!$D$4:$W$506,12,0))","v":""},{"$f":"IF(ISNA(VLOOKUP($A59,PLANCHE!AC$7:AI$52,6,0)),\"\",VLOOKUP($A59,PLANCHE!AC$7:AI$52,6,0))","v":""},{"$f":"IF(ISNA(VLOOKUP($A59,PLANCHE!AC$7:AI$52,7,0)),\"\",VLOOKUP($A59,PLANCHE!AC$7:AI$52,7,0))","v":""},{"$f":"IF($A59=\"\",\"\",VLOOKUP($A59,INSCRITS!$D$4:$W$506,13,0))","v":""},{"$f":"IF(ISNA(VLOOKUP($A59,NAGE!N$7:T$52,6,0)),\"\",VLOOKUP($A59,NAGE!N$7:T$52,6,0))","v":""},{"$f":"IF(ISNA(VLOOKUP($A59,NAGE!N$7:T$52,7,0)),\"\",VLOOKUP($A59,NAGE!N$7:T$52,7,0))","v":""},{"$f":"IF($A59=\"\",\"\",VLOOKUP($A59,INSCRITS!$D$4:$W$506,14,0))","v":""},{"$f":"IF(ISNA(VLOOKUP($A59,SURFSKI!AC$8:AI$53,6,0)),\"\",VLOOKUP($A59,SURFSKI!AC$8:AI$53,6,0))","v":""},{"$f":"IF(ISNA(VLOOKUP($A59,SURFSKI!AC$8:AI$53,7,0)),\"\",VLOOKUP($A59,SURFSKI!AC$8:AI$53,7,0))","v":""},{"$f":"IF($A59=\"\",\"\",VLOOKUP($A59,INSCRITS!$D$4:$W$506,15,0))","v":""},{"$f":"IF(ISNA(VLOOKUP($A59,OCEANMAN!AD$7:AJ$52,6,0)),\"\",VLOOKUP($A59,OCEANMAN!AD$7:AJ$52,6,0))","v":""},{"$f":"IF(ISNA(VLOOKUP($A59,OCEANMAN!AD$7:AJ$52,7,0)),\"\",VLOOKUP($A59,OCEANMAN!AD$7:AJ$52,7,0))","v":""},{"$f":"IF($A59=\"\",\"\",VLOOKUP($A59,INSCRITS!$D$4:$W$506,16,0))","v":""},{"$f":"IF(ISNA(VLOOKUP($A59,CNC!N$7:AC$52,6,0)),\"\",VLOOKUP($A59,CNC!N$7:AC$52,6,0))","v":""},{"$f":"IF(ISNA(VLOOKUP($A59,CNC!N$7:AC$52,7,0)),\"\",VLOOKUP($A59,CNC!N$7:AC$52,7,0))","v":""},0,{"$f":"IF($A59=\"\",\"\",VLOOKUP($A59,INSCRITS!$D$4:$W$506,16,0))","v":""},null,{"$f":"IF(AG59=\"\",\"\",VLOOKUP(AG59,[0]!Relais,2))","v":""},{"$f":"IF($A59=\"\",\"\",VLOOKUP($A59,INSCRITS!$D$4:$W$506,17,0))","v":""},null,{"$f":"IF(AJ59=\"\",\"\",VLOOKUP(AJ59,[0]!Relais,2))","v":""},{"$f":"IF($A59=\"\",\"\",VLOOKUP($A59,INSCRITS!$D$4:$W$506,18,0))","v":""},null,{"$f":"IF(AM59=\"\",\"\",VLOOKUP(AM59,[0]!Relais,2))","v":""},{"$f":"IF($A59=\"\",\"\",VLOOKUP($A59,INSCRITS!$D$4:$W$506,19,0))","v":""},null,{"$f":"IF(AP59=\"\",\"\",VLOOKUP(AP59,[0]!Relais,2))","v":""},0,0]
[null,{"$f":"IF($A60=\"\",\"\",VLOOKUP($A60,INSCRITS!$D$4:$W$501,2,0))","v":""},{"$f":"IF($A60=\"\",\"\",VLOOKUP($A60,INSCRITS!$D$4:$W$501,3,0))","v":""},{"$f":"IF($A60=\"\",\"\",VLOOKUP($A60,INSCRITS!$D$4:$W$501,4,0))","v":""},{"$f":"IF($A60=\"\",\"\",VLOOKUP($A60,INSCRITS!$D$4:$W$501,5,0))","v":""},{"$f":"IF($A60=\"\",\"\",VLOOKUP($A60,INSCRITS!$D$4:$W$501,6,0))","v":""},{"$f":"IF($A60=\"\",\"\",VLOOKUP($A60,INSCRITS!$D$4:$W$501,7,0))","v":""},{"$f":"IF($A60=\"\",\"\",VLOOKUP($A60,INSCRITS!$D$4:$W$501,8,0))","v":""},{"$f":"IF($A60=\"\",\"\",VLOOKUP($A60,INSCRITS!$D$4:$W$501,9,0))","v":""},{"$f":"IF($A60=\"\",\"\",VLOOKUP($A60,INSCRITS!$D$4:$W$506,10,0))","v":""},{"$f":"IF(ISNA(VLOOKUP($A60,SPRINT!AD$7:AJ$50,6,0)),\"\",VLOOKUP($A60,SPRINT!AD$7:AJ$50,6,0))","v":""},{"$f":"IF(ISNA(VLOOKUP($A60,SPRINT!AD$7:AJ$50,7,0)),\"\",VLOOKUP($A60,SPRINT!AD$7:AJ$50,7,0))","v":""},{"$f":"IF($A60=\"\",\"\",VLOOKUP($A60,INSCRITS!$D$4:$W$506,11,0))","v":""},{"$f":"IF(ISNA(VLOOKUP($A60,BATONS!AD$7:AJ$51,6,0)),\"\",VLOOKUP($A60,BATONS!AD$7:AJ$51,6,0))","v":""},{"$f":"IF(ISNA(VLOOKUP($A60,BATONS!AD$7:AJ$51,7,0)),\"\",VLOOKUP($A60,BATONS!AD$7:AJ$51,7,0))","v":""},{"$f":"IF($A60=\"\",\"\",VLOOKUP($A60,INSCRITS!$D$4:$W$506,12,0))","v":""},{"$f":"IF(ISNA(VLOOKUP($A60,PLANCHE!AC$7:AI$52,6,0)),\"\",VLOOKUP($A60,PLANCHE!AC$7:AI$52,6,0))","v":""},{"$f":"IF(ISNA(VLOOKUP($A60,PLANCHE!AC$7:AI$52,7,0)),\"\",VLOOKUP($A60,PLANCHE!AC$7:AI$52,7,0))","v":""},{"$f":"IF($A60=\"\",\"\",VLOOKUP($A60,INSCRITS!$D$4:$W$506,13,0))","v":""},{"$f":"IF(ISNA(VLOOKUP($A60,NAGE!N$7:T$52,6,0)),\"\",VLOOKUP($A60,NAGE!N$7:T$52,6,0))","v":""},{"$f":"IF(ISNA(VLOOKUP($A60,NAGE!N$7:T$52,7,0)),\"\",VLOOKUP($A60,NAGE!N$7:T$52,7,0))","v":""},{"$f":"IF($A60=\"\",\"\",VLOOKUP($A60,INSCRITS!$D$4:$W$506,14,0))","v":""},{"$f":"IF(ISNA(VLOOKUP($A60,SURFSKI!AC$8:AI$53,6,0)),\"\",VLOOKUP($A60,SURFSKI!AC$8:AI$53,6,0))","v":""},{"$f":"IF(ISNA(VLOOKUP($A60,SURFSKI!AC$8:AI$53,7,0)),\"\",VLOOKUP($A60,SURFSKI!AC$8:AI$53,7,0))","v":""},{"$f":"IF($A60=\"\",\"\",VLOOKUP($A60,INSCRITS!$D$4:$W$506,15,0))","v":""},{"$f":"IF(ISNA(VLOOKUP($A60,OCEANMAN!AD$7:AJ$52,6,0)),\"\",VLOOKUP($A60,OCEANMAN!AD$7:AJ$52,6,0))","v":""},{"$f":"IF(ISNA(VLOOKUP($A60,OCEANMAN!AD$7:AJ$52,7,0)),\"\",VLOOKUP($A60,OCEANMAN!AD$7:AJ$52,7,0))","v":""},{"$f":"IF($A60=\"\",\"\",VLOOKUP($A60,INSCRITS!$D$4:$W$506,16,0))","v":""},{"$f":"IF(ISNA(VLOOKUP($A60,CNC!N$7:AC$52,6,0)),\"\",VLOOKUP($A60,CNC!N$7:AC$52,6,0))","v":""},{"$f":"IF(ISNA(VLOOKUP($A60,CNC!N$7:AC$52,7,0)),\"\",VLOOKUP($A60,CNC!N$7:AC$52,7,0))","v":""},0,{"$f":"IF($A60=\"\",\"\",VLOOKUP($A60,INSCRITS!$D$4:$W$506,16,0))","v":""},null,{"$f":"IF(AG60=\"\",\"\",VLOOKUP(AG60,[0]!Relais,2))","v":""},{"$f":"IF($A60=\"\",\"\",VLOOKUP($A60,INSCRITS!$D$4:$W$506,17,0))","v":""},null,{"$f":"IF(AJ60=\"\",\"\",VLOOKUP(AJ60,[0]!Relais,2))","v":""},{"$f":"IF($A60=\"\",\"\",VLOOKUP($A60,INSCRITS!$D$4:$W$506,18,0))","v":""},null,{"$f":"IF(AM60=\"\",\"\",VLOOKUP(AM60,[0]!Relais,2))","v":""},{"$f":"IF($A60=\"\",\"\",VLOOKUP($A60,INSCRITS!$D$4:$W$506,19,0))","v":""},null,{"$f":"IF(AP60=\"\",\"\",VLOOKUP(AP60,[0]!Relais,2))","v":""},0,0]
[null,{"$f":"IF($A61=\"\",\"\",VLOOKUP($A61,INSCRITS!$D$4:$W$501,2,0))","v":""},{"$f":"IF($A61=\"\",\"\",VLOOKUP($A61,INSCRITS!$D$4:$W$501,3,0))","v":""},{"$f":"IF($A61=\"\",\"\",VLOOKUP($A61,INSCRITS!$D$4:$W$501,4,0))","v":""},{"$f":"IF($A61=\"\",\"\",VLOOKUP($A61,INSCRITS!$D$4:$W$501,5,0))","v":""},{"$f":"IF($A61=\"\",\"\",VLOOKUP($A61,INSCRITS!$D$4:$W$501,6,0))","v":""},{"$f":"IF($A61=\"\",\"\",VLOOKUP($A61,INSCRITS!$D$4:$W$501,7,0))","v":""},{"$f":"IF($A61=\"\",\"\",VLOOKUP($A61,INSCRITS!$D$4:$W$501,8,0))","v":""},{"$f":"IF($A61=\"\",\"\",VLOOKUP($A61,INSCRITS!$D$4:$W$501,9,0))","v":""},{"$f":"IF($A61=\"\",\"\",VLOOKUP($A61,INSCRITS!$D$4:$W$506,10,0))","v":""},{"$f":"IF(ISNA(VLOOKUP($A61,SPRINT!AD$7:AJ$50,6,0)),\"\",VLOOKUP($A61,SPRINT!AD$7:AJ$50,6,0))","v":""},{"$f":"IF(ISNA(VLOOKUP($A61,SPRINT!AD$7:AJ$50,7,0)),\"\",VLOOKUP($A61,SPRINT!AD$7:AJ$50,7,0))","v":""},{"$f":"IF($A61=\"\",\"\",VLOOKUP($A61,INSCRITS!$D$4:$W$506,11,0))","v":""},{"$f":"IF(ISNA(VLOOKUP($A61,BATONS!AD$7:AJ$51,6,0)),\"\",VLOOKUP($A61,BATONS!AD$7:AJ$51,6,0))","v":""},{"$f":"IF(ISNA(VLOOKUP($A61,BATONS!AD$7:AJ$51,7,0)),\"\",VLOOKUP($A61,BATONS!AD$7:AJ$51,7,0))","v":""},{"$f":"IF($A61=\"\",\"\",VLOOKUP($A61,INSCRITS!$D$4:$W$506,12,0))","v":""},{"$f":"IF(ISNA(VLOOKUP($A61,PLANCHE!AC$7:AI$52,6,0)),\"\",VLOOKUP($A61,PLANCHE!AC$7:AI$52,6,0))","v":""},{"$f":"IF(ISNA(VLOOKUP($A61,PLANCHE!AC$7:AI$52,7,0)),\"\",VLOOKUP($A61,PLANCHE!AC$7:AI$52,7,0))","v":""},{"$f":"IF($A61=\"\",\"\",VLOOKUP($A61,INSCRITS!$D$4:$W$506,13,0))","v":""},{"$f":"IF(ISNA(VLOOKUP($A61,NAGE!N$7:T$52,6,0)),\"\",VLOOKUP($A61,NAGE!N$7:T$52,6,0))","v":""},{"$f":"IF(ISNA(VLOOKUP($A61,NAGE!N$7:T$52,7,0)),\"\",VLOOKUP($A61,NAGE!N$7:T$52,7,0))","v":""},{"$f":"IF($A61=\"\",\"\",VLOOKUP($A61,INSCRITS!$D$4:$W$506,14,0))","v":""},{"$f":"IF(ISNA(VLOOKUP($A61,SURFSKI!AC$8:AI$53,6,0)),\"\",VLOOKUP($A61,SURFSKI!AC$8:AI$53,6,0))","v":""},{"$f":"IF(ISNA(VLOOKUP($A61,SURFSKI!AC$8:AI$53,7,0)),\"\",VLOOKUP($A61,SURFSKI!AC$8:AI$53,7,0))","v":""},{"$f":"IF($A61=\"\",\"\",VLOOKUP($A61,INSCRITS!$D$4:$W$506,15,0))","v":""},{"$f":"IF(ISNA(VLOOKUP($A61,OCEANMAN!AD$7:AJ$52,6,0)),\"\",VLOOKUP($A61,OCEANMAN!AD$7:AJ$52,6,0))","v":""},{"$f":"IF(ISNA(VLOOKUP($A61,OCEANMAN!AD$7:AJ$52,7,0)),\"\",VLOOKUP($A61,OCEANMAN!AD$7:AJ$52,7,0))","v":""},{"$f":"IF($A61=\"\",\"\",VLOOKUP($A61,INSCRITS!$D$4:$W$506,16,0))","v":""},{"$f":"IF(ISNA(VLOOKUP($A61,CNC!N$7:AC$52,6,0)),\"\",VLOOKUP($A61,CNC!N$7:AC$52,6,0))","v":""},{"$f":"IF(ISNA(VLOOKUP($A61,CNC!N$7:AC$52,7,0)),\"\",VLOOKUP($A61,CNC!N$7:AC$52,7,0))","v":""},0,{"$f":"IF($A61=\"\",\"\",VLOOKUP($A61,INSCRITS!$D$4:$W$506,16,0))","v":""},null,{"$f":"IF(AG61=\"\",\"\",VLOOKUP(AG61,[0]!Relais,2))","v":""},{"$f":"IF($A61=\"\",\"\",VLOOKUP($A61,INSCRITS!$D$4:$W$506,17,0))","v":""},null,{"$f":"IF(AJ61=\"\",\"\",VLOOKUP(AJ61,[0]!Relais,2))","v":""},{"$f":"IF($A61=\"\",\"\",VLOOKUP($A61,INSCRITS!$D$4:$W$506,18,0))","v":""},null,{"$f":"IF(AM61=\"\",\"\",VLOOKUP(AM61,[0]!Relais,2))","v":""},{"$f":"IF($A61=\"\",\"\",VLOOKUP($A61,INSCRITS!$D$4:$W$506,19,0))","v":""},null,{"$f":"IF(AP61=\"\",\"\",VLOOKUP(AP61,[0]!Relais,2))","v":""},0,0]
[null,{"$f":"IF($A62=\"\",\"\",VLOOKUP($A62,INSCRITS!$D$4:$W$501,2,0))","v":""},{"$f":"IF($A62=\"\",\"\",VLOOKUP($A62,INSCRITS!$D$4:$W$501,3,0))","v":""},{"$f":"IF($A62=\"\",\"\",VLOOKUP($A62,INSCRITS!$D$4:$W$501,4,0))","v":""},{"$f":"IF($A62=\"\",\"\",VLOOKUP($A62,INSCRITS!$D$4:$W$501,5,0))","v":""},{"$f":"IF($A62=\"\",\"\",VLOOKUP($A62,INSCRITS!$D$4:$W$501,6,0))","v":""},{"$f":"IF($A62=\"\",\"\",VLOOKUP($A62,INSCRITS!$D$4:$W$501,7,0))","v":""},{"$f":"IF($A62=\"\",\"\",VLOOKUP($A62,INSCRITS!$D$4:$W$501,8,0))","v":""},{"$f":"IF($A62=\"\",\"\",VLOOKUP($A62,INSCRITS!$D$4:$W$501,9,0))","v":""},{"$f":"IF($A62=\"\",\"\",VLOOKUP($A62,INSCRITS!$D$4:$W$506,10,0))","v":""},{"$f":"IF(ISNA(VLOOKUP($A62,SPRINT!AD$7:AJ$50,6,0)),\"\",VLOOKUP($A62,SPRINT!AD$7:AJ$50,6,0))","v":""},{"$f":"IF(ISNA(VLOOKUP($A62,SPRINT!AD$7:AJ$50,7,0)),\"\",VLOOKUP($A62,SPRINT!AD$7:AJ$50,7,0))","v":""},{"$f":"IF($A62=\"\",\"\",VLOOKUP($A62,INSCRITS!$D$4:$W$506,11,0))","v":""},{"$f":"IF(ISNA(VLOOKUP($A62,BATONS!AD$7:AJ$51,6,0)),\"\",VLOOKUP($A62,BATONS!AD$7:AJ$51,6,0))","v":""},{"$f":"IF(ISNA(VLOOKUP($A62,BATONS!AD$7:AJ$51,7,0)),\"\",VLOOKUP($A62,BATONS!AD$7:AJ$51,7,0))","v":""},{"$f":"IF($A62=\"\",\"\",VLOOKUP($A62,INSCRITS!$D$4:$W$506,12,0))","v":""},{"$f":"IF(ISNA(VLOOKUP($A62,PLANCHE!AC$7:AI$52,6,0)),\"\",VLOOKUP($A62,PLANCHE!AC$7:AI$52,6,0))","v":""},{"$f":"IF(ISNA(VLOOKUP($A62,PLANCHE!AC$7:AI$52,7,0)),\"\",VLOOKUP($A62,PLANCHE!AC$7:AI$52,7,0))","v":""},{"$f":"IF($A62=\"\",\"\",VLOOKUP($A62,INSCRITS!$D$4:$W$506,13,0))","v":""},{"$f":"IF(ISNA(VLOOKUP($A62,NAGE!N$7:T$52,6,0)),\"\",VLOOKUP($A62,NAGE!N$7:T$52,6,0))","v":""},{"$f":"IF(ISNA(VLOOKUP($A62,NAGE!N$7:T$52,7,0)),\"\",VLOOKUP($A62,NAGE!N$7:T$52,7,0))","v":""},{"$f":"IF($A62=\"\",\"\",VLOOKUP($A62,INSCRITS!$D$4:$W$506,14,0))","v":""},{"$f":"IF(ISNA(VLOOKUP($A62,SURFSKI!AC$8:AI$53,6,0)),\"\",VLOOKUP($A62,SURFSKI!AC$8:AI$53,6,0))","v":""},{"$f":"IF(ISNA(VLOOKUP($A62,SURFSKI!AC$8:AI$53,7,0)),\"\",VLOOKUP($A62,SURFSKI!AC$8:AI$53,7,0))","v":""},{"$f":"IF($A62=\"\",\"\",VLOOKUP($A62,INSCRITS!$D$4:$W$506,15,0))","v":""},{"$f":"IF(ISNA(VLOOKUP($A62,OCEANMAN!AD$7:AJ$52,6,0)),\"\",VLOOKUP($A62,OCEANMAN!AD$7:AJ$52,6,0))","v":""},{"$f":"IF(ISNA(VLOOKUP($A62,OCEANMAN!AD$7:AJ$52,7,0)),\"\",VLOOKUP($A62,OCEANMAN!AD$7:AJ$52,7,0))","v":""},{"$f":"IF($A62=\"\",\"\",VLOOKUP($A62,INSCRITS!$D$4:$W$506,16,0))","v":""},{"$f":"IF(ISNA(VLOOKUP($A62,CNC!N$7:AC$52,6,0)),\"\",VLOOKUP($A62,CNC!N$7:AC$52,6,0))","v":""},{"$f":"IF(ISNA(VLOOKUP($A62,CNC!N$7:AC$52,7,0)),\"\",VLOOKUP($A62,CNC!N$7:AC$52,7,0))","v":""},0,{"$f":"IF($A62=\"\",\"\",VLOOKUP($A62,INSCRITS!$D$4:$W$506,16,0))","v":""},null,{"$f":"IF(AG62=\"\",\"\",VLOOKUP(AG62,[0]!Relais,2))","v":""},{"$f":"IF($A62=\"\",\"\",VLOOKUP($A62,INSCRITS!$D$4:$W$506,17,0))","v":""},null,{"$f":"IF(AJ62=\"\",\"\",VLOOKUP(AJ62,[0]!Relais,2))","v":""},{"$f":"IF($A62=\"\",\"\",VLOOKUP($A62,INSCRITS!$D$4:$W$506,18,0))","v":""},null,{"$f":"IF(AM62=\"\",\"\",VLOOKUP(AM62,[0]!Relais,2))","v":""},{"$f":"IF($A62=\"\",\"\",VLOOKUP($A62,INSCRITS!$D$4:$W$506,19,0))","v":""},null,{"$f":"IF(AP62=\"\",\"\",VLOOKUP(AP62,[0]!Relais,2))","v":""},0,0]
[null,{"$f":"IF($A63=\"\",\"\",VLOOKUP($A63,INSCRITS!$D$4:$W$501,2,0))","v":""},{"$f":"IF($A63=\"\",\"\",VLOOKUP($A63,INSCRITS!$D$4:$W$501,3,0))","v":""},{"$f":"IF($A63=\"\",\"\",VLOOKUP($A63,INSCRITS!$D$4:$W$501,4,0))","v":""},{"$f":"IF($A63=\"\",\"\",VLOOKUP($A63,INSCRITS!$D$4:$W$501,5,0))","v":""},{"$f":"IF($A63=\"\",\"\",VLOOKUP($A63,INSCRITS!$D$4:$W$501,6,0))","v":""},{"$f":"IF($A63=\"\",\"\",VLOOKUP($A63,INSCRITS!$D$4:$W$501,7,0))","v":""},{"$f":"IF($A63=\"\",\"\",VLOOKUP($A63,INSCRITS!$D$4:$W$501,8,0))","v":""},{"$f":"IF($A63=\"\",\"\",VLOOKUP($A63,INSCRITS!$D$4:$W$501,9,0))","v":""},{"$f":"IF($A63=\"\",\"\",VLOOKUP($A63,INSCRITS!$D$4:$W$506,10,0))","v":""},{"$f":"IF(ISNA(VLOOKUP($A63,SPRINT!AD$7:AJ$50,6,0)),\"\",VLOOKUP($A63,SPRINT!AD$7:AJ$50,6,0))","v":""},{"$f":"IF(ISNA(VLOOKUP($A63,SPRINT!AD$7:AJ$50,7,0)),\"\",VLOOKUP($A63,SPRINT!AD$7:AJ$50,7,0))","v":""},{"$f":"IF($A63=\"\",\"\",VLOOKUP($A63,INSCRITS!$D$4:$W$506,11,0))","v":""},{"$f":"IF(ISNA(VLOOKUP($A63,BATONS!AD$7:AJ$51,6,0)),\"\",VLOOKUP($A63,BATONS!AD$7:AJ$51,6,0))","v":""},{"$f":"IF(ISNA(VLOOKUP($A63,BATONS!AD$7:AJ$51,7,0)),\"\",VLOOKUP($A63,BATONS!AD$7:AJ$51,7,0))","v":""},{"$f":"IF($A63=\"\",\"\",VLOOKUP($A63,INSCRITS!$D$4:$W$506,12,0))","v":""},{"$f":"IF(ISNA(VLOOKUP($A63,PLANCHE!AC$7:AI$52,6,0)),\"\",VLOOKUP($A63,PLANCHE!AC$7:AI$52,6,0))","v":""},{"$f":"IF(ISNA(VLOOKUP($A63,PLANCHE!AC$7:AI$52,7,0)),\"\",VLOOKUP($A63,PLANCHE!AC$7:AI$52,7,0))","v":""},{"$f":"IF($A63=\"\",\"\",VLOOKUP($A63,INSCRITS!$D$4:$W$506,13,0))","v":""},{"$f":"IF(ISNA(VLOOKUP($A63,NAGE!N$7:T$52,6,0)),\"\",VLOOKUP($A63,NAGE!N$7:T$52,6,0))","v":""},{"$f":"IF(ISNA(VLOOKUP($A63,NAGE!N$7:T$52,7,0)),\"\",VLOOKUP($A63,NAGE!N$7:T$52,7,0))","v":""},{"$f":"IF($A63=\"\",\"\",VLOOKUP($A63,INSCRITS!$D$4:$W$506,14,0))","v":""},{"$f":"IF(ISNA(VLOOKUP($A63,SURFSKI!AC$8:AI$53,6,0)),\"\",VLOOKUP($A63,SURFSKI!AC$8:AI$53,6,0))","v":""},{"$f":"IF(ISNA(VLOOKUP($A63,SURFSKI!AC$8:AI$53,7,0)),\"\",VLOOKUP($A63,SURFSKI!AC$8:AI$53,7,0))","v":""},{"$f":"IF($A63=\"\",\"\",VLOOKUP($A63,INSCRITS!$D$4:$W$506,15,0))","v":""},{"$f":"IF(ISNA(VLOOKUP($A63,OCEANMAN!AD$7:AJ$52,6,0)),\"\",VLOOKUP($A63,OCEANMAN!AD$7:AJ$52,6,0))","v":""},{"$f":"IF(ISNA(VLOOKUP($A63,OCEANMAN!AD$7:AJ$52,7,0)),\"\",VLOOKUP($A63,OCEANMAN!AD$7:AJ$52,7,0))","v":""},{"$f":"IF($A63=\"\",\"\",VLOOKUP($A63,INSCRITS!$D$4:$W$506,16,0))","v":""},{"$f":"IF(ISNA(VLOOKUP($A63,CNC!N$7:AC$52,6,0)),\"\",VLOOKUP($A63,CNC!N$7:AC$52,6,0))","v":""},{"$f":"IF(ISNA(VLOOKUP($A63,CNC!N$7:AC$52,7,0)),\"\",VLOOKUP($A63,CNC!N$7:AC$52,7,0))","v":""},0,{"$f":"IF($A63=\"\",\"\",VLOOKUP($A63,INSCRITS!$D$4:$W$506,16,0))","v":""},null,{"$f":"IF(AG63=\"\",\"\",VLOOKUP(AG63,[0]!Relais,2))","v":""},{"$f":"IF($A63=\"\",\"\",VLOOKUP($A63,INSCRITS!$D$4:$W$506,17,0))","v":""},null,{"$f":"IF(AJ63=\"\",\"\",VLOOKUP(AJ63,[0]!Relais,2))","v":""},{"$f":"IF($A63=\"\",\"\",VLOOKUP($A63,INSCRITS!$D$4:$W$506,18,0))","v":""},null,{"$f":"IF(AM63=\"\",\"\",VLOOKUP(AM63,[0]!Relais,2))","v":""},{"$f":"IF($A63=\"\",\"\",VLOOKUP($A63,INSCRITS!$D$4:$W$506,19,0))","v":""},null,{"$f":"IF(AP63=\"\",\"\",VLOOKUP(AP63,[0]!Relais,2))","v":""},0,0]
[null,{"$f":"IF($A64=\"\",\"\",VLOOKUP($A64,INSCRITS!$D$4:$W$501,2,0))","v":""},{"$f":"IF($A64=\"\",\"\",VLOOKUP($A64,INSCRITS!$D$4:$W$501,3,0))","v":""},{"$f":"IF($A64=\"\",\"\",VLOOKUP($A64,INSCRITS!$D$4:$W$501,4,0))","v":""},{"$f":"IF($A64=\"\",\"\",VLOOKUP($A64,INSCRITS!$D$4:$W$501,5,0))","v":""},{"$f":"IF($A64=\"\",\"\",VLOOKUP($A64,INSCRITS!$D$4:$W$501,6,0))","v":""},{"$f":"IF($A64=\"\",\"\",VLOOKUP($A64,INSCRITS!$D$4:$W$501,7,0))","v":""},{"$f":"IF($A64=\"\",\"\",VLOOKUP($A64,INSCRITS!$D$4:$W$501,8,0))","v":""},{"$f":"IF($A64=\"\",\"\",VLOOKUP($A64,INSCRITS!$D$4:$W$501,9,0))","v":""},{"$f":"IF($A64=\"\",\"\",VLOOKUP($A64,INSCRITS!$D$4:$W$506,10,0))","v":""},{"$f":"IF(ISNA(VLOOKUP($A64,SPRINT!AD$7:AJ$50,6,0)),\"\",VLOOKUP($A64,SPRINT!AD$7:AJ$50,6,0))","v":""},{"$f":"IF(ISNA(VLOOKUP($A64,SPRINT!AD$7:AJ$50,7,0)),\"\",VLOOKUP($A64,SPRINT!AD$7:AJ$50,7,0))","v":""},{"$f":"IF($A64=\"\",\"\",VLOOKUP($A64,INSCRITS!$D$4:$W$506,11,0))","v":""},{"$f":"IF(ISNA(VLOOKUP($A64,BATONS!AD$7:AJ$51,6,0)),\"\",VLOOKUP($A64,BATONS!AD$7:AJ$51,6,0))","v":""},{"$f":"IF(ISNA(VLOOKUP($A64,BATONS!AD$7:AJ$51,7,0)),\"\",VLOOKUP($A64,BATONS!AD$7:AJ$51,7,0))","v":""},{"$f":"IF($A64=\"\",\"\",VLOOKUP($A64,INSCRITS!$D$4:$W$506,12,0))","v":""},{"$f":"IF(ISNA(VLOOKUP($A64,PLANCHE!AC$7:AI$52,6,0)),\"\",VLOOKUP($A64,PLANCHE!AC$7:AI$52,6,0))","v":""},{"$f":"IF(ISNA(VLOOKUP($A64,PLANCHE!AC$7:AI$52,7,0)),\"\",VLOOKUP($A64,PLANCHE!AC$7:AI$52,7,0))","v":""},{"$f":"IF($A64=\"\",\"\",VLOOKUP($A64,INSCRITS!$D$4:$W$506,13,0))","v":""},{"$f":"IF(ISNA(VLOOKUP($A64,NAGE!N$7:T$52,6,0)),\"\",VLOOKUP($A64,NAGE!N$7:T$52,6,0))","v":""},{"$f":"IF(ISNA(VLOOKUP($A64,NAGE!N$7:T$52,7,0)),\"\",VLOOKUP($A64,NAGE!N$7:T$52,7,0))","v":""},{"$f":"IF($A64=\"\",\"\",VLOOKUP($A64,INSCRITS!$D$4:$W$506,14,0))","v":""},{"$f":"IF(ISNA(VLOOKUP($A64,SURFSKI!AC$8:AI$53,6,0)),\"\",VLOOKUP($A64,SURFSKI!AC$8:AI$53,6,0))","v":""},{"$f":"IF(ISNA(VLOOKUP($A64,SURFSKI!AC$8:AI$53,7,0)),\"\",VLOOKUP($A64,SURFSKI!AC$8:AI$53,7,0))","v":""},{"$f":"IF($A64=\"\",\"\",VLOOKUP($A64,INSCRITS!$D$4:$W$506,15,0))","v":""},{"$f":"IF(ISNA(VLOOKUP($A64,OCEANMAN!AD$7:AJ$52,6,0)),\"\",VLOOKUP($A64,OCEANMAN!AD$7:AJ$52,6,0))","v":""},{"$f":"IF(ISNA(VLOOKUP($A64,OCEANMAN!AD$7:AJ$52,7,0)),\"\",VLOOKUP($A64,OCEANMAN!AD$7:AJ$52,7,0))","v":""},{"$f":"IF($A64=\"\",\"\",VLOOKUP($A64,INSCRITS!$D$4:$W$506,16,0))","v":""},{"$f":"IF(ISNA(VLOOKUP($A64,CNC!N$7:AC$52,6,0)),\"\",VLOOKUP($A64,CNC!N$7:AC$52,6,0))","v":""},{"$f":"IF(ISNA(VLOOKUP($A64,CNC!N$7:AC$52,7,0)),\"\",VLOOKUP($A64,CNC!N$7:AC$52,7,0))","v":""},0,{"$f":"IF($A64=\"\",\"\",VLOOKUP($A64,INSCRITS!$D$4:$W$506,16,0))","v":""},null,{"$f":"IF(AG64=\"\",\"\",VLOOKUP(AG64,[0]!Relais,2))","v":""},{"$f":"IF($A64=\"\",\"\",VLOOKUP($A64,INSCRITS!$D$4:$W$506,17,0))","v":""},null,{"$f":"IF(AJ64=\"\",\"\",VLOOKUP(AJ64,[0]!Relais,2))","v":""},{"$f":"IF($A64=\"\",\"\",VLOOKUP($A64,INSCRITS!$D$4:$W$506,18,0))","v":""},null,{"$f":"IF(AM64=\"\",\"\",VLOOKUP(AM64,[0]!Relais,2))","v":""},{"$f":"IF($A64=\"\",\"\",VLOOKUP($A64,INSCRITS!$D$4:$W$506,19,0))","v":""},null,{"$f":"IF(AP64=\"\",\"\",VLOOKUP(AP64,[0]!Relais,2))","v":""},0,0]
[null,{"$f":"IF($A65=\"\",\"\",VLOOKUP($A65,INSCRITS!$D$4:$W$501,2,0))","v":""},{"$f":"IF($A65=\"\",\"\",VLOOKUP($A65,INSCRITS!$D$4:$W$501,3,0))","v":""},{"$f":"IF($A65=\"\",\"\",VLOOKUP($A65,INSCRITS!$D$4:$W$501,4,0))","v":""},{"$f":"IF($A65=\"\",\"\",VLOOKUP($A65,INSCRITS!$D$4:$W$501,5,0))","v":""},{"$f":"IF($A65=\"\",\"\",VLOOKUP($A65,INSCRITS!$D$4:$W$501,6,0))","v":""},{"$f":"IF($A65=\"\",\"\",VLOOKUP($A65,INSCRITS!$D$4:$W$501,7,0))","v":""},{"$f":"IF($A65=\"\",\"\",VLOOKUP($A65,INSCRITS!$D$4:$W$501,8,0))","v":""},{"$f":"IF($A65=\"\",\"\",VLOOKUP($A65,INSCRITS!$D$4:$W$501,9,0))","v":""},{"$f":"IF($A65=\"\",\"\",VLOOKUP($A65,INSCRITS!$D$4:$W$506,10,0))","v":""},{"$f":"IF(ISNA(VLOOKUP($A65,SPRINT!AD$7:AJ$50,6,0)),\"\",VLOOKUP($A65,SPRINT!AD$7:AJ$50,6,0))","v":""},{"$f":"IF(ISNA(VLOOKUP($A65,SPRINT!AD$7:AJ$50,7,0)),\"\",VLOOKUP($A65,SPRINT!AD$7:AJ$50,7,0))","v":""},{"$f":"IF($A65=\"\",\"\",VLOOKUP($A65,INSCRITS!$D$4:$W$506,11,0))","v":""},{"$f":"IF(ISNA(VLOOKUP($A65,BATONS!AD$7:AJ$51,6,0)),\"\",VLOOKUP($A65,BATONS!AD$7:AJ$51,6,0))","v":""},{"$f":"IF(ISNA(VLOOKUP($A65,BATONS!AD$7:AJ$51,7,0)),\"\",VLOOKUP($A65,BATONS!AD$7:AJ$51,7,0))","v":""},{"$f":"IF($A65=\"\",\"\",VLOOKUP($A65,INSCRITS!$D$4:$W$506,12,0))","v":""},{"$f":"IF(ISNA(VLOOKUP($A65,PLANCHE!AC$7:AI$52,6,0)),\"\",VLOOKUP($A65,PLANCHE!AC$7:AI$52,6,0))","v":""},{"$f":"IF(ISNA(VLOOKUP($A65,PLANCHE!AC$7:AI$52,7,0)),\"\",VLOOKUP($A65,PLANCHE!AC$7:AI$52,7,0))","v":""},{"$f":"IF($A65=\"\",\"\",VLOOKUP($A65,INSCRITS!$D$4:$W$506,13,0))","v":""},{"$f":"IF(ISNA(VLOOKUP($A65,NAGE!N$7:T$52,6,0)),\"\",VLOOKUP($A65,NAGE!N$7:T$52,6,0))","v":""},{"$f":"IF(ISNA(VLOOKUP($A65,NAGE!N$7:T$52,7,0)),\"\",VLOOKUP($A65,NAGE!N$7:T$52,7,0))","v":""},{"$f":"IF($A65=\"\",\"\",VLOOKUP($A65,INSCRITS!$D$4:$W$506,14,0))","v":""},{"$f":"IF(ISNA(VLOOKUP($A65,SURFSKI!AC$8:AI$53,6,0)),\"\",VLOOKUP($A65,SURFSKI!AC$8:AI$53,6,0))","v":""},{"$f":"IF(ISNA(VLOOKUP($A65,SURFSKI!AC$8:AI$53,7,0)),\"\",VLOOKUP($A65,SURFSKI!AC$8:AI$53,7,0))","v":""},{"$f":"IF($A65=\"\",\"\",VLOOKUP($A65,INSCRITS!$D$4:$W$506,15,0))","v":""},{"$f":"IF(ISNA(VLOOKUP($A65,OCEANMAN!AD$7:AJ$52,6,0)),\"\",VLOOKUP($A65,OCEANMAN!AD$7:AJ$52,6,0))","v":""},{"$f":"IF(ISNA(VLOOKUP($A65,OCEANMAN!AD$7:AJ$52,7,0)),\"\",VLOOKUP($A65,OCEANMAN!AD$7:AJ$52,7,0))","v":""},{"$f":"IF($A65=\"\",\"\",VLOOKUP($A65,INSCRITS!$D$4:$W$506,16,0))","v":""},{"$f":"IF(ISNA(VLOOKUP($A65,CNC!N$7:AC$52,6,0)),\"\",VLOOKUP($A65,CNC!N$7:AC$52,6,0))","v":""},{"$f":"IF(ISNA(VLOOKUP($A65,CNC!N$7:AC$52,7,0)),\"\",VLOOKUP($A65,CNC!N$7:AC$52,7,0))","v":""},0,{"$f":"IF($A65=\"\",\"\",VLOOKUP($A65,INSCRITS!$D$4:$W$506,16,0))","v":""},null,{"$f":"IF(AG65=\"\",\"\",VLOOKUP(AG65,[0]!Relais,2))","v":""},{"$f":"IF($A65=\"\",\"\",VLOOKUP($A65,INSCRITS!$D$4:$W$506,17,0))","v":""},null,{"$f":"IF(AJ65=\"\",\"\",VLOOKUP(AJ65,[0]!Relais,2))","v":""},{"$f":"IF($A65=\"\",\"\",VLOOKUP($A65,INSCRITS!$D$4:$W$506,18,0))","v":""},null,{"$f":"IF(AM65=\"\",\"\",VLOOKUP(AM65,[0]!Relais,2))","v":""},{"$f":"IF($A65=\"\",\"\",VLOOKUP($A65,INSCRITS!$D$4:$W$506,19,0))","v":""},null,{"$f":"IF(AP65=\"\",\"\",VLOOKUP(AP65,[0]!Relais,2))","v":""},0,0]
[null,{"$f":"IF($A66=\"\",\"\",VLOOKUP($A66,INSCRITS!$D$4:$W$501,2,0))","v":""},{"$f":"IF($A66=\"\",\"\",VLOOKUP($A66,INSCRITS!$D$4:$W$501,3,0))","v":""},{"$f":"IF($A66=\"\",\"\",VLOOKUP($A66,INSCRITS!$D$4:$W$501,4,0))","v":""},{"$f":"IF($A66=\"\",\"\",VLOOKUP($A66,INSCRITS!$D$4:$W$501,5,0))","v":""},{"$f":"IF($A66=\"\",\"\",VLOOKUP($A66,INSCRITS!$D$4:$W$501,6,0))","v":""},{"$f":"IF($A66=\"\",\"\",VLOOKUP($A66,INSCRITS!$D$4:$W$501,7,0))","v":""},{"$f":"IF($A66=\"\",\"\",VLOOKUP($A66,INSCRITS!$D$4:$W$501,8,0))","v":""},{"$f":"IF($A66=\"\",\"\",VLOOKUP($A66,INSCRITS!$D$4:$W$501,9,0))","v":""},{"$f":"IF($A66=\"\",\"\",VLOOKUP($A66,INSCRITS!$D$4:$W$506,10,0))","v":""},{"$f":"IF(ISNA(VLOOKUP($A66,SPRINT!AD$7:AJ$50,6,0)),\"\",VLOOKUP($A66,SPRINT!AD$7:AJ$50,6,0))","v":""},{"$f":"IF(ISNA(VLOOKUP($A66,SPRINT!AD$7:AJ$50,7,0)),\"\",VLOOKUP($A66,SPRINT!AD$7:AJ$50,7,0))","v":""},{"$f":"IF($A66=\"\",\"\",VLOOKUP($A66,INSCRITS!$D$4:$W$506,11,0))","v":""},{"$f":"IF(ISNA(VLOOKUP($A66,BATONS!AD$7:AJ$51,6,0)),\"\",VLOOKUP($A66,BATONS!AD$7:AJ$51,6,0))","v":""},{"$f":"IF(ISNA(VLOOKUP($A66,BATONS!AD$7:AJ$51,7,0)),\"\",VLOOKUP($A66,BATONS!AD$7:AJ$51,7,0))","v":""},{"$f":"IF($A66=\"\",\"\",VLOOKUP($A66,INSCRITS!$D$4:$W$506,12,0))","v":""},{"$f":"IF(ISNA(VLOOKUP($A66,PLANCHE!AC$7:AI$52,6,0)),\"\",VLOOKUP($A66,PLANCHE!AC$7:AI$52,6,0))","v":""},{"$f":"IF(ISNA(VLOOKUP($A66,PLANCHE!AC$7:AI$52,7,0)),\"\",VLOOKUP($A66,PLANCHE!AC$7:AI$52,7,0))","v":""},{"$f":"IF($A66=\"\",\"\",VLOOKUP($A66,INSCRITS!$D$4:$W$506,13,0))","v":""},{"$f":"IF(ISNA(VLOOKUP($A66,NAGE!N$7:T$52,6,0)),\"\",VLOOKUP($A66,NAGE!N$7:T$52,6,0))","v":""},{"$f":"IF(ISNA(VLOOKUP($A66,NAGE!N$7:T$52,7,0)),\"\",VLOOKUP($A66,NAGE!N$7:T$52,7,0))","v":""},{"$f":"IF($A66=\"\",\"\",VLOOKUP($A66,INSCRITS!$D$4:$W$506,14,0))","v":""},{"$f":"IF(ISNA(VLOOKUP($A66,SURFSKI!AC$8:AI$53,6,0)),\"\",VLOOKUP($A66,SURFSKI!AC$8:AI$53,6,0))","v":""},{"$f":"IF(ISNA(VLOOKUP($A66,SURFSKI!AC$8:AI$53,7,0)),\"\",VLOOKUP($A66,SURFSKI!AC$8:AI$53,7,0))","v":""},{"$f":"IF($A66=\"\",\"\",VLOOKUP($A66,INSCRITS!$D$4:$W$506,15,0))","v":""},{"$f":"IF(ISNA(VLOOKUP($A66,OCEANMAN!AD$7:AJ$52,6,0)),\"\",VLOOKUP($A66,OCEANMAN!AD$7:AJ$52,6,0))","v":""},{"$f":"IF(ISNA(VLOOKUP($A66,OCEANMAN!AD$7:AJ$52,7,0)),\"\",VLOOKUP($A66,OCEANMAN!AD$7:AJ$52,7,0))","v":""},{"$f":"IF($A66=\"\",\"\",VLOOKUP($A66,INSCRITS!$D$4:$W$506,16,0))","v":""},{"$f":"IF(ISNA(VLOOKUP($A66,CNC!N$7:AC$52,6,0)),\"\",VLOOKUP($A66,CNC!N$7:AC$52,6,0))","v":""},{"$f":"IF(ISNA(VLOOKUP($A66,CNC!N$7:AC$52,7,0)),\"\",VLOOKUP($A66,CNC!N$7:AC$52,7,0))","v":""},0,{"$f":"IF($A66=\"\",\"\",VLOOKUP($A66,INSCRITS!$D$4:$W$506,16,0))","v":""},null,{"$f":"IF(AG66=\"\",\"\",VLOOKUP(AG66,[0]!Relais,2))","v":""},{"$f":"IF($A66=\"\",\"\",VLOOKUP($A66,INSCRITS!$D$4:$W$506,17,0))","v":""},null,{"$f":"IF(AJ66=\"\",\"\",VLOOKUP(AJ66,[0]!Relais,2))","v":""},{"$f":"IF($A66=\"\",\"\",VLOOKUP($A66,INSCRITS!$D$4:$W$506,18,0))","v":""},null,{"$f":"IF(AM66=\"\",\"\",VLOOKUP(AM66,[0]!Relais,2))","v":""},{"$f":"IF($A66=\"\",\"\",VLOOKUP($A66,INSCRITS!$D$4:$W$506,19,0))","v":""},null,{"$f":"IF(AP66=\"\",\"\",VLOOKUP(AP66,[0]!Relais,2))","v":""},0,0]
[null,{"$f":"IF($A67=\"\",\"\",VLOOKUP($A67,INSCRITS!$D$4:$W$501,2,0))","v":""},{"$f":"IF($A67=\"\",\"\",VLOOKUP($A67,INSCRITS!$D$4:$W$501,3,0))","v":""},{"$f":"IF($A67=\"\",\"\",VLOOKUP($A67,INSCRITS!$D$4:$W$501,4,0))","v":""},{"$f":"IF($A67=\"\",\"\",VLOOKUP($A67,INSCRITS!$D$4:$W$501,5,0))","v":""},{"$f":"IF($A67=\"\",\"\",VLOOKUP($A67,INSCRITS!$D$4:$W$501,6,0))","v":""},{"$f":"IF($A67=\"\",\"\",VLOOKUP($A67,INSCRITS!$D$4:$W$501,7,0))","v":""},{"$f":"IF($A67=\"\",\"\",VLOOKUP($A67,INSCRITS!$D$4:$W$501,8,0))","v":""},{"$f":"IF($A67=\"\",\"\",VLOOKUP($A67,INSCRITS!$D$4:$W$501,9,0))","v":""},{"$f":"IF($A67=\"\",\"\",VLOOKUP($A67,INSCRITS!$D$4:$W$506,10,0))","v":""},{"$f":"IF(ISNA(VLOOKUP($A67,SPRINT!AD$7:AJ$50,6,0)),\"\",VLOOKUP($A67,SPRINT!AD$7:AJ$50,6,0))","v":""},{"$f":"IF(ISNA(VLOOKUP($A67,SPRINT!AD$7:AJ$50,7,0)),\"\",VLOOKUP($A67,SPRINT!AD$7:AJ$50,7,0))","v":""},{"$f":"IF($A67=\"\",\"\",VLOOKUP($A67,INSCRITS!$D$4:$W$506,11,0))","v":""},{"$f":"IF(ISNA(VLOOKUP($A67,BATONS!AD$7:AJ$51,6,0)),\"\",VLOOKUP($A67,BATONS!AD$7:AJ$51,6,0))","v":""},{"$f":"IF(ISNA(VLOOKUP($A67,BATONS!AD$7:AJ$51,7,0)),\"\",VLOOKUP($A67,BATONS!AD$7:AJ$51,7,0))","v":""},{"$f":"IF($A67=\"\",\"\",VLOOKUP($A67,INSCRITS!$D$4:$W$506,12,0))","v":""},{"$f":"IF(ISNA(VLOOKUP($A67,PLANCHE!AC$7:AI$52,6,0)),\"\",VLOOKUP($A67,PLANCHE!AC$7:AI$52,6,0))","v":""},{"$f":"IF(ISNA(VLOOKUP($A67,PLANCHE!AC$7:AI$52,7,0)),\"\",VLOOKUP($A67,PLANCHE!AC$7:AI$52,7,0))","v":""},{"$f":"IF($A67=\"\",\"\",VLOOKUP($A67,INSCRITS!$D$4:$W$506,13,0))","v":""},{"$f":"IF(ISNA(VLOOKUP($A67,NAGE!N$7:T$52,6,0)),\"\",VLOOKUP($A67,NAGE!N$7:T$52,6,0))","v":""},{"$f":"IF(ISNA(VLOOKUP($A67,NAGE!N$7:T$52,7,0)),\"\",VLOOKUP($A67,NAGE!N$7:T$52,7,0))","v":""},{"$f":"IF($A67=\"\",\"\",VLOOKUP($A67,INSCRITS!$D$4:$W$506,14,0))","v":""},{"$f":"IF(ISNA(VLOOKUP($A67,SURFSKI!AC$8:AI$53,6,0)),\"\",VLOOKUP($A67,SURFSKI!AC$8:AI$53,6,0))","v":""},{"$f":"IF(ISNA(VLOOKUP($A67,SURFSKI!AC$8:AI$53,7,0)),\"\",VLOOKUP($A67,SURFSKI!AC$8:AI$53,7,0))","v":""},{"$f":"IF($A67=\"\",\"\",VLOOKUP($A67,INSCRITS!$D$4:$W$506,15,0))","v":""},{"$f":"IF(ISNA(VLOOKUP($A67,OCEANMAN!AD$7:AJ$52,6,0)),\"\",VLOOKUP($A67,OCEANMAN!AD$7:AJ$52,6,0))","v":""},{"$f":"IF(ISNA(VLOOKUP($A67,OCEANMAN!AD$7:AJ$52,7,0)),\"\",VLOOKUP($A67,OCEANMAN!AD$7:AJ$52,7,0))","v":""},{"$f":"IF($A67=\"\",\"\",VLOOKUP($A67,INSCRITS!$D$4:$W$506,16,0))","v":""},{"$f":"IF(ISNA(VLOOKUP($A67,CNC!N$7:AC$52,6,0)),\"\",VLOOKUP($A67,CNC!N$7:AC$52,6,0))","v":""},{"$f":"IF(ISNA(VLOOKUP($A67,CNC!N$7:AC$52,7,0)),\"\",VLOOKUP($A67,CNC!N$7:AC$52,7,0))","v":""},0,{"$f":"IF($A67=\"\",\"\",VLOOKUP($A67,INSCRITS!$D$4:$W$506,16,0))","v":""},null,{"$f":"IF(AG67=\"\",\"\",VLOOKUP(AG67,[0]!Relais,2))","v":""},{"$f":"IF($A67=\"\",\"\",VLOOKUP($A67,INSCRITS!$D$4:$W$506,17,0))","v":""},null,{"$f":"IF(AJ67=\"\",\"\",VLOOKUP(AJ67,[0]!Relais,2))","v":""},{"$f":"IF($A67=\"\",\"\",VLOOKUP($A67,INSCRITS!$D$4:$W$506,18,0))","v":""},null,{"$f":"IF(AM67=\"\",\"\",VLOOKUP(AM67,[0]!Relais,2))","v":""},{"$f":"IF($A67=\"\",\"\",VLOOKUP($A67,INSCRITS!$D$4:$W$506,19,0))","v":""},null,{"$f":"IF(AP67=\"\",\"\",VLOOKUP(AP67,[0]!Relais,2))","v":""},0,0]
[null,{"$f":"IF($A68=\"\",\"\",VLOOKUP($A68,INSCRITS!$D$4:$W$501,2,0))","v":""},{"$f":"IF($A68=\"\",\"\",VLOOKUP($A68,INSCRITS!$D$4:$W$501,3,0))","v":""},{"$f":"IF($A68=\"\",\"\",VLOOKUP($A68,INSCRITS!$D$4:$W$501,4,0))","v":""},{"$f":"IF($A68=\"\",\"\",VLOOKUP($A68,INSCRITS!$D$4:$W$501,5,0))","v":""},{"$f":"IF($A68=\"\",\"\",VLOOKUP($A68,INSCRITS!$D$4:$W$501,6,0))","v":""},{"$f":"IF($A68=\"\",\"\",VLOOKUP($A68,INSCRITS!$D$4:$W$501,7,0))","v":""},{"$f":"IF($A68=\"\",\"\",VLOOKUP($A68,INSCRITS!$D$4:$W$501,8,0))","v":""},{"$f":"IF($A68=\"\",\"\",VLOOKUP($A68,INSCRITS!$D$4:$W$501,9,0))","v":""},{"$f":"IF($A68=\"\",\"\",VLOOKUP($A68,INSCRITS!$D$4:$W$506,10,0))","v":""},{"$f":"IF(ISNA(VLOOKUP($A68,SPRINT!AD$7:AJ$50,6,0)),\"\",VLOOKUP($A68,SPRINT!AD$7:AJ$50,6,0))","v":""},{"$f":"IF(ISNA(VLOOKUP($A68,SPRINT!AD$7:AJ$50,7,0)),\"\",VLOOKUP($A68,SPRINT!AD$7:AJ$50,7,0))","v":""},{"$f":"IF($A68=\"\",\"\",VLOOKUP($A68,INSCRITS!$D$4:$W$506,11,0))","v":""},{"$f":"IF(ISNA(VLOOKUP($A68,BATONS!AD$7:AJ$51,6,0)),\"\",VLOOKUP($A68,BATONS!AD$7:AJ$51,6,0))","v":""},{"$f":"IF(ISNA(VLOOKUP($A68,BATONS!AD$7:AJ$51,7,0)),\"\",VLOOKUP($A68,BATONS!AD$7:AJ$51,7,0))","v":""},{"$f":"IF($A68=\"\",\"\",VLOOKUP($A68,INSCRITS!$D$4:$W$506,12,0))","v":""},{"$f":"IF(ISNA(VLOOKUP($A68,PLANCHE!AC$7:AI$52,6,0)),\"\",VLOOKUP($A68,PLANCHE!AC$7:AI$52,6,0))","v":""},{"$f":"IF(ISNA(VLOOKUP($A68,PLANCHE!AC$7:AI$52,7,0)),\"\",VLOOKUP($A68,PLANCHE!AC$7:AI$52,7,0))","v":""},{"$f":"IF($A68=\"\",\"\",VLOOKUP($A68,INSCRITS!$D$4:$W$506,13,0))","v":""},{"$f":"IF(ISNA(VLOOKUP($A68,NAGE!N$7:T$52,6,0)),\"\",VLOOKUP($A68,NAGE!N$7:T$52,6,0))","v":""},{"$f":"IF(ISNA(VLOOKUP($A68,NAGE!N$7:T$52,7,0)),\"\",VLOOKUP($A68,NAGE!N$7:T$52,7,0))","v":""},{"$f":"IF($A68=\"\",\"\",VLOOKUP($A68,INSCRITS!$D$4:$W$506,14,0))","v":""},{"$f":"IF(ISNA(VLOOKUP($A68,SURFSKI!AC$8:AI$53,6,0)),\"\",VLOOKUP($A68,SURFSKI!AC$8:AI$53,6,0))","v":""},{"$f":"IF(ISNA(VLOOKUP($A68,SURFSKI!AC$8:AI$53,7,0)),\"\",VLOOKUP($A68,SURFSKI!AC$8:AI$53,7,0))","v":""},{"$f":"IF($A68=\"\",\"\",VLOOKUP($A68,INSCRITS!$D$4:$W$506,15,0))","v":""},{"$f":"IF(ISNA(VLOOKUP($A68,OCEANMAN!AD$7:AJ$52,6,0)),\"\",VLOOKUP($A68,OCEANMAN!AD$7:AJ$52,6,0))","v":""},{"$f":"IF(ISNA(VLOOKUP($A68,OCEANMAN!AD$7:AJ$52,7,0)),\"\",VLOOKUP($A68,OCEANMAN!AD$7:AJ$52,7,0))","v":""},{"$f":"IF($A68=\"\",\"\",VLOOKUP($A68,INSCRITS!$D$4:$W$506,16,0))","v":""},{"$f":"IF(ISNA(VLOOKUP($A68,CNC!N$7:AC$52,6,0)),\"\",VLOOKUP($A68,CNC!N$7:AC$52,6,0))","v":""},{"$f":"IF(ISNA(VLOOKUP($A68,CNC!N$7:AC$52,7,0)),\"\",VLOOKUP($A68,CNC!N$7:AC$52,7,0))","v":""},0,{"$f":"IF($A68=\"\",\"\",VLOOKUP($A68,INSCRITS!$D$4:$W$506,16,0))","v":""},null,{"$f":"IF(AG68=\"\",\"\",VLOOKUP(AG68,[0]!Relais,2))","v":""},{"$f":"IF($A68=\"\",\"\",VLOOKUP($A68,INSCRITS!$D$4:$W$506,17,0))","v":""},null,{"$f":"IF(AJ68=\"\",\"\",VLOOKUP(AJ68,[0]!Relais,2))","v":""},{"$f":"IF($A68=\"\",\"\",VLOOKUP($A68,INSCRITS!$D$4:$W$506,18,0))","v":""},null,{"$f":"IF(AM68=\"\",\"\",VLOOKUP(AM68,[0]!Relais,2))","v":""},{"$f":"IF($A68=\"\",\"\",VLOOKUP($A68,INSCRITS!$D$4:$W$506,19,0))","v":""},null,{"$f":"IF(AP68=\"\",\"\",VLOOKUP(AP68,[0]!Relais,2))","v":""},0,0]
[null,{"$f":"IF($A69=\"\",\"\",VLOOKUP($A69,INSCRITS!$D$4:$W$501,2,0))","v":""},{"$f":"IF($A69=\"\",\"\",VLOOKUP($A69,INSCRITS!$D$4:$W$501,3,0))","v":""},{"$f":"IF($A69=\"\",\"\",VLOOKUP($A69,INSCRITS!$D$4:$W$501,4,0))","v":""},{"$f":"IF($A69=\"\",\"\",VLOOKUP($A69,INSCRITS!$D$4:$W$501,5,0))","v":""},{"$f":"IF($A69=\"\",\"\",VLOOKUP($A69,INSCRITS!$D$4:$W$501,6,0))","v":""},{"$f":"IF($A69=\"\",\"\",VLOOKUP($A69,INSCRITS!$D$4:$W$501,7,0))","v":""},{"$f":"IF($A69=\"\",\"\",VLOOKUP($A69,INSCRITS!$D$4:$W$501,8,0))","v":""},{"$f":"IF($A69=\"\",\"\",VLOOKUP($A69,INSCRITS!$D$4:$W$501,9,0))","v":""},{"$f":"IF($A69=\"\",\"\",VLOOKUP($A69,INSCRITS!$D$4:$W$506,10,0))","v":""},{"$f":"IF(ISNA(VLOOKUP($A69,SPRINT!AD$7:AJ$50,6,0)),\"\",VLOOKUP($A69,SPRINT!AD$7:AJ$50,6,0))","v":""},{"$f":"IF(ISNA(VLOOKUP($A69,SPRINT!AD$7:AJ$50,7,0)),\"\",VLOOKUP($A69,SPRINT!AD$7:AJ$50,7,0))","v":""},{"$f":"IF($A69=\"\",\"\",VLOOKUP($A69,INSCRITS!$D$4:$W$506,11,0))","v":""},{"$f":"IF(ISNA(VLOOKUP($A69,BATONS!AD$7:AJ$51,6,0)),\"\",VLOOKUP($A69,BATONS!AD$7:AJ$51,6,0))","v":""},{"$f":"IF(ISNA(VLOOKUP($A69,BATONS!AD$7:AJ$51,7,0)),\"\",VLOOKUP($A69,BATONS!AD$7:AJ$51,7,0))","v":""},{"$f":"IF($A69=\"\",\"\",VLOOKUP($A69,INSCRITS!$D$4:$W$506,12,0))","v":""},{"$f":"IF(ISNA(VLOOKUP($A69,PLANCHE!AC$7:AI$52,6,0)),\"\",VLOOKUP($A69,PLANCHE!AC$7:AI$52,6,0))","v":""},{"$f":"IF(ISNA(VLOOKUP($A69,PLANCHE!AC$7:AI$52,7,0)),\"\",VLOOKUP($A69,PLANCHE!AC$7:AI$52,7,0))","v":""},{"$f":"IF($A69=\"\",\"\",VLOOKUP($A69,INSCRITS!$D$4:$W$506,13,0))","v":""},{"$f":"IF(ISNA(VLOOKUP($A69,NAGE!N$7:T$52,6,0)),\"\",VLOOKUP($A69,NAGE!N$7:T$52,6,0))","v":""},{"$f":"IF(ISNA(VLOOKUP($A69,NAGE!N$7:T$52,7,0)),\"\",VLOOKUP($A69,NAGE!N$7:T$52,7,0))","v":""},{"$f":"IF($A69=\"\",\"\",VLOOKUP($A69,INSCRITS!$D$4:$W$506,14,0))","v":""},{"$f":"IF(ISNA(VLOOKUP($A69,SURFSKI!AC$8:AI$53,6,0)),\"\",VLOOKUP($A69,SURFSKI!AC$8:AI$53,6,0))","v":""},{"$f":"IF(ISNA(VLOOKUP($A69,SURFSKI!AC$8:AI$53,7,0)),\"\",VLOOKUP($A69,SURFSKI!AC$8:AI$53,7,0))","v":""},{"$f":"IF($A69=\"\",\"\",VLOOKUP($A69,INSCRITS!$D$4:$W$506,15,0))","v":""},{"$f":"IF(ISNA(VLOOKUP($A69,OCEANMAN!AD$7:AJ$52,6,0)),\"\",VLOOKUP($A69,OCEANMAN!AD$7:AJ$52,6,0))","v":""},{"$f":"IF(ISNA(VLOOKUP($A69,OCEANMAN!AD$7:AJ$52,7,0)),\"\",VLOOKUP($A69,OCEANMAN!AD$7:AJ$52,7,0))","v":""},{"$f":"IF($A69=\"\",\"\",VLOOKUP($A69,INSCRITS!$D$4:$W$506,16,0))","v":""},{"$f":"IF(ISNA(VLOOKUP($A69,CNC!N$7:AC$52,6,0)),\"\",VLOOKUP($A69,CNC!N$7:AC$52,6,0))","v":""},{"$f":"IF(ISNA(VLOOKUP($A69,CNC!N$7:AC$52,7,0)),\"\",VLOOKUP($A69,CNC!N$7:AC$52,7,0))","v":""},{"$f":"SUM(L69,O69,R69,U69,X69,AA69,AD69)","v":0},{"$f":"IF($A69=\"\",\"\",VLOOKUP($A69,INSCRITS!$D$4:$W$506,16,0))","v":""},null,{"$f":"IF(AG69=\"\",\"\",VLOOKUP(AG69,[0]!Relais,2))","v":""},{"$f":"IF($A69=\"\",\"\",VLOOKUP($A69,INSCRITS!$D$4:$W$506,17,0))","v":""},null,{"$f":"IF(AJ69=\"\",\"\",VLOOKUP(AJ69,[0]!Relais,2))","v":""},{"$f":"IF($A69=\"\",\"\",VLOOKUP($A69,INSCRITS!$D$4:$W$506,18,0))","v":""},null,{"$f":"IF(AM69=\"\",\"\",VLOOKUP(AM69,[0]!Relais,2))","v":""},{"$f":"IF($A69=\"\",\"\",VLOOKUP($A69,INSCRITS!$D$4:$W$506,19,0))","v":""},null,{"$f":"IF(AP69=\"\",\"\",VLOOKUP(AP69,[0]!Relais,2))","v":""},{"$f":"SUM(AH69,AK69,AN69,AQ69)","v":0},{"$f":"AE69+AR69","v":0}]
[null,{"$f":"IF($A70=\"\",\"\",VLOOKUP($A70,INSCRITS!$D$4:$W$501,2,0))","v":""},{"$f":"IF($A70=\"\",\"\",VLOOKUP($A70,INSCRITS!$D$4:$W$501,3,0))","v":""},{"$f":"IF($A70=\"\",\"\",VLOOKUP($A70,INSCRITS!$D$4:$W$501,4,0))","v":""},{"$f":"IF($A70=\"\",\"\",VLOOKUP($A70,INSCRITS!$D$4:$W$501,5,0))","v":""},{"$f":"IF($A70=\"\",\"\",VLOOKUP($A70,INSCRITS!$D$4:$W$501,6,0))","v":""},{"$f":"IF($A70=\"\",\"\",VLOOKUP($A70,INSCRITS!$D$4:$W$501,7,0))","v":""},{"$f":"IF($A70=\"\",\"\",VLOOKUP($A70,INSCRITS!$D$4:$W$501,8,0))","v":""},{"$f":"IF($A70=\"\",\"\",VLOOKUP($A70,INSCRITS!$D$4:$W$501,9,0))","v":""},{"$f":"IF($A70=\"\",\"\",VLOOKUP($A70,INSCRITS!$D$4:$W$506,10,0))","v":""},{"$f":"IF(ISNA(VLOOKUP($A70,SPRINT!AD$7:AJ$50,6,0)),\"\",VLOOKUP($A70,SPRINT!AD$7:AJ$50,6,0))","v":""},{"$f":"IF(ISNA(VLOOKUP($A70,SPRINT!AD$7:AJ$50,7,0)),\"\",VLOOKUP($A70,SPRINT!AD$7:AJ$50,7,0))","v":""},{"$f":"IF($A70=\"\",\"\",VLOOKUP($A70,INSCRITS!$D$4:$W$506,11,0))","v":""},{"$f":"IF(ISNA(VLOOKUP($A70,BATONS!AD$7:AJ$51,6,0)),\"\",VLOOKUP($A70,BATONS!AD$7:AJ$51,6,0))","v":""},{"$f":"IF(ISNA(VLOOKUP($A70,BATONS!AD$7:AJ$51,7,0)),\"\",VLOOKUP($A70,BATONS!AD$7:AJ$51,7,0))","v":""},{"$f":"IF($A70=\"\",\"\",VLOOKUP($A70,INSCRITS!$D$4:$W$506,12,0))","v":""},{"$f":"IF(ISNA(VLOOKUP($A70,PLANCHE!AC$7:AI$52,6,0)),\"\",VLOOKUP($A70,PLANCHE!AC$7:AI$52,6,0))","v":""},{"$f":"IF(ISNA(VLOOKUP($A70,PLANCHE!AC$7:AI$52,7,0)),\"\",VLOOKUP($A70,PLANCHE!AC$7:AI$52,7,0))","v":""},{"$f":"IF($A70=\"\",\"\",VLOOKUP($A70,INSCRITS!$D$4:$W$506,13,0))","v":""},{"$f":"IF(ISNA(VLOOKUP($A70,NAGE!N$7:T$52,6,0)),\"\",VLOOKUP($A70,NAGE!N$7:T$52,6,0))","v":""},{"$f":"IF(ISNA(VLOOKUP($A70,NAGE!N$7:T$52,7,0)),\"\",VLOOKUP($A70,NAGE!N$7:T$52,7,0))","v":""},{"$f":"IF($A70=\"\",\"\",VLOOKUP($A70,INSCRITS!$D$4:$W$506,14,0))","v":""},{"$f":"IF(ISNA(VLOOKUP($A70,SURFSKI!AC$8:AI$53,6,0)),\"\",VLOOKUP($A70,SURFSKI!AC$8:AI$53,6,0))","v":""},{"$f":"IF(ISNA(VLOOKUP($A70,SURFSKI!AC$8:AI$53,7,0)),\"\",VLOOKUP($A70,SURFSKI!AC$8:AI$53,7,0))","v":""},{"$f":"IF($A70=\"\",\"\",VLOOKUP($A70,INSCRITS!$D$4:$W$506,15,0))","v":""},{"$f":"IF(ISNA(VLOOKUP($A70,OCEANMAN!AD$7:AJ$52,6,0)),\"\",VLOOKUP($A70,OCEANMAN!AD$7:AJ$52,6,0))","v":""},{"$f":"IF(ISNA(VLOOKUP($A70,OCEANMAN!AD$7:AJ$52,7,0)),\"\",VLOOKUP($A70,OCEANMAN!AD$7:AJ$52,7,0))","v":""},{"$f":"IF($A70=\"\",\"\",VLOOKUP($A70,INSCRITS!$D$4:$W$506,16,0))","v":""},{"$f":"IF(ISNA(VLOOKUP($A70,CNC!N$7:AC$52,6,0)),\"\",VLOOKUP($A70,CNC!N$7:AC$52,6,0))","v":""},{"$f":"IF(ISNA(VLOOKUP($A70,CNC!N$7:AC$52,7,0)),\"\",VLOOKUP($A70,CNC!N$7:AC$52,7,0))","v":""},0,{"$f":"IF($A70=\"\",\"\",VLOOKUP($A70,INSCRITS!$D$4:$W$506,16,0))","v":""},null,{"$f":"IF(AG70=\"\",\"\",VLOOKUP(AG70,[0]!Relais,2))","v":""},{"$f":"IF($A70=\"\",\"\",VLOOKUP($A70,INSCRITS!$D$4:$W$506,17,0))","v":""},null,{"$f":"IF(AJ70=\"\",\"\",VLOOKUP(AJ70,[0]!Relais,2))","v":""},{"$f":"IF($A70=\"\",\"\",VLOOKUP($A70,INSCRITS!$D$4:$W$506,18,0))","v":""},null,{"$f":"IF(AM70=\"\",\"\",VLOOKUP(AM70,[0]!Relais,2))","v":""},{"$f":"IF($A70=\"\",\"\",VLOOKUP($A70,INSCRITS!$D$4:$W$506,19,0))","v":""},null,{"$f":"IF(AP70=\"\",\"\",VLOOKUP(AP70,[0]!Relais,2))","v":""},0,0]
[null,{"$f":"IF($A71=\"\",\"\",VLOOKUP($A71,INSCRITS!$D$4:$W$501,2,0))","v":""},{"$f":"IF($A71=\"\",\"\",VLOOKUP($A71,INSCRITS!$D$4:$W$501,3,0))","v":""},{"$f":"IF($A71=\"\",\"\",VLOOKUP($A71,INSCRITS!$D$4:$W$501,4,0))","v":""},{"$f":"IF($A71=\"\",\"\",VLOOKUP($A71,INSCRITS!$D$4:$W$501,5,0))","v":""},{"$f":"IF($A71=\"\",\"\",VLOOKUP($A71,INSCRITS!$D$4:$W$501,6,0))","v":""},{"$f":"IF($A71=\"\",\"\",VLOOKUP($A71,INSCRITS!$D$4:$W$501,7,0))","v":""},{"$f":"IF($A71=\"\",\"\",VLOOKUP($A71,INSCRITS!$D$4:$W$501,8,0))","v":""},{"$f":"IF($A71=\"\",\"\",VLOOKUP($A71,INSCRITS!$D$4:$W$501,9,0))","v":""},{"$f":"IF($A71=\"\",\"\",VLOOKUP($A71,INSCRITS!$D$4:$W$506,10,0))","v":""},{"$f":"IF(ISNA(VLOOKUP($A71,SPRINT!AD$7:AJ$50,6,0)),\"\",VLOOKUP($A71,SPRINT!AD$7:AJ$50,6,0))","v":""},{"$f":"IF(ISNA(VLOOKUP($A71,SPRINT!AD$7:AJ$50,7,0)),\"\",VLOOKUP($A71,SPRINT!AD$7:AJ$50,7,0))","v":""},{"$f":"IF($A71=\"\",\"\",VLOOKUP($A71,INSCRITS!$D$4:$W$506,11,0))","v":""},{"$f":"IF(ISNA(VLOOKUP($A71,BATONS!AD$7:AJ$51,6,0)),\"\",VLOOKUP($A71,BATONS!AD$7:AJ$51,6,0))","v":""},{"$f":"IF(ISNA(VLOOKUP($A71,BATONS!AD$7:AJ$51,7,0)),\"\",VLOOKUP($A71,BATONS!AD$7:AJ$51,7,0))","v":""},{"$f":"IF($A71=\"\",\"\",VLOOKUP($A71,INSCRITS!$D$4:$W$506,12,0))","v":""},{"$f":"IF(ISNA(VLOOKUP($A71,PLANCHE!AC$7:AI$52,6,0)),\"\",VLOOKUP($A71,PLANCHE!AC$7:AI$52,6,0))","v":""},{"$f":"IF(ISNA(VLOOKUP($A71,PLANCHE!AC$7:AI$52,7,0)),\"\",VLOOKUP($A71,PLANCHE!AC$7:AI$52,7,0))","v":""},{"$f":"IF($A71=\"\",\"\",VLOOKUP($A71,INSCRITS!$D$4:$W$506,13,0))","v":""},{"$f":"IF(ISNA(VLOOKUP($A71,NAGE!N$7:T$52,6,0)),\"\",VLOOKUP($A71,NAGE!N$7:T$52,6,0))","v":""},{"$f":"IF(ISNA(VLOOKUP($A71,NAGE!N$7:T$52,7,0)),\"\",VLOOKUP($A71,NAGE!N$7:T$52,7,0))","v":""},{"$f":"IF($A71=\"\",\"\",VLOOKUP($A71,INSCRITS!$D$4:$W$506,14,0))","v":""},{"$f":"IF(ISNA(VLOOKUP($A71,SURFSKI!AC$8:AI$53,6,0)),\"\",VLOOKUP($A71,SURFSKI!AC$8:AI$53,6,0))","v":""},{"$f":"IF(ISNA(VLOOKUP($A71,SURFSKI!AC$8:AI$53,7,0)),\"\",VLOOKUP($A71,SURFSKI!AC$8:AI$53,7,0))","v":""},{"$f":"IF($A71=\"\",\"\",VLOOKUP($A71,INSCRITS!$D$4:$W$506,15,0))","v":""},{"$f":"IF(ISNA(VLOOKUP($A71,OCEANMAN!AD$7:AJ$52,6,0)),\"\",VLOOKUP($A71,OCEANMAN!AD$7:AJ$52,6,0))","v":""},{"$f":"IF(ISNA(VLOOKUP($A71,OCEANMAN!AD$7:AJ$52,7,0)),\"\",VLOOKUP($A71,OCEANMAN!AD$7:AJ$52,7,0))","v":""},{"$f":"IF($A71=\"\",\"\",VLOOKUP($A71,INSCRITS!$D$4:$W$506,16,0))","v":""},{"$f":"IF(ISNA(VLOOKUP($A71,CNC!N$7:AC$52,6,0)),\"\",VLOOKUP($A71,CNC!N$7:AC$52,6,0))","v":""},{"$f":"IF(ISNA(VLOOKUP($A71,CNC!N$7:AC$52,7,0)),\"\",VLOOKUP($A71,CNC!N$7:AC$52,7,0))","v":""},0,{"$f":"IF($A71=\"\",\"\",VLOOKUP($A71,INSCRITS!$D$4:$W$506,16,0))","v":""},null,{"$f":"IF(AG71=\"\",\"\",VLOOKUP(AG71,[0]!Relais,2))","v":""},{"$f":"IF($A71=\"\",\"\",VLOOKUP($A71,INSCRITS!$D$4:$W$506,17,0))","v":""},null,{"$f":"IF(AJ71=\"\",\"\",VLOOKUP(AJ71,[0]!Relais,2))","v":""},{"$f":"IF($A71=\"\",\"\",VLOOKUP($A71,INSCRITS!$D$4:$W$506,18,0))","v":""},null,{"$f":"IF(AM71=\"\",\"\",VLOOKUP(AM71,[0]!Relais,2))","v":""},{"$f":"IF($A71=\"\",\"\",VLOOKUP($A71,INSCRITS!$D$4:$W$506,19,0))","v":""},null,{"$f":"IF(AP71=\"\",\"\",VLOOKUP(AP71,[0]!Relais,2))","v":""},0,0]
[null,{"$f":"IF($A72=\"\",\"\",VLOOKUP($A72,INSCRITS!$D$4:$W$501,2,0))","v":""},{"$f":"IF($A72=\"\",\"\",VLOOKUP($A72,INSCRITS!$D$4:$W$501,3,0))","v":""},{"$f":"IF($A72=\"\",\"\",VLOOKUP($A72,INSCRITS!$D$4:$W$501,4,0))","v":""},{"$f":"IF($A72=\"\",\"\",VLOOKUP($A72,INSCRITS!$D$4:$W$501,5,0))","v":""},{"$f":"IF($A72=\"\",\"\",VLOOKUP($A72,INSCRITS!$D$4:$W$501,6,0))","v":""},{"$f":"IF($A72=\"\",\"\",VLOOKUP($A72,INSCRITS!$D$4:$W$501,7,0))","v":""},{"$f":"IF($A72=\"\",\"\",VLOOKUP($A72,INSCRITS!$D$4:$W$501,8,0))","v":""},{"$f":"IF($A72=\"\",\"\",VLOOKUP($A72,INSCRITS!$D$4:$W$501,9,0))","v":""},{"$f":"IF($A72=\"\",\"\",VLOOKUP($A72,INSCRITS!$D$4:$W$506,10,0))","v":""},{"$f":"IF(ISNA(VLOOKUP($A72,SPRINT!AD$7:AJ$50,6,0)),\"\",VLOOKUP($A72,SPRINT!AD$7:AJ$50,6,0))","v":""},{"$f":"IF(ISNA(VLOOKUP($A72,SPRINT!AD$7:AJ$50,7,0)),\"\",VLOOKUP($A72,SPRINT!AD$7:AJ$50,7,0))","v":""},{"$f":"IF($A72=\"\",\"\",VLOOKUP($A72,INSCRITS!$D$4:$W$506,11,0))","v":""},{"$f":"IF(ISNA(VLOOKUP($A72,BATONS!AD$7:AJ$51,6,0)),\"\",VLOOKUP($A72,BATONS!AD$7:AJ$51,6,0))","v":""},{"$f":"IF(ISNA(VLOOKUP($A72,BATONS!AD$7:AJ$51,7,0)),\"\",VLOOKUP($A72,BATONS!AD$7:AJ$51,7,0))","v":""},{"$f":"IF($A72=\"\",\"\",VLOOKUP($A72,INSCRITS!$D$4:$W$506,12,0))","v":""},{"$f":"IF(ISNA(VLOOKUP($A72,PLANCHE!AC$7:AI$52,6,0)),\"\",VLOOKUP($A72,PLANCHE!AC$7:AI$52,6,0))","v":""},{"$f":"IF(ISNA(VLOOKUP($A72,PLANCHE!AC$7:AI$52,7,0)),\"\",VLOOKUP($A72,PLANCHE!AC$7:AI$52,7,0))","v":""},{"$f":"IF($A72=\"\",\"\",VLOOKUP($A72,INSCRITS!$D$4:$W$506,13,0))","v":""},{"$f":"IF(ISNA(VLOOKUP($A72,NAGE!N$7:T$52,6,0)),\"\",VLOOKUP($A72,NAGE!N$7:T$52,6,0))","v":""},{"$f":"IF(ISNA(VLOOKUP($A72,NAGE!N$7:T$52,7,0)),\"\",VLOOKUP($A72,NAGE!N$7:T$52,7,0))","v":""},{"$f":"IF($A72=\"\",\"\",VLOOKUP($A72,INSCRITS!$D$4:$W$506,14,0))","v":""},{"$f":"IF(ISNA(VLOOKUP($A72,SURFSKI!AC$8:AI$53,6,0)),\"\",VLOOKUP($A72,SURFSKI!AC$8:AI$53,6,0))","v":""},{"$f":"IF(ISNA(VLOOKUP($A72,SURFSKI!AC$8:AI$53,7,0)),\"\",VLOOKUP($A72,SURFSKI!AC$8:AI$53,7,0))","v":""},{"$f":"IF($A72=\"\",\"\",VLOOKUP($A72,INSCRITS!$D$4:$W$506,15,0))","v":""},{"$f":"IF(ISNA(VLOOKUP($A72,OCEANMAN!AD$7:AJ$52,6,0)),\"\",VLOOKUP($A72,OCEANMAN!AD$7:AJ$52,6,0))","v":""},{"$f":"IF(ISNA(VLOOKUP($A72,OCEANMAN!AD$7:AJ$52,7,0)),\"\",VLOOKUP($A72,OCEANMAN!AD$7:AJ$52,7,0))","v":""},{"$f":"IF($A72=\"\",\"\",VLOOKUP($A72,INSCRITS!$D$4:$W$506,16,0))","v":""},{"$f":"IF(ISNA(VLOOKUP($A72,CNC!N$7:AC$52,6,0)),\"\",VLOOKUP($A72,CNC!N$7:AC$52,6,0))","v":""},{"$f":"IF(ISNA(VLOOKUP($A72,CNC!N$7:AC$52,7,0)),\"\",VLOOKUP($A72,CNC!N$7:AC$52,7,0))","v":""},0,{"$f":"IF($A72=\"\",\"\",VLOOKUP($A72,INSCRITS!$D$4:$W$506,16,0))","v":""},null,{"$f":"IF(AG72=\"\",\"\",VLOOKUP(AG72,[0]!Relais,2))","v":""},{"$f":"IF($A72=\"\",\"\",VLOOKUP($A72,INSCRITS!$D$4:$W$506,17,0))","v":""},null,{"$f":"IF(AJ72=\"\",\"\",VLOOKUP(AJ72,[0]!Relais,2))","v":""},{"$f":"IF($A72=\"\",\"\",VLOOKUP($A72,INSCRITS!$D$4:$W$506,18,0))","v":""},null,{"$f":"IF(AM72=\"\",\"\",VLOOKUP(AM72,[0]!Relais,2))","v":""},{"$f":"IF($A72=\"\",\"\",VLOOKUP($A72,INSCRITS!$D$4:$W$506,19,0))","v":""},null,{"$f":"IF(AP72=\"\",\"\",VLOOKUP(AP72,[0]!Relais,2))","v":""},0,0]
[null,{"$f":"IF($A73=\"\",\"\",VLOOKUP($A73,INSCRITS!$D$4:$W$501,2,0))","v":""},{"$f":"IF($A73=\"\",\"\",VLOOKUP($A73,INSCRITS!$D$4:$W$501,3,0))","v":""},{"$f":"IF($A73=\"\",\"\",VLOOKUP($A73,INSCRITS!$D$4:$W$501,4,0))","v":""},{"$f":"IF($A73=\"\",\"\",VLOOKUP($A73,INSCRITS!$D$4:$W$501,5,0))","v":""},{"$f":"IF($A73=\"\",\"\",VLOOKUP($A73,INSCRITS!$D$4:$W$501,6,0))","v":""},{"$f":"IF($A73=\"\",\"\",VLOOKUP($A73,INSCRITS!$D$4:$W$501,7,0))","v":""},{"$f":"IF($A73=\"\",\"\",VLOOKUP($A73,INSCRITS!$D$4:$W$501,8,0))","v":""},{"$f":"IF($A73=\"\",\"\",VLOOKUP($A73,INSCRITS!$D$4:$W$501,9,0))","v":""},{"$f":"IF($A73=\"\",\"\",VLOOKUP($A73,INSCRITS!$D$4:$W$506,10,0))","v":""},{"$f":"IF(ISNA(VLOOKUP($A73,SPRINT!AD$7:AJ$50,6,0)),\"\",VLOOKUP($A73,SPRINT!AD$7:AJ$50,6,0))","v":""},{"$f":"IF(ISNA(VLOOKUP($A73,SPRINT!AD$7:AJ$50,7,0)),\"\",VLOOKUP($A73,SPRINT!AD$7:AJ$50,7,0))","v":""},{"$f":"IF($A73=\"\",\"\",VLOOKUP($A73,INSCRITS!$D$4:$W$506,11,0))","v":""},{"$f":"IF(ISNA(VLOOKUP($A73,BATONS!AD$7:AJ$51,6,0)),\"\",VLOOKUP($A73,BATONS!AD$7:AJ$51,6,0))","v":""},{"$f":"IF(ISNA(VLOOKUP($A73,BATONS!AD$7:AJ$51,7,0)),\"\",VLOOKUP($A73,BATONS!AD$7:AJ$51,7,0))","v":""},{"$f":"IF($A73=\"\",\"\",VLOOKUP($A73,INSCRITS!$D$4:$W$506,12,0))","v":""},{"$f":"IF(ISNA(VLOOKUP($A73,PLANCHE!AC$7:AI$52,6,0)),\"\",VLOOKUP($A73,PLANCHE!AC$7:AI$52,6,0))","v":""},{"$f":"IF(ISNA(VLOOKUP($A73,PLANCHE!AC$7:AI$52,7,0)),\"\",VLOOKUP($A73,PLANCHE!AC$7:AI$52,7,0))","v":""},{"$f":"IF($A73=\"\",\"\",VLOOKUP($A73,INSCRITS!$D$4:$W$506,13,0))","v":""},{"$f":"IF(ISNA(VLOOKUP($A73,NAGE!N$7:T$52,6,0)),\"\",VLOOKUP($A73,NAGE!N$7:T$52,6,0))","v":""},{"$f":"IF(ISNA(VLOOKUP($A73,NAGE!N$7:T$52,7,0)),\"\",VLOOKUP($A73,NAGE!N$7:T$52,7,0))","v":""},{"$f":"IF($A73=\"\",\"\",VLOOKUP($A73,INSCRITS!$D$4:$W$506,14,0))","v":""},{"$f":"IF(ISNA(VLOOKUP($A73,SURFSKI!AC$8:AI$53,6,0)),\"\",VLOOKUP($A73,SURFSKI!AC$8:AI$53,6,0))","v":""},{"$f":"IF(ISNA(VLOOKUP($A73,SURFSKI!AC$8:AI$53,7,0)),\"\",VLOOKUP($A73,SURFSKI!AC$8:AI$53,7,0))","v":""},{"$f":"IF($A73=\"\",\"\",VLOOKUP($A73,INSCRITS!$D$4:$W$506,15,0))","v":""},{"$f":"IF(ISNA(VLOOKUP($A73,OCEANMAN!AD$7:AJ$52,6,0)),\"\",VLOOKUP($A73,OCEANMAN!AD$7:AJ$52,6,0))","v":""},{"$f":"IF(ISNA(VLOOKUP($A73,OCEANMAN!AD$7:AJ$52,7,0)),\"\",VLOOKUP($A73,OCEANMAN!AD$7:AJ$52,7,0))","v":""},{"$f":"IF($A73=\"\",\"\",VLOOKUP($A73,INSCRITS!$D$4:$W$506,16,0))","v":""},{"$f":"IF(ISNA(VLOOKUP($A73,CNC!N$7:AC$52,6,0)),\"\",VLOOKUP($A73,CNC!N$7:AC$52,6,0))","v":""},{"$f":"IF(ISNA(VLOOKUP($A73,CNC!N$7:AC$52,7,0)),\"\",VLOOKUP($A73,CNC!N$7:AC$52,7,0))","v":""},0,{"$f":"IF($A73=\"\",\"\",VLOOKUP($A73,INSCRITS!$D$4:$W$506,16,0))","v":""},null,{"$f":"IF(AG73=\"\",\"\",VLOOKUP(AG73,[0]!Relais,2))","v":""},{"$f":"IF($A73=\"\",\"\",VLOOKUP($A73,INSCRITS!$D$4:$W$506,17,0))","v":""},null,{"$f":"IF(AJ73=\"\",\"\",VLOOKUP(AJ73,[0]!Relais,2))","v":""},{"$f":"IF($A73=\"\",\"\",VLOOKUP($A73,INSCRITS!$D$4:$W$506,18,0))","v":""},null,{"$f":"IF(AM73=\"\",\"\",VLOOKUP(AM73,[0]!Relais,2))","v":""},{"$f":"IF($A73=\"\",\"\",VLOOKUP($A73,INSCRITS!$D$4:$W$506,19,0))","v":""},null,{"$f":"IF(AP73=\"\",\"\",VLOOKUP(AP73,[0]!Relais,2))","v":""},0,0]
[null,{"$f":"IF($A74=\"\",\"\",VLOOKUP($A74,INSCRITS!$D$4:$W$501,2,0))","v":""},{"$f":"IF($A74=\"\",\"\",VLOOKUP($A74,INSCRITS!$D$4:$W$501,3,0))","v":""},{"$f":"IF($A74=\"\",\"\",VLOOKUP($A74,INSCRITS!$D$4:$W$501,4,0))","v":""},{"$f":"IF($A74=\"\",\"\",VLOOKUP($A74,INSCRITS!$D$4:$W$501,5,0))","v":""},{"$f":"IF($A74=\"\",\"\",VLOOKUP($A74,INSCRITS!$D$4:$W$501,6,0))","v":""},{"$f":"IF($A74=\"\",\"\",VLOOKUP($A74,INSCRITS!$D$4:$W$501,7,0))","v":""},{"$f":"IF($A74=\"\",\"\",VLOOKUP($A74,INSCRITS!$D$4:$W$501,8,0))","v":""},{"$f":"IF($A74=\"\",\"\",VLOOKUP($A74,INSCRITS!$D$4:$W$501,9,0))","v":""},{"$f":"IF($A74=\"\",\"\",VLOOKUP($A74,INSCRITS!$D$4:$W$506,10,0))","v":""},{"$f":"IF(ISNA(VLOOKUP($A74,SPRINT!AD$7:AJ$50,6,0)),\"\",VLOOKUP($A74,SPRINT!AD$7:AJ$50,6,0))","v":""},{"$f":"IF(ISNA(VLOOKUP($A74,SPRINT!AD$7:AJ$50,7,0)),\"\",VLOOKUP($A74,SPRINT!AD$7:AJ$50,7,0))","v":""},{"$f":"IF($A74=\"\",\"\",VLOOKUP($A74,INSCRITS!$D$4:$W$506,11,0))","v":""},{"$f":"IF(ISNA(VLOOKUP($A74,BATONS!AD$7:AJ$51,6,0)),\"\",VLOOKUP($A74,BATONS!AD$7:AJ$51,6,0))","v":""},{"$f":"IF(ISNA(VLOOKUP($A74,BATONS!AD$7:AJ$51,7,0)),\"\",VLOOKUP($A74,BATONS!AD$7:AJ$51,7,0))","v":""},{"$f":"IF($A74=\"\",\"\",VLOOKUP($A74,INSCRITS!$D$4:$W$506,12,0))","v":""},{"$f":"IF(ISNA(VLOOKUP($A74,PLANCHE!AC$7:AI$52,6,0)),\"\",VLOOKUP($A74,PLANCHE!AC$7:AI$52,6,0))","v":""},{"$f":"IF(ISNA(VLOOKUP($A74,PLANCHE!AC$7:AI$52,7,0)),\"\",VLOOKUP($A74,PLANCHE!AC$7:AI$52,7,0))","v":""},{"$f":"IF($A74=\"\",\"\",VLOOKUP($A74,INSCRITS!$D$4:$W$506,13,0))","v":""},{"$f":"IF(ISNA(VLOOKUP($A74,NAGE!N$7:T$52,6,0)),\"\",VLOOKUP($A74,NAGE!N$7:T$52,6,0))","v":""},{"$f":"IF(ISNA(VLOOKUP($A74,NAGE!N$7:T$52,7,0)),\"\",VLOOKUP($A74,NAGE!N$7:T$52,7,0))","v":""},{"$f":"IF($A74=\"\",\"\",VLOOKUP($A74,INSCRITS!$D$4:$W$506,14,0))","v":""},{"$f":"IF(ISNA(VLOOKUP($A74,SURFSKI!AC$8:AI$53,6,0)),\"\",VLOOKUP($A74,SURFSKI!AC$8:AI$53,6,0))","v":""},{"$f":"IF(ISNA(VLOOKUP($A74,SURFSKI!AC$8:AI$53,7,0)),\"\",VLOOKUP($A74,SURFSKI!AC$8:AI$53,7,0))","v":""},{"$f":"IF($A74=\"\",\"\",VLOOKUP($A74,INSCRITS!$D$4:$W$506,15,0))","v":""},{"$f":"IF(ISNA(VLOOKUP($A74,OCEANMAN!AD$7:AJ$52,6,0)),\"\",VLOOKUP($A74,OCEANMAN!AD$7:AJ$52,6,0))","v":""},{"$f":"IF(ISNA(VLOOKUP($A74,OCEANMAN!AD$7:AJ$52,7,0)),\"\",VLOOKUP($A74,OCEANMAN!AD$7:AJ$52,7,0))","v":""},{"$f":"IF($A74=\"\",\"\",VLOOKUP($A74,INSCRITS!$D$4:$W$506,16,0))","v":""},{"$f":"IF(ISNA(VLOOKUP($A74,CNC!N$7:AC$52,6,0)),\"\",VLOOKUP($A74,CNC!N$7:AC$52,6,0))","v":""},{"$f":"IF(ISNA(VLOOKUP($A74,CNC!N$7:AC$52,7,0)),\"\",VLOOKUP($A74,CNC!N$7:AC$52,7,0))","v":""},0,{"$f":"IF($A74=\"\",\"\",VLOOKUP($A74,INSCRITS!$D$4:$W$506,16,0))","v":""},null,{"$f":"IF(AG74=\"\",\"\",VLOOKUP(AG74,[0]!Relais,2))","v":""},{"$f":"IF($A74=\"\",\"\",VLOOKUP($A74,INSCRITS!$D$4:$W$506,17,0))","v":""},null,{"$f":"IF(AJ74=\"\",\"\",VLOOKUP(AJ74,[0]!Relais,2))","v":""},{"$f":"IF($A74=\"\",\"\",VLOOKUP($A74,INSCRITS!$D$4:$W$506,18,0))","v":""},null,{"$f":"IF(AM74=\"\",\"\",VLOOKUP(AM74,[0]!Relais,2))","v":""},{"$f":"IF($A74=\"\",\"\",VLOOKUP($A74,INSCRITS!$D$4:$W$506,19,0))","v":""},null,{"$f":"IF(AP74=\"\",\"\",VLOOKUP(AP74,[0]!Relais,2))","v":""},0,0]
[null,{"$f":"IF($A75=\"\",\"\",VLOOKUP($A75,INSCRITS!$D$4:$W$501,2,0))","v":""},{"$f":"IF($A75=\"\",\"\",VLOOKUP($A75,INSCRITS!$D$4:$W$501,3,0))","v":""},{"$f":"IF($A75=\"\",\"\",VLOOKUP($A75,INSCRITS!$D$4:$W$501,4,0))","v":""},{"$f":"IF($A75=\"\",\"\",VLOOKUP($A75,INSCRITS!$D$4:$W$501,5,0))","v":""},{"$f":"IF($A75=\"\",\"\",VLOOKUP($A75,INSCRITS!$D$4:$W$501,6,0))","v":""},{"$f":"IF($A75=\"\",\"\",VLOOKUP($A75,INSCRITS!$D$4:$W$501,7,0))","v":""},{"$f":"IF($A75=\"\",\"\",VLOOKUP($A75,INSCRITS!$D$4:$W$501,8,0))","v":""},{"$f":"IF($A75=\"\",\"\",VLOOKUP($A75,INSCRITS!$D$4:$W$501,9,0))","v":""},{"$f":"IF($A75=\"\",\"\",VLOOKUP($A75,INSCRITS!$D$4:$W$506,10,0))","v":""},{"$f":"IF(ISNA(VLOOKUP($A75,SPRINT!AD$7:AJ$50,6,0)),\"\",VLOOKUP($A75,SPRINT!AD$7:AJ$50,6,0))","v":""},{"$f":"IF(ISNA(VLOOKUP($A75,SPRINT!AD$7:AJ$50,7,0)),\"\",VLOOKUP($A75,SPRINT!AD$7:AJ$50,7,0))","v":""},{"$f":"IF($A75=\"\",\"\",VLOOKUP($A75,INSCRITS!$D$4:$W$506,11,0))","v":""},{"$f":"IF(ISNA(VLOOKUP($A75,BATONS!AD$7:AJ$51,6,0)),\"\",VLOOKUP($A75,BATONS!AD$7:AJ$51,6,0))","v":""},{"$f":"IF(ISNA(VLOOKUP($A75,BATONS!AD$7:AJ$51,7,0)),\"\",VLOOKUP($A75,BATONS!AD$7:AJ$51,7,0))","v":""},{"$f":"IF($A75=\"\",\"\",VLOOKUP($A75,INSCRITS!$D$4:$W$506,12,0))","v":""},{"$f":"IF(ISNA(VLOOKUP($A75,PLANCHE!AC$7:AI$52,6,0)),\"\",VLOOKUP($A75,PLANCHE!AC$7:AI$52,6,0))","v":""},{"$f":"IF(ISNA(VLOOKUP($A75,PLANCHE!AC$7:AI$52,7,0)),\"\",VLOOKUP($A75,PLANCHE!AC$7:AI$52,7,0))","v":""},{"$f":"IF($A75=\"\",\"\",VLOOKUP($A75,INSCRITS!$D$4:$W$506,13,0))","v":""},{"$f":"IF(ISNA(VLOOKUP($A75,NAGE!N$7:T$52,6,0)),\"\",VLOOKUP($A75,NAGE!N$7:T$52,6,0))","v":""},{"$f":"IF(ISNA(VLOOKUP($A75,NAGE!N$7:T$52,7,0)),\"\",VLOOKUP($A75,NAGE!N$7:T$52,7,0))","v":""},{"$f":"IF($A75=\"\",\"\",VLOOKUP($A75,INSCRITS!$D$4:$W$506,14,0))","v":""},{"$f":"IF(ISNA(VLOOKUP($A75,SURFSKI!AC$8:AI$53,6,0)),\"\",VLOOKUP($A75,SURFSKI!AC$8:AI$53,6,0))","v":""},{"$f":"IF(ISNA(VLOOKUP($A75,SURFSKI!AC$8:AI$53,7,0)),\"\",VLOOKUP($A75,SURFSKI!AC$8:AI$53,7,0))","v":""},{"$f":"IF($A75=\"\",\"\",VLOOKUP($A75,INSCRITS!$D$4:$W$506,15,0))","v":""},{"$f":"IF(ISNA(VLOOKUP($A75,OCEANMAN!AD$7:AJ$52,6,0)),\"\",VLOOKUP($A75,OCEANMAN!AD$7:AJ$52,6,0))","v":""},{"$f":"IF(ISNA(VLOOKUP($A75,OCEANMAN!AD$7:AJ$52,7,0)),\"\",VLOOKUP($A75,OCEANMAN!AD$7:AJ$52,7,0))","v":""},{"$f":"IF($A75=\"\",\"\",VLOOKUP($A75,INSCRITS!$D$4:$W$506,16,0))","v":""},{"$f":"IF(ISNA(VLOOKUP($A75,CNC!N$7:AC$52,6,0)),\"\",VLOOKUP($A75,CNC!N$7:AC$52,6,0))","v":""},{"$f":"IF(ISNA(VLOOKUP($A75,CNC!N$7:AC$52,7,0)),\"\",VLOOKUP($A75,CNC!N$7:AC$52,7,0))","v":""},0,{"$f":"IF($A75=\"\",\"\",VLOOKUP($A75,INSCRITS!$D$4:$W$506,16,0))","v":""},null,{"$f":"IF(AG75=\"\",\"\",VLOOKUP(AG75,[0]!Relais,2))","v":""},{"$f":"IF($A75=\"\",\"\",VLOOKUP($A75,INSCRITS!$D$4:$W$506,17,0))","v":""},null,{"$f":"IF(AJ75=\"\",\"\",VLOOKUP(AJ75,[0]!Relais,2))","v":""},{"$f":"IF($A75=\"\",\"\",VLOOKUP($A75,INSCRITS!$D$4:$W$506,18,0))","v":""},null,{"$f":"IF(AM75=\"\",\"\",VLOOKUP(AM75,[0]!Relais,2))","v":""},{"$f":"IF($A75=\"\",\"\",VLOOKUP($A75,INSCRITS!$D$4:$W$506,19,0))","v":""},null,{"$f":"IF(AP75=\"\",\"\",VLOOKUP(AP75,[0]!Relais,2))","v":""},0,0]
[null,{"$f":"IF($A76=\"\",\"\",VLOOKUP($A76,INSCRITS!$D$4:$W$501,2,0))","v":""},{"$f":"IF($A76=\"\",\"\",VLOOKUP($A76,INSCRITS!$D$4:$W$501,3,0))","v":""},{"$f":"IF($A76=\"\",\"\",VLOOKUP($A76,INSCRITS!$D$4:$W$501,4,0))","v":""},{"$f":"IF($A76=\"\",\"\",VLOOKUP($A76,INSCRITS!$D$4:$W$501,5,0))","v":""},{"$f":"IF($A76=\"\",\"\",VLOOKUP($A76,INSCRITS!$D$4:$W$501,6,0))","v":""},{"$f":"IF($A76=\"\",\"\",VLOOKUP($A76,INSCRITS!$D$4:$W$501,7,0))","v":""},{"$f":"IF($A76=\"\",\"\",VLOOKUP($A76,INSCRITS!$D$4:$W$501,8,0))","v":""},{"$f":"IF($A76=\"\",\"\",VLOOKUP($A76,INSCRITS!$D$4:$W$501,9,0))","v":""},{"$f":"IF($A76=\"\",\"\",VLOOKUP($A76,INSCRITS!$D$4:$W$506,10,0))","v":""},{"$f":"IF(ISNA(VLOOKUP($A76,SPRINT!AD$7:AJ$50,6,0)),\"\",VLOOKUP($A76,SPRINT!AD$7:AJ$50,6,0))","v":""},{"$f":"IF(ISNA(VLOOKUP($A76,SPRINT!AD$7:AJ$50,7,0)),\"\",VLOOKUP($A76,SPRINT!AD$7:AJ$50,7,0))","v":""},{"$f":"IF($A76=\"\",\"\",VLOOKUP($A76,INSCRITS!$D$4:$W$506,11,0))","v":""},{"$f":"IF(ISNA(VLOOKUP($A76,BATONS!AD$7:AJ$51,6,0)),\"\",VLOOKUP($A76,BATONS!AD$7:AJ$51,6,0))","v":""},{"$f":"IF(ISNA(VLOOKUP($A76,BATONS!AD$7:AJ$51,7,0)),\"\",VLOOKUP($A76,BATONS!AD$7:AJ$51,7,0))","v":""},{"$f":"IF($A76=\"\",\"\",VLOOKUP($A76,INSCRITS!$D$4:$W$506,12,0))","v":""},{"$f":"IF(ISNA(VLOOKUP($A76,PLANCHE!AC$7:AI$52,6,0)),\"\",VLOOKUP($A76,PLANCHE!AC$7:AI$52,6,0))","v":""},{"$f":"IF(ISNA(VLOOKUP($A76,PLANCHE!AC$7:AI$52,7,0)),\"\",VLOOKUP($A76,PLANCHE!AC$7:AI$52,7,0))","v":""},{"$f":"IF($A76=\"\",\"\",VLOOKUP($A76,INSCRITS!$D$4:$W$506,13,0))","v":""},{"$f":"IF(ISNA(VLOOKUP($A76,NAGE!N$7:T$52,6,0)),\"\",VLOOKUP($A76,NAGE!N$7:T$52,6,0))","v":""},{"$f":"IF(ISNA(VLOOKUP($A76,NAGE!N$7:T$52,7,0)),\"\",VLOOKUP($A76,NAGE!N$7:T$52,7,0))","v":""},{"$f":"IF($A76=\"\",\"\",VLOOKUP($A76,INSCRITS!$D$4:$W$506,14,0))","v":""},{"$f":"IF(ISNA(VLOOKUP($A76,SURFSKI!AC$8:AI$53,6,0)),\"\",VLOOKUP($A76,SURFSKI!AC$8:AI$53,6,0))","v":""},{"$f":"IF(ISNA(VLOOKUP($A76,SURFSKI!AC$8:AI$53,7,0)),\"\",VLOOKUP($A76,SURFSKI!AC$8:AI$53,7,0))","v":""},{"$f":"IF($A76=\"\",\"\",VLOOKUP($A76,INSCRITS!$D$4:$W$506,15,0))","v":""},{"$f":"IF(ISNA(VLOOKUP($A76,OCEANMAN!AD$7:AJ$52,6,0)),\"\",VLOOKUP($A76,OCEANMAN!AD$7:AJ$52,6,0))","v":""},{"$f":"IF(ISNA(VLOOKUP($A76,OCEANMAN!AD$7:AJ$52,7,0)),\"\",VLOOKUP($A76,OCEANMAN!AD$7:AJ$52,7,0))","v":""},{"$f":"IF($A76=\"\",\"\",VLOOKUP($A76,INSCRITS!$D$4:$W$506,16,0))","v":""},{"$f":"IF(ISNA(VLOOKUP($A76,CNC!N$7:AC$52,6,0)),\"\",VLOOKUP($A76,CNC!N$7:AC$52,6,0))","v":""},{"$f":"IF(ISNA(VLOOKUP($A76,CNC!N$7:AC$52,7,0)),\"\",VLOOKUP($A76,CNC!N$7:AC$52,7,0))","v":""},0,{"$f":"IF($A76=\"\",\"\",VLOOKUP($A76,INSCRITS!$D$4:$W$506,16,0))","v":""},null,{"$f":"IF(AG76=\"\",\"\",VLOOKUP(AG76,[0]!Relais,2))","v":""},{"$f":"IF($A76=\"\",\"\",VLOOKUP($A76,INSCRITS!$D$4:$W$506,17,0))","v":""},null,{"$f":"IF(AJ76=\"\",\"\",VLOOKUP(AJ76,[0]!Relais,2))","v":""},{"$f":"IF($A76=\"\",\"\",VLOOKUP($A76,INSCRITS!$D$4:$W$506,18,0))","v":""},null,{"$f":"IF(AM76=\"\",\"\",VLOOKUP(AM76,[0]!Relais,2))","v":""},{"$f":"IF($A76=\"\",\"\",VLOOKUP($A76,INSCRITS!$D$4:$W$506,19,0))","v":""},null,{"$f":"IF(AP76=\"\",\"\",VLOOKUP(AP76,[0]!Relais,2))","v":""},0,0]
[null,{"$f":"IF($A77=\"\",\"\",VLOOKUP($A77,INSCRITS!$D$4:$W$501,2,0))","v":""},{"$f":"IF($A77=\"\",\"\",VLOOKUP($A77,INSCRITS!$D$4:$W$501,3,0))","v":""},{"$f":"IF($A77=\"\",\"\",VLOOKUP($A77,INSCRITS!$D$4:$W$501,4,0))","v":""},{"$f":"IF($A77=\"\",\"\",VLOOKUP($A77,INSCRITS!$D$4:$W$501,5,0))","v":""},{"$f":"IF($A77=\"\",\"\",VLOOKUP($A77,INSCRITS!$D$4:$W$501,6,0))","v":""},{"$f":"IF($A77=\"\",\"\",VLOOKUP($A77,INSCRITS!$D$4:$W$501,7,0))","v":""},{"$f":"IF($A77=\"\",\"\",VLOOKUP($A77,INSCRITS!$D$4:$W$501,8,0))","v":""},{"$f":"IF($A77=\"\",\"\",VLOOKUP($A77,INSCRITS!$D$4:$W$501,9,0))","v":""},{"$f":"IF($A77=\"\",\"\",VLOOKUP($A77,INSCRITS!$D$4:$W$506,10,0))","v":""},{"$f":"IF(ISNA(VLOOKUP($A77,SPRINT!AD$7:AJ$50,6,0)),\"\",VLOOKUP($A77,SPRINT!AD$7:AJ$50,6,0))","v":""},{"$f":"IF(ISNA(VLOOKUP($A77,SPRINT!AD$7:AJ$50,7,0)),\"\",VLOOKUP($A77,SPRINT!AD$7:AJ$50,7,0))","v":""},{"$f":"IF($A77=\"\",\"\",VLOOKUP($A77,INSCRITS!$D$4:$W$506,11,0))","v":""},{"$f":"IF(ISNA(VLOOKUP($A77,BATONS!AD$7:AJ$51,6,0)),\"\",VLOOKUP($A77,BATONS!AD$7:AJ$51,6,0))","v":""},{"$f":"IF(ISNA(VLOOKUP($A77,BATONS!AD$7:AJ$51,7,0)),\"\",VLOOKUP($A77,BATONS!AD$7:AJ$51,7,0))","v":""},{"$f":"IF($A77=\"\",\"\",VLOOKUP($A77,INSCRITS!$D$4:$W$506,12,0))","v":""},{"$f":"IF(ISNA(VLOOKUP($A77,PLANCHE!AC$7:AI$52,6,0)),\"\",VLOOKUP($A77,PLANCHE!AC$7:AI$52,6,0))","v":""},{"$f":"IF(ISNA(VLOOKUP($A77,PLANCHE!AC$7:AI$52,7,0)),\"\",VLOOKUP($A77,PLANCHE!AC$7:AI$52,7,0))","v":""},{"$f":"IF($A77=\"\",\"\",VLOOKUP($A77,INSCRITS!$D$4:$W$506,13,0))","v":""},{"$f":"IF(ISNA(VLOOKUP($A77,NAGE!N$7:T$52,6,0)),\"\",VLOOKUP($A77,NAGE!N$7:T$52,6,0))","v":""},{"$f":"IF(ISNA(VLOOKUP($A77,NAGE!N$7:T$52,7,0)),\"\",VLOOKUP($A77,NAGE!N$7:T$52,7,0))","v":""},{"$f":"IF($A77=\"\",\"\",VLOOKUP($A77,INSCRITS!$D$4:$W$506,14,0))","v":""},{"$f":"IF(ISNA(VLOOKUP($A77,SURFSKI!AC$8:AI$53,6,0)),\"\",VLOOKUP($A77,SURFSKI!AC$8:AI$53,6,0))","v":""},{"$f":"IF(ISNA(VLOOKUP($A77,SURFSKI!AC$8:AI$53,7,0)),\"\",VLOOKUP($A77,SURFSKI!AC$8:AI$53,7,0))","v":""},{"$f":"IF($A77=\"\",\"\",VLOOKUP($A77,INSCRITS!$D$4:$W$506,15,0))","v":""},{"$f":"IF(ISNA(VLOOKUP($A77,OCEANMAN!AD$7:AJ$52,6,0)),\"\",VLOOKUP($A77,OCEANMAN!AD$7:AJ$52,6,0))","v":""},{"$f":"IF(ISNA(VLOOKUP($A77,OCEANMAN!AD$7:AJ$52,7,0)),\"\",VLOOKUP($A77,OCEANMAN!AD$7:AJ$52,7,0))","v":""},{"$f":"IF($A77=\"\",\"\",VLOOKUP($A77,INSCRITS!$D$4:$W$506,16,0))","v":""},{"$f":"IF(ISNA(VLOOKUP($A77,CNC!N$7:AC$52,6,0)),\"\",VLOOKUP($A77,CNC!N$7:AC$52,6,0))","v":""},{"$f":"IF(ISNA(VLOOKUP($A77,CNC!N$7:AC$52,7,0)),\"\",VLOOKUP($A77,CNC!N$7:AC$52,7,0))","v":""},0,{"$f":"IF($A77=\"\",\"\",VLOOKUP($A77,INSCRITS!$D$4:$W$506,16,0))","v":""},null,{"$f":"IF(AG77=\"\",\"\",VLOOKUP(AG77,[0]!Relais,2))","v":""},{"$f":"IF($A77=\"\",\"\",VLOOKUP($A77,INSCRITS!$D$4:$W$506,17,0))","v":""},null,{"$f":"IF(AJ77=\"\",\"\",VLOOKUP(AJ77,[0]!Relais,2))","v":""},{"$f":"IF($A77=\"\",\"\",VLOOKUP($A77,INSCRITS!$D$4:$W$506,18,0))","v":""},null,{"$f":"IF(AM77=\"\",\"\",VLOOKUP(AM77,[0]!Relais,2))","v":""},{"$f":"IF($A77=\"\",\"\",VLOOKUP($A77,INSCRITS!$D$4:$W$506,19,0))","v":""},null,{"$f":"IF(AP77=\"\",\"\",VLOOKUP(AP77,[0]!Relais,2))","v":""},0,0]
[null,{"$f":"IF($A78=\"\",\"\",VLOOKUP($A78,INSCRITS!$D$4:$W$501,2,0))","v":""},{"$f":"IF($A78=\"\",\"\",VLOOKUP($A78,INSCRITS!$D$4:$W$501,3,0))","v":""},{"$f":"IF($A78=\"\",\"\",VLOOKUP($A78,INSCRITS!$D$4:$W$501,4,0))","v":""},{"$f":"IF($A78=\"\",\"\",VLOOKUP($A78,INSCRITS!$D$4:$W$501,5,0))","v":""},{"$f":"IF($A78=\"\",\"\",VLOOKUP($A78,INSCRITS!$D$4:$W$501,6,0))","v":""},{"$f":"IF($A78=\"\",\"\",VLOOKUP($A78,INSCRITS!$D$4:$W$501,7,0))","v":""},{"$f":"IF($A78=\"\",\"\",VLOOKUP($A78,INSCRITS!$D$4:$W$501,8,0))","v":""},{"$f":"IF($A78=\"\",\"\",VLOOKUP($A78,INSCRITS!$D$4:$W$501,9,0))","v":""},{"$f":"IF($A78=\"\",\"\",VLOOKUP($A78,INSCRITS!$D$4:$W$506,10,0))","v":""},{"$f":"IF(ISNA(VLOOKUP($A78,SPRINT!AD$7:AJ$50,6,0)),\"\",VLOOKUP($A78,SPRINT!AD$7:AJ$50,6,0))","v":""},{"$f":"IF(ISNA(VLOOKUP($A78,SPRINT!AD$7:AJ$50,7,0)),\"\",VLOOKUP($A78,SPRINT!AD$7:AJ$50,7,0))","v":""},{"$f":"IF($A78=\"\",\"\",VLOOKUP($A78,INSCRITS!$D$4:$W$506,11,0))","v":""},{"$f":"IF(ISNA(VLOOKUP($A78,BATONS!AD$7:AJ$51,6,0)),\"\",VLOOKUP($A78,BATONS!AD$7:AJ$51,6,0))","v":""},{"$f":"IF(ISNA(VLOOKUP($A78,BATONS!AD$7:AJ$51,7,0)),\"\",VLOOKUP($A78,BATONS!AD$7:AJ$51,7,0))","v":""},{"$f":"IF($A78=\"\",\"\",VLOOKUP($A78,INSCRITS!$D$4:$W$506,12,0))","v":""},{"$f":"IF(ISNA(VLOOKUP($A78,PLANCHE!AC$7:AI$52,6,0)),\"\",VLOOKUP($A78,PLANCHE!AC$7:AI$52,6,0))","v":""},{"$f":"IF(ISNA(VLOOKUP($A78,PLANCHE!AC$7:AI$52,7,0)),\"\",VLOOKUP($A78,PLANCHE!AC$7:AI$52,7,0))","v":""},{"$f":"IF($A78=\"\",\"\",VLOOKUP($A78,INSCRITS!$D$4:$W$506,13,0))","v":""},{"$f":"IF(ISNA(VLOOKUP($A78,NAGE!N$7:T$52,6,0)),\"\",VLOOKUP($A78,NAGE!N$7:T$52,6,0))","v":""},{"$f":"IF(ISNA(VLOOKUP($A78,NAGE!N$7:T$52,7,0)),\"\",VLOOKUP($A78,NAGE!N$7:T$52,7,0))","v":""},{"$f":"IF($A78=\"\",\"\",VLOOKUP($A78,INSCRITS!$D$4:$W$506,14,0))","v":""},{"$f":"IF(ISNA(VLOOKUP($A78,SURFSKI!AC$8:AI$53,6,0)),\"\",VLOOKUP($A78,SURFSKI!AC$8:AI$53,6,0))","v":""},{"$f":"IF(ISNA(VLOOKUP($A78,SURFSKI!AC$8:AI$53,7,0)),\"\",VLOOKUP($A78,SURFSKI!AC$8:AI$53,7,0))","v":""},{"$f":"IF($A78=\"\",\"\",VLOOKUP($A78,INSCRITS!$D$4:$W$506,15,0))","v":""},{"$f":"IF(ISNA(VLOOKUP($A78,OCEANMAN!AD$7:AJ$52,6,0)),\"\",VLOOKUP($A78,OCEANMAN!AD$7:AJ$52,6,0))","v":""},{"$f":"IF(ISNA(VLOOKUP($A78,OCEANMAN!AD$7:AJ$52,7,0)),\"\",VLOOKUP($A78,OCEANMAN!AD$7:AJ$52,7,0))","v":""},{"$f":"IF($A78=\"\",\"\",VLOOKUP($A78,INSCRITS!$D$4:$W$506,16,0))","v":""},{"$f":"IF(ISNA(VLOOKUP($A78,CNC!N$7:AC$52,6,0)),\"\",VLOOKUP($A78,CNC!N$7:AC$52,6,0))","v":""},{"$f":"IF(ISNA(VLOOKUP($A78,CNC!N$7:AC$52,7,0)),\"\",VLOOKUP($A78,CNC!N$7:AC$52,7,0))","v":""},0,{"$f":"IF($A78=\"\",\"\",VLOOKUP($A78,INSCRITS!$D$4:$W$506,16,0))","v":""},null,{"$f":"IF(AG78=\"\",\"\",VLOOKUP(AG78,[0]!Relais,2))","v":""},{"$f":"IF($A78=\"\",\"\",VLOOKUP($A78,INSCRITS!$D$4:$W$506,17,0))","v":""},null,{"$f":"IF(AJ78=\"\",\"\",VLOOKUP(AJ78,[0]!Relais,2))","v":""},{"$f":"IF($A78=\"\",\"\",VLOOKUP($A78,INSCRITS!$D$4:$W$506,18,0))","v":""},null,{"$f":"IF(AM78=\"\",\"\",VLOOKUP(AM78,[0]!Relais,2))","v":""},{"$f":"IF($A78=\"\",\"\",VLOOKUP($A78,INSCRITS!$D$4:$W$506,19,0))","v":""},null,{"$f":"IF(AP78=\"\",\"\",VLOOKUP(AP78,[0]!Relais,2))","v":""},0,0]
[null,{"$f":"IF($A79=\"\",\"\",VLOOKUP($A79,INSCRITS!$D$4:$W$501,2,0))","v":""},{"$f":"IF($A79=\"\",\"\",VLOOKUP($A79,INSCRITS!$D$4:$W$501,3,0))","v":""},{"$f":"IF($A79=\"\",\"\",VLOOKUP($A79,INSCRITS!$D$4:$W$501,4,0))","v":""},{"$f":"IF($A79=\"\",\"\",VLOOKUP($A79,INSCRITS!$D$4:$W$501,5,0))","v":""},{"$f":"IF($A79=\"\",\"\",VLOOKUP($A79,INSCRITS!$D$4:$W$501,6,0))","v":""},{"$f":"IF($A79=\"\",\"\",VLOOKUP($A79,INSCRITS!$D$4:$W$501,7,0))","v":""},{"$f":"IF($A79=\"\",\"\",VLOOKUP($A79,INSCRITS!$D$4:$W$501,8,0))","v":""},{"$f":"IF($A79=\"\",\"\",VLOOKUP($A79,INSCRITS!$D$4:$W$501,9,0))","v":""},{"$f":"IF($A79=\"\",\"\",VLOOKUP($A79,INSCRITS!$D$4:$W$506,10,0))","v":""},{"$f":"IF(ISNA(VLOOKUP($A79,SPRINT!AD$7:AJ$50,6,0)),\"\",VLOOKUP($A79,SPRINT!AD$7:AJ$50,6,0))","v":""},{"$f":"IF(ISNA(VLOOKUP($A79,SPRINT!AD$7:AJ$50,7,0)),\"\",VLOOKUP($A79,SPRINT!AD$7:AJ$50,7,0))","v":""},{"$f":"IF($A79=\"\",\"\",VLOOKUP($A79,INSCRITS!$D$4:$W$506,11,0))","v":""},{"$f":"IF(ISNA(VLOOKUP($A79,BATONS!AD$7:AJ$51,6,0)),\"\",VLOOKUP($A79,BATONS!AD$7:AJ$51,6,0))","v":""},{"$f":"IF(ISNA(VLOOKUP($A79,BATONS!AD$7:AJ$51,7,0)),\"\",VLOOKUP($A79,BATONS!AD$7:AJ$51,7,0))","v":""},{"$f":"IF($A79=\"\",\"\",VLOOKUP($A79,INSCRITS!$D$4:$W$506,12,0))","v":""},{"$f":"IF(ISNA(VLOOKUP($A79,PLANCHE!AC$7:AI$52,6,0)),\"\",VLOOKUP($A79,PLANCHE!AC$7:AI$52,6,0))","v":""},{"$f":"IF(ISNA(VLOOKUP($A79,PLANCHE!AC$7:AI$52,7,0)),\"\",VLOOKUP($A79,PLANCHE!AC$7:AI$52,7,0))","v":""},{"$f":"IF($A79=\"\",\"\",VLOOKUP($A79,INSCRITS!$D$4:$W$506,13,0))","v":""},{"$f":"IF(ISNA(VLOOKUP($A79,NAGE!N$7:T$52,6,0)),\"\",VLOOKUP($A79,NAGE!N$7:T$52,6,0))","v":""},{"$f":"IF(ISNA(VLOOKUP($A79,NAGE!N$7:T$52,7,0)),\"\",VLOOKUP($A79,NAGE!N$7:T$52,7,0))","v":""},{"$f":"IF($A79=\"\",\"\",VLOOKUP($A79,INSCRITS!$D$4:$W$506,14,0))","v":""},{"$f":"IF(ISNA(VLOOKUP($A79,SURFSKI!AC$8:AI$53,6,0)),\"\",VLOOKUP($A79,SURFSKI!AC$8:AI$53,6,0))","v":""},{"$f":"IF(ISNA(VLOOKUP($A79,SURFSKI!AC$8:AI$53,7,0)),\"\",VLOOKUP($A79,SURFSKI!AC$8:AI$53,7,0))","v":""},{"$f":"IF($A79=\"\",\"\",VLOOKUP($A79,INSCRITS!$D$4:$W$506,15,0))","v":""},{"$f":"IF(ISNA(VLOOKUP($A79,OCEANMAN!AD$7:AJ$52,6,0)),\"\",VLOOKUP($A79,OCEANMAN!AD$7:AJ$52,6,0))","v":""},{"$f":"IF(ISNA(VLOOKUP($A79,OCEANMAN!AD$7:AJ$52,7,0)),\"\",VLOOKUP($A79,OCEANMAN!AD$7:AJ$52,7,0))","v":""},{"$f":"IF($A79=\"\",\"\",VLOOKUP($A79,INSCRITS!$D$4:$W$506,16,0))","v":""},{"$f":"IF(ISNA(VLOOKUP($A79,CNC!N$7:AC$52,6,0)),\"\",VLOOKUP($A79,CNC!N$7:AC$52,6,0))","v":""},{"$f":"IF(ISNA(VLOOKUP($A79,CNC!N$7:AC$52,7,0)),\"\",VLOOKUP($A79,CNC!N$7:AC$52,7,0))","v":""},0,{"$f":"IF($A79=\"\",\"\",VLOOKUP($A79,INSCRITS!$D$4:$W$506,16,0))","v":""},null,{"$f":"IF(AG79=\"\",\"\",VLOOKUP(AG79,[0]!Relais,2))","v":""},{"$f":"IF($A79=\"\",\"\",VLOOKUP($A79,INSCRITS!$D$4:$W$506,17,0))","v":""},null,{"$f":"IF(AJ79=\"\",\"\",VLOOKUP(AJ79,[0]!Relais,2))","v":""},{"$f":"IF($A79=\"\",\"\",VLOOKUP($A79,INSCRITS!$D$4:$W$506,18,0))","v":""},null,{"$f":"IF(AM79=\"\",\"\",VLOOKUP(AM79,[0]!Relais,2))","v":""},{"$f":"IF($A79=\"\",\"\",VLOOKUP($A79,INSCRITS!$D$4:$W$506,19,0))","v":""},null,{"$f":"IF(AP79=\"\",\"\",VLOOKUP(AP79,[0]!Relais,2))","v":""},0,0]
[null,{"$f":"IF($A80=\"\",\"\",VLOOKUP($A80,INSCRITS!$D$4:$W$501,2,0))","v":""},{"$f":"IF($A80=\"\",\"\",VLOOKUP($A80,INSCRITS!$D$4:$W$501,3,0))","v":""},{"$f":"IF($A80=\"\",\"\",VLOOKUP($A80,INSCRITS!$D$4:$W$501,4,0))","v":""},{"$f":"IF($A80=\"\",\"\",VLOOKUP($A80,INSCRITS!$D$4:$W$501,5,0))","v":""},{"$f":"IF($A80=\"\",\"\",VLOOKUP($A80,INSCRITS!$D$4:$W$501,6,0))","v":""},{"$f":"IF($A80=\"\",\"\",VLOOKUP($A80,INSCRITS!$D$4:$W$501,7,0))","v":""},{"$f":"IF($A80=\"\",\"\",VLOOKUP($A80,INSCRITS!$D$4:$W$501,8,0))","v":""},{"$f":"IF($A80=\"\",\"\",VLOOKUP($A80,INSCRITS!$D$4:$W$501,9,0))","v":""},{"$f":"IF($A80=\"\",\"\",VLOOKUP($A80,INSCRITS!$D$4:$W$506,10,0))","v":""},{"$f":"IF(ISNA(VLOOKUP($A80,SPRINT!AD$7:AJ$50,6,0)),\"\",VLOOKUP($A80,SPRINT!AD$7:AJ$50,6,0))","v":""},{"$f":"IF(ISNA(VLOOKUP($A80,SPRINT!AD$7:AJ$50,7,0)),\"\",VLOOKUP($A80,SPRINT!AD$7:AJ$50,7,0))","v":""},{"$f":"IF($A80=\"\",\"\",VLOOKUP($A80,INSCRITS!$D$4:$W$506,11,0))","v":""},{"$f":"IF(ISNA(VLOOKUP($A80,BATONS!AD$7:AJ$51,6,0)),\"\",VLOOKUP($A80,BATONS!AD$7:AJ$51,6,0))","v":""},{"$f":"IF(ISNA(VLOOKUP($A80,BATONS!AD$7:AJ$51,7,0)),\"\",VLOOKUP($A80,BATONS!AD$7:AJ$51,7,0))","v":""},{"$f":"IF($A80=\"\",\"\",VLOOKUP($A80,INSCRITS!$D$4:$W$506,12,0))","v":""},{"$f":"IF(ISNA(VLOOKUP($A80,PLANCHE!AC$7:AI$52,6,0)),\"\",VLOOKUP($A80,PLANCHE!AC$7:AI$52,6,0))","v":""},{"$f":"IF(ISNA(VLOOKUP($A80,PLANCHE!AC$7:AI$52,7,0)),\"\",VLOOKUP($A80,PLANCHE!AC$7:AI$52,7,0))","v":""},{"$f":"IF($A80=\"\",\"\",VLOOKUP($A80,INSCRITS!$D$4:$W$506,13,0))","v":""},{"$f":"IF(ISNA(VLOOKUP($A80,NAGE!N$7:T$52,6,0)),\"\",VLOOKUP($A80,NAGE!N$7:T$52,6,0))","v":""},{"$f":"IF(ISNA(VLOOKUP($A80,NAGE!N$7:T$52,7,0)),\"\",VLOOKUP($A80,NAGE!N$7:T$52,7,0))","v":""},{"$f":"IF($A80=\"\",\"\",VLOOKUP($A80,INSCRITS!$D$4:$W$506,14,0))","v":""},{"$f":"IF(ISNA(VLOOKUP($A80,SURFSKI!AC$8:AI$53,6,0)),\"\",VLOOKUP($A80,SURFSKI!AC$8:AI$53,6,0))","v":""},{"$f":"IF(ISNA(VLOOKUP($A80,SURFSKI!AC$8:AI$53,7,0)),\"\",VLOOKUP($A80,SURFSKI!AC$8:AI$53,7,0))","v":""},{"$f":"IF($A80=\"\",\"\",VLOOKUP($A80,INSCRITS!$D$4:$W$506,15,0))","v":""},{"$f":"IF(ISNA(VLOOKUP($A80,OCEANMAN!AD$7:AJ$52,6,0)),\"\",VLOOKUP($A80,OCEANMAN!AD$7:AJ$52,6,0))","v":""},{"$f":"IF(ISNA(VLOOKUP($A80,OCEANMAN!AD$7:AJ$52,7,0)),\"\",VLOOKUP($A80,OCEANMAN!AD$7:AJ$52,7,0))","v":""},{"$f":"IF($A80=\"\",\"\",VLOOKUP($A80,INSCRITS!$D$4:$W$506,16,0))","v":""},{"$f":"IF(ISNA(VLOOKUP($A80,CNC!N$7:AC$52,6,0)),\"\",VLOOKUP($A80,CNC!N$7:AC$52,6,0))","v":""},{"$f":"IF(ISNA(VLOOKUP($A80,CNC!N$7:AC$52,7,0)),\"\",VLOOKUP($A80,CNC!N$7:AC$52,7,0))","v":""},0,{"$f":"IF($A80=\"\",\"\",VLOOKUP($A80,INSCRITS!$D$4:$W$506,16,0))","v":""},null,{"$f":"IF(AG80=\"\",\"\",VLOOKUP(AG80,[0]!Relais,2))","v":""},{"$f":"IF($A80=\"\",\"\",VLOOKUP($A80,INSCRITS!$D$4:$W$506,17,0))","v":""},null,{"$f":"IF(AJ80=\"\",\"\",VLOOKUP(AJ80,[0]!Relais,2))","v":""},{"$f":"IF($A80=\"\",\"\",VLOOKUP($A80,INSCRITS!$D$4:$W$506,18,0))","v":""},null,{"$f":"IF(AM80=\"\",\"\",VLOOKUP(AM80,[0]!Relais,2))","v":""},{"$f":"IF($A80=\"\",\"\",VLOOKUP($A80,INSCRITS!$D$4:$W$506,19,0))","v":""},null,{"$f":"IF(AP80=\"\",\"\",VLOOKUP(AP80,[0]!Relais,2))","v":""},0,0]
[null,{"$f":"IF($A81=\"\",\"\",VLOOKUP($A81,INSCRITS!$D$4:$W$501,2,0))","v":""},{"$f":"IF($A81=\"\",\"\",VLOOKUP($A81,INSCRITS!$D$4:$W$501,3,0))","v":""},{"$f":"IF($A81=\"\",\"\",VLOOKUP($A81,INSCRITS!$D$4:$W$501,4,0))","v":""},{"$f":"IF($A81=\"\",\"\",VLOOKUP($A81,INSCRITS!$D$4:$W$501,5,0))","v":""},{"$f":"IF($A81=\"\",\"\",VLOOKUP($A81,INSCRITS!$D$4:$W$501,6,0))","v":""},{"$f":"IF($A81=\"\",\"\",VLOOKUP($A81,INSCRITS!$D$4:$W$501,7,0))","v":""},{"$f":"IF($A81=\"\",\"\",VLOOKUP($A81,INSCRITS!$D$4:$W$501,8,0))","v":""},{"$f":"IF($A81=\"\",\"\",VLOOKUP($A81,INSCRITS!$D$4:$W$501,9,0))","v":""},{"$f":"IF($A81=\"\",\"\",VLOOKUP($A81,INSCRITS!$D$4:$W$506,10,0))","v":""},{"$f":"IF(ISNA(VLOOKUP($A81,SPRINT!AD$7:AJ$50,6,0)),\"\",VLOOKUP($A81,SPRINT!AD$7:AJ$50,6,0))","v":""},{"$f":"IF(ISNA(VLOOKUP($A81,SPRINT!AD$7:AJ$50,7,0)),\"\",VLOOKUP($A81,SPRINT!AD$7:AJ$50,7,0))","v":""},{"$f":"IF($A81=\"\",\"\",VLOOKUP($A81,INSCRITS!$D$4:$W$506,11,0))","v":""},{"$f":"IF(ISNA(VLOOKUP($A81,BATONS!AD$7:AJ$51,6,0)),\"\",VLOOKUP($A81,BATONS!AD$7:AJ$51,6,0))","v":""},{"$f":"IF(ISNA(VLOOKUP($A81,BATONS!AD$7:AJ$51,7,0)),\"\",VLOOKUP($A81,BATONS!AD$7:AJ$51,7,0))","v":""},{"$f":"IF($A81=\"\",\"\",VLOOKUP($A81,INSCRITS!$D$4:$W$506,12,0))","v":""},{"$f":"IF(ISNA(VLOOKUP($A81,PLANCHE!AC$7:AI$52,6,0)),\"\",VLOOKUP($A81,PLANCHE!AC$7:AI$52,6,0))","v":""},{"$f":"IF(ISNA(VLOOKUP($A81,PLANCHE!AC$7:AI$52,7,0)),\"\",VLOOKUP($A81,PLANCHE!AC$7:AI$52,7,0))","v":""},{"$f":"IF($A81=\"\",\"\",VLOOKUP($A81,INSCRITS!$D$4:$W$506,13,0))","v":""},{"$f":"IF(ISNA(VLOOKUP($A81,NAGE!N$7:T$52,6,0)),\"\",VLOOKUP($A81,NAGE!N$7:T$52,6,0))","v":""},{"$f":"IF(ISNA(VLOOKUP($A81,NAGE!N$7:T$52,7,0)),\"\",VLOOKUP($A81,NAGE!N$7:T$52,7,0))","v":""},{"$f":"IF($A81=\"\",\"\",VLOOKUP($A81,INSCRITS!$D$4:$W$506,14,0))","v":""},{"$f":"IF(ISNA(VLOOKUP($A81,SURFSKI!AC$8:AI$53,6,0)),\"\",VLOOKUP($A81,SURFSKI!AC$8:AI$53,6,0))","v":""},{"$f":"IF(ISNA(VLOOKUP($A81,SURFSKI!AC$8:AI$53,7,0)),\"\",VLOOKUP($A81,SURFSKI!AC$8:AI$53,7,0))","v":""},{"$f":"IF($A81=\"\",\"\",VLOOKUP($A81,INSCRITS!$D$4:$W$506,15,0))","v":""},{"$f":"IF(ISNA(VLOOKUP($A81,OCEANMAN!AD$7:AJ$52,6,0)),\"\",VLOOKUP($A81,OCEANMAN!AD$7:AJ$52,6,0))","v":""},{"$f":"IF(ISNA(VLOOKUP($A81,OCEANMAN!AD$7:AJ$52,7,0)),\"\",VLOOKUP($A81,OCEANMAN!AD$7:AJ$52,7,0))","v":""},{"$f":"IF($A81=\"\",\"\",VLOOKUP($A81,INSCRITS!$D$4:$W$506,16,0))","v":""},{"$f":"IF(ISNA(VLOOKUP($A81,CNC!N$7:AC$52,6,0)),\"\",VLOOKUP($A81,CNC!N$7:AC$52,6,0))","v":""},{"$f":"IF(ISNA(VLOOKUP($A81,CNC!N$7:AC$52,7,0)),\"\",VLOOKUP($A81,CNC!N$7:AC$52,7,0))","v":""},0,{"$f":"IF($A81=\"\",\"\",VLOOKUP($A81,INSCRITS!$D$4:$W$506,16,0))","v":""},null,{"$f":"IF(AG81=\"\",\"\",VLOOKUP(AG81,[0]!Relais,2))","v":""},{"$f":"IF($A81=\"\",\"\",VLOOKUP($A81,INSCRITS!$D$4:$W$506,17,0))","v":""},null,{"$f":"IF(AJ81=\"\",\"\",VLOOKUP(AJ81,[0]!Relais,2))","v":""},{"$f":"IF($A81=\"\",\"\",VLOOKUP($A81,INSCRITS!$D$4:$W$506,18,0))","v":""},null,{"$f":"IF(AM81=\"\",\"\",VLOOKUP(AM81,[0]!Relais,2))","v":""},{"$f":"IF($A81=\"\",\"\",VLOOKUP($A81,INSCRITS!$D$4:$W$506,19,0))","v":""},null,{"$f":"IF(AP81=\"\",\"\",VLOOKUP(AP81,[0]!Relais,2))","v":""},0,0]
[null,{"$f":"IF($A82=\"\",\"\",VLOOKUP($A82,INSCRITS!$D$4:$W$501,2,0))","v":""},{"$f":"IF($A82=\"\",\"\",VLOOKUP($A82,INSCRITS!$D$4:$W$501,3,0))","v":""},{"$f":"IF($A82=\"\",\"\",VLOOKUP($A82,INSCRITS!$D$4:$W$501,4,0))","v":""},{"$f":"IF($A82=\"\",\"\",VLOOKUP($A82,INSCRITS!$D$4:$W$501,5,0))","v":""},{"$f":"IF($A82=\"\",\"\",VLOOKUP($A82,INSCRITS!$D$4:$W$501,6,0))","v":""},{"$f":"IF($A82=\"\",\"\",VLOOKUP($A82,INSCRITS!$D$4:$W$501,7,0))","v":""},{"$f":"IF($A82=\"\",\"\",VLOOKUP($A82,INSCRITS!$D$4:$W$501,8,0))","v":""},{"$f":"IF($A82=\"\",\"\",VLOOKUP($A82,INSCRITS!$D$4:$W$501,9,0))","v":""},{"$f":"IF($A82=\"\",\"\",VLOOKUP($A82,INSCRITS!$D$4:$W$506,10,0))","v":""},{"$f":"IF(ISNA(VLOOKUP($A82,SPRINT!AD$7:AJ$50,6,0)),\"\",VLOOKUP($A82,SPRINT!AD$7:AJ$50,6,0))","v":""},{"$f":"IF(ISNA(VLOOKUP($A82,SPRINT!AD$7:AJ$50,7,0)),\"\",VLOOKUP($A82,SPRINT!AD$7:AJ$50,7,0))","v":""},{"$f":"IF($A82=\"\",\"\",VLOOKUP($A82,INSCRITS!$D$4:$W$506,11,0))","v":""},{"$f":"IF(ISNA(VLOOKUP($A82,BATONS!AD$7:AJ$51,6,0)),\"\",VLOOKUP($A82,BATONS!AD$7:AJ$51,6,0))","v":""},{"$f":"IF(ISNA(VLOOKUP($A82,BATONS!AD$7:AJ$51,7,0)),\"\",VLOOKUP($A82,BATONS!AD$7:AJ$51,7,0))","v":""},{"$f":"IF($A82=\"\",\"\",VLOOKUP($A82,INSCRITS!$D$4:$W$506,12,0))","v":""},{"$f":"IF(ISNA(VLOOKUP($A82,PLANCHE!AC$7:AI$52,6,0)),\"\",VLOOKUP($A82,PLANCHE!AC$7:AI$52,6,0))","v":""},{"$f":"IF(ISNA(VLOOKUP($A82,PLANCHE!AC$7:AI$52,7,0)),\"\",VLOOKUP($A82,PLANCHE!AC$7:AI$52,7,0))","v":""},{"$f":"IF($A82=\"\",\"\",VLOOKUP($A82,INSCRITS!$D$4:$W$506,13,0))","v":""},{"$f":"IF(ISNA(VLOOKUP($A82,NAGE!N$7:T$52,6,0)),\"\",VLOOKUP($A82,NAGE!N$7:T$52,6,0))","v":""},{"$f":"IF(ISNA(VLOOKUP($A82,NAGE!N$7:T$52,7,0)),\"\",VLOOKUP($A82,NAGE!N$7:T$52,7,0))","v":""},{"$f":"IF($A82=\"\",\"\",VLOOKUP($A82,INSCRITS!$D$4:$W$506,14,0))","v":""},{"$f":"IF(ISNA(VLOOKUP($A82,SURFSKI!AC$8:AI$53,6,0)),\"\",VLOOKUP($A82,SURFSKI!AC$8:AI$53,6,0))","v":""},{"$f":"IF(ISNA(VLOOKUP($A82,SURFSKI!AC$8:AI$53,7,0)),\"\",VLOOKUP($A82,SURFSKI!AC$8:AI$53,7,0))","v":""},{"$f":"IF($A82=\"\",\"\",VLOOKUP($A82,INSCRITS!$D$4:$W$506,15,0))","v":""},{"$f":"IF(ISNA(VLOOKUP($A82,OCEANMAN!AD$7:AJ$52,6,0)),\"\",VLOOKUP($A82,OCEANMAN!AD$7:AJ$52,6,0))","v":""},{"$f":"IF(ISNA(VLOOKUP($A82,OCEANMAN!AD$7:AJ$52,7,0)),\"\",VLOOKUP($A82,OCEANMAN!AD$7:AJ$52,7,0))","v":""},{"$f":"IF($A82=\"\",\"\",VLOOKUP($A82,INSCRITS!$D$4:$W$506,16,0))","v":""},{"$f":"IF(ISNA(VLOOKUP($A82,CNC!N$7:AC$52,6,0)),\"\",VLOOKUP($A82,CNC!N$7:AC$52,6,0))","v":""},{"$f":"IF(ISNA(VLOOKUP($A82,CNC!N$7:AC$52,7,0)),\"\",VLOOKUP($A82,CNC!N$7:AC$52,7,0))","v":""},0,{"$f":"IF($A82=\"\",\"\",VLOOKUP($A82,INSCRITS!$D$4:$W$506,16,0))","v":""},null,{"$f":"IF(AG82=\"\",\"\",VLOOKUP(AG82,[0]!Relais,2))","v":""},{"$f":"IF($A82=\"\",\"\",VLOOKUP($A82,INSCRITS!$D$4:$W$506,17,0))","v":""},null,{"$f":"IF(AJ82=\"\",\"\",VLOOKUP(AJ82,[0]!Relais,2))","v":""},{"$f":"IF($A82=\"\",\"\",VLOOKUP($A82,INSCRITS!$D$4:$W$506,18,0))","v":""},null,{"$f":"IF(AM82=\"\",\"\",VLOOKUP(AM82,[0]!Relais,2))","v":""},{"$f":"IF($A82=\"\",\"\",VLOOKUP($A82,INSCRITS!$D$4:$W$506,19,0))","v":""},null,{"$f":"IF(AP82=\"\",\"\",VLOOKUP(AP82,[0]!Relais,2))","v":""},0,0]
[null,{"$f":"IF($A83=\"\",\"\",VLOOKUP($A83,INSCRITS!$D$4:$W$501,2,0))","v":""},{"$f":"IF($A83=\"\",\"\",VLOOKUP($A83,INSCRITS!$D$4:$W$501,3,0))","v":""},{"$f":"IF($A83=\"\",\"\",VLOOKUP($A83,INSCRITS!$D$4:$W$501,4,0))","v":""},{"$f":"IF($A83=\"\",\"\",VLOOKUP($A83,INSCRITS!$D$4:$W$501,5,0))","v":""},{"$f":"IF($A83=\"\",\"\",VLOOKUP($A83,INSCRITS!$D$4:$W$501,6,0))","v":""},{"$f":"IF($A83=\"\",\"\",VLOOKUP($A83,INSCRITS!$D$4:$W$501,7,0))","v":""},{"$f":"IF($A83=\"\",\"\",VLOOKUP($A83,INSCRITS!$D$4:$W$501,8,0))","v":""},{"$f":"IF($A83=\"\",\"\",VLOOKUP($A83,INSCRITS!$D$4:$W$501,9,0))","v":""},{"$f":"IF($A83=\"\",\"\",VLOOKUP($A83,INSCRITS!$D$4:$W$506,10,0))","v":""},{"$f":"IF(ISNA(VLOOKUP($A83,SPRINT!AD$7:AJ$50,6,0)),\"\",VLOOKUP($A83,SPRINT!AD$7:AJ$50,6,0))","v":""},{"$f":"IF(ISNA(VLOOKUP($A83,SPRINT!AD$7:AJ$50,7,0)),\"\",VLOOKUP($A83,SPRINT!AD$7:AJ$50,7,0))","v":""},{"$f":"IF($A83=\"\",\"\",VLOOKUP($A83,INSCRITS!$D$4:$W$506,11,0))","v":""},{"$f":"IF(ISNA(VLOOKUP($A83,BATONS!AD$7:AJ$51,6,0)),\"\",VLOOKUP($A83,BATONS!AD$7:AJ$51,6,0))","v":""},{"$f":"IF(ISNA(VLOOKUP($A83,BATONS!AD$7:AJ$51,7,0)),\"\",VLOOKUP($A83,BATONS!AD$7:AJ$51,7,0))","v":""},{"$f":"IF($A83=\"\",\"\",VLOOKUP($A83,INSCRITS!$D$4:$W$506,12,0))","v":""},{"$f":"IF(ISNA(VLOOKUP($A83,PLANCHE!AC$7:AI$52,6,0)),\"\",VLOOKUP($A83,PLANCHE!AC$7:AI$52,6,0))","v":""},{"$f":"IF(ISNA(VLOOKUP($A83,PLANCHE!AC$7:AI$52,7,0)),\"\",VLOOKUP($A83,PLANCHE!AC$7:AI$52,7,0))","v":""},{"$f":"IF($A83=\"\",\"\",VLOOKUP($A83,INSCRITS!$D$4:$W$506,13,0))","v":""},{"$f":"IF(ISNA(VLOOKUP($A83,NAGE!N$7:T$52,6,0)),\"\",VLOOKUP($A83,NAGE!N$7:T$52,6,0))","v":""},{"$f":"IF(ISNA(VLOOKUP($A83,NAGE!N$7:T$52,7,0)),\"\",VLOOKUP($A83,NAGE!N$7:T$52,7,0))","v":""},{"$f":"IF($A83=\"\",\"\",VLOOKUP($A83,INSCRITS!$D$4:$W$506,14,0))","v":""},{"$f":"IF(ISNA(VLOOKUP($A83,SURFSKI!AC$8:AI$53,6,0)),\"\",VLOOKUP($A83,SURFSKI!AC$8:AI$53,6,0))","v":""},{"$f":"IF(ISNA(VLOOKUP($A83,SURFSKI!AC$8:AI$53,7,0)),\"\",VLOOKUP($A83,SURFSKI!AC$8:AI$53,7,0))","v":""},{"$f":"IF($A83=\"\",\"\",VLOOKUP($A83,INSCRITS!$D$4:$W$506,15,0))","v":""},{"$f":"IF(ISNA(VLOOKUP($A83,OCEANMAN!AD$7:AJ$52,6,0)),\"\",VLOOKUP($A83,OCEANMAN!AD$7:AJ$52,6,0))","v":""},{"$f":"IF(ISNA(VLOOKUP($A83,OCEANMAN!AD$7:AJ$52,7,0)),\"\",VLOOKUP($A83,OCEANMAN!AD$7:AJ$52,7,0))","v":""},{"$f":"IF($A83=\"\",\"\",VLOOKUP($A83,INSCRITS!$D$4:$W$506,16,0))","v":""},{"$f":"IF(ISNA(VLOOKUP($A83,CNC!N$7:AC$52,6,0)),\"\",VLOOKUP($A83,CNC!N$7:AC$52,6,0))","v":""},{"$f":"IF(ISNA(VLOOKUP($A83,CNC!N$7:AC$52,7,0)),\"\",VLOOKUP($A83,CNC!N$7:AC$52,7,0))","v":""},0,{"$f":"IF($A83=\"\",\"\",VLOOKUP($A83,INSCRITS!$D$4:$W$506,16,0))","v":""},null,{"$f":"IF(AG83=\"\",\"\",VLOOKUP(AG83,[0]!Relais,2))","v":""},{"$f":"IF($A83=\"\",\"\",VLOOKUP($A83,INSCRITS!$D$4:$W$506,17,0))","v":""},null,{"$f":"IF(AJ83=\"\",\"\",VLOOKUP(AJ83,[0]!Relais,2))","v":""},{"$f":"IF($A83=\"\",\"\",VLOOKUP($A83,INSCRITS!$D$4:$W$506,18,0))","v":""},null,{"$f":"IF(AM83=\"\",\"\",VLOOKUP(AM83,[0]!Relais,2))","v":""},{"$f":"IF($A83=\"\",\"\",VLOOKUP($A83,INSCRITS!$D$4:$W$506,19,0))","v":""},null,{"$f":"IF(AP83=\"\",\"\",VLOOKUP(AP83,[0]!Relais,2))","v":""},0,0]
[null,{"$f":"IF($A84=\"\",\"\",VLOOKUP($A84,INSCRITS!$D$4:$W$501,2,0))","v":""},{"$f":"IF($A84=\"\",\"\",VLOOKUP($A84,INSCRITS!$D$4:$W$501,3,0))","v":""},{"$f":"IF($A84=\"\",\"\",VLOOKUP($A84,INSCRITS!$D$4:$W$501,4,0))","v":""},{"$f":"IF($A84=\"\",\"\",VLOOKUP($A84,INSCRITS!$D$4:$W$501,5,0))","v":""},{"$f":"IF($A84=\"\",\"\",VLOOKUP($A84,INSCRITS!$D$4:$W$501,6,0))","v":""},{"$f":"IF($A84=\"\",\"\",VLOOKUP($A84,INSCRITS!$D$4:$W$501,7,0))","v":""},{"$f":"IF($A84=\"\",\"\",VLOOKUP($A84,INSCRITS!$D$4:$W$501,8,0))","v":""},{"$f":"IF($A84=\"\",\"\",VLOOKUP($A84,INSCRITS!$D$4:$W$501,9,0))","v":""},{"$f":"IF($A84=\"\",\"\",VLOOKUP($A84,INSCRITS!$D$4:$W$506,10,0))","v":""},{"$f":"IF(ISNA(VLOOKUP($A84,SPRINT!AD$7:AJ$50,6,0)),\"\",VLOOKUP($A84,SPRINT!AD$7:AJ$50,6,0))","v":""},{"$f":"IF(ISNA(VLOOKUP($A84,SPRINT!AD$7:AJ$50,7,0)),\"\",VLOOKUP($A84,SPRINT!AD$7:AJ$50,7,0))","v":""},{"$f":"IF($A84=\"\",\"\",VLOOKUP($A84,INSCRITS!$D$4:$W$506,11,0))","v":""},{"$f":"IF(ISNA(VLOOKUP($A84,BATONS!AD$7:AJ$51,6,0)),\"\",VLOOKUP($A84,BATONS!AD$7:AJ$51,6,0))","v":""},{"$f":"IF(ISNA(VLOOKUP($A84,BATONS!AD$7:AJ$51,7,0)),\"\",VLOOKUP($A84,BATONS!AD$7:AJ$51,7,0))","v":""},{"$f":"IF($A84=\"\",\"\",VLOOKUP($A84,INSCRITS!$D$4:$W$506,12,0))","v":""},{"$f":"IF(ISNA(VLOOKUP($A84,PLANCHE!AC$7:AI$52,6,0)),\"\",VLOOKUP($A84,PLANCHE!AC$7:AI$52,6,0))","v":""},{"$f":"IF(ISNA(VLOOKUP($A84,PLANCHE!AC$7:AI$52,7,0)),\"\",VLOOKUP($A84,PLANCHE!AC$7:AI$52,7,0))","v":""},{"$f":"IF($A84=\"\",\"\",VLOOKUP($A84,INSCRITS!$D$4:$W$506,13,0))","v":""},{"$f":"IF(ISNA(VLOOKUP($A84,NAGE!N$7:T$52,6,0)),\"\",VLOOKUP($A84,NAGE!N$7:T$52,6,0))","v":""},{"$f":"IF(ISNA(VLOOKUP($A84,NAGE!N$7:T$52,7,0)),\"\",VLOOKUP($A84,NAGE!N$7:T$52,7,0))","v":""},{"$f":"IF($A84=\"\",\"\",VLOOKUP($A84,INSCRITS!$D$4:$W$506,14,0))","v":""},{"$f":"IF(ISNA(VLOOKUP($A84,SURFSKI!AC$8:AI$53,6,0)),\"\",VLOOKUP($A84,SURFSKI!AC$8:AI$53,6,0))","v":""},{"$f":"IF(ISNA(VLOOKUP($A84,SURFSKI!AC$8:AI$53,7,0)),\"\",VLOOKUP($A84,SURFSKI!AC$8:AI$53,7,0))","v":""},{"$f":"IF($A84=\"\",\"\",VLOOKUP($A84,INSCRITS!$D$4:$W$506,15,0))","v":""},{"$f":"IF(ISNA(VLOOKUP($A84,OCEANMAN!AD$7:AJ$52,6,0)),\"\",VLOOKUP($A84,OCEANMAN!AD$7:AJ$52,6,0))","v":""},{"$f":"IF(ISNA(VLOOKUP($A84,OCEANMAN!AD$7:AJ$52,7,0)),\"\",VLOOKUP($A84,OCEANMAN!AD$7:AJ$52,7,0))","v":""},{"$f":"IF($A84=\"\",\"\",VLOOKUP($A84,INSCRITS!$D$4:$W$506,16,0))","v":""},{"$f":"IF(ISNA(VLOOKUP($A84,CNC!N$7:AC$52,6,0)),\"\",VLOOKUP($A84,CNC!N$7:AC$52,6,0))","v":""},{"$f":"IF(ISNA(VLOOKUP($A84,CNC!N$7:AC$52,7,0)),\"\",VLOOKUP($A84,CNC!N$7:AC$52,7,0))","v":""},0,{"$f":"IF($A84=\"\",\"\",VLOOKUP($A84,INSCRITS!$D$4:$W$506,16,0))","v":""},null,{"$f":"IF(AG84=\"\",\"\",VLOOKUP(AG84,[0]!Relais,2))","v":""},{"$f":"IF($A84=\"\",\"\",VLOOKUP($A84,INSCRITS!$D$4:$W$506,17,0))","v":""},null,{"$f":"IF(AJ84=\"\",\"\",VLOOKUP(AJ84,[0]!Relais,2))","v":""},{"$f":"IF($A84=\"\",\"\",VLOOKUP($A84,INSCRITS!$D$4:$W$506,18,0))","v":""},null,{"$f":"IF(AM84=\"\",\"\",VLOOKUP(AM84,[0]!Relais,2))","v":""},{"$f":"IF($A84=\"\",\"\",VLOOKUP($A84,INSCRITS!$D$4:$W$506,19,0))","v":""},null,{"$f":"IF(AP84=\"\",\"\",VLOOKUP(AP84,[0]!Relais,2))","v":""},0,0]
[null,{"$f":"IF($A85=\"\",\"\",VLOOKUP($A85,INSCRITS!$D$4:$W$501,2,0))","v":""},{"$f":"IF($A85=\"\",\"\",VLOOKUP($A85,INSCRITS!$D$4:$W$501,3,0))","v":""},{"$f":"IF($A85=\"\",\"\",VLOOKUP($A85,INSCRITS!$D$4:$W$501,4,0))","v":""},{"$f":"IF($A85=\"\",\"\",VLOOKUP($A85,INSCRITS!$D$4:$W$501,5,0))","v":""},{"$f":"IF($A85=\"\",\"\",VLOOKUP($A85,INSCRITS!$D$4:$W$501,6,0))","v":""},{"$f":"IF($A85=\"\",\"\",VLOOKUP($A85,INSCRITS!$D$4:$W$501,7,0))","v":""},{"$f":"IF($A85=\"\",\"\",VLOOKUP($A85,INSCRITS!$D$4:$W$501,8,0))","v":""},{"$f":"IF($A85=\"\",\"\",VLOOKUP($A85,INSCRITS!$D$4:$W$501,9,0))","v":""},{"$f":"IF($A85=\"\",\"\",VLOOKUP($A85,INSCRITS!$D$4:$W$506,10,0))","v":""},{"$f":"IF(ISNA(VLOOKUP($A85,SPRINT!AD$7:AJ$50,6,0)),\"\",VLOOKUP($A85,SPRINT!AD$7:AJ$50,6,0))","v":""},{"$f":"IF(ISNA(VLOOKUP($A85,SPRINT!AD$7:AJ$50,7,0)),\"\",VLOOKUP($A85,SPRINT!AD$7:AJ$50,7,0))","v":""},{"$f":"IF($A85=\"\",\"\",VLOOKUP($A85,INSCRITS!$D$4:$W$506,11,0))","v":""},{"$f":"IF(ISNA(VLOOKUP($A85,BATONS!AD$7:AJ$51,6,0)),\"\",VLOOKUP($A85,BATONS!AD$7:AJ$51,6,0))","v":""},{"$f":"IF(ISNA(VLOOKUP($A85,BATONS!AD$7:AJ$51,7,0)),\"\",VLOOKUP($A85,BATONS!AD$7:AJ$51,7,0))","v":""},{"$f":"IF($A85=\"\",\"\",VLOOKUP($A85,INSCRITS!$D$4:$W$506,12,0))","v":""},{"$f":"IF(ISNA(VLOOKUP($A85,PLANCHE!AC$7:AI$52,6,0)),\"\",VLOOKUP($A85,PLANCHE!AC$7:AI$52,6,0))","v":""},{"$f":"IF(ISNA(VLOOKUP($A85,PLANCHE!AC$7:AI$52,7,0)),\"\",VLOOKUP($A85,PLANCHE!AC$7:AI$52,7,0))","v":""},{"$f":"IF($A85=\"\",\"\",VLOOKUP($A85,INSCRITS!$D$4:$W$506,13,0))","v":""},{"$f":"IF(ISNA(VLOOKUP($A85,NAGE!N$7:T$52,6,0)),\"\",VLOOKUP($A85,NAGE!N$7:T$52,6,0))","v":""},{"$f":"IF(ISNA(VLOOKUP($A85,NAGE!N$7:T$52,7,0)),\"\",VLOOKUP($A85,NAGE!N$7:T$52,7,0))","v":""},{"$f":"IF($A85=\"\",\"\",VLOOKUP($A85,INSCRITS!$D$4:$W$506,14,0))","v":""},{"$f":"IF(ISNA(VLOOKUP($A85,SURFSKI!AC$8:AI$53,6,0)),\"\",VLOOKUP($A85,SURFSKI!AC$8:AI$53,6,0))","v":""},{"$f":"IF(ISNA(VLOOKUP($A85,SURFSKI!AC$8:AI$53,7,0)),\"\",VLOOKUP($A85,SURFSKI!AC$8:AI$53,7,0))","v":""},{"$f":"IF($A85=\"\",\"\",VLOOKUP($A85,INSCRITS!$D$4:$W$506,15,0))","v":""},{"$f":"IF(ISNA(VLOOKUP($A85,OCEANMAN!AD$7:AJ$52,6,0)),\"\",VLOOKUP($A85,OCEANMAN!AD$7:AJ$52,6,0))","v":""},{"$f":"IF(ISNA(VLOOKUP($A85,OCEANMAN!AD$7:AJ$52,7,0)),\"\",VLOOKUP($A85,OCEANMAN!AD$7:AJ$52,7,0))","v":""},{"$f":"IF($A85=\"\",\"\",VLOOKUP($A85,INSCRITS!$D$4:$W$506,16,0))","v":""},{"$f":"IF(ISNA(VLOOKUP($A85,CNC!N$7:AC$52,6,0)),\"\",VLOOKUP($A85,CNC!N$7:AC$52,6,0))","v":""},{"$f":"IF(ISNA(VLOOKUP($A85,CNC!N$7:AC$52,7,0)),\"\",VLOOKUP($A85,CNC!N$7:AC$52,7,0))","v":""},0,{"$f":"IF($A85=\"\",\"\",VLOOKUP($A85,INSCRITS!$D$4:$W$506,16,0))","v":""},null,{"$f":"IF(AG85=\"\",\"\",VLOOKUP(AG85,[0]!Relais,2))","v":""},{"$f":"IF($A85=\"\",\"\",VLOOKUP($A85,INSCRITS!$D$4:$W$506,17,0))","v":""},null,{"$f":"IF(AJ85=\"\",\"\",VLOOKUP(AJ85,[0]!Relais,2))","v":""},{"$f":"IF($A85=\"\",\"\",VLOOKUP($A85,INSCRITS!$D$4:$W$506,18,0))","v":""},null,{"$f":"IF(AM85=\"\",\"\",VLOOKUP(AM85,[0]!Relais,2))","v":""},{"$f":"IF($A85=\"\",\"\",VLOOKUP($A85,INSCRITS!$D$4:$W$506,19,0))","v":""},null,{"$f":"IF(AP85=\"\",\"\",VLOOKUP(AP85,[0]!Relais,2))","v":""},0,0]
[null,{"$f":"IF($A86=\"\",\"\",VLOOKUP($A86,INSCRITS!$D$4:$W$501,2,0))","v":""},{"$f":"IF($A86=\"\",\"\",VLOOKUP($A86,INSCRITS!$D$4:$W$501,3,0))","v":""},{"$f":"IF($A86=\"\",\"\",VLOOKUP($A86,INSCRITS!$D$4:$W$501,4,0))","v":""},{"$f":"IF($A86=\"\",\"\",VLOOKUP($A86,INSCRITS!$D$4:$W$501,5,0))","v":""},{"$f":"IF($A86=\"\",\"\",VLOOKUP($A86,INSCRITS!$D$4:$W$501,6,0))","v":""},{"$f":"IF($A86=\"\",\"\",VLOOKUP($A86,INSCRITS!$D$4:$W$501,7,0))","v":""},{"$f":"IF($A86=\"\",\"\",VLOOKUP($A86,INSCRITS!$D$4:$W$501,8,0))","v":""},{"$f":"IF($A86=\"\",\"\",VLOOKUP($A86,INSCRITS!$D$4:$W$501,9,0))","v":""},{"$f":"IF($A86=\"\",\"\",VLOOKUP($A86,INSCRITS!$D$4:$W$506,10,0))","v":""},{"$f":"IF(ISNA(VLOOKUP($A86,SPRINT!AD$7:AJ$50,6,0)),\"\",VLOOKUP($A86,SPRINT!AD$7:AJ$50,6,0))","v":""},{"$f":"IF(ISNA(VLOOKUP($A86,SPRINT!AD$7:AJ$50,7,0)),\"\",VLOOKUP($A86,SPRINT!AD$7:AJ$50,7,0))","v":""},{"$f":"IF($A86=\"\",\"\",VLOOKUP($A86,INSCRITS!$D$4:$W$506,11,0))","v":""},{"$f":"IF(ISNA(VLOOKUP($A86,BATONS!AD$7:AJ$51,6,0)),\"\",VLOOKUP($A86,BATONS!AD$7:AJ$51,6,0))","v":""},{"$f":"IF(ISNA(VLOOKUP($A86,BATONS!AD$7:AJ$51,7,0)),\"\",VLOOKUP($A86,BATONS!AD$7:AJ$51,7,0))","v":""},{"$f":"IF($A86=\"\",\"\",VLOOKUP($A86,INSCRITS!$D$4:$W$506,12,0))","v":""},{"$f":"IF(ISNA(VLOOKUP($A86,PLANCHE!AC$7:AI$52,6,0)),\"\",VLOOKUP($A86,PLANCHE!AC$7:AI$52,6,0))","v":""},{"$f":"IF(ISNA(VLOOKUP($A86,PLANCHE!AC$7:AI$52,7,0)),\"\",VLOOKUP($A86,PLANCHE!AC$7:AI$52,7,0))","v":""},{"$f":"IF($A86=\"\",\"\",VLOOKUP($A86,INSCRITS!$D$4:$W$506,13,0))","v":""},{"$f":"IF(ISNA(VLOOKUP($A86,NAGE!N$7:T$52,6,0)),\"\",VLOOKUP($A86,NAGE!N$7:T$52,6,0))","v":""},{"$f":"IF(ISNA(VLOOKUP($A86,NAGE!N$7:T$52,7,0)),\"\",VLOOKUP($A86,NAGE!N$7:T$52,7,0))","v":""},{"$f":"IF($A86=\"\",\"\",VLOOKUP($A86,INSCRITS!$D$4:$W$506,14,0))","v":""},{"$f":"IF(ISNA(VLOOKUP($A86,SURFSKI!AC$8:AI$53,6,0)),\"\",VLOOKUP($A86,SURFSKI!AC$8:AI$53,6,0))","v":""},{"$f":"IF(ISNA(VLOOKUP($A86,SURFSKI!AC$8:AI$53,7,0)),\"\",VLOOKUP($A86,SURFSKI!AC$8:AI$53,7,0))","v":""},{"$f":"IF($A86=\"\",\"\",VLOOKUP($A86,INSCRITS!$D$4:$W$506,15,0))","v":""},{"$f":"IF(ISNA(VLOOKUP($A86,OCEANMAN!AD$7:AJ$52,6,0)),\"\",VLOOKUP($A86,OCEANMAN!AD$7:AJ$52,6,0))","v":""},{"$f":"IF(ISNA(VLOOKUP($A86,OCEANMAN!AD$7:AJ$52,7,0)),\"\",VLOOKUP($A86,OCEANMAN!AD$7:AJ$52,7,0))","v":""},{"$f":"IF($A86=\"\",\"\",VLOOKUP($A86,INSCRITS!$D$4:$W$506,16,0))","v":""},{"$f":"IF(ISNA(VLOOKUP($A86,CNC!N$7:AC$52,6,0)),\"\",VLOOKUP($A86,CNC!N$7:AC$52,6,0))","v":""},{"$f":"IF(ISNA(VLOOKUP($A86,CNC!N$7:AC$52,7,0)),\"\",VLOOKUP($A86,CNC!N$7:AC$52,7,0))","v":""},0,{"$f":"IF($A86=\"\",\"\",VLOOKUP($A86,INSCRITS!$D$4:$W$506,16,0))","v":""},null,{"$f":"IF(AG86=\"\",\"\",VLOOKUP(AG86,[0]!Relais,2))","v":""},{"$f":"IF($A86=\"\",\"\",VLOOKUP($A86,INSCRITS!$D$4:$W$506,17,0))","v":""},null,{"$f":"IF(AJ86=\"\",\"\",VLOOKUP(AJ86,[0]!Relais,2))","v":""},{"$f":"IF($A86=\"\",\"\",VLOOKUP($A86,INSCRITS!$D$4:$W$506,18,0))","v":""},null,{"$f":"IF(AM86=\"\",\"\",VLOOKUP(AM86,[0]!Relais,2))","v":""},{"$f":"IF($A86=\"\",\"\",VLOOKUP($A86,INSCRITS!$D$4:$W$506,19,0))","v":""},null,{"$f":"IF(AP86=\"\",\"\",VLOOKUP(AP86,[0]!Relais,2))","v":""},0,0]
[null,{"$f":"IF($A87=\"\",\"\",VLOOKUP($A87,INSCRITS!$D$4:$W$501,2,0))","v":""},{"$f":"IF($A87=\"\",\"\",VLOOKUP($A87,INSCRITS!$D$4:$W$501,3,0))","v":""},{"$f":"IF($A87=\"\",\"\",VLOOKUP($A87,INSCRITS!$D$4:$W$501,4,0))","v":""},{"$f":"IF($A87=\"\",\"\",VLOOKUP($A87,INSCRITS!$D$4:$W$501,5,0))","v":""},{"$f":"IF($A87=\"\",\"\",VLOOKUP($A87,INSCRITS!$D$4:$W$501,6,0))","v":""},{"$f":"IF($A87=\"\",\"\",VLOOKUP($A87,INSCRITS!$D$4:$W$501,7,0))","v":""},{"$f":"IF($A87=\"\",\"\",VLOOKUP($A87,INSCRITS!$D$4:$W$501,8,0))","v":""},{"$f":"IF($A87=\"\",\"\",VLOOKUP($A87,INSCRITS!$D$4:$W$501,9,0))","v":""},{"$f":"IF($A87=\"\",\"\",VLOOKUP($A87,INSCRITS!$D$4:$W$506,10,0))","v":""},{"$f":"IF(ISNA(VLOOKUP($A87,SPRINT!AD$7:AJ$50,6,0)),\"\",VLOOKUP($A87,SPRINT!AD$7:AJ$50,6,0))","v":""},{"$f":"IF(ISNA(VLOOKUP($A87,SPRINT!AD$7:AJ$50,7,0)),\"\",VLOOKUP($A87,SPRINT!AD$7:AJ$50,7,0))","v":""},{"$f":"IF($A87=\"\",\"\",VLOOKUP($A87,INSCRITS!$D$4:$W$506,11,0))","v":""},{"$f":"IF(ISNA(VLOOKUP($A87,BATONS!AD$7:AJ$51,6,0)),\"\",VLOOKUP($A87,BATONS!AD$7:AJ$51,6,0))","v":""},{"$f":"IF(ISNA(VLOOKUP($A87,BATONS!AD$7:AJ$51,7,0)),\"\",VLOOKUP($A87,BATONS!AD$7:AJ$51,7,0))","v":""},{"$f":"IF($A87=\"\",\"\",VLOOKUP($A87,INSCRITS!$D$4:$W$506,12,0))","v":""},{"$f":"IF(ISNA(VLOOKUP($A87,PLANCHE!AC$7:AI$52,6,0)),\"\",VLOOKUP($A87,PLANCHE!AC$7:AI$52,6,0))","v":""},{"$f":"IF(ISNA(VLOOKUP($A87,PLANCHE!AC$7:AI$52,7,0)),\"\",VLOOKUP($A87,PLANCHE!AC$7:AI$52,7,0))","v":""},{"$f":"IF($A87=\"\",\"\",VLOOKUP($A87,INSCRITS!$D$4:$W$506,13,0))","v":""},{"$f":"IF(ISNA(VLOOKUP($A87,NAGE!N$7:T$52,6,0)),\"\",VLOOKUP($A87,NAGE!N$7:T$52,6,0))","v":""},{"$f":"IF(ISNA(VLOOKUP($A87,NAGE!N$7:T$52,7,0)),\"\",VLOOKUP($A87,NAGE!N$7:T$52,7,0))","v":""},{"$f":"IF($A87=\"\",\"\",VLOOKUP($A87,INSCRITS!$D$4:$W$506,14,0))","v":""},{"$f":"IF(ISNA(VLOOKUP($A87,SURFSKI!AC$8:AI$53,6,0)),\"\",VLOOKUP($A87,SURFSKI!AC$8:AI$53,6,0))","v":""},{"$f":"IF(ISNA(VLOOKUP($A87,SURFSKI!AC$8:AI$53,7,0)),\"\",VLOOKUP($A87,SURFSKI!AC$8:AI$53,7,0))","v":""},{"$f":"IF($A87=\"\",\"\",VLOOKUP($A87,INSCRITS!$D$4:$W$506,15,0))","v":""},{"$f":"IF(ISNA(VLOOKUP($A87,OCEANMAN!AD$7:AJ$52,6,0)),\"\",VLOOKUP($A87,OCEANMAN!AD$7:AJ$52,6,0))","v":""},{"$f":"IF(ISNA(VLOOKUP($A87,OCEANMAN!AD$7:AJ$52,7,0)),\"\",VLOOKUP($A87,OCEANMAN!AD$7:AJ$52,7,0))","v":""},{"$f":"IF($A87=\"\",\"\",VLOOKUP($A87,INSCRITS!$D$4:$W$506,16,0))","v":""},{"$f":"IF(ISNA(VLOOKUP($A87,CNC!N$7:AC$52,6,0)),\"\",VLOOKUP($A87,CNC!N$7:AC$52,6,0))","v":""},{"$f":"IF(ISNA(VLOOKUP($A87,CNC!N$7:AC$52,7,0)),\"\",VLOOKUP($A87,CNC!N$7:AC$52,7,0))","v":""},0,{"$f":"IF($A87=\"\",\"\",VLOOKUP($A87,INSCRITS!$D$4:$W$506,16,0))","v":""},null,{"$f":"IF(AG87=\"\",\"\",VLOOKUP(AG87,[0]!Relais,2))","v":""},{"$f":"IF($A87=\"\",\"\",VLOOKUP($A87,INSCRITS!$D$4:$W$506,17,0))","v":""},null,{"$f":"IF(AJ87=\"\",\"\",VLOOKUP(AJ87,[0]!Relais,2))","v":""},{"$f":"IF($A87=\"\",\"\",VLOOKUP($A87,INSCRITS!$D$4:$W$506,18,0))","v":""},null,{"$f":"IF(AM87=\"\",\"\",VLOOKUP(AM87,[0]!Relais,2))","v":""},{"$f":"IF($A87=\"\",\"\",VLOOKUP($A87,INSCRITS!$D$4:$W$506,19,0))","v":""},null,{"$f":"IF(AP87=\"\",\"\",VLOOKUP(AP87,[0]!Relais,2))","v":""},0,0]
[null,{"$f":"IF($A88=\"\",\"\",VLOOKUP($A88,INSCRITS!$D$4:$W$501,2,0))","v":""},{"$f":"IF($A88=\"\",\"\",VLOOKUP($A88,INSCRITS!$D$4:$W$501,3,0))","v":""},{"$f":"IF($A88=\"\",\"\",VLOOKUP($A88,INSCRITS!$D$4:$W$501,4,0))","v":""},{"$f":"IF($A88=\"\",\"\",VLOOKUP($A88,INSCRITS!$D$4:$W$501,5,0))","v":""},{"$f":"IF($A88=\"\",\"\",VLOOKUP($A88,INSCRITS!$D$4:$W$501,6,0))","v":""},{"$f":"IF($A88=\"\",\"\",VLOOKUP($A88,INSCRITS!$D$4:$W$501,7,0))","v":""},{"$f":"IF($A88=\"\",\"\",VLOOKUP($A88,INSCRITS!$D$4:$W$501,8,0))","v":""},{"$f":"IF($A88=\"\",\"\",VLOOKUP($A88,INSCRITS!$D$4:$W$501,9,0))","v":""},{"$f":"IF($A88=\"\",\"\",VLOOKUP($A88,INSCRITS!$D$4:$W$506,10,0))","v":""},{"$f":"IF(ISNA(VLOOKUP($A88,SPRINT!AD$7:AJ$50,6,0)),\"\",VLOOKUP($A88,SPRINT!AD$7:AJ$50,6,0))","v":""},{"$f":"IF(ISNA(VLOOKUP($A88,SPRINT!AD$7:AJ$50,7,0)),\"\",VLOOKUP($A88,SPRINT!AD$7:AJ$50,7,0))","v":""},{"$f":"IF($A88=\"\",\"\",VLOOKUP($A88,INSCRITS!$D$4:$W$506,11,0))","v":""},{"$f":"IF(ISNA(VLOOKUP($A88,BATONS!AD$7:AJ$51,6,0)),\"\",VLOOKUP($A88,BATONS!AD$7:AJ$51,6,0))","v":""},{"$f":"IF(ISNA(VLOOKUP($A88,BATONS!AD$7:AJ$51,7,0)),\"\",VLOOKUP($A88,BATONS!AD$7:AJ$51,7,0))","v":""},{"$f":"IF($A88=\"\",\"\",VLOOKUP($A88,INSCRITS!$D$4:$W$506,12,0))","v":""},{"$f":"IF(ISNA(VLOOKUP($A88,PLANCHE!AC$7:AI$52,6,0)),\"\",VLOOKUP($A88,PLANCHE!AC$7:AI$52,6,0))","v":""},{"$f":"IF(ISNA(VLOOKUP($A88,PLANCHE!AC$7:AI$52,7,0)),\"\",VLOOKUP($A88,PLANCHE!AC$7:AI$52,7,0))","v":""},{"$f":"IF($A88=\"\",\"\",VLOOKUP($A88,INSCRITS!$D$4:$W$506,13,0))","v":""},{"$f":"IF(ISNA(VLOOKUP($A88,NAGE!N$7:T$52,6,0)),\"\",VLOOKUP($A88,NAGE!N$7:T$52,6,0))","v":""},{"$f":"IF(ISNA(VLOOKUP($A88,NAGE!N$7:T$52,7,0)),\"\",VLOOKUP($A88,NAGE!N$7:T$52,7,0))","v":""},{"$f":"IF($A88=\"\",\"\",VLOOKUP($A88,INSCRITS!$D$4:$W$506,14,0))","v":""},{"$f":"IF(ISNA(VLOOKUP($A88,SURFSKI!AC$8:AI$53,6,0)),\"\",VLOOKUP($A88,SURFSKI!AC$8:AI$53,6,0))","v":""},{"$f":"IF(ISNA(VLOOKUP($A88,SURFSKI!AC$8:AI$53,7,0)),\"\",VLOOKUP($A88,SURFSKI!AC$8:AI$53,7,0))","v":""},{"$f":"IF($A88=\"\",\"\",VLOOKUP($A88,INSCRITS!$D$4:$W$506,15,0))","v":""},{"$f":"IF(ISNA(VLOOKUP($A88,OCEANMAN!AD$7:AJ$52,6,0)),\"\",VLOOKUP($A88,OCEANMAN!AD$7:AJ$52,6,0))","v":""},{"$f":"IF(ISNA(VLOOKUP($A88,OCEANMAN!AD$7:AJ$52,7,0)),\"\",VLOOKUP($A88,OCEANMAN!AD$7:AJ$52,7,0))","v":""},{"$f":"IF($A88=\"\",\"\",VLOOKUP($A88,INSCRITS!$D$4:$W$506,16,0))","v":""},{"$f":"IF(ISNA(VLOOKUP($A88,CNC!N$7:AC$52,6,0)),\"\",VLOOKUP($A88,CNC!N$7:AC$52,6,0))","v":""},{"$f":"IF(ISNA(VLOOKUP($A88,CNC!N$7:AC$52,7,0)),\"\",VLOOKUP($A88,CNC!N$7:AC$52,7,0))","v":""},0,{"$f":"IF($A88=\"\",\"\",VLOOKUP($A88,INSCRITS!$D$4:$W$506,16,0))","v":""},null,{"$f":"IF(AG88=\"\",\"\",VLOOKUP(AG88,[0]!Relais,2))","v":""},{"$f":"IF($A88=\"\",\"\",VLOOKUP($A88,INSCRITS!$D$4:$W$506,17,0))","v":""},null,{"$f":"IF(AJ88=\"\",\"\",VLOOKUP(AJ88,[0]!Relais,2))","v":""},{"$f":"IF($A88=\"\",\"\",VLOOKUP($A88,INSCRITS!$D$4:$W$506,18,0))","v":""},null,{"$f":"IF(AM88=\"\",\"\",VLOOKUP(AM88,[0]!Relais,2))","v":""},{"$f":"IF($A88=\"\",\"\",VLOOKUP($A88,INSCRITS!$D$4:$W$506,19,0))","v":""},null,{"$f":"IF(AP88=\"\",\"\",VLOOKUP(AP88,[0]!Relais,2))","v":""},0,0]
[null,{"$f":"IF($A89=\"\",\"\",VLOOKUP($A89,INSCRITS!$D$4:$W$501,2,0))","v":""},{"$f":"IF($A89=\"\",\"\",VLOOKUP($A89,INSCRITS!$D$4:$W$501,3,0))","v":""},{"$f":"IF($A89=\"\",\"\",VLOOKUP($A89,INSCRITS!$D$4:$W$501,4,0))","v":""},{"$f":"IF($A89=\"\",\"\",VLOOKUP($A89,INSCRITS!$D$4:$W$501,5,0))","v":""},{"$f":"IF($A89=\"\",\"\",VLOOKUP($A89,INSCRITS!$D$4:$W$501,6,0))","v":""},{"$f":"IF($A89=\"\",\"\",VLOOKUP($A89,INSCRITS!$D$4:$W$501,7,0))","v":""},{"$f":"IF($A89=\"\",\"\",VLOOKUP($A89,INSCRITS!$D$4:$W$501,8,0))","v":""},{"$f":"IF($A89=\"\",\"\",VLOOKUP($A89,INSCRITS!$D$4:$W$501,9,0))","v":""},{"$f":"IF($A89=\"\",\"\",VLOOKUP($A89,INSCRITS!$D$4:$W$506,10,0))","v":""},{"$f":"IF(ISNA(VLOOKUP($A89,SPRINT!AD$7:AJ$50,6,0)),\"\",VLOOKUP($A89,SPRINT!AD$7:AJ$50,6,0))","v":""},{"$f":"IF(ISNA(VLOOKUP($A89,SPRINT!AD$7:AJ$50,7,0)),\"\",VLOOKUP($A89,SPRINT!AD$7:AJ$50,7,0))","v":""},{"$f":"IF($A89=\"\",\"\",VLOOKUP($A89,INSCRITS!$D$4:$W$506,11,0))","v":""},{"$f":"IF(ISNA(VLOOKUP($A89,BATONS!AD$7:AJ$51,6,0)),\"\",VLOOKUP($A89,BATONS!AD$7:AJ$51,6,0))","v":""},{"$f":"IF(ISNA(VLOOKUP($A89,BATONS!AD$7:AJ$51,7,0)),\"\",VLOOKUP($A89,BATONS!AD$7:AJ$51,7,0))","v":""},{"$f":"IF($A89=\"\",\"\",VLOOKUP($A89,INSCRITS!$D$4:$W$506,12,0))","v":""},{"$f":"IF(ISNA(VLOOKUP($A89,PLANCHE!AC$7:AI$52,6,0)),\"\",VLOOKUP($A89,PLANCHE!AC$7:AI$52,6,0))","v":""},{"$f":"IF(ISNA(VLOOKUP($A89,PLANCHE!AC$7:AI$52,7,0)),\"\",VLOOKUP($A89,PLANCHE!AC$7:AI$52,7,0))","v":""},{"$f":"IF($A89=\"\",\"\",VLOOKUP($A89,INSCRITS!$D$4:$W$506,13,0))","v":""},{"$f":"IF(ISNA(VLOOKUP($A89,NAGE!N$7:T$52,6,0)),\"\",VLOOKUP($A89,NAGE!N$7:T$52,6,0))","v":""},{"$f":"IF(ISNA(VLOOKUP($A89,NAGE!N$7:T$52,7,0)),\"\",VLOOKUP($A89,NAGE!N$7:T$52,7,0))","v":""},{"$f":"IF($A89=\"\",\"\",VLOOKUP($A89,INSCRITS!$D$4:$W$506,14,0))","v":""},{"$f":"IF(ISNA(VLOOKUP($A89,SURFSKI!AC$8:AI$53,6,0)),\"\",VLOOKUP($A89,SURFSKI!AC$8:AI$53,6,0))","v":""},{"$f":"IF(ISNA(VLOOKUP($A89,SURFSKI!AC$8:AI$53,7,0)),\"\",VLOOKUP($A89,SURFSKI!AC$8:AI$53,7,0))","v":""},{"$f":"IF($A89=\"\",\"\",VLOOKUP($A89,INSCRITS!$D$4:$W$506,15,0))","v":""},{"$f":"IF(ISNA(VLOOKUP($A89,OCEANMAN!AD$7:AJ$52,6,0)),\"\",VLOOKUP($A89,OCEANMAN!AD$7:AJ$52,6,0))","v":""},{"$f":"IF(ISNA(VLOOKUP($A89,OCEANMAN!AD$7:AJ$52,7,0)),\"\",VLOOKUP($A89,OCEANMAN!AD$7:AJ$52,7,0))","v":""},{"$f":"IF($A89=\"\",\"\",VLOOKUP($A89,INSCRITS!$D$4:$W$506,16,0))","v":""},{"$f":"IF(ISNA(VLOOKUP($A89,CNC!N$7:AC$52,6,0)),\"\",VLOOKUP($A89,CNC!N$7:AC$52,6,0))","v":""},{"$f":"IF(ISNA(VLOOKUP($A89,CNC!N$7:AC$52,7,0)),\"\",VLOOKUP($A89,CNC!N$7:AC$52,7,0))","v":""},0,{"$f":"IF($A89=\"\",\"\",VLOOKUP($A89,INSCRITS!$D$4:$W$506,16,0))","v":""},null,{"$f":"IF(AG89=\"\",\"\",VLOOKUP(AG89,[0]!Relais,2))","v":""},{"$f":"IF($A89=\"\",\"\",VLOOKUP($A89,INSCRITS!$D$4:$W$506,17,0))","v":""},null,{"$f":"IF(AJ89=\"\",\"\",VLOOKUP(AJ89,[0]!Relais,2))","v":""},{"$f":"IF($A89=\"\",\"\",VLOOKUP($A89,INSCRITS!$D$4:$W$506,18,0))","v":""},null,{"$f":"IF(AM89=\"\",\"\",VLOOKUP(AM89,[0]!Relais,2))","v":""},{"$f":"IF($A89=\"\",\"\",VLOOKUP($A89,INSCRITS!$D$4:$W$506,19,0))","v":""},null,{"$f":"IF(AP89=\"\",\"\",VLOOKUP(AP89,[0]!Relais,2))","v":""},0,0]
[null,{"$f":"IF($A90=\"\",\"\",VLOOKUP($A90,INSCRITS!$D$4:$W$501,2,0))","v":""},{"$f":"IF($A90=\"\",\"\",VLOOKUP($A90,INSCRITS!$D$4:$W$501,3,0))","v":""},{"$f":"IF($A90=\"\",\"\",VLOOKUP($A90,INSCRITS!$D$4:$W$501,4,0))","v":""},{"$f":"IF($A90=\"\",\"\",VLOOKUP($A90,INSCRITS!$D$4:$W$501,5,0))","v":""},{"$f":"IF($A90=\"\",\"\",VLOOKUP($A90,INSCRITS!$D$4:$W$501,6,0))","v":""},{"$f":"IF($A90=\"\",\"\",VLOOKUP($A90,INSCRITS!$D$4:$W$501,7,0))","v":""},{"$f":"IF($A90=\"\",\"\",VLOOKUP($A90,INSCRITS!$D$4:$W$501,8,0))","v":""},{"$f":"IF($A90=\"\",\"\",VLOOKUP($A90,INSCRITS!$D$4:$W$501,9,0))","v":""},{"$f":"IF($A90=\"\",\"\",VLOOKUP($A90,INSCRITS!$D$4:$W$506,10,0))","v":""},{"$f":"IF(ISNA(VLOOKUP($A90,SPRINT!AD$7:AJ$50,6,0)),\"\",VLOOKUP($A90,SPRINT!AD$7:AJ$50,6,0))","v":""},{"$f":"IF(ISNA(VLOOKUP($A90,SPRINT!AD$7:AJ$50,7,0)),\"\",VLOOKUP($A90,SPRINT!AD$7:AJ$50,7,0))","v":""},{"$f":"IF($A90=\"\",\"\",VLOOKUP($A90,INSCRITS!$D$4:$W$506,11,0))","v":""},{"$f":"IF(ISNA(VLOOKUP($A90,BATONS!AD$7:AJ$51,6,0)),\"\",VLOOKUP($A90,BATONS!AD$7:AJ$51,6,0))","v":""},{"$f":"IF(ISNA(VLOOKUP($A90,BATONS!AD$7:AJ$51,7,0)),\"\",VLOOKUP($A90,BATONS!AD$7:AJ$51,7,0))","v":""},{"$f":"IF($A90=\"\",\"\",VLOOKUP($A90,INSCRITS!$D$4:$W$506,12,0))","v":""},{"$f":"IF(ISNA(VLOOKUP($A90,PLANCHE!AC$7:AI$52,6,0)),\"\",VLOOKUP($A90,PLANCHE!AC$7:AI$52,6,0))","v":""},{"$f":"IF(ISNA(VLOOKUP($A90,PLANCHE!AC$7:AI$52,7,0)),\"\",VLOOKUP($A90,PLANCHE!AC$7:AI$52,7,0))","v":""},{"$f":"IF($A90=\"\",\"\",VLOOKUP($A90,INSCRITS!$D$4:$W$506,13,0))","v":""},{"$f":"IF(ISNA(VLOOKUP($A90,NAGE!N$7:T$52,6,0)),\"\",VLOOKUP($A90,NAGE!N$7:T$52,6,0))","v":""},{"$f":"IF(ISNA(VLOOKUP($A90,NAGE!N$7:T$52,7,0)),\"\",VLOOKUP($A90,NAGE!N$7:T$52,7,0))","v":""},{"$f":"IF($A90=\"\",\"\",VLOOKUP($A90,INSCRITS!$D$4:$W$506,14,0))","v":""},{"$f":"IF(ISNA(VLOOKUP($A90,SURFSKI!AC$8:AI$53,6,0)),\"\",VLOOKUP($A90,SURFSKI!AC$8:AI$53,6,0))","v":""},{"$f":"IF(ISNA(VLOOKUP($A90,SURFSKI!AC$8:AI$53,7,0)),\"\",VLOOKUP($A90,SURFSKI!AC$8:AI$53,7,0))","v":""},{"$f":"IF($A90=\"\",\"\",VLOOKUP($A90,INSCRITS!$D$4:$W$506,15,0))","v":""},{"$f":"IF(ISNA(VLOOKUP($A90,OCEANMAN!AD$7:AJ$52,6,0)),\"\",VLOOKUP($A90,OCEANMAN!AD$7:AJ$52,6,0))","v":""},{"$f":"IF(ISNA(VLOOKUP($A90,OCEANMAN!AD$7:AJ$52,7,0)),\"\",VLOOKUP($A90,OCEANMAN!AD$7:AJ$52,7,0))","v":""},{"$f":"IF($A90=\"\",\"\",VLOOKUP($A90,INSCRITS!$D$4:$W$506,16,0))","v":""},{"$f":"IF(ISNA(VLOOKUP($A90,CNC!N$7:AC$52,6,0)),\"\",VLOOKUP($A90,CNC!N$7:AC$52,6,0))","v":""},{"$f":"IF(ISNA(VLOOKUP($A90,CNC!N$7:AC$52,7,0)),\"\",VLOOKUP($A90,CNC!N$7:AC$52,7,0))","v":""},0,{"$f":"IF($A90=\"\",\"\",VLOOKUP($A90,INSCRITS!$D$4:$W$506,16,0))","v":""},null,{"$f":"IF(AG90=\"\",\"\",VLOOKUP(AG90,[0]!Relais,2))","v":""},{"$f":"IF($A90=\"\",\"\",VLOOKUP($A90,INSCRITS!$D$4:$W$506,17,0))","v":""},null,{"$f":"IF(AJ90=\"\",\"\",VLOOKUP(AJ90,[0]!Relais,2))","v":""},{"$f":"IF($A90=\"\",\"\",VLOOKUP($A90,INSCRITS!$D$4:$W$506,18,0))","v":""},null,{"$f":"IF(AM90=\"\",\"\",VLOOKUP(AM90,[0]!Relais,2))","v":""},{"$f":"IF($A90=\"\",\"\",VLOOKUP($A90,INSCRITS!$D$4:$W$506,19,0))","v":""},null,{"$f":"IF(AP90=\"\",\"\",VLOOKUP(AP90,[0]!Relais,2))","v":""},0,0]
[null,{"$f":"IF($A91=\"\",\"\",VLOOKUP($A91,INSCRITS!$D$4:$W$501,2,0))","v":""},{"$f":"IF($A91=\"\",\"\",VLOOKUP($A91,INSCRITS!$D$4:$W$501,3,0))","v":""},{"$f":"IF($A91=\"\",\"\",VLOOKUP($A91,INSCRITS!$D$4:$W$501,4,0))","v":""},{"$f":"IF($A91=\"\",\"\",VLOOKUP($A91,INSCRITS!$D$4:$W$501,5,0))","v":""},{"$f":"IF($A91=\"\",\"\",VLOOKUP($A91,INSCRITS!$D$4:$W$501,6,0))","v":""},{"$f":"IF($A91=\"\",\"\",VLOOKUP($A91,INSCRITS!$D$4:$W$501,7,0))","v":""},{"$f":"IF($A91=\"\",\"\",VLOOKUP($A91,INSCRITS!$D$4:$W$501,8,0))","v":""},{"$f":"IF($A91=\"\",\"\",VLOOKUP($A91,INSCRITS!$D$4:$W$501,9,0))","v":""},{"$f":"IF($A91=\"\",\"\",VLOOKUP($A91,INSCRITS!$D$4:$W$506,10,0))","v":""},{"$f":"IF(ISNA(VLOOKUP($A91,SPRINT!AD$7:AJ$50,6,0)),\"\",VLOOKUP($A91,SPRINT!AD$7:AJ$50,6,0))","v":""},{"$f":"IF(ISNA(VLOOKUP($A91,SPRINT!AD$7:AJ$50,7,0)),\"\",VLOOKUP($A91,SPRINT!AD$7:AJ$50,7,0))","v":""},{"$f":"IF($A91=\"\",\"\",VLOOKUP($A91,INSCRITS!$D$4:$W$506,11,0))","v":""},{"$f":"IF(ISNA(VLOOKUP($A91,BATONS!AD$7:AJ$51,6,0)),\"\",VLOOKUP($A91,BATONS!AD$7:AJ$51,6,0))","v":""},{"$f":"IF(ISNA(VLOOKUP($A91,BATONS!AD$7:AJ$51,7,0)),\"\",VLOOKUP($A91,BATONS!AD$7:AJ$51,7,0))","v":""},{"$f":"IF($A91=\"\",\"\",VLOOKUP($A91,INSCRITS!$D$4:$W$506,12,0))","v":""},{"$f":"IF(ISNA(VLOOKUP($A91,PLANCHE!AC$7:AI$52,6,0)),\"\",VLOOKUP($A91,PLANCHE!AC$7:AI$52,6,0))","v":""},{"$f":"IF(ISNA(VLOOKUP($A91,PLANCHE!AC$7:AI$52,7,0)),\"\",VLOOKUP($A91,PLANCHE!AC$7:AI$52,7,0))","v":""},{"$f":"IF($A91=\"\",\"\",VLOOKUP($A91,INSCRITS!$D$4:$W$506,13,0))","v":""},{"$f":"IF(ISNA(VLOOKUP($A91,NAGE!N$7:T$52,6,0)),\"\",VLOOKUP($A91,NAGE!N$7:T$52,6,0))","v":""},{"$f":"IF(ISNA(VLOOKUP($A91,NAGE!N$7:T$52,7,0)),\"\",VLOOKUP($A91,NAGE!N$7:T$52,7,0))","v":""},{"$f":"IF($A91=\"\",\"\",VLOOKUP($A91,INSCRITS!$D$4:$W$506,14,0))","v":""},{"$f":"IF(ISNA(VLOOKUP($A91,SURFSKI!AC$8:AI$53,6,0)),\"\",VLOOKUP($A91,SURFSKI!AC$8:AI$53,6,0))","v":""},{"$f":"IF(ISNA(VLOOKUP($A91,SURFSKI!AC$8:AI$53,7,0)),\"\",VLOOKUP($A91,SURFSKI!AC$8:AI$53,7,0))","v":""},{"$f":"IF($A91=\"\",\"\",VLOOKUP($A91,INSCRITS!$D$4:$W$506,15,0))","v":""},{"$f":"IF(ISNA(VLOOKUP($A91,OCEANMAN!AD$7:AJ$52,6,0)),\"\",VLOOKUP($A91,OCEANMAN!AD$7:AJ$52,6,0))","v":""},{"$f":"IF(ISNA(VLOOKUP($A91,OCEANMAN!AD$7:AJ$52,7,0)),\"\",VLOOKUP($A91,OCEANMAN!AD$7:AJ$52,7,0))","v":""},{"$f":"IF($A91=\"\",\"\",VLOOKUP($A91,INSCRITS!$D$4:$W$506,16,0))","v":""},{"$f":"IF(ISNA(VLOOKUP($A91,CNC!N$7:AC$52,6,0)),\"\",VLOOKUP($A91,CNC!N$7:AC$52,6,0))","v":""},{"$f":"IF(ISNA(VLOOKUP($A91,CNC!N$7:AC$52,7,0)),\"\",VLOOKUP($A91,CNC!N$7:AC$52,7,0))","v":""},0,{"$f":"IF($A91=\"\",\"\",VLOOKUP($A91,INSCRITS!$D$4:$W$506,16,0))","v":""},null,{"$f":"IF(AG91=\"\",\"\",VLOOKUP(AG91,[0]!Relais,2))","v":""},{"$f":"IF($A91=\"\",\"\",VLOOKUP($A91,INSCRITS!$D$4:$W$506,17,0))","v":""},null,{"$f":"IF(AJ91=\"\",\"\",VLOOKUP(AJ91,[0]!Relais,2))","v":""},{"$f":"IF($A91=\"\",\"\",VLOOKUP($A91,INSCRITS!$D$4:$W$506,18,0))","v":""},null,{"$f":"IF(AM91=\"\",\"\",VLOOKUP(AM91,[0]!Relais,2))","v":""},{"$f":"IF($A91=\"\",\"\",VLOOKUP($A91,INSCRITS!$D$4:$W$506,19,0))","v":""},null,{"$f":"IF(AP91=\"\",\"\",VLOOKUP(AP91,[0]!Relais,2))","v":""},0,0]
[null,{"$f":"IF($A92=\"\",\"\",VLOOKUP($A92,INSCRITS!$D$4:$W$501,2,0))","v":""},{"$f":"IF($A92=\"\",\"\",VLOOKUP($A92,INSCRITS!$D$4:$W$501,3,0))","v":""},{"$f":"IF($A92=\"\",\"\",VLOOKUP($A92,INSCRITS!$D$4:$W$501,4,0))","v":""},{"$f":"IF($A92=\"\",\"\",VLOOKUP($A92,INSCRITS!$D$4:$W$501,5,0))","v":""},{"$f":"IF($A92=\"\",\"\",VLOOKUP($A92,INSCRITS!$D$4:$W$501,6,0))","v":""},{"$f":"IF($A92=\"\",\"\",VLOOKUP($A92,INSCRITS!$D$4:$W$501,7,0))","v":""},{"$f":"IF($A92=\"\",\"\",VLOOKUP($A92,INSCRITS!$D$4:$W$501,8,0))","v":""},{"$f":"IF($A92=\"\",\"\",VLOOKUP($A92,INSCRITS!$D$4:$W$501,9,0))","v":""},{"$f":"IF($A92=\"\",\"\",VLOOKUP($A92,INSCRITS!$D$4:$W$506,10,0))","v":""},{"$f":"IF(ISNA(VLOOKUP($A92,SPRINT!AD$7:AJ$50,6,0)),\"\",VLOOKUP($A92,SPRINT!AD$7:AJ$50,6,0))","v":""},{"$f":"IF(ISNA(VLOOKUP($A92,SPRINT!AD$7:AJ$50,7,0)),\"\",VLOOKUP($A92,SPRINT!AD$7:AJ$50,7,0))","v":""},{"$f":"IF($A92=\"\",\"\",VLOOKUP($A92,INSCRITS!$D$4:$W$506,11,0))","v":""},{"$f":"IF(ISNA(VLOOKUP($A92,BATONS!AD$7:AJ$51,6,0)),\"\",VLOOKUP($A92,BATONS!AD$7:AJ$51,6,0))","v":""},{"$f":"IF(ISNA(VLOOKUP($A92,BATONS!AD$7:AJ$51,7,0)),\"\",VLOOKUP($A92,BATONS!AD$7:AJ$51,7,0))","v":""},{"$f":"IF($A92=\"\",\"\",VLOOKUP($A92,INSCRITS!$D$4:$W$506,12,0))","v":""},{"$f":"IF(ISNA(VLOOKUP($A92,PLANCHE!AC$7:AI$52,6,0)),\"\",VLOOKUP($A92,PLANCHE!AC$7:AI$52,6,0))","v":""},{"$f":"IF(ISNA(VLOOKUP($A92,PLANCHE!AC$7:AI$52,7,0)),\"\",VLOOKUP($A92,PLANCHE!AC$7:AI$52,7,0))","v":""},{"$f":"IF($A92=\"\",\"\",VLOOKUP($A92,INSCRITS!$D$4:$W$506,13,0))","v":""},{"$f":"IF(ISNA(VLOOKUP($A92,NAGE!N$7:T$52,6,0)),\"\",VLOOKUP($A92,NAGE!N$7:T$52,6,0))","v":""},{"$f":"IF(ISNA(VLOOKUP($A92,NAGE!N$7:T$52,7,0)),\"\",VLOOKUP($A92,NAGE!N$7:T$52,7,0))","v":""},{"$f":"IF($A92=\"\",\"\",VLOOKUP($A92,INSCRITS!$D$4:$W$506,14,0))","v":""},{"$f":"IF(ISNA(VLOOKUP($A92,SURFSKI!AC$8:AI$53,6,0)),\"\",VLOOKUP($A92,SURFSKI!AC$8:AI$53,6,0))","v":""},{"$f":"IF(ISNA(VLOOKUP($A92,SURFSKI!AC$8:AI$53,7,0)),\"\",VLOOKUP($A92,SURFSKI!AC$8:AI$53,7,0))","v":""},{"$f":"IF($A92=\"\",\"\",VLOOKUP($A92,INSCRITS!$D$4:$W$506,15,0))","v":""},{"$f":"IF(ISNA(VLOOKUP($A92,OCEANMAN!AD$7:AJ$52,6,0)),\"\",VLOOKUP($A92,OCEANMAN!AD$7:AJ$52,6,0))","v":""},{"$f":"IF(ISNA(VLOOKUP($A92,OCEANMAN!AD$7:AJ$52,7,0)),\"\",VLOOKUP($A92,OCEANMAN!AD$7:AJ$52,7,0))","v":""},{"$f":"IF($A92=\"\",\"\",VLOOKUP($A92,INSCRITS!$D$4:$W$506,16,0))","v":""},{"$f":"IF(ISNA(VLOOKUP($A92,CNC!N$7:AC$52,6,0)),\"\",VLOOKUP($A92,CNC!N$7:AC$52,6,0))","v":""},{"$f":"IF(ISNA(VLOOKUP($A92,CNC!N$7:AC$52,7,0)),\"\",VLOOKUP($A92,CNC!N$7:AC$52,7,0))","v":""},0,{"$f":"IF($A92=\"\",\"\",VLOOKUP($A92,INSCRITS!$D$4:$W$506,16,0))","v":""},null,{"$f":"IF(AG92=\"\",\"\",VLOOKUP(AG92,[0]!Relais,2))","v":""},{"$f":"IF($A92=\"\",\"\",VLOOKUP($A92,INSCRITS!$D$4:$W$506,17,0))","v":""},null,{"$f":"IF(AJ92=\"\",\"\",VLOOKUP(AJ92,[0]!Relais,2))","v":""},{"$f":"IF($A92=\"\",\"\",VLOOKUP($A92,INSCRITS!$D$4:$W$506,18,0))","v":""},null,{"$f":"IF(AM92=\"\",\"\",VLOOKUP(AM92,[0]!Relais,2))","v":""},{"$f":"IF($A92=\"\",\"\",VLOOKUP($A92,INSCRITS!$D$4:$W$506,19,0))","v":""},null,{"$f":"IF(AP92=\"\",\"\",VLOOKUP(AP92,[0]!Relais,2))","v":""},0,0]
[null,{"$f":"IF($A93=\"\",\"\",VLOOKUP($A93,INSCRITS!$D$4:$W$501,2,0))","v":""},{"$f":"IF($A93=\"\",\"\",VLOOKUP($A93,INSCRITS!$D$4:$W$501,3,0))","v":""},{"$f":"IF($A93=\"\",\"\",VLOOKUP($A93,INSCRITS!$D$4:$W$501,4,0))","v":""},{"$f":"IF($A93=\"\",\"\",VLOOKUP($A93,INSCRITS!$D$4:$W$501,5,0))","v":""},{"$f":"IF($A93=\"\",\"\",VLOOKUP($A93,INSCRITS!$D$4:$W$501,6,0))","v":""},{"$f":"IF($A93=\"\",\"\",VLOOKUP($A93,INSCRITS!$D$4:$W$501,7,0))","v":""},{"$f":"IF($A93=\"\",\"\",VLOOKUP($A93,INSCRITS!$D$4:$W$501,8,0))","v":""},{"$f":"IF($A93=\"\",\"\",VLOOKUP($A93,INSCRITS!$D$4:$W$501,9,0))","v":""},{"$f":"IF($A93=\"\",\"\",VLOOKUP($A93,INSCRITS!$D$4:$W$506,10,0))","v":""},{"$f":"IF(ISNA(VLOOKUP($A93,SPRINT!AD$7:AJ$50,6,0)),\"\",VLOOKUP($A93,SPRINT!AD$7:AJ$50,6,0))","v":""},{"$f":"IF(ISNA(VLOOKUP($A93,SPRINT!AD$7:AJ$50,7,0)),\"\",VLOOKUP($A93,SPRINT!AD$7:AJ$50,7,0))","v":""},{"$f":"IF($A93=\"\",\"\",VLOOKUP($A93,INSCRITS!$D$4:$W$506,11,0))","v":""},{"$f":"IF(ISNA(VLOOKUP($A93,BATONS!AD$7:AJ$51,6,0)),\"\",VLOOKUP($A93,BATONS!AD$7:AJ$51,6,0))","v":""},{"$f":"IF(ISNA(VLOOKUP($A93,BATONS!AD$7:AJ$51,7,0)),\"\",VLOOKUP($A93,BATONS!AD$7:AJ$51,7,0))","v":""},{"$f":"IF($A93=\"\",\"\",VLOOKUP($A93,INSCRITS!$D$4:$W$506,12,0))","v":""},{"$f":"IF(ISNA(VLOOKUP($A93,PLANCHE!AC$7:AI$52,6,0)),\"\",VLOOKUP($A93,PLANCHE!AC$7:AI$52,6,0))","v":""},{"$f":"IF(ISNA(VLOOKUP($A93,PLANCHE!AC$7:AI$52,7,0)),\"\",VLOOKUP($A93,PLANCHE!AC$7:AI$52,7,0))","v":""},{"$f":"IF($A93=\"\",\"\",VLOOKUP($A93,INSCRITS!$D$4:$W$506,13,0))","v":""},{"$f":"IF(ISNA(VLOOKUP($A93,NAGE!N$7:T$52,6,0)),\"\",VLOOKUP($A93,NAGE!N$7:T$52,6,0))","v":""},{"$f":"IF(ISNA(VLOOKUP($A93,NAGE!N$7:T$52,7,0)),\"\",VLOOKUP($A93,NAGE!N$7:T$52,7,0))","v":""},{"$f":"IF($A93=\"\",\"\",VLOOKUP($A93,INSCRITS!$D$4:$W$506,14,0))","v":""},{"$f":"IF(ISNA(VLOOKUP($A93,SURFSKI!AC$8:AI$53,6,0)),\"\",VLOOKUP($A93,SURFSKI!AC$8:AI$53,6,0))","v":""},{"$f":"IF(ISNA(VLOOKUP($A93,SURFSKI!AC$8:AI$53,7,0)),\"\",VLOOKUP($A93,SURFSKI!AC$8:AI$53,7,0))","v":""},{"$f":"IF($A93=\"\",\"\",VLOOKUP($A93,INSCRITS!$D$4:$W$506,15,0))","v":""},{"$f":"IF(ISNA(VLOOKUP($A93,OCEANMAN!AD$7:AJ$52,6,0)),\"\",VLOOKUP($A93,OCEANMAN!AD$7:AJ$52,6,0))","v":""},{"$f":"IF(ISNA(VLOOKUP($A93,OCEANMAN!AD$7:AJ$52,7,0)),\"\",VLOOKUP($A93,OCEANMAN!AD$7:AJ$52,7,0))","v":""},{"$f":"IF($A93=\"\",\"\",VLOOKUP($A93,INSCRITS!$D$4:$W$506,16,0))","v":""},{"$f":"IF(ISNA(VLOOKUP($A93,CNC!N$7:AC$52,6,0)),\"\",VLOOKUP($A93,CNC!N$7:AC$52,6,0))","v":""},{"$f":"IF(ISNA(VLOOKUP($A93,CNC!N$7:AC$52,7,0)),\"\",VLOOKUP($A93,CNC!N$7:AC$52,7,0))","v":""},0,{"$f":"IF($A93=\"\",\"\",VLOOKUP($A93,INSCRITS!$D$4:$W$506,16,0))","v":""},null,{"$f":"IF(AG93=\"\",\"\",VLOOKUP(AG93,[0]!Relais,2))","v":""},{"$f":"IF($A93=\"\",\"\",VLOOKUP($A93,INSCRITS!$D$4:$W$506,17,0))","v":""},null,{"$f":"IF(AJ93=\"\",\"\",VLOOKUP(AJ93,[0]!Relais,2))","v":""},{"$f":"IF($A93=\"\",\"\",VLOOKUP($A93,INSCRITS!$D$4:$W$506,18,0))","v":""},null,{"$f":"IF(AM93=\"\",\"\",VLOOKUP(AM93,[0]!Relais,2))","v":""},{"$f":"IF($A93=\"\",\"\",VLOOKUP($A93,INSCRITS!$D$4:$W$506,19,0))","v":""},null,{"$f":"IF(AP93=\"\",\"\",VLOOKUP(AP93,[0]!Relais,2))","v":""},0,0]
[null,{"$f":"IF($A94=\"\",\"\",VLOOKUP($A94,INSCRITS!$D$4:$W$501,2,0))","v":""},{"$f":"IF($A94=\"\",\"\",VLOOKUP($A94,INSCRITS!$D$4:$W$501,3,0))","v":""},{"$f":"IF($A94=\"\",\"\",VLOOKUP($A94,INSCRITS!$D$4:$W$501,4,0))","v":""},{"$f":"IF($A94=\"\",\"\",VLOOKUP($A94,INSCRITS!$D$4:$W$501,5,0))","v":""},{"$f":"IF($A94=\"\",\"\",VLOOKUP($A94,INSCRITS!$D$4:$W$501,6,0))","v":""},{"$f":"IF($A94=\"\",\"\",VLOOKUP($A94,INSCRITS!$D$4:$W$501,7,0))","v":""},{"$f":"IF($A94=\"\",\"\",VLOOKUP($A94,INSCRITS!$D$4:$W$501,8,0))","v":""},{"$f":"IF($A94=\"\",\"\",VLOOKUP($A94,INSCRITS!$D$4:$W$501,9,0))","v":""},{"$f":"IF($A94=\"\",\"\",VLOOKUP($A94,INSCRITS!$D$4:$W$506,10,0))","v":""},{"$f":"IF(ISNA(VLOOKUP($A94,SPRINT!AD$7:AJ$50,6,0)),\"\",VLOOKUP($A94,SPRINT!AD$7:AJ$50,6,0))","v":""},{"$f":"IF(ISNA(VLOOKUP($A94,SPRINT!AD$7:AJ$50,7,0)),\"\",VLOOKUP($A94,SPRINT!AD$7:AJ$50,7,0))","v":""},{"$f":"IF($A94=\"\",\"\",VLOOKUP($A94,INSCRITS!$D$4:$W$506,11,0))","v":""},{"$f":"IF(ISNA(VLOOKUP($A94,BATONS!AD$7:AJ$51,6,0)),\"\",VLOOKUP($A94,BATONS!AD$7:AJ$51,6,0))","v":""},{"$f":"IF(ISNA(VLOOKUP($A94,BATONS!AD$7:AJ$51,7,0)),\"\",VLOOKUP($A94,BATONS!AD$7:AJ$51,7,0))","v":""},{"$f":"IF($A94=\"\",\"\",VLOOKUP($A94,INSCRITS!$D$4:$W$506,12,0))","v":""},{"$f":"IF(ISNA(VLOOKUP($A94,PLANCHE!AC$7:AI$52,6,0)),\"\",VLOOKUP($A94,PLANCHE!AC$7:AI$52,6,0))","v":""},{"$f":"IF(ISNA(VLOOKUP($A94,PLANCHE!AC$7:AI$52,7,0)),\"\",VLOOKUP($A94,PLANCHE!AC$7:AI$52,7,0))","v":""},{"$f":"IF($A94=\"\",\"\",VLOOKUP($A94,INSCRITS!$D$4:$W$506,13,0))","v":""},{"$f":"IF(ISNA(VLOOKUP($A94,NAGE!N$7:T$52,6,0)),\"\",VLOOKUP($A94,NAGE!N$7:T$52,6,0))","v":""},{"$f":"IF(ISNA(VLOOKUP($A94,NAGE!N$7:T$52,7,0)),\"\",VLOOKUP($A94,NAGE!N$7:T$52,7,0))","v":""},{"$f":"IF($A94=\"\",\"\",VLOOKUP($A94,INSCRITS!$D$4:$W$506,14,0))","v":""},{"$f":"IF(ISNA(VLOOKUP($A94,SURFSKI!AC$8:AI$53,6,0)),\"\",VLOOKUP($A94,SURFSKI!AC$8:AI$53,6,0))","v":""},{"$f":"IF(ISNA(VLOOKUP($A94,SURFSKI!AC$8:AI$53,7,0)),\"\",VLOOKUP($A94,SURFSKI!AC$8:AI$53,7,0))","v":""},{"$f":"IF($A94=\"\",\"\",VLOOKUP($A94,INSCRITS!$D$4:$W$506,15,0))","v":""},{"$f":"IF(ISNA(VLOOKUP($A94,OCEANMAN!AD$7:AJ$52,6,0)),\"\",VLOOKUP($A94,OCEANMAN!AD$7:AJ$52,6,0))","v":""},{"$f":"IF(ISNA(VLOOKUP($A94,OCEANMAN!AD$7:AJ$52,7,0)),\"\",VLOOKUP($A94,OCEANMAN!AD$7:AJ$52,7,0))","v":""},{"$f":"IF($A94=\"\",\"\",VLOOKUP($A94,INSCRITS!$D$4:$W$506,16,0))","v":""},{"$f":"IF(ISNA(VLOOKUP($A94,CNC!N$7:AC$52,6,0)),\"\",VLOOKUP($A94,CNC!N$7:AC$52,6,0))","v":""},{"$f":"IF(ISNA(VLOOKUP($A94,CNC!N$7:AC$52,7,0)),\"\",VLOOKUP($A94,CNC!N$7:AC$52,7,0))","v":""},0,{"$f":"IF($A94=\"\",\"\",VLOOKUP($A94,INSCRITS!$D$4:$W$506,16,0))","v":""},null,{"$f":"IF(AG94=\"\",\"\",VLOOKUP(AG94,[0]!Relais,2))","v":""},{"$f":"IF($A94=\"\",\"\",VLOOKUP($A94,INSCRITS!$D$4:$W$506,17,0))","v":""},null,{"$f":"IF(AJ94=\"\",\"\",VLOOKUP(AJ94,[0]!Relais,2))","v":""},{"$f":"IF($A94=\"\",\"\",VLOOKUP($A94,INSCRITS!$D$4:$W$506,18,0))","v":""},null,{"$f":"IF(AM94=\"\",\"\",VLOOKUP(AM94,[0]!Relais,2))","v":""},{"$f":"IF($A94=\"\",\"\",VLOOKUP($A94,INSCRITS!$D$4:$W$506,19,0))","v":""},null,{"$f":"IF(AP94=\"\",\"\",VLOOKUP(AP94,[0]!Relais,2))","v":""},0,0]
[null,{"$f":"IF($A95=\"\",\"\",VLOOKUP($A95,INSCRITS!$D$4:$W$501,2,0))","v":""},{"$f":"IF($A95=\"\",\"\",VLOOKUP($A95,INSCRITS!$D$4:$W$501,3,0))","v":""},{"$f":"IF($A95=\"\",\"\",VLOOKUP($A95,INSCRITS!$D$4:$W$501,4,0))","v":""},{"$f":"IF($A95=\"\",\"\",VLOOKUP($A95,INSCRITS!$D$4:$W$501,5,0))","v":""},{"$f":"IF($A95=\"\",\"\",VLOOKUP($A95,INSCRITS!$D$4:$W$501,6,0))","v":""},{"$f":"IF($A95=\"\",\"\",VLOOKUP($A95,INSCRITS!$D$4:$W$501,7,0))","v":""},{"$f":"IF($A95=\"\",\"\",VLOOKUP($A95,INSCRITS!$D$4:$W$501,8,0))","v":""},{"$f":"IF($A95=\"\",\"\",VLOOKUP($A95,INSCRITS!$D$4:$W$501,9,0))","v":""},{"$f":"IF($A95=\"\",\"\",VLOOKUP($A95,INSCRITS!$D$4:$W$506,10,0))","v":""},{"$f":"IF(ISNA(VLOOKUP($A95,SPRINT!AD$7:AJ$50,6,0)),\"\",VLOOKUP($A95,SPRINT!AD$7:AJ$50,6,0))","v":""},{"$f":"IF(ISNA(VLOOKUP($A95,SPRINT!AD$7:AJ$50,7,0)),\"\",VLOOKUP($A95,SPRINT!AD$7:AJ$50,7,0))","v":""},{"$f":"IF($A95=\"\",\"\",VLOOKUP($A95,INSCRITS!$D$4:$W$506,11,0))","v":""},{"$f":"IF(ISNA(VLOOKUP($A95,BATONS!AD$7:AJ$51,6,0)),\"\",VLOOKUP($A95,BATONS!AD$7:AJ$51,6,0))","v":""},{"$f":"IF(ISNA(VLOOKUP($A95,BATONS!AD$7:AJ$51,7,0)),\"\",VLOOKUP($A95,BATONS!AD$7:AJ$51,7,0))","v":""},{"$f":"IF($A95=\"\",\"\",VLOOKUP($A95,INSCRITS!$D$4:$W$506,12,0))","v":""},{"$f":"IF(ISNA(VLOOKUP($A95,PLANCHE!AC$7:AI$52,6,0)),\"\",VLOOKUP($A95,PLANCHE!AC$7:AI$52,6,0))","v":""},{"$f":"IF(ISNA(VLOOKUP($A95,PLANCHE!AC$7:AI$52,7,0)),\"\",VLOOKUP($A95,PLANCHE!AC$7:AI$52,7,0))","v":""},{"$f":"IF($A95=\"\",\"\",VLOOKUP($A95,INSCRITS!$D$4:$W$506,13,0))","v":""},{"$f":"IF(ISNA(VLOOKUP($A95,NAGE!N$7:T$52,6,0)),\"\",VLOOKUP($A95,NAGE!N$7:T$52,6,0))","v":""},{"$f":"IF(ISNA(VLOOKUP($A95,NAGE!N$7:T$52,7,0)),\"\",VLOOKUP($A95,NAGE!N$7:T$52,7,0))","v":""},{"$f":"IF($A95=\"\",\"\",VLOOKUP($A95,INSCRITS!$D$4:$W$506,14,0))","v":""},{"$f":"IF(ISNA(VLOOKUP($A95,SURFSKI!AC$8:AI$53,6,0)),\"\",VLOOKUP($A95,SURFSKI!AC$8:AI$53,6,0))","v":""},{"$f":"IF(ISNA(VLOOKUP($A95,SURFSKI!AC$8:AI$53,7,0)),\"\",VLOOKUP($A95,SURFSKI!AC$8:AI$53,7,0))","v":""},{"$f":"IF($A95=\"\",\"\",VLOOKUP($A95,INSCRITS!$D$4:$W$506,15,0))","v":""},{"$f":"IF(ISNA(VLOOKUP($A95,OCEANMAN!AD$7:AJ$52,6,0)),\"\",VLOOKUP($A95,OCEANMAN!AD$7:AJ$52,6,0))","v":""},{"$f":"IF(ISNA(VLOOKUP($A95,OCEANMAN!AD$7:AJ$52,7,0)),\"\",VLOOKUP($A95,OCEANMAN!AD$7:AJ$52,7,0))","v":""},{"$f":"IF($A95=\"\",\"\",VLOOKUP($A95,INSCRITS!$D$4:$W$506,16,0))","v":""},{"$f":"IF(ISNA(VLOOKUP($A95,CNC!N$7:AC$52,6,0)),\"\",VLOOKUP($A95,CNC!N$7:AC$52,6,0))","v":""},{"$f":"IF(ISNA(VLOOKUP($A95,CNC!N$7:AC$52,7,0)),\"\",VLOOKUP($A95,CNC!N$7:AC$52,7,0))","v":""},0,{"$f":"IF($A95=\"\",\"\",VLOOKUP($A95,INSCRITS!$D$4:$W$506,16,0))","v":""},null,{"$f":"IF(AG95=\"\",\"\",VLOOKUP(AG95,[0]!Relais,2))","v":""},{"$f":"IF($A95=\"\",\"\",VLOOKUP($A95,INSCRITS!$D$4:$W$506,17,0))","v":""},null,{"$f":"IF(AJ95=\"\",\"\",VLOOKUP(AJ95,[0]!Relais,2))","v":""},{"$f":"IF($A95=\"\",\"\",VLOOKUP($A95,INSCRITS!$D$4:$W$506,18,0))","v":""},null,{"$f":"IF(AM95=\"\",\"\",VLOOKUP(AM95,[0]!Relais,2))","v":""},{"$f":"IF($A95=\"\",\"\",VLOOKUP($A95,INSCRITS!$D$4:$W$506,19,0))","v":""},null,{"$f":"IF(AP95=\"\",\"\",VLOOKUP(AP95,[0]!Relais,2))","v":""},0,0]
[null,{"$f":"IF($A96=\"\",\"\",VLOOKUP($A96,INSCRITS!$D$4:$W$501,2,0))","v":""},{"$f":"IF($A96=\"\",\"\",VLOOKUP($A96,INSCRITS!$D$4:$W$501,3,0))","v":""},{"$f":"IF($A96=\"\",\"\",VLOOKUP($A96,INSCRITS!$D$4:$W$501,4,0))","v":""},{"$f":"IF($A96=\"\",\"\",VLOOKUP($A96,INSCRITS!$D$4:$W$501,5,0))","v":""},{"$f":"IF($A96=\"\",\"\",VLOOKUP($A96,INSCRITS!$D$4:$W$501,6,0))","v":""},{"$f":"IF($A96=\"\",\"\",VLOOKUP($A96,INSCRITS!$D$4:$W$501,7,0))","v":""},{"$f":"IF($A96=\"\",\"\",VLOOKUP($A96,INSCRITS!$D$4:$W$501,8,0))","v":""},{"$f":"IF($A96=\"\",\"\",VLOOKUP($A96,INSCRITS!$D$4:$W$501,9,0))","v":""},{"$f":"IF($A96=\"\",\"\",VLOOKUP($A96,INSCRITS!$D$4:$W$506,10,0))","v":""},{"$f":"IF(ISNA(VLOOKUP($A96,SPRINT!AD$7:AJ$50,6,0)),\"\",VLOOKUP($A96,SPRINT!AD$7:AJ$50,6,0))","v":""},{"$f":"IF(ISNA(VLOOKUP($A96,SPRINT!AD$7:AJ$50,7,0)),\"\",VLOOKUP($A96,SPRINT!AD$7:AJ$50,7,0))","v":""},{"$f":"IF($A96=\"\",\"\",VLOOKUP($A96,INSCRITS!$D$4:$W$506,11,0))","v":""},{"$f":"IF(ISNA(VLOOKUP($A96,BATONS!AD$7:AJ$51,6,0)),\"\",VLOOKUP($A96,BATONS!AD$7:AJ$51,6,0))","v":""},{"$f":"IF(ISNA(VLOOKUP($A96,BATONS!AD$7:AJ$51,7,0)),\"\",VLOOKUP($A96,BATONS!AD$7:AJ$51,7,0))","v":""},{"$f":"IF($A96=\"\",\"\",VLOOKUP($A96,INSCRITS!$D$4:$W$506,12,0))","v":""},{"$f":"IF(ISNA(VLOOKUP($A96,PLANCHE!AC$7:AI$52,6,0)),\"\",VLOOKUP($A96,PLANCHE!AC$7:AI$52,6,0))","v":""},{"$f":"IF(ISNA(VLOOKUP($A96,PLANCHE!AC$7:AI$52,7,0)),\"\",VLOOKUP($A96,PLANCHE!AC$7:AI$52,7,0))","v":""},{"$f":"IF($A96=\"\",\"\",VLOOKUP($A96,INSCRITS!$D$4:$W$506,13,0))","v":""},{"$f":"IF(ISNA(VLOOKUP($A96,NAGE!N$7:T$52,6,0)),\"\",VLOOKUP($A96,NAGE!N$7:T$52,6,0))","v":""},{"$f":"IF(ISNA(VLOOKUP($A96,NAGE!N$7:T$52,7,0)),\"\",VLOOKUP($A96,NAGE!N$7:T$52,7,0))","v":""},{"$f":"IF($A96=\"\",\"\",VLOOKUP($A96,INSCRITS!$D$4:$W$506,14,0))","v":""},{"$f":"IF(ISNA(VLOOKUP($A96,SURFSKI!AC$8:AI$53,6,0)),\"\",VLOOKUP($A96,SURFSKI!AC$8:AI$53,6,0))","v":""},{"$f":"IF(ISNA(VLOOKUP($A96,SURFSKI!AC$8:AI$53,7,0)),\"\",VLOOKUP($A96,SURFSKI!AC$8:AI$53,7,0))","v":""},{"$f":"IF($A96=\"\",\"\",VLOOKUP($A96,INSCRITS!$D$4:$W$506,15,0))","v":""},{"$f":"IF(ISNA(VLOOKUP($A96,OCEANMAN!AD$7:AJ$52,6,0)),\"\",VLOOKUP($A96,OCEANMAN!AD$7:AJ$52,6,0))","v":""},{"$f":"IF(ISNA(VLOOKUP($A96,OCEANMAN!AD$7:AJ$52,7,0)),\"\",VLOOKUP($A96,OCEANMAN!AD$7:AJ$52,7,0))","v":""},{"$f":"IF($A96=\"\",\"\",VLOOKUP($A96,INSCRITS!$D$4:$W$506,16,0))","v":""},{"$f":"IF(ISNA(VLOOKUP($A96,CNC!N$7:AC$52,6,0)),\"\",VLOOKUP($A96,CNC!N$7:AC$52,6,0))","v":""},{"$f":"IF(ISNA(VLOOKUP($A96,CNC!N$7:AC$52,7,0)),\"\",VLOOKUP($A96,CNC!N$7:AC$52,7,0))","v":""},0,{"$f":"IF($A96=\"\",\"\",VLOOKUP($A96,INSCRITS!$D$4:$W$506,16,0))","v":""},null,{"$f":"IF(AG96=\"\",\"\",VLOOKUP(AG96,[0]!Relais,2))","v":""},{"$f":"IF($A96=\"\",\"\",VLOOKUP($A96,INSCRITS!$D$4:$W$506,17,0))","v":""},null,{"$f":"IF(AJ96=\"\",\"\",VLOOKUP(AJ96,[0]!Relais,2))","v":""},{"$f":"IF($A96=\"\",\"\",VLOOKUP($A96,INSCRITS!$D$4:$W$506,18,0))","v":""},null,{"$f":"IF(AM96=\"\",\"\",VLOOKUP(AM96,[0]!Relais,2))","v":""},{"$f":"IF($A96=\"\",\"\",VLOOKUP($A96,INSCRITS!$D$4:$W$506,19,0))","v":""},null,{"$f":"IF(AP96=\"\",\"\",VLOOKUP(AP96,[0]!Relais,2))","v":""},0,0]
[null,{"$f":"IF($A97=\"\",\"\",VLOOKUP($A97,INSCRITS!$D$4:$W$501,2,0))","v":""},{"$f":"IF($A97=\"\",\"\",VLOOKUP($A97,INSCRITS!$D$4:$W$501,3,0))","v":""},{"$f":"IF($A97=\"\",\"\",VLOOKUP($A97,INSCRITS!$D$4:$W$501,4,0))","v":""},{"$f":"IF($A97=\"\",\"\",VLOOKUP($A97,INSCRITS!$D$4:$W$501,5,0))","v":""},{"$f":"IF($A97=\"\",\"\",VLOOKUP($A97,INSCRITS!$D$4:$W$501,6,0))","v":""},{"$f":"IF($A97=\"\",\"\",VLOOKUP($A97,INSCRITS!$D$4:$W$501,7,0))","v":""},{"$f":"IF($A97=\"\",\"\",VLOOKUP($A97,INSCRITS!$D$4:$W$501,8,0))","v":""},{"$f":"IF($A97=\"\",\"\",VLOOKUP($A97,INSCRITS!$D$4:$W$501,9,0))","v":""},{"$f":"IF($A97=\"\",\"\",VLOOKUP($A97,INSCRITS!$D$4:$W$506,10,0))","v":""},{"$f":"IF(ISNA(VLOOKUP($A97,SPRINT!AD$7:AJ$50,6,0)),\"\",VLOOKUP($A97,SPRINT!AD$7:AJ$50,6,0))","v":""},{"$f":"IF(ISNA(VLOOKUP($A97,SPRINT!AD$7:AJ$50,7,0)),\"\",VLOOKUP($A97,SPRINT!AD$7:AJ$50,7,0))","v":""},{"$f":"IF($A97=\"\",\"\",VLOOKUP($A97,INSCRITS!$D$4:$W$506,11,0))","v":""},{"$f":"IF(ISNA(VLOOKUP($A97,BATONS!AD$7:AJ$51,6,0)),\"\",VLOOKUP($A97,BATONS!AD$7:AJ$51,6,0))","v":""},{"$f":"IF(ISNA(VLOOKUP($A97,BATONS!AD$7:AJ$51,7,0)),\"\",VLOOKUP($A97,BATONS!AD$7:AJ$51,7,0))","v":""},{"$f":"IF($A97=\"\",\"\",VLOOKUP($A97,INSCRITS!$D$4:$W$506,12,0))","v":""},{"$f":"IF(ISNA(VLOOKUP($A97,PLANCHE!AC$7:AI$52,6,0)),\"\",VLOOKUP($A97,PLANCHE!AC$7:AI$52,6,0))","v":""},{"$f":"IF(ISNA(VLOOKUP($A97,PLANCHE!AC$7:AI$52,7,0)),\"\",VLOOKUP($A97,PLANCHE!AC$7:AI$52,7,0))","v":""},{"$f":"IF($A97=\"\",\"\",VLOOKUP($A97,INSCRITS!$D$4:$W$506,13,0))","v":""},{"$f":"IF(ISNA(VLOOKUP($A97,NAGE!N$7:T$52,6,0)),\"\",VLOOKUP($A97,NAGE!N$7:T$52,6,0))","v":""},{"$f":"IF(ISNA(VLOOKUP($A97,NAGE!N$7:T$52,7,0)),\"\",VLOOKUP($A97,NAGE!N$7:T$52,7,0))","v":""},{"$f":"IF($A97=\"\",\"\",VLOOKUP($A97,INSCRITS!$D$4:$W$506,14,0))","v":""},{"$f":"IF(ISNA(VLOOKUP($A97,SURFSKI!AC$8:AI$53,6,0)),\"\",VLOOKUP($A97,SURFSKI!AC$8:AI$53,6,0))","v":""},{"$f":"IF(ISNA(VLOOKUP($A97,SURFSKI!AC$8:AI$53,7,0)),\"\",VLOOKUP($A97,SURFSKI!AC$8:AI$53,7,0))","v":""},{"$f":"IF($A97=\"\",\"\",VLOOKUP($A97,INSCRITS!$D$4:$W$506,15,0))","v":""},{"$f":"IF(ISNA(VLOOKUP($A97,OCEANMAN!AD$7:AJ$52,6,0)),\"\",VLOOKUP($A97,OCEANMAN!AD$7:AJ$52,6,0))","v":""},{"$f":"IF(ISNA(VLOOKUP($A97,OCEANMAN!AD$7:AJ$52,7,0)),\"\",VLOOKUP($A97,OCEANMAN!AD$7:AJ$52,7,0))","v":""},{"$f":"IF($A97=\"\",\"\",VLOOKUP($A97,INSCRITS!$D$4:$W$506,16,0))","v":""},{"$f":"IF(ISNA(VLOOKUP($A97,CNC!N$7:AC$52,6,0)),\"\",VLOOKUP($A97,CNC!N$7:AC$52,6,0))","v":""},{"$f":"IF(ISNA(VLOOKUP($A97,CNC!N$7:AC$52,7,0)),\"\",VLOOKUP($A97,CNC!N$7:AC$52,7,0))","v":""},0,{"$f":"IF($A97=\"\",\"\",VLOOKUP($A97,INSCRITS!$D$4:$W$506,16,0))","v":""},null,{"$f":"IF(AG97=\"\",\"\",VLOOKUP(AG97,[0]!Relais,2))","v":""},{"$f":"IF($A97=\"\",\"\",VLOOKUP($A97,INSCRITS!$D$4:$W$506,17,0))","v":""},null,{"$f":"IF(AJ97=\"\",\"\",VLOOKUP(AJ97,[0]!Relais,2))","v":""},{"$f":"IF($A97=\"\",\"\",VLOOKUP($A97,INSCRITS!$D$4:$W$506,18,0))","v":""},null,{"$f":"IF(AM97=\"\",\"\",VLOOKUP(AM97,[0]!Relais,2))","v":""},{"$f":"IF($A97=\"\",\"\",VLOOKUP($A97,INSCRITS!$D$4:$W$506,19,0))","v":""},null,{"$f":"IF(AP97=\"\",\"\",VLOOKUP(AP97,[0]!Relais,2))","v":""},0,0]
[null,{"$f":"IF($A98=\"\",\"\",VLOOKUP($A98,INSCRITS!$D$4:$W$501,2,0))","v":""},{"$f":"IF($A98=\"\",\"\",VLOOKUP($A98,INSCRITS!$D$4:$W$501,3,0))","v":""},{"$f":"IF($A98=\"\",\"\",VLOOKUP($A98,INSCRITS!$D$4:$W$501,4,0))","v":""},{"$f":"IF($A98=\"\",\"\",VLOOKUP($A98,INSCRITS!$D$4:$W$501,5,0))","v":""},{"$f":"IF($A98=\"\",\"\",VLOOKUP($A98,INSCRITS!$D$4:$W$501,6,0))","v":""},{"$f":"IF($A98=\"\",\"\",VLOOKUP($A98,INSCRITS!$D$4:$W$501,7,0))","v":""},{"$f":"IF($A98=\"\",\"\",VLOOKUP($A98,INSCRITS!$D$4:$W$501,8,0))","v":""},{"$f":"IF($A98=\"\",\"\",VLOOKUP($A98,INSCRITS!$D$4:$W$501,9,0))","v":""},{"$f":"IF($A98=\"\",\"\",VLOOKUP($A98,INSCRITS!$D$4:$W$506,10,0))","v":""},{"$f":"IF(ISNA(VLOOKUP($A98,SPRINT!AD$7:AJ$50,6,0)),\"\",VLOOKUP($A98,SPRINT!AD$7:AJ$50,6,0))","v":""},{"$f":"IF(ISNA(VLOOKUP($A98,SPRINT!AD$7:AJ$50,7,0)),\"\",VLOOKUP($A98,SPRINT!AD$7:AJ$50,7,0))","v":""},{"$f":"IF($A98=\"\",\"\",VLOOKUP($A98,INSCRITS!$D$4:$W$506,11,0))","v":""},{"$f":"IF(ISNA(VLOOKUP($A98,BATONS!AD$7:AJ$51,6,0)),\"\",VLOOKUP($A98,BATONS!AD$7:AJ$51,6,0))","v":""},{"$f":"IF(ISNA(VLOOKUP($A98,BATONS!AD$7:AJ$51,7,0)),\"\",VLOOKUP($A98,BATONS!AD$7:AJ$51,7,0))","v":""},{"$f":"IF($A98=\"\",\"\",VLOOKUP($A98,INSCRITS!$D$4:$W$506,12,0))","v":""},{"$f":"IF(ISNA(VLOOKUP($A98,PLANCHE!AC$7:AI$52,6,0)),\"\",VLOOKUP($A98,PLANCHE!AC$7:AI$52,6,0))","v":""},{"$f":"IF(ISNA(VLOOKUP($A98,PLANCHE!AC$7:AI$52,7,0)),\"\",VLOOKUP($A98,PLANCHE!AC$7:AI$52,7,0))","v":""},{"$f":"IF($A98=\"\",\"\",VLOOKUP($A98,INSCRITS!$D$4:$W$506,13,0))","v":""},{"$f":"IF(ISNA(VLOOKUP($A98,NAGE!N$7:T$52,6,0)),\"\",VLOOKUP($A98,NAGE!N$7:T$52,6,0))","v":""},{"$f":"IF(ISNA(VLOOKUP($A98,NAGE!N$7:T$52,7,0)),\"\",VLOOKUP($A98,NAGE!N$7:T$52,7,0))","v":""},{"$f":"IF($A98=\"\",\"\",VLOOKUP($A98,INSCRITS!$D$4:$W$506,14,0))","v":""},{"$f":"IF(ISNA(VLOOKUP($A98,SURFSKI!AC$8:AI$53,6,0)),\"\",VLOOKUP($A98,SURFSKI!AC$8:AI$53,6,0))","v":""},{"$f":"IF(ISNA(VLOOKUP($A98,SURFSKI!AC$8:AI$53,7,0)),\"\",VLOOKUP($A98,SURFSKI!AC$8:AI$53,7,0))","v":""},{"$f":"IF($A98=\"\",\"\",VLOOKUP($A98,INSCRITS!$D$4:$W$506,15,0))","v":""},{"$f":"IF(ISNA(VLOOKUP($A98,OCEANMAN!AD$7:AJ$52,6,0)),\"\",VLOOKUP($A98,OCEANMAN!AD$7:AJ$52,6,0))","v":""},{"$f":"IF(ISNA(VLOOKUP($A98,OCEANMAN!AD$7:AJ$52,7,0)),\"\",VLOOKUP($A98,OCEANMAN!AD$7:AJ$52,7,0))","v":""},{"$f":"IF($A98=\"\",\"\",VLOOKUP($A98,INSCRITS!$D$4:$W$506,16,0))","v":""},{"$f":"IF(ISNA(VLOOKUP($A98,CNC!N$7:AC$52,6,0)),\"\",VLOOKUP($A98,CNC!N$7:AC$52,6,0))","v":""},{"$f":"IF(ISNA(VLOOKUP($A98,CNC!N$7:AC$52,7,0)),\"\",VLOOKUP($A98,CNC!N$7:AC$52,7,0))","v":""},0,{"$f":"IF($A98=\"\",\"\",VLOOKUP($A98,INSCRITS!$D$4:$W$506,16,0))","v":""},null,{"$f":"IF(AG98=\"\",\"\",VLOOKUP(AG98,[0]!Relais,2))","v":""},{"$f":"IF($A98=\"\",\"\",VLOOKUP($A98,INSCRITS!$D$4:$W$506,17,0))","v":""},null,{"$f":"IF(AJ98=\"\",\"\",VLOOKUP(AJ98,[0]!Relais,2))","v":""},{"$f":"IF($A98=\"\",\"\",VLOOKUP($A98,INSCRITS!$D$4:$W$506,18,0))","v":""},null,{"$f":"IF(AM98=\"\",\"\",VLOOKUP(AM98,[0]!Relais,2))","v":""},{"$f":"IF($A98=\"\",\"\",VLOOKUP($A98,INSCRITS!$D$4:$W$506,19,0))","v":""},null,{"$f":"IF(AP98=\"\",\"\",VLOOKUP(AP98,[0]!Relais,2))","v":""},0,0]
[null,{"$f":"IF($A99=\"\",\"\",VLOOKUP($A99,INSCRITS!$D$4:$W$501,2,0))","v":""},{"$f":"IF($A99=\"\",\"\",VLOOKUP($A99,INSCRITS!$D$4:$W$501,3,0))","v":""},{"$f":"IF($A99=\"\",\"\",VLOOKUP($A99,INSCRITS!$D$4:$W$501,4,0))","v":""},{"$f":"IF($A99=\"\",\"\",VLOOKUP($A99,INSCRITS!$D$4:$W$501,5,0))","v":""},{"$f":"IF($A99=\"\",\"\",VLOOKUP($A99,INSCRITS!$D$4:$W$501,6,0))","v":""},{"$f":"IF($A99=\"\",\"\",VLOOKUP($A99,INSCRITS!$D$4:$W$501,7,0))","v":""},{"$f":"IF($A99=\"\",\"\",VLOOKUP($A99,INSCRITS!$D$4:$W$501,8,0))","v":""},{"$f":"IF($A99=\"\",\"\",VLOOKUP($A99,INSCRITS!$D$4:$W$501,9,0))","v":""},{"$f":"IF($A99=\"\",\"\",VLOOKUP($A99,INSCRITS!$D$4:$W$506,10,0))","v":""},{"$f":"IF(ISNA(VLOOKUP($A99,SPRINT!AD$7:AJ$50,6,0)),\"\",VLOOKUP($A99,SPRINT!AD$7:AJ$50,6,0))","v":""},{"$f":"IF(ISNA(VLOOKUP($A99,SPRINT!AD$7:AJ$50,7,0)),\"\",VLOOKUP($A99,SPRINT!AD$7:AJ$50,7,0))","v":""},{"$f":"IF($A99=\"\",\"\",VLOOKUP($A99,INSCRITS!$D$4:$W$506,11,0))","v":""},{"$f":"IF(ISNA(VLOOKUP($A99,BATONS!AD$7:AJ$51,6,0)),\"\",VLOOKUP($A99,BATONS!AD$7:AJ$51,6,0))","v":""},{"$f":"IF(ISNA(VLOOKUP($A99,BATONS!AD$7:AJ$51,7,0)),\"\",VLOOKUP($A99,BATONS!AD$7:AJ$51,7,0))","v":""},{"$f":"IF($A99=\"\",\"\",VLOOKUP($A99,INSCRITS!$D$4:$W$506,12,0))","v":""},{"$f":"IF(ISNA(VLOOKUP($A99,PLANCHE!AC$7:AI$52,6,0)),\"\",VLOOKUP($A99,PLANCHE!AC$7:AI$52,6,0))","v":""},{"$f":"IF(ISNA(VLOOKUP($A99,PLANCHE!AC$7:AI$52,7,0)),\"\",VLOOKUP($A99,PLANCHE!AC$7:AI$52,7,0))","v":""},{"$f":"IF($A99=\"\",\"\",VLOOKUP($A99,INSCRITS!$D$4:$W$506,13,0))","v":""},{"$f":"IF(ISNA(VLOOKUP($A99,NAGE!N$7:T$52,6,0)),\"\",VLOOKUP($A99,NAGE!N$7:T$52,6,0))","v":""},{"$f":"IF(ISNA(VLOOKUP($A99,NAGE!N$7:T$52,7,0)),\"\",VLOOKUP($A99,NAGE!N$7:T$52,7,0))","v":""},{"$f":"IF($A99=\"\",\"\",VLOOKUP($A99,INSCRITS!$D$4:$W$506,14,0))","v":""},{"$f":"IF(ISNA(VLOOKUP($A99,SURFSKI!AC$8:AI$53,6,0)),\"\",VLOOKUP($A99,SURFSKI!AC$8:AI$53,6,0))","v":""},{"$f":"IF(ISNA(VLOOKUP($A99,SURFSKI!AC$8:AI$53,7,0)),\"\",VLOOKUP($A99,SURFSKI!AC$8:AI$53,7,0))","v":""},{"$f":"IF($A99=\"\",\"\",VLOOKUP($A99,INSCRITS!$D$4:$W$506,15,0))","v":""},{"$f":"IF(ISNA(VLOOKUP($A99,OCEANMAN!AD$7:AJ$52,6,0)),\"\",VLOOKUP($A99,OCEANMAN!AD$7:AJ$52,6,0))","v":""},{"$f":"IF(ISNA(VLOOKUP($A99,OCEANMAN!AD$7:AJ$52,7,0)),\"\",VLOOKUP($A99,OCEANMAN!AD$7:AJ$52,7,0))","v":""},{"$f":"IF($A99=\"\",\"\",VLOOKUP($A99,INSCRITS!$D$4:$W$506,16,0))","v":""},{"$f":"IF(ISNA(VLOOKUP($A99,CNC!N$7:AC$52,6,0)),\"\",VLOOKUP($A99,CNC!N$7:AC$52,6,0))","v":""},{"$f":"IF(ISNA(VLOOKUP($A99,CNC!N$7:AC$52,7,0)),\"\",VLOOKUP($A99,CNC!N$7:AC$52,7,0))","v":""},0,{"$f":"IF($A99=\"\",\"\",VLOOKUP($A99,INSCRITS!$D$4:$W$506,16,0))","v":""},null,{"$f":"IF(AG99=\"\",\"\",VLOOKUP(AG99,[0]!Relais,2))","v":""},{"$f":"IF($A99=\"\",\"\",VLOOKUP($A99,INSCRITS!$D$4:$W$506,17,0))","v":""},null,{"$f":"IF(AJ99=\"\",\"\",VLOOKUP(AJ99,[0]!Relais,2))","v":""},{"$f":"IF($A99=\"\",\"\",VLOOKUP($A99,INSCRITS!$D$4:$W$506,18,0))","v":""},null,{"$f":"IF(AM99=\"\",\"\",VLOOKUP(AM99,[0]!Relais,2))","v":""},{"$f":"IF($A99=\"\",\"\",VLOOKUP($A99,INSCRITS!$D$4:$W$506,19,0))","v":""},null,{"$f":"IF(AP99=\"\",\"\",VLOOKUP(AP99,[0]!Relais,2))","v":""},0,0]
[null,{"$f":"IF($A100=\"\",\"\",VLOOKUP($A100,INSCRITS!$D$4:$W$501,2,0))","v":""},{"$f":"IF($A100=\"\",\"\",VLOOKUP($A100,INSCRITS!$D$4:$W$501,3,0))","v":""},{"$f":"IF($A100=\"\",\"\",VLOOKUP($A100,INSCRITS!$D$4:$W$501,4,0))","v":""},{"$f":"IF($A100=\"\",\"\",VLOOKUP($A100,INSCRITS!$D$4:$W$501,5,0))","v":""},{"$f":"IF($A100=\"\",\"\",VLOOKUP($A100,INSCRITS!$D$4:$W$501,6,0))","v":""},{"$f":"IF($A100=\"\",\"\",VLOOKUP($A100,INSCRITS!$D$4:$W$501,7,0))","v":""},{"$f":"IF($A100=\"\",\"\",VLOOKUP($A100,INSCRITS!$D$4:$W$501,8,0))","v":""},{"$f":"IF($A100=\"\",\"\",VLOOKUP($A100,INSCRITS!$D$4:$W$501,9,0))","v":""},{"$f":"IF($A100=\"\",\"\",VLOOKUP($A100,INSCRITS!$D$4:$W$506,10,0))","v":""},{"$f":"IF(ISNA(VLOOKUP($A100,SPRINT!AD$7:AJ$50,6,0)),\"\",VLOOKUP($A100,SPRINT!AD$7:AJ$50,6,0))","v":""},{"$f":"IF(ISNA(VLOOKUP($A100,SPRINT!AD$7:AJ$50,7,0)),\"\",VLOOKUP($A100,SPRINT!AD$7:AJ$50,7,0))","v":""},{"$f":"IF($A100=\"\",\"\",VLOOKUP($A100,INSCRITS!$D$4:$W$506,11,0))","v":""},{"$f":"IF(ISNA(VLOOKUP($A100,BATONS!AD$7:AJ$51,6,0)),\"\",VLOOKUP($A100,BATONS!AD$7:AJ$51,6,0))","v":""},{"$f":"IF(ISNA(VLOOKUP($A100,BATONS!AD$7:AJ$51,7,0)),\"\",VLOOKUP($A100,BATONS!AD$7:AJ$51,7,0))","v":""},{"$f":"IF($A100=\"\",\"\",VLOOKUP($A100,INSCRITS!$D$4:$W$506,12,0))","v":""},{"$f":"IF(ISNA(VLOOKUP($A100,PLANCHE!AC$7:AI$52,6,0)),\"\",VLOOKUP($A100,PLANCHE!AC$7:AI$52,6,0))","v":""},{"$f":"IF(ISNA(VLOOKUP($A100,PLANCHE!AC$7:AI$52,7,0)),\"\",VLOOKUP($A100,PLANCHE!AC$7:AI$52,7,0))","v":""},{"$f":"IF($A100=\"\",\"\",VLOOKUP($A100,INSCRITS!$D$4:$W$506,13,0))","v":""},{"$f":"IF(ISNA(VLOOKUP($A100,NAGE!N$7:T$52,6,0)),\"\",VLOOKUP($A100,NAGE!N$7:T$52,6,0))","v":""},{"$f":"IF(ISNA(VLOOKUP($A100,NAGE!N$7:T$52,7,0)),\"\",VLOOKUP($A100,NAGE!N$7:T$52,7,0))","v":""},{"$f":"IF($A100=\"\",\"\",VLOOKUP($A100,INSCRITS!$D$4:$W$506,14,0))","v":""},{"$f":"IF(ISNA(VLOOKUP($A100,SURFSKI!AC$8:AI$53,6,0)),\"\",VLOOKUP($A100,SURFSKI!AC$8:AI$53,6,0))","v":""},{"$f":"IF(ISNA(VLOOKUP($A100,SURFSKI!AC$8:AI$53,7,0)),\"\",VLOOKUP($A100,SURFSKI!AC$8:AI$53,7,0))","v":""},{"$f":"IF($A100=\"\",\"\",VLOOKUP($A100,INSCRITS!$D$4:$W$506,15,0))","v":""},{"$f":"IF(ISNA(VLOOKUP($A100,OCEANMAN!AD$7:AJ$52,6,0)),\"\",VLOOKUP($A100,OCEANMAN!AD$7:AJ$52,6,0))","v":""},{"$f":"IF(ISNA(VLOOKUP($A100,OCEANMAN!AD$7:AJ$52,7,0)),\"\",VLOOKUP($A100,OCEANMAN!AD$7:AJ$52,7,0))","v":""},{"$f":"IF($A100=\"\",\"\",VLOOKUP($A100,INSCRITS!$D$4:$W$506,16,0))","v":""},{"$f":"IF(ISNA(VLOOKUP($A100,CNC!N$7:AC$52,6,0)),\"\",VLOOKUP($A100,CNC!N$7:AC$52,6,0))","v":""},{"$f":"IF(ISNA(VLOOKUP($A100,CNC!N$7:AC$52,7,0)),\"\",VLOOKUP($A100,CNC!N$7:AC$52,7,0))","v":""},0,{"$f":"IF($A100=\"\",\"\",VLOOKUP($A100,INSCRITS!$D$4:$W$506,16,0))","v":""},null,{"$f":"IF(AG100=\"\",\"\",VLOOKUP(AG100,[0]!Relais,2))","v":""},{"$f":"IF($A100=\"\",\"\",VLOOKUP($A100,INSCRITS!$D$4:$W$506,17,0))","v":""},null,{"$f":"IF(AJ100=\"\",\"\",VLOOKUP(AJ100,[0]!Relais,2))","v":""},{"$f":"IF($A100=\"\",\"\",VLOOKUP($A100,INSCRITS!$D$4:$W$506,18,0))","v":""},null,{"$f":"IF(AM100=\"\",\"\",VLOOKUP(AM100,[0]!Relais,2))","v":""},{"$f":"IF($A100=\"\",\"\",VLOOKUP($A100,INSCRITS!$D$4:$W$506,19,0))","v":""},null,{"$f":"IF(AP100=\"\",\"\",VLOOKUP(AP100,[0]!Relais,2))","v":""},0,0]
[null,{"$f":"IF($A101=\"\",\"\",VLOOKUP($A101,INSCRITS!$D$4:$W$501,2,0))","v":""},{"$f":"IF($A101=\"\",\"\",VLOOKUP($A101,INSCRITS!$D$4:$W$501,3,0))","v":""},{"$f":"IF($A101=\"\",\"\",VLOOKUP($A101,INSCRITS!$D$4:$W$501,4,0))","v":""},{"$f":"IF($A101=\"\",\"\",VLOOKUP($A101,INSCRITS!$D$4:$W$501,5,0))","v":""},{"$f":"IF($A101=\"\",\"\",VLOOKUP($A101,INSCRITS!$D$4:$W$501,6,0))","v":""},{"$f":"IF($A101=\"\",\"\",VLOOKUP($A101,INSCRITS!$D$4:$W$501,7,0))","v":""},{"$f":"IF($A101=\"\",\"\",VLOOKUP($A101,INSCRITS!$D$4:$W$501,8,0))","v":""},{"$f":"IF($A101=\"\",\"\",VLOOKUP($A101,INSCRITS!$D$4:$W$501,9,0))","v":""},{"$f":"IF($A101=\"\",\"\",VLOOKUP($A101,INSCRITS!$D$4:$W$506,10,0))","v":""},{"$f":"IF(ISNA(VLOOKUP($A101,SPRINT!AD$7:AJ$50,6,0)),\"\",VLOOKUP($A101,SPRINT!AD$7:AJ$50,6,0))","v":""},{"$f":"IF(ISNA(VLOOKUP($A101,SPRINT!AD$7:AJ$50,7,0)),\"\",VLOOKUP($A101,SPRINT!AD$7:AJ$50,7,0))","v":""},{"$f":"IF($A101=\"\",\"\",VLOOKUP($A101,INSCRITS!$D$4:$W$506,11,0))","v":""},{"$f":"IF(ISNA(VLOOKUP($A101,BATONS!AD$7:AJ$51,6,0)),\"\",VLOOKUP($A101,BATONS!AD$7:AJ$51,6,0))","v":""},{"$f":"IF(ISNA(VLOOKUP($A101,BATONS!AD$7:AJ$51,7,0)),\"\",VLOOKUP($A101,BATONS!AD$7:AJ$51,7,0))","v":""},{"$f":"IF($A101=\"\",\"\",VLOOKUP($A101,INSCRITS!$D$4:$W$506,12,0))","v":""},{"$f":"IF(ISNA(VLOOKUP($A101,PLANCHE!AC$7:AI$52,6,0)),\"\",VLOOKUP($A101,PLANCHE!AC$7:AI$52,6,0))","v":""},{"$f":"IF(ISNA(VLOOKUP($A101,PLANCHE!AC$7:AI$52,7,0)),\"\",VLOOKUP($A101,PLANCHE!AC$7:AI$52,7,0))","v":""},{"$f":"IF($A101=\"\",\"\",VLOOKUP($A101,INSCRITS!$D$4:$W$506,13,0))","v":""},{"$f":"IF(ISNA(VLOOKUP($A101,NAGE!N$7:T$52,6,0)),\"\",VLOOKUP($A101,NAGE!N$7:T$52,6,0))","v":""},{"$f":"IF(ISNA(VLOOKUP($A101,NAGE!N$7:T$52,7,0)),\"\",VLOOKUP($A101,NAGE!N$7:T$52,7,0))","v":""},{"$f":"IF($A101=\"\",\"\",VLOOKUP($A101,INSCRITS!$D$4:$W$506,14,0))","v":""},{"$f":"IF(ISNA(VLOOKUP($A101,SURFSKI!AC$8:AI$53,6,0)),\"\",VLOOKUP($A101,SURFSKI!AC$8:AI$53,6,0))","v":""},{"$f":"IF(ISNA(VLOOKUP($A101,SURFSKI!AC$8:AI$53,7,0)),\"\",VLOOKUP($A101,SURFSKI!AC$8:AI$53,7,0))","v":""},{"$f":"IF($A101=\"\",\"\",VLOOKUP($A101,INSCRITS!$D$4:$W$506,15,0))","v":""},{"$f":"IF(ISNA(VLOOKUP($A101,OCEANMAN!AD$7:AJ$52,6,0)),\"\",VLOOKUP($A101,OCEANMAN!AD$7:AJ$52,6,0))","v":""},{"$f":"IF(ISNA(VLOOKUP($A101,OCEANMAN!AD$7:AJ$52,7,0)),\"\",VLOOKUP($A101,OCEANMAN!AD$7:AJ$52,7,0))","v":""},{"$f":"IF($A101=\"\",\"\",VLOOKUP($A101,INSCRITS!$D$4:$W$506,16,0))","v":""},{"$f":"IF(ISNA(VLOOKUP($A101,CNC!N$7:AC$52,6,0)),\"\",VLOOKUP($A101,CNC!N$7:AC$52,6,0))","v":""},{"$f":"IF(ISNA(VLOOKUP($A101,CNC!N$7:AC$52,7,0)),\"\",VLOOKUP($A101,CNC!N$7:AC$52,7,0))","v":""},0,{"$f":"IF($A101=\"\",\"\",VLOOKUP($A101,INSCRITS!$D$4:$W$506,16,0))","v":""},null,{"$f":"IF(AG101=\"\",\"\",VLOOKUP(AG101,[0]!Relais,2))","v":""},{"$f":"IF($A101=\"\",\"\",VLOOKUP($A101,INSCRITS!$D$4:$W$506,17,0))","v":""},null,{"$f":"IF(AJ101=\"\",\"\",VLOOKUP(AJ101,[0]!Relais,2))","v":""},{"$f":"IF($A101=\"\",\"\",VLOOKUP($A101,INSCRITS!$D$4:$W$506,18,0))","v":""},null,{"$f":"IF(AM101=\"\",\"\",VLOOKUP(AM101,[0]!Relais,2))","v":""},{"$f":"IF($A101=\"\",\"\",VLOOKUP($A101,INSCRITS!$D$4:$W$506,19,0))","v":""},null,{"$f":"IF(AP101=\"\",\"\",VLOOKUP(AP101,[0]!Relais,2))","v":""},0,0]
[null,{"$f":"IF($A102=\"\",\"\",VLOOKUP($A102,INSCRITS!$D$4:$W$501,2,0))","v":""},{"$f":"IF($A102=\"\",\"\",VLOOKUP($A102,INSCRITS!$D$4:$W$501,3,0))","v":""},{"$f":"IF($A102=\"\",\"\",VLOOKUP($A102,INSCRITS!$D$4:$W$501,4,0))","v":""},{"$f":"IF($A102=\"\",\"\",VLOOKUP($A102,INSCRITS!$D$4:$W$501,5,0))","v":""},{"$f":"IF($A102=\"\",\"\",VLOOKUP($A102,INSCRITS!$D$4:$W$501,6,0))","v":""},{"$f":"IF($A102=\"\",\"\",VLOOKUP($A102,INSCRITS!$D$4:$W$501,7,0))","v":""},{"$f":"IF($A102=\"\",\"\",VLOOKUP($A102,INSCRITS!$D$4:$W$501,8,0))","v":""},{"$f":"IF($A102=\"\",\"\",VLOOKUP($A102,INSCRITS!$D$4:$W$501,9,0))","v":""},{"$f":"IF($A102=\"\",\"\",VLOOKUP($A102,INSCRITS!$D$4:$W$506,10,0))","v":""},{"$f":"IF(ISNA(VLOOKUP($A102,SPRINT!AD$7:AJ$50,6,0)),\"\",VLOOKUP($A102,SPRINT!AD$7:AJ$50,6,0))","v":""},{"$f":"IF(ISNA(VLOOKUP($A102,SPRINT!AD$7:AJ$50,7,0)),\"\",VLOOKUP($A102,SPRINT!AD$7:AJ$50,7,0))","v":""},{"$f":"IF($A102=\"\",\"\",VLOOKUP($A102,INSCRITS!$D$4:$W$506,11,0))","v":""},{"$f":"IF(ISNA(VLOOKUP($A102,BATONS!AD$7:AJ$51,6,0)),\"\",VLOOKUP($A102,BATONS!AD$7:AJ$51,6,0))","v":""},{"$f":"IF(ISNA(VLOOKUP($A102,BATONS!AD$7:AJ$51,7,0)),\"\",VLOOKUP($A102,BATONS!AD$7:AJ$51,7,0))","v":""},{"$f":"IF($A102=\"\",\"\",VLOOKUP($A102,INSCRITS!$D$4:$W$506,12,0))","v":""},{"$f":"IF(ISNA(VLOOKUP($A102,PLANCHE!AC$7:AI$52,6,0)),\"\",VLOOKUP($A102,PLANCHE!AC$7:AI$52,6,0))","v":""},{"$f":"IF(ISNA(VLOOKUP($A102,PLANCHE!AC$7:AI$52,7,0)),\"\",VLOOKUP($A102,PLANCHE!AC$7:AI$52,7,0))","v":""},{"$f":"IF($A102=\"\",\"\",VLOOKUP($A102,INSCRITS!$D$4:$W$506,13,0))","v":""},{"$f":"IF(ISNA(VLOOKUP($A102,NAGE!N$7:T$52,6,0)),\"\",VLOOKUP($A102,NAGE!N$7:T$52,6,0))","v":""},{"$f":"IF(ISNA(VLOOKUP($A102,NAGE!N$7:T$52,7,0)),\"\",VLOOKUP($A102,NAGE!N$7:T$52,7,0))","v":""},{"$f":"IF($A102=\"\",\"\",VLOOKUP($A102,INSCRITS!$D$4:$W$506,14,0))","v":""},{"$f":"IF(ISNA(VLOOKUP($A102,SURFSKI!AC$8:AI$53,6,0)),\"\",VLOOKUP($A102,SURFSKI!AC$8:AI$53,6,0))","v":""},{"$f":"IF(ISNA(VLOOKUP($A102,SURFSKI!AC$8:AI$53,7,0)),\"\",VLOOKUP($A102,SURFSKI!AC$8:AI$53,7,0))","v":""},{"$f":"IF($A102=\"\",\"\",VLOOKUP($A102,INSCRITS!$D$4:$W$506,15,0))","v":""},{"$f":"IF(ISNA(VLOOKUP($A102,OCEANMAN!AD$7:AJ$52,6,0)),\"\",VLOOKUP($A102,OCEANMAN!AD$7:AJ$52,6,0))","v":""},{"$f":"IF(ISNA(VLOOKUP($A102,OCEANMAN!AD$7:AJ$52,7,0)),\"\",VLOOKUP($A102,OCEANMAN!AD$7:AJ$52,7,0))","v":""},{"$f":"IF($A102=\"\",\"\",VLOOKUP($A102,INSCRITS!$D$4:$W$506,16,0))","v":""},{"$f":"IF(ISNA(VLOOKUP($A102,CNC!N$7:AC$52,6,0)),\"\",VLOOKUP($A102,CNC!N$7:AC$52,6,0))","v":""},{"$f":"IF(ISNA(VLOOKUP($A102,CNC!N$7:AC$52,7,0)),\"\",VLOOKUP($A102,CNC!N$7:AC$52,7,0))","v":""},0,{"$f":"IF($A102=\"\",\"\",VLOOKUP($A102,INSCRITS!$D$4:$W$506,16,0))","v":""},null,{"$f":"IF(AG102=\"\",\"\",VLOOKUP(AG102,[0]!Relais,2))","v":""},{"$f":"IF($A102=\"\",\"\",VLOOKUP($A102,INSCRITS!$D$4:$W$506,17,0))","v":""},null,{"$f":"IF(AJ102=\"\",\"\",VLOOKUP(AJ102,[0]!Relais,2))","v":""},{"$f":"IF($A102=\"\",\"\",VLOOKUP($A102,INSCRITS!$D$4:$W$506,18,0))","v":""},null,{"$f":"IF(AM102=\"\",\"\",VLOOKUP(AM102,[0]!Relais,2))","v":""},{"$f":"IF($A102=\"\",\"\",VLOOKUP($A102,INSCRITS!$D$4:$W$506,19,0))","v":""},null,{"$f":"IF(AP102=\"\",\"\",VLOOKUP(AP102,[0]!Relais,2))","v":""},0,0]
[null,{"$f":"IF($A103=\"\",\"\",VLOOKUP($A103,INSCRITS!$D$4:$W$501,2,0))","v":""},{"$f":"IF($A103=\"\",\"\",VLOOKUP($A103,INSCRITS!$D$4:$W$501,3,0))","v":""},{"$f":"IF($A103=\"\",\"\",VLOOKUP($A103,INSCRITS!$D$4:$W$501,4,0))","v":""},{"$f":"IF($A103=\"\",\"\",VLOOKUP($A103,INSCRITS!$D$4:$W$501,5,0))","v":""},{"$f":"IF($A103=\"\",\"\",VLOOKUP($A103,INSCRITS!$D$4:$W$501,6,0))","v":""},{"$f":"IF($A103=\"\",\"\",VLOOKUP($A103,INSCRITS!$D$4:$W$501,7,0))","v":""},{"$f":"IF($A103=\"\",\"\",VLOOKUP($A103,INSCRITS!$D$4:$W$501,8,0))","v":""},{"$f":"IF($A103=\"\",\"\",VLOOKUP($A103,INSCRITS!$D$4:$W$501,9,0))","v":""},{"$f":"IF($A103=\"\",\"\",VLOOKUP($A103,INSCRITS!$D$4:$W$506,10,0))","v":""},{"$f":"IF(ISNA(VLOOKUP($A103,SPRINT!AD$7:AJ$50,6,0)),\"\",VLOOKUP($A103,SPRINT!AD$7:AJ$50,6,0))","v":""},{"$f":"IF(ISNA(VLOOKUP($A103,SPRINT!AD$7:AJ$50,7,0)),\"\",VLOOKUP($A103,SPRINT!AD$7:AJ$50,7,0))","v":""},{"$f":"IF($A103=\"\",\"\",VLOOKUP($A103,INSCRITS!$D$4:$W$506,11,0))","v":""},{"$f":"IF(ISNA(VLOOKUP($A103,BATONS!AD$7:AJ$51,6,0)),\"\",VLOOKUP($A103,BATONS!AD$7:AJ$51,6,0))","v":""},{"$f":"IF(ISNA(VLOOKUP($A103,BATONS!AD$7:AJ$51,7,0)),\"\",VLOOKUP($A103,BATONS!AD$7:AJ$51,7,0))","v":""},{"$f":"IF($A103=\"\",\"\",VLOOKUP($A103,INSCRITS!$D$4:$W$506,12,0))","v":""},{"$f":"IF(ISNA(VLOOKUP($A103,PLANCHE!AC$7:AI$52,6,0)),\"\",VLOOKUP($A103,PLANCHE!AC$7:AI$52,6,0))","v":""},{"$f":"IF(ISNA(VLOOKUP($A103,PLANCHE!AC$7:AI$52,7,0)),\"\",VLOOKUP($A103,PLANCHE!AC$7:AI$52,7,0))","v":""},{"$f":"IF($A103=\"\",\"\",VLOOKUP($A103,INSCRITS!$D$4:$W$506,13,0))","v":""},{"$f":"IF(ISNA(VLOOKUP($A103,NAGE!N$7:T$52,6,0)),\"\",VLOOKUP($A103,NAGE!N$7:T$52,6,0))","v":""},{"$f":"IF(ISNA(VLOOKUP($A103,NAGE!N$7:T$52,7,0)),\"\",VLOOKUP($A103,NAGE!N$7:T$52,7,0))","v":""},{"$f":"IF($A103=\"\",\"\",VLOOKUP($A103,INSCRITS!$D$4:$W$506,14,0))","v":""},{"$f":"IF(ISNA(VLOOKUP($A103,SURFSKI!AC$8:AI$53,6,0)),\"\",VLOOKUP($A103,SURFSKI!AC$8:AI$53,6,0))","v":""},{"$f":"IF(ISNA(VLOOKUP($A103,SURFSKI!AC$8:AI$53,7,0)),\"\",VLOOKUP($A103,SURFSKI!AC$8:AI$53,7,0))","v":""},{"$f":"IF($A103=\"\",\"\",VLOOKUP($A103,INSCRITS!$D$4:$W$506,15,0))","v":""},{"$f":"IF(ISNA(VLOOKUP($A103,OCEANMAN!AD$7:AJ$52,6,0)),\"\",VLOOKUP($A103,OCEANMAN!AD$7:AJ$52,6,0))","v":""},{"$f":"IF(ISNA(VLOOKUP($A103,OCEANMAN!AD$7:AJ$52,7,0)),\"\",VLOOKUP($A103,OCEANMAN!AD$7:AJ$52,7,0))","v":""},{"$f":"IF($A103=\"\",\"\",VLOOKUP($A103,INSCRITS!$D$4:$W$506,16,0))","v":""},{"$f":"IF(ISNA(VLOOKUP($A103,CNC!N$7:AC$52,6,0)),\"\",VLOOKUP($A103,CNC!N$7:AC$52,6,0))","v":""},{"$f":"IF(ISNA(VLOOKUP($A103,CNC!N$7:AC$52,7,0)),\"\",VLOOKUP($A103,CNC!N$7:AC$52,7,0))","v":""},0,{"$f":"IF($A103=\"\",\"\",VLOOKUP($A103,INSCRITS!$D$4:$W$506,16,0))","v":""},null,{"$f":"IF(AG103=\"\",\"\",VLOOKUP(AG103,[0]!Relais,2))","v":""},{"$f":"IF($A103=\"\",\"\",VLOOKUP($A103,INSCRITS!$D$4:$W$506,17,0))","v":""},null,{"$f":"IF(AJ103=\"\",\"\",VLOOKUP(AJ103,[0]!Relais,2))","v":""},{"$f":"IF($A103=\"\",\"\",VLOOKUP($A103,INSCRITS!$D$4:$W$506,18,0))","v":""},null,{"$f":"IF(AM103=\"\",\"\",VLOOKUP(AM103,[0]!Relais,2))","v":""},{"$f":"IF($A103=\"\",\"\",VLOOKUP($A103,INSCRITS!$D$4:$W$506,19,0))","v":""},null,{"$f":"IF(AP103=\"\",\"\",VLOOKUP(AP103,[0]!Relais,2))","v":""},0,0]
[null,{"$f":"IF($A104=\"\",\"\",VLOOKUP($A104,INSCRITS!$D$4:$W$501,2,0))","v":""},{"$f":"IF($A104=\"\",\"\",VLOOKUP($A104,INSCRITS!$D$4:$W$501,3,0))","v":""},{"$f":"IF($A104=\"\",\"\",VLOOKUP($A104,INSCRITS!$D$4:$W$501,4,0))","v":""},{"$f":"IF($A104=\"\",\"\",VLOOKUP($A104,INSCRITS!$D$4:$W$501,5,0))","v":""},{"$f":"IF($A104=\"\",\"\",VLOOKUP($A104,INSCRITS!$D$4:$W$501,6,0))","v":""},{"$f":"IF($A104=\"\",\"\",VLOOKUP($A104,INSCRITS!$D$4:$W$501,7,0))","v":""},{"$f":"IF($A104=\"\",\"\",VLOOKUP($A104,INSCRITS!$D$4:$W$501,8,0))","v":""},{"$f":"IF($A104=\"\",\"\",VLOOKUP($A104,INSCRITS!$D$4:$W$501,9,0))","v":""},{"$f":"IF($A104=\"\",\"\",VLOOKUP($A104,INSCRITS!$D$4:$W$506,10,0))","v":""},{"$f":"IF(ISNA(VLOOKUP($A104,SPRINT!AD$7:AJ$50,6,0)),\"\",VLOOKUP($A104,SPRINT!AD$7:AJ$50,6,0))","v":""},{"$f":"IF(ISNA(VLOOKUP($A104,SPRINT!AD$7:AJ$50,7,0)),\"\",VLOOKUP($A104,SPRINT!AD$7:AJ$50,7,0))","v":""},{"$f":"IF($A104=\"\",\"\",VLOOKUP($A104,INSCRITS!$D$4:$W$506,11,0))","v":""},{"$f":"IF(ISNA(VLOOKUP($A104,BATONS!AD$7:AJ$51,6,0)),\"\",VLOOKUP($A104,BATONS!AD$7:AJ$51,6,0))","v":""},{"$f":"IF(ISNA(VLOOKUP($A104,BATONS!AD$7:AJ$51,7,0)),\"\",VLOOKUP($A104,BATONS!AD$7:AJ$51,7,0))","v":""},{"$f":"IF($A104=\"\",\"\",VLOOKUP($A104,INSCRITS!$D$4:$W$506,12,0))","v":""},{"$f":"IF(ISNA(VLOOKUP($A104,PLANCHE!AC$7:AI$52,6,0)),\"\",VLOOKUP($A104,PLANCHE!AC$7:AI$52,6,0))","v":""},{"$f":"IF(ISNA(VLOOKUP($A104,PLANCHE!AC$7:AI$52,7,0)),\"\",VLOOKUP($A104,PLANCHE!AC$7:AI$52,7,0))","v":""},{"$f":"IF($A104=\"\",\"\",VLOOKUP($A104,INSCRITS!$D$4:$W$506,13,0))","v":""},{"$f":"IF(ISNA(VLOOKUP($A104,NAGE!N$7:T$52,6,0)),\"\",VLOOKUP($A104,NAGE!N$7:T$52,6,0))","v":""},{"$f":"IF(ISNA(VLOOKUP($A104,NAGE!N$7:T$52,7,0)),\"\",VLOOKUP($A104,NAGE!N$7:T$52,7,0))","v":""},{"$f":"IF($A104=\"\",\"\",VLOOKUP($A104,INSCRITS!$D$4:$W$506,14,0))","v":""},{"$f":"IF(ISNA(VLOOKUP($A104,SURFSKI!AC$8:AI$53,6,0)),\"\",VLOOKUP($A104,SURFSKI!AC$8:AI$53,6,0))","v":""},{"$f":"IF(ISNA(VLOOKUP($A104,SURFSKI!AC$8:AI$53,7,0)),\"\",VLOOKUP($A104,SURFSKI!AC$8:AI$53,7,0))","v":""},{"$f":"IF($A104=\"\",\"\",VLOOKUP($A104,INSCRITS!$D$4:$W$506,15,0))","v":""},{"$f":"IF(ISNA(VLOOKUP($A104,OCEANMAN!AD$7:AJ$52,6,0)),\"\",VLOOKUP($A104,OCEANMAN!AD$7:AJ$52,6,0))","v":""},{"$f":"IF(ISNA(VLOOKUP($A104,OCEANMAN!AD$7:AJ$52,7,0)),\"\",VLOOKUP($A104,OCEANMAN!AD$7:AJ$52,7,0))","v":""},{"$f":"IF($A104=\"\",\"\",VLOOKUP($A104,INSCRITS!$D$4:$W$506,16,0))","v":""},{"$f":"IF(ISNA(VLOOKUP($A104,CNC!N$7:AC$52,6,0)),\"\",VLOOKUP($A104,CNC!N$7:AC$52,6,0))","v":""},{"$f":"IF(ISNA(VLOOKUP($A104,CNC!N$7:AC$52,7,0)),\"\",VLOOKUP($A104,CNC!N$7:AC$52,7,0))","v":""},0,{"$f":"IF($A104=\"\",\"\",VLOOKUP($A104,INSCRITS!$D$4:$W$506,16,0))","v":""},null,{"$f":"IF(AG104=\"\",\"\",VLOOKUP(AG104,[0]!Relais,2))","v":""},{"$f":"IF($A104=\"\",\"\",VLOOKUP($A104,INSCRITS!$D$4:$W$506,17,0))","v":""},null,{"$f":"IF(AJ104=\"\",\"\",VLOOKUP(AJ104,[0]!Relais,2))","v":""},{"$f":"IF($A104=\"\",\"\",VLOOKUP($A104,INSCRITS!$D$4:$W$506,18,0))","v":""},null,{"$f":"IF(AM104=\"\",\"\",VLOOKUP(AM104,[0]!Relais,2))","v":""},{"$f":"IF($A104=\"\",\"\",VLOOKUP($A104,INSCRITS!$D$4:$W$506,19,0))","v":""},null,{"$f":"IF(AP104=\"\",\"\",VLOOKUP(AP104,[0]!Relais,2))","v":""},0,0]
[null,{"$f":"IF($A105=\"\",\"\",VLOOKUP($A105,INSCRITS!$D$4:$W$501,2,0))","v":""},{"$f":"IF($A105=\"\",\"\",VLOOKUP($A105,INSCRITS!$D$4:$W$501,3,0))","v":""},{"$f":"IF($A105=\"\",\"\",VLOOKUP($A105,INSCRITS!$D$4:$W$501,4,0))","v":""},{"$f":"IF($A105=\"\",\"\",VLOOKUP($A105,INSCRITS!$D$4:$W$501,5,0))","v":""},{"$f":"IF($A105=\"\",\"\",VLOOKUP($A105,INSCRITS!$D$4:$W$501,6,0))","v":""},{"$f":"IF($A105=\"\",\"\",VLOOKUP($A105,INSCRITS!$D$4:$W$501,7,0))","v":""},{"$f":"IF($A105=\"\",\"\",VLOOKUP($A105,INSCRITS!$D$4:$W$501,8,0))","v":""},{"$f":"IF($A105=\"\",\"\",VLOOKUP($A105,INSCRITS!$D$4:$W$501,9,0))","v":""},{"$f":"IF($A105=\"\",\"\",VLOOKUP($A105,INSCRITS!$D$4:$W$506,10,0))","v":""},{"$f":"IF(ISNA(VLOOKUP($A105,SPRINT!AD$7:AJ$50,6,0)),\"\",VLOOKUP($A105,SPRINT!AD$7:AJ$50,6,0))","v":""},{"$f":"IF(ISNA(VLOOKUP($A105,SPRINT!AD$7:AJ$50,7,0)),\"\",VLOOKUP($A105,SPRINT!AD$7:AJ$50,7,0))","v":""},{"$f":"IF($A105=\"\",\"\",VLOOKUP($A105,INSCRITS!$D$4:$W$506,11,0))","v":""},{"$f":"IF(ISNA(VLOOKUP($A105,BATONS!AD$7:AJ$51,6,0)),\"\",VLOOKUP($A105,BATONS!AD$7:AJ$51,6,0))","v":""},{"$f":"IF(ISNA(VLOOKUP($A105,BATONS!AD$7:AJ$51,7,0)),\"\",VLOOKUP($A105,BATONS!AD$7:AJ$51,7,0))","v":""},{"$f":"IF($A105=\"\",\"\",VLOOKUP($A105,INSCRITS!$D$4:$W$506,12,0))","v":""},{"$f":"IF(ISNA(VLOOKUP($A105,PLANCHE!AC$7:AI$52,6,0)),\"\",VLOOKUP($A105,PLANCHE!AC$7:AI$52,6,0))","v":""},{"$f":"IF(ISNA(VLOOKUP($A105,PLANCHE!AC$7:AI$52,7,0)),\"\",VLOOKUP($A105,PLANCHE!AC$7:AI$52,7,0))","v":""},{"$f":"IF($A105=\"\",\"\",VLOOKUP($A105,INSCRITS!$D$4:$W$506,13,0))","v":""},{"$f":"IF(ISNA(VLOOKUP($A105,NAGE!N$7:T$52,6,0)),\"\",VLOOKUP($A105,NAGE!N$7:T$52,6,0))","v":""},{"$f":"IF(ISNA(VLOOKUP($A105,NAGE!N$7:T$52,7,0)),\"\",VLOOKUP($A105,NAGE!N$7:T$52,7,0))","v":""},{"$f":"IF($A105=\"\",\"\",VLOOKUP($A105,INSCRITS!$D$4:$W$506,14,0))","v":""},{"$f":"IF(ISNA(VLOOKUP($A105,SURFSKI!AC$8:AI$53,6,0)),\"\",VLOOKUP($A105,SURFSKI!AC$8:AI$53,6,0))","v":""},{"$f":"IF(ISNA(VLOOKUP($A105,SURFSKI!AC$8:AI$53,7,0)),\"\",VLOOKUP($A105,SURFSKI!AC$8:AI$53,7,0))","v":""},{"$f":"IF($A105=\"\",\"\",VLOOKUP($A105,INSCRITS!$D$4:$W$506,15,0))","v":""},{"$f":"IF(ISNA(VLOOKUP($A105,OCEANMAN!AD$7:AJ$52,6,0)),\"\",VLOOKUP($A105,OCEANMAN!AD$7:AJ$52,6,0))","v":""},{"$f":"IF(ISNA(VLOOKUP($A105,OCEANMAN!AD$7:AJ$52,7,0)),\"\",VLOOKUP($A105,OCEANMAN!AD$7:AJ$52,7,0))","v":""},{"$f":"IF($A105=\"\",\"\",VLOOKUP($A105,INSCRITS!$D$4:$W$506,16,0))","v":""},{"$f":"IF(ISNA(VLOOKUP($A105,CNC!N$7:AC$52,6,0)),\"\",VLOOKUP($A105,CNC!N$7:AC$52,6,0))","v":""},{"$f":"IF(ISNA(VLOOKUP($A105,CNC!N$7:AC$52,7,0)),\"\",VLOOKUP($A105,CNC!N$7:AC$52,7,0))","v":""},0,{"$f":"IF($A105=\"\",\"\",VLOOKUP($A105,INSCRITS!$D$4:$W$506,16,0))","v":""},null,{"$f":"IF(AG105=\"\",\"\",VLOOKUP(AG105,[0]!Relais,2))","v":""},{"$f":"IF($A105=\"\",\"\",VLOOKUP($A105,INSCRITS!$D$4:$W$506,17,0))","v":""},null,{"$f":"IF(AJ105=\"\",\"\",VLOOKUP(AJ105,[0]!Relais,2))","v":""},{"$f":"IF($A105=\"\",\"\",VLOOKUP($A105,INSCRITS!$D$4:$W$506,18,0))","v":""},null,{"$f":"IF(AM105=\"\",\"\",VLOOKUP(AM105,[0]!Relais,2))","v":""},{"$f":"IF($A105=\"\",\"\",VLOOKUP($A105,INSCRITS!$D$4:$W$506,19,0))","v":""},null,{"$f":"IF(AP105=\"\",\"\",VLOOKUP(AP105,[0]!Relais,2))","v":""},0,0]
[null,{"$f":"IF($A106=\"\",\"\",VLOOKUP($A106,INSCRITS!$D$4:$W$501,2,0))","v":""},{"$f":"IF($A106=\"\",\"\",VLOOKUP($A106,INSCRITS!$D$4:$W$501,3,0))","v":""},{"$f":"IF($A106=\"\",\"\",VLOOKUP($A106,INSCRITS!$D$4:$W$501,4,0))","v":""},{"$f":"IF($A106=\"\",\"\",VLOOKUP($A106,INSCRITS!$D$4:$W$501,5,0))","v":""},{"$f":"IF($A106=\"\",\"\",VLOOKUP($A106,INSCRITS!$D$4:$W$501,6,0))","v":""},{"$f":"IF($A106=\"\",\"\",VLOOKUP($A106,INSCRITS!$D$4:$W$501,7,0))","v":""},{"$f":"IF($A106=\"\",\"\",VLOOKUP($A106,INSCRITS!$D$4:$W$501,8,0))","v":""},{"$f":"IF($A106=\"\",\"\",VLOOKUP($A106,INSCRITS!$D$4:$W$501,9,0))","v":""},{"$f":"IF($A106=\"\",\"\",VLOOKUP($A106,INSCRITS!$D$4:$W$506,10,0))","v":""},{"$f":"IF(ISNA(VLOOKUP($A106,SPRINT!AD$7:AJ$50,6,0)),\"\",VLOOKUP($A106,SPRINT!AD$7:AJ$50,6,0))","v":""},{"$f":"IF(ISNA(VLOOKUP($A106,SPRINT!AD$7:AJ$50,7,0)),\"\",VLOOKUP($A106,SPRINT!AD$7:AJ$50,7,0))","v":""},{"$f":"IF($A106=\"\",\"\",VLOOKUP($A106,INSCRITS!$D$4:$W$506,11,0))","v":""},{"$f":"IF(ISNA(VLOOKUP($A106,BATONS!AD$7:AJ$51,6,0)),\"\",VLOOKUP($A106,BATONS!AD$7:AJ$51,6,0))","v":""},{"$f":"IF(ISNA(VLOOKUP($A106,BATONS!AD$7:AJ$51,7,0)),\"\",VLOOKUP($A106,BATONS!AD$7:AJ$51,7,0))","v":""},{"$f":"IF($A106=\"\",\"\",VLOOKUP($A106,INSCRITS!$D$4:$W$506,12,0))","v":""},{"$f":"IF(ISNA(VLOOKUP($A106,PLANCHE!AC$7:AI$52,6,0)),\"\",VLOOKUP($A106,PLANCHE!AC$7:AI$52,6,0))","v":""},{"$f":"IF(ISNA(VLOOKUP($A106,PLANCHE!AC$7:AI$52,7,0)),\"\",VLOOKUP($A106,PLANCHE!AC$7:AI$52,7,0))","v":""},{"$f":"IF($A106=\"\",\"\",VLOOKUP($A106,INSCRITS!$D$4:$W$506,13,0))","v":""},{"$f":"IF(ISNA(VLOOKUP($A106,NAGE!N$7:T$52,6,0)),\"\",VLOOKUP($A106,NAGE!N$7:T$52,6,0))","v":""},{"$f":"IF(ISNA(VLOOKUP($A106,NAGE!N$7:T$52,7,0)),\"\",VLOOKUP($A106,NAGE!N$7:T$52,7,0))","v":""},{"$f":"IF($A106=\"\",\"\",VLOOKUP($A106,INSCRITS!$D$4:$W$506,14,0))","v":""},{"$f":"IF(ISNA(VLOOKUP($A106,SURFSKI!AC$8:AI$53,6,0)),\"\",VLOOKUP($A106,SURFSKI!AC$8:AI$53,6,0))","v":""},{"$f":"IF(ISNA(VLOOKUP($A106,SURFSKI!AC$8:AI$53,7,0)),\"\",VLOOKUP($A106,SURFSKI!AC$8:AI$53,7,0))","v":""},{"$f":"IF($A106=\"\",\"\",VLOOKUP($A106,INSCRITS!$D$4:$W$506,15,0))","v":""},{"$f":"IF(ISNA(VLOOKUP($A106,OCEANMAN!AD$7:AJ$52,6,0)),\"\",VLOOKUP($A106,OCEANMAN!AD$7:AJ$52,6,0))","v":""},{"$f":"IF(ISNA(VLOOKUP($A106,OCEANMAN!AD$7:AJ$52,7,0)),\"\",VLOOKUP($A106,OCEANMAN!AD$7:AJ$52,7,0))","v":""},{"$f":"IF($A106=\"\",\"\",VLOOKUP($A106,INSCRITS!$D$4:$W$506,16,0))","v":""},{"$f":"IF(ISNA(VLOOKUP($A106,CNC!N$7:AC$52,6,0)),\"\",VLOOKUP($A106,CNC!N$7:AC$52,6,0))","v":""},{"$f":"IF(ISNA(VLOOKUP($A106,CNC!N$7:AC$52,7,0)),\"\",VLOOKUP($A106,CNC!N$7:AC$52,7,0))","v":""},0,{"$f":"IF($A106=\"\",\"\",VLOOKUP($A106,INSCRITS!$D$4:$W$506,16,0))","v":""},null,{"$f":"IF(AG106=\"\",\"\",VLOOKUP(AG106,[0]!Relais,2))","v":""},{"$f":"IF($A106=\"\",\"\",VLOOKUP($A106,INSCRITS!$D$4:$W$506,17,0))","v":""},null,{"$f":"IF(AJ106=\"\",\"\",VLOOKUP(AJ106,[0]!Relais,2))","v":""},{"$f":"IF($A106=\"\",\"\",VLOOKUP($A106,INSCRITS!$D$4:$W$506,18,0))","v":""},null,{"$f":"IF(AM106=\"\",\"\",VLOOKUP(AM106,[0]!Relais,2))","v":""},{"$f":"IF($A106=\"\",\"\",VLOOKUP($A106,INSCRITS!$D$4:$W$506,19,0))","v":""},null,{"$f":"IF(AP106=\"\",\"\",VLOOKUP(AP106,[0]!Relais,2))","v":""},0,0]
[null,{"$f":"IF($A107=\"\",\"\",VLOOKUP($A107,INSCRITS!$D$4:$W$501,2,0))","v":""},{"$f":"IF($A107=\"\",\"\",VLOOKUP($A107,INSCRITS!$D$4:$W$501,3,0))","v":""},{"$f":"IF($A107=\"\",\"\",VLOOKUP($A107,INSCRITS!$D$4:$W$501,4,0))","v":""},{"$f":"IF($A107=\"\",\"\",VLOOKUP($A107,INSCRITS!$D$4:$W$501,5,0))","v":""},{"$f":"IF($A107=\"\",\"\",VLOOKUP($A107,INSCRITS!$D$4:$W$501,6,0))","v":""},{"$f":"IF($A107=\"\",\"\",VLOOKUP($A107,INSCRITS!$D$4:$W$501,7,0))","v":""},{"$f":"IF($A107=\"\",\"\",VLOOKUP($A107,INSCRITS!$D$4:$W$501,8,0))","v":""},{"$f":"IF($A107=\"\",\"\",VLOOKUP($A107,INSCRITS!$D$4:$W$501,9,0))","v":""},{"$f":"IF($A107=\"\",\"\",VLOOKUP($A107,INSCRITS!$D$4:$W$506,10,0))","v":""},{"$f":"IF(ISNA(VLOOKUP($A107,SPRINT!AD$7:AJ$50,6,0)),\"\",VLOOKUP($A107,SPRINT!AD$7:AJ$50,6,0))","v":""},{"$f":"IF(ISNA(VLOOKUP($A107,SPRINT!AD$7:AJ$50,7,0)),\"\",VLOOKUP($A107,SPRINT!AD$7:AJ$50,7,0))","v":""},{"$f":"IF($A107=\"\",\"\",VLOOKUP($A107,INSCRITS!$D$4:$W$506,11,0))","v":""},{"$f":"IF(ISNA(VLOOKUP($A107,BATONS!AD$7:AJ$51,6,0)),\"\",VLOOKUP($A107,BATONS!AD$7:AJ$51,6,0))","v":""},{"$f":"IF(ISNA(VLOOKUP($A107,BATONS!AD$7:AJ$51,7,0)),\"\",VLOOKUP($A107,BATONS!AD$7:AJ$51,7,0))","v":""},{"$f":"IF($A107=\"\",\"\",VLOOKUP($A107,INSCRITS!$D$4:$W$506,12,0))","v":""},{"$f":"IF(ISNA(VLOOKUP($A107,PLANCHE!AC$7:AI$52,6,0)),\"\",VLOOKUP($A107,PLANCHE!AC$7:AI$52,6,0))","v":""},{"$f":"IF(ISNA(VLOOKUP($A107,PLANCHE!AC$7:AI$52,7,0)),\"\",VLOOKUP($A107,PLANCHE!AC$7:AI$52,7,0))","v":""},{"$f":"IF($A107=\"\",\"\",VLOOKUP($A107,INSCRITS!$D$4:$W$506,13,0))","v":""},{"$f":"IF(ISNA(VLOOKUP($A107,NAGE!N$7:T$52,6,0)),\"\",VLOOKUP($A107,NAGE!N$7:T$52,6,0))","v":""},{"$f":"IF(ISNA(VLOOKUP($A107,NAGE!N$7:T$52,7,0)),\"\",VLOOKUP($A107,NAGE!N$7:T$52,7,0))","v":""},{"$f":"IF($A107=\"\",\"\",VLOOKUP($A107,INSCRITS!$D$4:$W$506,14,0))","v":""},{"$f":"IF(ISNA(VLOOKUP($A107,SURFSKI!AC$8:AI$53,6,0)),\"\",VLOOKUP($A107,SURFSKI!AC$8:AI$53,6,0))","v":""},{"$f":"IF(ISNA(VLOOKUP($A107,SURFSKI!AC$8:AI$53,7,0)),\"\",VLOOKUP($A107,SURFSKI!AC$8:AI$53,7,0))","v":""},{"$f":"IF($A107=\"\",\"\",VLOOKUP($A107,INSCRITS!$D$4:$W$506,15,0))","v":""},{"$f":"IF(ISNA(VLOOKUP($A107,OCEANMAN!AD$7:AJ$52,6,0)),\"\",VLOOKUP($A107,OCEANMAN!AD$7:AJ$52,6,0))","v":""},{"$f":"IF(ISNA(VLOOKUP($A107,OCEANMAN!AD$7:AJ$52,7,0)),\"\",VLOOKUP($A107,OCEANMAN!AD$7:AJ$52,7,0))","v":""},{"$f":"IF($A107=\"\",\"\",VLOOKUP($A107,INSCRITS!$D$4:$W$506,16,0))","v":""},{"$f":"IF(ISNA(VLOOKUP($A107,CNC!N$7:AC$52,6,0)),\"\",VLOOKUP($A107,CNC!N$7:AC$52,6,0))","v":""},{"$f":"IF(ISNA(VLOOKUP($A107,CNC!N$7:AC$52,7,0)),\"\",VLOOKUP($A107,CNC!N$7:AC$52,7,0))","v":""},0,{"$f":"IF($A107=\"\",\"\",VLOOKUP($A107,INSCRITS!$D$4:$W$506,16,0))","v":""},null,{"$f":"IF(AG107=\"\",\"\",VLOOKUP(AG107,[0]!Relais,2))","v":""},{"$f":"IF($A107=\"\",\"\",VLOOKUP($A107,INSCRITS!$D$4:$W$506,17,0))","v":""},null,{"$f":"IF(AJ107=\"\",\"\",VLOOKUP(AJ107,[0]!Relais,2))","v":""},{"$f":"IF($A107=\"\",\"\",VLOOKUP($A107,INSCRITS!$D$4:$W$506,18,0))","v":""},null,{"$f":"IF(AM107=\"\",\"\",VLOOKUP(AM107,[0]!Relais,2))","v":""},{"$f":"IF($A107=\"\",\"\",VLOOKUP($A107,INSCRITS!$D$4:$W$506,19,0))","v":""},null,{"$f":"IF(AP107=\"\",\"\",VLOOKUP(AP107,[0]!Relais,2))","v":""},0,0]
[null,{"$f":"IF($A108=\"\",\"\",VLOOKUP($A108,INSCRITS!$D$4:$W$501,2,0))","v":""},{"$f":"IF($A108=\"\",\"\",VLOOKUP($A108,INSCRITS!$D$4:$W$501,3,0))","v":""},{"$f":"IF($A108=\"\",\"\",VLOOKUP($A108,INSCRITS!$D$4:$W$501,4,0))","v":""},{"$f":"IF($A108=\"\",\"\",VLOOKUP($A108,INSCRITS!$D$4:$W$501,5,0))","v":""},{"$f":"IF($A108=\"\",\"\",VLOOKUP($A108,INSCRITS!$D$4:$W$501,6,0))","v":""},{"$f":"IF($A108=\"\",\"\",VLOOKUP($A108,INSCRITS!$D$4:$W$501,7,0))","v":""},{"$f":"IF($A108=\"\",\"\",VLOOKUP($A108,INSCRITS!$D$4:$W$501,8,0))","v":""},{"$f":"IF($A108=\"\",\"\",VLOOKUP($A108,INSCRITS!$D$4:$W$501,9,0))","v":""},{"$f":"IF($A108=\"\",\"\",VLOOKUP($A108,INSCRITS!$D$4:$W$506,10,0))","v":""},{"$f":"IF(ISNA(VLOOKUP($A108,SPRINT!AD$7:AJ$50,6,0)),\"\",VLOOKUP($A108,SPRINT!AD$7:AJ$50,6,0))","v":""},{"$f":"IF(ISNA(VLOOKUP($A108,SPRINT!AD$7:AJ$50,7,0)),\"\",VLOOKUP($A108,SPRINT!AD$7:AJ$50,7,0))","v":""},{"$f":"IF($A108=\"\",\"\",VLOOKUP($A108,INSCRITS!$D$4:$W$506,11,0))","v":""},{"$f":"IF(ISNA(VLOOKUP($A108,BATONS!AD$7:AJ$51,6,0)),\"\",VLOOKUP($A108,BATONS!AD$7:AJ$51,6,0))","v":""},{"$f":"IF(ISNA(VLOOKUP($A108,BATONS!AD$7:AJ$51,7,0)),\"\",VLOOKUP($A108,BATONS!AD$7:AJ$51,7,0))","v":""},{"$f":"IF($A108=\"\",\"\",VLOOKUP($A108,INSCRITS!$D$4:$W$506,12,0))","v":""},{"$f":"IF(ISNA(VLOOKUP($A108,PLANCHE!AC$7:AI$52,6,0)),\"\",VLOOKUP($A108,PLANCHE!AC$7:AI$52,6,0))","v":""},{"$f":"IF(ISNA(VLOOKUP($A108,PLANCHE!AC$7:AI$52,7,0)),\"\",VLOOKUP($A108,PLANCHE!AC$7:AI$52,7,0))","v":""},{"$f":"IF($A108=\"\",\"\",VLOOKUP($A108,INSCRITS!$D$4:$W$506,13,0))","v":""},{"$f":"IF(ISNA(VLOOKUP($A108,NAGE!N$7:T$52,6,0)),\"\",VLOOKUP($A108,NAGE!N$7:T$52,6,0))","v":""},{"$f":"IF(ISNA(VLOOKUP($A108,NAGE!N$7:T$52,7,0)),\"\",VLOOKUP($A108,NAGE!N$7:T$52,7,0))","v":""},{"$f":"IF($A108=\"\",\"\",VLOOKUP($A108,INSCRITS!$D$4:$W$506,14,0))","v":""},{"$f":"IF(ISNA(VLOOKUP($A108,SURFSKI!AC$8:AI$53,6,0)),\"\",VLOOKUP($A108,SURFSKI!AC$8:AI$53,6,0))","v":""},{"$f":"IF(ISNA(VLOOKUP($A108,SURFSKI!AC$8:AI$53,7,0)),\"\",VLOOKUP($A108,SURFSKI!AC$8:AI$53,7,0))","v":""},{"$f":"IF($A108=\"\",\"\",VLOOKUP($A108,INSCRITS!$D$4:$W$506,15,0))","v":""},{"$f":"IF(ISNA(VLOOKUP($A108,OCEANMAN!AD$7:AJ$52,6,0)),\"\",VLOOKUP($A108,OCEANMAN!AD$7:AJ$52,6,0))","v":""},{"$f":"IF(ISNA(VLOOKUP($A108,OCEANMAN!AD$7:AJ$52,7,0)),\"\",VLOOKUP($A108,OCEANMAN!AD$7:AJ$52,7,0))","v":""},{"$f":"IF($A108=\"\",\"\",VLOOKUP($A108,INSCRITS!$D$4:$W$506,16,0))","v":""},{"$f":"IF(ISNA(VLOOKUP($A108,CNC!N$7:AC$52,6,0)),\"\",VLOOKUP($A108,CNC!N$7:AC$52,6,0))","v":""},{"$f":"IF(ISNA(VLOOKUP($A108,CNC!N$7:AC$52,7,0)),\"\",VLOOKUP($A108,CNC!N$7:AC$52,7,0))","v":""},0,{"$f":"IF($A108=\"\",\"\",VLOOKUP($A108,INSCRITS!$D$4:$W$506,16,0))","v":""},null,{"$f":"IF(AG108=\"\",\"\",VLOOKUP(AG108,[0]!Relais,2))","v":""},{"$f":"IF($A108=\"\",\"\",VLOOKUP($A108,INSCRITS!$D$4:$W$506,17,0))","v":""},null,{"$f":"IF(AJ108=\"\",\"\",VLOOKUP(AJ108,[0]!Relais,2))","v":""},{"$f":"IF($A108=\"\",\"\",VLOOKUP($A108,INSCRITS!$D$4:$W$506,18,0))","v":""},null,{"$f":"IF(AM108=\"\",\"\",VLOOKUP(AM108,[0]!Relais,2))","v":""},{"$f":"IF($A108=\"\",\"\",VLOOKUP($A108,INSCRITS!$D$4:$W$506,19,0))","v":""},null,{"$f":"IF(AP108=\"\",\"\",VLOOKUP(AP108,[0]!Relais,2))","v":""},0,0]
[null,{"$f":"IF($A109=\"\",\"\",VLOOKUP($A109,INSCRITS!$D$4:$W$501,2,0))","v":""},{"$f":"IF($A109=\"\",\"\",VLOOKUP($A109,INSCRITS!$D$4:$W$501,3,0))","v":""},{"$f":"IF($A109=\"\",\"\",VLOOKUP($A109,INSCRITS!$D$4:$W$501,4,0))","v":""},{"$f":"IF($A109=\"\",\"\",VLOOKUP($A109,INSCRITS!$D$4:$W$501,5,0))","v":""},{"$f":"IF($A109=\"\",\"\",VLOOKUP($A109,INSCRITS!$D$4:$W$501,6,0))","v":""},{"$f":"IF($A109=\"\",\"\",VLOOKUP($A109,INSCRITS!$D$4:$W$501,7,0))","v":""},{"$f":"IF($A109=\"\",\"\",VLOOKUP($A109,INSCRITS!$D$4:$W$501,8,0))","v":""},{"$f":"IF($A109=\"\",\"\",VLOOKUP($A109,INSCRITS!$D$4:$W$501,9,0))","v":""},{"$f":"IF($A109=\"\",\"\",VLOOKUP($A109,INSCRITS!$D$4:$W$506,10,0))","v":""},{"$f":"IF(ISNA(VLOOKUP($A109,SPRINT!AD$7:AJ$50,6,0)),\"\",VLOOKUP($A109,SPRINT!AD$7:AJ$50,6,0))","v":""},{"$f":"IF(ISNA(VLOOKUP($A109,SPRINT!AD$7:AJ$50,7,0)),\"\",VLOOKUP($A109,SPRINT!AD$7:AJ$50,7,0))","v":""},{"$f":"IF($A109=\"\",\"\",VLOOKUP($A109,INSCRITS!$D$4:$W$506,11,0))","v":""},{"$f":"IF(ISNA(VLOOKUP($A109,BATONS!AD$7:AJ$51,6,0)),\"\",VLOOKUP($A109,BATONS!AD$7:AJ$51,6,0))","v":""},{"$f":"IF(ISNA(VLOOKUP($A109,BATONS!AD$7:AJ$51,7,0)),\"\",VLOOKUP($A109,BATONS!AD$7:AJ$51,7,0))","v":""},{"$f":"IF($A109=\"\",\"\",VLOOKUP($A109,INSCRITS!$D$4:$W$506,12,0))","v":""},{"$f":"IF(ISNA(VLOOKUP($A109,PLANCHE!AC$7:AI$52,6,0)),\"\",VLOOKUP($A109,PLANCHE!AC$7:AI$52,6,0))","v":""},{"$f":"IF(ISNA(VLOOKUP($A109,PLANCHE!AC$7:AI$52,7,0)),\"\",VLOOKUP($A109,PLANCHE!AC$7:AI$52,7,0))","v":""},{"$f":"IF($A109=\"\",\"\",VLOOKUP($A109,INSCRITS!$D$4:$W$506,13,0))","v":""},{"$f":"IF(ISNA(VLOOKUP($A109,NAGE!N$7:T$52,6,0)),\"\",VLOOKUP($A109,NAGE!N$7:T$52,6,0))","v":""},{"$f":"IF(ISNA(VLOOKUP($A109,NAGE!N$7:T$52,7,0)),\"\",VLOOKUP($A109,NAGE!N$7:T$52,7,0))","v":""},{"$f":"IF($A109=\"\",\"\",VLOOKUP($A109,INSCRITS!$D$4:$W$506,14,0))","v":""},{"$f":"IF(ISNA(VLOOKUP($A109,SURFSKI!AC$8:AI$53,6,0)),\"\",VLOOKUP($A109,SURFSKI!AC$8:AI$53,6,0))","v":""},{"$f":"IF(ISNA(VLOOKUP($A109,SURFSKI!AC$8:AI$53,7,0)),\"\",VLOOKUP($A109,SURFSKI!AC$8:AI$53,7,0))","v":""},{"$f":"IF($A109=\"\",\"\",VLOOKUP($A109,INSCRITS!$D$4:$W$506,15,0))","v":""},{"$f":"IF(ISNA(VLOOKUP($A109,OCEANMAN!AD$7:AJ$52,6,0)),\"\",VLOOKUP($A109,OCEANMAN!AD$7:AJ$52,6,0))","v":""},{"$f":"IF(ISNA(VLOOKUP($A109,OCEANMAN!AD$7:AJ$52,7,0)),\"\",VLOOKUP($A109,OCEANMAN!AD$7:AJ$52,7,0))","v":""},{"$f":"IF($A109=\"\",\"\",VLOOKUP($A109,INSCRITS!$D$4:$W$506,16,0))","v":""},{"$f":"IF(ISNA(VLOOKUP($A109,CNC!N$7:AC$52,6,0)),\"\",VLOOKUP($A109,CNC!N$7:AC$52,6,0))","v":""},{"$f":"IF(ISNA(VLOOKUP($A109,CNC!N$7:AC$52,7,0)),\"\",VLOOKUP($A109,CNC!N$7:AC$52,7,0))","v":""},0,{"$f":"IF($A109=\"\",\"\",VLOOKUP($A109,INSCRITS!$D$4:$W$506,16,0))","v":""},null,{"$f":"IF(AG109=\"\",\"\",VLOOKUP(AG109,[0]!Relais,2))","v":""},{"$f":"IF($A109=\"\",\"\",VLOOKUP($A109,INSCRITS!$D$4:$W$506,17,0))","v":""},null,{"$f":"IF(AJ109=\"\",\"\",VLOOKUP(AJ109,[0]!Relais,2))","v":""},{"$f":"IF($A109=\"\",\"\",VLOOKUP($A109,INSCRITS!$D$4:$W$506,18,0))","v":""},null,{"$f":"IF(AM109=\"\",\"\",VLOOKUP(AM109,[0]!Relais,2))","v":""},{"$f":"IF($A109=\"\",\"\",VLOOKUP($A109,INSCRITS!$D$4:$W$506,19,0))","v":""},null,{"$f":"IF(AP109=\"\",\"\",VLOOKUP(AP109,[0]!Relais,2))","v":""},0,0]
[null,{"$f":"IF($A110=\"\",\"\",VLOOKUP($A110,INSCRITS!$D$4:$W$501,2,0))","v":""},{"$f":"IF($A110=\"\",\"\",VLOOKUP($A110,INSCRITS!$D$4:$W$501,3,0))","v":""},{"$f":"IF($A110=\"\",\"\",VLOOKUP($A110,INSCRITS!$D$4:$W$501,4,0))","v":""},{"$f":"IF($A110=\"\",\"\",VLOOKUP($A110,INSCRITS!$D$4:$W$501,5,0))","v":""},{"$f":"IF($A110=\"\",\"\",VLOOKUP($A110,INSCRITS!$D$4:$W$501,6,0))","v":""},{"$f":"IF($A110=\"\",\"\",VLOOKUP($A110,INSCRITS!$D$4:$W$501,7,0))","v":""},{"$f":"IF($A110=\"\",\"\",VLOOKUP($A110,INSCRITS!$D$4:$W$501,8,0))","v":""},{"$f":"IF($A110=\"\",\"\",VLOOKUP($A110,INSCRITS!$D$4:$W$501,9,0))","v":""},{"$f":"IF($A110=\"\",\"\",VLOOKUP($A110,INSCRITS!$D$4:$W$506,10,0))","v":""},{"$f":"IF(ISNA(VLOOKUP($A110,SPRINT!AD$7:AJ$50,6,0)),\"\",VLOOKUP($A110,SPRINT!AD$7:AJ$50,6,0))","v":""},{"$f":"IF(ISNA(VLOOKUP($A110,SPRINT!AD$7:AJ$50,7,0)),\"\",VLOOKUP($A110,SPRINT!AD$7:AJ$50,7,0))","v":""},{"$f":"IF($A110=\"\",\"\",VLOOKUP($A110,INSCRITS!$D$4:$W$506,11,0))","v":""},{"$f":"IF(ISNA(VLOOKUP($A110,BATONS!AD$7:AJ$51,6,0)),\"\",VLOOKUP($A110,BATONS!AD$7:AJ$51,6,0))","v":""},{"$f":"IF(ISNA(VLOOKUP($A110,BATONS!AD$7:AJ$51,7,0)),\"\",VLOOKUP($A110,BATONS!AD$7:AJ$51,7,0))","v":""},{"$f":"IF($A110=\"\",\"\",VLOOKUP($A110,INSCRITS!$D$4:$W$506,12,0))","v":""},{"$f":"IF(ISNA(VLOOKUP($A110,PLANCHE!AC$7:AI$52,6,0)),\"\",VLOOKUP($A110,PLANCHE!AC$7:AI$52,6,0))","v":""},{"$f":"IF(ISNA(VLOOKUP($A110,PLANCHE!AC$7:AI$52,7,0)),\"\",VLOOKUP($A110,PLANCHE!AC$7:AI$52,7,0))","v":""},{"$f":"IF($A110=\"\",\"\",VLOOKUP($A110,INSCRITS!$D$4:$W$506,13,0))","v":""},{"$f":"IF(ISNA(VLOOKUP($A110,NAGE!N$7:T$52,6,0)),\"\",VLOOKUP($A110,NAGE!N$7:T$52,6,0))","v":""},{"$f":"IF(ISNA(VLOOKUP($A110,NAGE!N$7:T$52,7,0)),\"\",VLOOKUP($A110,NAGE!N$7:T$52,7,0))","v":""},{"$f":"IF($A110=\"\",\"\",VLOOKUP($A110,INSCRITS!$D$4:$W$506,14,0))","v":""},{"$f":"IF(ISNA(VLOOKUP($A110,SURFSKI!AC$8:AI$53,6,0)),\"\",VLOOKUP($A110,SURFSKI!AC$8:AI$53,6,0))","v":""},{"$f":"IF(ISNA(VLOOKUP($A110,SURFSKI!AC$8:AI$53,7,0)),\"\",VLOOKUP($A110,SURFSKI!AC$8:AI$53,7,0))","v":""},{"$f":"IF($A110=\"\",\"\",VLOOKUP($A110,INSCRITS!$D$4:$W$506,15,0))","v":""},{"$f":"IF(ISNA(VLOOKUP($A110,OCEANMAN!AD$7:AJ$52,6,0)),\"\",VLOOKUP($A110,OCEANMAN!AD$7:AJ$52,6,0))","v":""},{"$f":"IF(ISNA(VLOOKUP($A110,OCEANMAN!AD$7:AJ$52,7,0)),\"\",VLOOKUP($A110,OCEANMAN!AD$7:AJ$52,7,0))","v":""},{"$f":"IF($A110=\"\",\"\",VLOOKUP($A110,INSCRITS!$D$4:$W$506,16,0))","v":""},{"$f":"IF(ISNA(VLOOKUP($A110,CNC!N$7:AC$52,6,0)),\"\",VLOOKUP($A110,CNC!N$7:AC$52,6,0))","v":""},{"$f":"IF(ISNA(VLOOKUP($A110,CNC!N$7:AC$52,7,0)),\"\",VLOOKUP($A110,CNC!N$7:AC$52,7,0))","v":""},0,{"$f":"IF($A110=\"\",\"\",VLOOKUP($A110,INSCRITS!$D$4:$W$506,16,0))","v":""},null,{"$f":"IF(AG110=\"\",\"\",VLOOKUP(AG110,[0]!Relais,2))","v":""},{"$f":"IF($A110=\"\",\"\",VLOOKUP($A110,INSCRITS!$D$4:$W$506,17,0))","v":""},null,{"$f":"IF(AJ110=\"\",\"\",VLOOKUP(AJ110,[0]!Relais,2))","v":""},{"$f":"IF($A110=\"\",\"\",VLOOKUP($A110,INSCRITS!$D$4:$W$506,18,0))","v":""},null,{"$f":"IF(AM110=\"\",\"\",VLOOKUP(AM110,[0]!Relais,2))","v":""},{"$f":"IF($A110=\"\",\"\",VLOOKUP($A110,INSCRITS!$D$4:$W$506,19,0))","v":""},null,{"$f":"IF(AP110=\"\",\"\",VLOOKUP(AP110,[0]!Relais,2))","v":""},0,0]
[null,{"$f":"IF($A111=\"\",\"\",VLOOKUP($A111,INSCRITS!$D$4:$W$501,2,0))","v":""},{"$f":"IF($A111=\"\",\"\",VLOOKUP($A111,INSCRITS!$D$4:$W$501,3,0))","v":""},{"$f":"IF($A111=\"\",\"\",VLOOKUP($A111,INSCRITS!$D$4:$W$501,4,0))","v":""},{"$f":"IF($A111=\"\",\"\",VLOOKUP($A111,INSCRITS!$D$4:$W$501,5,0))","v":""},{"$f":"IF($A111=\"\",\"\",VLOOKUP($A111,INSCRITS!$D$4:$W$501,6,0))","v":""},{"$f":"IF($A111=\"\",\"\",VLOOKUP($A111,INSCRITS!$D$4:$W$501,7,0))","v":""},{"$f":"IF($A111=\"\",\"\",VLOOKUP($A111,INSCRITS!$D$4:$W$501,8,0))","v":""},{"$f":"IF($A111=\"\",\"\",VLOOKUP($A111,INSCRITS!$D$4:$W$501,9,0))","v":""},{"$f":"IF($A111=\"\",\"\",VLOOKUP($A111,INSCRITS!$D$4:$W$506,10,0))","v":""},{"$f":"IF(ISNA(VLOOKUP($A111,SPRINT!AD$7:AJ$50,6,0)),\"\",VLOOKUP($A111,SPRINT!AD$7:AJ$50,6,0))","v":""},{"$f":"IF(ISNA(VLOOKUP($A111,SPRINT!AD$7:AJ$50,7,0)),\"\",VLOOKUP($A111,SPRINT!AD$7:AJ$50,7,0))","v":""},{"$f":"IF($A111=\"\",\"\",VLOOKUP($A111,INSCRITS!$D$4:$W$506,11,0))","v":""},{"$f":"IF(ISNA(VLOOKUP($A111,BATONS!AD$7:AJ$51,6,0)),\"\",VLOOKUP($A111,BATONS!AD$7:AJ$51,6,0))","v":""},{"$f":"IF(ISNA(VLOOKUP($A111,BATONS!AD$7:AJ$51,7,0)),\"\",VLOOKUP($A111,BATONS!AD$7:AJ$51,7,0))","v":""},{"$f":"IF($A111=\"\",\"\",VLOOKUP($A111,INSCRITS!$D$4:$W$506,12,0))","v":""},{"$f":"IF(ISNA(VLOOKUP($A111,PLANCHE!AC$7:AI$52,6,0)),\"\",VLOOKUP($A111,PLANCHE!AC$7:AI$52,6,0))","v":""},{"$f":"IF(ISNA(VLOOKUP($A111,PLANCHE!AC$7:AI$52,7,0)),\"\",VLOOKUP($A111,PLANCHE!AC$7:AI$52,7,0))","v":""},{"$f":"IF($A111=\"\",\"\",VLOOKUP($A111,INSCRITS!$D$4:$W$506,13,0))","v":""},{"$f":"IF(ISNA(VLOOKUP($A111,NAGE!N$7:T$52,6,0)),\"\",VLOOKUP($A111,NAGE!N$7:T$52,6,0))","v":""},{"$f":"IF(ISNA(VLOOKUP($A111,NAGE!N$7:T$52,7,0)),\"\",VLOOKUP($A111,NAGE!N$7:T$52,7,0))","v":""},{"$f":"IF($A111=\"\",\"\",VLOOKUP($A111,INSCRITS!$D$4:$W$506,14,0))","v":""},{"$f":"IF(ISNA(VLOOKUP($A111,SURFSKI!AC$8:AI$53,6,0)),\"\",VLOOKUP($A111,SURFSKI!AC$8:AI$53,6,0))","v":""},{"$f":"IF(ISNA(VLOOKUP($A111,SURFSKI!AC$8:AI$53,7,0)),\"\",VLOOKUP($A111,SURFSKI!AC$8:AI$53,7,0))","v":""},{"$f":"IF($A111=\"\",\"\",VLOOKUP($A111,INSCRITS!$D$4:$W$506,15,0))","v":""},{"$f":"IF(ISNA(VLOOKUP($A111,OCEANMAN!AD$7:AJ$52,6,0)),\"\",VLOOKUP($A111,OCEANMAN!AD$7:AJ$52,6,0))","v":""},{"$f":"IF(ISNA(VLOOKUP($A111,OCEANMAN!AD$7:AJ$52,7,0)),\"\",VLOOKUP($A111,OCEANMAN!AD$7:AJ$52,7,0))","v":""},{"$f":"IF($A111=\"\",\"\",VLOOKUP($A111,INSCRITS!$D$4:$W$506,16,0))","v":""},{"$f":"IF(ISNA(VLOOKUP($A111,CNC!N$7:AC$52,6,0)),\"\",VLOOKUP($A111,CNC!N$7:AC$52,6,0))","v":""},{"$f":"IF(ISNA(VLOOKUP($A111,CNC!N$7:AC$52,7,0)),\"\",VLOOKUP($A111,CNC!N$7:AC$52,7,0))","v":""},0,{"$f":"IF($A111=\"\",\"\",VLOOKUP($A111,INSCRITS!$D$4:$W$506,16,0))","v":""},null,{"$f":"IF(AG111=\"\",\"\",VLOOKUP(AG111,[0]!Relais,2))","v":""},{"$f":"IF($A111=\"\",\"\",VLOOKUP($A111,INSCRITS!$D$4:$W$506,17,0))","v":""},null,{"$f":"IF(AJ111=\"\",\"\",VLOOKUP(AJ111,[0]!Relais,2))","v":""},{"$f":"IF($A111=\"\",\"\",VLOOKUP($A111,INSCRITS!$D$4:$W$506,18,0))","v":""},null,{"$f":"IF(AM111=\"\",\"\",VLOOKUP(AM111,[0]!Relais,2))","v":""},{"$f":"IF($A111=\"\",\"\",VLOOKUP($A111,INSCRITS!$D$4:$W$506,19,0))","v":""},null,{"$f":"IF(AP111=\"\",\"\",VLOOKUP(AP111,[0]!Relais,2))","v":""},0,0]
[null,{"$f":"IF($A112=\"\",\"\",VLOOKUP($A112,INSCRITS!$D$4:$W$501,2,0))","v":""},{"$f":"IF($A112=\"\",\"\",VLOOKUP($A112,INSCRITS!$D$4:$W$501,3,0))","v":""},{"$f":"IF($A112=\"\",\"\",VLOOKUP($A112,INSCRITS!$D$4:$W$501,4,0))","v":""},{"$f":"IF($A112=\"\",\"\",VLOOKUP($A112,INSCRITS!$D$4:$W$501,5,0))","v":""},{"$f":"IF($A112=\"\",\"\",VLOOKUP($A112,INSCRITS!$D$4:$W$501,6,0))","v":""},{"$f":"IF($A112=\"\",\"\",VLOOKUP($A112,INSCRITS!$D$4:$W$501,7,0))","v":""},{"$f":"IF($A112=\"\",\"\",VLOOKUP($A112,INSCRITS!$D$4:$W$501,8,0))","v":""},{"$f":"IF($A112=\"\",\"\",VLOOKUP($A112,INSCRITS!$D$4:$W$501,9,0))","v":""},{"$f":"IF($A112=\"\",\"\",VLOOKUP($A112,INSCRITS!$D$4:$W$506,10,0))","v":""},{"$f":"IF(ISNA(VLOOKUP($A112,SPRINT!AD$7:AJ$50,6,0)),\"\",VLOOKUP($A112,SPRINT!AD$7:AJ$50,6,0))","v":""},{"$f":"IF(ISNA(VLOOKUP($A112,SPRINT!AD$7:AJ$50,7,0)),\"\",VLOOKUP($A112,SPRINT!AD$7:AJ$50,7,0))","v":""},{"$f":"IF($A112=\"\",\"\",VLOOKUP($A112,INSCRITS!$D$4:$W$506,11,0))","v":""},{"$f":"IF(ISNA(VLOOKUP($A112,BATONS!AD$7:AJ$51,6,0)),\"\",VLOOKUP($A112,BATONS!AD$7:AJ$51,6,0))","v":""},{"$f":"IF(ISNA(VLOOKUP($A112,BATONS!AD$7:AJ$51,7,0)),\"\",VLOOKUP($A112,BATONS!AD$7:AJ$51,7,0))","v":""},{"$f":"IF($A112=\"\",\"\",VLOOKUP($A112,INSCRITS!$D$4:$W$506,12,0))","v":""},{"$f":"IF(ISNA(VLOOKUP($A112,PLANCHE!AC$7:AI$52,6,0)),\"\",VLOOKUP($A112,PLANCHE!AC$7:AI$52,6,0))","v":""},{"$f":"IF(ISNA(VLOOKUP($A112,PLANCHE!AC$7:AI$52,7,0)),\"\",VLOOKUP($A112,PLANCHE!AC$7:AI$52,7,0))","v":""},{"$f":"IF($A112=\"\",\"\",VLOOKUP($A112,INSCRITS!$D$4:$W$506,13,0))","v":""},{"$f":"IF(ISNA(VLOOKUP($A112,NAGE!N$7:T$52,6,0)),\"\",VLOOKUP($A112,NAGE!N$7:T$52,6,0))","v":""},{"$f":"IF(ISNA(VLOOKUP($A112,NAGE!N$7:T$52,7,0)),\"\",VLOOKUP($A112,NAGE!N$7:T$52,7,0))","v":""},{"$f":"IF($A112=\"\",\"\",VLOOKUP($A112,INSCRITS!$D$4:$W$506,14,0))","v":""},{"$f":"IF(ISNA(VLOOKUP($A112,SURFSKI!AC$8:AI$53,6,0)),\"\",VLOOKUP($A112,SURFSKI!AC$8:AI$53,6,0))","v":""},{"$f":"IF(ISNA(VLOOKUP($A112,SURFSKI!AC$8:AI$53,7,0)),\"\",VLOOKUP($A112,SURFSKI!AC$8:AI$53,7,0))","v":""},{"$f":"IF($A112=\"\",\"\",VLOOKUP($A112,INSCRITS!$D$4:$W$506,15,0))","v":""},{"$f":"IF(ISNA(VLOOKUP($A112,OCEANMAN!AD$7:AJ$52,6,0)),\"\",VLOOKUP($A112,OCEANMAN!AD$7:AJ$52,6,0))","v":""},{"$f":"IF(ISNA(VLOOKUP($A112,OCEANMAN!AD$7:AJ$52,7,0)),\"\",VLOOKUP($A112,OCEANMAN!AD$7:AJ$52,7,0))","v":""},{"$f":"IF($A112=\"\",\"\",VLOOKUP($A112,INSCRITS!$D$4:$W$506,16,0))","v":""},{"$f":"IF(ISNA(VLOOKUP($A112,CNC!N$7:AC$52,6,0)),\"\",VLOOKUP($A112,CNC!N$7:AC$52,6,0))","v":""},{"$f":"IF(ISNA(VLOOKUP($A112,CNC!N$7:AC$52,7,0)),\"\",VLOOKUP($A112,CNC!N$7:AC$52,7,0))","v":""},0,{"$f":"IF($A112=\"\",\"\",VLOOKUP($A112,INSCRITS!$D$4:$W$506,16,0))","v":""},null,{"$f":"IF(AG112=\"\",\"\",VLOOKUP(AG112,[0]!Relais,2))","v":""},{"$f":"IF($A112=\"\",\"\",VLOOKUP($A112,INSCRITS!$D$4:$W$506,17,0))","v":""},null,{"$f":"IF(AJ112=\"\",\"\",VLOOKUP(AJ112,[0]!Relais,2))","v":""},{"$f":"IF($A112=\"\",\"\",VLOOKUP($A112,INSCRITS!$D$4:$W$506,18,0))","v":""},null,{"$f":"IF(AM112=\"\",\"\",VLOOKUP(AM112,[0]!Relais,2))","v":""},{"$f":"IF($A112=\"\",\"\",VLOOKUP($A112,INSCRITS!$D$4:$W$506,19,0))","v":""},null,{"$f":"IF(AP112=\"\",\"\",VLOOKUP(AP112,[0]!Relais,2))","v":""},0,0]
[null,{"$f":"IF($A113=\"\",\"\",VLOOKUP($A113,INSCRITS!$D$4:$W$501,2,0))","v":""},{"$f":"IF($A113=\"\",\"\",VLOOKUP($A113,INSCRITS!$D$4:$W$501,3,0))","v":""},{"$f":"IF($A113=\"\",\"\",VLOOKUP($A113,INSCRITS!$D$4:$W$501,4,0))","v":""},{"$f":"IF($A113=\"\",\"\",VLOOKUP($A113,INSCRITS!$D$4:$W$501,5,0))","v":""},{"$f":"IF($A113=\"\",\"\",VLOOKUP($A113,INSCRITS!$D$4:$W$501,6,0))","v":""},{"$f":"IF($A113=\"\",\"\",VLOOKUP($A113,INSCRITS!$D$4:$W$501,7,0))","v":""},{"$f":"IF($A113=\"\",\"\",VLOOKUP($A113,INSCRITS!$D$4:$W$501,8,0))","v":""},{"$f":"IF($A113=\"\",\"\",VLOOKUP($A113,INSCRITS!$D$4:$W$501,9,0))","v":""},{"$f":"IF($A113=\"\",\"\",VLOOKUP($A113,INSCRITS!$D$4:$W$506,10,0))","v":""},{"$f":"IF(ISNA(VLOOKUP($A113,SPRINT!AD$7:AJ$50,6,0)),\"\",VLOOKUP($A113,SPRINT!AD$7:AJ$50,6,0))","v":""},{"$f":"IF(ISNA(VLOOKUP($A113,SPRINT!AD$7:AJ$50,7,0)),\"\",VLOOKUP($A113,SPRINT!AD$7:AJ$50,7,0))","v":""},{"$f":"IF($A113=\"\",\"\",VLOOKUP($A113,INSCRITS!$D$4:$W$506,11,0))","v":""},{"$f":"IF(ISNA(VLOOKUP($A113,BATONS!AD$7:AJ$51,6,0)),\"\",VLOOKUP($A113,BATONS!AD$7:AJ$51,6,0))","v":""},{"$f":"IF(ISNA(VLOOKUP($A113,BATONS!AD$7:AJ$51,7,0)),\"\",VLOOKUP($A113,BATONS!AD$7:AJ$51,7,0))","v":""},{"$f":"IF($A113=\"\",\"\",VLOOKUP($A113,INSCRITS!$D$4:$W$506,12,0))","v":""},{"$f":"IF(ISNA(VLOOKUP($A113,PLANCHE!AC$7:AI$52,6,0)),\"\",VLOOKUP($A113,PLANCHE!AC$7:AI$52,6,0))","v":""},{"$f":"IF(ISNA(VLOOKUP($A113,PLANCHE!AC$7:AI$52,7,0)),\"\",VLOOKUP($A113,PLANCHE!AC$7:AI$52,7,0))","v":""},{"$f":"IF($A113=\"\",\"\",VLOOKUP($A113,INSCRITS!$D$4:$W$506,13,0))","v":""},{"$f":"IF(ISNA(VLOOKUP($A113,NAGE!N$7:T$52,6,0)),\"\",VLOOKUP($A113,NAGE!N$7:T$52,6,0))","v":""},{"$f":"IF(ISNA(VLOOKUP($A113,NAGE!N$7:T$52,7,0)),\"\",VLOOKUP($A113,NAGE!N$7:T$52,7,0))","v":""},{"$f":"IF($A113=\"\",\"\",VLOOKUP($A113,INSCRITS!$D$4:$W$506,14,0))","v":""},{"$f":"IF(ISNA(VLOOKUP($A113,SURFSKI!AC$8:AI$53,6,0)),\"\",VLOOKUP($A113,SURFSKI!AC$8:AI$53,6,0))","v":""},{"$f":"IF(ISNA(VLOOKUP($A113,SURFSKI!AC$8:AI$53,7,0)),\"\",VLOOKUP($A113,SURFSKI!AC$8:AI$53,7,0))","v":""},{"$f":"IF($A113=\"\",\"\",VLOOKUP($A113,INSCRITS!$D$4:$W$506,15,0))","v":""},{"$f":"IF(ISNA(VLOOKUP($A113,OCEANMAN!AD$7:AJ$52,6,0)),\"\",VLOOKUP($A113,OCEANMAN!AD$7:AJ$52,6,0))","v":""},{"$f":"IF(ISNA(VLOOKUP($A113,OCEANMAN!AD$7:AJ$52,7,0)),\"\",VLOOKUP($A113,OCEANMAN!AD$7:AJ$52,7,0))","v":""},{"$f":"IF($A113=\"\",\"\",VLOOKUP($A113,INSCRITS!$D$4:$W$506,16,0))","v":""},{"$f":"IF(ISNA(VLOOKUP($A113,CNC!N$7:AC$52,6,0)),\"\",VLOOKUP($A113,CNC!N$7:AC$52,6,0))","v":""},{"$f":"IF(ISNA(VLOOKUP($A113,CNC!N$7:AC$52,7,0)),\"\",VLOOKUP($A113,CNC!N$7:AC$52,7,0))","v":""},0,{"$f":"IF($A113=\"\",\"\",VLOOKUP($A113,INSCRITS!$D$4:$W$506,16,0))","v":""},null,{"$f":"IF(AG113=\"\",\"\",VLOOKUP(AG113,[0]!Relais,2))","v":""},{"$f":"IF($A113=\"\",\"\",VLOOKUP($A113,INSCRITS!$D$4:$W$506,17,0))","v":""},null,{"$f":"IF(AJ113=\"\",\"\",VLOOKUP(AJ113,[0]!Relais,2))","v":""},{"$f":"IF($A113=\"\",\"\",VLOOKUP($A113,INSCRITS!$D$4:$W$506,18,0))","v":""},null,{"$f":"IF(AM113=\"\",\"\",VLOOKUP(AM113,[0]!Relais,2))","v":""},{"$f":"IF($A113=\"\",\"\",VLOOKUP($A113,INSCRITS!$D$4:$W$506,19,0))","v":""},null,{"$f":"IF(AP113=\"\",\"\",VLOOKUP(AP113,[0]!Relais,2))","v":""},0,0]
[null,{"$f":"IF($A114=\"\",\"\",VLOOKUP($A114,INSCRITS!$D$4:$W$501,2,0))","v":""},{"$f":"IF($A114=\"\",\"\",VLOOKUP($A114,INSCRITS!$D$4:$W$501,3,0))","v":""},{"$f":"IF($A114=\"\",\"\",VLOOKUP($A114,INSCRITS!$D$4:$W$501,4,0))","v":""},{"$f":"IF($A114=\"\",\"\",VLOOKUP($A114,INSCRITS!$D$4:$W$501,5,0))","v":""},{"$f":"IF($A114=\"\",\"\",VLOOKUP($A114,INSCRITS!$D$4:$W$501,6,0))","v":""},{"$f":"IF($A114=\"\",\"\",VLOOKUP($A114,INSCRITS!$D$4:$W$501,7,0))","v":""},{"$f":"IF($A114=\"\",\"\",VLOOKUP($A114,INSCRITS!$D$4:$W$501,8,0))","v":""},{"$f":"IF($A114=\"\",\"\",VLOOKUP($A114,INSCRITS!$D$4:$W$501,9,0))","v":""},{"$f":"IF($A114=\"\",\"\",VLOOKUP($A114,INSCRITS!$D$4:$W$506,10,0))","v":""},{"$f":"IF(ISNA(VLOOKUP($A114,SPRINT!AD$7:AJ$50,6,0)),\"\",VLOOKUP($A114,SPRINT!AD$7:AJ$50,6,0))","v":""},{"$f":"IF(ISNA(VLOOKUP($A114,SPRINT!AD$7:AJ$50,7,0)),\"\",VLOOKUP($A114,SPRINT!AD$7:AJ$50,7,0))","v":""},{"$f":"IF($A114=\"\",\"\",VLOOKUP($A114,INSCRITS!$D$4:$W$506,11,0))","v":""},{"$f":"IF(ISNA(VLOOKUP($A114,BATONS!AD$7:AJ$51,6,0)),\"\",VLOOKUP($A114,BATONS!AD$7:AJ$51,6,0))","v":""},{"$f":"IF(ISNA(VLOOKUP($A114,BATONS!AD$7:AJ$51,7,0)),\"\",VLOOKUP($A114,BATONS!AD$7:AJ$51,7,0))","v":""},{"$f":"IF($A114=\"\",\"\",VLOOKUP($A114,INSCRITS!$D$4:$W$506,12,0))","v":""},{"$f":"IF(ISNA(VLOOKUP($A114,PLANCHE!AC$7:AI$52,6,0)),\"\",VLOOKUP($A114,PLANCHE!AC$7:AI$52,6,0))","v":""},{"$f":"IF(ISNA(VLOOKUP($A114,PLANCHE!AC$7:AI$52,7,0)),\"\",VLOOKUP($A114,PLANCHE!AC$7:AI$52,7,0))","v":""},{"$f":"IF($A114=\"\",\"\",VLOOKUP($A114,INSCRITS!$D$4:$W$506,13,0))","v":""},{"$f":"IF(ISNA(VLOOKUP($A114,NAGE!N$7:T$52,6,0)),\"\",VLOOKUP($A114,NAGE!N$7:T$52,6,0))","v":""},{"$f":"IF(ISNA(VLOOKUP($A114,NAGE!N$7:T$52,7,0)),\"\",VLOOKUP($A114,NAGE!N$7:T$52,7,0))","v":""},{"$f":"IF($A114=\"\",\"\",VLOOKUP($A114,INSCRITS!$D$4:$W$506,14,0))","v":""},{"$f":"IF(ISNA(VLOOKUP($A114,SURFSKI!AC$8:AI$53,6,0)),\"\",VLOOKUP($A114,SURFSKI!AC$8:AI$53,6,0))","v":""},{"$f":"IF(ISNA(VLOOKUP($A114,SURFSKI!AC$8:AI$53,7,0)),\"\",VLOOKUP($A114,SURFSKI!AC$8:AI$53,7,0))","v":""},{"$f":"IF($A114=\"\",\"\",VLOOKUP($A114,INSCRITS!$D$4:$W$506,15,0))","v":""},{"$f":"IF(ISNA(VLOOKUP($A114,OCEANMAN!AD$7:AJ$52,6,0)),\"\",VLOOKUP($A114,OCEANMAN!AD$7:AJ$52,6,0))","v":""},{"$f":"IF(ISNA(VLOOKUP($A114,OCEANMAN!AD$7:AJ$52,7,0)),\"\",VLOOKUP($A114,OCEANMAN!AD$7:AJ$52,7,0))","v":""},{"$f":"IF($A114=\"\",\"\",VLOOKUP($A114,INSCRITS!$D$4:$W$506,16,0))","v":""},{"$f":"IF(ISNA(VLOOKUP($A114,CNC!N$7:AC$52,6,0)),\"\",VLOOKUP($A114,CNC!N$7:AC$52,6,0))","v":""},{"$f":"IF(ISNA(VLOOKUP($A114,CNC!N$7:AC$52,7,0)),\"\",VLOOKUP($A114,CNC!N$7:AC$52,7,0))","v":""},0,{"$f":"IF($A114=\"\",\"\",VLOOKUP($A114,INSCRITS!$D$4:$W$506,16,0))","v":""},null,{"$f":"IF(AG114=\"\",\"\",VLOOKUP(AG114,[0]!Relais,2))","v":""},{"$f":"IF($A114=\"\",\"\",VLOOKUP($A114,INSCRITS!$D$4:$W$506,17,0))","v":""},null,{"$f":"IF(AJ114=\"\",\"\",VLOOKUP(AJ114,[0]!Relais,2))","v":""},{"$f":"IF($A114=\"\",\"\",VLOOKUP($A114,INSCRITS!$D$4:$W$506,18,0))","v":""},null,{"$f":"IF(AM114=\"\",\"\",VLOOKUP(AM114,[0]!Relais,2))","v":""},{"$f":"IF($A114=\"\",\"\",VLOOKUP($A114,INSCRITS!$D$4:$W$506,19,0))","v":""},null,{"$f":"IF(AP114=\"\",\"\",VLOOKUP(AP114,[0]!Relais,2))","v":""},0,0]
[null,{"$f":"IF($A115=\"\",\"\",VLOOKUP($A115,INSCRITS!$D$4:$W$501,2,0))","v":""},{"$f":"IF($A115=\"\",\"\",VLOOKUP($A115,INSCRITS!$D$4:$W$501,3,0))","v":""},{"$f":"IF($A115=\"\",\"\",VLOOKUP($A115,INSCRITS!$D$4:$W$501,4,0))","v":""},{"$f":"IF($A115=\"\",\"\",VLOOKUP($A115,INSCRITS!$D$4:$W$501,5,0))","v":""},{"$f":"IF($A115=\"\",\"\",VLOOKUP($A115,INSCRITS!$D$4:$W$501,6,0))","v":""},{"$f":"IF($A115=\"\",\"\",VLOOKUP($A115,INSCRITS!$D$4:$W$501,7,0))","v":""},{"$f":"IF($A115=\"\",\"\",VLOOKUP($A115,INSCRITS!$D$4:$W$501,8,0))","v":""},{"$f":"IF($A115=\"\",\"\",VLOOKUP($A115,INSCRITS!$D$4:$W$501,9,0))","v":""},{"$f":"IF($A115=\"\",\"\",VLOOKUP($A115,INSCRITS!$D$4:$W$506,10,0))","v":""},{"$f":"IF(ISNA(VLOOKUP($A115,SPRINT!AD$7:AJ$50,6,0)),\"\",VLOOKUP($A115,SPRINT!AD$7:AJ$50,6,0))","v":""},{"$f":"IF(ISNA(VLOOKUP($A115,SPRINT!AD$7:AJ$50,7,0)),\"\",VLOOKUP($A115,SPRINT!AD$7:AJ$50,7,0))","v":""},{"$f":"IF($A115=\"\",\"\",VLOOKUP($A115,INSCRITS!$D$4:$W$506,11,0))","v":""},{"$f":"IF(ISNA(VLOOKUP($A115,BATONS!AD$7:AJ$51,6,0)),\"\",VLOOKUP($A115,BATONS!AD$7:AJ$51,6,0))","v":""},{"$f":"IF(ISNA(VLOOKUP($A115,BATONS!AD$7:AJ$51,7,0)),\"\",VLOOKUP($A115,BATONS!AD$7:AJ$51,7,0))","v":""},{"$f":"IF($A115=\"\",\"\",VLOOKUP($A115,INSCRITS!$D$4:$W$506,12,0))","v":""},{"$f":"IF(ISNA(VLOOKUP($A115,PLANCHE!AC$7:AI$52,6,0)),\"\",VLOOKUP($A115,PLANCHE!AC$7:AI$52,6,0))","v":""},{"$f":"IF(ISNA(VLOOKUP($A115,PLANCHE!AC$7:AI$52,7,0)),\"\",VLOOKUP($A115,PLANCHE!AC$7:AI$52,7,0))","v":""},{"$f":"IF($A115=\"\",\"\",VLOOKUP($A115,INSCRITS!$D$4:$W$506,13,0))","v":""},{"$f":"IF(ISNA(VLOOKUP($A115,NAGE!N$7:T$52,6,0)),\"\",VLOOKUP($A115,NAGE!N$7:T$52,6,0))","v":""},{"$f":"IF(ISNA(VLOOKUP($A115,NAGE!N$7:T$52,7,0)),\"\",VLOOKUP($A115,NAGE!N$7:T$52,7,0))","v":""},{"$f":"IF($A115=\"\",\"\",VLOOKUP($A115,INSCRITS!$D$4:$W$506,14,0))","v":""},{"$f":"IF(ISNA(VLOOKUP($A115,SURFSKI!AC$8:AI$53,6,0)),\"\",VLOOKUP($A115,SURFSKI!AC$8:AI$53,6,0))","v":""},{"$f":"IF(ISNA(VLOOKUP($A115,SURFSKI!AC$8:AI$53,7,0)),\"\",VLOOKUP($A115,SURFSKI!AC$8:AI$53,7,0))","v":""},{"$f":"IF($A115=\"\",\"\",VLOOKUP($A115,INSCRITS!$D$4:$W$506,15,0))","v":""},{"$f":"IF(ISNA(VLOOKUP($A115,OCEANMAN!AD$7:AJ$52,6,0)),\"\",VLOOKUP($A115,OCEANMAN!AD$7:AJ$52,6,0))","v":""},{"$f":"IF(ISNA(VLOOKUP($A115,OCEANMAN!AD$7:AJ$52,7,0)),\"\",VLOOKUP($A115,OCEANMAN!AD$7:AJ$52,7,0))","v":""},{"$f":"IF($A115=\"\",\"\",VLOOKUP($A115,INSCRITS!$D$4:$W$506,16,0))","v":""},{"$f":"IF(ISNA(VLOOKUP($A115,CNC!N$7:AC$52,6,0)),\"\",VLOOKUP($A115,CNC!N$7:AC$52,6,0))","v":""},{"$f":"IF(ISNA(VLOOKUP($A115,CNC!N$7:AC$52,7,0)),\"\",VLOOKUP($A115,CNC!N$7:AC$52,7,0))","v":""},0,{"$f":"IF($A115=\"\",\"\",VLOOKUP($A115,INSCRITS!$D$4:$W$506,16,0))","v":""},null,{"$f":"IF(AG115=\"\",\"\",VLOOKUP(AG115,[0]!Relais,2))","v":""},{"$f":"IF($A115=\"\",\"\",VLOOKUP($A115,INSCRITS!$D$4:$W$506,17,0))","v":""},null,{"$f":"IF(AJ115=\"\",\"\",VLOOKUP(AJ115,[0]!Relais,2))","v":""},{"$f":"IF($A115=\"\",\"\",VLOOKUP($A115,INSCRITS!$D$4:$W$506,18,0))","v":""},null,{"$f":"IF(AM115=\"\",\"\",VLOOKUP(AM115,[0]!Relais,2))","v":""},{"$f":"IF($A115=\"\",\"\",VLOOKUP($A115,INSCRITS!$D$4:$W$506,19,0))","v":""},null,{"$f":"IF(AP115=\"\",\"\",VLOOKUP(AP115,[0]!Relais,2))","v":""},0,0]
[null,{"$f":"IF($A116=\"\",\"\",VLOOKUP($A116,INSCRITS!$D$4:$W$501,2,0))","v":""},{"$f":"IF($A116=\"\",\"\",VLOOKUP($A116,INSCRITS!$D$4:$W$501,3,0))","v":""},{"$f":"IF($A116=\"\",\"\",VLOOKUP($A116,INSCRITS!$D$4:$W$501,4,0))","v":""},{"$f":"IF($A116=\"\",\"\",VLOOKUP($A116,INSCRITS!$D$4:$W$501,5,0))","v":""},{"$f":"IF($A116=\"\",\"\",VLOOKUP($A116,INSCRITS!$D$4:$W$501,6,0))","v":""},{"$f":"IF($A116=\"\",\"\",VLOOKUP($A116,INSCRITS!$D$4:$W$501,7,0))","v":""},{"$f":"IF($A116=\"\",\"\",VLOOKUP($A116,INSCRITS!$D$4:$W$501,8,0))","v":""},{"$f":"IF($A116=\"\",\"\",VLOOKUP($A116,INSCRITS!$D$4:$W$501,9,0))","v":""},{"$f":"IF($A116=\"\",\"\",VLOOKUP($A116,INSCRITS!$D$4:$W$506,10,0))","v":""},{"$f":"IF(ISNA(VLOOKUP($A116,SPRINT!AD$7:AJ$50,6,0)),\"\",VLOOKUP($A116,SPRINT!AD$7:AJ$50,6,0))","v":""},{"$f":"IF(ISNA(VLOOKUP($A116,SPRINT!AD$7:AJ$50,7,0)),\"\",VLOOKUP($A116,SPRINT!AD$7:AJ$50,7,0))","v":""},{"$f":"IF($A116=\"\",\"\",VLOOKUP($A116,INSCRITS!$D$4:$W$506,11,0))","v":""},{"$f":"IF(ISNA(VLOOKUP($A116,BATONS!AD$7:AJ$51,6,0)),\"\",VLOOKUP($A116,BATONS!AD$7:AJ$51,6,0))","v":""},{"$f":"IF(ISNA(VLOOKUP($A116,BATONS!AD$7:AJ$51,7,0)),\"\",VLOOKUP($A116,BATONS!AD$7:AJ$51,7,0))","v":""},{"$f":"IF($A116=\"\",\"\",VLOOKUP($A116,INSCRITS!$D$4:$W$506,12,0))","v":""},{"$f":"IF(ISNA(VLOOKUP($A116,PLANCHE!AC$7:AI$52,6,0)),\"\",VLOOKUP($A116,PLANCHE!AC$7:AI$52,6,0))","v":""},{"$f":"IF(ISNA(VLOOKUP($A116,PLANCHE!AC$7:AI$52,7,0)),\"\",VLOOKUP($A116,PLANCHE!AC$7:AI$52,7,0))","v":""},{"$f":"IF($A116=\"\",\"\",VLOOKUP($A116,INSCRITS!$D$4:$W$506,13,0))","v":""},{"$f":"IF(ISNA(VLOOKUP($A116,NAGE!N$7:T$52,6,0)),\"\",VLOOKUP($A116,NAGE!N$7:T$52,6,0))","v":""},{"$f":"IF(ISNA(VLOOKUP($A116,NAGE!N$7:T$52,7,0)),\"\",VLOOKUP($A116,NAGE!N$7:T$52,7,0))","v":""},{"$f":"IF($A116=\"\",\"\",VLOOKUP($A116,INSCRITS!$D$4:$W$506,14,0))","v":""},{"$f":"IF(ISNA(VLOOKUP($A116,SURFSKI!AC$8:AI$53,6,0)),\"\",VLOOKUP($A116,SURFSKI!AC$8:AI$53,6,0))","v":""},{"$f":"IF(ISNA(VLOOKUP($A116,SURFSKI!AC$8:AI$53,7,0)),\"\",VLOOKUP($A116,SURFSKI!AC$8:AI$53,7,0))","v":""},{"$f":"IF($A116=\"\",\"\",VLOOKUP($A116,INSCRITS!$D$4:$W$506,15,0))","v":""},{"$f":"IF(ISNA(VLOOKUP($A116,OCEANMAN!AD$7:AJ$52,6,0)),\"\",VLOOKUP($A116,OCEANMAN!AD$7:AJ$52,6,0))","v":""},{"$f":"IF(ISNA(VLOOKUP($A116,OCEANMAN!AD$7:AJ$52,7,0)),\"\",VLOOKUP($A116,OCEANMAN!AD$7:AJ$52,7,0))","v":""},{"$f":"IF($A116=\"\",\"\",VLOOKUP($A116,INSCRITS!$D$4:$W$506,16,0))","v":""},{"$f":"IF(ISNA(VLOOKUP($A116,CNC!N$7:AC$52,6,0)),\"\",VLOOKUP($A116,CNC!N$7:AC$52,6,0))","v":""},{"$f":"IF(ISNA(VLOOKUP($A116,CNC!N$7:AC$52,7,0)),\"\",VLOOKUP($A116,CNC!N$7:AC$52,7,0))","v":""},0,{"$f":"IF($A116=\"\",\"\",VLOOKUP($A116,INSCRITS!$D$4:$W$506,16,0))","v":""},null,{"$f":"IF(AG116=\"\",\"\",VLOOKUP(AG116,[0]!Relais,2))","v":""},{"$f":"IF($A116=\"\",\"\",VLOOKUP($A116,INSCRITS!$D$4:$W$506,17,0))","v":""},null,{"$f":"IF(AJ116=\"\",\"\",VLOOKUP(AJ116,[0]!Relais,2))","v":""},{"$f":"IF($A116=\"\",\"\",VLOOKUP($A116,INSCRITS!$D$4:$W$506,18,0))","v":""},null,{"$f":"IF(AM116=\"\",\"\",VLOOKUP(AM116,[0]!Relais,2))","v":""},{"$f":"IF($A116=\"\",\"\",VLOOKUP($A116,INSCRITS!$D$4:$W$506,19,0))","v":""},null,{"$f":"IF(AP116=\"\",\"\",VLOOKUP(AP116,[0]!Relais,2))","v":""},0,0]
[null,{"$f":"IF($A117=\"\",\"\",VLOOKUP($A117,INSCRITS!$D$4:$W$501,2,0))","v":""},{"$f":"IF($A117=\"\",\"\",VLOOKUP($A117,INSCRITS!$D$4:$W$501,3,0))","v":""},{"$f":"IF($A117=\"\",\"\",VLOOKUP($A117,INSCRITS!$D$4:$W$501,4,0))","v":""},{"$f":"IF($A117=\"\",\"\",VLOOKUP($A117,INSCRITS!$D$4:$W$501,5,0))","v":""},{"$f":"IF($A117=\"\",\"\",VLOOKUP($A117,INSCRITS!$D$4:$W$501,6,0))","v":""},{"$f":"IF($A117=\"\",\"\",VLOOKUP($A117,INSCRITS!$D$4:$W$501,7,0))","v":""},{"$f":"IF($A117=\"\",\"\",VLOOKUP($A117,INSCRITS!$D$4:$W$501,8,0))","v":""},{"$f":"IF($A117=\"\",\"\",VLOOKUP($A117,INSCRITS!$D$4:$W$501,9,0))","v":""},{"$f":"IF($A117=\"\",\"\",VLOOKUP($A117,INSCRITS!$D$4:$W$506,10,0))","v":""},{"$f":"IF(ISNA(VLOOKUP($A117,SPRINT!AD$7:AJ$50,6,0)),\"\",VLOOKUP($A117,SPRINT!AD$7:AJ$50,6,0))","v":""},{"$f":"IF(ISNA(VLOOKUP($A117,SPRINT!AD$7:AJ$50,7,0)),\"\",VLOOKUP($A117,SPRINT!AD$7:AJ$50,7,0))","v":""},{"$f":"IF($A117=\"\",\"\",VLOOKUP($A117,INSCRITS!$D$4:$W$506,11,0))","v":""},{"$f":"IF(ISNA(VLOOKUP($A117,BATONS!AD$7:AJ$51,6,0)),\"\",VLOOKUP($A117,BATONS!AD$7:AJ$51,6,0))","v":""},{"$f":"IF(ISNA(VLOOKUP($A117,BATONS!AD$7:AJ$51,7,0)),\"\",VLOOKUP($A117,BATONS!AD$7:AJ$51,7,0))","v":""},{"$f":"IF($A117=\"\",\"\",VLOOKUP($A117,INSCRITS!$D$4:$W$506,12,0))","v":""},{"$f":"IF(ISNA(VLOOKUP($A117,PLANCHE!AC$7:AI$52,6,0)),\"\",VLOOKUP($A117,PLANCHE!AC$7:AI$52,6,0))","v":""},{"$f":"IF(ISNA(VLOOKUP($A117,PLANCHE!AC$7:AI$52,7,0)),\"\",VLOOKUP($A117,PLANCHE!AC$7:AI$52,7,0))","v":""},{"$f":"IF($A117=\"\",\"\",VLOOKUP($A117,INSCRITS!$D$4:$W$506,13,0))","v":""},{"$f":"IF(ISNA(VLOOKUP($A117,NAGE!N$7:T$52,6,0)),\"\",VLOOKUP($A117,NAGE!N$7:T$52,6,0))","v":""},{"$f":"IF(ISNA(VLOOKUP($A117,NAGE!N$7:T$52,7,0)),\"\",VLOOKUP($A117,NAGE!N$7:T$52,7,0))","v":""},{"$f":"IF($A117=\"\",\"\",VLOOKUP($A117,INSCRITS!$D$4:$W$506,14,0))","v":""},{"$f":"IF(ISNA(VLOOKUP($A117,SURFSKI!AC$8:AI$53,6,0)),\"\",VLOOKUP($A117,SURFSKI!AC$8:AI$53,6,0))","v":""},{"$f":"IF(ISNA(VLOOKUP($A117,SURFSKI!AC$8:AI$53,7,0)),\"\",VLOOKUP($A117,SURFSKI!AC$8:AI$53,7,0))","v":""},{"$f":"IF($A117=\"\",\"\",VLOOKUP($A117,INSCRITS!$D$4:$W$506,15,0))","v":""},{"$f":"IF(ISNA(VLOOKUP($A117,OCEANMAN!AD$7:AJ$52,6,0)),\"\",VLOOKUP($A117,OCEANMAN!AD$7:AJ$52,6,0))","v":""},{"$f":"IF(ISNA(VLOOKUP($A117,OCEANMAN!AD$7:AJ$52,7,0)),\"\",VLOOKUP($A117,OCEANMAN!AD$7:AJ$52,7,0))","v":""},{"$f":"IF($A117=\"\",\"\",VLOOKUP($A117,INSCRITS!$D$4:$W$506,16,0))","v":""},{"$f":"IF(ISNA(VLOOKUP($A117,CNC!N$7:AC$52,6,0)),\"\",VLOOKUP($A117,CNC!N$7:AC$52,6,0))","v":""},{"$f":"IF(ISNA(VLOOKUP($A117,CNC!N$7:AC$52,7,0)),\"\",VLOOKUP($A117,CNC!N$7:AC$52,7,0))","v":""},0,{"$f":"IF($A117=\"\",\"\",VLOOKUP($A117,INSCRITS!$D$4:$W$506,16,0))","v":""},null,{"$f":"IF(AG117=\"\",\"\",VLOOKUP(AG117,[0]!Relais,2))","v":""},{"$f":"IF($A117=\"\",\"\",VLOOKUP($A117,INSCRITS!$D$4:$W$506,17,0))","v":""},null,{"$f":"IF(AJ117=\"\",\"\",VLOOKUP(AJ117,[0]!Relais,2))","v":""},{"$f":"IF($A117=\"\",\"\",VLOOKUP($A117,INSCRITS!$D$4:$W$506,18,0))","v":""},null,{"$f":"IF(AM117=\"\",\"\",VLOOKUP(AM117,[0]!Relais,2))","v":""},{"$f":"IF($A117=\"\",\"\",VLOOKUP($A117,INSCRITS!$D$4:$W$506,19,0))","v":""},null,{"$f":"IF(AP117=\"\",\"\",VLOOKUP(AP117,[0]!Relais,2))","v":""},0,0]
[null,{"$f":"IF($A118=\"\",\"\",VLOOKUP($A118,INSCRITS!$D$4:$W$501,2,0))","v":""},{"$f":"IF($A118=\"\",\"\",VLOOKUP($A118,INSCRITS!$D$4:$W$501,3,0))","v":""},{"$f":"IF($A118=\"\",\"\",VLOOKUP($A118,INSCRITS!$D$4:$W$501,4,0))","v":""},{"$f":"IF($A118=\"\",\"\",VLOOKUP($A118,INSCRITS!$D$4:$W$501,5,0))","v":""},{"$f":"IF($A118=\"\",\"\",VLOOKUP($A118,INSCRITS!$D$4:$W$501,6,0))","v":""},{"$f":"IF($A118=\"\",\"\",VLOOKUP($A118,INSCRITS!$D$4:$W$501,7,0))","v":""},{"$f":"IF($A118=\"\",\"\",VLOOKUP($A118,INSCRITS!$D$4:$W$501,8,0))","v":""},{"$f":"IF($A118=\"\",\"\",VLOOKUP($A118,INSCRITS!$D$4:$W$501,9,0))","v":""},{"$f":"IF($A118=\"\",\"\",VLOOKUP($A118,INSCRITS!$D$4:$W$506,10,0))","v":""},{"$f":"IF(ISNA(VLOOKUP($A118,SPRINT!AD$7:AJ$50,6,0)),\"\",VLOOKUP($A118,SPRINT!AD$7:AJ$50,6,0))","v":""},{"$f":"IF(ISNA(VLOOKUP($A118,SPRINT!AD$7:AJ$50,7,0)),\"\",VLOOKUP($A118,SPRINT!AD$7:AJ$50,7,0))","v":""},{"$f":"IF($A118=\"\",\"\",VLOOKUP($A118,INSCRITS!$D$4:$W$506,11,0))","v":""},{"$f":"IF(ISNA(VLOOKUP($A118,BATONS!AD$7:AJ$51,6,0)),\"\",VLOOKUP($A118,BATONS!AD$7:AJ$51,6,0))","v":""},{"$f":"IF(ISNA(VLOOKUP($A118,BATONS!AD$7:AJ$51,7,0)),\"\",VLOOKUP($A118,BATONS!AD$7:AJ$51,7,0))","v":""},{"$f":"IF($A118=\"\",\"\",VLOOKUP($A118,INSCRITS!$D$4:$W$506,12,0))","v":""},{"$f":"IF(ISNA(VLOOKUP($A118,PLANCHE!AC$7:AI$52,6,0)),\"\",VLOOKUP($A118,PLANCHE!AC$7:AI$52,6,0))","v":""},{"$f":"IF(ISNA(VLOOKUP($A118,PLANCHE!AC$7:AI$52,7,0)),\"\",VLOOKUP($A118,PLANCHE!AC$7:AI$52,7,0))","v":""},{"$f":"IF($A118=\"\",\"\",VLOOKUP($A118,INSCRITS!$D$4:$W$506,13,0))","v":""},{"$f":"IF(ISNA(VLOOKUP($A118,NAGE!N$7:T$52,6,0)),\"\",VLOOKUP($A118,NAGE!N$7:T$52,6,0))","v":""},{"$f":"IF(ISNA(VLOOKUP($A118,NAGE!N$7:T$52,7,0)),\"\",VLOOKUP($A118,NAGE!N$7:T$52,7,0))","v":""},{"$f":"IF($A118=\"\",\"\",VLOOKUP($A118,INSCRITS!$D$4:$W$506,14,0))","v":""},{"$f":"IF(ISNA(VLOOKUP($A118,SURFSKI!AC$8:AI$53,6,0)),\"\",VLOOKUP($A118,SURFSKI!AC$8:AI$53,6,0))","v":""},{"$f":"IF(ISNA(VLOOKUP($A118,SURFSKI!AC$8:AI$53,7,0)),\"\",VLOOKUP($A118,SURFSKI!AC$8:AI$53,7,0))","v":""},{"$f":"IF($A118=\"\",\"\",VLOOKUP($A118,INSCRITS!$D$4:$W$506,15,0))","v":""},{"$f":"IF(ISNA(VLOOKUP($A118,OCEANMAN!AD$7:AJ$52,6,0)),\"\",VLOOKUP($A118,OCEANMAN!AD$7:AJ$52,6,0))","v":""},{"$f":"IF(ISNA(VLOOKUP($A118,OCEANMAN!AD$7:AJ$52,7,0)),\"\",VLOOKUP($A118,OCEANMAN!AD$7:AJ$52,7,0))","v":""},{"$f":"IF($A118=\"\",\"\",VLOOKUP($A118,INSCRITS!$D$4:$W$506,16,0))","v":""},{"$f":"IF(ISNA(VLOOKUP($A118,CNC!N$7:AC$52,6,0)),\"\",VLOOKUP($A118,CNC!N$7:AC$52,6,0))","v":""},{"$f":"IF(ISNA(VLOOKUP($A118,CNC!N$7:AC$52,7,0)),\"\",VLOOKUP($A118,CNC!N$7:AC$52,7,0))","v":""},0,{"$f":"IF($A118=\"\",\"\",VLOOKUP($A118,INSCRITS!$D$4:$W$506,16,0))","v":""},null,{"$f":"IF(AG118=\"\",\"\",VLOOKUP(AG118,[0]!Relais,2))","v":""},{"$f":"IF($A118=\"\",\"\",VLOOKUP($A118,INSCRITS!$D$4:$W$506,17,0))","v":""},null,{"$f":"IF(AJ118=\"\",\"\",VLOOKUP(AJ118,[0]!Relais,2))","v":""},{"$f":"IF($A118=\"\",\"\",VLOOKUP($A118,INSCRITS!$D$4:$W$506,18,0))","v":""},null,{"$f":"IF(AM118=\"\",\"\",VLOOKUP(AM118,[0]!Relais,2))","v":""},{"$f":"IF($A118=\"\",\"\",VLOOKUP($A118,INSCRITS!$D$4:$W$506,19,0))","v":""},null,{"$f":"IF(AP118=\"\",\"\",VLOOKUP(AP118,[0]!Relais,2))","v":""},0,0]
[null,{"$f":"IF($A119=\"\",\"\",VLOOKUP($A119,INSCRITS!$D$4:$W$501,2,0))","v":""},{"$f":"IF($A119=\"\",\"\",VLOOKUP($A119,INSCRITS!$D$4:$W$501,3,0))","v":""},{"$f":"IF($A119=\"\",\"\",VLOOKUP($A119,INSCRITS!$D$4:$W$501,4,0))","v":""},{"$f":"IF($A119=\"\",\"\",VLOOKUP($A119,INSCRITS!$D$4:$W$501,5,0))","v":""},{"$f":"IF($A119=\"\",\"\",VLOOKUP($A119,INSCRITS!$D$4:$W$501,6,0))","v":""},{"$f":"IF($A119=\"\",\"\",VLOOKUP($A119,INSCRITS!$D$4:$W$501,7,0))","v":""},{"$f":"IF($A119=\"\",\"\",VLOOKUP($A119,INSCRITS!$D$4:$W$501,8,0))","v":""},{"$f":"IF($A119=\"\",\"\",VLOOKUP($A119,INSCRITS!$D$4:$W$501,9,0))","v":""},{"$f":"IF($A119=\"\",\"\",VLOOKUP($A119,INSCRITS!$D$4:$W$506,10,0))","v":""},{"$f":"IF(ISNA(VLOOKUP($A119,SPRINT!AD$7:AJ$50,6,0)),\"\",VLOOKUP($A119,SPRINT!AD$7:AJ$50,6,0))","v":""},{"$f":"IF(ISNA(VLOOKUP($A119,SPRINT!AD$7:AJ$50,7,0)),\"\",VLOOKUP($A119,SPRINT!AD$7:AJ$50,7,0))","v":""},{"$f":"IF($A119=\"\",\"\",VLOOKUP($A119,INSCRITS!$D$4:$W$506,11,0))","v":""},{"$f":"IF(ISNA(VLOOKUP($A119,BATONS!AD$7:AJ$51,6,0)),\"\",VLOOKUP($A119,BATONS!AD$7:AJ$51,6,0))","v":""},{"$f":"IF(ISNA(VLOOKUP($A119,BATONS!AD$7:AJ$51,7,0)),\"\",VLOOKUP($A119,BATONS!AD$7:AJ$51,7,0))","v":""},{"$f":"IF($A119=\"\",\"\",VLOOKUP($A119,INSCRITS!$D$4:$W$506,12,0))","v":""},{"$f":"IF(ISNA(VLOOKUP($A119,PLANCHE!AC$7:AI$52,6,0)),\"\",VLOOKUP($A119,PLANCHE!AC$7:AI$52,6,0))","v":""},{"$f":"IF(ISNA(VLOOKUP($A119,PLANCHE!AC$7:AI$52,7,0)),\"\",VLOOKUP($A119,PLANCHE!AC$7:AI$52,7,0))","v":""},{"$f":"IF($A119=\"\",\"\",VLOOKUP($A119,INSCRITS!$D$4:$W$506,13,0))","v":""},{"$f":"IF(ISNA(VLOOKUP($A119,NAGE!N$7:T$52,6,0)),\"\",VLOOKUP($A119,NAGE!N$7:T$52,6,0))","v":""},{"$f":"IF(ISNA(VLOOKUP($A119,NAGE!N$7:T$52,7,0)),\"\",VLOOKUP($A119,NAGE!N$7:T$52,7,0))","v":""},{"$f":"IF($A119=\"\",\"\",VLOOKUP($A119,INSCRITS!$D$4:$W$506,14,0))","v":""},{"$f":"IF(ISNA(VLOOKUP($A119,SURFSKI!AC$8:AI$53,6,0)),\"\",VLOOKUP($A119,SURFSKI!AC$8:AI$53,6,0))","v":""},{"$f":"IF(ISNA(VLOOKUP($A119,SURFSKI!AC$8:AI$53,7,0)),\"\",VLOOKUP($A119,SURFSKI!AC$8:AI$53,7,0))","v":""},{"$f":"IF($A119=\"\",\"\",VLOOKUP($A119,INSCRITS!$D$4:$W$506,15,0))","v":""},{"$f":"IF(ISNA(VLOOKUP($A119,OCEANMAN!AD$7:AJ$52,6,0)),\"\",VLOOKUP($A119,OCEANMAN!AD$7:AJ$52,6,0))","v":""},{"$f":"IF(ISNA(VLOOKUP($A119,OCEANMAN!AD$7:AJ$52,7,0)),\"\",VLOOKUP($A119,OCEANMAN!AD$7:AJ$52,7,0))","v":""},{"$f":"IF($A119=\"\",\"\",VLOOKUP($A119,INSCRITS!$D$4:$W$506,16,0))","v":""},{"$f":"IF(ISNA(VLOOKUP($A119,CNC!N$7:AC$52,6,0)),\"\",VLOOKUP($A119,CNC!N$7:AC$52,6,0))","v":""},{"$f":"IF(ISNA(VLOOKUP($A119,CNC!N$7:AC$52,7,0)),\"\",VLOOKUP($A119,CNC!N$7:AC$52,7,0))","v":""},0,{"$f":"IF($A119=\"\",\"\",VLOOKUP($A119,INSCRITS!$D$4:$W$506,16,0))","v":""},null,{"$f":"IF(AG119=\"\",\"\",VLOOKUP(AG119,[0]!Relais,2))","v":""},{"$f":"IF($A119=\"\",\"\",VLOOKUP($A119,INSCRITS!$D$4:$W$506,17,0))","v":""},null,{"$f":"IF(AJ119=\"\",\"\",VLOOKUP(AJ119,[0]!Relais,2))","v":""},{"$f":"IF($A119=\"\",\"\",VLOOKUP($A119,INSCRITS!$D$4:$W$506,18,0))","v":""},null,{"$f":"IF(AM119=\"\",\"\",VLOOKUP(AM119,[0]!Relais,2))","v":""},{"$f":"IF($A119=\"\",\"\",VLOOKUP($A119,INSCRITS!$D$4:$W$506,19,0))","v":""},null,{"$f":"IF(AP119=\"\",\"\",VLOOKUP(AP119,[0]!Relais,2))","v":""},0,0]
[null,{"$f":"IF($A120=\"\",\"\",VLOOKUP($A120,INSCRITS!$D$4:$W$501,2,0))","v":""},{"$f":"IF($A120=\"\",\"\",VLOOKUP($A120,INSCRITS!$D$4:$W$501,3,0))","v":""},{"$f":"IF($A120=\"\",\"\",VLOOKUP($A120,INSCRITS!$D$4:$W$501,4,0))","v":""},{"$f":"IF($A120=\"\",\"\",VLOOKUP($A120,INSCRITS!$D$4:$W$501,5,0))","v":""},{"$f":"IF($A120=\"\",\"\",VLOOKUP($A120,INSCRITS!$D$4:$W$501,6,0))","v":""},{"$f":"IF($A120=\"\",\"\",VLOOKUP($A120,INSCRITS!$D$4:$W$501,7,0))","v":""},{"$f":"IF($A120=\"\",\"\",VLOOKUP($A120,INSCRITS!$D$4:$W$501,8,0))","v":""},{"$f":"IF($A120=\"\",\"\",VLOOKUP($A120,INSCRITS!$D$4:$W$501,9,0))","v":""},{"$f":"IF($A120=\"\",\"\",VLOOKUP($A120,INSCRITS!$D$4:$W$506,10,0))","v":""},{"$f":"IF(ISNA(VLOOKUP($A120,SPRINT!AD$7:AJ$50,6,0)),\"\",VLOOKUP($A120,SPRINT!AD$7:AJ$50,6,0))","v":""},{"$f":"IF(ISNA(VLOOKUP($A120,SPRINT!AD$7:AJ$50,7,0)),\"\",VLOOKUP($A120,SPRINT!AD$7:AJ$50,7,0))","v":""},{"$f":"IF($A120=\"\",\"\",VLOOKUP($A120,INSCRITS!$D$4:$W$506,11,0))","v":""},{"$f":"IF(ISNA(VLOOKUP($A120,BATONS!AD$7:AJ$51,6,0)),\"\",VLOOKUP($A120,BATONS!AD$7:AJ$51,6,0))","v":""},{"$f":"IF(ISNA(VLOOKUP($A120,BATONS!AD$7:AJ$51,7,0)),\"\",VLOOKUP($A120,BATONS!AD$7:AJ$51,7,0))","v":""},{"$f":"IF($A120=\"\",\"\",VLOOKUP($A120,INSCRITS!$D$4:$W$506,12,0))","v":""},{"$f":"IF(ISNA(VLOOKUP($A120,PLANCHE!AC$7:AI$52,6,0)),\"\",VLOOKUP($A120,PLANCHE!AC$7:AI$52,6,0))","v":""},{"$f":"IF(ISNA(VLOOKUP($A120,PLANCHE!AC$7:AI$52,7,0)),\"\",VLOOKUP($A120,PLANCHE!AC$7:AI$52,7,0))","v":""},{"$f":"IF($A120=\"\",\"\",VLOOKUP($A120,INSCRITS!$D$4:$W$506,13,0))","v":""},{"$f":"IF(ISNA(VLOOKUP($A120,NAGE!N$7:T$52,6,0)),\"\",VLOOKUP($A120,NAGE!N$7:T$52,6,0))","v":""},{"$f":"IF(ISNA(VLOOKUP($A120,NAGE!N$7:T$52,7,0)),\"\",VLOOKUP($A120,NAGE!N$7:T$52,7,0))","v":""},{"$f":"IF($A120=\"\",\"\",VLOOKUP($A120,INSCRITS!$D$4:$W$506,14,0))","v":""},{"$f":"IF(ISNA(VLOOKUP($A120,SURFSKI!AC$8:AI$53,6,0)),\"\",VLOOKUP($A120,SURFSKI!AC$8:AI$53,6,0))","v":""},{"$f":"IF(ISNA(VLOOKUP($A120,SURFSKI!AC$8:AI$53,7,0)),\"\",VLOOKUP($A120,SURFSKI!AC$8:AI$53,7,0))","v":""},{"$f":"IF($A120=\"\",\"\",VLOOKUP($A120,INSCRITS!$D$4:$W$506,15,0))","v":""},{"$f":"IF(ISNA(VLOOKUP($A120,OCEANMAN!AD$7:AJ$52,6,0)),\"\",VLOOKUP($A120,OCEANMAN!AD$7:AJ$52,6,0))","v":""},{"$f":"IF(ISNA(VLOOKUP($A120,OCEANMAN!AD$7:AJ$52,7,0)),\"\",VLOOKUP($A120,OCEANMAN!AD$7:AJ$52,7,0))","v":""},{"$f":"IF($A120=\"\",\"\",VLOOKUP($A120,INSCRITS!$D$4:$W$506,16,0))","v":""},{"$f":"IF(ISNA(VLOOKUP($A120,CNC!N$7:AC$52,6,0)),\"\",VLOOKUP($A120,CNC!N$7:AC$52,6,0))","v":""},{"$f":"IF(ISNA(VLOOKUP($A120,CNC!N$7:AC$52,7,0)),\"\",VLOOKUP($A120,CNC!N$7:AC$52,7,0))","v":""},0,{"$f":"IF($A120=\"\",\"\",VLOOKUP($A120,INSCRITS!$D$4:$W$506,16,0))","v":""},null,{"$f":"IF(AG120=\"\",\"\",VLOOKUP(AG120,[0]!Relais,2))","v":""},{"$f":"IF($A120=\"\",\"\",VLOOKUP($A120,INSCRITS!$D$4:$W$506,17,0))","v":""},null,{"$f":"IF(AJ120=\"\",\"\",VLOOKUP(AJ120,[0]!Relais,2))","v":""},{"$f":"IF($A120=\"\",\"\",VLOOKUP($A120,INSCRITS!$D$4:$W$506,18,0))","v":""},null,{"$f":"IF(AM120=\"\",\"\",VLOOKUP(AM120,[0]!Relais,2))","v":""},{"$f":"IF($A120=\"\",\"\",VLOOKUP($A120,INSCRITS!$D$4:$W$506,19,0))","v":""},null,{"$f":"IF(AP120=\"\",\"\",VLOOKUP(AP120,[0]!Relais,2))","v":""},0,0]
[null,{"$f":"IF($A121=\"\",\"\",VLOOKUP($A121,INSCRITS!$D$4:$W$501,2,0))","v":""},{"$f":"IF($A121=\"\",\"\",VLOOKUP($A121,INSCRITS!$D$4:$W$501,3,0))","v":""},{"$f":"IF($A121=\"\",\"\",VLOOKUP($A121,INSCRITS!$D$4:$W$501,4,0))","v":""},{"$f":"IF($A121=\"\",\"\",VLOOKUP($A121,INSCRITS!$D$4:$W$501,5,0))","v":""},{"$f":"IF($A121=\"\",\"\",VLOOKUP($A121,INSCRITS!$D$4:$W$501,6,0))","v":""},{"$f":"IF($A121=\"\",\"\",VLOOKUP($A121,INSCRITS!$D$4:$W$501,7,0))","v":""},{"$f":"IF($A121=\"\",\"\",VLOOKUP($A121,INSCRITS!$D$4:$W$501,8,0))","v":""},{"$f":"IF($A121=\"\",\"\",VLOOKUP($A121,INSCRITS!$D$4:$W$501,9,0))","v":""},{"$f":"IF($A121=\"\",\"\",VLOOKUP($A121,INSCRITS!$D$4:$W$506,10,0))","v":""},{"$f":"IF(ISNA(VLOOKUP($A121,SPRINT!AD$7:AJ$50,6,0)),\"\",VLOOKUP($A121,SPRINT!AD$7:AJ$50,6,0))","v":""},{"$f":"IF(ISNA(VLOOKUP($A121,SPRINT!AD$7:AJ$50,7,0)),\"\",VLOOKUP($A121,SPRINT!AD$7:AJ$50,7,0))","v":""},{"$f":"IF($A121=\"\",\"\",VLOOKUP($A121,INSCRITS!$D$4:$W$506,11,0))","v":""},{"$f":"IF(ISNA(VLOOKUP($A121,BATONS!AD$7:AJ$51,6,0)),\"\",VLOOKUP($A121,BATONS!AD$7:AJ$51,6,0))","v":""},{"$f":"IF(ISNA(VLOOKUP($A121,BATONS!AD$7:AJ$51,7,0)),\"\",VLOOKUP($A121,BATONS!AD$7:AJ$51,7,0))","v":""},{"$f":"IF($A121=\"\",\"\",VLOOKUP($A121,INSCRITS!$D$4:$W$506,12,0))","v":""},{"$f":"IF(ISNA(VLOOKUP($A121,PLANCHE!AC$7:AI$52,6,0)),\"\",VLOOKUP($A121,PLANCHE!AC$7:AI$52,6,0))","v":""},{"$f":"IF(ISNA(VLOOKUP($A121,PLANCHE!AC$7:AI$52,7,0)),\"\",VLOOKUP($A121,PLANCHE!AC$7:AI$52,7,0))","v":""},{"$f":"IF($A121=\"\",\"\",VLOOKUP($A121,INSCRITS!$D$4:$W$506,13,0))","v":""},{"$f":"IF(ISNA(VLOOKUP($A121,NAGE!N$7:T$52,6,0)),\"\",VLOOKUP($A121,NAGE!N$7:T$52,6,0))","v":""},{"$f":"IF(ISNA(VLOOKUP($A121,NAGE!N$7:T$52,7,0)),\"\",VLOOKUP($A121,NAGE!N$7:T$52,7,0))","v":""},{"$f":"IF($A121=\"\",\"\",VLOOKUP($A121,INSCRITS!$D$4:$W$506,14,0))","v":""},{"$f":"IF(ISNA(VLOOKUP($A121,SURFSKI!AC$8:AI$53,6,0)),\"\",VLOOKUP($A121,SURFSKI!AC$8:AI$53,6,0))","v":""},{"$f":"IF(ISNA(VLOOKUP($A121,SURFSKI!AC$8:AI$53,7,0)),\"\",VLOOKUP($A121,SURFSKI!AC$8:AI$53,7,0))","v":""},{"$f":"IF($A121=\"\",\"\",VLOOKUP($A121,INSCRITS!$D$4:$W$506,15,0))","v":""},{"$f":"IF(ISNA(VLOOKUP($A121,OCEANMAN!AD$7:AJ$52,6,0)),\"\",VLOOKUP($A121,OCEANMAN!AD$7:AJ$52,6,0))","v":""},{"$f":"IF(ISNA(VLOOKUP($A121,OCEANMAN!AD$7:AJ$52,7,0)),\"\",VLOOKUP($A121,OCEANMAN!AD$7:AJ$52,7,0))","v":""},{"$f":"IF($A121=\"\",\"\",VLOOKUP($A121,INSCRITS!$D$4:$W$506,16,0))","v":""},{"$f":"IF(ISNA(VLOOKUP($A121,CNC!N$7:AC$52,6,0)),\"\",VLOOKUP($A121,CNC!N$7:AC$52,6,0))","v":""},{"$f":"IF(ISNA(VLOOKUP($A121,CNC!N$7:AC$52,7,0)),\"\",VLOOKUP($A121,CNC!N$7:AC$52,7,0))","v":""},0,{"$f":"IF($A121=\"\",\"\",VLOOKUP($A121,INSCRITS!$D$4:$W$506,16,0))","v":""},null,{"$f":"IF(AG121=\"\",\"\",VLOOKUP(AG121,[0]!Relais,2))","v":""},{"$f":"IF($A121=\"\",\"\",VLOOKUP($A121,INSCRITS!$D$4:$W$506,17,0))","v":""},null,{"$f":"IF(AJ121=\"\",\"\",VLOOKUP(AJ121,[0]!Relais,2))","v":""},{"$f":"IF($A121=\"\",\"\",VLOOKUP($A121,INSCRITS!$D$4:$W$506,18,0))","v":""},null,{"$f":"IF(AM121=\"\",\"\",VLOOKUP(AM121,[0]!Relais,2))","v":""},{"$f":"IF($A121=\"\",\"\",VLOOKUP($A121,INSCRITS!$D$4:$W$506,19,0))","v":""},null,{"$f":"IF(AP121=\"\",\"\",VLOOKUP(AP121,[0]!Relais,2))","v":""},0,0]
[null,{"$f":"IF($A122=\"\",\"\",VLOOKUP($A122,INSCRITS!$D$4:$W$501,2,0))","v":""},{"$f":"IF($A122=\"\",\"\",VLOOKUP($A122,INSCRITS!$D$4:$W$501,3,0))","v":""},{"$f":"IF($A122=\"\",\"\",VLOOKUP($A122,INSCRITS!$D$4:$W$501,4,0))","v":""},{"$f":"IF($A122=\"\",\"\",VLOOKUP($A122,INSCRITS!$D$4:$W$501,5,0))","v":""},{"$f":"IF($A122=\"\",\"\",VLOOKUP($A122,INSCRITS!$D$4:$W$501,6,0))","v":""},{"$f":"IF($A122=\"\",\"\",VLOOKUP($A122,INSCRITS!$D$4:$W$501,7,0))","v":""},{"$f":"IF($A122=\"\",\"\",VLOOKUP($A122,INSCRITS!$D$4:$W$501,8,0))","v":""},{"$f":"IF($A122=\"\",\"\",VLOOKUP($A122,INSCRITS!$D$4:$W$501,9,0))","v":""},{"$f":"IF($A122=\"\",\"\",VLOOKUP($A122,INSCRITS!$D$4:$W$506,10,0))","v":""},{"$f":"IF(ISNA(VLOOKUP($A122,SPRINT!AD$7:AJ$50,6,0)),\"\",VLOOKUP($A122,SPRINT!AD$7:AJ$50,6,0))","v":""},{"$f":"IF(ISNA(VLOOKUP($A122,SPRINT!AD$7:AJ$50,7,0)),\"\",VLOOKUP($A122,SPRINT!AD$7:AJ$50,7,0))","v":""},{"$f":"IF($A122=\"\",\"\",VLOOKUP($A122,INSCRITS!$D$4:$W$506,11,0))","v":""},{"$f":"IF(ISNA(VLOOKUP($A122,BATONS!AD$7:AJ$51,6,0)),\"\",VLOOKUP($A122,BATONS!AD$7:AJ$51,6,0))","v":""},{"$f":"IF(ISNA(VLOOKUP($A122,BATONS!AD$7:AJ$51,7,0)),\"\",VLOOKUP($A122,BATONS!AD$7:AJ$51,7,0))","v":""},{"$f":"IF($A122=\"\",\"\",VLOOKUP($A122,INSCRITS!$D$4:$W$506,12,0))","v":""},{"$f":"IF(ISNA(VLOOKUP($A122,PLANCHE!AC$7:AI$52,6,0)),\"\",VLOOKUP($A122,PLANCHE!AC$7:AI$52,6,0))","v":""},{"$f":"IF(ISNA(VLOOKUP($A122,PLANCHE!AC$7:AI$52,7,0)),\"\",VLOOKUP($A122,PLANCHE!AC$7:AI$52,7,0))","v":""},{"$f":"IF($A122=\"\",\"\",VLOOKUP($A122,INSCRITS!$D$4:$W$506,13,0))","v":""},{"$f":"IF(ISNA(VLOOKUP($A122,NAGE!N$7:T$52,6,0)),\"\",VLOOKUP($A122,NAGE!N$7:T$52,6,0))","v":""},{"$f":"IF(ISNA(VLOOKUP($A122,NAGE!N$7:T$52,7,0)),\"\",VLOOKUP($A122,NAGE!N$7:T$52,7,0))","v":""},{"$f":"IF($A122=\"\",\"\",VLOOKUP($A122,INSCRITS!$D$4:$W$506,14,0))","v":""},{"$f":"IF(ISNA(VLOOKUP($A122,SURFSKI!AC$8:AI$53,6,0)),\"\",VLOOKUP($A122,SURFSKI!AC$8:AI$53,6,0))","v":""},{"$f":"IF(ISNA(VLOOKUP($A122,SURFSKI!AC$8:AI$53,7,0)),\"\",VLOOKUP($A122,SURFSKI!AC$8:AI$53,7,0))","v":""},{"$f":"IF($A122=\"\",\"\",VLOOKUP($A122,INSCRITS!$D$4:$W$506,15,0))","v":""},{"$f":"IF(ISNA(VLOOKUP($A122,OCEANMAN!AD$7:AJ$52,6,0)),\"\",VLOOKUP($A122,OCEANMAN!AD$7:AJ$52,6,0))","v":""},{"$f":"IF(ISNA(VLOOKUP($A122,OCEANMAN!AD$7:AJ$52,7,0)),\"\",VLOOKUP($A122,OCEANMAN!AD$7:AJ$52,7,0))","v":""},{"$f":"IF($A122=\"\",\"\",VLOOKUP($A122,INSCRITS!$D$4:$W$506,16,0))","v":""},{"$f":"IF(ISNA(VLOOKUP($A122,CNC!N$7:AC$52,6,0)),\"\",VLOOKUP($A122,CNC!N$7:AC$52,6,0))","v":""},{"$f":"IF(ISNA(VLOOKUP($A122,CNC!N$7:AC$52,7,0)),\"\",VLOOKUP($A122,CNC!N$7:AC$52,7,0))","v":""},0,{"$f":"IF($A122=\"\",\"\",VLOOKUP($A122,INSCRITS!$D$4:$W$506,16,0))","v":""},null,{"$f":"IF(AG122=\"\",\"\",VLOOKUP(AG122,[0]!Relais,2))","v":""},{"$f":"IF($A122=\"\",\"\",VLOOKUP($A122,INSCRITS!$D$4:$W$506,17,0))","v":""},null,{"$f":"IF(AJ122=\"\",\"\",VLOOKUP(AJ122,[0]!Relais,2))","v":""},{"$f":"IF($A122=\"\",\"\",VLOOKUP($A122,INSCRITS!$D$4:$W$506,18,0))","v":""},null,{"$f":"IF(AM122=\"\",\"\",VLOOKUP(AM122,[0]!Relais,2))","v":""},{"$f":"IF($A122=\"\",\"\",VLOOKUP($A122,INSCRITS!$D$4:$W$506,19,0))","v":""},null,{"$f":"IF(AP122=\"\",\"\",VLOOKUP(AP122,[0]!Relais,2))","v":""},0,0]
[null,{"$f":"IF($A123=\"\",\"\",VLOOKUP($A123,INSCRITS!$D$4:$W$501,2,0))","v":""},{"$f":"IF($A123=\"\",\"\",VLOOKUP($A123,INSCRITS!$D$4:$W$501,3,0))","v":""},{"$f":"IF($A123=\"\",\"\",VLOOKUP($A123,INSCRITS!$D$4:$W$501,4,0))","v":""},{"$f":"IF($A123=\"\",\"\",VLOOKUP($A123,INSCRITS!$D$4:$W$501,5,0))","v":""},{"$f":"IF($A123=\"\",\"\",VLOOKUP($A123,INSCRITS!$D$4:$W$501,6,0))","v":""},{"$f":"IF($A123=\"\",\"\",VLOOKUP($A123,INSCRITS!$D$4:$W$501,7,0))","v":""},{"$f":"IF($A123=\"\",\"\",VLOOKUP($A123,INSCRITS!$D$4:$W$501,8,0))","v":""},{"$f":"IF($A123=\"\",\"\",VLOOKUP($A123,INSCRITS!$D$4:$W$501,9,0))","v":""},{"$f":"IF($A123=\"\",\"\",VLOOKUP($A123,INSCRITS!$D$4:$W$506,10,0))","v":""},{"$f":"IF(ISNA(VLOOKUP($A123,SPRINT!AD$7:AJ$50,6,0)),\"\",VLOOKUP($A123,SPRINT!AD$7:AJ$50,6,0))","v":""},{"$f":"IF(ISNA(VLOOKUP($A123,SPRINT!AD$7:AJ$50,7,0)),\"\",VLOOKUP($A123,SPRINT!AD$7:AJ$50,7,0))","v":""},{"$f":"IF($A123=\"\",\"\",VLOOKUP($A123,INSCRITS!$D$4:$W$506,11,0))","v":""},{"$f":"IF(ISNA(VLOOKUP($A123,BATONS!AD$7:AJ$51,6,0)),\"\",VLOOKUP($A123,BATONS!AD$7:AJ$51,6,0))","v":""},{"$f":"IF(ISNA(VLOOKUP($A123,BATONS!AD$7:AJ$51,7,0)),\"\",VLOOKUP($A123,BATONS!AD$7:AJ$51,7,0))","v":""},{"$f":"IF($A123=\"\",\"\",VLOOKUP($A123,INSCRITS!$D$4:$W$506,12,0))","v":""},{"$f":"IF(ISNA(VLOOKUP($A123,PLANCHE!AC$7:AI$52,6,0)),\"\",VLOOKUP($A123,PLANCHE!AC$7:AI$52,6,0))","v":""},{"$f":"IF(ISNA(VLOOKUP($A123,PLANCHE!AC$7:AI$52,7,0)),\"\",VLOOKUP($A123,PLANCHE!AC$7:AI$52,7,0))","v":""},{"$f":"IF($A123=\"\",\"\",VLOOKUP($A123,INSCRITS!$D$4:$W$506,13,0))","v":""},{"$f":"IF(ISNA(VLOOKUP($A123,NAGE!N$7:T$52,6,0)),\"\",VLOOKUP($A123,NAGE!N$7:T$52,6,0))","v":""},{"$f":"IF(ISNA(VLOOKUP($A123,NAGE!N$7:T$52,7,0)),\"\",VLOOKUP($A123,NAGE!N$7:T$52,7,0))","v":""},{"$f":"IF($A123=\"\",\"\",VLOOKUP($A123,INSCRITS!$D$4:$W$506,14,0))","v":""},{"$f":"IF(ISNA(VLOOKUP($A123,SURFSKI!AC$8:AI$53,6,0)),\"\",VLOOKUP($A123,SURFSKI!AC$8:AI$53,6,0))","v":""},{"$f":"IF(ISNA(VLOOKUP($A123,SURFSKI!AC$8:AI$53,7,0)),\"\",VLOOKUP($A123,SURFSKI!AC$8:AI$53,7,0))","v":""},{"$f":"IF($A123=\"\",\"\",VLOOKUP($A123,INSCRITS!$D$4:$W$506,15,0))","v":""},{"$f":"IF(ISNA(VLOOKUP($A123,OCEANMAN!AD$7:AJ$52,6,0)),\"\",VLOOKUP($A123,OCEANMAN!AD$7:AJ$52,6,0))","v":""},{"$f":"IF(ISNA(VLOOKUP($A123,OCEANMAN!AD$7:AJ$52,7,0)),\"\",VLOOKUP($A123,OCEANMAN!AD$7:AJ$52,7,0))","v":""},{"$f":"IF($A123=\"\",\"\",VLOOKUP($A123,INSCRITS!$D$4:$W$506,16,0))","v":""},{"$f":"IF(ISNA(VLOOKUP($A123,CNC!N$7:AC$52,6,0)),\"\",VLOOKUP($A123,CNC!N$7:AC$52,6,0))","v":""},{"$f":"IF(ISNA(VLOOKUP($A123,CNC!N$7:AC$52,7,0)),\"\",VLOOKUP($A123,CNC!N$7:AC$52,7,0))","v":""},0,{"$f":"IF($A123=\"\",\"\",VLOOKUP($A123,INSCRITS!$D$4:$W$506,16,0))","v":""},null,{"$f":"IF(AG123=\"\",\"\",VLOOKUP(AG123,[0]!Relais,2))","v":""},{"$f":"IF($A123=\"\",\"\",VLOOKUP($A123,INSCRITS!$D$4:$W$506,17,0))","v":""},null,{"$f":"IF(AJ123=\"\",\"\",VLOOKUP(AJ123,[0]!Relais,2))","v":""},{"$f":"IF($A123=\"\",\"\",VLOOKUP($A123,INSCRITS!$D$4:$W$506,18,0))","v":""},null,{"$f":"IF(AM123=\"\",\"\",VLOOKUP(AM123,[0]!Relais,2))","v":""},{"$f":"IF($A123=\"\",\"\",VLOOKUP($A123,INSCRITS!$D$4:$W$506,19,0))","v":""},null,{"$f":"IF(AP123=\"\",\"\",VLOOKUP(AP123,[0]!Relais,2))","v":""},0,0]
[null,{"$f":"IF($A124=\"\",\"\",VLOOKUP($A124,INSCRITS!$D$4:$W$501,2,0))","v":""},{"$f":"IF($A124=\"\",\"\",VLOOKUP($A124,INSCRITS!$D$4:$W$501,3,0))","v":""},{"$f":"IF($A124=\"\",\"\",VLOOKUP($A124,INSCRITS!$D$4:$W$501,4,0))","v":""},{"$f":"IF($A124=\"\",\"\",VLOOKUP($A124,INSCRITS!$D$4:$W$501,5,0))","v":""},{"$f":"IF($A124=\"\",\"\",VLOOKUP($A124,INSCRITS!$D$4:$W$501,6,0))","v":""},{"$f":"IF($A124=\"\",\"\",VLOOKUP($A124,INSCRITS!$D$4:$W$501,7,0))","v":""},{"$f":"IF($A124=\"\",\"\",VLOOKUP($A124,INSCRITS!$D$4:$W$501,8,0))","v":""},{"$f":"IF($A124=\"\",\"\",VLOOKUP($A124,INSCRITS!$D$4:$W$501,9,0))","v":""},{"$f":"IF($A124=\"\",\"\",VLOOKUP($A124,INSCRITS!$D$4:$W$506,10,0))","v":""},{"$f":"IF(ISNA(VLOOKUP($A124,SPRINT!AD$7:AJ$50,6,0)),\"\",VLOOKUP($A124,SPRINT!AD$7:AJ$50,6,0))","v":""},{"$f":"IF(ISNA(VLOOKUP($A124,SPRINT!AD$7:AJ$50,7,0)),\"\",VLOOKUP($A124,SPRINT!AD$7:AJ$50,7,0))","v":""},{"$f":"IF($A124=\"\",\"\",VLOOKUP($A124,INSCRITS!$D$4:$W$506,11,0))","v":""},{"$f":"IF(ISNA(VLOOKUP($A124,BATONS!AD$7:AJ$51,6,0)),\"\",VLOOKUP($A124,BATONS!AD$7:AJ$51,6,0))","v":""},{"$f":"IF(ISNA(VLOOKUP($A124,BATONS!AD$7:AJ$51,7,0)),\"\",VLOOKUP($A124,BATONS!AD$7:AJ$51,7,0))","v":""},{"$f":"IF($A124=\"\",\"\",VLOOKUP($A124,INSCRITS!$D$4:$W$506,12,0))","v":""},{"$f":"IF(ISNA(VLOOKUP($A124,PLANCHE!AC$7:AI$52,6,0)),\"\",VLOOKUP($A124,PLANCHE!AC$7:AI$52,6,0))","v":""},{"$f":"IF(ISNA(VLOOKUP($A124,PLANCHE!AC$7:AI$52,7,0)),\"\",VLOOKUP($A124,PLANCHE!AC$7:AI$52,7,0))","v":""},{"$f":"IF($A124=\"\",\"\",VLOOKUP($A124,INSCRITS!$D$4:$W$506,13,0))","v":""},{"$f":"IF(ISNA(VLOOKUP($A124,NAGE!N$7:T$52,6,0)),\"\",VLOOKUP($A124,NAGE!N$7:T$52,6,0))","v":""},{"$f":"IF(ISNA(VLOOKUP($A124,NAGE!N$7:T$52,7,0)),\"\",VLOOKUP($A124,NAGE!N$7:T$52,7,0))","v":""},{"$f":"IF($A124=\"\",\"\",VLOOKUP($A124,INSCRITS!$D$4:$W$506,14,0))","v":""},{"$f":"IF(ISNA(VLOOKUP($A124,SURFSKI!AC$8:AI$53,6,0)),\"\",VLOOKUP($A124,SURFSKI!AC$8:AI$53,6,0))","v":""},{"$f":"IF(ISNA(VLOOKUP($A124,SURFSKI!AC$8:AI$53,7,0)),\"\",VLOOKUP($A124,SURFSKI!AC$8:AI$53,7,0))","v":""},{"$f":"IF($A124=\"\",\"\",VLOOKUP($A124,INSCRITS!$D$4:$W$506,15,0))","v":""},{"$f":"IF(ISNA(VLOOKUP($A124,OCEANMAN!AD$7:AJ$52,6,0)),\"\",VLOOKUP($A124,OCEANMAN!AD$7:AJ$52,6,0))","v":""},{"$f":"IF(ISNA(VLOOKUP($A124,OCEANMAN!AD$7:AJ$52,7,0)),\"\",VLOOKUP($A124,OCEANMAN!AD$7:AJ$52,7,0))","v":""},{"$f":"IF($A124=\"\",\"\",VLOOKUP($A124,INSCRITS!$D$4:$W$506,16,0))","v":""},{"$f":"IF(ISNA(VLOOKUP($A124,CNC!N$7:AC$52,6,0)),\"\",VLOOKUP($A124,CNC!N$7:AC$52,6,0))","v":""},{"$f":"IF(ISNA(VLOOKUP($A124,CNC!N$7:AC$52,7,0)),\"\",VLOOKUP($A124,CNC!N$7:AC$52,7,0))","v":""},0,{"$f":"IF($A124=\"\",\"\",VLOOKUP($A124,INSCRITS!$D$4:$W$506,16,0))","v":""},null,{"$f":"IF(AG124=\"\",\"\",VLOOKUP(AG124,[0]!Relais,2))","v":""},{"$f":"IF($A124=\"\",\"\",VLOOKUP($A124,INSCRITS!$D$4:$W$506,17,0))","v":""},null,{"$f":"IF(AJ124=\"\",\"\",VLOOKUP(AJ124,[0]!Relais,2))","v":""},{"$f":"IF($A124=\"\",\"\",VLOOKUP($A124,INSCRITS!$D$4:$W$506,18,0))","v":""},null,{"$f":"IF(AM124=\"\",\"\",VLOOKUP(AM124,[0]!Relais,2))","v":""},{"$f":"IF($A124=\"\",\"\",VLOOKUP($A124,INSCRITS!$D$4:$W$506,19,0))","v":""},null,{"$f":"IF(AP124=\"\",\"\",VLOOKUP(AP124,[0]!Relais,2))","v":""},0,0]
[null,{"$f":"IF($A125=\"\",\"\",VLOOKUP($A125,INSCRITS!$D$4:$W$501,2,0))","v":""},{"$f":"IF($A125=\"\",\"\",VLOOKUP($A125,INSCRITS!$D$4:$W$501,3,0))","v":""},{"$f":"IF($A125=\"\",\"\",VLOOKUP($A125,INSCRITS!$D$4:$W$501,4,0))","v":""},{"$f":"IF($A125=\"\",\"\",VLOOKUP($A125,INSCRITS!$D$4:$W$501,5,0))","v":""},{"$f":"IF($A125=\"\",\"\",VLOOKUP($A125,INSCRITS!$D$4:$W$501,6,0))","v":""},{"$f":"IF($A125=\"\",\"\",VLOOKUP($A125,INSCRITS!$D$4:$W$501,7,0))","v":""},{"$f":"IF($A125=\"\",\"\",VLOOKUP($A125,INSCRITS!$D$4:$W$501,8,0))","v":""},{"$f":"IF($A125=\"\",\"\",VLOOKUP($A125,INSCRITS!$D$4:$W$501,9,0))","v":""},{"$f":"IF($A125=\"\",\"\",VLOOKUP($A125,INSCRITS!$D$4:$W$506,10,0))","v":""},{"$f":"IF(ISNA(VLOOKUP($A125,SPRINT!AD$7:AJ$50,6,0)),\"\",VLOOKUP($A125,SPRINT!AD$7:AJ$50,6,0))","v":""},{"$f":"IF(ISNA(VLOOKUP($A125,SPRINT!AD$7:AJ$50,7,0)),\"\",VLOOKUP($A125,SPRINT!AD$7:AJ$50,7,0))","v":""},{"$f":"IF($A125=\"\",\"\",VLOOKUP($A125,INSCRITS!$D$4:$W$506,11,0))","v":""},{"$f":"IF(ISNA(VLOOKUP($A125,BATONS!AD$7:AJ$51,6,0)),\"\",VLOOKUP($A125,BATONS!AD$7:AJ$51,6,0))","v":""},{"$f":"IF(ISNA(VLOOKUP($A125,BATONS!AD$7:AJ$51,7,0)),\"\",VLOOKUP($A125,BATONS!AD$7:AJ$51,7,0))","v":""},{"$f":"IF($A125=\"\",\"\",VLOOKUP($A125,INSCRITS!$D$4:$W$506,12,0))","v":""},{"$f":"IF(ISNA(VLOOKUP($A125,PLANCHE!AC$7:AI$52,6,0)),\"\",VLOOKUP($A125,PLANCHE!AC$7:AI$52,6,0))","v":""},{"$f":"IF(ISNA(VLOOKUP($A125,PLANCHE!AC$7:AI$52,7,0)),\"\",VLOOKUP($A125,PLANCHE!AC$7:AI$52,7,0))","v":""},{"$f":"IF($A125=\"\",\"\",VLOOKUP($A125,INSCRITS!$D$4:$W$506,13,0))","v":""},{"$f":"IF(ISNA(VLOOKUP($A125,NAGE!N$7:T$52,6,0)),\"\",VLOOKUP($A125,NAGE!N$7:T$52,6,0))","v":""},{"$f":"IF(ISNA(VLOOKUP($A125,NAGE!N$7:T$52,7,0)),\"\",VLOOKUP($A125,NAGE!N$7:T$52,7,0))","v":""},{"$f":"IF($A125=\"\",\"\",VLOOKUP($A125,INSCRITS!$D$4:$W$506,14,0))","v":""},{"$f":"IF(ISNA(VLOOKUP($A125,SURFSKI!AC$8:AI$53,6,0)),\"\",VLOOKUP($A125,SURFSKI!AC$8:AI$53,6,0))","v":""},{"$f":"IF(ISNA(VLOOKUP($A125,SURFSKI!AC$8:AI$53,7,0)),\"\",VLOOKUP($A125,SURFSKI!AC$8:AI$53,7,0))","v":""},{"$f":"IF($A125=\"\",\"\",VLOOKUP($A125,INSCRITS!$D$4:$W$506,15,0))","v":""},{"$f":"IF(ISNA(VLOOKUP($A125,OCEANMAN!AD$7:AJ$52,6,0)),\"\",VLOOKUP($A125,OCEANMAN!AD$7:AJ$52,6,0))","v":""},{"$f":"IF(ISNA(VLOOKUP($A125,OCEANMAN!AD$7:AJ$52,7,0)),\"\",VLOOKUP($A125,OCEANMAN!AD$7:AJ$52,7,0))","v":""},{"$f":"IF($A125=\"\",\"\",VLOOKUP($A125,INSCRITS!$D$4:$W$506,16,0))","v":""},{"$f":"IF(ISNA(VLOOKUP($A125,CNC!N$7:AC$52,6,0)),\"\",VLOOKUP($A125,CNC!N$7:AC$52,6,0))","v":""},{"$f":"IF(ISNA(VLOOKUP($A125,CNC!N$7:AC$52,7,0)),\"\",VLOOKUP($A125,CNC!N$7:AC$52,7,0))","v":""},0,{"$f":"IF($A125=\"\",\"\",VLOOKUP($A125,INSCRITS!$D$4:$W$506,16,0))","v":""},null,{"$f":"IF(AG125=\"\",\"\",VLOOKUP(AG125,[0]!Relais,2))","v":""},{"$f":"IF($A125=\"\",\"\",VLOOKUP($A125,INSCRITS!$D$4:$W$506,17,0))","v":""},null,{"$f":"IF(AJ125=\"\",\"\",VLOOKUP(AJ125,[0]!Relais,2))","v":""},{"$f":"IF($A125=\"\",\"\",VLOOKUP($A125,INSCRITS!$D$4:$W$506,18,0))","v":""},null,{"$f":"IF(AM125=\"\",\"\",VLOOKUP(AM125,[0]!Relais,2))","v":""},{"$f":"IF($A125=\"\",\"\",VLOOKUP($A125,INSCRITS!$D$4:$W$506,19,0))","v":""},null,{"$f":"IF(AP125=\"\",\"\",VLOOKUP(AP125,[0]!Relais,2))","v":""},0,0]
[null,{"$f":"IF($A126=\"\",\"\",VLOOKUP($A126,INSCRITS!$D$4:$W$501,2,0))","v":""},{"$f":"IF($A126=\"\",\"\",VLOOKUP($A126,INSCRITS!$D$4:$W$501,3,0))","v":""},{"$f":"IF($A126=\"\",\"\",VLOOKUP($A126,INSCRITS!$D$4:$W$501,4,0))","v":""},{"$f":"IF($A126=\"\",\"\",VLOOKUP($A126,INSCRITS!$D$4:$W$501,5,0))","v":""},{"$f":"IF($A126=\"\",\"\",VLOOKUP($A126,INSCRITS!$D$4:$W$501,6,0))","v":""},{"$f":"IF($A126=\"\",\"\",VLOOKUP($A126,INSCRITS!$D$4:$W$501,7,0))","v":""},{"$f":"IF($A126=\"\",\"\",VLOOKUP($A126,INSCRITS!$D$4:$W$501,8,0))","v":""},{"$f":"IF($A126=\"\",\"\",VLOOKUP($A126,INSCRITS!$D$4:$W$501,9,0))","v":""},{"$f":"IF($A126=\"\",\"\",VLOOKUP($A126,INSCRITS!$D$4:$W$506,10,0))","v":""},{"$f":"IF(ISNA(VLOOKUP($A126,SPRINT!AD$7:AJ$50,6,0)),\"\",VLOOKUP($A126,SPRINT!AD$7:AJ$50,6,0))","v":""},{"$f":"IF(ISNA(VLOOKUP($A126,SPRINT!AD$7:AJ$50,7,0)),\"\",VLOOKUP($A126,SPRINT!AD$7:AJ$50,7,0))","v":""},{"$f":"IF($A126=\"\",\"\",VLOOKUP($A126,INSCRITS!$D$4:$W$506,11,0))","v":""},{"$f":"IF(ISNA(VLOOKUP($A126,BATONS!AD$7:AJ$51,6,0)),\"\",VLOOKUP($A126,BATONS!AD$7:AJ$51,6,0))","v":""},{"$f":"IF(ISNA(VLOOKUP($A126,BATONS!AD$7:AJ$51,7,0)),\"\",VLOOKUP($A126,BATONS!AD$7:AJ$51,7,0))","v":""},{"$f":"IF($A126=\"\",\"\",VLOOKUP($A126,INSCRITS!$D$4:$W$506,12,0))","v":""},{"$f":"IF(ISNA(VLOOKUP($A126,PLANCHE!AC$7:AI$52,6,0)),\"\",VLOOKUP($A126,PLANCHE!AC$7:AI$52,6,0))","v":""},{"$f":"IF(ISNA(VLOOKUP($A126,PLANCHE!AC$7:AI$52,7,0)),\"\",VLOOKUP($A126,PLANCHE!AC$7:AI$52,7,0))","v":""},{"$f":"IF($A126=\"\",\"\",VLOOKUP($A126,INSCRITS!$D$4:$W$506,13,0))","v":""},{"$f":"IF(ISNA(VLOOKUP($A126,NAGE!N$7:T$52,6,0)),\"\",VLOOKUP($A126,NAGE!N$7:T$52,6,0))","v":""},{"$f":"IF(ISNA(VLOOKUP($A126,NAGE!N$7:T$52,7,0)),\"\",VLOOKUP($A126,NAGE!N$7:T$52,7,0))","v":""},{"$f":"IF($A126=\"\",\"\",VLOOKUP($A126,INSCRITS!$D$4:$W$506,14,0))","v":""},{"$f":"IF(ISNA(VLOOKUP($A126,SURFSKI!AC$8:AI$53,6,0)),\"\",VLOOKUP($A126,SURFSKI!AC$8:AI$53,6,0))","v":""},{"$f":"IF(ISNA(VLOOKUP($A126,SURFSKI!AC$8:AI$53,7,0)),\"\",VLOOKUP($A126,SURFSKI!AC$8:AI$53,7,0))","v":""},{"$f":"IF($A126=\"\",\"\",VLOOKUP($A126,INSCRITS!$D$4:$W$506,15,0))","v":""},{"$f":"IF(ISNA(VLOOKUP($A126,OCEANMAN!AD$7:AJ$52,6,0)),\"\",VLOOKUP($A126,OCEANMAN!AD$7:AJ$52,6,0))","v":""},{"$f":"IF(ISNA(VLOOKUP($A126,OCEANMAN!AD$7:AJ$52,7,0)),\"\",VLOOKUP($A126,OCEANMAN!AD$7:AJ$52,7,0))","v":""},{"$f":"IF($A126=\"\",\"\",VLOOKUP($A126,INSCRITS!$D$4:$W$506,16,0))","v":""},{"$f":"IF(ISNA(VLOOKUP($A126,CNC!N$7:AC$52,6,0)),\"\",VLOOKUP($A126,CNC!N$7:AC$52,6,0))","v":""},{"$f":"IF(ISNA(VLOOKUP($A126,CNC!N$7:AC$52,7,0)),\"\",VLOOKUP($A126,CNC!N$7:AC$52,7,0))","v":""},0,{"$f":"IF($A126=\"\",\"\",VLOOKUP($A126,INSCRITS!$D$4:$W$506,16,0))","v":""},null,{"$f":"IF(AG126=\"\",\"\",VLOOKUP(AG126,[0]!Relais,2))","v":""},{"$f":"IF($A126=\"\",\"\",VLOOKUP($A126,INSCRITS!$D$4:$W$506,17,0))","v":""},null,{"$f":"IF(AJ126=\"\",\"\",VLOOKUP(AJ126,[0]!Relais,2))","v":""},{"$f":"IF($A126=\"\",\"\",VLOOKUP($A126,INSCRITS!$D$4:$W$506,18,0))","v":""},null,{"$f":"IF(AM126=\"\",\"\",VLOOKUP(AM126,[0]!Relais,2))","v":""},{"$f":"IF($A126=\"\",\"\",VLOOKUP($A126,INSCRITS!$D$4:$W$506,19,0))","v":""},null,{"$f":"IF(AP126=\"\",\"\",VLOOKUP(AP126,[0]!Relais,2))","v":""},0,0]
[null,{"$f":"IF($A127=\"\",\"\",VLOOKUP($A127,INSCRITS!$D$4:$W$501,2,0))","v":""},{"$f":"IF($A127=\"\",\"\",VLOOKUP($A127,INSCRITS!$D$4:$W$501,3,0))","v":""},{"$f":"IF($A127=\"\",\"\",VLOOKUP($A127,INSCRITS!$D$4:$W$501,4,0))","v":""},{"$f":"IF($A127=\"\",\"\",VLOOKUP($A127,INSCRITS!$D$4:$W$501,5,0))","v":""},{"$f":"IF($A127=\"\",\"\",VLOOKUP($A127,INSCRITS!$D$4:$W$501,6,0))","v":""},{"$f":"IF($A127=\"\",\"\",VLOOKUP($A127,INSCRITS!$D$4:$W$501,7,0))","v":""},{"$f":"IF($A127=\"\",\"\",VLOOKUP($A127,INSCRITS!$D$4:$W$501,8,0))","v":""},{"$f":"IF($A127=\"\",\"\",VLOOKUP($A127,INSCRITS!$D$4:$W$501,9,0))","v":""},{"$f":"IF($A127=\"\",\"\",VLOOKUP($A127,INSCRITS!$D$4:$W$506,10,0))","v":""},{"$f":"IF(ISNA(VLOOKUP($A127,SPRINT!AD$7:AJ$50,6,0)),\"\",VLOOKUP($A127,SPRINT!AD$7:AJ$50,6,0))","v":""},{"$f":"IF(ISNA(VLOOKUP($A127,SPRINT!AD$7:AJ$50,7,0)),\"\",VLOOKUP($A127,SPRINT!AD$7:AJ$50,7,0))","v":""},{"$f":"IF($A127=\"\",\"\",VLOOKUP($A127,INSCRITS!$D$4:$W$506,11,0))","v":""},{"$f":"IF(ISNA(VLOOKUP($A127,BATONS!AD$7:AJ$51,6,0)),\"\",VLOOKUP($A127,BATONS!AD$7:AJ$51,6,0))","v":""},{"$f":"IF(ISNA(VLOOKUP($A127,BATONS!AD$7:AJ$51,7,0)),\"\",VLOOKUP($A127,BATONS!AD$7:AJ$51,7,0))","v":""},{"$f":"IF($A127=\"\",\"\",VLOOKUP($A127,INSCRITS!$D$4:$W$506,12,0))","v":""},{"$f":"IF(ISNA(VLOOKUP($A127,PLANCHE!AC$7:AI$52,6,0)),\"\",VLOOKUP($A127,PLANCHE!AC$7:AI$52,6,0))","v":""},{"$f":"IF(ISNA(VLOOKUP($A127,PLANCHE!AC$7:AI$52,7,0)),\"\",VLOOKUP($A127,PLANCHE!AC$7:AI$52,7,0))","v":""},{"$f":"IF($A127=\"\",\"\",VLOOKUP($A127,INSCRITS!$D$4:$W$506,13,0))","v":""},{"$f":"IF(ISNA(VLOOKUP($A127,NAGE!N$7:T$52,6,0)),\"\",VLOOKUP($A127,NAGE!N$7:T$52,6,0))","v":""},{"$f":"IF(ISNA(VLOOKUP($A127,NAGE!N$7:T$52,7,0)),\"\",VLOOKUP($A127,NAGE!N$7:T$52,7,0))","v":""},{"$f":"IF($A127=\"\",\"\",VLOOKUP($A127,INSCRITS!$D$4:$W$506,14,0))","v":""},{"$f":"IF(ISNA(VLOOKUP($A127,SURFSKI!AC$8:AI$53,6,0)),\"\",VLOOKUP($A127,SURFSKI!AC$8:AI$53,6,0))","v":""},{"$f":"IF(ISNA(VLOOKUP($A127,SURFSKI!AC$8:AI$53,7,0)),\"\",VLOOKUP($A127,SURFSKI!AC$8:AI$53,7,0))","v":""},{"$f":"IF($A127=\"\",\"\",VLOOKUP($A127,INSCRITS!$D$4:$W$506,15,0))","v":""},{"$f":"IF(ISNA(VLOOKUP($A127,OCEANMAN!AD$7:AJ$52,6,0)),\"\",VLOOKUP($A127,OCEANMAN!AD$7:AJ$52,6,0))","v":""},{"$f":"IF(ISNA(VLOOKUP($A127,OCEANMAN!AD$7:AJ$52,7,0)),\"\",VLOOKUP($A127,OCEANMAN!AD$7:AJ$52,7,0))","v":""},{"$f":"IF($A127=\"\",\"\",VLOOKUP($A127,INSCRITS!$D$4:$W$506,16,0))","v":""},{"$f":"IF(ISNA(VLOOKUP($A127,CNC!N$7:AC$52,6,0)),\"\",VLOOKUP($A127,CNC!N$7:AC$52,6,0))","v":""},{"$f":"IF(ISNA(VLOOKUP($A127,CNC!N$7:AC$52,7,0)),\"\",VLOOKUP($A127,CNC!N$7:AC$52,7,0))","v":""},0,{"$f":"IF($A127=\"\",\"\",VLOOKUP($A127,INSCRITS!$D$4:$W$506,16,0))","v":""},null,{"$f":"IF(AG127=\"\",\"\",VLOOKUP(AG127,[0]!Relais,2))","v":""},{"$f":"IF($A127=\"\",\"\",VLOOKUP($A127,INSCRITS!$D$4:$W$506,17,0))","v":""},null,{"$f":"IF(AJ127=\"\",\"\",VLOOKUP(AJ127,[0]!Relais,2))","v":""},{"$f":"IF($A127=\"\",\"\",VLOOKUP($A127,INSCRITS!$D$4:$W$506,18,0))","v":""},null,{"$f":"IF(AM127=\"\",\"\",VLOOKUP(AM127,[0]!Relais,2))","v":""},{"$f":"IF($A127=\"\",\"\",VLOOKUP($A127,INSCRITS!$D$4:$W$506,19,0))","v":""},null,{"$f":"IF(AP127=\"\",\"\",VLOOKUP(AP127,[0]!Relais,2))","v":""},0,0]
[null,{"$f":"IF($A128=\"\",\"\",VLOOKUP($A128,INSCRITS!$D$4:$W$501,2,0))","v":""},{"$f":"IF($A128=\"\",\"\",VLOOKUP($A128,INSCRITS!$D$4:$W$501,3,0))","v":""},{"$f":"IF($A128=\"\",\"\",VLOOKUP($A128,INSCRITS!$D$4:$W$501,4,0))","v":""},{"$f":"IF($A128=\"\",\"\",VLOOKUP($A128,INSCRITS!$D$4:$W$501,5,0))","v":""},{"$f":"IF($A128=\"\",\"\",VLOOKUP($A128,INSCRITS!$D$4:$W$501,6,0))","v":""},{"$f":"IF($A128=\"\",\"\",VLOOKUP($A128,INSCRITS!$D$4:$W$501,7,0))","v":""},{"$f":"IF($A128=\"\",\"\",VLOOKUP($A128,INSCRITS!$D$4:$W$501,8,0))","v":""},{"$f":"IF($A128=\"\",\"\",VLOOKUP($A128,INSCRITS!$D$4:$W$501,9,0))","v":""},{"$f":"IF($A128=\"\",\"\",VLOOKUP($A128,INSCRITS!$D$4:$W$506,10,0))","v":""},{"$f":"IF(ISNA(VLOOKUP($A128,SPRINT!AD$7:AJ$50,6,0)),\"\",VLOOKUP($A128,SPRINT!AD$7:AJ$50,6,0))","v":""},{"$f":"IF(ISNA(VLOOKUP($A128,SPRINT!AD$7:AJ$50,7,0)),\"\",VLOOKUP($A128,SPRINT!AD$7:AJ$50,7,0))","v":""},{"$f":"IF($A128=\"\",\"\",VLOOKUP($A128,INSCRITS!$D$4:$W$506,11,0))","v":""},{"$f":"IF(ISNA(VLOOKUP($A128,BATONS!AD$7:AJ$51,6,0)),\"\",VLOOKUP($A128,BATONS!AD$7:AJ$51,6,0))","v":""},{"$f":"IF(ISNA(VLOOKUP($A128,BATONS!AD$7:AJ$51,7,0)),\"\",VLOOKUP($A128,BATONS!AD$7:AJ$51,7,0))","v":""},{"$f":"IF($A128=\"\",\"\",VLOOKUP($A128,INSCRITS!$D$4:$W$506,12,0))","v":""},{"$f":"IF(ISNA(VLOOKUP($A128,PLANCHE!AC$7:AI$52,6,0)),\"\",VLOOKUP($A128,PLANCHE!AC$7:AI$52,6,0))","v":""},{"$f":"IF(ISNA(VLOOKUP($A128,PLANCHE!AC$7:AI$52,7,0)),\"\",VLOOKUP($A128,PLANCHE!AC$7:AI$52,7,0))","v":""},{"$f":"IF($A128=\"\",\"\",VLOOKUP($A128,INSCRITS!$D$4:$W$506,13,0))","v":""},{"$f":"IF(ISNA(VLOOKUP($A128,NAGE!N$7:T$52,6,0)),\"\",VLOOKUP($A128,NAGE!N$7:T$52,6,0))","v":""},{"$f":"IF(ISNA(VLOOKUP($A128,NAGE!N$7:T$52,7,0)),\"\",VLOOKUP($A128,NAGE!N$7:T$52,7,0))","v":""},{"$f":"IF($A128=\"\",\"\",VLOOKUP($A128,INSCRITS!$D$4:$W$506,14,0))","v":""},{"$f":"IF(ISNA(VLOOKUP($A128,SURFSKI!AC$8:AI$53,6,0)),\"\",VLOOKUP($A128,SURFSKI!AC$8:AI$53,6,0))","v":""},{"$f":"IF(ISNA(VLOOKUP($A128,SURFSKI!AC$8:AI$53,7,0)),\"\",VLOOKUP($A128,SURFSKI!AC$8:AI$53,7,0))","v":""},{"$f":"IF($A128=\"\",\"\",VLOOKUP($A128,INSCRITS!$D$4:$W$506,15,0))","v":""},{"$f":"IF(ISNA(VLOOKUP($A128,OCEANMAN!AD$7:AJ$52,6,0)),\"\",VLOOKUP($A128,OCEANMAN!AD$7:AJ$52,6,0))","v":""},{"$f":"IF(ISNA(VLOOKUP($A128,OCEANMAN!AD$7:AJ$52,7,0)),\"\",VLOOKUP($A128,OCEANMAN!AD$7:AJ$52,7,0))","v":""},{"$f":"IF($A128=\"\",\"\",VLOOKUP($A128,INSCRITS!$D$4:$W$506,16,0))","v":""},{"$f":"IF(ISNA(VLOOKUP($A128,CNC!N$7:AC$52,6,0)),\"\",VLOOKUP($A128,CNC!N$7:AC$52,6,0))","v":""},{"$f":"IF(ISNA(VLOOKUP($A128,CNC!N$7:AC$52,7,0)),\"\",VLOOKUP($A128,CNC!N$7:AC$52,7,0))","v":""},0,{"$f":"IF($A128=\"\",\"\",VLOOKUP($A128,INSCRITS!$D$4:$W$506,16,0))","v":""},null,{"$f":"IF(AG128=\"\",\"\",VLOOKUP(AG128,[0]!Relais,2))","v":""},{"$f":"IF($A128=\"\",\"\",VLOOKUP($A128,INSCRITS!$D$4:$W$506,17,0))","v":""},null,{"$f":"IF(AJ128=\"\",\"\",VLOOKUP(AJ128,[0]!Relais,2))","v":""},{"$f":"IF($A128=\"\",\"\",VLOOKUP($A128,INSCRITS!$D$4:$W$506,18,0))","v":""},null,{"$f":"IF(AM128=\"\",\"\",VLOOKUP(AM128,[0]!Relais,2))","v":""},{"$f":"IF($A128=\"\",\"\",VLOOKUP($A128,INSCRITS!$D$4:$W$506,19,0))","v":""},null,{"$f":"IF(AP128=\"\",\"\",VLOOKUP(AP128,[0]!Relais,2))","v":""},0,0]
[null,{"$f":"IF($A129=\"\",\"\",VLOOKUP($A129,INSCRITS!$D$4:$W$501,2,0))","v":""},{"$f":"IF($A129=\"\",\"\",VLOOKUP($A129,INSCRITS!$D$4:$W$501,3,0))","v":""},{"$f":"IF($A129=\"\",\"\",VLOOKUP($A129,INSCRITS!$D$4:$W$501,4,0))","v":""},{"$f":"IF($A129=\"\",\"\",VLOOKUP($A129,INSCRITS!$D$4:$W$501,5,0))","v":""},{"$f":"IF($A129=\"\",\"\",VLOOKUP($A129,INSCRITS!$D$4:$W$501,6,0))","v":""},{"$f":"IF($A129=\"\",\"\",VLOOKUP($A129,INSCRITS!$D$4:$W$501,7,0))","v":""},{"$f":"IF($A129=\"\",\"\",VLOOKUP($A129,INSCRITS!$D$4:$W$501,8,0))","v":""},{"$f":"IF($A129=\"\",\"\",VLOOKUP($A129,INSCRITS!$D$4:$W$501,9,0))","v":""},{"$f":"IF($A129=\"\",\"\",VLOOKUP($A129,INSCRITS!$D$4:$W$506,10,0))","v":""},{"$f":"IF(ISNA(VLOOKUP($A129,SPRINT!AD$7:AJ$50,6,0)),\"\",VLOOKUP($A129,SPRINT!AD$7:AJ$50,6,0))","v":""},{"$f":"IF(ISNA(VLOOKUP($A129,SPRINT!AD$7:AJ$50,7,0)),\"\",VLOOKUP($A129,SPRINT!AD$7:AJ$50,7,0))","v":""},{"$f":"IF($A129=\"\",\"\",VLOOKUP($A129,INSCRITS!$D$4:$W$506,11,0))","v":""},{"$f":"IF(ISNA(VLOOKUP($A129,BATONS!AD$7:AJ$51,6,0)),\"\",VLOOKUP($A129,BATONS!AD$7:AJ$51,6,0))","v":""},{"$f":"IF(ISNA(VLOOKUP($A129,BATONS!AD$7:AJ$51,7,0)),\"\",VLOOKUP($A129,BATONS!AD$7:AJ$51,7,0))","v":""},{"$f":"IF($A129=\"\",\"\",VLOOKUP($A129,INSCRITS!$D$4:$W$506,12,0))","v":""},{"$f":"IF(ISNA(VLOOKUP($A129,PLANCHE!AC$7:AI$52,6,0)),\"\",VLOOKUP($A129,PLANCHE!AC$7:AI$52,6,0))","v":""},{"$f":"IF(ISNA(VLOOKUP($A129,PLANCHE!AC$7:AI$52,7,0)),\"\",VLOOKUP($A129,PLANCHE!AC$7:AI$52,7,0))","v":""},{"$f":"IF($A129=\"\",\"\",VLOOKUP($A129,INSCRITS!$D$4:$W$506,13,0))","v":""},{"$f":"IF(ISNA(VLOOKUP($A129,NAGE!N$7:T$52,6,0)),\"\",VLOOKUP($A129,NAGE!N$7:T$52,6,0))","v":""},{"$f":"IF(ISNA(VLOOKUP($A129,NAGE!N$7:T$52,7,0)),\"\",VLOOKUP($A129,NAGE!N$7:T$52,7,0))","v":""},{"$f":"IF($A129=\"\",\"\",VLOOKUP($A129,INSCRITS!$D$4:$W$506,14,0))","v":""},{"$f":"IF(ISNA(VLOOKUP($A129,SURFSKI!AC$8:AI$53,6,0)),\"\",VLOOKUP($A129,SURFSKI!AC$8:AI$53,6,0))","v":""},{"$f":"IF(ISNA(VLOOKUP($A129,SURFSKI!AC$8:AI$53,7,0)),\"\",VLOOKUP($A129,SURFSKI!AC$8:AI$53,7,0))","v":""},{"$f":"IF($A129=\"\",\"\",VLOOKUP($A129,INSCRITS!$D$4:$W$506,15,0))","v":""},{"$f":"IF(ISNA(VLOOKUP($A129,OCEANMAN!AD$7:AJ$52,6,0)),\"\",VLOOKUP($A129,OCEANMAN!AD$7:AJ$52,6,0))","v":""},{"$f":"IF(ISNA(VLOOKUP($A129,OCEANMAN!AD$7:AJ$52,7,0)),\"\",VLOOKUP($A129,OCEANMAN!AD$7:AJ$52,7,0))","v":""},{"$f":"IF($A129=\"\",\"\",VLOOKUP($A129,INSCRITS!$D$4:$W$506,16,0))","v":""},{"$f":"IF(ISNA(VLOOKUP($A129,CNC!N$7:AC$52,6,0)),\"\",VLOOKUP($A129,CNC!N$7:AC$52,6,0))","v":""},{"$f":"IF(ISNA(VLOOKUP($A129,CNC!N$7:AC$52,7,0)),\"\",VLOOKUP($A129,CNC!N$7:AC$52,7,0))","v":""},0,{"$f":"IF($A129=\"\",\"\",VLOOKUP($A129,INSCRITS!$D$4:$W$506,16,0))","v":""},null,{"$f":"IF(AG129=\"\",\"\",VLOOKUP(AG129,[0]!Relais,2))","v":""},{"$f":"IF($A129=\"\",\"\",VLOOKUP($A129,INSCRITS!$D$4:$W$506,17,0))","v":""},null,{"$f":"IF(AJ129=\"\",\"\",VLOOKUP(AJ129,[0]!Relais,2))","v":""},{"$f":"IF($A129=\"\",\"\",VLOOKUP($A129,INSCRITS!$D$4:$W$506,18,0))","v":""},null,{"$f":"IF(AM129=\"\",\"\",VLOOKUP(AM129,[0]!Relais,2))","v":""},{"$f":"IF($A129=\"\",\"\",VLOOKUP($A129,INSCRITS!$D$4:$W$506,19,0))","v":""},null,{"$f":"IF(AP129=\"\",\"\",VLOOKUP(AP129,[0]!Relais,2))","v":""},0,0]
[null,{"$f":"IF($A130=\"\",\"\",VLOOKUP($A130,INSCRITS!$D$4:$W$501,2,0))","v":""},{"$f":"IF($A130=\"\",\"\",VLOOKUP($A130,INSCRITS!$D$4:$W$501,3,0))","v":""},{"$f":"IF($A130=\"\",\"\",VLOOKUP($A130,INSCRITS!$D$4:$W$501,4,0))","v":""},{"$f":"IF($A130=\"\",\"\",VLOOKUP($A130,INSCRITS!$D$4:$W$501,5,0))","v":""},{"$f":"IF($A130=\"\",\"\",VLOOKUP($A130,INSCRITS!$D$4:$W$501,6,0))","v":""},{"$f":"IF($A130=\"\",\"\",VLOOKUP($A130,INSCRITS!$D$4:$W$501,7,0))","v":""},{"$f":"IF($A130=\"\",\"\",VLOOKUP($A130,INSCRITS!$D$4:$W$501,8,0))","v":""},{"$f":"IF($A130=\"\",\"\",VLOOKUP($A130,INSCRITS!$D$4:$W$501,9,0))","v":""},{"$f":"IF($A130=\"\",\"\",VLOOKUP($A130,INSCRITS!$D$4:$W$506,10,0))","v":""},{"$f":"IF(ISNA(VLOOKUP($A130,SPRINT!AD$7:AJ$50,6,0)),\"\",VLOOKUP($A130,SPRINT!AD$7:AJ$50,6,0))","v":""},{"$f":"IF(ISNA(VLOOKUP($A130,SPRINT!AD$7:AJ$50,7,0)),\"\",VLOOKUP($A130,SPRINT!AD$7:AJ$50,7,0))","v":""},{"$f":"IF($A130=\"\",\"\",VLOOKUP($A130,INSCRITS!$D$4:$W$506,11,0))","v":""},{"$f":"IF(ISNA(VLOOKUP($A130,BATONS!AD$7:AJ$51,6,0)),\"\",VLOOKUP($A130,BATONS!AD$7:AJ$51,6,0))","v":""},{"$f":"IF(ISNA(VLOOKUP($A130,BATONS!AD$7:AJ$51,7,0)),\"\",VLOOKUP($A130,BATONS!AD$7:AJ$51,7,0))","v":""},{"$f":"IF($A130=\"\",\"\",VLOOKUP($A130,INSCRITS!$D$4:$W$506,12,0))","v":""},{"$f":"IF(ISNA(VLOOKUP($A130,PLANCHE!AC$7:AI$52,6,0)),\"\",VLOOKUP($A130,PLANCHE!AC$7:AI$52,6,0))","v":""},{"$f":"IF(ISNA(VLOOKUP($A130,PLANCHE!AC$7:AI$52,7,0)),\"\",VLOOKUP($A130,PLANCHE!AC$7:AI$52,7,0))","v":""},{"$f":"IF($A130=\"\",\"\",VLOOKUP($A130,INSCRITS!$D$4:$W$506,13,0))","v":""},{"$f":"IF(ISNA(VLOOKUP($A130,NAGE!N$7:T$52,6,0)),\"\",VLOOKUP($A130,NAGE!N$7:T$52,6,0))","v":""},{"$f":"IF(ISNA(VLOOKUP($A130,NAGE!N$7:T$52,7,0)),\"\",VLOOKUP($A130,NAGE!N$7:T$52,7,0))","v":""},{"$f":"IF($A130=\"\",\"\",VLOOKUP($A130,INSCRITS!$D$4:$W$506,14,0))","v":""},{"$f":"IF(ISNA(VLOOKUP($A130,SURFSKI!AC$8:AI$53,6,0)),\"\",VLOOKUP($A130,SURFSKI!AC$8:AI$53,6,0))","v":""},{"$f":"IF(ISNA(VLOOKUP($A130,SURFSKI!AC$8:AI$53,7,0)),\"\",VLOOKUP($A130,SURFSKI!AC$8:AI$53,7,0))","v":""},{"$f":"IF($A130=\"\",\"\",VLOOKUP($A130,INSCRITS!$D$4:$W$506,15,0))","v":""},{"$f":"IF(ISNA(VLOOKUP($A130,OCEANMAN!AD$7:AJ$52,6,0)),\"\",VLOOKUP($A130,OCEANMAN!AD$7:AJ$52,6,0))","v":""},{"$f":"IF(ISNA(VLOOKUP($A130,OCEANMAN!AD$7:AJ$52,7,0)),\"\",VLOOKUP($A130,OCEANMAN!AD$7:AJ$52,7,0))","v":""},{"$f":"IF($A130=\"\",\"\",VLOOKUP($A130,INSCRITS!$D$4:$W$506,16,0))","v":""},{"$f":"IF(ISNA(VLOOKUP($A130,CNC!N$7:AC$52,6,0)),\"\",VLOOKUP($A130,CNC!N$7:AC$52,6,0))","v":""},{"$f":"IF(ISNA(VLOOKUP($A130,CNC!N$7:AC$52,7,0)),\"\",VLOOKUP($A130,CNC!N$7:AC$52,7,0))","v":""},0,{"$f":"IF($A130=\"\",\"\",VLOOKUP($A130,INSCRITS!$D$4:$W$506,16,0))","v":""},null,{"$f":"IF(AG130=\"\",\"\",VLOOKUP(AG130,[0]!Relais,2))","v":""},{"$f":"IF($A130=\"\",\"\",VLOOKUP($A130,INSCRITS!$D$4:$W$506,17,0))","v":""},null,{"$f":"IF(AJ130=\"\",\"\",VLOOKUP(AJ130,[0]!Relais,2))","v":""},{"$f":"IF($A130=\"\",\"\",VLOOKUP($A130,INSCRITS!$D$4:$W$506,18,0))","v":""},null,{"$f":"IF(AM130=\"\",\"\",VLOOKUP(AM130,[0]!Relais,2))","v":""},{"$f":"IF($A130=\"\",\"\",VLOOKUP($A130,INSCRITS!$D$4:$W$506,19,0))","v":""},null,{"$f":"IF(AP130=\"\",\"\",VLOOKUP(AP130,[0]!Relais,2))","v":""},0,0]
[null,{"$f":"IF($A131=\"\",\"\",VLOOKUP($A131,INSCRITS!$D$4:$W$501,2,0))","v":""},{"$f":"IF($A131=\"\",\"\",VLOOKUP($A131,INSCRITS!$D$4:$W$501,3,0))","v":""},{"$f":"IF($A131=\"\",\"\",VLOOKUP($A131,INSCRITS!$D$4:$W$501,4,0))","v":""},{"$f":"IF($A131=\"\",\"\",VLOOKUP($A131,INSCRITS!$D$4:$W$501,5,0))","v":""},{"$f":"IF($A131=\"\",\"\",VLOOKUP($A131,INSCRITS!$D$4:$W$501,6,0))","v":""},{"$f":"IF($A131=\"\",\"\",VLOOKUP($A131,INSCRITS!$D$4:$W$501,7,0))","v":""},{"$f":"IF($A131=\"\",\"\",VLOOKUP($A131,INSCRITS!$D$4:$W$501,8,0))","v":""},{"$f":"IF($A131=\"\",\"\",VLOOKUP($A131,INSCRITS!$D$4:$W$501,9,0))","v":""},{"$f":"IF($A131=\"\",\"\",VLOOKUP($A131,INSCRITS!$D$4:$W$506,10,0))","v":""},{"$f":"IF(ISNA(VLOOKUP($A131,SPRINT!AD$7:AJ$50,6,0)),\"\",VLOOKUP($A131,SPRINT!AD$7:AJ$50,6,0))","v":""},{"$f":"IF(ISNA(VLOOKUP($A131,SPRINT!AD$7:AJ$50,7,0)),\"\",VLOOKUP($A131,SPRINT!AD$7:AJ$50,7,0))","v":""},{"$f":"IF($A131=\"\",\"\",VLOOKUP($A131,INSCRITS!$D$4:$W$506,11,0))","v":""},{"$f":"IF(ISNA(VLOOKUP($A131,BATONS!AD$7:AJ$51,6,0)),\"\",VLOOKUP($A131,BATONS!AD$7:AJ$51,6,0))","v":""},{"$f":"IF(ISNA(VLOOKUP($A131,BATONS!AD$7:AJ$51,7,0)),\"\",VLOOKUP($A131,BATONS!AD$7:AJ$51,7,0))","v":""},{"$f":"IF($A131=\"\",\"\",VLOOKUP($A131,INSCRITS!$D$4:$W$506,12,0))","v":""},{"$f":"IF(ISNA(VLOOKUP($A131,PLANCHE!AC$7:AI$52,6,0)),\"\",VLOOKUP($A131,PLANCHE!AC$7:AI$52,6,0))","v":""},{"$f":"IF(ISNA(VLOOKUP($A131,PLANCHE!AC$7:AI$52,7,0)),\"\",VLOOKUP($A131,PLANCHE!AC$7:AI$52,7,0))","v":""},{"$f":"IF($A131=\"\",\"\",VLOOKUP($A131,INSCRITS!$D$4:$W$506,13,0))","v":""},{"$f":"IF(ISNA(VLOOKUP($A131,NAGE!N$7:T$52,6,0)),\"\",VLOOKUP($A131,NAGE!N$7:T$52,6,0))","v":""},{"$f":"IF(ISNA(VLOOKUP($A131,NAGE!N$7:T$52,7,0)),\"\",VLOOKUP($A131,NAGE!N$7:T$52,7,0))","v":""},{"$f":"IF($A131=\"\",\"\",VLOOKUP($A131,INSCRITS!$D$4:$W$506,14,0))","v":""},{"$f":"IF(ISNA(VLOOKUP($A131,SURFSKI!AC$8:AI$53,6,0)),\"\",VLOOKUP($A131,SURFSKI!AC$8:AI$53,6,0))","v":""},{"$f":"IF(ISNA(VLOOKUP($A131,SURFSKI!AC$8:AI$53,7,0)),\"\",VLOOKUP($A131,SURFSKI!AC$8:AI$53,7,0))","v":""},{"$f":"IF($A131=\"\",\"\",VLOOKUP($A131,INSCRITS!$D$4:$W$506,15,0))","v":""},{"$f":"IF(ISNA(VLOOKUP($A131,OCEANMAN!AD$7:AJ$52,6,0)),\"\",VLOOKUP($A131,OCEANMAN!AD$7:AJ$52,6,0))","v":""},{"$f":"IF(ISNA(VLOOKUP($A131,OCEANMAN!AD$7:AJ$52,7,0)),\"\",VLOOKUP($A131,OCEANMAN!AD$7:AJ$52,7,0))","v":""},{"$f":"IF($A131=\"\",\"\",VLOOKUP($A131,INSCRITS!$D$4:$W$506,16,0))","v":""},{"$f":"IF(ISNA(VLOOKUP($A131,CNC!N$7:AC$52,6,0)),\"\",VLOOKUP($A131,CNC!N$7:AC$52,6,0))","v":""},{"$f":"IF(ISNA(VLOOKUP($A131,CNC!N$7:AC$52,7,0)),\"\",VLOOKUP($A131,CNC!N$7:AC$52,7,0))","v":""},0,{"$f":"IF($A131=\"\",\"\",VLOOKUP($A131,INSCRITS!$D$4:$W$506,16,0))","v":""},null,{"$f":"IF(AG131=\"\",\"\",VLOOKUP(AG131,[0]!Relais,2))","v":""},{"$f":"IF($A131=\"\",\"\",VLOOKUP($A131,INSCRITS!$D$4:$W$506,17,0))","v":""},null,{"$f":"IF(AJ131=\"\",\"\",VLOOKUP(AJ131,[0]!Relais,2))","v":""},{"$f":"IF($A131=\"\",\"\",VLOOKUP($A131,INSCRITS!$D$4:$W$506,18,0))","v":""},null,{"$f":"IF(AM131=\"\",\"\",VLOOKUP(AM131,[0]!Relais,2))","v":""},{"$f":"IF($A131=\"\",\"\",VLOOKUP($A131,INSCRITS!$D$4:$W$506,19,0))","v":""},null,{"$f":"IF(AP131=\"\",\"\",VLOOKUP(AP131,[0]!Relais,2))","v":""},0,0]
[null,{"$f":"IF($A132=\"\",\"\",VLOOKUP($A132,INSCRITS!$D$4:$W$501,2,0))","v":""},{"$f":"IF($A132=\"\",\"\",VLOOKUP($A132,INSCRITS!$D$4:$W$501,3,0))","v":""},{"$f":"IF($A132=\"\",\"\",VLOOKUP($A132,INSCRITS!$D$4:$W$501,4,0))","v":""},{"$f":"IF($A132=\"\",\"\",VLOOKUP($A132,INSCRITS!$D$4:$W$501,5,0))","v":""},{"$f":"IF($A132=\"\",\"\",VLOOKUP($A132,INSCRITS!$D$4:$W$501,6,0))","v":""},{"$f":"IF($A132=\"\",\"\",VLOOKUP($A132,INSCRITS!$D$4:$W$501,7,0))","v":""},{"$f":"IF($A132=\"\",\"\",VLOOKUP($A132,INSCRITS!$D$4:$W$501,8,0))","v":""},{"$f":"IF($A132=\"\",\"\",VLOOKUP($A132,INSCRITS!$D$4:$W$501,9,0))","v":""},{"$f":"IF($A132=\"\",\"\",VLOOKUP($A132,INSCRITS!$D$4:$W$506,10,0))","v":""},{"$f":"IF(ISNA(VLOOKUP($A132,SPRINT!AD$7:AJ$50,6,0)),\"\",VLOOKUP($A132,SPRINT!AD$7:AJ$50,6,0))","v":""},{"$f":"IF(ISNA(VLOOKUP($A132,SPRINT!AD$7:AJ$50,7,0)),\"\",VLOOKUP($A132,SPRINT!AD$7:AJ$50,7,0))","v":""},{"$f":"IF($A132=\"\",\"\",VLOOKUP($A132,INSCRITS!$D$4:$W$506,11,0))","v":""},{"$f":"IF(ISNA(VLOOKUP($A132,BATONS!AD$7:AJ$51,6,0)),\"\",VLOOKUP($A132,BATONS!AD$7:AJ$51,6,0))","v":""},{"$f":"IF(ISNA(VLOOKUP($A132,BATONS!AD$7:AJ$51,7,0)),\"\",VLOOKUP($A132,BATONS!AD$7:AJ$51,7,0))","v":""},{"$f":"IF($A132=\"\",\"\",VLOOKUP($A132,INSCRITS!$D$4:$W$506,12,0))","v":""},{"$f":"IF(ISNA(VLOOKUP($A132,PLANCHE!AC$7:AI$52,6,0)),\"\",VLOOKUP($A132,PLANCHE!AC$7:AI$52,6,0))","v":""},{"$f":"IF(ISNA(VLOOKUP($A132,PLANCHE!AC$7:AI$52,7,0)),\"\",VLOOKUP($A132,PLANCHE!AC$7:AI$52,7,0))","v":""},{"$f":"IF($A132=\"\",\"\",VLOOKUP($A132,INSCRITS!$D$4:$W$506,13,0))","v":""},{"$f":"IF(ISNA(VLOOKUP($A132,NAGE!N$7:T$52,6,0)),\"\",VLOOKUP($A132,NAGE!N$7:T$52,6,0))","v":""},{"$f":"IF(ISNA(VLOOKUP($A132,NAGE!N$7:T$52,7,0)),\"\",VLOOKUP($A132,NAGE!N$7:T$52,7,0))","v":""},{"$f":"IF($A132=\"\",\"\",VLOOKUP($A132,INSCRITS!$D$4:$W$506,14,0))","v":""},{"$f":"IF(ISNA(VLOOKUP($A132,SURFSKI!AC$8:AI$53,6,0)),\"\",VLOOKUP($A132,SURFSKI!AC$8:AI$53,6,0))","v":""},{"$f":"IF(ISNA(VLOOKUP($A132,SURFSKI!AC$8:AI$53,7,0)),\"\",VLOOKUP($A132,SURFSKI!AC$8:AI$53,7,0))","v":""},{"$f":"IF($A132=\"\",\"\",VLOOKUP($A132,INSCRITS!$D$4:$W$506,15,0))","v":""},{"$f":"IF(ISNA(VLOOKUP($A132,OCEANMAN!AD$7:AJ$52,6,0)),\"\",VLOOKUP($A132,OCEANMAN!AD$7:AJ$52,6,0))","v":""},{"$f":"IF(ISNA(VLOOKUP($A132,OCEANMAN!AD$7:AJ$52,7,0)),\"\",VLOOKUP($A132,OCEANMAN!AD$7:AJ$52,7,0))","v":""},{"$f":"IF($A132=\"\",\"\",VLOOKUP($A132,INSCRITS!$D$4:$W$506,16,0))","v":""},{"$f":"IF(ISNA(VLOOKUP($A132,CNC!N$7:AC$52,6,0)),\"\",VLOOKUP($A132,CNC!N$7:AC$52,6,0))","v":""},{"$f":"IF(ISNA(VLOOKUP($A132,CNC!N$7:AC$52,7,0)),\"\",VLOOKUP($A132,CNC!N$7:AC$52,7,0))","v":""},0,{"$f":"IF($A132=\"\",\"\",VLOOKUP($A132,INSCRITS!$D$4:$W$506,16,0))","v":""},null,{"$f":"IF(AG132=\"\",\"\",VLOOKUP(AG132,[0]!Relais,2))","v":""},{"$f":"IF($A132=\"\",\"\",VLOOKUP($A132,INSCRITS!$D$4:$W$506,17,0))","v":""},null,{"$f":"IF(AJ132=\"\",\"\",VLOOKUP(AJ132,[0]!Relais,2))","v":""},{"$f":"IF($A132=\"\",\"\",VLOOKUP($A132,INSCRITS!$D$4:$W$506,18,0))","v":""},null,{"$f":"IF(AM132=\"\",\"\",VLOOKUP(AM132,[0]!Relais,2))","v":""},{"$f":"IF($A132=\"\",\"\",VLOOKUP($A132,INSCRITS!$D$4:$W$506,19,0))","v":""},null,{"$f":"IF(AP132=\"\",\"\",VLOOKUP(AP132,[0]!Relais,2))","v":""},0,0]
[null,null,null,{"$f":"IF($A133=\"\",\"\",VLOOKUP($A133,INSCRITS!$D$4:$W$501,4,0))","v":""},{"$f":"IF($A133=\"\",\"\",VLOOKUP($A133,INSCRITS!$D$4:$W$501,5,0))","v":""},{"$f":"IF($A133=\"\",\"\",VLOOKUP($A133,INSCRITS!$D$4:$W$501,6,0))","v":""},{"$f":"IF($A133=\"\",\"\",VLOOKUP($A133,INSCRITS!$D$4:$W$501,7,0))","v":""},{"$f":"IF($A133=\"\",\"\",VLOOKUP($A133,INSCRITS!$D$4:$W$501,8,0))","v":""},{"$f":"IF($A133=\"\",\"\",VLOOKUP($A133,INSCRITS!$D$4:$W$501,9,0))","v":""},{"$f":"IF($A133=\"\",\"\",VLOOKUP($A133,INSCRITS!$D$4:$W$506,10,0))","v":""},{"$f":"IF(ISNA(VLOOKUP($A133,SPRINT!AD$7:AJ$50,6,0)),\"\",VLOOKUP($A133,SPRINT!AD$7:AJ$50,6,0))","v":""},{"$f":"IF(ISNA(VLOOKUP($A133,SPRINT!AD$7:AJ$50,7,0)),\"\",VLOOKUP($A133,SPRINT!AD$7:AJ$50,7,0))","v":""},{"$f":"IF($A133=\"\",\"\",VLOOKUP($A133,INSCRITS!$D$4:$W$506,11,0))","v":""},{"$f":"IF(ISNA(VLOOKUP($A133,BATONS!AD$7:AJ$51,6,0)),\"\",VLOOKUP($A133,BATONS!AD$7:AJ$51,6,0))","v":""},{"$f":"IF(ISNA(VLOOKUP($A133,BATONS!AD$7:AJ$51,7,0)),\"\",VLOOKUP($A133,BATONS!AD$7:AJ$51,7,0))","v":""},{"$f":"IF($A133=\"\",\"\",VLOOKUP($A133,INSCRITS!$D$4:$W$506,12,0))","v":""},{"$f":"IF(ISNA(VLOOKUP($A133,PLANCHE!AC$7:AI$52,6,0)),\"\",VLOOKUP($A133,PLANCHE!AC$7:AI$52,6,0))","v":""},{"$f":"IF(ISNA(VLOOKUP($A133,PLANCHE!AC$7:AI$52,7,0)),\"\",VLOOKUP($A133,PLANCHE!AC$7:AI$52,7,0))","v":""},{"$f":"IF($A133=\"\",\"\",VLOOKUP($A133,INSCRITS!$D$4:$W$506,13,0))","v":""},{"$f":"IF(ISNA(VLOOKUP($A133,NAGE!N$7:T$52,6,0)),\"\",VLOOKUP($A133,NAGE!N$7:T$52,6,0))","v":""},{"$f":"IF(ISNA(VLOOKUP($A133,NAGE!N$7:T$52,7,0)),\"\",VLOOKUP($A133,NAGE!N$7:T$52,7,0))","v":""},{"$f":"IF($A133=\"\",\"\",VLOOKUP($A133,INSCRITS!$D$4:$W$506,14,0))","v":""},{"$f":"IF(ISNA(VLOOKUP($A133,SURFSKI!AC$8:AI$53,6,0)),\"\",VLOOKUP($A133,SURFSKI!AC$8:AI$53,6,0))","v":""},{"$f":"IF(ISNA(VLOOKUP($A133,SURFSKI!AC$8:AI$53,7,0)),\"\",VLOOKUP($A133,SURFSKI!AC$8:AI$53,7,0))","v":""},{"$f":"IF($A133=\"\",\"\",VLOOKUP($A133,INSCRITS!$D$4:$W$506,15,0))","v":""},{"$f":"IF(ISNA(VLOOKUP($A133,OCEANMAN!AD$7:AJ$52,6,0)),\"\",VLOOKUP($A133,OCEANMAN!AD$7:AJ$52,6,0))","v":""},{"$f":"IF(ISNA(VLOOKUP($A133,OCEANMAN!AD$7:AJ$52,7,0)),\"\",VLOOKUP($A133,OCEANMAN!AD$7:AJ$52,7,0))","v":""},{"$f":"IF($A133=\"\",\"\",VLOOKUP($A133,INSCRITS!$D$4:$W$506,16,0))","v":""},{"$f":"IF(ISNA(VLOOKUP($A133,CNC!N$7:AC$52,6,0)),\"\",VLOOKUP($A133,CNC!N$7:AC$52,6,0))","v":""},{"$f":"IF(ISNA(VLOOKUP($A133,CNC!N$7:AC$52,7,0)),\"\",VLOOKUP($A133,CNC!N$7:AC$52,7,0))","v":""},{"$f":"SUM(L133,O133,R133,U133,X133,AA133,AD133)","v":0},{"$f":"IF($A133=\"\",\"\",VLOOKUP($A133,INSCRITS!$D$4:$W$506,16,0))","v":""},null,{"$f":"IF(AG133=\"\",\"\",VLOOKUP(AG133,[0]!Relais,2))","v":""},{"$f":"IF($A133=\"\",\"\",VLOOKUP($A133,INSCRITS!$D$4:$W$506,17,0))","v":""},null,{"$f":"IF(AJ133=\"\",\"\",VLOOKUP(AJ133,[0]!Relais,2))","v":""},{"$f":"IF($A133=\"\",\"\",VLOOKUP($A133,INSCRITS!$D$4:$W$506,18,0))","v":""},null,{"$f":"IF(AM133=\"\",\"\",VLOOKUP(AM133,[0]!Relais,2))","v":""},{"$f":"IF($A133=\"\",\"\",VLOOKUP($A133,INSCRITS!$D$4:$W$506,19,0))","v":""},null,{"$f":"IF(AP133=\"\",\"\",VLOOKUP(AP133,[0]!Relais,2))","v":""},{"$f":"SUM(AH133,AK133,AN133,AQ133)","v":0},{"$f":"AE133+AR133","v":0}]
[null,null,null,{"$f":"IF($A134=\"\",\"\",VLOOKUP($A134,INSCRITS!$D$4:$W$501,4,0))","v":""},{"$f":"IF($A134=\"\",\"\",VLOOKUP($A134,INSCRITS!$D$4:$W$501,5,0))","v":""},{"$f":"IF($A134=\"\",\"\",VLOOKUP($A134,INSCRITS!$D$4:$W$501,6,0))","v":""},{"$f":"IF($A134=\"\",\"\",VLOOKUP($A134,INSCRITS!$D$4:$W$501,7,0))","v":""},{"$f":"IF($A134=\"\",\"\",VLOOKUP($A134,INSCRITS!$D$4:$W$501,8,0))","v":""},{"$f":"IF($A134=\"\",\"\",VLOOKUP($A134,INSCRITS!$D$4:$W$501,9,0))","v":""},{"$f":"IF($A134=\"\",\"\",VLOOKUP($A134,INSCRITS!$D$4:$W$506,10,0))","v":""},{"$f":"IF(ISNA(VLOOKUP($A134,SPRINT!AD$7:AJ$50,6,0)),\"\",VLOOKUP($A134,SPRINT!AD$7:AJ$50,6,0))","v":""},{"$f":"IF(ISNA(VLOOKUP($A134,SPRINT!AD$7:AJ$50,7,0)),\"\",VLOOKUP($A134,SPRINT!AD$7:AJ$50,7,0))","v":""},{"$f":"IF($A134=\"\",\"\",VLOOKUP($A134,INSCRITS!$D$4:$W$506,11,0))","v":""},{"$f":"IF(ISNA(VLOOKUP($A134,BATONS!AD$7:AJ$51,6,0)),\"\",VLOOKUP($A134,BATONS!AD$7:AJ$51,6,0))","v":""},{"$f":"IF(ISNA(VLOOKUP($A134,BATONS!AD$7:AJ$51,7,0)),\"\",VLOOKUP($A134,BATONS!AD$7:AJ$51,7,0))","v":""},{"$f":"IF($A134=\"\",\"\",VLOOKUP($A134,INSCRITS!$D$4:$W$506,12,0))","v":""},{"$f":"IF(ISNA(VLOOKUP($A134,PLANCHE!AC$7:AI$52,6,0)),\"\",VLOOKUP($A134,PLANCHE!AC$7:AI$52,6,0))","v":""},{"$f":"IF(ISNA(VLOOKUP($A134,PLANCHE!AC$7:AI$52,7,0)),\"\",VLOOKUP($A134,PLANCHE!AC$7:AI$52,7,0))","v":""},{"$f":"IF($A134=\"\",\"\",VLOOKUP($A134,INSCRITS!$D$4:$W$506,13,0))","v":""},{"$f":"IF(ISNA(VLOOKUP($A134,NAGE!N$7:T$52,6,0)),\"\",VLOOKUP($A134,NAGE!N$7:T$52,6,0))","v":""},{"$f":"IF(ISNA(VLOOKUP($A134,NAGE!N$7:T$52,7,0)),\"\",VLOOKUP($A134,NAGE!N$7:T$52,7,0))","v":""},{"$f":"IF($A134=\"\",\"\",VLOOKUP($A134,INSCRITS!$D$4:$W$506,14,0))","v":""},{"$f":"IF(ISNA(VLOOKUP($A134,SURFSKI!AC$8:AI$53,6,0)),\"\",VLOOKUP($A134,SURFSKI!AC$8:AI$53,6,0))","v":""},{"$f":"IF(ISNA(VLOOKUP($A134,SURFSKI!AC$8:AI$53,7,0)),\"\",VLOOKUP($A134,SURFSKI!AC$8:AI$53,7,0))","v":""},{"$f":"IF($A134=\"\",\"\",VLOOKUP($A134,INSCRITS!$D$4:$W$506,15,0))","v":""},{"$f":"IF(ISNA(VLOOKUP($A134,OCEANMAN!AD$7:AJ$52,6,0)),\"\",VLOOKUP($A134,OCEANMAN!AD$7:AJ$52,6,0))","v":""},{"$f":"IF(ISNA(VLOOKUP($A134,OCEANMAN!AD$7:AJ$52,7,0)),\"\",VLOOKUP($A134,OCEANMAN!AD$7:AJ$52,7,0))","v":""},{"$f":"IF($A134=\"\",\"\",VLOOKUP($A134,INSCRITS!$D$4:$W$506,16,0))","v":""},{"$f":"IF(ISNA(VLOOKUP($A134,CNC!N$7:AC$52,6,0)),\"\",VLOOKUP($A134,CNC!N$7:AC$52,6,0))","v":""},{"$f":"IF(ISNA(VLOOKUP($A134,CNC!N$7:AC$52,7,0)),\"\",VLOOKUP($A134,CNC!N$7:AC$52,7,0))","v":""},0,{"$f":"IF($A134=\"\",\"\",VLOOKUP($A134,INSCRITS!$D$4:$W$506,16,0))","v":""},null,{"$f":"IF(AG134=\"\",\"\",VLOOKUP(AG134,[0]!Relais,2))","v":""},{"$f":"IF($A134=\"\",\"\",VLOOKUP($A134,INSCRITS!$D$4:$W$506,17,0))","v":""},null,{"$f":"IF(AJ134=\"\",\"\",VLOOKUP(AJ134,[0]!Relais,2))","v":""},{"$f":"IF($A134=\"\",\"\",VLOOKUP($A134,INSCRITS!$D$4:$W$506,18,0))","v":""},null,{"$f":"IF(AM134=\"\",\"\",VLOOKUP(AM134,[0]!Relais,2))","v":""},{"$f":"IF($A134=\"\",\"\",VLOOKUP($A134,INSCRITS!$D$4:$W$506,19,0))","v":""},null,{"$f":"IF(AP134=\"\",\"\",VLOOKUP(AP134,[0]!Relais,2))","v":""},0,0]
[null,null,null,{"$f":"IF($A135=\"\",\"\",VLOOKUP($A135,INSCRITS!$D$4:$W$501,4,0))","v":""},{"$f":"IF($A135=\"\",\"\",VLOOKUP($A135,INSCRITS!$D$4:$W$501,5,0))","v":""},{"$f":"IF($A135=\"\",\"\",VLOOKUP($A135,INSCRITS!$D$4:$W$501,6,0))","v":""},{"$f":"IF($A135=\"\",\"\",VLOOKUP($A135,INSCRITS!$D$4:$W$501,7,0))","v":""},{"$f":"IF($A135=\"\",\"\",VLOOKUP($A135,INSCRITS!$D$4:$W$501,8,0))","v":""},{"$f":"IF($A135=\"\",\"\",VLOOKUP($A135,INSCRITS!$D$4:$W$501,9,0))","v":""},{"$f":"IF($A135=\"\",\"\",VLOOKUP($A135,INSCRITS!$D$4:$W$506,10,0))","v":""},{"$f":"IF(ISNA(VLOOKUP($A135,SPRINT!AD$7:AJ$50,6,0)),\"\",VLOOKUP($A135,SPRINT!AD$7:AJ$50,6,0))","v":""},{"$f":"IF(ISNA(VLOOKUP($A135,SPRINT!AD$7:AJ$50,7,0)),\"\",VLOOKUP($A135,SPRINT!AD$7:AJ$50,7,0))","v":""},{"$f":"IF($A135=\"\",\"\",VLOOKUP($A135,INSCRITS!$D$4:$W$506,11,0))","v":""},{"$f":"IF(ISNA(VLOOKUP($A135,BATONS!AD$7:AJ$51,6,0)),\"\",VLOOKUP($A135,BATONS!AD$7:AJ$51,6,0))","v":""},{"$f":"IF(ISNA(VLOOKUP($A135,BATONS!AD$7:AJ$51,7,0)),\"\",VLOOKUP($A135,BATONS!AD$7:AJ$51,7,0))","v":""},{"$f":"IF($A135=\"\",\"\",VLOOKUP($A135,INSCRITS!$D$4:$W$506,12,0))","v":""},{"$f":"IF(ISNA(VLOOKUP($A135,PLANCHE!AC$7:AI$52,6,0)),\"\",VLOOKUP($A135,PLANCHE!AC$7:AI$52,6,0))","v":""},{"$f":"IF(ISNA(VLOOKUP($A135,PLANCHE!AC$7:AI$52,7,0)),\"\",VLOOKUP($A135,PLANCHE!AC$7:AI$52,7,0))","v":""},{"$f":"IF($A135=\"\",\"\",VLOOKUP($A135,INSCRITS!$D$4:$W$506,13,0))","v":""},{"$f":"IF(ISNA(VLOOKUP($A135,NAGE!N$7:T$52,6,0)),\"\",VLOOKUP($A135,NAGE!N$7:T$52,6,0))","v":""},{"$f":"IF(ISNA(VLOOKUP($A135,NAGE!N$7:T$52,7,0)),\"\",VLOOKUP($A135,NAGE!N$7:T$52,7,0))","v":""},{"$f":"IF($A135=\"\",\"\",VLOOKUP($A135,INSCRITS!$D$4:$W$506,14,0))","v":""},{"$f":"IF(ISNA(VLOOKUP($A135,SURFSKI!AC$8:AI$53,6,0)),\"\",VLOOKUP($A135,SURFSKI!AC$8:AI$53,6,0))","v":""},{"$f":"IF(ISNA(VLOOKUP($A135,SURFSKI!AC$8:AI$53,7,0)),\"\",VLOOKUP($A135,SURFSKI!AC$8:AI$53,7,0))","v":""},{"$f":"IF($A135=\"\",\"\",VLOOKUP($A135,INSCRITS!$D$4:$W$506,15,0))","v":""},{"$f":"IF(ISNA(VLOOKUP($A135,OCEANMAN!AD$7:AJ$52,6,0)),\"\",VLOOKUP($A135,OCEANMAN!AD$7:AJ$52,6,0))","v":""},{"$f":"IF(ISNA(VLOOKUP($A135,OCEANMAN!AD$7:AJ$52,7,0)),\"\",VLOOKUP($A135,OCEANMAN!AD$7:AJ$52,7,0))","v":""},{"$f":"IF($A135=\"\",\"\",VLOOKUP($A135,INSCRITS!$D$4:$W$506,16,0))","v":""},{"$f":"IF(ISNA(VLOOKUP($A135,CNC!N$7:AC$52,6,0)),\"\",VLOOKUP($A135,CNC!N$7:AC$52,6,0))","v":""},{"$f":"IF(ISNA(VLOOKUP($A135,CNC!N$7:AC$52,7,0)),\"\",VLOOKUP($A135,CNC!N$7:AC$52,7,0))","v":""},0,{"$f":"IF($A135=\"\",\"\",VLOOKUP($A135,INSCRITS!$D$4:$W$506,16,0))","v":""},null,{"$f":"IF(AG135=\"\",\"\",VLOOKUP(AG135,[0]!Relais,2))","v":""},{"$f":"IF($A135=\"\",\"\",VLOOKUP($A135,INSCRITS!$D$4:$W$506,17,0))","v":""},null,{"$f":"IF(AJ135=\"\",\"\",VLOOKUP(AJ135,[0]!Relais,2))","v":""},{"$f":"IF($A135=\"\",\"\",VLOOKUP($A135,INSCRITS!$D$4:$W$506,18,0))","v":""},null,{"$f":"IF(AM135=\"\",\"\",VLOOKUP(AM135,[0]!Relais,2))","v":""},{"$f":"IF($A135=\"\",\"\",VLOOKUP($A135,INSCRITS!$D$4:$W$506,19,0))","v":""},null,{"$f":"IF(AP135=\"\",\"\",VLOOKUP(AP135,[0]!Relais,2))","v":""},0,0]
[null,null,null,{"$f":"IF($A136=\"\",\"\",VLOOKUP($A136,INSCRITS!$D$4:$W$501,4,0))","v":""},{"$f":"IF($A136=\"\",\"\",VLOOKUP($A136,INSCRITS!$D$4:$W$501,5,0))","v":""},{"$f":"IF($A136=\"\",\"\",VLOOKUP($A136,INSCRITS!$D$4:$W$501,6,0))","v":""},{"$f":"IF($A136=\"\",\"\",VLOOKUP($A136,INSCRITS!$D$4:$W$501,7,0))","v":""},{"$f":"IF($A136=\"\",\"\",VLOOKUP($A136,INSCRITS!$D$4:$W$501,8,0))","v":""},{"$f":"IF($A136=\"\",\"\",VLOOKUP($A136,INSCRITS!$D$4:$W$501,9,0))","v":""},{"$f":"IF($A136=\"\",\"\",VLOOKUP($A136,INSCRITS!$D$4:$W$506,10,0))","v":""},{"$f":"IF(ISNA(VLOOKUP($A136,SPRINT!AD$7:AJ$50,6,0)),\"\",VLOOKUP($A136,SPRINT!AD$7:AJ$50,6,0))","v":""},{"$f":"IF(ISNA(VLOOKUP($A136,SPRINT!AD$7:AJ$50,7,0)),\"\",VLOOKUP($A136,SPRINT!AD$7:AJ$50,7,0))","v":""},{"$f":"IF($A136=\"\",\"\",VLOOKUP($A136,INSCRITS!$D$4:$W$506,11,0))","v":""},{"$f":"IF(ISNA(VLOOKUP($A136,BATONS!AD$7:AJ$51,6,0)),\"\",VLOOKUP($A136,BATONS!AD$7:AJ$51,6,0))","v":""},{"$f":"IF(ISNA(VLOOKUP($A136,BATONS!AD$7:AJ$51,7,0)),\"\",VLOOKUP($A136,BATONS!AD$7:AJ$51,7,0))","v":""},{"$f":"IF($A136=\"\",\"\",VLOOKUP($A136,INSCRITS!$D$4:$W$506,12,0))","v":""},{"$f":"IF(ISNA(VLOOKUP($A136,PLANCHE!AC$7:AI$52,6,0)),\"\",VLOOKUP($A136,PLANCHE!AC$7:AI$52,6,0))","v":""},{"$f":"IF(ISNA(VLOOKUP($A136,PLANCHE!AC$7:AI$52,7,0)),\"\",VLOOKUP($A136,PLANCHE!AC$7:AI$52,7,0))","v":""},{"$f":"IF($A136=\"\",\"\",VLOOKUP($A136,INSCRITS!$D$4:$W$506,13,0))","v":""},{"$f":"IF(ISNA(VLOOKUP($A136,NAGE!N$7:T$52,6,0)),\"\",VLOOKUP($A136,NAGE!N$7:T$52,6,0))","v":""},{"$f":"IF(ISNA(VLOOKUP($A136,NAGE!N$7:T$52,7,0)),\"\",VLOOKUP($A136,NAGE!N$7:T$52,7,0))","v":""},{"$f":"IF($A136=\"\",\"\",VLOOKUP($A136,INSCRITS!$D$4:$W$506,14,0))","v":""},{"$f":"IF(ISNA(VLOOKUP($A136,SURFSKI!AC$8:AI$53,6,0)),\"\",VLOOKUP($A136,SURFSKI!AC$8:AI$53,6,0))","v":""},{"$f":"IF(ISNA(VLOOKUP($A136,SURFSKI!AC$8:AI$53,7,0)),\"\",VLOOKUP($A136,SURFSKI!AC$8:AI$53,7,0))","v":""},{"$f":"IF($A136=\"\",\"\",VLOOKUP($A136,INSCRITS!$D$4:$W$506,15,0))","v":""},{"$f":"IF(ISNA(VLOOKUP($A136,OCEANMAN!AD$7:AJ$52,6,0)),\"\",VLOOKUP($A136,OCEANMAN!AD$7:AJ$52,6,0))","v":""},{"$f":"IF(ISNA(VLOOKUP($A136,OCEANMAN!AD$7:AJ$52,7,0)),\"\",VLOOKUP($A136,OCEANMAN!AD$7:AJ$52,7,0))","v":""},{"$f":"IF($A136=\"\",\"\",VLOOKUP($A136,INSCRITS!$D$4:$W$506,16,0))","v":""},{"$f":"IF(ISNA(VLOOKUP($A136,CNC!N$7:AC$52,6,0)),\"\",VLOOKUP($A136,CNC!N$7:AC$52,6,0))","v":""},{"$f":"IF(ISNA(VLOOKUP($A136,CNC!N$7:AC$52,7,0)),\"\",VLOOKUP($A136,CNC!N$7:AC$52,7,0))","v":""},0,{"$f":"IF($A136=\"\",\"\",VLOOKUP($A136,INSCRITS!$D$4:$W$506,16,0))","v":""},null,{"$f":"IF(AG136=\"\",\"\",VLOOKUP(AG136,[0]!Relais,2))","v":""},{"$f":"IF($A136=\"\",\"\",VLOOKUP($A136,INSCRITS!$D$4:$W$506,17,0))","v":""},null,{"$f":"IF(AJ136=\"\",\"\",VLOOKUP(AJ136,[0]!Relais,2))","v":""},{"$f":"IF($A136=\"\",\"\",VLOOKUP($A136,INSCRITS!$D$4:$W$506,18,0))","v":""},null,{"$f":"IF(AM136=\"\",\"\",VLOOKUP(AM136,[0]!Relais,2))","v":""},{"$f":"IF($A136=\"\",\"\",VLOOKUP($A136,INSCRITS!$D$4:$W$506,19,0))","v":""},null,{"$f":"IF(AP136=\"\",\"\",VLOOKUP(AP136,[0]!Relais,2))","v":""},0,0]
[null,null,null,{"$f":"IF($A137=\"\",\"\",VLOOKUP($A137,INSCRITS!$D$4:$W$501,4,0))","v":""},{"$f":"IF($A137=\"\",\"\",VLOOKUP($A137,INSCRITS!$D$4:$W$501,5,0))","v":""},{"$f":"IF($A137=\"\",\"\",VLOOKUP($A137,INSCRITS!$D$4:$W$501,6,0))","v":""},{"$f":"IF($A137=\"\",\"\",VLOOKUP($A137,INSCRITS!$D$4:$W$501,7,0))","v":""},{"$f":"IF($A137=\"\",\"\",VLOOKUP($A137,INSCRITS!$D$4:$W$501,8,0))","v":""},{"$f":"IF($A137=\"\",\"\",VLOOKUP($A137,INSCRITS!$D$4:$W$501,9,0))","v":""},{"$f":"IF($A137=\"\",\"\",VLOOKUP($A137,INSCRITS!$D$4:$W$506,10,0))","v":""},{"$f":"IF(ISNA(VLOOKUP($A137,SPRINT!AD$7:AJ$50,6,0)),\"\",VLOOKUP($A137,SPRINT!AD$7:AJ$50,6,0))","v":""},{"$f":"IF(ISNA(VLOOKUP($A137,SPRINT!AD$7:AJ$50,7,0)),\"\",VLOOKUP($A137,SPRINT!AD$7:AJ$50,7,0))","v":""},{"$f":"IF($A137=\"\",\"\",VLOOKUP($A137,INSCRITS!$D$4:$W$506,11,0))","v":""},{"$f":"IF(ISNA(VLOOKUP($A137,BATONS!AD$7:AJ$51,6,0)),\"\",VLOOKUP($A137,BATONS!AD$7:AJ$51,6,0))","v":""},{"$f":"IF(ISNA(VLOOKUP($A137,BATONS!AD$7:AJ$51,7,0)),\"\",VLOOKUP($A137,BATONS!AD$7:AJ$51,7,0))","v":""},{"$f":"IF($A137=\"\",\"\",VLOOKUP($A137,INSCRITS!$D$4:$W$506,12,0))","v":""},{"$f":"IF(ISNA(VLOOKUP($A137,PLANCHE!AC$7:AI$52,6,0)),\"\",VLOOKUP($A137,PLANCHE!AC$7:AI$52,6,0))","v":""},{"$f":"IF(ISNA(VLOOKUP($A137,PLANCHE!AC$7:AI$52,7,0)),\"\",VLOOKUP($A137,PLANCHE!AC$7:AI$52,7,0))","v":""},{"$f":"IF($A137=\"\",\"\",VLOOKUP($A137,INSCRITS!$D$4:$W$506,13,0))","v":""},{"$f":"IF(ISNA(VLOOKUP($A137,NAGE!N$7:T$52,6,0)),\"\",VLOOKUP($A137,NAGE!N$7:T$52,6,0))","v":""},{"$f":"IF(ISNA(VLOOKUP($A137,NAGE!N$7:T$52,7,0)),\"\",VLOOKUP($A137,NAGE!N$7:T$52,7,0))","v":""},{"$f":"IF($A137=\"\",\"\",VLOOKUP($A137,INSCRITS!$D$4:$W$506,14,0))","v":""},{"$f":"IF(ISNA(VLOOKUP($A137,SURFSKI!AC$8:AI$53,6,0)),\"\",VLOOKUP($A137,SURFSKI!AC$8:AI$53,6,0))","v":""},{"$f":"IF(ISNA(VLOOKUP($A137,SURFSKI!AC$8:AI$53,7,0)),\"\",VLOOKUP($A137,SURFSKI!AC$8:AI$53,7,0))","v":""},{"$f":"IF($A137=\"\",\"\",VLOOKUP($A137,INSCRITS!$D$4:$W$506,15,0))","v":""},{"$f":"IF(ISNA(VLOOKUP($A137,OCEANMAN!AD$7:AJ$52,6,0)),\"\",VLOOKUP($A137,OCEANMAN!AD$7:AJ$52,6,0))","v":""},{"$f":"IF(ISNA(VLOOKUP($A137,OCEANMAN!AD$7:AJ$52,7,0)),\"\",VLOOKUP($A137,OCEANMAN!AD$7:AJ$52,7,0))","v":""},{"$f":"IF($A137=\"\",\"\",VLOOKUP($A137,INSCRITS!$D$4:$W$506,16,0))","v":""},{"$f":"IF(ISNA(VLOOKUP($A137,CNC!N$7:AC$52,6,0)),\"\",VLOOKUP($A137,CNC!N$7:AC$52,6,0))","v":""},{"$f":"IF(ISNA(VLOOKUP($A137,CNC!N$7:AC$52,7,0)),\"\",VLOOKUP($A137,CNC!N$7:AC$52,7,0))","v":""},0,{"$f":"IF($A137=\"\",\"\",VLOOKUP($A137,INSCRITS!$D$4:$W$506,16,0))","v":""},null,{"$f":"IF(AG137=\"\",\"\",VLOOKUP(AG137,[0]!Relais,2))","v":""},{"$f":"IF($A137=\"\",\"\",VLOOKUP($A137,INSCRITS!$D$4:$W$506,17,0))","v":""},null,{"$f":"IF(AJ137=\"\",\"\",VLOOKUP(AJ137,[0]!Relais,2))","v":""},{"$f":"IF($A137=\"\",\"\",VLOOKUP($A137,INSCRITS!$D$4:$W$506,18,0))","v":""},null,{"$f":"IF(AM137=\"\",\"\",VLOOKUP(AM137,[0]!Relais,2))","v":""},{"$f":"IF($A137=\"\",\"\",VLOOKUP($A137,INSCRITS!$D$4:$W$506,19,0))","v":""},null,{"$f":"IF(AP137=\"\",\"\",VLOOKUP(AP137,[0]!Relais,2))","v":""},0,0]
[null,null,null,{"$f":"IF($A138=\"\",\"\",VLOOKUP($A138,INSCRITS!$D$4:$W$501,4,0))","v":""},{"$f":"IF($A138=\"\",\"\",VLOOKUP($A138,INSCRITS!$D$4:$W$501,5,0))","v":""},{"$f":"IF($A138=\"\",\"\",VLOOKUP($A138,INSCRITS!$D$4:$W$501,6,0))","v":""},{"$f":"IF($A138=\"\",\"\",VLOOKUP($A138,INSCRITS!$D$4:$W$501,7,0))","v":""},{"$f":"IF($A138=\"\",\"\",VLOOKUP($A138,INSCRITS!$D$4:$W$501,8,0))","v":""},{"$f":"IF($A138=\"\",\"\",VLOOKUP($A138,INSCRITS!$D$4:$W$501,9,0))","v":""},{"$f":"IF($A138=\"\",\"\",VLOOKUP($A138,INSCRITS!$D$4:$W$506,10,0))","v":""},{"$f":"IF(ISNA(VLOOKUP($A138,SPRINT!AD$7:AJ$50,6,0)),\"\",VLOOKUP($A138,SPRINT!AD$7:AJ$50,6,0))","v":""},{"$f":"IF(ISNA(VLOOKUP($A138,SPRINT!AD$7:AJ$50,7,0)),\"\",VLOOKUP($A138,SPRINT!AD$7:AJ$50,7,0))","v":""},{"$f":"IF($A138=\"\",\"\",VLOOKUP($A138,INSCRITS!$D$4:$W$506,11,0))","v":""},{"$f":"IF(ISNA(VLOOKUP($A138,BATONS!AD$7:AJ$51,6,0)),\"\",VLOOKUP($A138,BATONS!AD$7:AJ$51,6,0))","v":""},{"$f":"IF(ISNA(VLOOKUP($A138,BATONS!AD$7:AJ$51,7,0)),\"\",VLOOKUP($A138,BATONS!AD$7:AJ$51,7,0))","v":""},{"$f":"IF($A138=\"\",\"\",VLOOKUP($A138,INSCRITS!$D$4:$W$506,12,0))","v":""},{"$f":"IF(ISNA(VLOOKUP($A138,PLANCHE!AC$7:AI$52,6,0)),\"\",VLOOKUP($A138,PLANCHE!AC$7:AI$52,6,0))","v":""},{"$f":"IF(ISNA(VLOOKUP($A138,PLANCHE!AC$7:AI$52,7,0)),\"\",VLOOKUP($A138,PLANCHE!AC$7:AI$52,7,0))","v":""},{"$f":"IF($A138=\"\",\"\",VLOOKUP($A138,INSCRITS!$D$4:$W$506,13,0))","v":""},{"$f":"IF(ISNA(VLOOKUP($A138,NAGE!N$7:T$52,6,0)),\"\",VLOOKUP($A138,NAGE!N$7:T$52,6,0))","v":""},{"$f":"IF(ISNA(VLOOKUP($A138,NAGE!N$7:T$52,7,0)),\"\",VLOOKUP($A138,NAGE!N$7:T$52,7,0))","v":""},{"$f":"IF($A138=\"\",\"\",VLOOKUP($A138,INSCRITS!$D$4:$W$506,14,0))","v":""},{"$f":"IF(ISNA(VLOOKUP($A138,SURFSKI!AC$8:AI$53,6,0)),\"\",VLOOKUP($A138,SURFSKI!AC$8:AI$53,6,0))","v":""},{"$f":"IF(ISNA(VLOOKUP($A138,SURFSKI!AC$8:AI$53,7,0)),\"\",VLOOKUP($A138,SURFSKI!AC$8:AI$53,7,0))","v":""},{"$f":"IF($A138=\"\",\"\",VLOOKUP($A138,INSCRITS!$D$4:$W$506,15,0))","v":""},{"$f":"IF(ISNA(VLOOKUP($A138,OCEANMAN!AD$7:AJ$52,6,0)),\"\",VLOOKUP($A138,OCEANMAN!AD$7:AJ$52,6,0))","v":""},{"$f":"IF(ISNA(VLOOKUP($A138,OCEANMAN!AD$7:AJ$52,7,0)),\"\",VLOOKUP($A138,OCEANMAN!AD$7:AJ$52,7,0))","v":""},{"$f":"IF($A138=\"\",\"\",VLOOKUP($A138,INSCRITS!$D$4:$W$506,16,0))","v":""},{"$f":"IF(ISNA(VLOOKUP($A138,CNC!N$7:AC$52,6,0)),\"\",VLOOKUP($A138,CNC!N$7:AC$52,6,0))","v":""},{"$f":"IF(ISNA(VLOOKUP($A138,CNC!N$7:AC$52,7,0)),\"\",VLOOKUP($A138,CNC!N$7:AC$52,7,0))","v":""},0,{"$f":"IF($A138=\"\",\"\",VLOOKUP($A138,INSCRITS!$D$4:$W$506,16,0))","v":""},null,{"$f":"IF(AG138=\"\",\"\",VLOOKUP(AG138,[0]!Relais,2))","v":""},{"$f":"IF($A138=\"\",\"\",VLOOKUP($A138,INSCRITS!$D$4:$W$506,17,0))","v":""},null,{"$f":"IF(AJ138=\"\",\"\",VLOOKUP(AJ138,[0]!Relais,2))","v":""},{"$f":"IF($A138=\"\",\"\",VLOOKUP($A138,INSCRITS!$D$4:$W$506,18,0))","v":""},null,{"$f":"IF(AM138=\"\",\"\",VLOOKUP(AM138,[0]!Relais,2))","v":""},{"$f":"IF($A138=\"\",\"\",VLOOKUP($A138,INSCRITS!$D$4:$W$506,19,0))","v":""},null,{"$f":"IF(AP138=\"\",\"\",VLOOKUP(AP138,[0]!Relais,2))","v":""},0,0]
[null,null,null,{"$f":"IF($A139=\"\",\"\",VLOOKUP($A139,INSCRITS!$D$4:$W$501,4,0))","v":""},{"$f":"IF($A139=\"\",\"\",VLOOKUP($A139,INSCRITS!$D$4:$W$501,5,0))","v":""},{"$f":"IF($A139=\"\",\"\",VLOOKUP($A139,INSCRITS!$D$4:$W$501,6,0))","v":""},{"$f":"IF($A139=\"\",\"\",VLOOKUP($A139,INSCRITS!$D$4:$W$501,7,0))","v":""},{"$f":"IF($A139=\"\",\"\",VLOOKUP($A139,INSCRITS!$D$4:$W$501,8,0))","v":""},{"$f":"IF($A139=\"\",\"\",VLOOKUP($A139,INSCRITS!$D$4:$W$501,9,0))","v":""},{"$f":"IF($A139=\"\",\"\",VLOOKUP($A139,INSCRITS!$D$4:$W$506,10,0))","v":""},{"$f":"IF(ISNA(VLOOKUP($A139,SPRINT!AD$7:AJ$50,6,0)),\"\",VLOOKUP($A139,SPRINT!AD$7:AJ$50,6,0))","v":""},{"$f":"IF(ISNA(VLOOKUP($A139,SPRINT!AD$7:AJ$50,7,0)),\"\",VLOOKUP($A139,SPRINT!AD$7:AJ$50,7,0))","v":""},{"$f":"IF($A139=\"\",\"\",VLOOKUP($A139,INSCRITS!$D$4:$W$506,11,0))","v":""},{"$f":"IF(ISNA(VLOOKUP($A139,BATONS!AD$7:AJ$51,6,0)),\"\",VLOOKUP($A139,BATONS!AD$7:AJ$51,6,0))","v":""},{"$f":"IF(ISNA(VLOOKUP($A139,BATONS!AD$7:AJ$51,7,0)),\"\",VLOOKUP($A139,BATONS!AD$7:AJ$51,7,0))","v":""},{"$f":"IF($A139=\"\",\"\",VLOOKUP($A139,INSCRITS!$D$4:$W$506,12,0))","v":""},{"$f":"IF(ISNA(VLOOKUP($A139,PLANCHE!AC$7:AI$52,6,0)),\"\",VLOOKUP($A139,PLANCHE!AC$7:AI$52,6,0))","v":""},{"$f":"IF(ISNA(VLOOKUP($A139,PLANCHE!AC$7:AI$52,7,0)),\"\",VLOOKUP($A139,PLANCHE!AC$7:AI$52,7,0))","v":""},{"$f":"IF($A139=\"\",\"\",VLOOKUP($A139,INSCRITS!$D$4:$W$506,13,0))","v":""},{"$f":"IF(ISNA(VLOOKUP($A139,NAGE!N$7:T$52,6,0)),\"\",VLOOKUP($A139,NAGE!N$7:T$52,6,0))","v":""},{"$f":"IF(ISNA(VLOOKUP($A139,NAGE!N$7:T$52,7,0)),\"\",VLOOKUP($A139,NAGE!N$7:T$52,7,0))","v":""},{"$f":"IF($A139=\"\",\"\",VLOOKUP($A139,INSCRITS!$D$4:$W$506,14,0))","v":""},{"$f":"IF(ISNA(VLOOKUP($A139,SURFSKI!AC$8:AI$53,6,0)),\"\",VLOOKUP($A139,SURFSKI!AC$8:AI$53,6,0))","v":""},{"$f":"IF(ISNA(VLOOKUP($A139,SURFSKI!AC$8:AI$53,7,0)),\"\",VLOOKUP($A139,SURFSKI!AC$8:AI$53,7,0))","v":""},{"$f":"IF($A139=\"\",\"\",VLOOKUP($A139,INSCRITS!$D$4:$W$506,15,0))","v":""},{"$f":"IF(ISNA(VLOOKUP($A139,OCEANMAN!AD$7:AJ$52,6,0)),\"\",VLOOKUP($A139,OCEANMAN!AD$7:AJ$52,6,0))","v":""},{"$f":"IF(ISNA(VLOOKUP($A139,OCEANMAN!AD$7:AJ$52,7,0)),\"\",VLOOKUP($A139,OCEANMAN!AD$7:AJ$52,7,0))","v":""},{"$f":"IF($A139=\"\",\"\",VLOOKUP($A139,INSCRITS!$D$4:$W$506,16,0))","v":""},{"$f":"IF(ISNA(VLOOKUP($A139,CNC!N$7:AC$52,6,0)),\"\",VLOOKUP($A139,CNC!N$7:AC$52,6,0))","v":""},{"$f":"IF(ISNA(VLOOKUP($A139,CNC!N$7:AC$52,7,0)),\"\",VLOOKUP($A139,CNC!N$7:AC$52,7,0))","v":""},0,{"$f":"IF($A139=\"\",\"\",VLOOKUP($A139,INSCRITS!$D$4:$W$506,16,0))","v":""},null,{"$f":"IF(AG139=\"\",\"\",VLOOKUP(AG139,[0]!Relais,2))","v":""},{"$f":"IF($A139=\"\",\"\",VLOOKUP($A139,INSCRITS!$D$4:$W$506,17,0))","v":""},null,{"$f":"IF(AJ139=\"\",\"\",VLOOKUP(AJ139,[0]!Relais,2))","v":""},{"$f":"IF($A139=\"\",\"\",VLOOKUP($A139,INSCRITS!$D$4:$W$506,18,0))","v":""},null,{"$f":"IF(AM139=\"\",\"\",VLOOKUP(AM139,[0]!Relais,2))","v":""},{"$f":"IF($A139=\"\",\"\",VLOOKUP($A139,INSCRITS!$D$4:$W$506,19,0))","v":""},null,{"$f":"IF(AP139=\"\",\"\",VLOOKUP(AP139,[0]!Relais,2))","v":""},0,0]
[null,null,null,{"$f":"IF($A140=\"\",\"\",VLOOKUP($A140,INSCRITS!$D$4:$W$501,4,0))","v":""},{"$f":"IF($A140=\"\",\"\",VLOOKUP($A140,INSCRITS!$D$4:$W$501,5,0))","v":""},{"$f":"IF($A140=\"\",\"\",VLOOKUP($A140,INSCRITS!$D$4:$W$501,6,0))","v":""},{"$f":"IF($A140=\"\",\"\",VLOOKUP($A140,INSCRITS!$D$4:$W$501,7,0))","v":""},{"$f":"IF($A140=\"\",\"\",VLOOKUP($A140,INSCRITS!$D$4:$W$501,8,0))","v":""},{"$f":"IF($A140=\"\",\"\",VLOOKUP($A140,INSCRITS!$D$4:$W$501,9,0))","v":""},{"$f":"IF($A140=\"\",\"\",VLOOKUP($A140,INSCRITS!$D$4:$W$506,10,0))","v":""},{"$f":"IF(ISNA(VLOOKUP($A140,SPRINT!AD$7:AJ$50,6,0)),\"\",VLOOKUP($A140,SPRINT!AD$7:AJ$50,6,0))","v":""},{"$f":"IF(ISNA(VLOOKUP($A140,SPRINT!AD$7:AJ$50,7,0)),\"\",VLOOKUP($A140,SPRINT!AD$7:AJ$50,7,0))","v":""},{"$f":"IF($A140=\"\",\"\",VLOOKUP($A140,INSCRITS!$D$4:$W$506,11,0))","v":""},{"$f":"IF(ISNA(VLOOKUP($A140,BATONS!AD$7:AJ$51,6,0)),\"\",VLOOKUP($A140,BATONS!AD$7:AJ$51,6,0))","v":""},{"$f":"IF(ISNA(VLOOKUP($A140,BATONS!AD$7:AJ$51,7,0)),\"\",VLOOKUP($A140,BATONS!AD$7:AJ$51,7,0))","v":""},{"$f":"IF($A140=\"\",\"\",VLOOKUP($A140,INSCRITS!$D$4:$W$506,12,0))","v":""},{"$f":"IF(ISNA(VLOOKUP($A140,PLANCHE!AC$7:AI$52,6,0)),\"\",VLOOKUP($A140,PLANCHE!AC$7:AI$52,6,0))","v":""},{"$f":"IF(ISNA(VLOOKUP($A140,PLANCHE!AC$7:AI$52,7,0)),\"\",VLOOKUP($A140,PLANCHE!AC$7:AI$52,7,0))","v":""},{"$f":"IF($A140=\"\",\"\",VLOOKUP($A140,INSCRITS!$D$4:$W$506,13,0))","v":""},{"$f":"IF(ISNA(VLOOKUP($A140,NAGE!N$7:T$52,6,0)),\"\",VLOOKUP($A140,NAGE!N$7:T$52,6,0))","v":""},{"$f":"IF(ISNA(VLOOKUP($A140,NAGE!N$7:T$52,7,0)),\"\",VLOOKUP($A140,NAGE!N$7:T$52,7,0))","v":""},{"$f":"IF($A140=\"\",\"\",VLOOKUP($A140,INSCRITS!$D$4:$W$506,14,0))","v":""},{"$f":"IF(ISNA(VLOOKUP($A140,SURFSKI!AC$8:AI$53,6,0)),\"\",VLOOKUP($A140,SURFSKI!AC$8:AI$53,6,0))","v":""},{"$f":"IF(ISNA(VLOOKUP($A140,SURFSKI!AC$8:AI$53,7,0)),\"\",VLOOKUP($A140,SURFSKI!AC$8:AI$53,7,0))","v":""},{"$f":"IF($A140=\"\",\"\",VLOOKUP($A140,INSCRITS!$D$4:$W$506,15,0))","v":""},{"$f":"IF(ISNA(VLOOKUP($A140,OCEANMAN!AD$7:AJ$52,6,0)),\"\",VLOOKUP($A140,OCEANMAN!AD$7:AJ$52,6,0))","v":""},{"$f":"IF(ISNA(VLOOKUP($A140,OCEANMAN!AD$7:AJ$52,7,0)),\"\",VLOOKUP($A140,OCEANMAN!AD$7:AJ$52,7,0))","v":""},{"$f":"IF($A140=\"\",\"\",VLOOKUP($A140,INSCRITS!$D$4:$W$506,16,0))","v":""},{"$f":"IF(ISNA(VLOOKUP($A140,CNC!N$7:AC$52,6,0)),\"\",VLOOKUP($A140,CNC!N$7:AC$52,6,0))","v":""},{"$f":"IF(ISNA(VLOOKUP($A140,CNC!N$7:AC$52,7,0)),\"\",VLOOKUP($A140,CNC!N$7:AC$52,7,0))","v":""},0,{"$f":"IF($A140=\"\",\"\",VLOOKUP($A140,INSCRITS!$D$4:$W$506,16,0))","v":""},null,{"$f":"IF(AG140=\"\",\"\",VLOOKUP(AG140,[0]!Relais,2))","v":""},{"$f":"IF($A140=\"\",\"\",VLOOKUP($A140,INSCRITS!$D$4:$W$506,17,0))","v":""},null,{"$f":"IF(AJ140=\"\",\"\",VLOOKUP(AJ140,[0]!Relais,2))","v":""},{"$f":"IF($A140=\"\",\"\",VLOOKUP($A140,INSCRITS!$D$4:$W$506,18,0))","v":""},null,{"$f":"IF(AM140=\"\",\"\",VLOOKUP(AM140,[0]!Relais,2))","v":""},{"$f":"IF($A140=\"\",\"\",VLOOKUP($A140,INSCRITS!$D$4:$W$506,19,0))","v":""},null,{"$f":"IF(AP140=\"\",\"\",VLOOKUP(AP140,[0]!Relais,2))","v":""},0,0]
[null,null,null,{"$f":"IF($A141=\"\",\"\",VLOOKUP($A141,INSCRITS!$D$4:$W$501,4,0))","v":""},{"$f":"IF($A141=\"\",\"\",VLOOKUP($A141,INSCRITS!$D$4:$W$501,5,0))","v":""},{"$f":"IF($A141=\"\",\"\",VLOOKUP($A141,INSCRITS!$D$4:$W$501,6,0))","v":""},{"$f":"IF($A141=\"\",\"\",VLOOKUP($A141,INSCRITS!$D$4:$W$501,7,0))","v":""},{"$f":"IF($A141=\"\",\"\",VLOOKUP($A141,INSCRITS!$D$4:$W$501,8,0))","v":""},{"$f":"IF($A141=\"\",\"\",VLOOKUP($A141,INSCRITS!$D$4:$W$501,9,0))","v":""},{"$f":"IF($A141=\"\",\"\",VLOOKUP($A141,INSCRITS!$D$4:$W$506,10,0))","v":""},{"$f":"IF(ISNA(VLOOKUP($A141,SPRINT!AD$7:AJ$50,6,0)),\"\",VLOOKUP($A141,SPRINT!AD$7:AJ$50,6,0))","v":""},{"$f":"IF(ISNA(VLOOKUP($A141,SPRINT!AD$7:AJ$50,7,0)),\"\",VLOOKUP($A141,SPRINT!AD$7:AJ$50,7,0))","v":""},{"$f":"IF($A141=\"\",\"\",VLOOKUP($A141,INSCRITS!$D$4:$W$506,11,0))","v":""},{"$f":"IF(ISNA(VLOOKUP($A141,BATONS!AD$7:AJ$51,6,0)),\"\",VLOOKUP($A141,BATONS!AD$7:AJ$51,6,0))","v":""},{"$f":"IF(ISNA(VLOOKUP($A141,BATONS!AD$7:AJ$51,7,0)),\"\",VLOOKUP($A141,BATONS!AD$7:AJ$51,7,0))","v":""},{"$f":"IF($A141=\"\",\"\",VLOOKUP($A141,INSCRITS!$D$4:$W$506,12,0))","v":""},{"$f":"IF(ISNA(VLOOKUP($A141,PLANCHE!AC$7:AI$52,6,0)),\"\",VLOOKUP($A141,PLANCHE!AC$7:AI$52,6,0))","v":""},{"$f":"IF(ISNA(VLOOKUP($A141,PLANCHE!AC$7:AI$52,7,0)),\"\",VLOOKUP($A141,PLANCHE!AC$7:AI$52,7,0))","v":""},{"$f":"IF($A141=\"\",\"\",VLOOKUP($A141,INSCRITS!$D$4:$W$506,13,0))","v":""},{"$f":"IF(ISNA(VLOOKUP($A141,NAGE!N$7:T$52,6,0)),\"\",VLOOKUP($A141,NAGE!N$7:T$52,6,0))","v":""},{"$f":"IF(ISNA(VLOOKUP($A141,NAGE!N$7:T$52,7,0)),\"\",VLOOKUP($A141,NAGE!N$7:T$52,7,0))","v":""},{"$f":"IF($A141=\"\",\"\",VLOOKUP($A141,INSCRITS!$D$4:$W$506,14,0))","v":""},{"$f":"IF(ISNA(VLOOKUP($A141,SURFSKI!AC$8:AI$53,6,0)),\"\",VLOOKUP($A141,SURFSKI!AC$8:AI$53,6,0))","v":""},{"$f":"IF(ISNA(VLOOKUP($A141,SURFSKI!AC$8:AI$53,7,0)),\"\",VLOOKUP($A141,SURFSKI!AC$8:AI$53,7,0))","v":""},{"$f":"IF($A141=\"\",\"\",VLOOKUP($A141,INSCRITS!$D$4:$W$506,15,0))","v":""},{"$f":"IF(ISNA(VLOOKUP($A141,OCEANMAN!AD$7:AJ$52,6,0)),\"\",VLOOKUP($A141,OCEANMAN!AD$7:AJ$52,6,0))","v":""},{"$f":"IF(ISNA(VLOOKUP($A141,OCEANMAN!AD$7:AJ$52,7,0)),\"\",VLOOKUP($A141,OCEANMAN!AD$7:AJ$52,7,0))","v":""},{"$f":"IF($A141=\"\",\"\",VLOOKUP($A141,INSCRITS!$D$4:$W$506,16,0))","v":""},{"$f":"IF(ISNA(VLOOKUP($A141,CNC!N$7:AC$52,6,0)),\"\",VLOOKUP($A141,CNC!N$7:AC$52,6,0))","v":""},{"$f":"IF(ISNA(VLOOKUP($A141,CNC!N$7:AC$52,7,0)),\"\",VLOOKUP($A141,CNC!N$7:AC$52,7,0))","v":""},0,{"$f":"IF($A141=\"\",\"\",VLOOKUP($A141,INSCRITS!$D$4:$W$506,16,0))","v":""},null,{"$f":"IF(AG141=\"\",\"\",VLOOKUP(AG141,[0]!Relais,2))","v":""},{"$f":"IF($A141=\"\",\"\",VLOOKUP($A141,INSCRITS!$D$4:$W$506,17,0))","v":""},null,{"$f":"IF(AJ141=\"\",\"\",VLOOKUP(AJ141,[0]!Relais,2))","v":""},{"$f":"IF($A141=\"\",\"\",VLOOKUP($A141,INSCRITS!$D$4:$W$506,18,0))","v":""},null,{"$f":"IF(AM141=\"\",\"\",VLOOKUP(AM141,[0]!Relais,2))","v":""},{"$f":"IF($A141=\"\",\"\",VLOOKUP($A141,INSCRITS!$D$4:$W$506,19,0))","v":""},null,{"$f":"IF(AP141=\"\",\"\",VLOOKUP(AP141,[0]!Relais,2))","v":""},0,0]
[null,null,null,{"$f":"IF($A142=\"\",\"\",VLOOKUP($A142,INSCRITS!$D$4:$W$501,4,0))","v":""},{"$f":"IF($A142=\"\",\"\",VLOOKUP($A142,INSCRITS!$D$4:$W$501,5,0))","v":""},{"$f":"IF($A142=\"\",\"\",VLOOKUP($A142,INSCRITS!$D$4:$W$501,6,0))","v":""},{"$f":"IF($A142=\"\",\"\",VLOOKUP($A142,INSCRITS!$D$4:$W$501,7,0))","v":""},{"$f":"IF($A142=\"\",\"\",VLOOKUP($A142,INSCRITS!$D$4:$W$501,8,0))","v":""},{"$f":"IF($A142=\"\",\"\",VLOOKUP($A142,INSCRITS!$D$4:$W$501,9,0))","v":""},{"$f":"IF($A142=\"\",\"\",VLOOKUP($A142,INSCRITS!$D$4:$W$506,10,0))","v":""},{"$f":"IF(ISNA(VLOOKUP($A142,SPRINT!AD$7:AJ$50,6,0)),\"\",VLOOKUP($A142,SPRINT!AD$7:AJ$50,6,0))","v":""},{"$f":"IF(ISNA(VLOOKUP($A142,SPRINT!AD$7:AJ$50,7,0)),\"\",VLOOKUP($A142,SPRINT!AD$7:AJ$50,7,0))","v":""},{"$f":"IF($A142=\"\",\"\",VLOOKUP($A142,INSCRITS!$D$4:$W$506,11,0))","v":""},{"$f":"IF(ISNA(VLOOKUP($A142,BATONS!AD$7:AJ$51,6,0)),\"\",VLOOKUP($A142,BATONS!AD$7:AJ$51,6,0))","v":""},{"$f":"IF(ISNA(VLOOKUP($A142,BATONS!AD$7:AJ$51,7,0)),\"\",VLOOKUP($A142,BATONS!AD$7:AJ$51,7,0))","v":""},{"$f":"IF($A142=\"\",\"\",VLOOKUP($A142,INSCRITS!$D$4:$W$506,12,0))","v":""},{"$f":"IF(ISNA(VLOOKUP($A142,PLANCHE!AC$7:AI$52,6,0)),\"\",VLOOKUP($A142,PLANCHE!AC$7:AI$52,6,0))","v":""},{"$f":"IF(ISNA(VLOOKUP($A142,PLANCHE!AC$7:AI$52,7,0)),\"\",VLOOKUP($A142,PLANCHE!AC$7:AI$52,7,0))","v":""},{"$f":"IF($A142=\"\",\"\",VLOOKUP($A142,INSCRITS!$D$4:$W$506,13,0))","v":""},{"$f":"IF(ISNA(VLOOKUP($A142,NAGE!N$7:T$52,6,0)),\"\",VLOOKUP($A142,NAGE!N$7:T$52,6,0))","v":""},{"$f":"IF(ISNA(VLOOKUP($A142,NAGE!N$7:T$52,7,0)),\"\",VLOOKUP($A142,NAGE!N$7:T$52,7,0))","v":""},{"$f":"IF($A142=\"\",\"\",VLOOKUP($A142,INSCRITS!$D$4:$W$506,14,0))","v":""},{"$f":"IF(ISNA(VLOOKUP($A142,SURFSKI!AC$8:AI$53,6,0)),\"\",VLOOKUP($A142,SURFSKI!AC$8:AI$53,6,0))","v":""},{"$f":"IF(ISNA(VLOOKUP($A142,SURFSKI!AC$8:AI$53,7,0)),\"\",VLOOKUP($A142,SURFSKI!AC$8:AI$53,7,0))","v":""},{"$f":"IF($A142=\"\",\"\",VLOOKUP($A142,INSCRITS!$D$4:$W$506,15,0))","v":""},{"$f":"IF(ISNA(VLOOKUP($A142,OCEANMAN!AD$7:AJ$52,6,0)),\"\",VLOOKUP($A142,OCEANMAN!AD$7:AJ$52,6,0))","v":""},{"$f":"IF(ISNA(VLOOKUP($A142,OCEANMAN!AD$7:AJ$52,7,0)),\"\",VLOOKUP($A142,OCEANMAN!AD$7:AJ$52,7,0))","v":""},{"$f":"IF($A142=\"\",\"\",VLOOKUP($A142,INSCRITS!$D$4:$W$506,16,0))","v":""},{"$f":"IF(ISNA(VLOOKUP($A142,CNC!N$7:AC$52,6,0)),\"\",VLOOKUP($A142,CNC!N$7:AC$52,6,0))","v":""},{"$f":"IF(ISNA(VLOOKUP($A142,CNC!N$7:AC$52,7,0)),\"\",VLOOKUP($A142,CNC!N$7:AC$52,7,0))","v":""},0,{"$f":"IF($A142=\"\",\"\",VLOOKUP($A142,INSCRITS!$D$4:$W$506,16,0))","v":""},null,{"$f":"IF(AG142=\"\",\"\",VLOOKUP(AG142,[0]!Relais,2))","v":""},{"$f":"IF($A142=\"\",\"\",VLOOKUP($A142,INSCRITS!$D$4:$W$506,17,0))","v":""},null,{"$f":"IF(AJ142=\"\",\"\",VLOOKUP(AJ142,[0]!Relais,2))","v":""},{"$f":"IF($A142=\"\",\"\",VLOOKUP($A142,INSCRITS!$D$4:$W$506,18,0))","v":""},null,{"$f":"IF(AM142=\"\",\"\",VLOOKUP(AM142,[0]!Relais,2))","v":""},{"$f":"IF($A142=\"\",\"\",VLOOKUP($A142,INSCRITS!$D$4:$W$506,19,0))","v":""},null,{"$f":"IF(AP142=\"\",\"\",VLOOKUP(AP142,[0]!Relais,2))","v":""},0,0]
[null,null,null,{"$f":"IF($A143=\"\",\"\",VLOOKUP($A143,INSCRITS!$D$4:$W$501,4,0))","v":""},{"$f":"IF($A143=\"\",\"\",VLOOKUP($A143,INSCRITS!$D$4:$W$501,5,0))","v":""},{"$f":"IF($A143=\"\",\"\",VLOOKUP($A143,INSCRITS!$D$4:$W$501,6,0))","v":""},{"$f":"IF($A143=\"\",\"\",VLOOKUP($A143,INSCRITS!$D$4:$W$501,7,0))","v":""},{"$f":"IF($A143=\"\",\"\",VLOOKUP($A143,INSCRITS!$D$4:$W$501,8,0))","v":""},{"$f":"IF($A143=\"\",\"\",VLOOKUP($A143,INSCRITS!$D$4:$W$501,9,0))","v":""},{"$f":"IF($A143=\"\",\"\",VLOOKUP($A143,INSCRITS!$D$4:$W$506,10,0))","v":""},{"$f":"IF(ISNA(VLOOKUP($A143,SPRINT!AD$7:AJ$50,6,0)),\"\",VLOOKUP($A143,SPRINT!AD$7:AJ$50,6,0))","v":""},{"$f":"IF(ISNA(VLOOKUP($A143,SPRINT!AD$7:AJ$50,7,0)),\"\",VLOOKUP($A143,SPRINT!AD$7:AJ$50,7,0))","v":""},{"$f":"IF($A143=\"\",\"\",VLOOKUP($A143,INSCRITS!$D$4:$W$506,11,0))","v":""},{"$f":"IF(ISNA(VLOOKUP($A143,BATONS!AD$7:AJ$51,6,0)),\"\",VLOOKUP($A143,BATONS!AD$7:AJ$51,6,0))","v":""},{"$f":"IF(ISNA(VLOOKUP($A143,BATONS!AD$7:AJ$51,7,0)),\"\",VLOOKUP($A143,BATONS!AD$7:AJ$51,7,0))","v":""},{"$f":"IF($A143=\"\",\"\",VLOOKUP($A143,INSCRITS!$D$4:$W$506,12,0))","v":""},{"$f":"IF(ISNA(VLOOKUP($A143,PLANCHE!AC$7:AI$52,6,0)),\"\",VLOOKUP($A143,PLANCHE!AC$7:AI$52,6,0))","v":""},{"$f":"IF(ISNA(VLOOKUP($A143,PLANCHE!AC$7:AI$52,7,0)),\"\",VLOOKUP($A143,PLANCHE!AC$7:AI$52,7,0))","v":""},{"$f":"IF($A143=\"\",\"\",VLOOKUP($A143,INSCRITS!$D$4:$W$506,13,0))","v":""},{"$f":"IF(ISNA(VLOOKUP($A143,NAGE!N$7:T$52,6,0)),\"\",VLOOKUP($A143,NAGE!N$7:T$52,6,0))","v":""},{"$f":"IF(ISNA(VLOOKUP($A143,NAGE!N$7:T$52,7,0)),\"\",VLOOKUP($A143,NAGE!N$7:T$52,7,0))","v":""},{"$f":"IF($A143=\"\",\"\",VLOOKUP($A143,INSCRITS!$D$4:$W$506,14,0))","v":""},{"$f":"IF(ISNA(VLOOKUP($A143,SURFSKI!AC$8:AI$53,6,0)),\"\",VLOOKUP($A143,SURFSKI!AC$8:AI$53,6,0))","v":""},{"$f":"IF(ISNA(VLOOKUP($A143,SURFSKI!AC$8:AI$53,7,0)),\"\",VLOOKUP($A143,SURFSKI!AC$8:AI$53,7,0))","v":""},{"$f":"IF($A143=\"\",\"\",VLOOKUP($A143,INSCRITS!$D$4:$W$506,15,0))","v":""},{"$f":"IF(ISNA(VLOOKUP($A143,OCEANMAN!AD$7:AJ$52,6,0)),\"\",VLOOKUP($A143,OCEANMAN!AD$7:AJ$52,6,0))","v":""},{"$f":"IF(ISNA(VLOOKUP($A143,OCEANMAN!AD$7:AJ$52,7,0)),\"\",VLOOKUP($A143,OCEANMAN!AD$7:AJ$52,7,0))","v":""},{"$f":"IF($A143=\"\",\"\",VLOOKUP($A143,INSCRITS!$D$4:$W$506,16,0))","v":""},{"$f":"IF(ISNA(VLOOKUP($A143,CNC!N$7:AC$52,6,0)),\"\",VLOOKUP($A143,CNC!N$7:AC$52,6,0))","v":""},{"$f":"IF(ISNA(VLOOKUP($A143,CNC!N$7:AC$52,7,0)),\"\",VLOOKUP($A143,CNC!N$7:AC$52,7,0))","v":""},0,{"$f":"IF($A143=\"\",\"\",VLOOKUP($A143,INSCRITS!$D$4:$W$506,16,0))","v":""},null,{"$f":"IF(AG143=\"\",\"\",VLOOKUP(AG143,[0]!Relais,2))","v":""},{"$f":"IF($A143=\"\",\"\",VLOOKUP($A143,INSCRITS!$D$4:$W$506,17,0))","v":""},null,{"$f":"IF(AJ143=\"\",\"\",VLOOKUP(AJ143,[0]!Relais,2))","v":""},{"$f":"IF($A143=\"\",\"\",VLOOKUP($A143,INSCRITS!$D$4:$W$506,18,0))","v":""},null,{"$f":"IF(AM143=\"\",\"\",VLOOKUP(AM143,[0]!Relais,2))","v":""},{"$f":"IF($A143=\"\",\"\",VLOOKUP($A143,INSCRITS!$D$4:$W$506,19,0))","v":""},null,{"$f":"IF(AP143=\"\",\"\",VLOOKUP(AP143,[0]!Relais,2))","v":""},0,0]
[null,null,null,{"$f":"IF($A144=\"\",\"\",VLOOKUP($A144,INSCRITS!$D$4:$W$501,4,0))","v":""},{"$f":"IF($A144=\"\",\"\",VLOOKUP($A144,INSCRITS!$D$4:$W$501,5,0))","v":""},{"$f":"IF($A144=\"\",\"\",VLOOKUP($A144,INSCRITS!$D$4:$W$501,6,0))","v":""},{"$f":"IF($A144=\"\",\"\",VLOOKUP($A144,INSCRITS!$D$4:$W$501,7,0))","v":""},{"$f":"IF($A144=\"\",\"\",VLOOKUP($A144,INSCRITS!$D$4:$W$501,8,0))","v":""},{"$f":"IF($A144=\"\",\"\",VLOOKUP($A144,INSCRITS!$D$4:$W$501,9,0))","v":""},{"$f":"IF($A144=\"\",\"\",VLOOKUP($A144,INSCRITS!$D$4:$W$506,10,0))","v":""},{"$f":"IF(ISNA(VLOOKUP($A144,SPRINT!AD$7:AJ$50,6,0)),\"\",VLOOKUP($A144,SPRINT!AD$7:AJ$50,6,0))","v":""},{"$f":"IF(ISNA(VLOOKUP($A144,SPRINT!AD$7:AJ$50,7,0)),\"\",VLOOKUP($A144,SPRINT!AD$7:AJ$50,7,0))","v":""},{"$f":"IF($A144=\"\",\"\",VLOOKUP($A144,INSCRITS!$D$4:$W$506,11,0))","v":""},{"$f":"IF(ISNA(VLOOKUP($A144,BATONS!AD$7:AJ$51,6,0)),\"\",VLOOKUP($A144,BATONS!AD$7:AJ$51,6,0))","v":""},{"$f":"IF(ISNA(VLOOKUP($A144,BATONS!AD$7:AJ$51,7,0)),\"\",VLOOKUP($A144,BATONS!AD$7:AJ$51,7,0))","v":""},{"$f":"IF($A144=\"\",\"\",VLOOKUP($A144,INSCRITS!$D$4:$W$506,12,0))","v":""},{"$f":"IF(ISNA(VLOOKUP($A144,PLANCHE!AC$7:AI$52,6,0)),\"\",VLOOKUP($A144,PLANCHE!AC$7:AI$52,6,0))","v":""},{"$f":"IF(ISNA(VLOOKUP($A144,PLANCHE!AC$7:AI$52,7,0)),\"\",VLOOKUP($A144,PLANCHE!AC$7:AI$52,7,0))","v":""},{"$f":"IF($A144=\"\",\"\",VLOOKUP($A144,INSCRITS!$D$4:$W$506,13,0))","v":""},{"$f":"IF(ISNA(VLOOKUP($A144,NAGE!N$7:T$52,6,0)),\"\",VLOOKUP($A144,NAGE!N$7:T$52,6,0))","v":""},{"$f":"IF(ISNA(VLOOKUP($A144,NAGE!N$7:T$52,7,0)),\"\",VLOOKUP($A144,NAGE!N$7:T$52,7,0))","v":""},{"$f":"IF($A144=\"\",\"\",VLOOKUP($A144,INSCRITS!$D$4:$W$506,14,0))","v":""},{"$f":"IF(ISNA(VLOOKUP($A144,SURFSKI!AC$8:AI$53,6,0)),\"\",VLOOKUP($A144,SURFSKI!AC$8:AI$53,6,0))","v":""},{"$f":"IF(ISNA(VLOOKUP($A144,SURFSKI!AC$8:AI$53,7,0)),\"\",VLOOKUP($A144,SURFSKI!AC$8:AI$53,7,0))","v":""},{"$f":"IF($A144=\"\",\"\",VLOOKUP($A144,INSCRITS!$D$4:$W$506,15,0))","v":""},{"$f":"IF(ISNA(VLOOKUP($A144,OCEANMAN!AD$7:AJ$52,6,0)),\"\",VLOOKUP($A144,OCEANMAN!AD$7:AJ$52,6,0))","v":""},{"$f":"IF(ISNA(VLOOKUP($A144,OCEANMAN!AD$7:AJ$52,7,0)),\"\",VLOOKUP($A144,OCEANMAN!AD$7:AJ$52,7,0))","v":""},{"$f":"IF($A144=\"\",\"\",VLOOKUP($A144,INSCRITS!$D$4:$W$506,16,0))","v":""},{"$f":"IF(ISNA(VLOOKUP($A144,CNC!N$7:AC$52,6,0)),\"\",VLOOKUP($A144,CNC!N$7:AC$52,6,0))","v":""},{"$f":"IF(ISNA(VLOOKUP($A144,CNC!N$7:AC$52,7,0)),\"\",VLOOKUP($A144,CNC!N$7:AC$52,7,0))","v":""},0,{"$f":"IF($A144=\"\",\"\",VLOOKUP($A144,INSCRITS!$D$4:$W$506,16,0))","v":""},null,{"$f":"IF(AG144=\"\",\"\",VLOOKUP(AG144,[0]!Relais,2))","v":""},{"$f":"IF($A144=\"\",\"\",VLOOKUP($A144,INSCRITS!$D$4:$W$506,17,0))","v":""},null,{"$f":"IF(AJ144=\"\",\"\",VLOOKUP(AJ144,[0]!Relais,2))","v":""},{"$f":"IF($A144=\"\",\"\",VLOOKUP($A144,INSCRITS!$D$4:$W$506,18,0))","v":""},null,{"$f":"IF(AM144=\"\",\"\",VLOOKUP(AM144,[0]!Relais,2))","v":""},{"$f":"IF($A144=\"\",\"\",VLOOKUP($A144,INSCRITS!$D$4:$W$506,19,0))","v":""},null,{"$f":"IF(AP144=\"\",\"\",VLOOKUP(AP144,[0]!Relais,2))","v":""},0,0]
[null,null,null,{"$f":"IF($A145=\"\",\"\",VLOOKUP($A145,INSCRITS!$D$4:$W$501,4,0))","v":""},{"$f":"IF($A145=\"\",\"\",VLOOKUP($A145,INSCRITS!$D$4:$W$501,5,0))","v":""},{"$f":"IF($A145=\"\",\"\",VLOOKUP($A145,INSCRITS!$D$4:$W$501,6,0))","v":""},{"$f":"IF($A145=\"\",\"\",VLOOKUP($A145,INSCRITS!$D$4:$W$501,7,0))","v":""},{"$f":"IF($A145=\"\",\"\",VLOOKUP($A145,INSCRITS!$D$4:$W$501,8,0))","v":""},{"$f":"IF($A145=\"\",\"\",VLOOKUP($A145,INSCRITS!$D$4:$W$501,9,0))","v":""},{"$f":"IF($A145=\"\",\"\",VLOOKUP($A145,INSCRITS!$D$4:$W$506,10,0))","v":""},{"$f":"IF(ISNA(VLOOKUP($A145,SPRINT!AD$7:AJ$50,6,0)),\"\",VLOOKUP($A145,SPRINT!AD$7:AJ$50,6,0))","v":""},{"$f":"IF(ISNA(VLOOKUP($A145,SPRINT!AD$7:AJ$50,7,0)),\"\",VLOOKUP($A145,SPRINT!AD$7:AJ$50,7,0))","v":""},{"$f":"IF($A145=\"\",\"\",VLOOKUP($A145,INSCRITS!$D$4:$W$506,11,0))","v":""},{"$f":"IF(ISNA(VLOOKUP($A145,BATONS!AD$7:AJ$51,6,0)),\"\",VLOOKUP($A145,BATONS!AD$7:AJ$51,6,0))","v":""},{"$f":"IF(ISNA(VLOOKUP($A145,BATONS!AD$7:AJ$51,7,0)),\"\",VLOOKUP($A145,BATONS!AD$7:AJ$51,7,0))","v":""},{"$f":"IF($A145=\"\",\"\",VLOOKUP($A145,INSCRITS!$D$4:$W$506,12,0))","v":""},{"$f":"IF(ISNA(VLOOKUP($A145,PLANCHE!AC$7:AI$52,6,0)),\"\",VLOOKUP($A145,PLANCHE!AC$7:AI$52,6,0))","v":""},{"$f":"IF(ISNA(VLOOKUP($A145,PLANCHE!AC$7:AI$52,7,0)),\"\",VLOOKUP($A145,PLANCHE!AC$7:AI$52,7,0))","v":""},{"$f":"IF($A145=\"\",\"\",VLOOKUP($A145,INSCRITS!$D$4:$W$506,13,0))","v":""},{"$f":"IF(ISNA(VLOOKUP($A145,NAGE!N$7:T$52,6,0)),\"\",VLOOKUP($A145,NAGE!N$7:T$52,6,0))","v":""},{"$f":"IF(ISNA(VLOOKUP($A145,NAGE!N$7:T$52,7,0)),\"\",VLOOKUP($A145,NAGE!N$7:T$52,7,0))","v":""},{"$f":"IF($A145=\"\",\"\",VLOOKUP($A145,INSCRITS!$D$4:$W$506,14,0))","v":""},{"$f":"IF(ISNA(VLOOKUP($A145,SURFSKI!AC$8:AI$53,6,0)),\"\",VLOOKUP($A145,SURFSKI!AC$8:AI$53,6,0))","v":""},{"$f":"IF(ISNA(VLOOKUP($A145,SURFSKI!AC$8:AI$53,7,0)),\"\",VLOOKUP($A145,SURFSKI!AC$8:AI$53,7,0))","v":""},{"$f":"IF($A145=\"\",\"\",VLOOKUP($A145,INSCRITS!$D$4:$W$506,15,0))","v":""},{"$f":"IF(ISNA(VLOOKUP($A145,OCEANMAN!AD$7:AJ$52,6,0)),\"\",VLOOKUP($A145,OCEANMAN!AD$7:AJ$52,6,0))","v":""},{"$f":"IF(ISNA(VLOOKUP($A145,OCEANMAN!AD$7:AJ$52,7,0)),\"\",VLOOKUP($A145,OCEANMAN!AD$7:AJ$52,7,0))","v":""},{"$f":"IF($A145=\"\",\"\",VLOOKUP($A145,INSCRITS!$D$4:$W$506,16,0))","v":""},{"$f":"IF(ISNA(VLOOKUP($A145,CNC!N$7:AC$52,6,0)),\"\",VLOOKUP($A145,CNC!N$7:AC$52,6,0))","v":""},{"$f":"IF(ISNA(VLOOKUP($A145,CNC!N$7:AC$52,7,0)),\"\",VLOOKUP($A145,CNC!N$7:AC$52,7,0))","v":""},0,{"$f":"IF($A145=\"\",\"\",VLOOKUP($A145,INSCRITS!$D$4:$W$506,16,0))","v":""},null,{"$f":"IF(AG145=\"\",\"\",VLOOKUP(AG145,[0]!Relais,2))","v":""},{"$f":"IF($A145=\"\",\"\",VLOOKUP($A145,INSCRITS!$D$4:$W$506,17,0))","v":""},null,{"$f":"IF(AJ145=\"\",\"\",VLOOKUP(AJ145,[0]!Relais,2))","v":""},{"$f":"IF($A145=\"\",\"\",VLOOKUP($A145,INSCRITS!$D$4:$W$506,18,0))","v":""},null,{"$f":"IF(AM145=\"\",\"\",VLOOKUP(AM145,[0]!Relais,2))","v":""},{"$f":"IF($A145=\"\",\"\",VLOOKUP($A145,INSCRITS!$D$4:$W$506,19,0))","v":""},null,{"$f":"IF(AP145=\"\",\"\",VLOOKUP(AP145,[0]!Relais,2))","v":""},0,0]
[null,null,null,{"$f":"IF($A146=\"\",\"\",VLOOKUP($A146,INSCRITS!$D$4:$W$501,4,0))","v":""},{"$f":"IF($A146=\"\",\"\",VLOOKUP($A146,INSCRITS!$D$4:$W$501,5,0))","v":""},{"$f":"IF($A146=\"\",\"\",VLOOKUP($A146,INSCRITS!$D$4:$W$501,6,0))","v":""},{"$f":"IF($A146=\"\",\"\",VLOOKUP($A146,INSCRITS!$D$4:$W$501,7,0))","v":""},{"$f":"IF($A146=\"\",\"\",VLOOKUP($A146,INSCRITS!$D$4:$W$501,8,0))","v":""},{"$f":"IF($A146=\"\",\"\",VLOOKUP($A146,INSCRITS!$D$4:$W$501,9,0))","v":""},{"$f":"IF($A146=\"\",\"\",VLOOKUP($A146,INSCRITS!$D$4:$W$506,10,0))","v":""},{"$f":"IF(ISNA(VLOOKUP($A146,SPRINT!AD$7:AJ$50,6,0)),\"\",VLOOKUP($A146,SPRINT!AD$7:AJ$50,6,0))","v":""},{"$f":"IF(ISNA(VLOOKUP($A146,SPRINT!AD$7:AJ$50,7,0)),\"\",VLOOKUP($A146,SPRINT!AD$7:AJ$50,7,0))","v":""},{"$f":"IF($A146=\"\",\"\",VLOOKUP($A146,INSCRITS!$D$4:$W$506,11,0))","v":""},{"$f":"IF(ISNA(VLOOKUP($A146,BATONS!AD$7:AJ$51,6,0)),\"\",VLOOKUP($A146,BATONS!AD$7:AJ$51,6,0))","v":""},{"$f":"IF(ISNA(VLOOKUP($A146,BATONS!AD$7:AJ$51,7,0)),\"\",VLOOKUP($A146,BATONS!AD$7:AJ$51,7,0))","v":""},{"$f":"IF($A146=\"\",\"\",VLOOKUP($A146,INSCRITS!$D$4:$W$506,12,0))","v":""},{"$f":"IF(ISNA(VLOOKUP($A146,PLANCHE!AC$7:AI$52,6,0)),\"\",VLOOKUP($A146,PLANCHE!AC$7:AI$52,6,0))","v":""},{"$f":"IF(ISNA(VLOOKUP($A146,PLANCHE!AC$7:AI$52,7,0)),\"\",VLOOKUP($A146,PLANCHE!AC$7:AI$52,7,0))","v":""},{"$f":"IF($A146=\"\",\"\",VLOOKUP($A146,INSCRITS!$D$4:$W$506,13,0))","v":""},{"$f":"IF(ISNA(VLOOKUP($A146,NAGE!N$7:T$52,6,0)),\"\",VLOOKUP($A146,NAGE!N$7:T$52,6,0))","v":""},{"$f":"IF(ISNA(VLOOKUP($A146,NAGE!N$7:T$52,7,0)),\"\",VLOOKUP($A146,NAGE!N$7:T$52,7,0))","v":""},{"$f":"IF($A146=\"\",\"\",VLOOKUP($A146,INSCRITS!$D$4:$W$506,14,0))","v":""},{"$f":"IF(ISNA(VLOOKUP($A146,SURFSKI!AC$8:AI$53,6,0)),\"\",VLOOKUP($A146,SURFSKI!AC$8:AI$53,6,0))","v":""},{"$f":"IF(ISNA(VLOOKUP($A146,SURFSKI!AC$8:AI$53,7,0)),\"\",VLOOKUP($A146,SURFSKI!AC$8:AI$53,7,0))","v":""},{"$f":"IF($A146=\"\",\"\",VLOOKUP($A146,INSCRITS!$D$4:$W$506,15,0))","v":""},{"$f":"IF(ISNA(VLOOKUP($A146,OCEANMAN!AD$7:AJ$52,6,0)),\"\",VLOOKUP($A146,OCEANMAN!AD$7:AJ$52,6,0))","v":""},{"$f":"IF(ISNA(VLOOKUP($A146,OCEANMAN!AD$7:AJ$52,7,0)),\"\",VLOOKUP($A146,OCEANMAN!AD$7:AJ$52,7,0))","v":""},{"$f":"IF($A146=\"\",\"\",VLOOKUP($A146,INSCRITS!$D$4:$W$506,16,0))","v":""},{"$f":"IF(ISNA(VLOOKUP($A146,CNC!N$7:AC$52,6,0)),\"\",VLOOKUP($A146,CNC!N$7:AC$52,6,0))","v":""},{"$f":"IF(ISNA(VLOOKUP($A146,CNC!N$7:AC$52,7,0)),\"\",VLOOKUP($A146,CNC!N$7:AC$52,7,0))","v":""},0,{"$f":"IF($A146=\"\",\"\",VLOOKUP($A146,INSCRITS!$D$4:$W$506,16,0))","v":""},null,{"$f":"IF(AG146=\"\",\"\",VLOOKUP(AG146,[0]!Relais,2))","v":""},{"$f":"IF($A146=\"\",\"\",VLOOKUP($A146,INSCRITS!$D$4:$W$506,17,0))","v":""},null,{"$f":"IF(AJ146=\"\",\"\",VLOOKUP(AJ146,[0]!Relais,2))","v":""},{"$f":"IF($A146=\"\",\"\",VLOOKUP($A146,INSCRITS!$D$4:$W$506,18,0))","v":""},null,{"$f":"IF(AM146=\"\",\"\",VLOOKUP(AM146,[0]!Relais,2))","v":""},{"$f":"IF($A146=\"\",\"\",VLOOKUP($A146,INSCRITS!$D$4:$W$506,19,0))","v":""},null,{"$f":"IF(AP146=\"\",\"\",VLOOKUP(AP146,[0]!Relais,2))","v":""},0,0]
[null,null,null,{"$f":"IF($A147=\"\",\"\",VLOOKUP($A147,INSCRITS!$D$4:$W$501,4,0))","v":""},{"$f":"IF($A147=\"\",\"\",VLOOKUP($A147,INSCRITS!$D$4:$W$501,5,0))","v":""},{"$f":"IF($A147=\"\",\"\",VLOOKUP($A147,INSCRITS!$D$4:$W$501,6,0))","v":""},{"$f":"IF($A147=\"\",\"\",VLOOKUP($A147,INSCRITS!$D$4:$W$501,7,0))","v":""},{"$f":"IF($A147=\"\",\"\",VLOOKUP($A147,INSCRITS!$D$4:$W$501,8,0))","v":""},{"$f":"IF($A147=\"\",\"\",VLOOKUP($A147,INSCRITS!$D$4:$W$501,9,0))","v":""},{"$f":"IF($A147=\"\",\"\",VLOOKUP($A147,INSCRITS!$D$4:$W$506,10,0))","v":""},{"$f":"IF(ISNA(VLOOKUP($A147,SPRINT!AD$7:AJ$50,6,0)),\"\",VLOOKUP($A147,SPRINT!AD$7:AJ$50,6,0))","v":""},{"$f":"IF(ISNA(VLOOKUP($A147,SPRINT!AD$7:AJ$50,7,0)),\"\",VLOOKUP($A147,SPRINT!AD$7:AJ$50,7,0))","v":""},{"$f":"IF($A147=\"\",\"\",VLOOKUP($A147,INSCRITS!$D$4:$W$506,11,0))","v":""},{"$f":"IF(ISNA(VLOOKUP($A147,BATONS!AD$7:AJ$51,6,0)),\"\",VLOOKUP($A147,BATONS!AD$7:AJ$51,6,0))","v":""},{"$f":"IF(ISNA(VLOOKUP($A147,BATONS!AD$7:AJ$51,7,0)),\"\",VLOOKUP($A147,BATONS!AD$7:AJ$51,7,0))","v":""},{"$f":"IF($A147=\"\",\"\",VLOOKUP($A147,INSCRITS!$D$4:$W$506,12,0))","v":""},{"$f":"IF(ISNA(VLOOKUP($A147,PLANCHE!AC$7:AI$52,6,0)),\"\",VLOOKUP($A147,PLANCHE!AC$7:AI$52,6,0))","v":""},{"$f":"IF(ISNA(VLOOKUP($A147,PLANCHE!AC$7:AI$52,7,0)),\"\",VLOOKUP($A147,PLANCHE!AC$7:AI$52,7,0))","v":""},{"$f":"IF($A147=\"\",\"\",VLOOKUP($A147,INSCRITS!$D$4:$W$506,13,0))","v":""},{"$f":"IF(ISNA(VLOOKUP($A147,NAGE!N$7:T$52,6,0)),\"\",VLOOKUP($A147,NAGE!N$7:T$52,6,0))","v":""},{"$f":"IF(ISNA(VLOOKUP($A147,NAGE!N$7:T$52,7,0)),\"\",VLOOKUP($A147,NAGE!N$7:T$52,7,0))","v":""},{"$f":"IF($A147=\"\",\"\",VLOOKUP($A147,INSCRITS!$D$4:$W$506,14,0))","v":""},{"$f":"IF(ISNA(VLOOKUP($A147,SURFSKI!AC$8:AI$53,6,0)),\"\",VLOOKUP($A147,SURFSKI!AC$8:AI$53,6,0))","v":""},{"$f":"IF(ISNA(VLOOKUP($A147,SURFSKI!AC$8:AI$53,7,0)),\"\",VLOOKUP($A147,SURFSKI!AC$8:AI$53,7,0))","v":""},{"$f":"IF($A147=\"\",\"\",VLOOKUP($A147,INSCRITS!$D$4:$W$506,15,0))","v":""},{"$f":"IF(ISNA(VLOOKUP($A147,OCEANMAN!AD$7:AJ$52,6,0)),\"\",VLOOKUP($A147,OCEANMAN!AD$7:AJ$52,6,0))","v":""},{"$f":"IF(ISNA(VLOOKUP($A147,OCEANMAN!AD$7:AJ$52,7,0)),\"\",VLOOKUP($A147,OCEANMAN!AD$7:AJ$52,7,0))","v":""},{"$f":"IF($A147=\"\",\"\",VLOOKUP($A147,INSCRITS!$D$4:$W$506,16,0))","v":""},{"$f":"IF(ISNA(VLOOKUP($A147,CNC!N$7:AC$52,6,0)),\"\",VLOOKUP($A147,CNC!N$7:AC$52,6,0))","v":""},{"$f":"IF(ISNA(VLOOKUP($A147,CNC!N$7:AC$52,7,0)),\"\",VLOOKUP($A147,CNC!N$7:AC$52,7,0))","v":""},0,{"$f":"IF($A147=\"\",\"\",VLOOKUP($A147,INSCRITS!$D$4:$W$506,16,0))","v":""},null,{"$f":"IF(AG147=\"\",\"\",VLOOKUP(AG147,[0]!Relais,2))","v":""},{"$f":"IF($A147=\"\",\"\",VLOOKUP($A147,INSCRITS!$D$4:$W$506,17,0))","v":""},null,{"$f":"IF(AJ147=\"\",\"\",VLOOKUP(AJ147,[0]!Relais,2))","v":""},{"$f":"IF($A147=\"\",\"\",VLOOKUP($A147,INSCRITS!$D$4:$W$506,18,0))","v":""},null,{"$f":"IF(AM147=\"\",\"\",VLOOKUP(AM147,[0]!Relais,2))","v":""},{"$f":"IF($A147=\"\",\"\",VLOOKUP($A147,INSCRITS!$D$4:$W$506,19,0))","v":""},null,{"$f":"IF(AP147=\"\",\"\",VLOOKUP(AP147,[0]!Relais,2))","v":""},0,0]
[null,null,null,{"$f":"IF($A148=\"\",\"\",VLOOKUP($A148,INSCRITS!$D$4:$W$501,4,0))","v":""},{"$f":"IF($A148=\"\",\"\",VLOOKUP($A148,INSCRITS!$D$4:$W$501,5,0))","v":""},{"$f":"IF($A148=\"\",\"\",VLOOKUP($A148,INSCRITS!$D$4:$W$501,6,0))","v":""},{"$f":"IF($A148=\"\",\"\",VLOOKUP($A148,INSCRITS!$D$4:$W$501,7,0))","v":""},{"$f":"IF($A148=\"\",\"\",VLOOKUP($A148,INSCRITS!$D$4:$W$501,8,0))","v":""},{"$f":"IF($A148=\"\",\"\",VLOOKUP($A148,INSCRITS!$D$4:$W$501,9,0))","v":""},{"$f":"IF($A148=\"\",\"\",VLOOKUP($A148,INSCRITS!$D$4:$W$506,10,0))","v":""},{"$f":"IF(ISNA(VLOOKUP($A148,SPRINT!AD$7:AJ$50,6,0)),\"\",VLOOKUP($A148,SPRINT!AD$7:AJ$50,6,0))","v":""},{"$f":"IF(ISNA(VLOOKUP($A148,SPRINT!AD$7:AJ$50,7,0)),\"\",VLOOKUP($A148,SPRINT!AD$7:AJ$50,7,0))","v":""},{"$f":"IF($A148=\"\",\"\",VLOOKUP($A148,INSCRITS!$D$4:$W$506,11,0))","v":""},{"$f":"IF(ISNA(VLOOKUP($A148,BATONS!AD$7:AJ$51,6,0)),\"\",VLOOKUP($A148,BATONS!AD$7:AJ$51,6,0))","v":""},{"$f":"IF(ISNA(VLOOKUP($A148,BATONS!AD$7:AJ$51,7,0)),\"\",VLOOKUP($A148,BATONS!AD$7:AJ$51,7,0))","v":""},{"$f":"IF($A148=\"\",\"\",VLOOKUP($A148,INSCRITS!$D$4:$W$506,12,0))","v":""},{"$f":"IF(ISNA(VLOOKUP($A148,PLANCHE!AC$7:AI$52,6,0)),\"\",VLOOKUP($A148,PLANCHE!AC$7:AI$52,6,0))","v":""},{"$f":"IF(ISNA(VLOOKUP($A148,PLANCHE!AC$7:AI$52,7,0)),\"\",VLOOKUP($A148,PLANCHE!AC$7:AI$52,7,0))","v":""},{"$f":"IF($A148=\"\",\"\",VLOOKUP($A148,INSCRITS!$D$4:$W$506,13,0))","v":""},{"$f":"IF(ISNA(VLOOKUP($A148,NAGE!N$7:T$52,6,0)),\"\",VLOOKUP($A148,NAGE!N$7:T$52,6,0))","v":""},{"$f":"IF(ISNA(VLOOKUP($A148,NAGE!N$7:T$52,7,0)),\"\",VLOOKUP($A148,NAGE!N$7:T$52,7,0))","v":""},{"$f":"IF($A148=\"\",\"\",VLOOKUP($A148,INSCRITS!$D$4:$W$506,14,0))","v":""},{"$f":"IF(ISNA(VLOOKUP($A148,SURFSKI!AC$8:AI$53,6,0)),\"\",VLOOKUP($A148,SURFSKI!AC$8:AI$53,6,0))","v":""},{"$f":"IF(ISNA(VLOOKUP($A148,SURFSKI!AC$8:AI$53,7,0)),\"\",VLOOKUP($A148,SURFSKI!AC$8:AI$53,7,0))","v":""},{"$f":"IF($A148=\"\",\"\",VLOOKUP($A148,INSCRITS!$D$4:$W$506,15,0))","v":""},{"$f":"IF(ISNA(VLOOKUP($A148,OCEANMAN!AD$7:AJ$52,6,0)),\"\",VLOOKUP($A148,OCEANMAN!AD$7:AJ$52,6,0))","v":""},{"$f":"IF(ISNA(VLOOKUP($A148,OCEANMAN!AD$7:AJ$52,7,0)),\"\",VLOOKUP($A148,OCEANMAN!AD$7:AJ$52,7,0))","v":""},{"$f":"IF($A148=\"\",\"\",VLOOKUP($A148,INSCRITS!$D$4:$W$506,16,0))","v":""},{"$f":"IF(ISNA(VLOOKUP($A148,CNC!N$7:AC$52,6,0)),\"\",VLOOKUP($A148,CNC!N$7:AC$52,6,0))","v":""},{"$f":"IF(ISNA(VLOOKUP($A148,CNC!N$7:AC$52,7,0)),\"\",VLOOKUP($A148,CNC!N$7:AC$52,7,0))","v":""},0,{"$f":"IF($A148=\"\",\"\",VLOOKUP($A148,INSCRITS!$D$4:$W$506,16,0))","v":""},null,{"$f":"IF(AG148=\"\",\"\",VLOOKUP(AG148,[0]!Relais,2))","v":""},{"$f":"IF($A148=\"\",\"\",VLOOKUP($A148,INSCRITS!$D$4:$W$506,17,0))","v":""},null,{"$f":"IF(AJ148=\"\",\"\",VLOOKUP(AJ148,[0]!Relais,2))","v":""},{"$f":"IF($A148=\"\",\"\",VLOOKUP($A148,INSCRITS!$D$4:$W$506,18,0))","v":""},null,{"$f":"IF(AM148=\"\",\"\",VLOOKUP(AM148,[0]!Relais,2))","v":""},{"$f":"IF($A148=\"\",\"\",VLOOKUP($A148,INSCRITS!$D$4:$W$506,19,0))","v":""},null,{"$f":"IF(AP148=\"\",\"\",VLOOKUP(AP148,[0]!Relais,2))","v":""},0,0]
[null,null,null,{"$f":"IF($A149=\"\",\"\",VLOOKUP($A149,INSCRITS!$D$4:$W$501,4,0))","v":""},{"$f":"IF($A149=\"\",\"\",VLOOKUP($A149,INSCRITS!$D$4:$W$501,5,0))","v":""},{"$f":"IF($A149=\"\",\"\",VLOOKUP($A149,INSCRITS!$D$4:$W$501,6,0))","v":""},{"$f":"IF($A149=\"\",\"\",VLOOKUP($A149,INSCRITS!$D$4:$W$501,7,0))","v":""},{"$f":"IF($A149=\"\",\"\",VLOOKUP($A149,INSCRITS!$D$4:$W$501,8,0))","v":""},{"$f":"IF($A149=\"\",\"\",VLOOKUP($A149,INSCRITS!$D$4:$W$501,9,0))","v":""},{"$f":"IF($A149=\"\",\"\",VLOOKUP($A149,INSCRITS!$D$4:$W$506,10,0))","v":""},{"$f":"IF(ISNA(VLOOKUP($A149,SPRINT!AD$7:AJ$50,6,0)),\"\",VLOOKUP($A149,SPRINT!AD$7:AJ$50,6,0))","v":""},{"$f":"IF(ISNA(VLOOKUP($A149,SPRINT!AD$7:AJ$50,7,0)),\"\",VLOOKUP($A149,SPRINT!AD$7:AJ$50,7,0))","v":""},{"$f":"IF($A149=\"\",\"\",VLOOKUP($A149,INSCRITS!$D$4:$W$506,11,0))","v":""},{"$f":"IF(ISNA(VLOOKUP($A149,BATONS!AD$7:AJ$51,6,0)),\"\",VLOOKUP($A149,BATONS!AD$7:AJ$51,6,0))","v":""},{"$f":"IF(ISNA(VLOOKUP($A149,BATONS!AD$7:AJ$51,7,0)),\"\",VLOOKUP($A149,BATONS!AD$7:AJ$51,7,0))","v":""},{"$f":"IF($A149=\"\",\"\",VLOOKUP($A149,INSCRITS!$D$4:$W$506,12,0))","v":""},{"$f":"IF(ISNA(VLOOKUP($A149,PLANCHE!AC$7:AI$52,6,0)),\"\",VLOOKUP($A149,PLANCHE!AC$7:AI$52,6,0))","v":""},{"$f":"IF(ISNA(VLOOKUP($A149,PLANCHE!AC$7:AI$52,7,0)),\"\",VLOOKUP($A149,PLANCHE!AC$7:AI$52,7,0))","v":""},{"$f":"IF($A149=\"\",\"\",VLOOKUP($A149,INSCRITS!$D$4:$W$506,13,0))","v":""},{"$f":"IF(ISNA(VLOOKUP($A149,NAGE!N$7:T$52,6,0)),\"\",VLOOKUP($A149,NAGE!N$7:T$52,6,0))","v":""},{"$f":"IF(ISNA(VLOOKUP($A149,NAGE!N$7:T$52,7,0)),\"\",VLOOKUP($A149,NAGE!N$7:T$52,7,0))","v":""},{"$f":"IF($A149=\"\",\"\",VLOOKUP($A149,INSCRITS!$D$4:$W$506,14,0))","v":""},{"$f":"IF(ISNA(VLOOKUP($A149,SURFSKI!AC$8:AI$53,6,0)),\"\",VLOOKUP($A149,SURFSKI!AC$8:AI$53,6,0))","v":""},{"$f":"IF(ISNA(VLOOKUP($A149,SURFSKI!AC$8:AI$53,7,0)),\"\",VLOOKUP($A149,SURFSKI!AC$8:AI$53,7,0))","v":""},{"$f":"IF($A149=\"\",\"\",VLOOKUP($A149,INSCRITS!$D$4:$W$506,15,0))","v":""},{"$f":"IF(ISNA(VLOOKUP($A149,OCEANMAN!AD$7:AJ$52,6,0)),\"\",VLOOKUP($A149,OCEANMAN!AD$7:AJ$52,6,0))","v":""},{"$f":"IF(ISNA(VLOOKUP($A149,OCEANMAN!AD$7:AJ$52,7,0)),\"\",VLOOKUP($A149,OCEANMAN!AD$7:AJ$52,7,0))","v":""},{"$f":"IF($A149=\"\",\"\",VLOOKUP($A149,INSCRITS!$D$4:$W$506,16,0))","v":""},{"$f":"IF(ISNA(VLOOKUP($A149,CNC!N$7:AC$52,6,0)),\"\",VLOOKUP($A149,CNC!N$7:AC$52,6,0))","v":""},{"$f":"IF(ISNA(VLOOKUP($A149,CNC!N$7:AC$52,7,0)),\"\",VLOOKUP($A149,CNC!N$7:AC$52,7,0))","v":""},0,{"$f":"IF($A149=\"\",\"\",VLOOKUP($A149,INSCRITS!$D$4:$W$506,16,0))","v":""},null,{"$f":"IF(AG149=\"\",\"\",VLOOKUP(AG149,[0]!Relais,2))","v":""},{"$f":"IF($A149=\"\",\"\",VLOOKUP($A149,INSCRITS!$D$4:$W$506,17,0))","v":""},null,{"$f":"IF(AJ149=\"\",\"\",VLOOKUP(AJ149,[0]!Relais,2))","v":""},{"$f":"IF($A149=\"\",\"\",VLOOKUP($A149,INSCRITS!$D$4:$W$506,18,0))","v":""},null,{"$f":"IF(AM149=\"\",\"\",VLOOKUP(AM149,[0]!Relais,2))","v":""},{"$f":"IF($A149=\"\",\"\",VLOOKUP($A149,INSCRITS!$D$4:$W$506,19,0))","v":""},null,{"$f":"IF(AP149=\"\",\"\",VLOOKUP(AP149,[0]!Relais,2))","v":""},0,0]
[null,null,null,{"$f":"IF($A150=\"\",\"\",VLOOKUP($A150,INSCRITS!$D$4:$W$501,4,0))","v":""},{"$f":"IF($A150=\"\",\"\",VLOOKUP($A150,INSCRITS!$D$4:$W$501,5,0))","v":""},{"$f":"IF($A150=\"\",\"\",VLOOKUP($A150,INSCRITS!$D$4:$W$501,6,0))","v":""},{"$f":"IF($A150=\"\",\"\",VLOOKUP($A150,INSCRITS!$D$4:$W$501,7,0))","v":""},{"$f":"IF($A150=\"\",\"\",VLOOKUP($A150,INSCRITS!$D$4:$W$501,8,0))","v":""},{"$f":"IF($A150=\"\",\"\",VLOOKUP($A150,INSCRITS!$D$4:$W$501,9,0))","v":""},{"$f":"IF($A150=\"\",\"\",VLOOKUP($A150,INSCRITS!$D$4:$W$506,10,0))","v":""},{"$f":"IF(ISNA(VLOOKUP($A150,SPRINT!AD$7:AJ$50,6,0)),\"\",VLOOKUP($A150,SPRINT!AD$7:AJ$50,6,0))","v":""},{"$f":"IF(ISNA(VLOOKUP($A150,SPRINT!AD$7:AJ$50,7,0)),\"\",VLOOKUP($A150,SPRINT!AD$7:AJ$50,7,0))","v":""},{"$f":"IF($A150=\"\",\"\",VLOOKUP($A150,INSCRITS!$D$4:$W$506,11,0))","v":""},{"$f":"IF(ISNA(VLOOKUP($A150,BATONS!AD$7:AJ$51,6,0)),\"\",VLOOKUP($A150,BATONS!AD$7:AJ$51,6,0))","v":""},{"$f":"IF(ISNA(VLOOKUP($A150,BATONS!AD$7:AJ$51,7,0)),\"\",VLOOKUP($A150,BATONS!AD$7:AJ$51,7,0))","v":""},{"$f":"IF($A150=\"\",\"\",VLOOKUP($A150,INSCRITS!$D$4:$W$506,12,0))","v":""},{"$f":"IF(ISNA(VLOOKUP($A150,PLANCHE!AC$7:AI$52,6,0)),\"\",VLOOKUP($A150,PLANCHE!AC$7:AI$52,6,0))","v":""},{"$f":"IF(ISNA(VLOOKUP($A150,PLANCHE!AC$7:AI$52,7,0)),\"\",VLOOKUP($A150,PLANCHE!AC$7:AI$52,7,0))","v":""},{"$f":"IF($A150=\"\",\"\",VLOOKUP($A150,INSCRITS!$D$4:$W$506,13,0))","v":""},{"$f":"IF(ISNA(VLOOKUP($A150,NAGE!N$7:T$52,6,0)),\"\",VLOOKUP($A150,NAGE!N$7:T$52,6,0))","v":""},{"$f":"IF(ISNA(VLOOKUP($A150,NAGE!N$7:T$52,7,0)),\"\",VLOOKUP($A150,NAGE!N$7:T$52,7,0))","v":""},{"$f":"IF($A150=\"\",\"\",VLOOKUP($A150,INSCRITS!$D$4:$W$506,14,0))","v":""},{"$f":"IF(ISNA(VLOOKUP($A150,SURFSKI!AC$8:AI$53,6,0)),\"\",VLOOKUP($A150,SURFSKI!AC$8:AI$53,6,0))","v":""},{"$f":"IF(ISNA(VLOOKUP($A150,SURFSKI!AC$8:AI$53,7,0)),\"\",VLOOKUP($A150,SURFSKI!AC$8:AI$53,7,0))","v":""},{"$f":"IF($A150=\"\",\"\",VLOOKUP($A150,INSCRITS!$D$4:$W$506,15,0))","v":""},{"$f":"IF(ISNA(VLOOKUP($A150,OCEANMAN!AD$7:AJ$52,6,0)),\"\",VLOOKUP($A150,OCEANMAN!AD$7:AJ$52,6,0))","v":""},{"$f":"IF(ISNA(VLOOKUP($A150,OCEANMAN!AD$7:AJ$52,7,0)),\"\",VLOOKUP($A150,OCEANMAN!AD$7:AJ$52,7,0))","v":""},{"$f":"IF($A150=\"\",\"\",VLOOKUP($A150,INSCRITS!$D$4:$W$506,16,0))","v":""},{"$f":"IF(ISNA(VLOOKUP($A150,CNC!N$7:AC$52,6,0)),\"\",VLOOKUP($A150,CNC!N$7:AC$52,6,0))","v":""},{"$f":"IF(ISNA(VLOOKUP($A150,CNC!N$7:AC$52,7,0)),\"\",VLOOKUP($A150,CNC!N$7:AC$52,7,0))","v":""},0,{"$f":"IF($A150=\"\",\"\",VLOOKUP($A150,INSCRITS!$D$4:$W$506,16,0))","v":""},null,{"$f":"IF(AG150=\"\",\"\",VLOOKUP(AG150,[0]!Relais,2))","v":""},{"$f":"IF($A150=\"\",\"\",VLOOKUP($A150,INSCRITS!$D$4:$W$506,17,0))","v":""},null,{"$f":"IF(AJ150=\"\",\"\",VLOOKUP(AJ150,[0]!Relais,2))","v":""},{"$f":"IF($A150=\"\",\"\",VLOOKUP($A150,INSCRITS!$D$4:$W$506,18,0))","v":""},null,{"$f":"IF(AM150=\"\",\"\",VLOOKUP(AM150,[0]!Relais,2))","v":""},{"$f":"IF($A150=\"\",\"\",VLOOKUP($A150,INSCRITS!$D$4:$W$506,19,0))","v":""},null,{"$f":"IF(AP150=\"\",\"\",VLOOKUP(AP150,[0]!Relais,2))","v":""},0,0]
[null,null,null,{"$f":"IF($A151=\"\",\"\",VLOOKUP($A151,INSCRITS!$D$4:$W$501,4,0))","v":""},{"$f":"IF($A151=\"\",\"\",VLOOKUP($A151,INSCRITS!$D$4:$W$501,5,0))","v":""},{"$f":"IF($A151=\"\",\"\",VLOOKUP($A151,INSCRITS!$D$4:$W$501,6,0))","v":""},{"$f":"IF($A151=\"\",\"\",VLOOKUP($A151,INSCRITS!$D$4:$W$501,7,0))","v":""},{"$f":"IF($A151=\"\",\"\",VLOOKUP($A151,INSCRITS!$D$4:$W$501,8,0))","v":""},{"$f":"IF($A151=\"\",\"\",VLOOKUP($A151,INSCRITS!$D$4:$W$501,9,0))","v":""},{"$f":"IF($A151=\"\",\"\",VLOOKUP($A151,INSCRITS!$D$4:$W$506,10,0))","v":""},{"$f":"IF(ISNA(VLOOKUP($A151,SPRINT!AD$7:AJ$50,6,0)),\"\",VLOOKUP($A151,SPRINT!AD$7:AJ$50,6,0))","v":""},{"$f":"IF(ISNA(VLOOKUP($A151,SPRINT!AD$7:AJ$50,7,0)),\"\",VLOOKUP($A151,SPRINT!AD$7:AJ$50,7,0))","v":""},{"$f":"IF($A151=\"\",\"\",VLOOKUP($A151,INSCRITS!$D$4:$W$506,11,0))","v":""},{"$f":"IF(ISNA(VLOOKUP($A151,BATONS!AD$7:AJ$51,6,0)),\"\",VLOOKUP($A151,BATONS!AD$7:AJ$51,6,0))","v":""},{"$f":"IF(ISNA(VLOOKUP($A151,BATONS!AD$7:AJ$51,7,0)),\"\",VLOOKUP($A151,BATONS!AD$7:AJ$51,7,0))","v":""},{"$f":"IF($A151=\"\",\"\",VLOOKUP($A151,INSCRITS!$D$4:$W$506,12,0))","v":""},{"$f":"IF(ISNA(VLOOKUP($A151,PLANCHE!AC$7:AI$52,6,0)),\"\",VLOOKUP($A151,PLANCHE!AC$7:AI$52,6,0))","v":""},{"$f":"IF(ISNA(VLOOKUP($A151,PLANCHE!AC$7:AI$52,7,0)),\"\",VLOOKUP($A151,PLANCHE!AC$7:AI$52,7,0))","v":""},{"$f":"IF($A151=\"\",\"\",VLOOKUP($A151,INSCRITS!$D$4:$W$506,13,0))","v":""},{"$f":"IF(ISNA(VLOOKUP($A151,NAGE!N$7:T$52,6,0)),\"\",VLOOKUP($A151,NAGE!N$7:T$52,6,0))","v":""},{"$f":"IF(ISNA(VLOOKUP($A151,NAGE!N$7:T$52,7,0)),\"\",VLOOKUP($A151,NAGE!N$7:T$52,7,0))","v":""},{"$f":"IF($A151=\"\",\"\",VLOOKUP($A151,INSCRITS!$D$4:$W$506,14,0))","v":""},{"$f":"IF(ISNA(VLOOKUP($A151,SURFSKI!AC$8:AI$53,6,0)),\"\",VLOOKUP($A151,SURFSKI!AC$8:AI$53,6,0))","v":""},{"$f":"IF(ISNA(VLOOKUP($A151,SURFSKI!AC$8:AI$53,7,0)),\"\",VLOOKUP($A151,SURFSKI!AC$8:AI$53,7,0))","v":""},{"$f":"IF($A151=\"\",\"\",VLOOKUP($A151,INSCRITS!$D$4:$W$506,15,0))","v":""},{"$f":"IF(ISNA(VLOOKUP($A151,OCEANMAN!AD$7:AJ$52,6,0)),\"\",VLOOKUP($A151,OCEANMAN!AD$7:AJ$52,6,0))","v":""},{"$f":"IF(ISNA(VLOOKUP($A151,OCEANMAN!AD$7:AJ$52,7,0)),\"\",VLOOKUP($A151,OCEANMAN!AD$7:AJ$52,7,0))","v":""},{"$f":"IF($A151=\"\",\"\",VLOOKUP($A151,INSCRITS!$D$4:$W$506,16,0))","v":""},{"$f":"IF(ISNA(VLOOKUP($A151,CNC!N$7:AC$52,6,0)),\"\",VLOOKUP($A151,CNC!N$7:AC$52,6,0))","v":""},{"$f":"IF(ISNA(VLOOKUP($A151,CNC!N$7:AC$52,7,0)),\"\",VLOOKUP($A151,CNC!N$7:AC$52,7,0))","v":""},0,{"$f":"IF($A151=\"\",\"\",VLOOKUP($A151,INSCRITS!$D$4:$W$506,16,0))","v":""},null,{"$f":"IF(AG151=\"\",\"\",VLOOKUP(AG151,[0]!Relais,2))","v":""},{"$f":"IF($A151=\"\",\"\",VLOOKUP($A151,INSCRITS!$D$4:$W$506,17,0))","v":""},null,{"$f":"IF(AJ151=\"\",\"\",VLOOKUP(AJ151,[0]!Relais,2))","v":""},{"$f":"IF($A151=\"\",\"\",VLOOKUP($A151,INSCRITS!$D$4:$W$506,18,0))","v":""},null,{"$f":"IF(AM151=\"\",\"\",VLOOKUP(AM151,[0]!Relais,2))","v":""},{"$f":"IF($A151=\"\",\"\",VLOOKUP($A151,INSCRITS!$D$4:$W$506,19,0))","v":""},null,{"$f":"IF(AP151=\"\",\"\",VLOOKUP(AP151,[0]!Relais,2))","v":""},0,0]
[null,null,null,{"$f":"IF($A152=\"\",\"\",VLOOKUP($A152,INSCRITS!$D$4:$W$501,4,0))","v":""},{"$f":"IF($A152=\"\",\"\",VLOOKUP($A152,INSCRITS!$D$4:$W$501,5,0))","v":""},{"$f":"IF($A152=\"\",\"\",VLOOKUP($A152,INSCRITS!$D$4:$W$501,6,0))","v":""},{"$f":"IF($A152=\"\",\"\",VLOOKUP($A152,INSCRITS!$D$4:$W$501,7,0))","v":""},{"$f":"IF($A152=\"\",\"\",VLOOKUP($A152,INSCRITS!$D$4:$W$501,8,0))","v":""},{"$f":"IF($A152=\"\",\"\",VLOOKUP($A152,INSCRITS!$D$4:$W$501,9,0))","v":""},{"$f":"IF($A152=\"\",\"\",VLOOKUP($A152,INSCRITS!$D$4:$W$506,10,0))","v":""},{"$f":"IF(ISNA(VLOOKUP($A152,SPRINT!AD$7:AJ$50,6,0)),\"\",VLOOKUP($A152,SPRINT!AD$7:AJ$50,6,0))","v":""},{"$f":"IF(ISNA(VLOOKUP($A152,SPRINT!AD$7:AJ$50,7,0)),\"\",VLOOKUP($A152,SPRINT!AD$7:AJ$50,7,0))","v":""},{"$f":"IF($A152=\"\",\"\",VLOOKUP($A152,INSCRITS!$D$4:$W$506,11,0))","v":""},{"$f":"IF(ISNA(VLOOKUP($A152,BATONS!AD$7:AJ$51,6,0)),\"\",VLOOKUP($A152,BATONS!AD$7:AJ$51,6,0))","v":""},{"$f":"IF(ISNA(VLOOKUP($A152,BATONS!AD$7:AJ$51,7,0)),\"\",VLOOKUP($A152,BATONS!AD$7:AJ$51,7,0))","v":""},{"$f":"IF($A152=\"\",\"\",VLOOKUP($A152,INSCRITS!$D$4:$W$506,12,0))","v":""},{"$f":"IF(ISNA(VLOOKUP($A152,PLANCHE!AC$7:AI$52,6,0)),\"\",VLOOKUP($A152,PLANCHE!AC$7:AI$52,6,0))","v":""},{"$f":"IF(ISNA(VLOOKUP($A152,PLANCHE!AC$7:AI$52,7,0)),\"\",VLOOKUP($A152,PLANCHE!AC$7:AI$52,7,0))","v":""},{"$f":"IF($A152=\"\",\"\",VLOOKUP($A152,INSCRITS!$D$4:$W$506,13,0))","v":""},{"$f":"IF(ISNA(VLOOKUP($A152,NAGE!N$7:T$52,6,0)),\"\",VLOOKUP($A152,NAGE!N$7:T$52,6,0))","v":""},{"$f":"IF(ISNA(VLOOKUP($A152,NAGE!N$7:T$52,7,0)),\"\",VLOOKUP($A152,NAGE!N$7:T$52,7,0))","v":""},{"$f":"IF($A152=\"\",\"\",VLOOKUP($A152,INSCRITS!$D$4:$W$506,14,0))","v":""},{"$f":"IF(ISNA(VLOOKUP($A152,SURFSKI!AC$8:AI$53,6,0)),\"\",VLOOKUP($A152,SURFSKI!AC$8:AI$53,6,0))","v":""},{"$f":"IF(ISNA(VLOOKUP($A152,SURFSKI!AC$8:AI$53,7,0)),\"\",VLOOKUP($A152,SURFSKI!AC$8:AI$53,7,0))","v":""},{"$f":"IF($A152=\"\",\"\",VLOOKUP($A152,INSCRITS!$D$4:$W$506,15,0))","v":""},{"$f":"IF(ISNA(VLOOKUP($A152,OCEANMAN!AD$7:AJ$52,6,0)),\"\",VLOOKUP($A152,OCEANMAN!AD$7:AJ$52,6,0))","v":""},{"$f":"IF(ISNA(VLOOKUP($A152,OCEANMAN!AD$7:AJ$52,7,0)),\"\",VLOOKUP($A152,OCEANMAN!AD$7:AJ$52,7,0))","v":""},{"$f":"IF($A152=\"\",\"\",VLOOKUP($A152,INSCRITS!$D$4:$W$506,16,0))","v":""},{"$f":"IF(ISNA(VLOOKUP($A152,CNC!N$7:AC$52,6,0)),\"\",VLOOKUP($A152,CNC!N$7:AC$52,6,0))","v":""},{"$f":"IF(ISNA(VLOOKUP($A152,CNC!N$7:AC$52,7,0)),\"\",VLOOKUP($A152,CNC!N$7:AC$52,7,0))","v":""},0,{"$f":"IF($A152=\"\",\"\",VLOOKUP($A152,INSCRITS!$D$4:$W$506,16,0))","v":""},null,{"$f":"IF(AG152=\"\",\"\",VLOOKUP(AG152,[0]!Relais,2))","v":""},{"$f":"IF($A152=\"\",\"\",VLOOKUP($A152,INSCRITS!$D$4:$W$506,17,0))","v":""},null,{"$f":"IF(AJ152=\"\",\"\",VLOOKUP(AJ152,[0]!Relais,2))","v":""},{"$f":"IF($A152=\"\",\"\",VLOOKUP($A152,INSCRITS!$D$4:$W$506,18,0))","v":""},null,{"$f":"IF(AM152=\"\",\"\",VLOOKUP(AM152,[0]!Relais,2))","v":""},{"$f":"IF($A152=\"\",\"\",VLOOKUP($A152,INSCRITS!$D$4:$W$506,19,0))","v":""},null,{"$f":"IF(AP152=\"\",\"\",VLOOKUP(AP152,[0]!Relais,2))","v":""},0,0]
[null,null,null,{"$f":"IF($A153=\"\",\"\",VLOOKUP($A153,INSCRITS!$D$4:$W$501,4,0))","v":""},{"$f":"IF($A153=\"\",\"\",VLOOKUP($A153,INSCRITS!$D$4:$W$501,5,0))","v":""},{"$f":"IF($A153=\"\",\"\",VLOOKUP($A153,INSCRITS!$D$4:$W$501,6,0))","v":""},{"$f":"IF($A153=\"\",\"\",VLOOKUP($A153,INSCRITS!$D$4:$W$501,7,0))","v":""},{"$f":"IF($A153=\"\",\"\",VLOOKUP($A153,INSCRITS!$D$4:$W$501,8,0))","v":""},{"$f":"IF($A153=\"\",\"\",VLOOKUP($A153,INSCRITS!$D$4:$W$501,9,0))","v":""},{"$f":"IF($A153=\"\",\"\",VLOOKUP($A153,INSCRITS!$D$4:$W$506,10,0))","v":""},{"$f":"IF(ISNA(VLOOKUP($A153,SPRINT!AD$7:AJ$50,6,0)),\"\",VLOOKUP($A153,SPRINT!AD$7:AJ$50,6,0))","v":""},{"$f":"IF(ISNA(VLOOKUP($A153,SPRINT!AD$7:AJ$50,7,0)),\"\",VLOOKUP($A153,SPRINT!AD$7:AJ$50,7,0))","v":""},{"$f":"IF($A153=\"\",\"\",VLOOKUP($A153,INSCRITS!$D$4:$W$506,11,0))","v":""},{"$f":"IF(ISNA(VLOOKUP($A153,BATONS!AD$7:AJ$51,6,0)),\"\",VLOOKUP($A153,BATONS!AD$7:AJ$51,6,0))","v":""},{"$f":"IF(ISNA(VLOOKUP($A153,BATONS!AD$7:AJ$51,7,0)),\"\",VLOOKUP($A153,BATONS!AD$7:AJ$51,7,0))","v":""},{"$f":"IF($A153=\"\",\"\",VLOOKUP($A153,INSCRITS!$D$4:$W$506,12,0))","v":""},{"$f":"IF(ISNA(VLOOKUP($A153,PLANCHE!AC$7:AI$52,6,0)),\"\",VLOOKUP($A153,PLANCHE!AC$7:AI$52,6,0))","v":""},{"$f":"IF(ISNA(VLOOKUP($A153,PLANCHE!AC$7:AI$52,7,0)),\"\",VLOOKUP($A153,PLANCHE!AC$7:AI$52,7,0))","v":""},{"$f":"IF($A153=\"\",\"\",VLOOKUP($A153,INSCRITS!$D$4:$W$506,13,0))","v":""},{"$f":"IF(ISNA(VLOOKUP($A153,NAGE!N$7:T$52,6,0)),\"\",VLOOKUP($A153,NAGE!N$7:T$52,6,0))","v":""},{"$f":"IF(ISNA(VLOOKUP($A153,NAGE!N$7:T$52,7,0)),\"\",VLOOKUP($A153,NAGE!N$7:T$52,7,0))","v":""},{"$f":"IF($A153=\"\",\"\",VLOOKUP($A153,INSCRITS!$D$4:$W$506,14,0))","v":""},{"$f":"IF(ISNA(VLOOKUP($A153,SURFSKI!AC$8:AI$53,6,0)),\"\",VLOOKUP($A153,SURFSKI!AC$8:AI$53,6,0))","v":""},{"$f":"IF(ISNA(VLOOKUP($A153,SURFSKI!AC$8:AI$53,7,0)),\"\",VLOOKUP($A153,SURFSKI!AC$8:AI$53,7,0))","v":""},{"$f":"IF($A153=\"\",\"\",VLOOKUP($A153,INSCRITS!$D$4:$W$506,15,0))","v":""},{"$f":"IF(ISNA(VLOOKUP($A153,OCEANMAN!AD$7:AJ$52,6,0)),\"\",VLOOKUP($A153,OCEANMAN!AD$7:AJ$52,6,0))","v":""},{"$f":"IF(ISNA(VLOOKUP($A153,OCEANMAN!AD$7:AJ$52,7,0)),\"\",VLOOKUP($A153,OCEANMAN!AD$7:AJ$52,7,0))","v":""},{"$f":"IF($A153=\"\",\"\",VLOOKUP($A153,INSCRITS!$D$4:$W$506,16,0))","v":""},{"$f":"IF(ISNA(VLOOKUP($A153,CNC!N$7:AC$52,6,0)),\"\",VLOOKUP($A153,CNC!N$7:AC$52,6,0))","v":""},{"$f":"IF(ISNA(VLOOKUP($A153,CNC!N$7:AC$52,7,0)),\"\",VLOOKUP($A153,CNC!N$7:AC$52,7,0))","v":""},0,{"$f":"IF($A153=\"\",\"\",VLOOKUP($A153,INSCRITS!$D$4:$W$506,16,0))","v":""},null,{"$f":"IF(AG153=\"\",\"\",VLOOKUP(AG153,[0]!Relais,2))","v":""},{"$f":"IF($A153=\"\",\"\",VLOOKUP($A153,INSCRITS!$D$4:$W$506,17,0))","v":""},null,{"$f":"IF(AJ153=\"\",\"\",VLOOKUP(AJ153,[0]!Relais,2))","v":""},{"$f":"IF($A153=\"\",\"\",VLOOKUP($A153,INSCRITS!$D$4:$W$506,18,0))","v":""},null,{"$f":"IF(AM153=\"\",\"\",VLOOKUP(AM153,[0]!Relais,2))","v":""},{"$f":"IF($A153=\"\",\"\",VLOOKUP($A153,INSCRITS!$D$4:$W$506,19,0))","v":""},null,{"$f":"IF(AP153=\"\",\"\",VLOOKUP(AP153,[0]!Relais,2))","v":""},0,0]
[null,null,null,{"$f":"IF($A154=\"\",\"\",VLOOKUP($A154,INSCRITS!$D$4:$W$501,4,0))","v":""},{"$f":"IF($A154=\"\",\"\",VLOOKUP($A154,INSCRITS!$D$4:$W$501,5,0))","v":""},{"$f":"IF($A154=\"\",\"\",VLOOKUP($A154,INSCRITS!$D$4:$W$501,6,0))","v":""},{"$f":"IF($A154=\"\",\"\",VLOOKUP($A154,INSCRITS!$D$4:$W$501,7,0))","v":""},{"$f":"IF($A154=\"\",\"\",VLOOKUP($A154,INSCRITS!$D$4:$W$501,8,0))","v":""},{"$f":"IF($A154=\"\",\"\",VLOOKUP($A154,INSCRITS!$D$4:$W$501,9,0))","v":""},{"$f":"IF($A154=\"\",\"\",VLOOKUP($A154,INSCRITS!$D$4:$W$506,10,0))","v":""},{"$f":"IF(ISNA(VLOOKUP($A154,SPRINT!AD$7:AJ$50,6,0)),\"\",VLOOKUP($A154,SPRINT!AD$7:AJ$50,6,0))","v":""},{"$f":"IF(ISNA(VLOOKUP($A154,SPRINT!AD$7:AJ$50,7,0)),\"\",VLOOKUP($A154,SPRINT!AD$7:AJ$50,7,0))","v":""},{"$f":"IF($A154=\"\",\"\",VLOOKUP($A154,INSCRITS!$D$4:$W$506,11,0))","v":""},{"$f":"IF(ISNA(VLOOKUP($A154,BATONS!AD$7:AJ$51,6,0)),\"\",VLOOKUP($A154,BATONS!AD$7:AJ$51,6,0))","v":""},{"$f":"IF(ISNA(VLOOKUP($A154,BATONS!AD$7:AJ$51,7,0)),\"\",VLOOKUP($A154,BATONS!AD$7:AJ$51,7,0))","v":""},{"$f":"IF($A154=\"\",\"\",VLOOKUP($A154,INSCRITS!$D$4:$W$506,12,0))","v":""},{"$f":"IF(ISNA(VLOOKUP($A154,PLANCHE!AC$7:AI$52,6,0)),\"\",VLOOKUP($A154,PLANCHE!AC$7:AI$52,6,0))","v":""},{"$f":"IF(ISNA(VLOOKUP($A154,PLANCHE!AC$7:AI$52,7,0)),\"\",VLOOKUP($A154,PLANCHE!AC$7:AI$52,7,0))","v":""},{"$f":"IF($A154=\"\",\"\",VLOOKUP($A154,INSCRITS!$D$4:$W$506,13,0))","v":""},{"$f":"IF(ISNA(VLOOKUP($A154,NAGE!N$7:T$52,6,0)),\"\",VLOOKUP($A154,NAGE!N$7:T$52,6,0))","v":""},{"$f":"IF(ISNA(VLOOKUP($A154,NAGE!N$7:T$52,7,0)),\"\",VLOOKUP($A154,NAGE!N$7:T$52,7,0))","v":""},{"$f":"IF($A154=\"\",\"\",VLOOKUP($A154,INSCRITS!$D$4:$W$506,14,0))","v":""},{"$f":"IF(ISNA(VLOOKUP($A154,SURFSKI!AC$8:AI$53,6,0)),\"\",VLOOKUP($A154,SURFSKI!AC$8:AI$53,6,0))","v":""},{"$f":"IF(ISNA(VLOOKUP($A154,SURFSKI!AC$8:AI$53,7,0)),\"\",VLOOKUP($A154,SURFSKI!AC$8:AI$53,7,0))","v":""},{"$f":"IF($A154=\"\",\"\",VLOOKUP($A154,INSCRITS!$D$4:$W$506,15,0))","v":""},{"$f":"IF(ISNA(VLOOKUP($A154,OCEANMAN!AD$7:AJ$52,6,0)),\"\",VLOOKUP($A154,OCEANMAN!AD$7:AJ$52,6,0))","v":""},{"$f":"IF(ISNA(VLOOKUP($A154,OCEANMAN!AD$7:AJ$52,7,0)),\"\",VLOOKUP($A154,OCEANMAN!AD$7:AJ$52,7,0))","v":""},{"$f":"IF($A154=\"\",\"\",VLOOKUP($A154,INSCRITS!$D$4:$W$506,16,0))","v":""},{"$f":"IF(ISNA(VLOOKUP($A154,CNC!N$7:AC$52,6,0)),\"\",VLOOKUP($A154,CNC!N$7:AC$52,6,0))","v":""},{"$f":"IF(ISNA(VLOOKUP($A154,CNC!N$7:AC$52,7,0)),\"\",VLOOKUP($A154,CNC!N$7:AC$52,7,0))","v":""},0,{"$f":"IF($A154=\"\",\"\",VLOOKUP($A154,INSCRITS!$D$4:$W$506,16,0))","v":""},null,{"$f":"IF(AG154=\"\",\"\",VLOOKUP(AG154,[0]!Relais,2))","v":""},{"$f":"IF($A154=\"\",\"\",VLOOKUP($A154,INSCRITS!$D$4:$W$506,17,0))","v":""},null,{"$f":"IF(AJ154=\"\",\"\",VLOOKUP(AJ154,[0]!Relais,2))","v":""},{"$f":"IF($A154=\"\",\"\",VLOOKUP($A154,INSCRITS!$D$4:$W$506,18,0))","v":""},null,{"$f":"IF(AM154=\"\",\"\",VLOOKUP(AM154,[0]!Relais,2))","v":""},{"$f":"IF($A154=\"\",\"\",VLOOKUP($A154,INSCRITS!$D$4:$W$506,19,0))","v":""},null,{"$f":"IF(AP154=\"\",\"\",VLOOKUP(AP154,[0]!Relais,2))","v":""},0,0]
[null,null,null,{"$f":"IF($A155=\"\",\"\",VLOOKUP($A155,INSCRITS!$D$4:$W$501,4,0))","v":""},{"$f":"IF($A155=\"\",\"\",VLOOKUP($A155,INSCRITS!$D$4:$W$501,5,0))","v":""},{"$f":"IF($A155=\"\",\"\",VLOOKUP($A155,INSCRITS!$D$4:$W$501,6,0))","v":""},{"$f":"IF($A155=\"\",\"\",VLOOKUP($A155,INSCRITS!$D$4:$W$501,7,0))","v":""},{"$f":"IF($A155=\"\",\"\",VLOOKUP($A155,INSCRITS!$D$4:$W$501,8,0))","v":""},{"$f":"IF($A155=\"\",\"\",VLOOKUP($A155,INSCRITS!$D$4:$W$501,9,0))","v":""},{"$f":"IF($A155=\"\",\"\",VLOOKUP($A155,INSCRITS!$D$4:$W$506,10,0))","v":""},{"$f":"IF(ISNA(VLOOKUP($A155,SPRINT!AD$7:AJ$50,6,0)),\"\",VLOOKUP($A155,SPRINT!AD$7:AJ$50,6,0))","v":""},{"$f":"IF(ISNA(VLOOKUP($A155,SPRINT!AD$7:AJ$50,7,0)),\"\",VLOOKUP($A155,SPRINT!AD$7:AJ$50,7,0))","v":""},{"$f":"IF($A155=\"\",\"\",VLOOKUP($A155,INSCRITS!$D$4:$W$506,11,0))","v":""},{"$f":"IF(ISNA(VLOOKUP($A155,BATONS!AD$7:AJ$51,6,0)),\"\",VLOOKUP($A155,BATONS!AD$7:AJ$51,6,0))","v":""},{"$f":"IF(ISNA(VLOOKUP($A155,BATONS!AD$7:AJ$51,7,0)),\"\",VLOOKUP($A155,BATONS!AD$7:AJ$51,7,0))","v":""},{"$f":"IF($A155=\"\",\"\",VLOOKUP($A155,INSCRITS!$D$4:$W$506,12,0))","v":""},{"$f":"IF(ISNA(VLOOKUP($A155,PLANCHE!AC$7:AI$52,6,0)),\"\",VLOOKUP($A155,PLANCHE!AC$7:AI$52,6,0))","v":""},{"$f":"IF(ISNA(VLOOKUP($A155,PLANCHE!AC$7:AI$52,7,0)),\"\",VLOOKUP($A155,PLANCHE!AC$7:AI$52,7,0))","v":""},{"$f":"IF($A155=\"\",\"\",VLOOKUP($A155,INSCRITS!$D$4:$W$506,13,0))","v":""},{"$f":"IF(ISNA(VLOOKUP($A155,NAGE!N$7:T$52,6,0)),\"\",VLOOKUP($A155,NAGE!N$7:T$52,6,0))","v":""},{"$f":"IF(ISNA(VLOOKUP($A155,NAGE!N$7:T$52,7,0)),\"\",VLOOKUP($A155,NAGE!N$7:T$52,7,0))","v":""},{"$f":"IF($A155=\"\",\"\",VLOOKUP($A155,INSCRITS!$D$4:$W$506,14,0))","v":""},{"$f":"IF(ISNA(VLOOKUP($A155,SURFSKI!AC$8:AI$53,6,0)),\"\",VLOOKUP($A155,SURFSKI!AC$8:AI$53,6,0))","v":""},{"$f":"IF(ISNA(VLOOKUP($A155,SURFSKI!AC$8:AI$53,7,0)),\"\",VLOOKUP($A155,SURFSKI!AC$8:AI$53,7,0))","v":""},{"$f":"IF($A155=\"\",\"\",VLOOKUP($A155,INSCRITS!$D$4:$W$506,15,0))","v":""},{"$f":"IF(ISNA(VLOOKUP($A155,OCEANMAN!AD$7:AJ$52,6,0)),\"\",VLOOKUP($A155,OCEANMAN!AD$7:AJ$52,6,0))","v":""},{"$f":"IF(ISNA(VLOOKUP($A155,OCEANMAN!AD$7:AJ$52,7,0)),\"\",VLOOKUP($A155,OCEANMAN!AD$7:AJ$52,7,0))","v":""},{"$f":"IF($A155=\"\",\"\",VLOOKUP($A155,INSCRITS!$D$4:$W$506,16,0))","v":""},{"$f":"IF(ISNA(VLOOKUP($A155,CNC!N$7:AC$52,6,0)),\"\",VLOOKUP($A155,CNC!N$7:AC$52,6,0))","v":""},{"$f":"IF(ISNA(VLOOKUP($A155,CNC!N$7:AC$52,7,0)),\"\",VLOOKUP($A155,CNC!N$7:AC$52,7,0))","v":""},0,{"$f":"IF($A155=\"\",\"\",VLOOKUP($A155,INSCRITS!$D$4:$W$506,16,0))","v":""},null,{"$f":"IF(AG155=\"\",\"\",VLOOKUP(AG155,[0]!Relais,2))","v":""},{"$f":"IF($A155=\"\",\"\",VLOOKUP($A155,INSCRITS!$D$4:$W$506,17,0))","v":""},null,{"$f":"IF(AJ155=\"\",\"\",VLOOKUP(AJ155,[0]!Relais,2))","v":""},{"$f":"IF($A155=\"\",\"\",VLOOKUP($A155,INSCRITS!$D$4:$W$506,18,0))","v":""},null,{"$f":"IF(AM155=\"\",\"\",VLOOKUP(AM155,[0]!Relais,2))","v":""},{"$f":"IF($A155=\"\",\"\",VLOOKUP($A155,INSCRITS!$D$4:$W$506,19,0))","v":""},null,{"$f":"IF(AP155=\"\",\"\",VLOOKUP(AP155,[0]!Relais,2))","v":""},0,0]
[null,null,null,{"$f":"IF($A156=\"\",\"\",VLOOKUP($A156,INSCRITS!$D$4:$W$501,4,0))","v":""},{"$f":"IF($A156=\"\",\"\",VLOOKUP($A156,INSCRITS!$D$4:$W$501,5,0))","v":""},{"$f":"IF($A156=\"\",\"\",VLOOKUP($A156,INSCRITS!$D$4:$W$501,6,0))","v":""},{"$f":"IF($A156=\"\",\"\",VLOOKUP($A156,INSCRITS!$D$4:$W$501,7,0))","v":""},{"$f":"IF($A156=\"\",\"\",VLOOKUP($A156,INSCRITS!$D$4:$W$501,8,0))","v":""},{"$f":"IF($A156=\"\",\"\",VLOOKUP($A156,INSCRITS!$D$4:$W$501,9,0))","v":""},{"$f":"IF($A156=\"\",\"\",VLOOKUP($A156,INSCRITS!$D$4:$W$506,10,0))","v":""},{"$f":"IF(ISNA(VLOOKUP($A156,SPRINT!AD$7:AJ$50,6,0)),\"\",VLOOKUP($A156,SPRINT!AD$7:AJ$50,6,0))","v":""},{"$f":"IF(ISNA(VLOOKUP($A156,SPRINT!AD$7:AJ$50,7,0)),\"\",VLOOKUP($A156,SPRINT!AD$7:AJ$50,7,0))","v":""},{"$f":"IF($A156=\"\",\"\",VLOOKUP($A156,INSCRITS!$D$4:$W$506,11,0))","v":""},{"$f":"IF(ISNA(VLOOKUP($A156,BATONS!AD$7:AJ$51,6,0)),\"\",VLOOKUP($A156,BATONS!AD$7:AJ$51,6,0))","v":""},{"$f":"IF(ISNA(VLOOKUP($A156,BATONS!AD$7:AJ$51,7,0)),\"\",VLOOKUP($A156,BATONS!AD$7:AJ$51,7,0))","v":""},{"$f":"IF($A156=\"\",\"\",VLOOKUP($A156,INSCRITS!$D$4:$W$506,12,0))","v":""},{"$f":"IF(ISNA(VLOOKUP($A156,PLANCHE!AC$7:AI$52,6,0)),\"\",VLOOKUP($A156,PLANCHE!AC$7:AI$52,6,0))","v":""},{"$f":"IF(ISNA(VLOOKUP($A156,PLANCHE!AC$7:AI$52,7,0)),\"\",VLOOKUP($A156,PLANCHE!AC$7:AI$52,7,0))","v":""},{"$f":"IF($A156=\"\",\"\",VLOOKUP($A156,INSCRITS!$D$4:$W$506,13,0))","v":""},{"$f":"IF(ISNA(VLOOKUP($A156,NAGE!N$7:T$52,6,0)),\"\",VLOOKUP($A156,NAGE!N$7:T$52,6,0))","v":""},{"$f":"IF(ISNA(VLOOKUP($A156,NAGE!N$7:T$52,7,0)),\"\",VLOOKUP($A156,NAGE!N$7:T$52,7,0))","v":""},{"$f":"IF($A156=\"\",\"\",VLOOKUP($A156,INSCRITS!$D$4:$W$506,14,0))","v":""},{"$f":"IF(ISNA(VLOOKUP($A156,SURFSKI!AC$8:AI$53,6,0)),\"\",VLOOKUP($A156,SURFSKI!AC$8:AI$53,6,0))","v":""},{"$f":"IF(ISNA(VLOOKUP($A156,SURFSKI!AC$8:AI$53,7,0)),\"\",VLOOKUP($A156,SURFSKI!AC$8:AI$53,7,0))","v":""},{"$f":"IF($A156=\"\",\"\",VLOOKUP($A156,INSCRITS!$D$4:$W$506,15,0))","v":""},{"$f":"IF(ISNA(VLOOKUP($A156,OCEANMAN!AD$7:AJ$52,6,0)),\"\",VLOOKUP($A156,OCEANMAN!AD$7:AJ$52,6,0))","v":""},{"$f":"IF(ISNA(VLOOKUP($A156,OCEANMAN!AD$7:AJ$52,7,0)),\"\",VLOOKUP($A156,OCEANMAN!AD$7:AJ$52,7,0))","v":""},{"$f":"IF($A156=\"\",\"\",VLOOKUP($A156,INSCRITS!$D$4:$W$506,16,0))","v":""},{"$f":"IF(ISNA(VLOOKUP($A156,CNC!N$7:AC$52,6,0)),\"\",VLOOKUP($A156,CNC!N$7:AC$52,6,0))","v":""},{"$f":"IF(ISNA(VLOOKUP($A156,CNC!N$7:AC$52,7,0)),\"\",VLOOKUP($A156,CNC!N$7:AC$52,7,0))","v":""},0,{"$f":"IF($A156=\"\",\"\",VLOOKUP($A156,INSCRITS!$D$4:$W$506,16,0))","v":""},null,{"$f":"IF(AG156=\"\",\"\",VLOOKUP(AG156,[0]!Relais,2))","v":""},{"$f":"IF($A156=\"\",\"\",VLOOKUP($A156,INSCRITS!$D$4:$W$506,17,0))","v":""},null,{"$f":"IF(AJ156=\"\",\"\",VLOOKUP(AJ156,[0]!Relais,2))","v":""},{"$f":"IF($A156=\"\",\"\",VLOOKUP($A156,INSCRITS!$D$4:$W$506,18,0))","v":""},null,{"$f":"IF(AM156=\"\",\"\",VLOOKUP(AM156,[0]!Relais,2))","v":""},{"$f":"IF($A156=\"\",\"\",VLOOKUP($A156,INSCRITS!$D$4:$W$506,19,0))","v":""},null,{"$f":"IF(AP156=\"\",\"\",VLOOKUP(AP156,[0]!Relais,2))","v":""},0,0]
[null,null,null,{"$f":"IF($A157=\"\",\"\",VLOOKUP($A157,INSCRITS!$D$4:$W$501,4,0))","v":""},{"$f":"IF($A157=\"\",\"\",VLOOKUP($A157,INSCRITS!$D$4:$W$501,5,0))","v":""},{"$f":"IF($A157=\"\",\"\",VLOOKUP($A157,INSCRITS!$D$4:$W$501,6,0))","v":""},{"$f":"IF($A157=\"\",\"\",VLOOKUP($A157,INSCRITS!$D$4:$W$501,7,0))","v":""},{"$f":"IF($A157=\"\",\"\",VLOOKUP($A157,INSCRITS!$D$4:$W$501,8,0))","v":""},{"$f":"IF($A157=\"\",\"\",VLOOKUP($A157,INSCRITS!$D$4:$W$501,9,0))","v":""},{"$f":"IF($A157=\"\",\"\",VLOOKUP($A157,INSCRITS!$D$4:$W$506,10,0))","v":""},{"$f":"IF(ISNA(VLOOKUP($A157,SPRINT!AD$7:AJ$50,6,0)),\"\",VLOOKUP($A157,SPRINT!AD$7:AJ$50,6,0))","v":""},{"$f":"IF(ISNA(VLOOKUP($A157,SPRINT!AD$7:AJ$50,7,0)),\"\",VLOOKUP($A157,SPRINT!AD$7:AJ$50,7,0))","v":""},{"$f":"IF($A157=\"\",\"\",VLOOKUP($A157,INSCRITS!$D$4:$W$506,11,0))","v":""},{"$f":"IF(ISNA(VLOOKUP($A157,BATONS!AD$7:AJ$51,6,0)),\"\",VLOOKUP($A157,BATONS!AD$7:AJ$51,6,0))","v":""},{"$f":"IF(ISNA(VLOOKUP($A157,BATONS!AD$7:AJ$51,7,0)),\"\",VLOOKUP($A157,BATONS!AD$7:AJ$51,7,0))","v":""},{"$f":"IF($A157=\"\",\"\",VLOOKUP($A157,INSCRITS!$D$4:$W$506,12,0))","v":""},{"$f":"IF(ISNA(VLOOKUP($A157,PLANCHE!AC$7:AI$52,6,0)),\"\",VLOOKUP($A157,PLANCHE!AC$7:AI$52,6,0))","v":""},{"$f":"IF(ISNA(VLOOKUP($A157,PLANCHE!AC$7:AI$52,7,0)),\"\",VLOOKUP($A157,PLANCHE!AC$7:AI$52,7,0))","v":""},{"$f":"IF($A157=\"\",\"\",VLOOKUP($A157,INSCRITS!$D$4:$W$506,13,0))","v":""},{"$f":"IF(ISNA(VLOOKUP($A157,NAGE!N$7:T$52,6,0)),\"\",VLOOKUP($A157,NAGE!N$7:T$52,6,0))","v":""},{"$f":"IF(ISNA(VLOOKUP($A157,NAGE!N$7:T$52,7,0)),\"\",VLOOKUP($A157,NAGE!N$7:T$52,7,0))","v":""},{"$f":"IF($A157=\"\",\"\",VLOOKUP($A157,INSCRITS!$D$4:$W$506,14,0))","v":""},{"$f":"IF(ISNA(VLOOKUP($A157,SURFSKI!AC$8:AI$53,6,0)),\"\",VLOOKUP($A157,SURFSKI!AC$8:AI$53,6,0))","v":""},{"$f":"IF(ISNA(VLOOKUP($A157,SURFSKI!AC$8:AI$53,7,0)),\"\",VLOOKUP($A157,SURFSKI!AC$8:AI$53,7,0))","v":""},{"$f":"IF($A157=\"\",\"\",VLOOKUP($A157,INSCRITS!$D$4:$W$506,15,0))","v":""},{"$f":"IF(ISNA(VLOOKUP($A157,OCEANMAN!AD$7:AJ$52,6,0)),\"\",VLOOKUP($A157,OCEANMAN!AD$7:AJ$52,6,0))","v":""},{"$f":"IF(ISNA(VLOOKUP($A157,OCEANMAN!AD$7:AJ$52,7,0)),\"\",VLOOKUP($A157,OCEANMAN!AD$7:AJ$52,7,0))","v":""},{"$f":"IF($A157=\"\",\"\",VLOOKUP($A157,INSCRITS!$D$4:$W$506,16,0))","v":""},{"$f":"IF(ISNA(VLOOKUP($A157,CNC!N$7:AC$52,6,0)),\"\",VLOOKUP($A157,CNC!N$7:AC$52,6,0))","v":""},{"$f":"IF(ISNA(VLOOKUP($A157,CNC!N$7:AC$52,7,0)),\"\",VLOOKUP($A157,CNC!N$7:AC$52,7,0))","v":""},0,{"$f":"IF($A157=\"\",\"\",VLOOKUP($A157,INSCRITS!$D$4:$W$506,16,0))","v":""},null,{"$f":"IF(AG157=\"\",\"\",VLOOKUP(AG157,[0]!Relais,2))","v":""},{"$f":"IF($A157=\"\",\"\",VLOOKUP($A157,INSCRITS!$D$4:$W$506,17,0))","v":""},null,{"$f":"IF(AJ157=\"\",\"\",VLOOKUP(AJ157,[0]!Relais,2))","v":""},{"$f":"IF($A157=\"\",\"\",VLOOKUP($A157,INSCRITS!$D$4:$W$506,18,0))","v":""},null,{"$f":"IF(AM157=\"\",\"\",VLOOKUP(AM157,[0]!Relais,2))","v":""},{"$f":"IF($A157=\"\",\"\",VLOOKUP($A157,INSCRITS!$D$4:$W$506,19,0))","v":""},null,{"$f":"IF(AP157=\"\",\"\",VLOOKUP(AP157,[0]!Relais,2))","v":""},0,0]
[null,null,null,{"$f":"IF($A158=\"\",\"\",VLOOKUP($A158,INSCRITS!$D$4:$W$501,4,0))","v":""},{"$f":"IF($A158=\"\",\"\",VLOOKUP($A158,INSCRITS!$D$4:$W$501,5,0))","v":""},{"$f":"IF($A158=\"\",\"\",VLOOKUP($A158,INSCRITS!$D$4:$W$501,6,0))","v":""},{"$f":"IF($A158=\"\",\"\",VLOOKUP($A158,INSCRITS!$D$4:$W$501,7,0))","v":""},{"$f":"IF($A158=\"\",\"\",VLOOKUP($A158,INSCRITS!$D$4:$W$501,8,0))","v":""},{"$f":"IF($A158=\"\",\"\",VLOOKUP($A158,INSCRITS!$D$4:$W$501,9,0))","v":""},{"$f":"IF($A158=\"\",\"\",VLOOKUP($A158,INSCRITS!$D$4:$W$506,10,0))","v":""},{"$f":"IF(ISNA(VLOOKUP($A158,SPRINT!AD$7:AJ$50,6,0)),\"\",VLOOKUP($A158,SPRINT!AD$7:AJ$50,6,0))","v":""},{"$f":"IF(ISNA(VLOOKUP($A158,SPRINT!AD$7:AJ$50,7,0)),\"\",VLOOKUP($A158,SPRINT!AD$7:AJ$50,7,0))","v":""},{"$f":"IF($A158=\"\",\"\",VLOOKUP($A158,INSCRITS!$D$4:$W$506,11,0))","v":""},{"$f":"IF(ISNA(VLOOKUP($A158,BATONS!AD$7:AJ$51,6,0)),\"\",VLOOKUP($A158,BATONS!AD$7:AJ$51,6,0))","v":""},{"$f":"IF(ISNA(VLOOKUP($A158,BATONS!AD$7:AJ$51,7,0)),\"\",VLOOKUP($A158,BATONS!AD$7:AJ$51,7,0))","v":""},{"$f":"IF($A158=\"\",\"\",VLOOKUP($A158,INSCRITS!$D$4:$W$506,12,0))","v":""},{"$f":"IF(ISNA(VLOOKUP($A158,PLANCHE!AC$7:AI$52,6,0)),\"\",VLOOKUP($A158,PLANCHE!AC$7:AI$52,6,0))","v":""},{"$f":"IF(ISNA(VLOOKUP($A158,PLANCHE!AC$7:AI$52,7,0)),\"\",VLOOKUP($A158,PLANCHE!AC$7:AI$52,7,0))","v":""},{"$f":"IF($A158=\"\",\"\",VLOOKUP($A158,INSCRITS!$D$4:$W$506,13,0))","v":""},{"$f":"IF(ISNA(VLOOKUP($A158,NAGE!N$7:T$52,6,0)),\"\",VLOOKUP($A158,NAGE!N$7:T$52,6,0))","v":""},{"$f":"IF(ISNA(VLOOKUP($A158,NAGE!N$7:T$52,7,0)),\"\",VLOOKUP($A158,NAGE!N$7:T$52,7,0))","v":""},{"$f":"IF($A158=\"\",\"\",VLOOKUP($A158,INSCRITS!$D$4:$W$506,14,0))","v":""},{"$f":"IF(ISNA(VLOOKUP($A158,SURFSKI!AC$8:AI$53,6,0)),\"\",VLOOKUP($A158,SURFSKI!AC$8:AI$53,6,0))","v":""},{"$f":"IF(ISNA(VLOOKUP($A158,SURFSKI!AC$8:AI$53,7,0)),\"\",VLOOKUP($A158,SURFSKI!AC$8:AI$53,7,0))","v":""},{"$f":"IF($A158=\"\",\"\",VLOOKUP($A158,INSCRITS!$D$4:$W$506,15,0))","v":""},{"$f":"IF(ISNA(VLOOKUP($A158,OCEANMAN!AD$7:AJ$52,6,0)),\"\",VLOOKUP($A158,OCEANMAN!AD$7:AJ$52,6,0))","v":""},{"$f":"IF(ISNA(VLOOKUP($A158,OCEANMAN!AD$7:AJ$52,7,0)),\"\",VLOOKUP($A158,OCEANMAN!AD$7:AJ$52,7,0))","v":""},{"$f":"IF($A158=\"\",\"\",VLOOKUP($A158,INSCRITS!$D$4:$W$506,16,0))","v":""},{"$f":"IF(ISNA(VLOOKUP($A158,CNC!N$7:AC$52,6,0)),\"\",VLOOKUP($A158,CNC!N$7:AC$52,6,0))","v":""},{"$f":"IF(ISNA(VLOOKUP($A158,CNC!N$7:AC$52,7,0)),\"\",VLOOKUP($A158,CNC!N$7:AC$52,7,0))","v":""},0,{"$f":"IF($A158=\"\",\"\",VLOOKUP($A158,INSCRITS!$D$4:$W$506,16,0))","v":""},null,{"$f":"IF(AG158=\"\",\"\",VLOOKUP(AG158,[0]!Relais,2))","v":""},{"$f":"IF($A158=\"\",\"\",VLOOKUP($A158,INSCRITS!$D$4:$W$506,17,0))","v":""},null,{"$f":"IF(AJ158=\"\",\"\",VLOOKUP(AJ158,[0]!Relais,2))","v":""},{"$f":"IF($A158=\"\",\"\",VLOOKUP($A158,INSCRITS!$D$4:$W$506,18,0))","v":""},null,{"$f":"IF(AM158=\"\",\"\",VLOOKUP(AM158,[0]!Relais,2))","v":""},{"$f":"IF($A158=\"\",\"\",VLOOKUP($A158,INSCRITS!$D$4:$W$506,19,0))","v":""},null,{"$f":"IF(AP158=\"\",\"\",VLOOKUP(AP158,[0]!Relais,2))","v":""},0,0]
[null,null,null,{"$f":"IF($A159=\"\",\"\",VLOOKUP($A159,INSCRITS!$D$4:$W$501,4,0))","v":""},{"$f":"IF($A159=\"\",\"\",VLOOKUP($A159,INSCRITS!$D$4:$W$501,5,0))","v":""},{"$f":"IF($A159=\"\",\"\",VLOOKUP($A159,INSCRITS!$D$4:$W$501,6,0))","v":""},{"$f":"IF($A159=\"\",\"\",VLOOKUP($A159,INSCRITS!$D$4:$W$501,7,0))","v":""},{"$f":"IF($A159=\"\",\"\",VLOOKUP($A159,INSCRITS!$D$4:$W$501,8,0))","v":""},{"$f":"IF($A159=\"\",\"\",VLOOKUP($A159,INSCRITS!$D$4:$W$501,9,0))","v":""},{"$f":"IF($A159=\"\",\"\",VLOOKUP($A159,INSCRITS!$D$4:$W$506,10,0))","v":""},{"$f":"IF(ISNA(VLOOKUP($A159,SPRINT!AD$7:AJ$50,6,0)),\"\",VLOOKUP($A159,SPRINT!AD$7:AJ$50,6,0))","v":""},{"$f":"IF(ISNA(VLOOKUP($A159,SPRINT!AD$7:AJ$50,7,0)),\"\",VLOOKUP($A159,SPRINT!AD$7:AJ$50,7,0))","v":""},{"$f":"IF($A159=\"\",\"\",VLOOKUP($A159,INSCRITS!$D$4:$W$506,11,0))","v":""},{"$f":"IF(ISNA(VLOOKUP($A159,BATONS!AD$7:AJ$51,6,0)),\"\",VLOOKUP($A159,BATONS!AD$7:AJ$51,6,0))","v":""},{"$f":"IF(ISNA(VLOOKUP($A159,BATONS!AD$7:AJ$51,7,0)),\"\",VLOOKUP($A159,BATONS!AD$7:AJ$51,7,0))","v":""},{"$f":"IF($A159=\"\",\"\",VLOOKUP($A159,INSCRITS!$D$4:$W$506,12,0))","v":""},{"$f":"IF(ISNA(VLOOKUP($A159,PLANCHE!AC$7:AI$52,6,0)),\"\",VLOOKUP($A159,PLANCHE!AC$7:AI$52,6,0))","v":""},{"$f":"IF(ISNA(VLOOKUP($A159,PLANCHE!AC$7:AI$52,7,0)),\"\",VLOOKUP($A159,PLANCHE!AC$7:AI$52,7,0))","v":""},{"$f":"IF($A159=\"\",\"\",VLOOKUP($A159,INSCRITS!$D$4:$W$506,13,0))","v":""},{"$f":"IF(ISNA(VLOOKUP($A159,NAGE!N$7:T$52,6,0)),\"\",VLOOKUP($A159,NAGE!N$7:T$52,6,0))","v":""},{"$f":"IF(ISNA(VLOOKUP($A159,NAGE!N$7:T$52,7,0)),\"\",VLOOKUP($A159,NAGE!N$7:T$52,7,0))","v":""},{"$f":"IF($A159=\"\",\"\",VLOOKUP($A159,INSCRITS!$D$4:$W$506,14,0))","v":""},{"$f":"IF(ISNA(VLOOKUP($A159,SURFSKI!AC$8:AI$53,6,0)),\"\",VLOOKUP($A159,SURFSKI!AC$8:AI$53,6,0))","v":""},{"$f":"IF(ISNA(VLOOKUP($A159,SURFSKI!AC$8:AI$53,7,0)),\"\",VLOOKUP($A159,SURFSKI!AC$8:AI$53,7,0))","v":""},{"$f":"IF($A159=\"\",\"\",VLOOKUP($A159,INSCRITS!$D$4:$W$506,15,0))","v":""},{"$f":"IF(ISNA(VLOOKUP($A159,OCEANMAN!AD$7:AJ$52,6,0)),\"\",VLOOKUP($A159,OCEANMAN!AD$7:AJ$52,6,0))","v":""},{"$f":"IF(ISNA(VLOOKUP($A159,OCEANMAN!AD$7:AJ$52,7,0)),\"\",VLOOKUP($A159,OCEANMAN!AD$7:AJ$52,7,0))","v":""},{"$f":"IF($A159=\"\",\"\",VLOOKUP($A159,INSCRITS!$D$4:$W$506,16,0))","v":""},{"$f":"IF(ISNA(VLOOKUP($A159,CNC!N$7:AC$52,6,0)),\"\",VLOOKUP($A159,CNC!N$7:AC$52,6,0))","v":""},{"$f":"IF(ISNA(VLOOKUP($A159,CNC!N$7:AC$52,7,0)),\"\",VLOOKUP($A159,CNC!N$7:AC$52,7,0))","v":""},0,{"$f":"IF($A159=\"\",\"\",VLOOKUP($A159,INSCRITS!$D$4:$W$506,16,0))","v":""},null,{"$f":"IF(AG159=\"\",\"\",VLOOKUP(AG159,[0]!Relais,2))","v":""},{"$f":"IF($A159=\"\",\"\",VLOOKUP($A159,INSCRITS!$D$4:$W$506,17,0))","v":""},null,{"$f":"IF(AJ159=\"\",\"\",VLOOKUP(AJ159,[0]!Relais,2))","v":""},{"$f":"IF($A159=\"\",\"\",VLOOKUP($A159,INSCRITS!$D$4:$W$506,18,0))","v":""},null,{"$f":"IF(AM159=\"\",\"\",VLOOKUP(AM159,[0]!Relais,2))","v":""},{"$f":"IF($A159=\"\",\"\",VLOOKUP($A159,INSCRITS!$D$4:$W$506,19,0))","v":""},null,{"$f":"IF(AP159=\"\",\"\",VLOOKUP(AP159,[0]!Relais,2))","v":""},0,0]
[null,null,null,{"$f":"IF($A160=\"\",\"\",VLOOKUP($A160,INSCRITS!$D$4:$W$501,4,0))","v":""},{"$f":"IF($A160=\"\",\"\",VLOOKUP($A160,INSCRITS!$D$4:$W$501,5,0))","v":""},{"$f":"IF($A160=\"\",\"\",VLOOKUP($A160,INSCRITS!$D$4:$W$501,6,0))","v":""},{"$f":"IF($A160=\"\",\"\",VLOOKUP($A160,INSCRITS!$D$4:$W$501,7,0))","v":""},{"$f":"IF($A160=\"\",\"\",VLOOKUP($A160,INSCRITS!$D$4:$W$501,8,0))","v":""},{"$f":"IF($A160=\"\",\"\",VLOOKUP($A160,INSCRITS!$D$4:$W$501,9,0))","v":""},{"$f":"IF($A160=\"\",\"\",VLOOKUP($A160,INSCRITS!$D$4:$W$506,10,0))","v":""},{"$f":"IF(ISNA(VLOOKUP($A160,SPRINT!AD$7:AJ$50,6,0)),\"\",VLOOKUP($A160,SPRINT!AD$7:AJ$50,6,0))","v":""},{"$f":"IF(ISNA(VLOOKUP($A160,SPRINT!AD$7:AJ$50,7,0)),\"\",VLOOKUP($A160,SPRINT!AD$7:AJ$50,7,0))","v":""},{"$f":"IF($A160=\"\",\"\",VLOOKUP($A160,INSCRITS!$D$4:$W$506,11,0))","v":""},{"$f":"IF(ISNA(VLOOKUP($A160,BATONS!AD$7:AJ$51,6,0)),\"\",VLOOKUP($A160,BATONS!AD$7:AJ$51,6,0))","v":""},{"$f":"IF(ISNA(VLOOKUP($A160,BATONS!AD$7:AJ$51,7,0)),\"\",VLOOKUP($A160,BATONS!AD$7:AJ$51,7,0))","v":""},{"$f":"IF($A160=\"\",\"\",VLOOKUP($A160,INSCRITS!$D$4:$W$506,12,0))","v":""},{"$f":"IF(ISNA(VLOOKUP($A160,PLANCHE!AC$7:AI$52,6,0)),\"\",VLOOKUP($A160,PLANCHE!AC$7:AI$52,6,0))","v":""},{"$f":"IF(ISNA(VLOOKUP($A160,PLANCHE!AC$7:AI$52,7,0)),\"\",VLOOKUP($A160,PLANCHE!AC$7:AI$52,7,0))","v":""},{"$f":"IF($A160=\"\",\"\",VLOOKUP($A160,INSCRITS!$D$4:$W$506,13,0))","v":""},{"$f":"IF(ISNA(VLOOKUP($A160,NAGE!N$7:T$52,6,0)),\"\",VLOOKUP($A160,NAGE!N$7:T$52,6,0))","v":""},{"$f":"IF(ISNA(VLOOKUP($A160,NAGE!N$7:T$52,7,0)),\"\",VLOOKUP($A160,NAGE!N$7:T$52,7,0))","v":""},{"$f":"IF($A160=\"\",\"\",VLOOKUP($A160,INSCRITS!$D$4:$W$506,14,0))","v":""},{"$f":"IF(ISNA(VLOOKUP($A160,SURFSKI!AC$8:AI$53,6,0)),\"\",VLOOKUP($A160,SURFSKI!AC$8:AI$53,6,0))","v":""},{"$f":"IF(ISNA(VLOOKUP($A160,SURFSKI!AC$8:AI$53,7,0)),\"\",VLOOKUP($A160,SURFSKI!AC$8:AI$53,7,0))","v":""},{"$f":"IF($A160=\"\",\"\",VLOOKUP($A160,INSCRITS!$D$4:$W$506,15,0))","v":""},{"$f":"IF(ISNA(VLOOKUP($A160,OCEANMAN!AD$7:AJ$52,6,0)),\"\",VLOOKUP($A160,OCEANMAN!AD$7:AJ$52,6,0))","v":""},{"$f":"IF(ISNA(VLOOKUP($A160,OCEANMAN!AD$7:AJ$52,7,0)),\"\",VLOOKUP($A160,OCEANMAN!AD$7:AJ$52,7,0))","v":""},{"$f":"IF($A160=\"\",\"\",VLOOKUP($A160,INSCRITS!$D$4:$W$506,16,0))","v":""},{"$f":"IF(ISNA(VLOOKUP($A160,CNC!N$7:AC$52,6,0)),\"\",VLOOKUP($A160,CNC!N$7:AC$52,6,0))","v":""},{"$f":"IF(ISNA(VLOOKUP($A160,CNC!N$7:AC$52,7,0)),\"\",VLOOKUP($A160,CNC!N$7:AC$52,7,0))","v":""},0,{"$f":"IF($A160=\"\",\"\",VLOOKUP($A160,INSCRITS!$D$4:$W$506,16,0))","v":""},null,{"$f":"IF(AG160=\"\",\"\",VLOOKUP(AG160,[0]!Relais,2))","v":""},{"$f":"IF($A160=\"\",\"\",VLOOKUP($A160,INSCRITS!$D$4:$W$506,17,0))","v":""},null,{"$f":"IF(AJ160=\"\",\"\",VLOOKUP(AJ160,[0]!Relais,2))","v":""},{"$f":"IF($A160=\"\",\"\",VLOOKUP($A160,INSCRITS!$D$4:$W$506,18,0))","v":""},null,{"$f":"IF(AM160=\"\",\"\",VLOOKUP(AM160,[0]!Relais,2))","v":""},{"$f":"IF($A160=\"\",\"\",VLOOKUP($A160,INSCRITS!$D$4:$W$506,19,0))","v":""},null,{"$f":"IF(AP160=\"\",\"\",VLOOKUP(AP160,[0]!Relais,2))","v":""},0,0]
[null,null,null,{"$f":"IF($A161=\"\",\"\",VLOOKUP($A161,INSCRITS!$D$4:$W$501,4,0))","v":""},{"$f":"IF($A161=\"\",\"\",VLOOKUP($A161,INSCRITS!$D$4:$W$501,5,0))","v":""},{"$f":"IF($A161=\"\",\"\",VLOOKUP($A161,INSCRITS!$D$4:$W$501,6,0))","v":""},{"$f":"IF($A161=\"\",\"\",VLOOKUP($A161,INSCRITS!$D$4:$W$501,7,0))","v":""},{"$f":"IF($A161=\"\",\"\",VLOOKUP($A161,INSCRITS!$D$4:$W$501,8,0))","v":""},{"$f":"IF($A161=\"\",\"\",VLOOKUP($A161,INSCRITS!$D$4:$W$501,9,0))","v":""},{"$f":"IF($A161=\"\",\"\",VLOOKUP($A161,INSCRITS!$D$4:$W$506,10,0))","v":""},{"$f":"IF(ISNA(VLOOKUP($A161,SPRINT!AD$7:AJ$50,6,0)),\"\",VLOOKUP($A161,SPRINT!AD$7:AJ$50,6,0))","v":""},{"$f":"IF(ISNA(VLOOKUP($A161,SPRINT!AD$7:AJ$50,7,0)),\"\",VLOOKUP($A161,SPRINT!AD$7:AJ$50,7,0))","v":""},{"$f":"IF($A161=\"\",\"\",VLOOKUP($A161,INSCRITS!$D$4:$W$506,11,0))","v":""},{"$f":"IF(ISNA(VLOOKUP($A161,BATONS!AD$7:AJ$51,6,0)),\"\",VLOOKUP($A161,BATONS!AD$7:AJ$51,6,0))","v":""},{"$f":"IF(ISNA(VLOOKUP($A161,BATONS!AD$7:AJ$51,7,0)),\"\",VLOOKUP($A161,BATONS!AD$7:AJ$51,7,0))","v":""},{"$f":"IF($A161=\"\",\"\",VLOOKUP($A161,INSCRITS!$D$4:$W$506,12,0))","v":""},{"$f":"IF(ISNA(VLOOKUP($A161,PLANCHE!AC$7:AI$52,6,0)),\"\",VLOOKUP($A161,PLANCHE!AC$7:AI$52,6,0))","v":""},{"$f":"IF(ISNA(VLOOKUP($A161,PLANCHE!AC$7:AI$52,7,0)),\"\",VLOOKUP($A161,PLANCHE!AC$7:AI$52,7,0))","v":""},{"$f":"IF($A161=\"\",\"\",VLOOKUP($A161,INSCRITS!$D$4:$W$506,13,0))","v":""},{"$f":"IF(ISNA(VLOOKUP($A161,NAGE!N$7:T$52,6,0)),\"\",VLOOKUP($A161,NAGE!N$7:T$52,6,0))","v":""},{"$f":"IF(ISNA(VLOOKUP($A161,NAGE!N$7:T$52,7,0)),\"\",VLOOKUP($A161,NAGE!N$7:T$52,7,0))","v":""},{"$f":"IF($A161=\"\",\"\",VLOOKUP($A161,INSCRITS!$D$4:$W$506,14,0))","v":""},{"$f":"IF(ISNA(VLOOKUP($A161,SURFSKI!AC$8:AI$53,6,0)),\"\",VLOOKUP($A161,SURFSKI!AC$8:AI$53,6,0))","v":""},{"$f":"IF(ISNA(VLOOKUP($A161,SURFSKI!AC$8:AI$53,7,0)),\"\",VLOOKUP($A161,SURFSKI!AC$8:AI$53,7,0))","v":""},{"$f":"IF($A161=\"\",\"\",VLOOKUP($A161,INSCRITS!$D$4:$W$506,15,0))","v":""},{"$f":"IF(ISNA(VLOOKUP($A161,OCEANMAN!AD$7:AJ$52,6,0)),\"\",VLOOKUP($A161,OCEANMAN!AD$7:AJ$52,6,0))","v":""},{"$f":"IF(ISNA(VLOOKUP($A161,OCEANMAN!AD$7:AJ$52,7,0)),\"\",VLOOKUP($A161,OCEANMAN!AD$7:AJ$52,7,0))","v":""},{"$f":"IF($A161=\"\",\"\",VLOOKUP($A161,INSCRITS!$D$4:$W$506,16,0))","v":""},{"$f":"IF(ISNA(VLOOKUP($A161,CNC!N$7:AC$52,6,0)),\"\",VLOOKUP($A161,CNC!N$7:AC$52,6,0))","v":""},{"$f":"IF(ISNA(VLOOKUP($A161,CNC!N$7:AC$52,7,0)),\"\",VLOOKUP($A161,CNC!N$7:AC$52,7,0))","v":""},0,{"$f":"IF($A161=\"\",\"\",VLOOKUP($A161,INSCRITS!$D$4:$W$506,16,0))","v":""},null,{"$f":"IF(AG161=\"\",\"\",VLOOKUP(AG161,[0]!Relais,2))","v":""},{"$f":"IF($A161=\"\",\"\",VLOOKUP($A161,INSCRITS!$D$4:$W$506,17,0))","v":""},null,{"$f":"IF(AJ161=\"\",\"\",VLOOKUP(AJ161,[0]!Relais,2))","v":""},{"$f":"IF($A161=\"\",\"\",VLOOKUP($A161,INSCRITS!$D$4:$W$506,18,0))","v":""},null,{"$f":"IF(AM161=\"\",\"\",VLOOKUP(AM161,[0]!Relais,2))","v":""},{"$f":"IF($A161=\"\",\"\",VLOOKUP($A161,INSCRITS!$D$4:$W$506,19,0))","v":""},null,{"$f":"IF(AP161=\"\",\"\",VLOOKUP(AP161,[0]!Relais,2))","v":""},0,0]
[null,null,null,{"$f":"IF($A162=\"\",\"\",VLOOKUP($A162,INSCRITS!$D$4:$W$501,4,0))","v":""},{"$f":"IF($A162=\"\",\"\",VLOOKUP($A162,INSCRITS!$D$4:$W$501,5,0))","v":""},{"$f":"IF($A162=\"\",\"\",VLOOKUP($A162,INSCRITS!$D$4:$W$501,6,0))","v":""},{"$f":"IF($A162=\"\",\"\",VLOOKUP($A162,INSCRITS!$D$4:$W$501,7,0))","v":""},{"$f":"IF($A162=\"\",\"\",VLOOKUP($A162,INSCRITS!$D$4:$W$501,8,0))","v":""},{"$f":"IF($A162=\"\",\"\",VLOOKUP($A162,INSCRITS!$D$4:$W$501,9,0))","v":""},{"$f":"IF($A162=\"\",\"\",VLOOKUP($A162,INSCRITS!$D$4:$W$506,10,0))","v":""},{"$f":"IF(ISNA(VLOOKUP($A162,SPRINT!AD$7:AJ$50,6,0)),\"\",VLOOKUP($A162,SPRINT!AD$7:AJ$50,6,0))","v":""},{"$f":"IF(ISNA(VLOOKUP($A162,SPRINT!AD$7:AJ$50,7,0)),\"\",VLOOKUP($A162,SPRINT!AD$7:AJ$50,7,0))","v":""},{"$f":"IF($A162=\"\",\"\",VLOOKUP($A162,INSCRITS!$D$4:$W$506,11,0))","v":""},{"$f":"IF(ISNA(VLOOKUP($A162,BATONS!AD$7:AJ$51,6,0)),\"\",VLOOKUP($A162,BATONS!AD$7:AJ$51,6,0))","v":""},{"$f":"IF(ISNA(VLOOKUP($A162,BATONS!AD$7:AJ$51,7,0)),\"\",VLOOKUP($A162,BATONS!AD$7:AJ$51,7,0))","v":""},{"$f":"IF($A162=\"\",\"\",VLOOKUP($A162,INSCRITS!$D$4:$W$506,12,0))","v":""},{"$f":"IF(ISNA(VLOOKUP($A162,PLANCHE!AC$7:AI$52,6,0)),\"\",VLOOKUP($A162,PLANCHE!AC$7:AI$52,6,0))","v":""},{"$f":"IF(ISNA(VLOOKUP($A162,PLANCHE!AC$7:AI$52,7,0)),\"\",VLOOKUP($A162,PLANCHE!AC$7:AI$52,7,0))","v":""},{"$f":"IF($A162=\"\",\"\",VLOOKUP($A162,INSCRITS!$D$4:$W$506,13,0))","v":""},{"$f":"IF(ISNA(VLOOKUP($A162,NAGE!N$7:T$52,6,0)),\"\",VLOOKUP($A162,NAGE!N$7:T$52,6,0))","v":""},{"$f":"IF(ISNA(VLOOKUP($A162,NAGE!N$7:T$52,7,0)),\"\",VLOOKUP($A162,NAGE!N$7:T$52,7,0))","v":""},{"$f":"IF($A162=\"\",\"\",VLOOKUP($A162,INSCRITS!$D$4:$W$506,14,0))","v":""},{"$f":"IF(ISNA(VLOOKUP($A162,SURFSKI!AC$8:AI$53,6,0)),\"\",VLOOKUP($A162,SURFSKI!AC$8:AI$53,6,0))","v":""},{"$f":"IF(ISNA(VLOOKUP($A162,SURFSKI!AC$8:AI$53,7,0)),\"\",VLOOKUP($A162,SURFSKI!AC$8:AI$53,7,0))","v":""},{"$f":"IF($A162=\"\",\"\",VLOOKUP($A162,INSCRITS!$D$4:$W$506,15,0))","v":""},{"$f":"IF(ISNA(VLOOKUP($A162,OCEANMAN!AD$7:AJ$52,6,0)),\"\",VLOOKUP($A162,OCEANMAN!AD$7:AJ$52,6,0))","v":""},{"$f":"IF(ISNA(VLOOKUP($A162,OCEANMAN!AD$7:AJ$52,7,0)),\"\",VLOOKUP($A162,OCEANMAN!AD$7:AJ$52,7,0))","v":""},{"$f":"IF($A162=\"\",\"\",VLOOKUP($A162,INSCRITS!$D$4:$W$506,16,0))","v":""},{"$f":"IF(ISNA(VLOOKUP($A162,CNC!N$7:AC$52,6,0)),\"\",VLOOKUP($A162,CNC!N$7:AC$52,6,0))","v":""},{"$f":"IF(ISNA(VLOOKUP($A162,CNC!N$7:AC$52,7,0)),\"\",VLOOKUP($A162,CNC!N$7:AC$52,7,0))","v":""},0,{"$f":"IF($A162=\"\",\"\",VLOOKUP($A162,INSCRITS!$D$4:$W$506,16,0))","v":""},null,{"$f":"IF(AG162=\"\",\"\",VLOOKUP(AG162,[0]!Relais,2))","v":""},{"$f":"IF($A162=\"\",\"\",VLOOKUP($A162,INSCRITS!$D$4:$W$506,17,0))","v":""},null,{"$f":"IF(AJ162=\"\",\"\",VLOOKUP(AJ162,[0]!Relais,2))","v":""},{"$f":"IF($A162=\"\",\"\",VLOOKUP($A162,INSCRITS!$D$4:$W$506,18,0))","v":""},null,{"$f":"IF(AM162=\"\",\"\",VLOOKUP(AM162,[0]!Relais,2))","v":""},{"$f":"IF($A162=\"\",\"\",VLOOKUP($A162,INSCRITS!$D$4:$W$506,19,0))","v":""},null,{"$f":"IF(AP162=\"\",\"\",VLOOKUP(AP162,[0]!Relais,2))","v":""},0,0]
[null,null,null,{"$f":"IF($A163=\"\",\"\",VLOOKUP($A163,INSCRITS!$D$4:$W$501,4,0))","v":""},{"$f":"IF($A163=\"\",\"\",VLOOKUP($A163,INSCRITS!$D$4:$W$501,5,0))","v":""},{"$f":"IF($A163=\"\",\"\",VLOOKUP($A163,INSCRITS!$D$4:$W$501,6,0))","v":""},{"$f":"IF($A163=\"\",\"\",VLOOKUP($A163,INSCRITS!$D$4:$W$501,7,0))","v":""},{"$f":"IF($A163=\"\",\"\",VLOOKUP($A163,INSCRITS!$D$4:$W$501,8,0))","v":""},{"$f":"IF($A163=\"\",\"\",VLOOKUP($A163,INSCRITS!$D$4:$W$501,9,0))","v":""},{"$f":"IF($A163=\"\",\"\",VLOOKUP($A163,INSCRITS!$D$4:$W$506,10,0))","v":""},{"$f":"IF(ISNA(VLOOKUP($A163,SPRINT!AD$7:AJ$50,6,0)),\"\",VLOOKUP($A163,SPRINT!AD$7:AJ$50,6,0))","v":""},{"$f":"IF(ISNA(VLOOKUP($A163,SPRINT!AD$7:AJ$50,7,0)),\"\",VLOOKUP($A163,SPRINT!AD$7:AJ$50,7,0))","v":""},{"$f":"IF($A163=\"\",\"\",VLOOKUP($A163,INSCRITS!$D$4:$W$506,11,0))","v":""},{"$f":"IF(ISNA(VLOOKUP($A163,BATONS!AD$7:AJ$51,6,0)),\"\",VLOOKUP($A163,BATONS!AD$7:AJ$51,6,0))","v":""},{"$f":"IF(ISNA(VLOOKUP($A163,BATONS!AD$7:AJ$51,7,0)),\"\",VLOOKUP($A163,BATONS!AD$7:AJ$51,7,0))","v":""},{"$f":"IF($A163=\"\",\"\",VLOOKUP($A163,INSCRITS!$D$4:$W$506,12,0))","v":""},{"$f":"IF(ISNA(VLOOKUP($A163,PLANCHE!AC$7:AI$52,6,0)),\"\",VLOOKUP($A163,PLANCHE!AC$7:AI$52,6,0))","v":""},{"$f":"IF(ISNA(VLOOKUP($A163,PLANCHE!AC$7:AI$52,7,0)),\"\",VLOOKUP($A163,PLANCHE!AC$7:AI$52,7,0))","v":""},{"$f":"IF($A163=\"\",\"\",VLOOKUP($A163,INSCRITS!$D$4:$W$506,13,0))","v":""},{"$f":"IF(ISNA(VLOOKUP($A163,NAGE!N$7:T$52,6,0)),\"\",VLOOKUP($A163,NAGE!N$7:T$52,6,0))","v":""},{"$f":"IF(ISNA(VLOOKUP($A163,NAGE!N$7:T$52,7,0)),\"\",VLOOKUP($A163,NAGE!N$7:T$52,7,0))","v":""},{"$f":"IF($A163=\"\",\"\",VLOOKUP($A163,INSCRITS!$D$4:$W$506,14,0))","v":""},{"$f":"IF(ISNA(VLOOKUP($A163,SURFSKI!AC$8:AI$53,6,0)),\"\",VLOOKUP($A163,SURFSKI!AC$8:AI$53,6,0))","v":""},{"$f":"IF(ISNA(VLOOKUP($A163,SURFSKI!AC$8:AI$53,7,0)),\"\",VLOOKUP($A163,SURFSKI!AC$8:AI$53,7,0))","v":""},{"$f":"IF($A163=\"\",\"\",VLOOKUP($A163,INSCRITS!$D$4:$W$506,15,0))","v":""},{"$f":"IF(ISNA(VLOOKUP($A163,OCEANMAN!AD$7:AJ$52,6,0)),\"\",VLOOKUP($A163,OCEANMAN!AD$7:AJ$52,6,0))","v":""},{"$f":"IF(ISNA(VLOOKUP($A163,OCEANMAN!AD$7:AJ$52,7,0)),\"\",VLOOKUP($A163,OCEANMAN!AD$7:AJ$52,7,0))","v":""},{"$f":"IF($A163=\"\",\"\",VLOOKUP($A163,INSCRITS!$D$4:$W$506,16,0))","v":""},{"$f":"IF(ISNA(VLOOKUP($A163,CNC!N$7:AC$52,6,0)),\"\",VLOOKUP($A163,CNC!N$7:AC$52,6,0))","v":""},{"$f":"IF(ISNA(VLOOKUP($A163,CNC!N$7:AC$52,7,0)),\"\",VLOOKUP($A163,CNC!N$7:AC$52,7,0))","v":""},0,{"$f":"IF($A163=\"\",\"\",VLOOKUP($A163,INSCRITS!$D$4:$W$506,16,0))","v":""},null,{"$f":"IF(AG163=\"\",\"\",VLOOKUP(AG163,[0]!Relais,2))","v":""},{"$f":"IF($A163=\"\",\"\",VLOOKUP($A163,INSCRITS!$D$4:$W$506,17,0))","v":""},null,{"$f":"IF(AJ163=\"\",\"\",VLOOKUP(AJ163,[0]!Relais,2))","v":""},{"$f":"IF($A163=\"\",\"\",VLOOKUP($A163,INSCRITS!$D$4:$W$506,18,0))","v":""},null,{"$f":"IF(AM163=\"\",\"\",VLOOKUP(AM163,[0]!Relais,2))","v":""},{"$f":"IF($A163=\"\",\"\",VLOOKUP($A163,INSCRITS!$D$4:$W$506,19,0))","v":""},null,{"$f":"IF(AP163=\"\",\"\",VLOOKUP(AP163,[0]!Relais,2))","v":""},0,0]
[null,null,null,{"$f":"IF($A164=\"\",\"\",VLOOKUP($A164,INSCRITS!$D$4:$W$501,4,0))","v":""},{"$f":"IF($A164=\"\",\"\",VLOOKUP($A164,INSCRITS!$D$4:$W$501,5,0))","v":""},{"$f":"IF($A164=\"\",\"\",VLOOKUP($A164,INSCRITS!$D$4:$W$501,6,0))","v":""},{"$f":"IF($A164=\"\",\"\",VLOOKUP($A164,INSCRITS!$D$4:$W$501,7,0))","v":""},{"$f":"IF($A164=\"\",\"\",VLOOKUP($A164,INSCRITS!$D$4:$W$501,8,0))","v":""},{"$f":"IF($A164=\"\",\"\",VLOOKUP($A164,INSCRITS!$D$4:$W$501,9,0))","v":""},{"$f":"IF($A164=\"\",\"\",VLOOKUP($A164,INSCRITS!$D$4:$W$506,10,0))","v":""},{"$f":"IF(ISNA(VLOOKUP($A164,SPRINT!AD$7:AJ$50,6,0)),\"\",VLOOKUP($A164,SPRINT!AD$7:AJ$50,6,0))","v":""},{"$f":"IF(ISNA(VLOOKUP($A164,SPRINT!AD$7:AJ$50,7,0)),\"\",VLOOKUP($A164,SPRINT!AD$7:AJ$50,7,0))","v":""},{"$f":"IF($A164=\"\",\"\",VLOOKUP($A164,INSCRITS!$D$4:$W$506,11,0))","v":""},{"$f":"IF(ISNA(VLOOKUP($A164,BATONS!AD$7:AJ$51,6,0)),\"\",VLOOKUP($A164,BATONS!AD$7:AJ$51,6,0))","v":""},{"$f":"IF(ISNA(VLOOKUP($A164,BATONS!AD$7:AJ$51,7,0)),\"\",VLOOKUP($A164,BATONS!AD$7:AJ$51,7,0))","v":""},{"$f":"IF($A164=\"\",\"\",VLOOKUP($A164,INSCRITS!$D$4:$W$506,12,0))","v":""},{"$f":"IF(ISNA(VLOOKUP($A164,PLANCHE!AC$7:AI$52,6,0)),\"\",VLOOKUP($A164,PLANCHE!AC$7:AI$52,6,0))","v":""},{"$f":"IF(ISNA(VLOOKUP($A164,PLANCHE!AC$7:AI$52,7,0)),\"\",VLOOKUP($A164,PLANCHE!AC$7:AI$52,7,0))","v":""},{"$f":"IF($A164=\"\",\"\",VLOOKUP($A164,INSCRITS!$D$4:$W$506,13,0))","v":""},{"$f":"IF(ISNA(VLOOKUP($A164,NAGE!N$7:T$52,6,0)),\"\",VLOOKUP($A164,NAGE!N$7:T$52,6,0))","v":""},{"$f":"IF(ISNA(VLOOKUP($A164,NAGE!N$7:T$52,7,0)),\"\",VLOOKUP($A164,NAGE!N$7:T$52,7,0))","v":""},{"$f":"IF($A164=\"\",\"\",VLOOKUP($A164,INSCRITS!$D$4:$W$506,14,0))","v":""},{"$f":"IF(ISNA(VLOOKUP($A164,SURFSKI!AC$8:AI$53,6,0)),\"\",VLOOKUP($A164,SURFSKI!AC$8:AI$53,6,0))","v":""},{"$f":"IF(ISNA(VLOOKUP($A164,SURFSKI!AC$8:AI$53,7,0)),\"\",VLOOKUP($A164,SURFSKI!AC$8:AI$53,7,0))","v":""},{"$f":"IF($A164=\"\",\"\",VLOOKUP($A164,INSCRITS!$D$4:$W$506,15,0))","v":""},{"$f":"IF(ISNA(VLOOKUP($A164,OCEANMAN!AD$7:AJ$52,6,0)),\"\",VLOOKUP($A164,OCEANMAN!AD$7:AJ$52,6,0))","v":""},{"$f":"IF(ISNA(VLOOKUP($A164,OCEANMAN!AD$7:AJ$52,7,0)),\"\",VLOOKUP($A164,OCEANMAN!AD$7:AJ$52,7,0))","v":""},{"$f":"IF($A164=\"\",\"\",VLOOKUP($A164,INSCRITS!$D$4:$W$506,16,0))","v":""},{"$f":"IF(ISNA(VLOOKUP($A164,CNC!N$7:AC$52,6,0)),\"\",VLOOKUP($A164,CNC!N$7:AC$52,6,0))","v":""},{"$f":"IF(ISNA(VLOOKUP($A164,CNC!N$7:AC$52,7,0)),\"\",VLOOKUP($A164,CNC!N$7:AC$52,7,0))","v":""},0,{"$f":"IF($A164=\"\",\"\",VLOOKUP($A164,INSCRITS!$D$4:$W$506,16,0))","v":""},null,{"$f":"IF(AG164=\"\",\"\",VLOOKUP(AG164,[0]!Relais,2))","v":""},{"$f":"IF($A164=\"\",\"\",VLOOKUP($A164,INSCRITS!$D$4:$W$506,17,0))","v":""},null,{"$f":"IF(AJ164=\"\",\"\",VLOOKUP(AJ164,[0]!Relais,2))","v":""},{"$f":"IF($A164=\"\",\"\",VLOOKUP($A164,INSCRITS!$D$4:$W$506,18,0))","v":""},null,{"$f":"IF(AM164=\"\",\"\",VLOOKUP(AM164,[0]!Relais,2))","v":""},{"$f":"IF($A164=\"\",\"\",VLOOKUP($A164,INSCRITS!$D$4:$W$506,19,0))","v":""},null,{"$f":"IF(AP164=\"\",\"\",VLOOKUP(AP164,[0]!Relais,2))","v":""},0,0]
[null,null,null,{"$f":"IF($A165=\"\",\"\",VLOOKUP($A165,INSCRITS!$D$4:$W$501,4,0))","v":""},{"$f":"IF($A165=\"\",\"\",VLOOKUP($A165,INSCRITS!$D$4:$W$501,5,0))","v":""},{"$f":"IF($A165=\"\",\"\",VLOOKUP($A165,INSCRITS!$D$4:$W$501,6,0))","v":""},{"$f":"IF($A165=\"\",\"\",VLOOKUP($A165,INSCRITS!$D$4:$W$501,7,0))","v":""},{"$f":"IF($A165=\"\",\"\",VLOOKUP($A165,INSCRITS!$D$4:$W$501,8,0))","v":""},{"$f":"IF($A165=\"\",\"\",VLOOKUP($A165,INSCRITS!$D$4:$W$501,9,0))","v":""},{"$f":"IF($A165=\"\",\"\",VLOOKUP($A165,INSCRITS!$D$4:$W$506,10,0))","v":""},{"$f":"IF(ISNA(VLOOKUP($A165,SPRINT!AD$7:AJ$50,6,0)),\"\",VLOOKUP($A165,SPRINT!AD$7:AJ$50,6,0))","v":""},{"$f":"IF(ISNA(VLOOKUP($A165,SPRINT!AD$7:AJ$50,7,0)),\"\",VLOOKUP($A165,SPRINT!AD$7:AJ$50,7,0))","v":""},{"$f":"IF($A165=\"\",\"\",VLOOKUP($A165,INSCRITS!$D$4:$W$506,11,0))","v":""},{"$f":"IF(ISNA(VLOOKUP($A165,BATONS!AD$7:AJ$51,6,0)),\"\",VLOOKUP($A165,BATONS!AD$7:AJ$51,6,0))","v":""},{"$f":"IF(ISNA(VLOOKUP($A165,BATONS!AD$7:AJ$51,7,0)),\"\",VLOOKUP($A165,BATONS!AD$7:AJ$51,7,0))","v":""},{"$f":"IF($A165=\"\",\"\",VLOOKUP($A165,INSCRITS!$D$4:$W$506,12,0))","v":""},{"$f":"IF(ISNA(VLOOKUP($A165,PLANCHE!AC$7:AI$52,6,0)),\"\",VLOOKUP($A165,PLANCHE!AC$7:AI$52,6,0))","v":""},{"$f":"IF(ISNA(VLOOKUP($A165,PLANCHE!AC$7:AI$52,7,0)),\"\",VLOOKUP($A165,PLANCHE!AC$7:AI$52,7,0))","v":""},{"$f":"IF($A165=\"\",\"\",VLOOKUP($A165,INSCRITS!$D$4:$W$506,13,0))","v":""},{"$f":"IF(ISNA(VLOOKUP($A165,NAGE!N$7:T$52,6,0)),\"\",VLOOKUP($A165,NAGE!N$7:T$52,6,0))","v":""},{"$f":"IF(ISNA(VLOOKUP($A165,NAGE!N$7:T$52,7,0)),\"\",VLOOKUP($A165,NAGE!N$7:T$52,7,0))","v":""},{"$f":"IF($A165=\"\",\"\",VLOOKUP($A165,INSCRITS!$D$4:$W$506,14,0))","v":""},{"$f":"IF(ISNA(VLOOKUP($A165,SURFSKI!AC$8:AI$53,6,0)),\"\",VLOOKUP($A165,SURFSKI!AC$8:AI$53,6,0))","v":""},{"$f":"IF(ISNA(VLOOKUP($A165,SURFSKI!AC$8:AI$53,7,0)),\"\",VLOOKUP($A165,SURFSKI!AC$8:AI$53,7,0))","v":""},{"$f":"IF($A165=\"\",\"\",VLOOKUP($A165,INSCRITS!$D$4:$W$506,15,0))","v":""},{"$f":"IF(ISNA(VLOOKUP($A165,OCEANMAN!AD$7:AJ$52,6,0)),\"\",VLOOKUP($A165,OCEANMAN!AD$7:AJ$52,6,0))","v":""},{"$f":"IF(ISNA(VLOOKUP($A165,OCEANMAN!AD$7:AJ$52,7,0)),\"\",VLOOKUP($A165,OCEANMAN!AD$7:AJ$52,7,0))","v":""},{"$f":"IF($A165=\"\",\"\",VLOOKUP($A165,INSCRITS!$D$4:$W$506,16,0))","v":""},{"$f":"IF(ISNA(VLOOKUP($A165,CNC!N$7:AC$52,6,0)),\"\",VLOOKUP($A165,CNC!N$7:AC$52,6,0))","v":""},{"$f":"IF(ISNA(VLOOKUP($A165,CNC!N$7:AC$52,7,0)),\"\",VLOOKUP($A165,CNC!N$7:AC$52,7,0))","v":""},0,{"$f":"IF($A165=\"\",\"\",VLOOKUP($A165,INSCRITS!$D$4:$W$506,16,0))","v":""},null,{"$f":"IF(AG165=\"\",\"\",VLOOKUP(AG165,[0]!Relais,2))","v":""},{"$f":"IF($A165=\"\",\"\",VLOOKUP($A165,INSCRITS!$D$4:$W$506,17,0))","v":""},null,{"$f":"IF(AJ165=\"\",\"\",VLOOKUP(AJ165,[0]!Relais,2))","v":""},{"$f":"IF($A165=\"\",\"\",VLOOKUP($A165,INSCRITS!$D$4:$W$506,18,0))","v":""},null,{"$f":"IF(AM165=\"\",\"\",VLOOKUP(AM165,[0]!Relais,2))","v":""},{"$f":"IF($A165=\"\",\"\",VLOOKUP($A165,INSCRITS!$D$4:$W$506,19,0))","v":""},null,{"$f":"IF(AP165=\"\",\"\",VLOOKUP(AP165,[0]!Relais,2))","v":""},0,0]
[null,null,null,{"$f":"IF($A166=\"\",\"\",VLOOKUP($A166,INSCRITS!$D$4:$W$501,4,0))","v":""},{"$f":"IF($A166=\"\",\"\",VLOOKUP($A166,INSCRITS!$D$4:$W$501,5,0))","v":""},{"$f":"IF($A166=\"\",\"\",VLOOKUP($A166,INSCRITS!$D$4:$W$501,6,0))","v":""},{"$f":"IF($A166=\"\",\"\",VLOOKUP($A166,INSCRITS!$D$4:$W$501,7,0))","v":""},{"$f":"IF($A166=\"\",\"\",VLOOKUP($A166,INSCRITS!$D$4:$W$501,8,0))","v":""},{"$f":"IF($A166=\"\",\"\",VLOOKUP($A166,INSCRITS!$D$4:$W$501,9,0))","v":""},{"$f":"IF($A166=\"\",\"\",VLOOKUP($A166,INSCRITS!$D$4:$W$506,10,0))","v":""},{"$f":"IF(ISNA(VLOOKUP($A166,SPRINT!AD$7:AJ$50,6,0)),\"\",VLOOKUP($A166,SPRINT!AD$7:AJ$50,6,0))","v":""},{"$f":"IF(ISNA(VLOOKUP($A166,SPRINT!AD$7:AJ$50,7,0)),\"\",VLOOKUP($A166,SPRINT!AD$7:AJ$50,7,0))","v":""},{"$f":"IF($A166=\"\",\"\",VLOOKUP($A166,INSCRITS!$D$4:$W$506,11,0))","v":""},{"$f":"IF(ISNA(VLOOKUP($A166,BATONS!AD$7:AJ$51,6,0)),\"\",VLOOKUP($A166,BATONS!AD$7:AJ$51,6,0))","v":""},{"$f":"IF(ISNA(VLOOKUP($A166,BATONS!AD$7:AJ$51,7,0)),\"\",VLOOKUP($A166,BATONS!AD$7:AJ$51,7,0))","v":""},{"$f":"IF($A166=\"\",\"\",VLOOKUP($A166,INSCRITS!$D$4:$W$506,12,0))","v":""},{"$f":"IF(ISNA(VLOOKUP($A166,PLANCHE!AC$7:AI$52,6,0)),\"\",VLOOKUP($A166,PLANCHE!AC$7:AI$52,6,0))","v":""},{"$f":"IF(ISNA(VLOOKUP($A166,PLANCHE!AC$7:AI$52,7,0)),\"\",VLOOKUP($A166,PLANCHE!AC$7:AI$52,7,0))","v":""},{"$f":"IF($A166=\"\",\"\",VLOOKUP($A166,INSCRITS!$D$4:$W$506,13,0))","v":""},{"$f":"IF(ISNA(VLOOKUP($A166,NAGE!N$7:T$52,6,0)),\"\",VLOOKUP($A166,NAGE!N$7:T$52,6,0))","v":""},{"$f":"IF(ISNA(VLOOKUP($A166,NAGE!N$7:T$52,7,0)),\"\",VLOOKUP($A166,NAGE!N$7:T$52,7,0))","v":""},{"$f":"IF($A166=\"\",\"\",VLOOKUP($A166,INSCRITS!$D$4:$W$506,14,0))","v":""},{"$f":"IF(ISNA(VLOOKUP($A166,SURFSKI!AC$8:AI$53,6,0)),\"\",VLOOKUP($A166,SURFSKI!AC$8:AI$53,6,0))","v":""},{"$f":"IF(ISNA(VLOOKUP($A166,SURFSKI!AC$8:AI$53,7,0)),\"\",VLOOKUP($A166,SURFSKI!AC$8:AI$53,7,0))","v":""},{"$f":"IF($A166=\"\",\"\",VLOOKUP($A166,INSCRITS!$D$4:$W$506,15,0))","v":""},{"$f":"IF(ISNA(VLOOKUP($A166,OCEANMAN!AD$7:AJ$52,6,0)),\"\",VLOOKUP($A166,OCEANMAN!AD$7:AJ$52,6,0))","v":""},{"$f":"IF(ISNA(VLOOKUP($A166,OCEANMAN!AD$7:AJ$52,7,0)),\"\",VLOOKUP($A166,OCEANMAN!AD$7:AJ$52,7,0))","v":""},{"$f":"IF($A166=\"\",\"\",VLOOKUP($A166,INSCRITS!$D$4:$W$506,16,0))","v":""},{"$f":"IF(ISNA(VLOOKUP($A166,CNC!N$7:AC$52,6,0)),\"\",VLOOKUP($A166,CNC!N$7:AC$52,6,0))","v":""},{"$f":"IF(ISNA(VLOOKUP($A166,CNC!N$7:AC$52,7,0)),\"\",VLOOKUP($A166,CNC!N$7:AC$52,7,0))","v":""},0,{"$f":"IF($A166=\"\",\"\",VLOOKUP($A166,INSCRITS!$D$4:$W$506,16,0))","v":""},null,{"$f":"IF(AG166=\"\",\"\",VLOOKUP(AG166,[0]!Relais,2))","v":""},{"$f":"IF($A166=\"\",\"\",VLOOKUP($A166,INSCRITS!$D$4:$W$506,17,0))","v":""},null,{"$f":"IF(AJ166=\"\",\"\",VLOOKUP(AJ166,[0]!Relais,2))","v":""},{"$f":"IF($A166=\"\",\"\",VLOOKUP($A166,INSCRITS!$D$4:$W$506,18,0))","v":""},null,{"$f":"IF(AM166=\"\",\"\",VLOOKUP(AM166,[0]!Relais,2))","v":""},{"$f":"IF($A166=\"\",\"\",VLOOKUP($A166,INSCRITS!$D$4:$W$506,19,0))","v":""},null,{"$f":"IF(AP166=\"\",\"\",VLOOKUP(AP166,[0]!Relais,2))","v":""},0,0]
[null,null,null,{"$f":"IF($A167=\"\",\"\",VLOOKUP($A167,INSCRITS!$D$4:$W$501,4,0))","v":""},{"$f":"IF($A167=\"\",\"\",VLOOKUP($A167,INSCRITS!$D$4:$W$501,5,0))","v":""},{"$f":"IF($A167=\"\",\"\",VLOOKUP($A167,INSCRITS!$D$4:$W$501,6,0))","v":""},{"$f":"IF($A167=\"\",\"\",VLOOKUP($A167,INSCRITS!$D$4:$W$501,7,0))","v":""},{"$f":"IF($A167=\"\",\"\",VLOOKUP($A167,INSCRITS!$D$4:$W$501,8,0))","v":""},{"$f":"IF($A167=\"\",\"\",VLOOKUP($A167,INSCRITS!$D$4:$W$501,9,0))","v":""},{"$f":"IF($A167=\"\",\"\",VLOOKUP($A167,INSCRITS!$D$4:$W$506,10,0))","v":""},{"$f":"IF(ISNA(VLOOKUP($A167,SPRINT!AD$7:AJ$50,6,0)),\"\",VLOOKUP($A167,SPRINT!AD$7:AJ$50,6,0))","v":""},{"$f":"IF(ISNA(VLOOKUP($A167,SPRINT!AD$7:AJ$50,7,0)),\"\",VLOOKUP($A167,SPRINT!AD$7:AJ$50,7,0))","v":""},{"$f":"IF($A167=\"\",\"\",VLOOKUP($A167,INSCRITS!$D$4:$W$506,11,0))","v":""},{"$f":"IF(ISNA(VLOOKUP($A167,BATONS!AD$7:AJ$51,6,0)),\"\",VLOOKUP($A167,BATONS!AD$7:AJ$51,6,0))","v":""},{"$f":"IF(ISNA(VLOOKUP($A167,BATONS!AD$7:AJ$51,7,0)),\"\",VLOOKUP($A167,BATONS!AD$7:AJ$51,7,0))","v":""},{"$f":"IF($A167=\"\",\"\",VLOOKUP($A167,INSCRITS!$D$4:$W$506,12,0))","v":""},{"$f":"IF(ISNA(VLOOKUP($A167,PLANCHE!AC$7:AI$52,6,0)),\"\",VLOOKUP($A167,PLANCHE!AC$7:AI$52,6,0))","v":""},{"$f":"IF(ISNA(VLOOKUP($A167,PLANCHE!AC$7:AI$52,7,0)),\"\",VLOOKUP($A167,PLANCHE!AC$7:AI$52,7,0))","v":""},{"$f":"IF($A167=\"\",\"\",VLOOKUP($A167,INSCRITS!$D$4:$W$506,13,0))","v":""},{"$f":"IF(ISNA(VLOOKUP($A167,NAGE!N$7:T$52,6,0)),\"\",VLOOKUP($A167,NAGE!N$7:T$52,6,0))","v":""},{"$f":"IF(ISNA(VLOOKUP($A167,NAGE!N$7:T$52,7,0)),\"\",VLOOKUP($A167,NAGE!N$7:T$52,7,0))","v":""},{"$f":"IF($A167=\"\",\"\",VLOOKUP($A167,INSCRITS!$D$4:$W$506,14,0))","v":""},{"$f":"IF(ISNA(VLOOKUP($A167,SURFSKI!AC$8:AI$53,6,0)),\"\",VLOOKUP($A167,SURFSKI!AC$8:AI$53,6,0))","v":""},{"$f":"IF(ISNA(VLOOKUP($A167,SURFSKI!AC$8:AI$53,7,0)),\"\",VLOOKUP($A167,SURFSKI!AC$8:AI$53,7,0))","v":""},{"$f":"IF($A167=\"\",\"\",VLOOKUP($A167,INSCRITS!$D$4:$W$506,15,0))","v":""},{"$f":"IF(ISNA(VLOOKUP($A167,OCEANMAN!AD$7:AJ$52,6,0)),\"\",VLOOKUP($A167,OCEANMAN!AD$7:AJ$52,6,0))","v":""},{"$f":"IF(ISNA(VLOOKUP($A167,OCEANMAN!AD$7:AJ$52,7,0)),\"\",VLOOKUP($A167,OCEANMAN!AD$7:AJ$52,7,0))","v":""},{"$f":"IF($A167=\"\",\"\",VLOOKUP($A167,INSCRITS!$D$4:$W$506,16,0))","v":""},{"$f":"IF(ISNA(VLOOKUP($A167,CNC!N$7:AC$52,6,0)),\"\",VLOOKUP($A167,CNC!N$7:AC$52,6,0))","v":""},{"$f":"IF(ISNA(VLOOKUP($A167,CNC!N$7:AC$52,7,0)),\"\",VLOOKUP($A167,CNC!N$7:AC$52,7,0))","v":""},0,{"$f":"IF($A167=\"\",\"\",VLOOKUP($A167,INSCRITS!$D$4:$W$506,16,0))","v":""},null,{"$f":"IF(AG167=\"\",\"\",VLOOKUP(AG167,[0]!Relais,2))","v":""},{"$f":"IF($A167=\"\",\"\",VLOOKUP($A167,INSCRITS!$D$4:$W$506,17,0))","v":""},null,{"$f":"IF(AJ167=\"\",\"\",VLOOKUP(AJ167,[0]!Relais,2))","v":""},{"$f":"IF($A167=\"\",\"\",VLOOKUP($A167,INSCRITS!$D$4:$W$506,18,0))","v":""},null,{"$f":"IF(AM167=\"\",\"\",VLOOKUP(AM167,[0]!Relais,2))","v":""},{"$f":"IF($A167=\"\",\"\",VLOOKUP($A167,INSCRITS!$D$4:$W$506,19,0))","v":""},null,{"$f":"IF(AP167=\"\",\"\",VLOOKUP(AP167,[0]!Relais,2))","v":""},0,0]
[null,null,null,{"$f":"IF($A168=\"\",\"\",VLOOKUP($A168,INSCRITS!$D$4:$W$501,4,0))","v":""},{"$f":"IF($A168=\"\",\"\",VLOOKUP($A168,INSCRITS!$D$4:$W$501,5,0))","v":""},{"$f":"IF($A168=\"\",\"\",VLOOKUP($A168,INSCRITS!$D$4:$W$501,6,0))","v":""},{"$f":"IF($A168=\"\",\"\",VLOOKUP($A168,INSCRITS!$D$4:$W$501,7,0))","v":""},{"$f":"IF($A168=\"\",\"\",VLOOKUP($A168,INSCRITS!$D$4:$W$501,8,0))","v":""},{"$f":"IF($A168=\"\",\"\",VLOOKUP($A168,INSCRITS!$D$4:$W$501,9,0))","v":""},{"$f":"IF($A168=\"\",\"\",VLOOKUP($A168,INSCRITS!$D$4:$W$506,10,0))","v":""},{"$f":"IF(ISNA(VLOOKUP($A168,SPRINT!AD$7:AJ$50,6,0)),\"\",VLOOKUP($A168,SPRINT!AD$7:AJ$50,6,0))","v":""},{"$f":"IF(ISNA(VLOOKUP($A168,SPRINT!AD$7:AJ$50,7,0)),\"\",VLOOKUP($A168,SPRINT!AD$7:AJ$50,7,0))","v":""},{"$f":"IF($A168=\"\",\"\",VLOOKUP($A168,INSCRITS!$D$4:$W$506,11,0))","v":""},{"$f":"IF(ISNA(VLOOKUP($A168,BATONS!AD$7:AJ$51,6,0)),\"\",VLOOKUP($A168,BATONS!AD$7:AJ$51,6,0))","v":""},{"$f":"IF(ISNA(VLOOKUP($A168,BATONS!AD$7:AJ$51,7,0)),\"\",VLOOKUP($A168,BATONS!AD$7:AJ$51,7,0))","v":""},{"$f":"IF($A168=\"\",\"\",VLOOKUP($A168,INSCRITS!$D$4:$W$506,12,0))","v":""},{"$f":"IF(ISNA(VLOOKUP($A168,PLANCHE!AC$7:AI$52,6,0)),\"\",VLOOKUP($A168,PLANCHE!AC$7:AI$52,6,0))","v":""},{"$f":"IF(ISNA(VLOOKUP($A168,PLANCHE!AC$7:AI$52,7,0)),\"\",VLOOKUP($A168,PLANCHE!AC$7:AI$52,7,0))","v":""},{"$f":"IF($A168=\"\",\"\",VLOOKUP($A168,INSCRITS!$D$4:$W$506,13,0))","v":""},{"$f":"IF(ISNA(VLOOKUP($A168,NAGE!N$7:T$52,6,0)),\"\",VLOOKUP($A168,NAGE!N$7:T$52,6,0))","v":""},{"$f":"IF(ISNA(VLOOKUP($A168,NAGE!N$7:T$52,7,0)),\"\",VLOOKUP($A168,NAGE!N$7:T$52,7,0))","v":""},{"$f":"IF($A168=\"\",\"\",VLOOKUP($A168,INSCRITS!$D$4:$W$506,14,0))","v":""},{"$f":"IF(ISNA(VLOOKUP($A168,SURFSKI!AC$8:AI$53,6,0)),\"\",VLOOKUP($A168,SURFSKI!AC$8:AI$53,6,0))","v":""},{"$f":"IF(ISNA(VLOOKUP($A168,SURFSKI!AC$8:AI$53,7,0)),\"\",VLOOKUP($A168,SURFSKI!AC$8:AI$53,7,0))","v":""},{"$f":"IF($A168=\"\",\"\",VLOOKUP($A168,INSCRITS!$D$4:$W$506,15,0))","v":""},{"$f":"IF(ISNA(VLOOKUP($A168,OCEANMAN!AD$7:AJ$52,6,0)),\"\",VLOOKUP($A168,OCEANMAN!AD$7:AJ$52,6,0))","v":""},{"$f":"IF(ISNA(VLOOKUP($A168,OCEANMAN!AD$7:AJ$52,7,0)),\"\",VLOOKUP($A168,OCEANMAN!AD$7:AJ$52,7,0))","v":""},{"$f":"IF($A168=\"\",\"\",VLOOKUP($A168,INSCRITS!$D$4:$W$506,16,0))","v":""},{"$f":"IF(ISNA(VLOOKUP($A168,CNC!N$7:AC$52,6,0)),\"\",VLOOKUP($A168,CNC!N$7:AC$52,6,0))","v":""},{"$f":"IF(ISNA(VLOOKUP($A168,CNC!N$7:AC$52,7,0)),\"\",VLOOKUP($A168,CNC!N$7:AC$52,7,0))","v":""},0,{"$f":"IF($A168=\"\",\"\",VLOOKUP($A168,INSCRITS!$D$4:$W$506,16,0))","v":""},null,{"$f":"IF(AG168=\"\",\"\",VLOOKUP(AG168,[0]!Relais,2))","v":""},{"$f":"IF($A168=\"\",\"\",VLOOKUP($A168,INSCRITS!$D$4:$W$506,17,0))","v":""},null,{"$f":"IF(AJ168=\"\",\"\",VLOOKUP(AJ168,[0]!Relais,2))","v":""},{"$f":"IF($A168=\"\",\"\",VLOOKUP($A168,INSCRITS!$D$4:$W$506,18,0))","v":""},null,{"$f":"IF(AM168=\"\",\"\",VLOOKUP(AM168,[0]!Relais,2))","v":""},{"$f":"IF($A168=\"\",\"\",VLOOKUP($A168,INSCRITS!$D$4:$W$506,19,0))","v":""},null,{"$f":"IF(AP168=\"\",\"\",VLOOKUP(AP168,[0]!Relais,2))","v":""},0,0]
[null,null,null,{"$f":"IF($A169=\"\",\"\",VLOOKUP($A169,INSCRITS!$D$4:$W$501,4,0))","v":""},{"$f":"IF($A169=\"\",\"\",VLOOKUP($A169,INSCRITS!$D$4:$W$501,5,0))","v":""},{"$f":"IF($A169=\"\",\"\",VLOOKUP($A169,INSCRITS!$D$4:$W$501,6,0))","v":""},{"$f":"IF($A169=\"\",\"\",VLOOKUP($A169,INSCRITS!$D$4:$W$501,7,0))","v":""},{"$f":"IF($A169=\"\",\"\",VLOOKUP($A169,INSCRITS!$D$4:$W$501,8,0))","v":""},{"$f":"IF($A169=\"\",\"\",VLOOKUP($A169,INSCRITS!$D$4:$W$501,9,0))","v":""},{"$f":"IF($A169=\"\",\"\",VLOOKUP($A169,INSCRITS!$D$4:$W$506,10,0))","v":""},{"$f":"IF(ISNA(VLOOKUP($A169,SPRINT!AD$7:AJ$50,6,0)),\"\",VLOOKUP($A169,SPRINT!AD$7:AJ$50,6,0))","v":""},{"$f":"IF(ISNA(VLOOKUP($A169,SPRINT!AD$7:AJ$50,7,0)),\"\",VLOOKUP($A169,SPRINT!AD$7:AJ$50,7,0))","v":""},{"$f":"IF($A169=\"\",\"\",VLOOKUP($A169,INSCRITS!$D$4:$W$506,11,0))","v":""},{"$f":"IF(ISNA(VLOOKUP($A169,BATONS!AD$7:AJ$51,6,0)),\"\",VLOOKUP($A169,BATONS!AD$7:AJ$51,6,0))","v":""},{"$f":"IF(ISNA(VLOOKUP($A169,BATONS!AD$7:AJ$51,7,0)),\"\",VLOOKUP($A169,BATONS!AD$7:AJ$51,7,0))","v":""},{"$f":"IF($A169=\"\",\"\",VLOOKUP($A169,INSCRITS!$D$4:$W$506,12,0))","v":""},{"$f":"IF(ISNA(VLOOKUP($A169,PLANCHE!AC$7:AI$52,6,0)),\"\",VLOOKUP($A169,PLANCHE!AC$7:AI$52,6,0))","v":""},{"$f":"IF(ISNA(VLOOKUP($A169,PLANCHE!AC$7:AI$52,7,0)),\"\",VLOOKUP($A169,PLANCHE!AC$7:AI$52,7,0))","v":""},{"$f":"IF($A169=\"\",\"\",VLOOKUP($A169,INSCRITS!$D$4:$W$506,13,0))","v":""},{"$f":"IF(ISNA(VLOOKUP($A169,NAGE!N$7:T$52,6,0)),\"\",VLOOKUP($A169,NAGE!N$7:T$52,6,0))","v":""},{"$f":"IF(ISNA(VLOOKUP($A169,NAGE!N$7:T$52,7,0)),\"\",VLOOKUP($A169,NAGE!N$7:T$52,7,0))","v":""},{"$f":"IF($A169=\"\",\"\",VLOOKUP($A169,INSCRITS!$D$4:$W$506,14,0))","v":""},{"$f":"IF(ISNA(VLOOKUP($A169,SURFSKI!AC$8:AI$53,6,0)),\"\",VLOOKUP($A169,SURFSKI!AC$8:AI$53,6,0))","v":""},{"$f":"IF(ISNA(VLOOKUP($A169,SURFSKI!AC$8:AI$53,7,0)),\"\",VLOOKUP($A169,SURFSKI!AC$8:AI$53,7,0))","v":""},{"$f":"IF($A169=\"\",\"\",VLOOKUP($A169,INSCRITS!$D$4:$W$506,15,0))","v":""},{"$f":"IF(ISNA(VLOOKUP($A169,OCEANMAN!AD$7:AJ$52,6,0)),\"\",VLOOKUP($A169,OCEANMAN!AD$7:AJ$52,6,0))","v":""},{"$f":"IF(ISNA(VLOOKUP($A169,OCEANMAN!AD$7:AJ$52,7,0)),\"\",VLOOKUP($A169,OCEANMAN!AD$7:AJ$52,7,0))","v":""},{"$f":"IF($A169=\"\",\"\",VLOOKUP($A169,INSCRITS!$D$4:$W$506,16,0))","v":""},{"$f":"IF(ISNA(VLOOKUP($A169,CNC!N$7:AC$52,6,0)),\"\",VLOOKUP($A169,CNC!N$7:AC$52,6,0))","v":""},{"$f":"IF(ISNA(VLOOKUP($A169,CNC!N$7:AC$52,7,0)),\"\",VLOOKUP($A169,CNC!N$7:AC$52,7,0))","v":""},0,{"$f":"IF($A169=\"\",\"\",VLOOKUP($A169,INSCRITS!$D$4:$W$506,16,0))","v":""},null,{"$f":"IF(AG169=\"\",\"\",VLOOKUP(AG169,[0]!Relais,2))","v":""},{"$f":"IF($A169=\"\",\"\",VLOOKUP($A169,INSCRITS!$D$4:$W$506,17,0))","v":""},null,{"$f":"IF(AJ169=\"\",\"\",VLOOKUP(AJ169,[0]!Relais,2))","v":""},{"$f":"IF($A169=\"\",\"\",VLOOKUP($A169,INSCRITS!$D$4:$W$506,18,0))","v":""},null,{"$f":"IF(AM169=\"\",\"\",VLOOKUP(AM169,[0]!Relais,2))","v":""},{"$f":"IF($A169=\"\",\"\",VLOOKUP($A169,INSCRITS!$D$4:$W$506,19,0))","v":""},null,{"$f":"IF(AP169=\"\",\"\",VLOOKUP(AP169,[0]!Relais,2))","v":""},0,0]
[null,null,null,{"$f":"IF($A170=\"\",\"\",VLOOKUP($A170,INSCRITS!$D$4:$W$501,4,0))","v":""},{"$f":"IF($A170=\"\",\"\",VLOOKUP($A170,INSCRITS!$D$4:$W$501,5,0))","v":""},{"$f":"IF($A170=\"\",\"\",VLOOKUP($A170,INSCRITS!$D$4:$W$501,6,0))","v":""},{"$f":"IF($A170=\"\",\"\",VLOOKUP($A170,INSCRITS!$D$4:$W$501,7,0))","v":""},{"$f":"IF($A170=\"\",\"\",VLOOKUP($A170,INSCRITS!$D$4:$W$501,8,0))","v":""},{"$f":"IF($A170=\"\",\"\",VLOOKUP($A170,INSCRITS!$D$4:$W$501,9,0))","v":""},{"$f":"IF($A170=\"\",\"\",VLOOKUP($A170,INSCRITS!$D$4:$W$506,10,0))","v":""},{"$f":"IF(ISNA(VLOOKUP($A170,SPRINT!AD$7:AJ$50,6,0)),\"\",VLOOKUP($A170,SPRINT!AD$7:AJ$50,6,0))","v":""},{"$f":"IF(ISNA(VLOOKUP($A170,SPRINT!AD$7:AJ$50,7,0)),\"\",VLOOKUP($A170,SPRINT!AD$7:AJ$50,7,0))","v":""},{"$f":"IF($A170=\"\",\"\",VLOOKUP($A170,INSCRITS!$D$4:$W$506,11,0))","v":""},{"$f":"IF(ISNA(VLOOKUP($A170,BATONS!AD$7:AJ$51,6,0)),\"\",VLOOKUP($A170,BATONS!AD$7:AJ$51,6,0))","v":""},{"$f":"IF(ISNA(VLOOKUP($A170,BATONS!AD$7:AJ$51,7,0)),\"\",VLOOKUP($A170,BATONS!AD$7:AJ$51,7,0))","v":""},{"$f":"IF($A170=\"\",\"\",VLOOKUP($A170,INSCRITS!$D$4:$W$506,12,0))","v":""},{"$f":"IF(ISNA(VLOOKUP($A170,PLANCHE!AC$7:AI$52,6,0)),\"\",VLOOKUP($A170,PLANCHE!AC$7:AI$52,6,0))","v":""},{"$f":"IF(ISNA(VLOOKUP($A170,PLANCHE!AC$7:AI$52,7,0)),\"\",VLOOKUP($A170,PLANCHE!AC$7:AI$52,7,0))","v":""},{"$f":"IF($A170=\"\",\"\",VLOOKUP($A170,INSCRITS!$D$4:$W$506,13,0))","v":""},{"$f":"IF(ISNA(VLOOKUP($A170,NAGE!N$7:T$52,6,0)),\"\",VLOOKUP($A170,NAGE!N$7:T$52,6,0))","v":""},{"$f":"IF(ISNA(VLOOKUP($A170,NAGE!N$7:T$52,7,0)),\"\",VLOOKUP($A170,NAGE!N$7:T$52,7,0))","v":""},{"$f":"IF($A170=\"\",\"\",VLOOKUP($A170,INSCRITS!$D$4:$W$506,14,0))","v":""},{"$f":"IF(ISNA(VLOOKUP($A170,SURFSKI!AC$8:AI$53,6,0)),\"\",VLOOKUP($A170,SURFSKI!AC$8:AI$53,6,0))","v":""},{"$f":"IF(ISNA(VLOOKUP($A170,SURFSKI!AC$8:AI$53,7,0)),\"\",VLOOKUP($A170,SURFSKI!AC$8:AI$53,7,0))","v":""},{"$f":"IF($A170=\"\",\"\",VLOOKUP($A170,INSCRITS!$D$4:$W$506,15,0))","v":""},{"$f":"IF(ISNA(VLOOKUP($A170,OCEANMAN!AD$7:AJ$52,6,0)),\"\",VLOOKUP($A170,OCEANMAN!AD$7:AJ$52,6,0))","v":""},{"$f":"IF(ISNA(VLOOKUP($A170,OCEANMAN!AD$7:AJ$52,7,0)),\"\",VLOOKUP($A170,OCEANMAN!AD$7:AJ$52,7,0))","v":""},{"$f":"IF($A170=\"\",\"\",VLOOKUP($A170,INSCRITS!$D$4:$W$506,16,0))","v":""},{"$f":"IF(ISNA(VLOOKUP($A170,CNC!N$7:AC$52,6,0)),\"\",VLOOKUP($A170,CNC!N$7:AC$52,6,0))","v":""},{"$f":"IF(ISNA(VLOOKUP($A170,CNC!N$7:AC$52,7,0)),\"\",VLOOKUP($A170,CNC!N$7:AC$52,7,0))","v":""},0,{"$f":"IF($A170=\"\",\"\",VLOOKUP($A170,INSCRITS!$D$4:$W$506,16,0))","v":""},null,{"$f":"IF(AG170=\"\",\"\",VLOOKUP(AG170,[0]!Relais,2))","v":""},{"$f":"IF($A170=\"\",\"\",VLOOKUP($A170,INSCRITS!$D$4:$W$506,17,0))","v":""},null,{"$f":"IF(AJ170=\"\",\"\",VLOOKUP(AJ170,[0]!Relais,2))","v":""},{"$f":"IF($A170=\"\",\"\",VLOOKUP($A170,INSCRITS!$D$4:$W$506,18,0))","v":""},null,{"$f":"IF(AM170=\"\",\"\",VLOOKUP(AM170,[0]!Relais,2))","v":""},{"$f":"IF($A170=\"\",\"\",VLOOKUP($A170,INSCRITS!$D$4:$W$506,19,0))","v":""},null,{"$f":"IF(AP170=\"\",\"\",VLOOKUP(AP170,[0]!Relais,2))","v":""},0,0]
[null,null,null,{"$f":"IF($A171=\"\",\"\",VLOOKUP($A171,INSCRITS!$D$4:$W$501,4,0))","v":""},{"$f":"IF($A171=\"\",\"\",VLOOKUP($A171,INSCRITS!$D$4:$W$501,5,0))","v":""},{"$f":"IF($A171=\"\",\"\",VLOOKUP($A171,INSCRITS!$D$4:$W$501,6,0))","v":""},{"$f":"IF($A171=\"\",\"\",VLOOKUP($A171,INSCRITS!$D$4:$W$501,7,0))","v":""},{"$f":"IF($A171=\"\",\"\",VLOOKUP($A171,INSCRITS!$D$4:$W$501,8,0))","v":""},{"$f":"IF($A171=\"\",\"\",VLOOKUP($A171,INSCRITS!$D$4:$W$501,9,0))","v":""},{"$f":"IF($A171=\"\",\"\",VLOOKUP($A171,INSCRITS!$D$4:$W$506,10,0))","v":""},{"$f":"IF(ISNA(VLOOKUP($A171,SPRINT!AD$7:AJ$50,6,0)),\"\",VLOOKUP($A171,SPRINT!AD$7:AJ$50,6,0))","v":""},{"$f":"IF(ISNA(VLOOKUP($A171,SPRINT!AD$7:AJ$50,7,0)),\"\",VLOOKUP($A171,SPRINT!AD$7:AJ$50,7,0))","v":""},{"$f":"IF($A171=\"\",\"\",VLOOKUP($A171,INSCRITS!$D$4:$W$506,11,0))","v":""},{"$f":"IF(ISNA(VLOOKUP($A171,BATONS!AD$7:AJ$51,6,0)),\"\",VLOOKUP($A171,BATONS!AD$7:AJ$51,6,0))","v":""},{"$f":"IF(ISNA(VLOOKUP($A171,BATONS!AD$7:AJ$51,7,0)),\"\",VLOOKUP($A171,BATONS!AD$7:AJ$51,7,0))","v":""},{"$f":"IF($A171=\"\",\"\",VLOOKUP($A171,INSCRITS!$D$4:$W$506,12,0))","v":""},{"$f":"IF(ISNA(VLOOKUP($A171,PLANCHE!AC$7:AI$52,6,0)),\"\",VLOOKUP($A171,PLANCHE!AC$7:AI$52,6,0))","v":""},{"$f":"IF(ISNA(VLOOKUP($A171,PLANCHE!AC$7:AI$52,7,0)),\"\",VLOOKUP($A171,PLANCHE!AC$7:AI$52,7,0))","v":""},{"$f":"IF($A171=\"\",\"\",VLOOKUP($A171,INSCRITS!$D$4:$W$506,13,0))","v":""},{"$f":"IF(ISNA(VLOOKUP($A171,NAGE!N$7:T$52,6,0)),\"\",VLOOKUP($A171,NAGE!N$7:T$52,6,0))","v":""},{"$f":"IF(ISNA(VLOOKUP($A171,NAGE!N$7:T$52,7,0)),\"\",VLOOKUP($A171,NAGE!N$7:T$52,7,0))","v":""},{"$f":"IF($A171=\"\",\"\",VLOOKUP($A171,INSCRITS!$D$4:$W$506,14,0))","v":""},{"$f":"IF(ISNA(VLOOKUP($A171,SURFSKI!AC$8:AI$53,6,0)),\"\",VLOOKUP($A171,SURFSKI!AC$8:AI$53,6,0))","v":""},{"$f":"IF(ISNA(VLOOKUP($A171,SURFSKI!AC$8:AI$53,7,0)),\"\",VLOOKUP($A171,SURFSKI!AC$8:AI$53,7,0))","v":""},{"$f":"IF($A171=\"\",\"\",VLOOKUP($A171,INSCRITS!$D$4:$W$506,15,0))","v":""},{"$f":"IF(ISNA(VLOOKUP($A171,OCEANMAN!AD$7:AJ$52,6,0)),\"\",VLOOKUP($A171,OCEANMAN!AD$7:AJ$52,6,0))","v":""},{"$f":"IF(ISNA(VLOOKUP($A171,OCEANMAN!AD$7:AJ$52,7,0)),\"\",VLOOKUP($A171,OCEANMAN!AD$7:AJ$52,7,0))","v":""},{"$f":"IF($A171=\"\",\"\",VLOOKUP($A171,INSCRITS!$D$4:$W$506,16,0))","v":""},{"$f":"IF(ISNA(VLOOKUP($A171,CNC!N$7:AC$52,6,0)),\"\",VLOOKUP($A171,CNC!N$7:AC$52,6,0))","v":""},{"$f":"IF(ISNA(VLOOKUP($A171,CNC!N$7:AC$52,7,0)),\"\",VLOOKUP($A171,CNC!N$7:AC$52,7,0))","v":""},0,{"$f":"IF($A171=\"\",\"\",VLOOKUP($A171,INSCRITS!$D$4:$W$506,16,0))","v":""},null,{"$f":"IF(AG171=\"\",\"\",VLOOKUP(AG171,[0]!Relais,2))","v":""},{"$f":"IF($A171=\"\",\"\",VLOOKUP($A171,INSCRITS!$D$4:$W$506,17,0))","v":""},null,{"$f":"IF(AJ171=\"\",\"\",VLOOKUP(AJ171,[0]!Relais,2))","v":""},{"$f":"IF($A171=\"\",\"\",VLOOKUP($A171,INSCRITS!$D$4:$W$506,18,0))","v":""},null,{"$f":"IF(AM171=\"\",\"\",VLOOKUP(AM171,[0]!Relais,2))","v":""},{"$f":"IF($A171=\"\",\"\",VLOOKUP($A171,INSCRITS!$D$4:$W$506,19,0))","v":""},null,{"$f":"IF(AP171=\"\",\"\",VLOOKUP(AP171,[0]!Relais,2))","v":""},0,0]
[null,null,null,{"$f":"IF($A172=\"\",\"\",VLOOKUP($A172,INSCRITS!$D$4:$W$501,4,0))","v":""},{"$f":"IF($A172=\"\",\"\",VLOOKUP($A172,INSCRITS!$D$4:$W$501,5,0))","v":""},{"$f":"IF($A172=\"\",\"\",VLOOKUP($A172,INSCRITS!$D$4:$W$501,6,0))","v":""},{"$f":"IF($A172=\"\",\"\",VLOOKUP($A172,INSCRITS!$D$4:$W$501,7,0))","v":""},{"$f":"IF($A172=\"\",\"\",VLOOKUP($A172,INSCRITS!$D$4:$W$501,8,0))","v":""},{"$f":"IF($A172=\"\",\"\",VLOOKUP($A172,INSCRITS!$D$4:$W$501,9,0))","v":""},{"$f":"IF($A172=\"\",\"\",VLOOKUP($A172,INSCRITS!$D$4:$W$506,10,0))","v":""},{"$f":"IF(ISNA(VLOOKUP($A172,SPRINT!AD$7:AJ$50,6,0)),\"\",VLOOKUP($A172,SPRINT!AD$7:AJ$50,6,0))","v":""},{"$f":"IF(ISNA(VLOOKUP($A172,SPRINT!AD$7:AJ$50,7,0)),\"\",VLOOKUP($A172,SPRINT!AD$7:AJ$50,7,0))","v":""},{"$f":"IF($A172=\"\",\"\",VLOOKUP($A172,INSCRITS!$D$4:$W$506,11,0))","v":""},{"$f":"IF(ISNA(VLOOKUP($A172,BATONS!AD$7:AJ$51,6,0)),\"\",VLOOKUP($A172,BATONS!AD$7:AJ$51,6,0))","v":""},{"$f":"IF(ISNA(VLOOKUP($A172,BATONS!AD$7:AJ$51,7,0)),\"\",VLOOKUP($A172,BATONS!AD$7:AJ$51,7,0))","v":""},{"$f":"IF($A172=\"\",\"\",VLOOKUP($A172,INSCRITS!$D$4:$W$506,12,0))","v":""},{"$f":"IF(ISNA(VLOOKUP($A172,PLANCHE!AC$7:AI$52,6,0)),\"\",VLOOKUP($A172,PLANCHE!AC$7:AI$52,6,0))","v":""},{"$f":"IF(ISNA(VLOOKUP($A172,PLANCHE!AC$7:AI$52,7,0)),\"\",VLOOKUP($A172,PLANCHE!AC$7:AI$52,7,0))","v":""},{"$f":"IF($A172=\"\",\"\",VLOOKUP($A172,INSCRITS!$D$4:$W$506,13,0))","v":""},{"$f":"IF(ISNA(VLOOKUP($A172,NAGE!N$7:T$52,6,0)),\"\",VLOOKUP($A172,NAGE!N$7:T$52,6,0))","v":""},{"$f":"IF(ISNA(VLOOKUP($A172,NAGE!N$7:T$52,7,0)),\"\",VLOOKUP($A172,NAGE!N$7:T$52,7,0))","v":""},{"$f":"IF($A172=\"\",\"\",VLOOKUP($A172,INSCRITS!$D$4:$W$506,14,0))","v":""},{"$f":"IF(ISNA(VLOOKUP($A172,SURFSKI!AC$8:AI$53,6,0)),\"\",VLOOKUP($A172,SURFSKI!AC$8:AI$53,6,0))","v":""},{"$f":"IF(ISNA(VLOOKUP($A172,SURFSKI!AC$8:AI$53,7,0)),\"\",VLOOKUP($A172,SURFSKI!AC$8:AI$53,7,0))","v":""},{"$f":"IF($A172=\"\",\"\",VLOOKUP($A172,INSCRITS!$D$4:$W$506,15,0))","v":""},{"$f":"IF(ISNA(VLOOKUP($A172,OCEANMAN!AD$7:AJ$52,6,0)),\"\",VLOOKUP($A172,OCEANMAN!AD$7:AJ$52,6,0))","v":""},{"$f":"IF(ISNA(VLOOKUP($A172,OCEANMAN!AD$7:AJ$52,7,0)),\"\",VLOOKUP($A172,OCEANMAN!AD$7:AJ$52,7,0))","v":""},{"$f":"IF($A172=\"\",\"\",VLOOKUP($A172,INSCRITS!$D$4:$W$506,16,0))","v":""},{"$f":"IF(ISNA(VLOOKUP($A172,CNC!N$7:AC$52,6,0)),\"\",VLOOKUP($A172,CNC!N$7:AC$52,6,0))","v":""},{"$f":"IF(ISNA(VLOOKUP($A172,CNC!N$7:AC$52,7,0)),\"\",VLOOKUP($A172,CNC!N$7:AC$52,7,0))","v":""},0,{"$f":"IF($A172=\"\",\"\",VLOOKUP($A172,INSCRITS!$D$4:$W$506,16,0))","v":""},null,{"$f":"IF(AG172=\"\",\"\",VLOOKUP(AG172,[0]!Relais,2))","v":""},{"$f":"IF($A172=\"\",\"\",VLOOKUP($A172,INSCRITS!$D$4:$W$506,17,0))","v":""},null,{"$f":"IF(AJ172=\"\",\"\",VLOOKUP(AJ172,[0]!Relais,2))","v":""},{"$f":"IF($A172=\"\",\"\",VLOOKUP($A172,INSCRITS!$D$4:$W$506,18,0))","v":""},null,{"$f":"IF(AM172=\"\",\"\",VLOOKUP(AM172,[0]!Relais,2))","v":""},{"$f":"IF($A172=\"\",\"\",VLOOKUP($A172,INSCRITS!$D$4:$W$506,19,0))","v":""},null,{"$f":"IF(AP172=\"\",\"\",VLOOKUP(AP172,[0]!Relais,2))","v":""},0,0]
[null,null,null,{"$f":"IF($A173=\"\",\"\",VLOOKUP($A173,INSCRITS!$D$4:$W$501,4,0))","v":""},{"$f":"IF($A173=\"\",\"\",VLOOKUP($A173,INSCRITS!$D$4:$W$501,5,0))","v":""},{"$f":"IF($A173=\"\",\"\",VLOOKUP($A173,INSCRITS!$D$4:$W$501,6,0))","v":""},{"$f":"IF($A173=\"\",\"\",VLOOKUP($A173,INSCRITS!$D$4:$W$501,7,0))","v":""},{"$f":"IF($A173=\"\",\"\",VLOOKUP($A173,INSCRITS!$D$4:$W$501,8,0))","v":""},{"$f":"IF($A173=\"\",\"\",VLOOKUP($A173,INSCRITS!$D$4:$W$501,9,0))","v":""},{"$f":"IF($A173=\"\",\"\",VLOOKUP($A173,INSCRITS!$D$4:$W$506,10,0))","v":""},{"$f":"IF(ISNA(VLOOKUP($A173,SPRINT!AD$7:AJ$50,6,0)),\"\",VLOOKUP($A173,SPRINT!AD$7:AJ$50,6,0))","v":""},{"$f":"IF(ISNA(VLOOKUP($A173,SPRINT!AD$7:AJ$50,7,0)),\"\",VLOOKUP($A173,SPRINT!AD$7:AJ$50,7,0))","v":""},{"$f":"IF($A173=\"\",\"\",VLOOKUP($A173,INSCRITS!$D$4:$W$506,11,0))","v":""},{"$f":"IF(ISNA(VLOOKUP($A173,BATONS!AD$7:AJ$51,6,0)),\"\",VLOOKUP($A173,BATONS!AD$7:AJ$51,6,0))","v":""},{"$f":"IF(ISNA(VLOOKUP($A173,BATONS!AD$7:AJ$51,7,0)),\"\",VLOOKUP($A173,BATONS!AD$7:AJ$51,7,0))","v":""},{"$f":"IF($A173=\"\",\"\",VLOOKUP($A173,INSCRITS!$D$4:$W$506,12,0))","v":""},{"$f":"IF(ISNA(VLOOKUP($A173,PLANCHE!AC$7:AI$52,6,0)),\"\",VLOOKUP($A173,PLANCHE!AC$7:AI$52,6,0))","v":""},{"$f":"IF(ISNA(VLOOKUP($A173,PLANCHE!AC$7:AI$52,7,0)),\"\",VLOOKUP($A173,PLANCHE!AC$7:AI$52,7,0))","v":""},{"$f":"IF($A173=\"\",\"\",VLOOKUP($A173,INSCRITS!$D$4:$W$506,13,0))","v":""},{"$f":"IF(ISNA(VLOOKUP($A173,NAGE!N$7:T$52,6,0)),\"\",VLOOKUP($A173,NAGE!N$7:T$52,6,0))","v":""},{"$f":"IF(ISNA(VLOOKUP($A173,NAGE!N$7:T$52,7,0)),\"\",VLOOKUP($A173,NAGE!N$7:T$52,7,0))","v":""},{"$f":"IF($A173=\"\",\"\",VLOOKUP($A173,INSCRITS!$D$4:$W$506,14,0))","v":""},{"$f":"IF(ISNA(VLOOKUP($A173,SURFSKI!AC$8:AI$53,6,0)),\"\",VLOOKUP($A173,SURFSKI!AC$8:AI$53,6,0))","v":""},{"$f":"IF(ISNA(VLOOKUP($A173,SURFSKI!AC$8:AI$53,7,0)),\"\",VLOOKUP($A173,SURFSKI!AC$8:AI$53,7,0))","v":""},{"$f":"IF($A173=\"\",\"\",VLOOKUP($A173,INSCRITS!$D$4:$W$506,15,0))","v":""},{"$f":"IF(ISNA(VLOOKUP($A173,OCEANMAN!AD$7:AJ$52,6,0)),\"\",VLOOKUP($A173,OCEANMAN!AD$7:AJ$52,6,0))","v":""},{"$f":"IF(ISNA(VLOOKUP($A173,OCEANMAN!AD$7:AJ$52,7,0)),\"\",VLOOKUP($A173,OCEANMAN!AD$7:AJ$52,7,0))","v":""},{"$f":"IF($A173=\"\",\"\",VLOOKUP($A173,INSCRITS!$D$4:$W$506,16,0))","v":""},{"$f":"IF(ISNA(VLOOKUP($A173,CNC!N$7:AC$52,6,0)),\"\",VLOOKUP($A173,CNC!N$7:AC$52,6,0))","v":""},{"$f":"IF(ISNA(VLOOKUP($A173,CNC!N$7:AC$52,7,0)),\"\",VLOOKUP($A173,CNC!N$7:AC$52,7,0))","v":""},0,{"$f":"IF($A173=\"\",\"\",VLOOKUP($A173,INSCRITS!$D$4:$W$506,16,0))","v":""},null,{"$f":"IF(AG173=\"\",\"\",VLOOKUP(AG173,[0]!Relais,2))","v":""},{"$f":"IF($A173=\"\",\"\",VLOOKUP($A173,INSCRITS!$D$4:$W$506,17,0))","v":""},null,{"$f":"IF(AJ173=\"\",\"\",VLOOKUP(AJ173,[0]!Relais,2))","v":""},{"$f":"IF($A173=\"\",\"\",VLOOKUP($A173,INSCRITS!$D$4:$W$506,18,0))","v":""},null,{"$f":"IF(AM173=\"\",\"\",VLOOKUP(AM173,[0]!Relais,2))","v":""},{"$f":"IF($A173=\"\",\"\",VLOOKUP($A173,INSCRITS!$D$4:$W$506,19,0))","v":""},null,{"$f":"IF(AP173=\"\",\"\",VLOOKUP(AP173,[0]!Relais,2))","v":""},0,0]
[null,null,null,{"$f":"IF($A174=\"\",\"\",VLOOKUP($A174,INSCRITS!$D$4:$W$501,4,0))","v":""},{"$f":"IF($A174=\"\",\"\",VLOOKUP($A174,INSCRITS!$D$4:$W$501,5,0))","v":""},{"$f":"IF($A174=\"\",\"\",VLOOKUP($A174,INSCRITS!$D$4:$W$501,6,0))","v":""},{"$f":"IF($A174=\"\",\"\",VLOOKUP($A174,INSCRITS!$D$4:$W$501,7,0))","v":""},{"$f":"IF($A174=\"\",\"\",VLOOKUP($A174,INSCRITS!$D$4:$W$501,8,0))","v":""},{"$f":"IF($A174=\"\",\"\",VLOOKUP($A174,INSCRITS!$D$4:$W$501,9,0))","v":""},{"$f":"IF($A174=\"\",\"\",VLOOKUP($A174,INSCRITS!$D$4:$W$506,10,0))","v":""},{"$f":"IF(ISNA(VLOOKUP($A174,SPRINT!AD$7:AJ$50,6,0)),\"\",VLOOKUP($A174,SPRINT!AD$7:AJ$50,6,0))","v":""},{"$f":"IF(ISNA(VLOOKUP($A174,SPRINT!AD$7:AJ$50,7,0)),\"\",VLOOKUP($A174,SPRINT!AD$7:AJ$50,7,0))","v":""},{"$f":"IF($A174=\"\",\"\",VLOOKUP($A174,INSCRITS!$D$4:$W$506,11,0))","v":""},{"$f":"IF(ISNA(VLOOKUP($A174,BATONS!AD$7:AJ$51,6,0)),\"\",VLOOKUP($A174,BATONS!AD$7:AJ$51,6,0))","v":""},{"$f":"IF(ISNA(VLOOKUP($A174,BATONS!AD$7:AJ$51,7,0)),\"\",VLOOKUP($A174,BATONS!AD$7:AJ$51,7,0))","v":""},{"$f":"IF($A174=\"\",\"\",VLOOKUP($A174,INSCRITS!$D$4:$W$506,12,0))","v":""},{"$f":"IF(ISNA(VLOOKUP($A174,PLANCHE!AC$7:AI$52,6,0)),\"\",VLOOKUP($A174,PLANCHE!AC$7:AI$52,6,0))","v":""},{"$f":"IF(ISNA(VLOOKUP($A174,PLANCHE!AC$7:AI$52,7,0)),\"\",VLOOKUP($A174,PLANCHE!AC$7:AI$52,7,0))","v":""},{"$f":"IF($A174=\"\",\"\",VLOOKUP($A174,INSCRITS!$D$4:$W$506,13,0))","v":""},{"$f":"IF(ISNA(VLOOKUP($A174,NAGE!N$7:T$52,6,0)),\"\",VLOOKUP($A174,NAGE!N$7:T$52,6,0))","v":""},{"$f":"IF(ISNA(VLOOKUP($A174,NAGE!N$7:T$52,7,0)),\"\",VLOOKUP($A174,NAGE!N$7:T$52,7,0))","v":""},{"$f":"IF($A174=\"\",\"\",VLOOKUP($A174,INSCRITS!$D$4:$W$506,14,0))","v":""},{"$f":"IF(ISNA(VLOOKUP($A174,SURFSKI!AC$8:AI$53,6,0)),\"\",VLOOKUP($A174,SURFSKI!AC$8:AI$53,6,0))","v":""},{"$f":"IF(ISNA(VLOOKUP($A174,SURFSKI!AC$8:AI$53,7,0)),\"\",VLOOKUP($A174,SURFSKI!AC$8:AI$53,7,0))","v":""},{"$f":"IF($A174=\"\",\"\",VLOOKUP($A174,INSCRITS!$D$4:$W$506,15,0))","v":""},{"$f":"IF(ISNA(VLOOKUP($A174,OCEANMAN!AD$7:AJ$52,6,0)),\"\",VLOOKUP($A174,OCEANMAN!AD$7:AJ$52,6,0))","v":""},{"$f":"IF(ISNA(VLOOKUP($A174,OCEANMAN!AD$7:AJ$52,7,0)),\"\",VLOOKUP($A174,OCEANMAN!AD$7:AJ$52,7,0))","v":""},{"$f":"IF($A174=\"\",\"\",VLOOKUP($A174,INSCRITS!$D$4:$W$506,16,0))","v":""},{"$f":"IF(ISNA(VLOOKUP($A174,CNC!N$7:AC$52,6,0)),\"\",VLOOKUP($A174,CNC!N$7:AC$52,6,0))","v":""},{"$f":"IF(ISNA(VLOOKUP($A174,CNC!N$7:AC$52,7,0)),\"\",VLOOKUP($A174,CNC!N$7:AC$52,7,0))","v":""},0,{"$f":"IF($A174=\"\",\"\",VLOOKUP($A174,INSCRITS!$D$4:$W$506,16,0))","v":""},null,{"$f":"IF(AG174=\"\",\"\",VLOOKUP(AG174,[0]!Relais,2))","v":""},{"$f":"IF($A174=\"\",\"\",VLOOKUP($A174,INSCRITS!$D$4:$W$506,17,0))","v":""},null,{"$f":"IF(AJ174=\"\",\"\",VLOOKUP(AJ174,[0]!Relais,2))","v":""},{"$f":"IF($A174=\"\",\"\",VLOOKUP($A174,INSCRITS!$D$4:$W$506,18,0))","v":""},null,{"$f":"IF(AM174=\"\",\"\",VLOOKUP(AM174,[0]!Relais,2))","v":""},{"$f":"IF($A174=\"\",\"\",VLOOKUP($A174,INSCRITS!$D$4:$W$506,19,0))","v":""},null,{"$f":"IF(AP174=\"\",\"\",VLOOKUP(AP174,[0]!Relais,2))","v":""},0,0]
[null,null,null,{"$f":"IF($A175=\"\",\"\",VLOOKUP($A175,INSCRITS!$D$4:$W$501,4,0))","v":""},{"$f":"IF($A175=\"\",\"\",VLOOKUP($A175,INSCRITS!$D$4:$W$501,5,0))","v":""},{"$f":"IF($A175=\"\",\"\",VLOOKUP($A175,INSCRITS!$D$4:$W$501,6,0))","v":""},{"$f":"IF($A175=\"\",\"\",VLOOKUP($A175,INSCRITS!$D$4:$W$501,7,0))","v":""},{"$f":"IF($A175=\"\",\"\",VLOOKUP($A175,INSCRITS!$D$4:$W$501,8,0))","v":""},{"$f":"IF($A175=\"\",\"\",VLOOKUP($A175,INSCRITS!$D$4:$W$501,9,0))","v":""},{"$f":"IF($A175=\"\",\"\",VLOOKUP($A175,INSCRITS!$D$4:$W$506,10,0))","v":""},{"$f":"IF(ISNA(VLOOKUP($A175,SPRINT!AD$7:AJ$50,6,0)),\"\",VLOOKUP($A175,SPRINT!AD$7:AJ$50,6,0))","v":""},{"$f":"IF(ISNA(VLOOKUP($A175,SPRINT!AD$7:AJ$50,7,0)),\"\",VLOOKUP($A175,SPRINT!AD$7:AJ$50,7,0))","v":""},{"$f":"IF($A175=\"\",\"\",VLOOKUP($A175,INSCRITS!$D$4:$W$506,11,0))","v":""},{"$f":"IF(ISNA(VLOOKUP($A175,BATONS!AD$7:AJ$51,6,0)),\"\",VLOOKUP($A175,BATONS!AD$7:AJ$51,6,0))","v":""},{"$f":"IF(ISNA(VLOOKUP($A175,BATONS!AD$7:AJ$51,7,0)),\"\",VLOOKUP($A175,BATONS!AD$7:AJ$51,7,0))","v":""},{"$f":"IF($A175=\"\",\"\",VLOOKUP($A175,INSCRITS!$D$4:$W$506,12,0))","v":""},{"$f":"IF(ISNA(VLOOKUP($A175,PLANCHE!AC$7:AI$52,6,0)),\"\",VLOOKUP($A175,PLANCHE!AC$7:AI$52,6,0))","v":""},{"$f":"IF(ISNA(VLOOKUP($A175,PLANCHE!AC$7:AI$52,7,0)),\"\",VLOOKUP($A175,PLANCHE!AC$7:AI$52,7,0))","v":""},{"$f":"IF($A175=\"\",\"\",VLOOKUP($A175,INSCRITS!$D$4:$W$506,13,0))","v":""},{"$f":"IF(ISNA(VLOOKUP($A175,NAGE!N$7:T$52,6,0)),\"\",VLOOKUP($A175,NAGE!N$7:T$52,6,0))","v":""},{"$f":"IF(ISNA(VLOOKUP($A175,NAGE!N$7:T$52,7,0)),\"\",VLOOKUP($A175,NAGE!N$7:T$52,7,0))","v":""},{"$f":"IF($A175=\"\",\"\",VLOOKUP($A175,INSCRITS!$D$4:$W$506,14,0))","v":""},{"$f":"IF(ISNA(VLOOKUP($A175,SURFSKI!AC$8:AI$53,6,0)),\"\",VLOOKUP($A175,SURFSKI!AC$8:AI$53,6,0))","v":""},{"$f":"IF(ISNA(VLOOKUP($A175,SURFSKI!AC$8:AI$53,7,0)),\"\",VLOOKUP($A175,SURFSKI!AC$8:AI$53,7,0))","v":""},{"$f":"IF($A175=\"\",\"\",VLOOKUP($A175,INSCRITS!$D$4:$W$506,15,0))","v":""},{"$f":"IF(ISNA(VLOOKUP($A175,OCEANMAN!AD$7:AJ$52,6,0)),\"\",VLOOKUP($A175,OCEANMAN!AD$7:AJ$52,6,0))","v":""},{"$f":"IF(ISNA(VLOOKUP($A175,OCEANMAN!AD$7:AJ$52,7,0)),\"\",VLOOKUP($A175,OCEANMAN!AD$7:AJ$52,7,0))","v":""},{"$f":"IF($A175=\"\",\"\",VLOOKUP($A175,INSCRITS!$D$4:$W$506,16,0))","v":""},{"$f":"IF(ISNA(VLOOKUP($A175,CNC!N$7:AC$52,6,0)),\"\",VLOOKUP($A175,CNC!N$7:AC$52,6,0))","v":""},{"$f":"IF(ISNA(VLOOKUP($A175,CNC!N$7:AC$52,7,0)),\"\",VLOOKUP($A175,CNC!N$7:AC$52,7,0))","v":""},0,{"$f":"IF($A175=\"\",\"\",VLOOKUP($A175,INSCRITS!$D$4:$W$506,16,0))","v":""},null,{"$f":"IF(AG175=\"\",\"\",VLOOKUP(AG175,[0]!Relais,2))","v":""},{"$f":"IF($A175=\"\",\"\",VLOOKUP($A175,INSCRITS!$D$4:$W$506,17,0))","v":""},null,{"$f":"IF(AJ175=\"\",\"\",VLOOKUP(AJ175,[0]!Relais,2))","v":""},{"$f":"IF($A175=\"\",\"\",VLOOKUP($A175,INSCRITS!$D$4:$W$506,18,0))","v":""},null,{"$f":"IF(AM175=\"\",\"\",VLOOKUP(AM175,[0]!Relais,2))","v":""},{"$f":"IF($A175=\"\",\"\",VLOOKUP($A175,INSCRITS!$D$4:$W$506,19,0))","v":""},null,{"$f":"IF(AP175=\"\",\"\",VLOOKUP(AP175,[0]!Relais,2))","v":""},0,0]
[null,null,null,{"$f":"IF($A176=\"\",\"\",VLOOKUP($A176,INSCRITS!$D$4:$W$501,4,0))","v":""},{"$f":"IF($A176=\"\",\"\",VLOOKUP($A176,INSCRITS!$D$4:$W$501,5,0))","v":""},{"$f":"IF($A176=\"\",\"\",VLOOKUP($A176,INSCRITS!$D$4:$W$501,6,0))","v":""},{"$f":"IF($A176=\"\",\"\",VLOOKUP($A176,INSCRITS!$D$4:$W$501,7,0))","v":""},{"$f":"IF($A176=\"\",\"\",VLOOKUP($A176,INSCRITS!$D$4:$W$501,8,0))","v":""},{"$f":"IF($A176=\"\",\"\",VLOOKUP($A176,INSCRITS!$D$4:$W$501,9,0))","v":""},{"$f":"IF($A176=\"\",\"\",VLOOKUP($A176,INSCRITS!$D$4:$W$506,10,0))","v":""},{"$f":"IF(ISNA(VLOOKUP($A176,SPRINT!AD$7:AJ$50,6,0)),\"\",VLOOKUP($A176,SPRINT!AD$7:AJ$50,6,0))","v":""},{"$f":"IF(ISNA(VLOOKUP($A176,SPRINT!AD$7:AJ$50,7,0)),\"\",VLOOKUP($A176,SPRINT!AD$7:AJ$50,7,0))","v":""},{"$f":"IF($A176=\"\",\"\",VLOOKUP($A176,INSCRITS!$D$4:$W$506,11,0))","v":""},{"$f":"IF(ISNA(VLOOKUP($A176,BATONS!AD$7:AJ$51,6,0)),\"\",VLOOKUP($A176,BATONS!AD$7:AJ$51,6,0))","v":""},{"$f":"IF(ISNA(VLOOKUP($A176,BATONS!AD$7:AJ$51,7,0)),\"\",VLOOKUP($A176,BATONS!AD$7:AJ$51,7,0))","v":""},{"$f":"IF($A176=\"\",\"\",VLOOKUP($A176,INSCRITS!$D$4:$W$506,12,0))","v":""},{"$f":"IF(ISNA(VLOOKUP($A176,PLANCHE!AC$7:AI$52,6,0)),\"\",VLOOKUP($A176,PLANCHE!AC$7:AI$52,6,0))","v":""},{"$f":"IF(ISNA(VLOOKUP($A176,PLANCHE!AC$7:AI$52,7,0)),\"\",VLOOKUP($A176,PLANCHE!AC$7:AI$52,7,0))","v":""},{"$f":"IF($A176=\"\",\"\",VLOOKUP($A176,INSCRITS!$D$4:$W$506,13,0))","v":""},{"$f":"IF(ISNA(VLOOKUP($A176,NAGE!N$7:T$52,6,0)),\"\",VLOOKUP($A176,NAGE!N$7:T$52,6,0))","v":""},{"$f":"IF(ISNA(VLOOKUP($A176,NAGE!N$7:T$52,7,0)),\"\",VLOOKUP($A176,NAGE!N$7:T$52,7,0))","v":""},{"$f":"IF($A176=\"\",\"\",VLOOKUP($A176,INSCRITS!$D$4:$W$506,14,0))","v":""},{"$f":"IF(ISNA(VLOOKUP($A176,SURFSKI!AC$8:AI$53,6,0)),\"\",VLOOKUP($A176,SURFSKI!AC$8:AI$53,6,0))","v":""},{"$f":"IF(ISNA(VLOOKUP($A176,SURFSKI!AC$8:AI$53,7,0)),\"\",VLOOKUP($A176,SURFSKI!AC$8:AI$53,7,0))","v":""},{"$f":"IF($A176=\"\",\"\",VLOOKUP($A176,INSCRITS!$D$4:$W$506,15,0))","v":""},{"$f":"IF(ISNA(VLOOKUP($A176,OCEANMAN!AD$7:AJ$52,6,0)),\"\",VLOOKUP($A176,OCEANMAN!AD$7:AJ$52,6,0))","v":""},{"$f":"IF(ISNA(VLOOKUP($A176,OCEANMAN!AD$7:AJ$52,7,0)),\"\",VLOOKUP($A176,OCEANMAN!AD$7:AJ$52,7,0))","v":""},{"$f":"IF($A176=\"\",\"\",VLOOKUP($A176,INSCRITS!$D$4:$W$506,16,0))","v":""},{"$f":"IF(ISNA(VLOOKUP($A176,CNC!N$7:AC$52,6,0)),\"\",VLOOKUP($A176,CNC!N$7:AC$52,6,0))","v":""},{"$f":"IF(ISNA(VLOOKUP($A176,CNC!N$7:AC$52,7,0)),\"\",VLOOKUP($A176,CNC!N$7:AC$52,7,0))","v":""},0,{"$f":"IF($A176=\"\",\"\",VLOOKUP($A176,INSCRITS!$D$4:$W$506,16,0))","v":""},null,{"$f":"IF(AG176=\"\",\"\",VLOOKUP(AG176,[0]!Relais,2))","v":""},{"$f":"IF($A176=\"\",\"\",VLOOKUP($A176,INSCRITS!$D$4:$W$506,17,0))","v":""},null,{"$f":"IF(AJ176=\"\",\"\",VLOOKUP(AJ176,[0]!Relais,2))","v":""},{"$f":"IF($A176=\"\",\"\",VLOOKUP($A176,INSCRITS!$D$4:$W$506,18,0))","v":""},null,{"$f":"IF(AM176=\"\",\"\",VLOOKUP(AM176,[0]!Relais,2))","v":""},{"$f":"IF($A176=\"\",\"\",VLOOKUP($A176,INSCRITS!$D$4:$W$506,19,0))","v":""},null,{"$f":"IF(AP176=\"\",\"\",VLOOKUP(AP176,[0]!Relais,2))","v":""},0,0]
[null,null,null,{"$f":"IF($A177=\"\",\"\",VLOOKUP($A177,INSCRITS!$D$4:$W$501,4,0))","v":""},{"$f":"IF($A177=\"\",\"\",VLOOKUP($A177,INSCRITS!$D$4:$W$501,5,0))","v":""},{"$f":"IF($A177=\"\",\"\",VLOOKUP($A177,INSCRITS!$D$4:$W$501,6,0))","v":""},{"$f":"IF($A177=\"\",\"\",VLOOKUP($A177,INSCRITS!$D$4:$W$501,7,0))","v":""},{"$f":"IF($A177=\"\",\"\",VLOOKUP($A177,INSCRITS!$D$4:$W$501,8,0))","v":""},{"$f":"IF($A177=\"\",\"\",VLOOKUP($A177,INSCRITS!$D$4:$W$501,9,0))","v":""},{"$f":"IF($A177=\"\",\"\",VLOOKUP($A177,INSCRITS!$D$4:$W$506,10,0))","v":""},{"$f":"IF(ISNA(VLOOKUP($A177,SPRINT!AD$7:AJ$50,6,0)),\"\",VLOOKUP($A177,SPRINT!AD$7:AJ$50,6,0))","v":""},{"$f":"IF(ISNA(VLOOKUP($A177,SPRINT!AD$7:AJ$50,7,0)),\"\",VLOOKUP($A177,SPRINT!AD$7:AJ$50,7,0))","v":""},{"$f":"IF($A177=\"\",\"\",VLOOKUP($A177,INSCRITS!$D$4:$W$506,11,0))","v":""},{"$f":"IF(ISNA(VLOOKUP($A177,BATONS!AD$7:AJ$51,6,0)),\"\",VLOOKUP($A177,BATONS!AD$7:AJ$51,6,0))","v":""},{"$f":"IF(ISNA(VLOOKUP($A177,BATONS!AD$7:AJ$51,7,0)),\"\",VLOOKUP($A177,BATONS!AD$7:AJ$51,7,0))","v":""},{"$f":"IF($A177=\"\",\"\",VLOOKUP($A177,INSCRITS!$D$4:$W$506,12,0))","v":""},{"$f":"IF(ISNA(VLOOKUP($A177,PLANCHE!AC$7:AI$52,6,0)),\"\",VLOOKUP($A177,PLANCHE!AC$7:AI$52,6,0))","v":""},{"$f":"IF(ISNA(VLOOKUP($A177,PLANCHE!AC$7:AI$52,7,0)),\"\",VLOOKUP($A177,PLANCHE!AC$7:AI$52,7,0))","v":""},{"$f":"IF($A177=\"\",\"\",VLOOKUP($A177,INSCRITS!$D$4:$W$506,13,0))","v":""},{"$f":"IF(ISNA(VLOOKUP($A177,NAGE!N$7:T$52,6,0)),\"\",VLOOKUP($A177,NAGE!N$7:T$52,6,0))","v":""},{"$f":"IF(ISNA(VLOOKUP($A177,NAGE!N$7:T$52,7,0)),\"\",VLOOKUP($A177,NAGE!N$7:T$52,7,0))","v":""},{"$f":"IF($A177=\"\",\"\",VLOOKUP($A177,INSCRITS!$D$4:$W$506,14,0))","v":""},{"$f":"IF(ISNA(VLOOKUP($A177,SURFSKI!AC$8:AI$53,6,0)),\"\",VLOOKUP($A177,SURFSKI!AC$8:AI$53,6,0))","v":""},{"$f":"IF(ISNA(VLOOKUP($A177,SURFSKI!AC$8:AI$53,7,0)),\"\",VLOOKUP($A177,SURFSKI!AC$8:AI$53,7,0))","v":""},{"$f":"IF($A177=\"\",\"\",VLOOKUP($A177,INSCRITS!$D$4:$W$506,15,0))","v":""},{"$f":"IF(ISNA(VLOOKUP($A177,OCEANMAN!AD$7:AJ$52,6,0)),\"\",VLOOKUP($A177,OCEANMAN!AD$7:AJ$52,6,0))","v":""},{"$f":"IF(ISNA(VLOOKUP($A177,OCEANMAN!AD$7:AJ$52,7,0)),\"\",VLOOKUP($A177,OCEANMAN!AD$7:AJ$52,7,0))","v":""},{"$f":"IF($A177=\"\",\"\",VLOOKUP($A177,INSCRITS!$D$4:$W$506,16,0))","v":""},{"$f":"IF(ISNA(VLOOKUP($A177,CNC!N$7:AC$52,6,0)),\"\",VLOOKUP($A177,CNC!N$7:AC$52,6,0))","v":""},{"$f":"IF(ISNA(VLOOKUP($A177,CNC!N$7:AC$52,7,0)),\"\",VLOOKUP($A177,CNC!N$7:AC$52,7,0))","v":""},0,{"$f":"IF($A177=\"\",\"\",VLOOKUP($A177,INSCRITS!$D$4:$W$506,16,0))","v":""},null,{"$f":"IF(AG177=\"\",\"\",VLOOKUP(AG177,[0]!Relais,2))","v":""},{"$f":"IF($A177=\"\",\"\",VLOOKUP($A177,INSCRITS!$D$4:$W$506,17,0))","v":""},null,{"$f":"IF(AJ177=\"\",\"\",VLOOKUP(AJ177,[0]!Relais,2))","v":""},{"$f":"IF($A177=\"\",\"\",VLOOKUP($A177,INSCRITS!$D$4:$W$506,18,0))","v":""},null,{"$f":"IF(AM177=\"\",\"\",VLOOKUP(AM177,[0]!Relais,2))","v":""},{"$f":"IF($A177=\"\",\"\",VLOOKUP($A177,INSCRITS!$D$4:$W$506,19,0))","v":""},null,{"$f":"IF(AP177=\"\",\"\",VLOOKUP(AP177,[0]!Relais,2))","v":""},0,0]
[null,null,null,{"$f":"IF($A178=\"\",\"\",VLOOKUP($A178,INSCRITS!$D$4:$W$501,4,0))","v":""},{"$f":"IF($A178=\"\",\"\",VLOOKUP($A178,INSCRITS!$D$4:$W$501,5,0))","v":""},{"$f":"IF($A178=\"\",\"\",VLOOKUP($A178,INSCRITS!$D$4:$W$501,6,0))","v":""},{"$f":"IF($A178=\"\",\"\",VLOOKUP($A178,INSCRITS!$D$4:$W$501,7,0))","v":""},{"$f":"IF($A178=\"\",\"\",VLOOKUP($A178,INSCRITS!$D$4:$W$501,8,0))","v":""},{"$f":"IF($A178=\"\",\"\",VLOOKUP($A178,INSCRITS!$D$4:$W$501,9,0))","v":""},{"$f":"IF($A178=\"\",\"\",VLOOKUP($A178,INSCRITS!$D$4:$W$506,10,0))","v":""},{"$f":"IF(ISNA(VLOOKUP($A178,SPRINT!AD$7:AJ$50,6,0)),\"\",VLOOKUP($A178,SPRINT!AD$7:AJ$50,6,0))","v":""},{"$f":"IF(ISNA(VLOOKUP($A178,SPRINT!AD$7:AJ$50,7,0)),\"\",VLOOKUP($A178,SPRINT!AD$7:AJ$50,7,0))","v":""},{"$f":"IF($A178=\"\",\"\",VLOOKUP($A178,INSCRITS!$D$4:$W$506,11,0))","v":""},{"$f":"IF(ISNA(VLOOKUP($A178,BATONS!AD$7:AJ$51,6,0)),\"\",VLOOKUP($A178,BATONS!AD$7:AJ$51,6,0))","v":""},{"$f":"IF(ISNA(VLOOKUP($A178,BATONS!AD$7:AJ$51,7,0)),\"\",VLOOKUP($A178,BATONS!AD$7:AJ$51,7,0))","v":""},{"$f":"IF($A178=\"\",\"\",VLOOKUP($A178,INSCRITS!$D$4:$W$506,12,0))","v":""},{"$f":"IF(ISNA(VLOOKUP($A178,PLANCHE!AC$7:AI$52,6,0)),\"\",VLOOKUP($A178,PLANCHE!AC$7:AI$52,6,0))","v":""},{"$f":"IF(ISNA(VLOOKUP($A178,PLANCHE!AC$7:AI$52,7,0)),\"\",VLOOKUP($A178,PLANCHE!AC$7:AI$52,7,0))","v":""},{"$f":"IF($A178=\"\",\"\",VLOOKUP($A178,INSCRITS!$D$4:$W$506,13,0))","v":""},{"$f":"IF(ISNA(VLOOKUP($A178,NAGE!N$7:T$52,6,0)),\"\",VLOOKUP($A178,NAGE!N$7:T$52,6,0))","v":""},{"$f":"IF(ISNA(VLOOKUP($A178,NAGE!N$7:T$52,7,0)),\"\",VLOOKUP($A178,NAGE!N$7:T$52,7,0))","v":""},{"$f":"IF($A178=\"\",\"\",VLOOKUP($A178,INSCRITS!$D$4:$W$506,14,0))","v":""},{"$f":"IF(ISNA(VLOOKUP($A178,SURFSKI!AC$8:AI$53,6,0)),\"\",VLOOKUP($A178,SURFSKI!AC$8:AI$53,6,0))","v":""},{"$f":"IF(ISNA(VLOOKUP($A178,SURFSKI!AC$8:AI$53,7,0)),\"\",VLOOKUP($A178,SURFSKI!AC$8:AI$53,7,0))","v":""},{"$f":"IF($A178=\"\",\"\",VLOOKUP($A178,INSCRITS!$D$4:$W$506,15,0))","v":""},{"$f":"IF(ISNA(VLOOKUP($A178,OCEANMAN!AD$7:AJ$52,6,0)),\"\",VLOOKUP($A178,OCEANMAN!AD$7:AJ$52,6,0))","v":""},{"$f":"IF(ISNA(VLOOKUP($A178,OCEANMAN!AD$7:AJ$52,7,0)),\"\",VLOOKUP($A178,OCEANMAN!AD$7:AJ$52,7,0))","v":""},{"$f":"IF($A178=\"\",\"\",VLOOKUP($A178,INSCRITS!$D$4:$W$506,16,0))","v":""},{"$f":"IF(ISNA(VLOOKUP($A178,CNC!N$7:AC$52,6,0)),\"\",VLOOKUP($A178,CNC!N$7:AC$52,6,0))","v":""},{"$f":"IF(ISNA(VLOOKUP($A178,CNC!N$7:AC$52,7,0)),\"\",VLOOKUP($A178,CNC!N$7:AC$52,7,0))","v":""},0,{"$f":"IF($A178=\"\",\"\",VLOOKUP($A178,INSCRITS!$D$4:$W$506,16,0))","v":""},null,{"$f":"IF(AG178=\"\",\"\",VLOOKUP(AG178,[0]!Relais,2))","v":""},{"$f":"IF($A178=\"\",\"\",VLOOKUP($A178,INSCRITS!$D$4:$W$506,17,0))","v":""},null,{"$f":"IF(AJ178=\"\",\"\",VLOOKUP(AJ178,[0]!Relais,2))","v":""},{"$f":"IF($A178=\"\",\"\",VLOOKUP($A178,INSCRITS!$D$4:$W$506,18,0))","v":""},null,{"$f":"IF(AM178=\"\",\"\",VLOOKUP(AM178,[0]!Relais,2))","v":""},{"$f":"IF($A178=\"\",\"\",VLOOKUP($A178,INSCRITS!$D$4:$W$506,19,0))","v":""},null,{"$f":"IF(AP178=\"\",\"\",VLOOKUP(AP178,[0]!Relais,2))","v":""},0,0]
[null,null,null,{"$f":"IF($A179=\"\",\"\",VLOOKUP($A179,INSCRITS!$D$4:$W$501,4,0))","v":""},{"$f":"IF($A179=\"\",\"\",VLOOKUP($A179,INSCRITS!$D$4:$W$501,5,0))","v":""},{"$f":"IF($A179=\"\",\"\",VLOOKUP($A179,INSCRITS!$D$4:$W$501,6,0))","v":""},{"$f":"IF($A179=\"\",\"\",VLOOKUP($A179,INSCRITS!$D$4:$W$501,7,0))","v":""},{"$f":"IF($A179=\"\",\"\",VLOOKUP($A179,INSCRITS!$D$4:$W$501,8,0))","v":""},{"$f":"IF($A179=\"\",\"\",VLOOKUP($A179,INSCRITS!$D$4:$W$501,9,0))","v":""},{"$f":"IF($A179=\"\",\"\",VLOOKUP($A179,INSCRITS!$D$4:$W$506,10,0))","v":""},{"$f":"IF(ISNA(VLOOKUP($A179,SPRINT!AD$7:AJ$50,6,0)),\"\",VLOOKUP($A179,SPRINT!AD$7:AJ$50,6,0))","v":""},{"$f":"IF(ISNA(VLOOKUP($A179,SPRINT!AD$7:AJ$50,7,0)),\"\",VLOOKUP($A179,SPRINT!AD$7:AJ$50,7,0))","v":""},{"$f":"IF($A179=\"\",\"\",VLOOKUP($A179,INSCRITS!$D$4:$W$506,11,0))","v":""},{"$f":"IF(ISNA(VLOOKUP($A179,BATONS!AD$7:AJ$51,6,0)),\"\",VLOOKUP($A179,BATONS!AD$7:AJ$51,6,0))","v":""},{"$f":"IF(ISNA(VLOOKUP($A179,BATONS!AD$7:AJ$51,7,0)),\"\",VLOOKUP($A179,BATONS!AD$7:AJ$51,7,0))","v":""},{"$f":"IF($A179=\"\",\"\",VLOOKUP($A179,INSCRITS!$D$4:$W$506,12,0))","v":""},{"$f":"IF(ISNA(VLOOKUP($A179,PLANCHE!AC$7:AI$52,6,0)),\"\",VLOOKUP($A179,PLANCHE!AC$7:AI$52,6,0))","v":""},{"$f":"IF(ISNA(VLOOKUP($A179,PLANCHE!AC$7:AI$52,7,0)),\"\",VLOOKUP($A179,PLANCHE!AC$7:AI$52,7,0))","v":""},{"$f":"IF($A179=\"\",\"\",VLOOKUP($A179,INSCRITS!$D$4:$W$506,13,0))","v":""},{"$f":"IF(ISNA(VLOOKUP($A179,NAGE!N$7:T$52,6,0)),\"\",VLOOKUP($A179,NAGE!N$7:T$52,6,0))","v":""},{"$f":"IF(ISNA(VLOOKUP($A179,NAGE!N$7:T$52,7,0)),\"\",VLOOKUP($A179,NAGE!N$7:T$52,7,0))","v":""},{"$f":"IF($A179=\"\",\"\",VLOOKUP($A179,INSCRITS!$D$4:$W$506,14,0))","v":""},{"$f":"IF(ISNA(VLOOKUP($A179,SURFSKI!AC$8:AI$53,6,0)),\"\",VLOOKUP($A179,SURFSKI!AC$8:AI$53,6,0))","v":""},{"$f":"IF(ISNA(VLOOKUP($A179,SURFSKI!AC$8:AI$53,7,0)),\"\",VLOOKUP($A179,SURFSKI!AC$8:AI$53,7,0))","v":""},{"$f":"IF($A179=\"\",\"\",VLOOKUP($A179,INSCRITS!$D$4:$W$506,15,0))","v":""},{"$f":"IF(ISNA(VLOOKUP($A179,OCEANMAN!AD$7:AJ$52,6,0)),\"\",VLOOKUP($A179,OCEANMAN!AD$7:AJ$52,6,0))","v":""},{"$f":"IF(ISNA(VLOOKUP($A179,OCEANMAN!AD$7:AJ$52,7,0)),\"\",VLOOKUP($A179,OCEANMAN!AD$7:AJ$52,7,0))","v":""},{"$f":"IF($A179=\"\",\"\",VLOOKUP($A179,INSCRITS!$D$4:$W$506,16,0))","v":""},{"$f":"IF(ISNA(VLOOKUP($A179,CNC!N$7:AC$52,6,0)),\"\",VLOOKUP($A179,CNC!N$7:AC$52,6,0))","v":""},{"$f":"IF(ISNA(VLOOKUP($A179,CNC!N$7:AC$52,7,0)),\"\",VLOOKUP($A179,CNC!N$7:AC$52,7,0))","v":""},0,{"$f":"IF($A179=\"\",\"\",VLOOKUP($A179,INSCRITS!$D$4:$W$506,16,0))","v":""},null,{"$f":"IF(AG179=\"\",\"\",VLOOKUP(AG179,[0]!Relais,2))","v":""},{"$f":"IF($A179=\"\",\"\",VLOOKUP($A179,INSCRITS!$D$4:$W$506,17,0))","v":""},null,{"$f":"IF(AJ179=\"\",\"\",VLOOKUP(AJ179,[0]!Relais,2))","v":""},{"$f":"IF($A179=\"\",\"\",VLOOKUP($A179,INSCRITS!$D$4:$W$506,18,0))","v":""},null,{"$f":"IF(AM179=\"\",\"\",VLOOKUP(AM179,[0]!Relais,2))","v":""},{"$f":"IF($A179=\"\",\"\",VLOOKUP($A179,INSCRITS!$D$4:$W$506,19,0))","v":""},null,{"$f":"IF(AP179=\"\",\"\",VLOOKUP(AP179,[0]!Relais,2))","v":""},0,0]
[null,null,null,{"$f":"IF($A180=\"\",\"\",VLOOKUP($A180,INSCRITS!$D$4:$W$501,4,0))","v":""},{"$f":"IF($A180=\"\",\"\",VLOOKUP($A180,INSCRITS!$D$4:$W$501,5,0))","v":""},{"$f":"IF($A180=\"\",\"\",VLOOKUP($A180,INSCRITS!$D$4:$W$501,6,0))","v":""},{"$f":"IF($A180=\"\",\"\",VLOOKUP($A180,INSCRITS!$D$4:$W$501,7,0))","v":""},{"$f":"IF($A180=\"\",\"\",VLOOKUP($A180,INSCRITS!$D$4:$W$501,8,0))","v":""},{"$f":"IF($A180=\"\",\"\",VLOOKUP($A180,INSCRITS!$D$4:$W$501,9,0))","v":""},{"$f":"IF($A180=\"\",\"\",VLOOKUP($A180,INSCRITS!$D$4:$W$506,10,0))","v":""},{"$f":"IF(ISNA(VLOOKUP($A180,SPRINT!AD$7:AJ$50,6,0)),\"\",VLOOKUP($A180,SPRINT!AD$7:AJ$50,6,0))","v":""},{"$f":"IF(ISNA(VLOOKUP($A180,SPRINT!AD$7:AJ$50,7,0)),\"\",VLOOKUP($A180,SPRINT!AD$7:AJ$50,7,0))","v":""},{"$f":"IF($A180=\"\",\"\",VLOOKUP($A180,INSCRITS!$D$4:$W$506,11,0))","v":""},{"$f":"IF(ISNA(VLOOKUP($A180,BATONS!AD$7:AJ$51,6,0)),\"\",VLOOKUP($A180,BATONS!AD$7:AJ$51,6,0))","v":""},{"$f":"IF(ISNA(VLOOKUP($A180,BATONS!AD$7:AJ$51,7,0)),\"\",VLOOKUP($A180,BATONS!AD$7:AJ$51,7,0))","v":""},{"$f":"IF($A180=\"\",\"\",VLOOKUP($A180,INSCRITS!$D$4:$W$506,12,0))","v":""},{"$f":"IF(ISNA(VLOOKUP($A180,PLANCHE!AC$7:AI$52,6,0)),\"\",VLOOKUP($A180,PLANCHE!AC$7:AI$52,6,0))","v":""},{"$f":"IF(ISNA(VLOOKUP($A180,PLANCHE!AC$7:AI$52,7,0)),\"\",VLOOKUP($A180,PLANCHE!AC$7:AI$52,7,0))","v":""},{"$f":"IF($A180=\"\",\"\",VLOOKUP($A180,INSCRITS!$D$4:$W$506,13,0))","v":""},{"$f":"IF(ISNA(VLOOKUP($A180,NAGE!N$7:T$52,6,0)),\"\",VLOOKUP($A180,NAGE!N$7:T$52,6,0))","v":""},{"$f":"IF(ISNA(VLOOKUP($A180,NAGE!N$7:T$52,7,0)),\"\",VLOOKUP($A180,NAGE!N$7:T$52,7,0))","v":""},{"$f":"IF($A180=\"\",\"\",VLOOKUP($A180,INSCRITS!$D$4:$W$506,14,0))","v":""},{"$f":"IF(ISNA(VLOOKUP($A180,SURFSKI!AC$8:AI$53,6,0)),\"\",VLOOKUP($A180,SURFSKI!AC$8:AI$53,6,0))","v":""},{"$f":"IF(ISNA(VLOOKUP($A180,SURFSKI!AC$8:AI$53,7,0)),\"\",VLOOKUP($A180,SURFSKI!AC$8:AI$53,7,0))","v":""},{"$f":"IF($A180=\"\",\"\",VLOOKUP($A180,INSCRITS!$D$4:$W$506,15,0))","v":""},{"$f":"IF(ISNA(VLOOKUP($A180,OCEANMAN!AD$7:AJ$52,6,0)),\"\",VLOOKUP($A180,OCEANMAN!AD$7:AJ$52,6,0))","v":""},{"$f":"IF(ISNA(VLOOKUP($A180,OCEANMAN!AD$7:AJ$52,7,0)),\"\",VLOOKUP($A180,OCEANMAN!AD$7:AJ$52,7,0))","v":""},{"$f":"IF($A180=\"\",\"\",VLOOKUP($A180,INSCRITS!$D$4:$W$506,16,0))","v":""},{"$f":"IF(ISNA(VLOOKUP($A180,CNC!N$7:AC$52,6,0)),\"\",VLOOKUP($A180,CNC!N$7:AC$52,6,0))","v":""},{"$f":"IF(ISNA(VLOOKUP($A180,CNC!N$7:AC$52,7,0)),\"\",VLOOKUP($A180,CNC!N$7:AC$52,7,0))","v":""},0,{"$f":"IF($A180=\"\",\"\",VLOOKUP($A180,INSCRITS!$D$4:$W$506,16,0))","v":""},null,{"$f":"IF(AG180=\"\",\"\",VLOOKUP(AG180,[0]!Relais,2))","v":""},{"$f":"IF($A180=\"\",\"\",VLOOKUP($A180,INSCRITS!$D$4:$W$506,17,0))","v":""},null,{"$f":"IF(AJ180=\"\",\"\",VLOOKUP(AJ180,[0]!Relais,2))","v":""},{"$f":"IF($A180=\"\",\"\",VLOOKUP($A180,INSCRITS!$D$4:$W$506,18,0))","v":""},null,{"$f":"IF(AM180=\"\",\"\",VLOOKUP(AM180,[0]!Relais,2))","v":""},{"$f":"IF($A180=\"\",\"\",VLOOKUP($A180,INSCRITS!$D$4:$W$506,19,0))","v":""},null,{"$f":"IF(AP180=\"\",\"\",VLOOKUP(AP180,[0]!Relais,2))","v":""},0,0]
[null,null,null,{"$f":"IF($A181=\"\",\"\",VLOOKUP($A181,INSCRITS!$D$4:$W$501,4,0))","v":""},{"$f":"IF($A181=\"\",\"\",VLOOKUP($A181,INSCRITS!$D$4:$W$501,5,0))","v":""},{"$f":"IF($A181=\"\",\"\",VLOOKUP($A181,INSCRITS!$D$4:$W$501,6,0))","v":""},{"$f":"IF($A181=\"\",\"\",VLOOKUP($A181,INSCRITS!$D$4:$W$501,7,0))","v":""},{"$f":"IF($A181=\"\",\"\",VLOOKUP($A181,INSCRITS!$D$4:$W$501,8,0))","v":""},{"$f":"IF($A181=\"\",\"\",VLOOKUP($A181,INSCRITS!$D$4:$W$501,9,0))","v":""},{"$f":"IF($A181=\"\",\"\",VLOOKUP($A181,INSCRITS!$D$4:$W$506,10,0))","v":""},{"$f":"IF(ISNA(VLOOKUP($A181,SPRINT!AD$7:AJ$50,6,0)),\"\",VLOOKUP($A181,SPRINT!AD$7:AJ$50,6,0))","v":""},{"$f":"IF(ISNA(VLOOKUP($A181,SPRINT!AD$7:AJ$50,7,0)),\"\",VLOOKUP($A181,SPRINT!AD$7:AJ$50,7,0))","v":""},{"$f":"IF($A181=\"\",\"\",VLOOKUP($A181,INSCRITS!$D$4:$W$506,11,0))","v":""},{"$f":"IF(ISNA(VLOOKUP($A181,BATONS!AD$7:AJ$51,6,0)),\"\",VLOOKUP($A181,BATONS!AD$7:AJ$51,6,0))","v":""},{"$f":"IF(ISNA(VLOOKUP($A181,BATONS!AD$7:AJ$51,7,0)),\"\",VLOOKUP($A181,BATONS!AD$7:AJ$51,7,0))","v":""},{"$f":"IF($A181=\"\",\"\",VLOOKUP($A181,INSCRITS!$D$4:$W$506,12,0))","v":""},{"$f":"IF(ISNA(VLOOKUP($A181,PLANCHE!AC$7:AI$52,6,0)),\"\",VLOOKUP($A181,PLANCHE!AC$7:AI$52,6,0))","v":""},{"$f":"IF(ISNA(VLOOKUP($A181,PLANCHE!AC$7:AI$52,7,0)),\"\",VLOOKUP($A181,PLANCHE!AC$7:AI$52,7,0))","v":""},{"$f":"IF($A181=\"\",\"\",VLOOKUP($A181,INSCRITS!$D$4:$W$506,13,0))","v":""},{"$f":"IF(ISNA(VLOOKUP($A181,NAGE!N$7:T$52,6,0)),\"\",VLOOKUP($A181,NAGE!N$7:T$52,6,0))","v":""},{"$f":"IF(ISNA(VLOOKUP($A181,NAGE!N$7:T$52,7,0)),\"\",VLOOKUP($A181,NAGE!N$7:T$52,7,0))","v":""},{"$f":"IF($A181=\"\",\"\",VLOOKUP($A181,INSCRITS!$D$4:$W$506,14,0))","v":""},{"$f":"IF(ISNA(VLOOKUP($A181,SURFSKI!AC$8:AI$53,6,0)),\"\",VLOOKUP($A181,SURFSKI!AC$8:AI$53,6,0))","v":""},{"$f":"IF(ISNA(VLOOKUP($A181,SURFSKI!AC$8:AI$53,7,0)),\"\",VLOOKUP($A181,SURFSKI!AC$8:AI$53,7,0))","v":""},{"$f":"IF($A181=\"\",\"\",VLOOKUP($A181,INSCRITS!$D$4:$W$506,15,0))","v":""},{"$f":"IF(ISNA(VLOOKUP($A181,OCEANMAN!AD$7:AJ$52,6,0)),\"\",VLOOKUP($A181,OCEANMAN!AD$7:AJ$52,6,0))","v":""},{"$f":"IF(ISNA(VLOOKUP($A181,OCEANMAN!AD$7:AJ$52,7,0)),\"\",VLOOKUP($A181,OCEANMAN!AD$7:AJ$52,7,0))","v":""},{"$f":"IF($A181=\"\",\"\",VLOOKUP($A181,INSCRITS!$D$4:$W$506,16,0))","v":""},{"$f":"IF(ISNA(VLOOKUP($A181,CNC!N$7:AC$52,6,0)),\"\",VLOOKUP($A181,CNC!N$7:AC$52,6,0))","v":""},{"$f":"IF(ISNA(VLOOKUP($A181,CNC!N$7:AC$52,7,0)),\"\",VLOOKUP($A181,CNC!N$7:AC$52,7,0))","v":""},0,{"$f":"IF($A181=\"\",\"\",VLOOKUP($A181,INSCRITS!$D$4:$W$506,16,0))","v":""},null,{"$f":"IF(AG181=\"\",\"\",VLOOKUP(AG181,[0]!Relais,2))","v":""},{"$f":"IF($A181=\"\",\"\",VLOOKUP($A181,INSCRITS!$D$4:$W$506,17,0))","v":""},null,{"$f":"IF(AJ181=\"\",\"\",VLOOKUP(AJ181,[0]!Relais,2))","v":""},{"$f":"IF($A181=\"\",\"\",VLOOKUP($A181,INSCRITS!$D$4:$W$506,18,0))","v":""},null,{"$f":"IF(AM181=\"\",\"\",VLOOKUP(AM181,[0]!Relais,2))","v":""},{"$f":"IF($A181=\"\",\"\",VLOOKUP($A181,INSCRITS!$D$4:$W$506,19,0))","v":""},null,{"$f":"IF(AP181=\"\",\"\",VLOOKUP(AP181,[0]!Relais,2))","v":""},0,0]
[null,null,null,{"$f":"IF($A182=\"\",\"\",VLOOKUP($A182,INSCRITS!$D$4:$W$501,4,0))","v":""},{"$f":"IF($A182=\"\",\"\",VLOOKUP($A182,INSCRITS!$D$4:$W$501,5,0))","v":""},{"$f":"IF($A182=\"\",\"\",VLOOKUP($A182,INSCRITS!$D$4:$W$501,6,0))","v":""},{"$f":"IF($A182=\"\",\"\",VLOOKUP($A182,INSCRITS!$D$4:$W$501,7,0))","v":""},{"$f":"IF($A182=\"\",\"\",VLOOKUP($A182,INSCRITS!$D$4:$W$501,8,0))","v":""},{"$f":"IF($A182=\"\",\"\",VLOOKUP($A182,INSCRITS!$D$4:$W$501,9,0))","v":""},{"$f":"IF($A182=\"\",\"\",VLOOKUP($A182,INSCRITS!$D$4:$W$506,10,0))","v":""},{"$f":"IF(ISNA(VLOOKUP($A182,SPRINT!AD$7:AJ$50,6,0)),\"\",VLOOKUP($A182,SPRINT!AD$7:AJ$50,6,0))","v":""},{"$f":"IF(ISNA(VLOOKUP($A182,SPRINT!AD$7:AJ$50,7,0)),\"\",VLOOKUP($A182,SPRINT!AD$7:AJ$50,7,0))","v":""},{"$f":"IF($A182=\"\",\"\",VLOOKUP($A182,INSCRITS!$D$4:$W$506,11,0))","v":""},{"$f":"IF(ISNA(VLOOKUP($A182,BATONS!AD$7:AJ$51,6,0)),\"\",VLOOKUP($A182,BATONS!AD$7:AJ$51,6,0))","v":""},{"$f":"IF(ISNA(VLOOKUP($A182,BATONS!AD$7:AJ$51,7,0)),\"\",VLOOKUP($A182,BATONS!AD$7:AJ$51,7,0))","v":""},{"$f":"IF($A182=\"\",\"\",VLOOKUP($A182,INSCRITS!$D$4:$W$506,12,0))","v":""},{"$f":"IF(ISNA(VLOOKUP($A182,PLANCHE!AC$7:AI$52,6,0)),\"\",VLOOKUP($A182,PLANCHE!AC$7:AI$52,6,0))","v":""},{"$f":"IF(ISNA(VLOOKUP($A182,PLANCHE!AC$7:AI$52,7,0)),\"\",VLOOKUP($A182,PLANCHE!AC$7:AI$52,7,0))","v":""},{"$f":"IF($A182=\"\",\"\",VLOOKUP($A182,INSCRITS!$D$4:$W$506,13,0))","v":""},{"$f":"IF(ISNA(VLOOKUP($A182,NAGE!N$7:T$52,6,0)),\"\",VLOOKUP($A182,NAGE!N$7:T$52,6,0))","v":""},{"$f":"IF(ISNA(VLOOKUP($A182,NAGE!N$7:T$52,7,0)),\"\",VLOOKUP($A182,NAGE!N$7:T$52,7,0))","v":""},{"$f":"IF($A182=\"\",\"\",VLOOKUP($A182,INSCRITS!$D$4:$W$506,14,0))","v":""},{"$f":"IF(ISNA(VLOOKUP($A182,SURFSKI!AC$8:AI$53,6,0)),\"\",VLOOKUP($A182,SURFSKI!AC$8:AI$53,6,0))","v":""},{"$f":"IF(ISNA(VLOOKUP($A182,SURFSKI!AC$8:AI$53,7,0)),\"\",VLOOKUP($A182,SURFSKI!AC$8:AI$53,7,0))","v":""},{"$f":"IF($A182=\"\",\"\",VLOOKUP($A182,INSCRITS!$D$4:$W$506,15,0))","v":""},{"$f":"IF(ISNA(VLOOKUP($A182,OCEANMAN!AD$7:AJ$52,6,0)),\"\",VLOOKUP($A182,OCEANMAN!AD$7:AJ$52,6,0))","v":""},{"$f":"IF(ISNA(VLOOKUP($A182,OCEANMAN!AD$7:AJ$52,7,0)),\"\",VLOOKUP($A182,OCEANMAN!AD$7:AJ$52,7,0))","v":""},{"$f":"IF($A182=\"\",\"\",VLOOKUP($A182,INSCRITS!$D$4:$W$506,16,0))","v":""},{"$f":"IF(ISNA(VLOOKUP($A182,CNC!N$7:AC$52,6,0)),\"\",VLOOKUP($A182,CNC!N$7:AC$52,6,0))","v":""},{"$f":"IF(ISNA(VLOOKUP($A182,CNC!N$7:AC$52,7,0)),\"\",VLOOKUP($A182,CNC!N$7:AC$52,7,0))","v":""},0,{"$f":"IF($A182=\"\",\"\",VLOOKUP($A182,INSCRITS!$D$4:$W$506,16,0))","v":""},null,{"$f":"IF(AG182=\"\",\"\",VLOOKUP(AG182,[0]!Relais,2))","v":""},{"$f":"IF($A182=\"\",\"\",VLOOKUP($A182,INSCRITS!$D$4:$W$506,17,0))","v":""},null,{"$f":"IF(AJ182=\"\",\"\",VLOOKUP(AJ182,[0]!Relais,2))","v":""},{"$f":"IF($A182=\"\",\"\",VLOOKUP($A182,INSCRITS!$D$4:$W$506,18,0))","v":""},null,{"$f":"IF(AM182=\"\",\"\",VLOOKUP(AM182,[0]!Relais,2))","v":""},{"$f":"IF($A182=\"\",\"\",VLOOKUP($A182,INSCRITS!$D$4:$W$506,19,0))","v":""},null,{"$f":"IF(AP182=\"\",\"\",VLOOKUP(AP182,[0]!Relais,2))","v":""},0,0]
[null,null,null,{"$f":"IF($A183=\"\",\"\",VLOOKUP($A183,INSCRITS!$D$4:$W$501,4,0))","v":""},{"$f":"IF($A183=\"\",\"\",VLOOKUP($A183,INSCRITS!$D$4:$W$501,5,0))","v":""},{"$f":"IF($A183=\"\",\"\",VLOOKUP($A183,INSCRITS!$D$4:$W$501,6,0))","v":""},{"$f":"IF($A183=\"\",\"\",VLOOKUP($A183,INSCRITS!$D$4:$W$501,7,0))","v":""},{"$f":"IF($A183=\"\",\"\",VLOOKUP($A183,INSCRITS!$D$4:$W$501,8,0))","v":""},{"$f":"IF($A183=\"\",\"\",VLOOKUP($A183,INSCRITS!$D$4:$W$501,9,0))","v":""},{"$f":"IF($A183=\"\",\"\",VLOOKUP($A183,INSCRITS!$D$4:$W$506,10,0))","v":""},{"$f":"IF(ISNA(VLOOKUP($A183,SPRINT!AD$7:AJ$50,6,0)),\"\",VLOOKUP($A183,SPRINT!AD$7:AJ$50,6,0))","v":""},{"$f":"IF(ISNA(VLOOKUP($A183,SPRINT!AD$7:AJ$50,7,0)),\"\",VLOOKUP($A183,SPRINT!AD$7:AJ$50,7,0))","v":""},{"$f":"IF($A183=\"\",\"\",VLOOKUP($A183,INSCRITS!$D$4:$W$506,11,0))","v":""},{"$f":"IF(ISNA(VLOOKUP($A183,BATONS!AD$7:AJ$51,6,0)),\"\",VLOOKUP($A183,BATONS!AD$7:AJ$51,6,0))","v":""},{"$f":"IF(ISNA(VLOOKUP($A183,BATONS!AD$7:AJ$51,7,0)),\"\",VLOOKUP($A183,BATONS!AD$7:AJ$51,7,0))","v":""},{"$f":"IF($A183=\"\",\"\",VLOOKUP($A183,INSCRITS!$D$4:$W$506,12,0))","v":""},{"$f":"IF(ISNA(VLOOKUP($A183,PLANCHE!AC$7:AI$52,6,0)),\"\",VLOOKUP($A183,PLANCHE!AC$7:AI$52,6,0))","v":""},{"$f":"IF(ISNA(VLOOKUP($A183,PLANCHE!AC$7:AI$52,7,0)),\"\",VLOOKUP($A183,PLANCHE!AC$7:AI$52,7,0))","v":""},{"$f":"IF($A183=\"\",\"\",VLOOKUP($A183,INSCRITS!$D$4:$W$506,13,0))","v":""},{"$f":"IF(ISNA(VLOOKUP($A183,NAGE!N$7:T$52,6,0)),\"\",VLOOKUP($A183,NAGE!N$7:T$52,6,0))","v":""},{"$f":"IF(ISNA(VLOOKUP($A183,NAGE!N$7:T$52,7,0)),\"\",VLOOKUP($A183,NAGE!N$7:T$52,7,0))","v":""},{"$f":"IF($A183=\"\",\"\",VLOOKUP($A183,INSCRITS!$D$4:$W$506,14,0))","v":""},{"$f":"IF(ISNA(VLOOKUP($A183,SURFSKI!AC$8:AI$53,6,0)),\"\",VLOOKUP($A183,SURFSKI!AC$8:AI$53,6,0))","v":""},{"$f":"IF(ISNA(VLOOKUP($A183,SURFSKI!AC$8:AI$53,7,0)),\"\",VLOOKUP($A183,SURFSKI!AC$8:AI$53,7,0))","v":""},{"$f":"IF($A183=\"\",\"\",VLOOKUP($A183,INSCRITS!$D$4:$W$506,15,0))","v":""},{"$f":"IF(ISNA(VLOOKUP($A183,OCEANMAN!AD$7:AJ$52,6,0)),\"\",VLOOKUP($A183,OCEANMAN!AD$7:AJ$52,6,0))","v":""},{"$f":"IF(ISNA(VLOOKUP($A183,OCEANMAN!AD$7:AJ$52,7,0)),\"\",VLOOKUP($A183,OCEANMAN!AD$7:AJ$52,7,0))","v":""},{"$f":"IF($A183=\"\",\"\",VLOOKUP($A183,INSCRITS!$D$4:$W$506,16,0))","v":""},{"$f":"IF(ISNA(VLOOKUP($A183,CNC!N$7:AC$52,6,0)),\"\",VLOOKUP($A183,CNC!N$7:AC$52,6,0))","v":""},{"$f":"IF(ISNA(VLOOKUP($A183,CNC!N$7:AC$52,7,0)),\"\",VLOOKUP($A183,CNC!N$7:AC$52,7,0))","v":""},0,{"$f":"IF($A183=\"\",\"\",VLOOKUP($A183,INSCRITS!$D$4:$W$506,16,0))","v":""},null,{"$f":"IF(AG183=\"\",\"\",VLOOKUP(AG183,[0]!Relais,2))","v":""},{"$f":"IF($A183=\"\",\"\",VLOOKUP($A183,INSCRITS!$D$4:$W$506,17,0))","v":""},null,{"$f":"IF(AJ183=\"\",\"\",VLOOKUP(AJ183,[0]!Relais,2))","v":""},{"$f":"IF($A183=\"\",\"\",VLOOKUP($A183,INSCRITS!$D$4:$W$506,18,0))","v":""},null,{"$f":"IF(AM183=\"\",\"\",VLOOKUP(AM183,[0]!Relais,2))","v":""},{"$f":"IF($A183=\"\",\"\",VLOOKUP($A183,INSCRITS!$D$4:$W$506,19,0))","v":""},null,{"$f":"IF(AP183=\"\",\"\",VLOOKUP(AP183,[0]!Relais,2))","v":""},0,0]
[null,null,null,{"$f":"IF($A184=\"\",\"\",VLOOKUP($A184,INSCRITS!$D$4:$W$501,4,0))","v":""},{"$f":"IF($A184=\"\",\"\",VLOOKUP($A184,INSCRITS!$D$4:$W$501,5,0))","v":""},{"$f":"IF($A184=\"\",\"\",VLOOKUP($A184,INSCRITS!$D$4:$W$501,6,0))","v":""},{"$f":"IF($A184=\"\",\"\",VLOOKUP($A184,INSCRITS!$D$4:$W$501,7,0))","v":""},{"$f":"IF($A184=\"\",\"\",VLOOKUP($A184,INSCRITS!$D$4:$W$501,8,0))","v":""},{"$f":"IF($A184=\"\",\"\",VLOOKUP($A184,INSCRITS!$D$4:$W$501,9,0))","v":""},{"$f":"IF($A184=\"\",\"\",VLOOKUP($A184,INSCRITS!$D$4:$W$506,10,0))","v":""},{"$f":"IF(ISNA(VLOOKUP($A184,SPRINT!AD$7:AJ$50,6,0)),\"\",VLOOKUP($A184,SPRINT!AD$7:AJ$50,6,0))","v":""},{"$f":"IF(ISNA(VLOOKUP($A184,SPRINT!AD$7:AJ$50,7,0)),\"\",VLOOKUP($A184,SPRINT!AD$7:AJ$50,7,0))","v":""},{"$f":"IF($A184=\"\",\"\",VLOOKUP($A184,INSCRITS!$D$4:$W$506,11,0))","v":""},{"$f":"IF(ISNA(VLOOKUP($A184,BATONS!AD$7:AJ$51,6,0)),\"\",VLOOKUP($A184,BATONS!AD$7:AJ$51,6,0))","v":""},{"$f":"IF(ISNA(VLOOKUP($A184,BATONS!AD$7:AJ$51,7,0)),\"\",VLOOKUP($A184,BATONS!AD$7:AJ$51,7,0))","v":""},{"$f":"IF($A184=\"\",\"\",VLOOKUP($A184,INSCRITS!$D$4:$W$506,12,0))","v":""},{"$f":"IF(ISNA(VLOOKUP($A184,PLANCHE!AC$7:AI$52,6,0)),\"\",VLOOKUP($A184,PLANCHE!AC$7:AI$52,6,0))","v":""},{"$f":"IF(ISNA(VLOOKUP($A184,PLANCHE!AC$7:AI$52,7,0)),\"\",VLOOKUP($A184,PLANCHE!AC$7:AI$52,7,0))","v":""},{"$f":"IF($A184=\"\",\"\",VLOOKUP($A184,INSCRITS!$D$4:$W$506,13,0))","v":""},{"$f":"IF(ISNA(VLOOKUP($A184,NAGE!N$7:T$52,6,0)),\"\",VLOOKUP($A184,NAGE!N$7:T$52,6,0))","v":""},{"$f":"IF(ISNA(VLOOKUP($A184,NAGE!N$7:T$52,7,0)),\"\",VLOOKUP($A184,NAGE!N$7:T$52,7,0))","v":""},{"$f":"IF($A184=\"\",\"\",VLOOKUP($A184,INSCRITS!$D$4:$W$506,14,0))","v":""},{"$f":"IF(ISNA(VLOOKUP($A184,SURFSKI!AC$8:AI$53,6,0)),\"\",VLOOKUP($A184,SURFSKI!AC$8:AI$53,6,0))","v":""},{"$f":"IF(ISNA(VLOOKUP($A184,SURFSKI!AC$8:AI$53,7,0)),\"\",VLOOKUP($A184,SURFSKI!AC$8:AI$53,7,0))","v":""},{"$f":"IF($A184=\"\",\"\",VLOOKUP($A184,INSCRITS!$D$4:$W$506,15,0))","v":""},{"$f":"IF(ISNA(VLOOKUP($A184,OCEANMAN!AD$7:AJ$52,6,0)),\"\",VLOOKUP($A184,OCEANMAN!AD$7:AJ$52,6,0))","v":""},{"$f":"IF(ISNA(VLOOKUP($A184,OCEANMAN!AD$7:AJ$52,7,0)),\"\",VLOOKUP($A184,OCEANMAN!AD$7:AJ$52,7,0))","v":""},{"$f":"IF($A184=\"\",\"\",VLOOKUP($A184,INSCRITS!$D$4:$W$506,16,0))","v":""},{"$f":"IF(ISNA(VLOOKUP($A184,CNC!N$7:AC$52,6,0)),\"\",VLOOKUP($A184,CNC!N$7:AC$52,6,0))","v":""},{"$f":"IF(ISNA(VLOOKUP($A184,CNC!N$7:AC$52,7,0)),\"\",VLOOKUP($A184,CNC!N$7:AC$52,7,0))","v":""},0,{"$f":"IF($A184=\"\",\"\",VLOOKUP($A184,INSCRITS!$D$4:$W$506,16,0))","v":""},null,{"$f":"IF(AG184=\"\",\"\",VLOOKUP(AG184,[0]!Relais,2))","v":""},{"$f":"IF($A184=\"\",\"\",VLOOKUP($A184,INSCRITS!$D$4:$W$506,17,0))","v":""},null,{"$f":"IF(AJ184=\"\",\"\",VLOOKUP(AJ184,[0]!Relais,2))","v":""},{"$f":"IF($A184=\"\",\"\",VLOOKUP($A184,INSCRITS!$D$4:$W$506,18,0))","v":""},null,{"$f":"IF(AM184=\"\",\"\",VLOOKUP(AM184,[0]!Relais,2))","v":""},{"$f":"IF($A184=\"\",\"\",VLOOKUP($A184,INSCRITS!$D$4:$W$506,19,0))","v":""},null,{"$f":"IF(AP184=\"\",\"\",VLOOKUP(AP184,[0]!Relais,2))","v":""},0,0]
[null,null,null,{"$f":"IF($A185=\"\",\"\",VLOOKUP($A185,INSCRITS!$D$4:$W$501,4,0))","v":""},{"$f":"IF($A185=\"\",\"\",VLOOKUP($A185,INSCRITS!$D$4:$W$501,5,0))","v":""},{"$f":"IF($A185=\"\",\"\",VLOOKUP($A185,INSCRITS!$D$4:$W$501,6,0))","v":""},{"$f":"IF($A185=\"\",\"\",VLOOKUP($A185,INSCRITS!$D$4:$W$501,7,0))","v":""},{"$f":"IF($A185=\"\",\"\",VLOOKUP($A185,INSCRITS!$D$4:$W$501,8,0))","v":""},{"$f":"IF($A185=\"\",\"\",VLOOKUP($A185,INSCRITS!$D$4:$W$501,9,0))","v":""},{"$f":"IF($A185=\"\",\"\",VLOOKUP($A185,INSCRITS!$D$4:$W$506,10,0))","v":""},{"$f":"IF(ISNA(VLOOKUP($A185,SPRINT!AD$7:AJ$50,6,0)),\"\",VLOOKUP($A185,SPRINT!AD$7:AJ$50,6,0))","v":""},{"$f":"IF(ISNA(VLOOKUP($A185,SPRINT!AD$7:AJ$50,7,0)),\"\",VLOOKUP($A185,SPRINT!AD$7:AJ$50,7,0))","v":""},{"$f":"IF($A185=\"\",\"\",VLOOKUP($A185,INSCRITS!$D$4:$W$506,11,0))","v":""},{"$f":"IF(ISNA(VLOOKUP($A185,BATONS!AD$7:AJ$51,6,0)),\"\",VLOOKUP($A185,BATONS!AD$7:AJ$51,6,0))","v":""},{"$f":"IF(ISNA(VLOOKUP($A185,BATONS!AD$7:AJ$51,7,0)),\"\",VLOOKUP($A185,BATONS!AD$7:AJ$51,7,0))","v":""},{"$f":"IF($A185=\"\",\"\",VLOOKUP($A185,INSCRITS!$D$4:$W$506,12,0))","v":""},{"$f":"IF(ISNA(VLOOKUP($A185,PLANCHE!AC$7:AI$52,6,0)),\"\",VLOOKUP($A185,PLANCHE!AC$7:AI$52,6,0))","v":""},{"$f":"IF(ISNA(VLOOKUP($A185,PLANCHE!AC$7:AI$52,7,0)),\"\",VLOOKUP($A185,PLANCHE!AC$7:AI$52,7,0))","v":""},{"$f":"IF($A185=\"\",\"\",VLOOKUP($A185,INSCRITS!$D$4:$W$506,13,0))","v":""},{"$f":"IF(ISNA(VLOOKUP($A185,NAGE!N$7:T$52,6,0)),\"\",VLOOKUP($A185,NAGE!N$7:T$52,6,0))","v":""},{"$f":"IF(ISNA(VLOOKUP($A185,NAGE!N$7:T$52,7,0)),\"\",VLOOKUP($A185,NAGE!N$7:T$52,7,0))","v":""},{"$f":"IF($A185=\"\",\"\",VLOOKUP($A185,INSCRITS!$D$4:$W$506,14,0))","v":""},{"$f":"IF(ISNA(VLOOKUP($A185,SURFSKI!AC$8:AI$53,6,0)),\"\",VLOOKUP($A185,SURFSKI!AC$8:AI$53,6,0))","v":""},{"$f":"IF(ISNA(VLOOKUP($A185,SURFSKI!AC$8:AI$53,7,0)),\"\",VLOOKUP($A185,SURFSKI!AC$8:AI$53,7,0))","v":""},{"$f":"IF($A185=\"\",\"\",VLOOKUP($A185,INSCRITS!$D$4:$W$506,15,0))","v":""},{"$f":"IF(ISNA(VLOOKUP($A185,OCEANMAN!AD$7:AJ$52,6,0)),\"\",VLOOKUP($A185,OCEANMAN!AD$7:AJ$52,6,0))","v":""},{"$f":"IF(ISNA(VLOOKUP($A185,OCEANMAN!AD$7:AJ$52,7,0)),\"\",VLOOKUP($A185,OCEANMAN!AD$7:AJ$52,7,0))","v":""},{"$f":"IF($A185=\"\",\"\",VLOOKUP($A185,INSCRITS!$D$4:$W$506,16,0))","v":""},{"$f":"IF(ISNA(VLOOKUP($A185,CNC!N$7:AC$52,6,0)),\"\",VLOOKUP($A185,CNC!N$7:AC$52,6,0))","v":""},{"$f":"IF(ISNA(VLOOKUP($A185,CNC!N$7:AC$52,7,0)),\"\",VLOOKUP($A185,CNC!N$7:AC$52,7,0))","v":""},0,{"$f":"IF($A185=\"\",\"\",VLOOKUP($A185,INSCRITS!$D$4:$W$506,16,0))","v":""},null,{"$f":"IF(AG185=\"\",\"\",VLOOKUP(AG185,[0]!Relais,2))","v":""},{"$f":"IF($A185=\"\",\"\",VLOOKUP($A185,INSCRITS!$D$4:$W$506,17,0))","v":""},null,{"$f":"IF(AJ185=\"\",\"\",VLOOKUP(AJ185,[0]!Relais,2))","v":""},{"$f":"IF($A185=\"\",\"\",VLOOKUP($A185,INSCRITS!$D$4:$W$506,18,0))","v":""},null,{"$f":"IF(AM185=\"\",\"\",VLOOKUP(AM185,[0]!Relais,2))","v":""},{"$f":"IF($A185=\"\",\"\",VLOOKUP($A185,INSCRITS!$D$4:$W$506,19,0))","v":""},null,{"$f":"IF(AP185=\"\",\"\",VLOOKUP(AP185,[0]!Relais,2))","v":""},0,0]
[null,null,null,{"$f":"IF($A186=\"\",\"\",VLOOKUP($A186,INSCRITS!$D$4:$W$501,4,0))","v":""},{"$f":"IF($A186=\"\",\"\",VLOOKUP($A186,INSCRITS!$D$4:$W$501,5,0))","v":""},{"$f":"IF($A186=\"\",\"\",VLOOKUP($A186,INSCRITS!$D$4:$W$501,6,0))","v":""},{"$f":"IF($A186=\"\",\"\",VLOOKUP($A186,INSCRITS!$D$4:$W$501,7,0))","v":""},{"$f":"IF($A186=\"\",\"\",VLOOKUP($A186,INSCRITS!$D$4:$W$501,8,0))","v":""},{"$f":"IF($A186=\"\",\"\",VLOOKUP($A186,INSCRITS!$D$4:$W$501,9,0))","v":""},{"$f":"IF($A186=\"\",\"\",VLOOKUP($A186,INSCRITS!$D$4:$W$506,10,0))","v":""},{"$f":"IF(ISNA(VLOOKUP($A186,SPRINT!AD$7:AJ$50,6,0)),\"\",VLOOKUP($A186,SPRINT!AD$7:AJ$50,6,0))","v":""},{"$f":"IF(ISNA(VLOOKUP($A186,SPRINT!AD$7:AJ$50,7,0)),\"\",VLOOKUP($A186,SPRINT!AD$7:AJ$50,7,0))","v":""},{"$f":"IF($A186=\"\",\"\",VLOOKUP($A186,INSCRITS!$D$4:$W$506,11,0))","v":""},{"$f":"IF(ISNA(VLOOKUP($A186,BATONS!AD$7:AJ$51,6,0)),\"\",VLOOKUP($A186,BATONS!AD$7:AJ$51,6,0))","v":""},{"$f":"IF(ISNA(VLOOKUP($A186,BATONS!AD$7:AJ$51,7,0)),\"\",VLOOKUP($A186,BATONS!AD$7:AJ$51,7,0))","v":""},{"$f":"IF($A186=\"\",\"\",VLOOKUP($A186,INSCRITS!$D$4:$W$506,12,0))","v":""},{"$f":"IF(ISNA(VLOOKUP($A186,PLANCHE!AC$7:AI$52,6,0)),\"\",VLOOKUP($A186,PLANCHE!AC$7:AI$52,6,0))","v":""},{"$f":"IF(ISNA(VLOOKUP($A186,PLANCHE!AC$7:AI$52,7,0)),\"\",VLOOKUP($A186,PLANCHE!AC$7:AI$52,7,0))","v":""},{"$f":"IF($A186=\"\",\"\",VLOOKUP($A186,INSCRITS!$D$4:$W$506,13,0))","v":""},{"$f":"IF(ISNA(VLOOKUP($A186,NAGE!N$7:T$52,6,0)),\"\",VLOOKUP($A186,NAGE!N$7:T$52,6,0))","v":""},{"$f":"IF(ISNA(VLOOKUP($A186,NAGE!N$7:T$52,7,0)),\"\",VLOOKUP($A186,NAGE!N$7:T$52,7,0))","v":""},{"$f":"IF($A186=\"\",\"\",VLOOKUP($A186,INSCRITS!$D$4:$W$506,14,0))","v":""},{"$f":"IF(ISNA(VLOOKUP($A186,SURFSKI!AC$8:AI$53,6,0)),\"\",VLOOKUP($A186,SURFSKI!AC$8:AI$53,6,0))","v":""},{"$f":"IF(ISNA(VLOOKUP($A186,SURFSKI!AC$8:AI$53,7,0)),\"\",VLOOKUP($A186,SURFSKI!AC$8:AI$53,7,0))","v":""},{"$f":"IF($A186=\"\",\"\",VLOOKUP($A186,INSCRITS!$D$4:$W$506,15,0))","v":""},{"$f":"IF(ISNA(VLOOKUP($A186,OCEANMAN!AD$7:AJ$52,6,0)),\"\",VLOOKUP($A186,OCEANMAN!AD$7:AJ$52,6,0))","v":""},{"$f":"IF(ISNA(VLOOKUP($A186,OCEANMAN!AD$7:AJ$52,7,0)),\"\",VLOOKUP($A186,OCEANMAN!AD$7:AJ$52,7,0))","v":""},{"$f":"IF($A186=\"\",\"\",VLOOKUP($A186,INSCRITS!$D$4:$W$506,16,0))","v":""},{"$f":"IF(ISNA(VLOOKUP($A186,CNC!N$7:AC$52,6,0)),\"\",VLOOKUP($A186,CNC!N$7:AC$52,6,0))","v":""},{"$f":"IF(ISNA(VLOOKUP($A186,CNC!N$7:AC$52,7,0)),\"\",VLOOKUP($A186,CNC!N$7:AC$52,7,0))","v":""},0,{"$f":"IF($A186=\"\",\"\",VLOOKUP($A186,INSCRITS!$D$4:$W$506,16,0))","v":""},null,{"$f":"IF(AG186=\"\",\"\",VLOOKUP(AG186,[0]!Relais,2))","v":""},{"$f":"IF($A186=\"\",\"\",VLOOKUP($A186,INSCRITS!$D$4:$W$506,17,0))","v":""},null,{"$f":"IF(AJ186=\"\",\"\",VLOOKUP(AJ186,[0]!Relais,2))","v":""},{"$f":"IF($A186=\"\",\"\",VLOOKUP($A186,INSCRITS!$D$4:$W$506,18,0))","v":""},null,{"$f":"IF(AM186=\"\",\"\",VLOOKUP(AM186,[0]!Relais,2))","v":""},{"$f":"IF($A186=\"\",\"\",VLOOKUP($A186,INSCRITS!$D$4:$W$506,19,0))","v":""},null,{"$f":"IF(AP186=\"\",\"\",VLOOKUP(AP186,[0]!Relais,2))","v":""},0,0]
[null,null,null,{"$f":"IF($A187=\"\",\"\",VLOOKUP($A187,INSCRITS!$D$4:$W$501,4,0))","v":""},{"$f":"IF($A187=\"\",\"\",VLOOKUP($A187,INSCRITS!$D$4:$W$501,5,0))","v":""},{"$f":"IF($A187=\"\",\"\",VLOOKUP($A187,INSCRITS!$D$4:$W$501,6,0))","v":""},{"$f":"IF($A187=\"\",\"\",VLOOKUP($A187,INSCRITS!$D$4:$W$501,7,0))","v":""},{"$f":"IF($A187=\"\",\"\",VLOOKUP($A187,INSCRITS!$D$4:$W$501,8,0))","v":""},{"$f":"IF($A187=\"\",\"\",VLOOKUP($A187,INSCRITS!$D$4:$W$501,9,0))","v":""},{"$f":"IF($A187=\"\",\"\",VLOOKUP($A187,INSCRITS!$D$4:$W$506,10,0))","v":""},{"$f":"IF(ISNA(VLOOKUP($A187,SPRINT!AD$7:AJ$50,6,0)),\"\",VLOOKUP($A187,SPRINT!AD$7:AJ$50,6,0))","v":""},{"$f":"IF(ISNA(VLOOKUP($A187,SPRINT!AD$7:AJ$50,7,0)),\"\",VLOOKUP($A187,SPRINT!AD$7:AJ$50,7,0))","v":""},{"$f":"IF($A187=\"\",\"\",VLOOKUP($A187,INSCRITS!$D$4:$W$506,11,0))","v":""},{"$f":"IF(ISNA(VLOOKUP($A187,BATONS!AD$7:AJ$51,6,0)),\"\",VLOOKUP($A187,BATONS!AD$7:AJ$51,6,0))","v":""},{"$f":"IF(ISNA(VLOOKUP($A187,BATONS!AD$7:AJ$51,7,0)),\"\",VLOOKUP($A187,BATONS!AD$7:AJ$51,7,0))","v":""},{"$f":"IF($A187=\"\",\"\",VLOOKUP($A187,INSCRITS!$D$4:$W$506,12,0))","v":""},{"$f":"IF(ISNA(VLOOKUP($A187,PLANCHE!AC$7:AI$52,6,0)),\"\",VLOOKUP($A187,PLANCHE!AC$7:AI$52,6,0))","v":""},{"$f":"IF(ISNA(VLOOKUP($A187,PLANCHE!AC$7:AI$52,7,0)),\"\",VLOOKUP($A187,PLANCHE!AC$7:AI$52,7,0))","v":""},{"$f":"IF($A187=\"\",\"\",VLOOKUP($A187,INSCRITS!$D$4:$W$506,13,0))","v":""},{"$f":"IF(ISNA(VLOOKUP($A187,NAGE!N$7:T$52,6,0)),\"\",VLOOKUP($A187,NAGE!N$7:T$52,6,0))","v":""},{"$f":"IF(ISNA(VLOOKUP($A187,NAGE!N$7:T$52,7,0)),\"\",VLOOKUP($A187,NAGE!N$7:T$52,7,0))","v":""},{"$f":"IF($A187=\"\",\"\",VLOOKUP($A187,INSCRITS!$D$4:$W$506,14,0))","v":""},{"$f":"IF(ISNA(VLOOKUP($A187,SURFSKI!AC$8:AI$53,6,0)),\"\",VLOOKUP($A187,SURFSKI!AC$8:AI$53,6,0))","v":""},{"$f":"IF(ISNA(VLOOKUP($A187,SURFSKI!AC$8:AI$53,7,0)),\"\",VLOOKUP($A187,SURFSKI!AC$8:AI$53,7,0))","v":""},{"$f":"IF($A187=\"\",\"\",VLOOKUP($A187,INSCRITS!$D$4:$W$506,15,0))","v":""},{"$f":"IF(ISNA(VLOOKUP($A187,OCEANMAN!AD$7:AJ$52,6,0)),\"\",VLOOKUP($A187,OCEANMAN!AD$7:AJ$52,6,0))","v":""},{"$f":"IF(ISNA(VLOOKUP($A187,OCEANMAN!AD$7:AJ$52,7,0)),\"\",VLOOKUP($A187,OCEANMAN!AD$7:AJ$52,7,0))","v":""},{"$f":"IF($A187=\"\",\"\",VLOOKUP($A187,INSCRITS!$D$4:$W$506,16,0))","v":""},{"$f":"IF(ISNA(VLOOKUP($A187,CNC!N$7:AC$52,6,0)),\"\",VLOOKUP($A187,CNC!N$7:AC$52,6,0))","v":""},{"$f":"IF(ISNA(VLOOKUP($A187,CNC!N$7:AC$52,7,0)),\"\",VLOOKUP($A187,CNC!N$7:AC$52,7,0))","v":""},0,{"$f":"IF($A187=\"\",\"\",VLOOKUP($A187,INSCRITS!$D$4:$W$506,16,0))","v":""},null,{"$f":"IF(AG187=\"\",\"\",VLOOKUP(AG187,[0]!Relais,2))","v":""},{"$f":"IF($A187=\"\",\"\",VLOOKUP($A187,INSCRITS!$D$4:$W$506,17,0))","v":""},null,{"$f":"IF(AJ187=\"\",\"\",VLOOKUP(AJ187,[0]!Relais,2))","v":""},{"$f":"IF($A187=\"\",\"\",VLOOKUP($A187,INSCRITS!$D$4:$W$506,18,0))","v":""},null,{"$f":"IF(AM187=\"\",\"\",VLOOKUP(AM187,[0]!Relais,2))","v":""},{"$f":"IF($A187=\"\",\"\",VLOOKUP($A187,INSCRITS!$D$4:$W$506,19,0))","v":""},null,{"$f":"IF(AP187=\"\",\"\",VLOOKUP(AP187,[0]!Relais,2))","v":""},0,0]
[null,null,null,{"$f":"IF($A188=\"\",\"\",VLOOKUP($A188,INSCRITS!$D$4:$W$501,4,0))","v":""},{"$f":"IF($A188=\"\",\"\",VLOOKUP($A188,INSCRITS!$D$4:$W$501,5,0))","v":""},{"$f":"IF($A188=\"\",\"\",VLOOKUP($A188,INSCRITS!$D$4:$W$501,6,0))","v":""},{"$f":"IF($A188=\"\",\"\",VLOOKUP($A188,INSCRITS!$D$4:$W$501,7,0))","v":""},{"$f":"IF($A188=\"\",\"\",VLOOKUP($A188,INSCRITS!$D$4:$W$501,8,0))","v":""},{"$f":"IF($A188=\"\",\"\",VLOOKUP($A188,INSCRITS!$D$4:$W$501,9,0))","v":""},{"$f":"IF($A188=\"\",\"\",VLOOKUP($A188,INSCRITS!$D$4:$W$506,10,0))","v":""},{"$f":"IF(ISNA(VLOOKUP($A188,SPRINT!AD$7:AJ$50,6,0)),\"\",VLOOKUP($A188,SPRINT!AD$7:AJ$50,6,0))","v":""},{"$f":"IF(ISNA(VLOOKUP($A188,SPRINT!AD$7:AJ$50,7,0)),\"\",VLOOKUP($A188,SPRINT!AD$7:AJ$50,7,0))","v":""},{"$f":"IF($A188=\"\",\"\",VLOOKUP($A188,INSCRITS!$D$4:$W$506,11,0))","v":""},{"$f":"IF(ISNA(VLOOKUP($A188,BATONS!AD$7:AJ$51,6,0)),\"\",VLOOKUP($A188,BATONS!AD$7:AJ$51,6,0))","v":""},{"$f":"IF(ISNA(VLOOKUP($A188,BATONS!AD$7:AJ$51,7,0)),\"\",VLOOKUP($A188,BATONS!AD$7:AJ$51,7,0))","v":""},{"$f":"IF($A188=\"\",\"\",VLOOKUP($A188,INSCRITS!$D$4:$W$506,12,0))","v":""},{"$f":"IF(ISNA(VLOOKUP($A188,PLANCHE!AC$7:AI$52,6,0)),\"\",VLOOKUP($A188,PLANCHE!AC$7:AI$52,6,0))","v":""},{"$f":"IF(ISNA(VLOOKUP($A188,PLANCHE!AC$7:AI$52,7,0)),\"\",VLOOKUP($A188,PLANCHE!AC$7:AI$52,7,0))","v":""},{"$f":"IF($A188=\"\",\"\",VLOOKUP($A188,INSCRITS!$D$4:$W$506,13,0))","v":""},{"$f":"IF(ISNA(VLOOKUP($A188,NAGE!N$7:T$52,6,0)),\"\",VLOOKUP($A188,NAGE!N$7:T$52,6,0))","v":""},{"$f":"IF(ISNA(VLOOKUP($A188,NAGE!N$7:T$52,7,0)),\"\",VLOOKUP($A188,NAGE!N$7:T$52,7,0))","v":""},{"$f":"IF($A188=\"\",\"\",VLOOKUP($A188,INSCRITS!$D$4:$W$506,14,0))","v":""},{"$f":"IF(ISNA(VLOOKUP($A188,SURFSKI!AC$8:AI$53,6,0)),\"\",VLOOKUP($A188,SURFSKI!AC$8:AI$53,6,0))","v":""},{"$f":"IF(ISNA(VLOOKUP($A188,SURFSKI!AC$8:AI$53,7,0)),\"\",VLOOKUP($A188,SURFSKI!AC$8:AI$53,7,0))","v":""},{"$f":"IF($A188=\"\",\"\",VLOOKUP($A188,INSCRITS!$D$4:$W$506,15,0))","v":""},{"$f":"IF(ISNA(VLOOKUP($A188,OCEANMAN!AD$7:AJ$52,6,0)),\"\",VLOOKUP($A188,OCEANMAN!AD$7:AJ$52,6,0))","v":""},{"$f":"IF(ISNA(VLOOKUP($A188,OCEANMAN!AD$7:AJ$52,7,0)),\"\",VLOOKUP($A188,OCEANMAN!AD$7:AJ$52,7,0))","v":""},{"$f":"IF($A188=\"\",\"\",VLOOKUP($A188,INSCRITS!$D$4:$W$506,16,0))","v":""},{"$f":"IF(ISNA(VLOOKUP($A188,CNC!N$7:AC$52,6,0)),\"\",VLOOKUP($A188,CNC!N$7:AC$52,6,0))","v":""},{"$f":"IF(ISNA(VLOOKUP($A188,CNC!N$7:AC$52,7,0)),\"\",VLOOKUP($A188,CNC!N$7:AC$52,7,0))","v":""},0,{"$f":"IF($A188=\"\",\"\",VLOOKUP($A188,INSCRITS!$D$4:$W$506,16,0))","v":""},null,{"$f":"IF(AG188=\"\",\"\",VLOOKUP(AG188,[0]!Relais,2))","v":""},{"$f":"IF($A188=\"\",\"\",VLOOKUP($A188,INSCRITS!$D$4:$W$506,17,0))","v":""},null,{"$f":"IF(AJ188=\"\",\"\",VLOOKUP(AJ188,[0]!Relais,2))","v":""},{"$f":"IF($A188=\"\",\"\",VLOOKUP($A188,INSCRITS!$D$4:$W$506,18,0))","v":""},null,{"$f":"IF(AM188=\"\",\"\",VLOOKUP(AM188,[0]!Relais,2))","v":""},{"$f":"IF($A188=\"\",\"\",VLOOKUP($A188,INSCRITS!$D$4:$W$506,19,0))","v":""},null,{"$f":"IF(AP188=\"\",\"\",VLOOKUP(AP188,[0]!Relais,2))","v":""},0,0]
[null,null,null,{"$f":"IF($A189=\"\",\"\",VLOOKUP($A189,INSCRITS!$D$4:$W$501,4,0))","v":""},{"$f":"IF($A189=\"\",\"\",VLOOKUP($A189,INSCRITS!$D$4:$W$501,5,0))","v":""},{"$f":"IF($A189=\"\",\"\",VLOOKUP($A189,INSCRITS!$D$4:$W$501,6,0))","v":""},{"$f":"IF($A189=\"\",\"\",VLOOKUP($A189,INSCRITS!$D$4:$W$501,7,0))","v":""},{"$f":"IF($A189=\"\",\"\",VLOOKUP($A189,INSCRITS!$D$4:$W$501,8,0))","v":""},{"$f":"IF($A189=\"\",\"\",VLOOKUP($A189,INSCRITS!$D$4:$W$501,9,0))","v":""},{"$f":"IF($A189=\"\",\"\",VLOOKUP($A189,INSCRITS!$D$4:$W$506,10,0))","v":""},{"$f":"IF(ISNA(VLOOKUP($A189,SPRINT!AD$7:AJ$50,6,0)),\"\",VLOOKUP($A189,SPRINT!AD$7:AJ$50,6,0))","v":""},{"$f":"IF(ISNA(VLOOKUP($A189,SPRINT!AD$7:AJ$50,7,0)),\"\",VLOOKUP($A189,SPRINT!AD$7:AJ$50,7,0))","v":""},{"$f":"IF($A189=\"\",\"\",VLOOKUP($A189,INSCRITS!$D$4:$W$506,11,0))","v":""},{"$f":"IF(ISNA(VLOOKUP($A189,BATONS!AD$7:AJ$51,6,0)),\"\",VLOOKUP($A189,BATONS!AD$7:AJ$51,6,0))","v":""},{"$f":"IF(ISNA(VLOOKUP($A189,BATONS!AD$7:AJ$51,7,0)),\"\",VLOOKUP($A189,BATONS!AD$7:AJ$51,7,0))","v":""},{"$f":"IF($A189=\"\",\"\",VLOOKUP($A189,INSCRITS!$D$4:$W$506,12,0))","v":""},{"$f":"IF(ISNA(VLOOKUP($A189,PLANCHE!AC$7:AI$52,6,0)),\"\",VLOOKUP($A189,PLANCHE!AC$7:AI$52,6,0))","v":""},{"$f":"IF(ISNA(VLOOKUP($A189,PLANCHE!AC$7:AI$52,7,0)),\"\",VLOOKUP($A189,PLANCHE!AC$7:AI$52,7,0))","v":""},{"$f":"IF($A189=\"\",\"\",VLOOKUP($A189,INSCRITS!$D$4:$W$506,13,0))","v":""},{"$f":"IF(ISNA(VLOOKUP($A189,NAGE!N$7:T$52,6,0)),\"\",VLOOKUP($A189,NAGE!N$7:T$52,6,0))","v":""},{"$f":"IF(ISNA(VLOOKUP($A189,NAGE!N$7:T$52,7,0)),\"\",VLOOKUP($A189,NAGE!N$7:T$52,7,0))","v":""},{"$f":"IF($A189=\"\",\"\",VLOOKUP($A189,INSCRITS!$D$4:$W$506,14,0))","v":""},{"$f":"IF(ISNA(VLOOKUP($A189,SURFSKI!AC$8:AI$53,6,0)),\"\",VLOOKUP($A189,SURFSKI!AC$8:AI$53,6,0))","v":""},{"$f":"IF(ISNA(VLOOKUP($A189,SURFSKI!AC$8:AI$53,7,0)),\"\",VLOOKUP($A189,SURFSKI!AC$8:AI$53,7,0))","v":""},{"$f":"IF($A189=\"\",\"\",VLOOKUP($A189,INSCRITS!$D$4:$W$506,15,0))","v":""},{"$f":"IF(ISNA(VLOOKUP($A189,OCEANMAN!AD$7:AJ$52,6,0)),\"\",VLOOKUP($A189,OCEANMAN!AD$7:AJ$52,6,0))","v":""},{"$f":"IF(ISNA(VLOOKUP($A189,OCEANMAN!AD$7:AJ$52,7,0)),\"\",VLOOKUP($A189,OCEANMAN!AD$7:AJ$52,7,0))","v":""},{"$f":"IF($A189=\"\",\"\",VLOOKUP($A189,INSCRITS!$D$4:$W$506,16,0))","v":""},{"$f":"IF(ISNA(VLOOKUP($A189,CNC!N$7:AC$52,6,0)),\"\",VLOOKUP($A189,CNC!N$7:AC$52,6,0))","v":""},{"$f":"IF(ISNA(VLOOKUP($A189,CNC!N$7:AC$52,7,0)),\"\",VLOOKUP($A189,CNC!N$7:AC$52,7,0))","v":""},0,{"$f":"IF($A189=\"\",\"\",VLOOKUP($A189,INSCRITS!$D$4:$W$506,16,0))","v":""},null,{"$f":"IF(AG189=\"\",\"\",VLOOKUP(AG189,[0]!Relais,2))","v":""},{"$f":"IF($A189=\"\",\"\",VLOOKUP($A189,INSCRITS!$D$4:$W$506,17,0))","v":""},null,{"$f":"IF(AJ189=\"\",\"\",VLOOKUP(AJ189,[0]!Relais,2))","v":""},{"$f":"IF($A189=\"\",\"\",VLOOKUP($A189,INSCRITS!$D$4:$W$506,18,0))","v":""},null,{"$f":"IF(AM189=\"\",\"\",VLOOKUP(AM189,[0]!Relais,2))","v":""},{"$f":"IF($A189=\"\",\"\",VLOOKUP($A189,INSCRITS!$D$4:$W$506,19,0))","v":""},null,{"$f":"IF(AP189=\"\",\"\",VLOOKUP(AP189,[0]!Relais,2))","v":""},0,0]
[null,null,null,{"$f":"IF($A190=\"\",\"\",VLOOKUP($A190,INSCRITS!$D$4:$W$501,4,0))","v":""},{"$f":"IF($A190=\"\",\"\",VLOOKUP($A190,INSCRITS!$D$4:$W$501,5,0))","v":""},{"$f":"IF($A190=\"\",\"\",VLOOKUP($A190,INSCRITS!$D$4:$W$501,6,0))","v":""},{"$f":"IF($A190=\"\",\"\",VLOOKUP($A190,INSCRITS!$D$4:$W$501,7,0))","v":""},{"$f":"IF($A190=\"\",\"\",VLOOKUP($A190,INSCRITS!$D$4:$W$501,8,0))","v":""},{"$f":"IF($A190=\"\",\"\",VLOOKUP($A190,INSCRITS!$D$4:$W$501,9,0))","v":""},{"$f":"IF($A190=\"\",\"\",VLOOKUP($A190,INSCRITS!$D$4:$W$506,10,0))","v":""},{"$f":"IF(ISNA(VLOOKUP($A190,SPRINT!AD$7:AJ$50,6,0)),\"\",VLOOKUP($A190,SPRINT!AD$7:AJ$50,6,0))","v":""},{"$f":"IF(ISNA(VLOOKUP($A190,SPRINT!AD$7:AJ$50,7,0)),\"\",VLOOKUP($A190,SPRINT!AD$7:AJ$50,7,0))","v":""},{"$f":"IF($A190=\"\",\"\",VLOOKUP($A190,INSCRITS!$D$4:$W$506,11,0))","v":""},{"$f":"IF(ISNA(VLOOKUP($A190,BATONS!AD$7:AJ$51,6,0)),\"\",VLOOKUP($A190,BATONS!AD$7:AJ$51,6,0))","v":""},{"$f":"IF(ISNA(VLOOKUP($A190,BATONS!AD$7:AJ$51,7,0)),\"\",VLOOKUP($A190,BATONS!AD$7:AJ$51,7,0))","v":""},{"$f":"IF($A190=\"\",\"\",VLOOKUP($A190,INSCRITS!$D$4:$W$506,12,0))","v":""},{"$f":"IF(ISNA(VLOOKUP($A190,PLANCHE!AC$7:AI$52,6,0)),\"\",VLOOKUP($A190,PLANCHE!AC$7:AI$52,6,0))","v":""},{"$f":"IF(ISNA(VLOOKUP($A190,PLANCHE!AC$7:AI$52,7,0)),\"\",VLOOKUP($A190,PLANCHE!AC$7:AI$52,7,0))","v":""},{"$f":"IF($A190=\"\",\"\",VLOOKUP($A190,INSCRITS!$D$4:$W$506,13,0))","v":""},{"$f":"IF(ISNA(VLOOKUP($A190,NAGE!N$7:T$52,6,0)),\"\",VLOOKUP($A190,NAGE!N$7:T$52,6,0))","v":""},{"$f":"IF(ISNA(VLOOKUP($A190,NAGE!N$7:T$52,7,0)),\"\",VLOOKUP($A190,NAGE!N$7:T$52,7,0))","v":""},{"$f":"IF($A190=\"\",\"\",VLOOKUP($A190,INSCRITS!$D$4:$W$506,14,0))","v":""},{"$f":"IF(ISNA(VLOOKUP($A190,SURFSKI!AC$8:AI$53,6,0)),\"\",VLOOKUP($A190,SURFSKI!AC$8:AI$53,6,0))","v":""},{"$f":"IF(ISNA(VLOOKUP($A190,SURFSKI!AC$8:AI$53,7,0)),\"\",VLOOKUP($A190,SURFSKI!AC$8:AI$53,7,0))","v":""},{"$f":"IF($A190=\"\",\"\",VLOOKUP($A190,INSCRITS!$D$4:$W$506,15,0))","v":""},{"$f":"IF(ISNA(VLOOKUP($A190,OCEANMAN!AD$7:AJ$52,6,0)),\"\",VLOOKUP($A190,OCEANMAN!AD$7:AJ$52,6,0))","v":""},{"$f":"IF(ISNA(VLOOKUP($A190,OCEANMAN!AD$7:AJ$52,7,0)),\"\",VLOOKUP($A190,OCEANMAN!AD$7:AJ$52,7,0))","v":""},{"$f":"IF($A190=\"\",\"\",VLOOKUP($A190,INSCRITS!$D$4:$W$506,16,0))","v":""},{"$f":"IF(ISNA(VLOOKUP($A190,CNC!N$7:AC$52,6,0)),\"\",VLOOKUP($A190,CNC!N$7:AC$52,6,0))","v":""},{"$f":"IF(ISNA(VLOOKUP($A190,CNC!N$7:AC$52,7,0)),\"\",VLOOKUP($A190,CNC!N$7:AC$52,7,0))","v":""},0,{"$f":"IF($A190=\"\",\"\",VLOOKUP($A190,INSCRITS!$D$4:$W$506,16,0))","v":""},null,{"$f":"IF(AG190=\"\",\"\",VLOOKUP(AG190,[0]!Relais,2))","v":""},{"$f":"IF($A190=\"\",\"\",VLOOKUP($A190,INSCRITS!$D$4:$W$506,17,0))","v":""},null,{"$f":"IF(AJ190=\"\",\"\",VLOOKUP(AJ190,[0]!Relais,2))","v":""},{"$f":"IF($A190=\"\",\"\",VLOOKUP($A190,INSCRITS!$D$4:$W$506,18,0))","v":""},null,{"$f":"IF(AM190=\"\",\"\",VLOOKUP(AM190,[0]!Relais,2))","v":""},{"$f":"IF($A190=\"\",\"\",VLOOKUP($A190,INSCRITS!$D$4:$W$506,19,0))","v":""},null,{"$f":"IF(AP190=\"\",\"\",VLOOKUP(AP190,[0]!Relais,2))","v":""},0,0]
[null,null,null,{"$f":"IF($A191=\"\",\"\",VLOOKUP($A191,INSCRITS!$D$4:$W$501,4,0))","v":""},{"$f":"IF($A191=\"\",\"\",VLOOKUP($A191,INSCRITS!$D$4:$W$501,5,0))","v":""},{"$f":"IF($A191=\"\",\"\",VLOOKUP($A191,INSCRITS!$D$4:$W$501,6,0))","v":""},{"$f":"IF($A191=\"\",\"\",VLOOKUP($A191,INSCRITS!$D$4:$W$501,7,0))","v":""},{"$f":"IF($A191=\"\",\"\",VLOOKUP($A191,INSCRITS!$D$4:$W$501,8,0))","v":""},{"$f":"IF($A191=\"\",\"\",VLOOKUP($A191,INSCRITS!$D$4:$W$501,9,0))","v":""},{"$f":"IF($A191=\"\",\"\",VLOOKUP($A191,INSCRITS!$D$4:$W$506,10,0))","v":""},{"$f":"IF(ISNA(VLOOKUP($A191,SPRINT!AD$7:AJ$50,6,0)),\"\",VLOOKUP($A191,SPRINT!AD$7:AJ$50,6,0))","v":""},{"$f":"IF(ISNA(VLOOKUP($A191,SPRINT!AD$7:AJ$50,7,0)),\"\",VLOOKUP($A191,SPRINT!AD$7:AJ$50,7,0))","v":""},{"$f":"IF($A191=\"\",\"\",VLOOKUP($A191,INSCRITS!$D$4:$W$506,11,0))","v":""},{"$f":"IF(ISNA(VLOOKUP($A191,BATONS!AD$7:AJ$51,6,0)),\"\",VLOOKUP($A191,BATONS!AD$7:AJ$51,6,0))","v":""},{"$f":"IF(ISNA(VLOOKUP($A191,BATONS!AD$7:AJ$51,7,0)),\"\",VLOOKUP($A191,BATONS!AD$7:AJ$51,7,0))","v":""},{"$f":"IF($A191=\"\",\"\",VLOOKUP($A191,INSCRITS!$D$4:$W$506,12,0))","v":""},{"$f":"IF(ISNA(VLOOKUP($A191,PLANCHE!AC$7:AI$52,6,0)),\"\",VLOOKUP($A191,PLANCHE!AC$7:AI$52,6,0))","v":""},{"$f":"IF(ISNA(VLOOKUP($A191,PLANCHE!AC$7:AI$52,7,0)),\"\",VLOOKUP($A191,PLANCHE!AC$7:AI$52,7,0))","v":""},{"$f":"IF($A191=\"\",\"\",VLOOKUP($A191,INSCRITS!$D$4:$W$506,13,0))","v":""},{"$f":"IF(ISNA(VLOOKUP($A191,NAGE!N$7:T$52,6,0)),\"\",VLOOKUP($A191,NAGE!N$7:T$52,6,0))","v":""},{"$f":"IF(ISNA(VLOOKUP($A191,NAGE!N$7:T$52,7,0)),\"\",VLOOKUP($A191,NAGE!N$7:T$52,7,0))","v":""},{"$f":"IF($A191=\"\",\"\",VLOOKUP($A191,INSCRITS!$D$4:$W$506,14,0))","v":""},{"$f":"IF(ISNA(VLOOKUP($A191,SURFSKI!AC$8:AI$53,6,0)),\"\",VLOOKUP($A191,SURFSKI!AC$8:AI$53,6,0))","v":""},{"$f":"IF(ISNA(VLOOKUP($A191,SURFSKI!AC$8:AI$53,7,0)),\"\",VLOOKUP($A191,SURFSKI!AC$8:AI$53,7,0))","v":""},{"$f":"IF($A191=\"\",\"\",VLOOKUP($A191,INSCRITS!$D$4:$W$506,15,0))","v":""},{"$f":"IF(ISNA(VLOOKUP($A191,OCEANMAN!AD$7:AJ$52,6,0)),\"\",VLOOKUP($A191,OCEANMAN!AD$7:AJ$52,6,0))","v":""},{"$f":"IF(ISNA(VLOOKUP($A191,OCEANMAN!AD$7:AJ$52,7,0)),\"\",VLOOKUP($A191,OCEANMAN!AD$7:AJ$52,7,0))","v":""},{"$f":"IF($A191=\"\",\"\",VLOOKUP($A191,INSCRITS!$D$4:$W$506,16,0))","v":""},{"$f":"IF(ISNA(VLOOKUP($A191,CNC!N$7:AC$52,6,0)),\"\",VLOOKUP($A191,CNC!N$7:AC$52,6,0))","v":""},{"$f":"IF(ISNA(VLOOKUP($A191,CNC!N$7:AC$52,7,0)),\"\",VLOOKUP($A191,CNC!N$7:AC$52,7,0))","v":""},0,{"$f":"IF($A191=\"\",\"\",VLOOKUP($A191,INSCRITS!$D$4:$W$506,16,0))","v":""},null,{"$f":"IF(AG191=\"\",\"\",VLOOKUP(AG191,[0]!Relais,2))","v":""},{"$f":"IF($A191=\"\",\"\",VLOOKUP($A191,INSCRITS!$D$4:$W$506,17,0))","v":""},null,{"$f":"IF(AJ191=\"\",\"\",VLOOKUP(AJ191,[0]!Relais,2))","v":""},{"$f":"IF($A191=\"\",\"\",VLOOKUP($A191,INSCRITS!$D$4:$W$506,18,0))","v":""},null,{"$f":"IF(AM191=\"\",\"\",VLOOKUP(AM191,[0]!Relais,2))","v":""},{"$f":"IF($A191=\"\",\"\",VLOOKUP($A191,INSCRITS!$D$4:$W$506,19,0))","v":""},null,{"$f":"IF(AP191=\"\",\"\",VLOOKUP(AP191,[0]!Relais,2))","v":""},0,0]
[null,null,null,{"$f":"IF($A192=\"\",\"\",VLOOKUP($A192,INSCRITS!$D$4:$W$501,4,0))","v":""},{"$f":"IF($A192=\"\",\"\",VLOOKUP($A192,INSCRITS!$D$4:$W$501,5,0))","v":""},{"$f":"IF($A192=\"\",\"\",VLOOKUP($A192,INSCRITS!$D$4:$W$501,6,0))","v":""},{"$f":"IF($A192=\"\",\"\",VLOOKUP($A192,INSCRITS!$D$4:$W$501,7,0))","v":""},{"$f":"IF($A192=\"\",\"\",VLOOKUP($A192,INSCRITS!$D$4:$W$501,8,0))","v":""},{"$f":"IF($A192=\"\",\"\",VLOOKUP($A192,INSCRITS!$D$4:$W$501,9,0))","v":""},{"$f":"IF($A192=\"\",\"\",VLOOKUP($A192,INSCRITS!$D$4:$W$506,10,0))","v":""},{"$f":"IF(ISNA(VLOOKUP($A192,SPRINT!AD$7:AJ$50,6,0)),\"\",VLOOKUP($A192,SPRINT!AD$7:AJ$50,6,0))","v":""},{"$f":"IF(ISNA(VLOOKUP($A192,SPRINT!AD$7:AJ$50,7,0)),\"\",VLOOKUP($A192,SPRINT!AD$7:AJ$50,7,0))","v":""},{"$f":"IF($A192=\"\",\"\",VLOOKUP($A192,INSCRITS!$D$4:$W$506,11,0))","v":""},{"$f":"IF(ISNA(VLOOKUP($A192,BATONS!AD$7:AJ$51,6,0)),\"\",VLOOKUP($A192,BATONS!AD$7:AJ$51,6,0))","v":""},{"$f":"IF(ISNA(VLOOKUP($A192,BATONS!AD$7:AJ$51,7,0)),\"\",VLOOKUP($A192,BATONS!AD$7:AJ$51,7,0))","v":""},{"$f":"IF($A192=\"\",\"\",VLOOKUP($A192,INSCRITS!$D$4:$W$506,12,0))","v":""},{"$f":"IF(ISNA(VLOOKUP($A192,PLANCHE!AC$7:AI$52,6,0)),\"\",VLOOKUP($A192,PLANCHE!AC$7:AI$52,6,0))","v":""},{"$f":"IF(ISNA(VLOOKUP($A192,PLANCHE!AC$7:AI$52,7,0)),\"\",VLOOKUP($A192,PLANCHE!AC$7:AI$52,7,0))","v":""},{"$f":"IF($A192=\"\",\"\",VLOOKUP($A192,INSCRITS!$D$4:$W$506,13,0))","v":""},{"$f":"IF(ISNA(VLOOKUP($A192,NAGE!N$7:T$52,6,0)),\"\",VLOOKUP($A192,NAGE!N$7:T$52,6,0))","v":""},{"$f":"IF(ISNA(VLOOKUP($A192,NAGE!N$7:T$52,7,0)),\"\",VLOOKUP($A192,NAGE!N$7:T$52,7,0))","v":""},{"$f":"IF($A192=\"\",\"\",VLOOKUP($A192,INSCRITS!$D$4:$W$506,14,0))","v":""},{"$f":"IF(ISNA(VLOOKUP($A192,SURFSKI!AC$8:AI$53,6,0)),\"\",VLOOKUP($A192,SURFSKI!AC$8:AI$53,6,0))","v":""},{"$f":"IF(ISNA(VLOOKUP($A192,SURFSKI!AC$8:AI$53,7,0)),\"\",VLOOKUP($A192,SURFSKI!AC$8:AI$53,7,0))","v":""},{"$f":"IF($A192=\"\",\"\",VLOOKUP($A192,INSCRITS!$D$4:$W$506,15,0))","v":""},{"$f":"IF(ISNA(VLOOKUP($A192,OCEANMAN!AD$7:AJ$52,6,0)),\"\",VLOOKUP($A192,OCEANMAN!AD$7:AJ$52,6,0))","v":""},{"$f":"IF(ISNA(VLOOKUP($A192,OCEANMAN!AD$7:AJ$52,7,0)),\"\",VLOOKUP($A192,OCEANMAN!AD$7:AJ$52,7,0))","v":""},{"$f":"IF($A192=\"\",\"\",VLOOKUP($A192,INSCRITS!$D$4:$W$506,16,0))","v":""},{"$f":"IF(ISNA(VLOOKUP($A192,CNC!N$7:AC$52,6,0)),\"\",VLOOKUP($A192,CNC!N$7:AC$52,6,0))","v":""},{"$f":"IF(ISNA(VLOOKUP($A192,CNC!N$7:AC$52,7,0)),\"\",VLOOKUP($A192,CNC!N$7:AC$52,7,0))","v":""},0,{"$f":"IF($A192=\"\",\"\",VLOOKUP($A192,INSCRITS!$D$4:$W$506,16,0))","v":""},null,{"$f":"IF(AG192=\"\",\"\",VLOOKUP(AG192,[0]!Relais,2))","v":""},{"$f":"IF($A192=\"\",\"\",VLOOKUP($A192,INSCRITS!$D$4:$W$506,17,0))","v":""},null,{"$f":"IF(AJ192=\"\",\"\",VLOOKUP(AJ192,[0]!Relais,2))","v":""},{"$f":"IF($A192=\"\",\"\",VLOOKUP($A192,INSCRITS!$D$4:$W$506,18,0))","v":""},null,{"$f":"IF(AM192=\"\",\"\",VLOOKUP(AM192,[0]!Relais,2))","v":""},{"$f":"IF($A192=\"\",\"\",VLOOKUP($A192,INSCRITS!$D$4:$W$506,19,0))","v":""},null,{"$f":"IF(AP192=\"\",\"\",VLOOKUP(AP192,[0]!Relais,2))","v":""},0,0]
[null,null,null,{"$f":"IF($A193=\"\",\"\",VLOOKUP($A193,INSCRITS!$D$4:$W$501,4,0))","v":""},{"$f":"IF($A193=\"\",\"\",VLOOKUP($A193,INSCRITS!$D$4:$W$501,5,0))","v":""},{"$f":"IF($A193=\"\",\"\",VLOOKUP($A193,INSCRITS!$D$4:$W$501,6,0))","v":""},{"$f":"IF($A193=\"\",\"\",VLOOKUP($A193,INSCRITS!$D$4:$W$501,7,0))","v":""},{"$f":"IF($A193=\"\",\"\",VLOOKUP($A193,INSCRITS!$D$4:$W$501,8,0))","v":""},{"$f":"IF($A193=\"\",\"\",VLOOKUP($A193,INSCRITS!$D$4:$W$501,9,0))","v":""},{"$f":"IF($A193=\"\",\"\",VLOOKUP($A193,INSCRITS!$D$4:$W$506,10,0))","v":""},{"$f":"IF(ISNA(VLOOKUP($A193,SPRINT!AD$7:AJ$50,6,0)),\"\",VLOOKUP($A193,SPRINT!AD$7:AJ$50,6,0))","v":""},{"$f":"IF(ISNA(VLOOKUP($A193,SPRINT!AD$7:AJ$50,7,0)),\"\",VLOOKUP($A193,SPRINT!AD$7:AJ$50,7,0))","v":""},{"$f":"IF($A193=\"\",\"\",VLOOKUP($A193,INSCRITS!$D$4:$W$506,11,0))","v":""},{"$f":"IF(ISNA(VLOOKUP($A193,BATONS!AD$7:AJ$51,6,0)),\"\",VLOOKUP($A193,BATONS!AD$7:AJ$51,6,0))","v":""},{"$f":"IF(ISNA(VLOOKUP($A193,BATONS!AD$7:AJ$51,7,0)),\"\",VLOOKUP($A193,BATONS!AD$7:AJ$51,7,0))","v":""},{"$f":"IF($A193=\"\",\"\",VLOOKUP($A193,INSCRITS!$D$4:$W$506,12,0))","v":""},{"$f":"IF(ISNA(VLOOKUP($A193,PLANCHE!AC$7:AI$52,6,0)),\"\",VLOOKUP($A193,PLANCHE!AC$7:AI$52,6,0))","v":""},{"$f":"IF(ISNA(VLOOKUP($A193,PLANCHE!AC$7:AI$52,7,0)),\"\",VLOOKUP($A193,PLANCHE!AC$7:AI$52,7,0))","v":""},{"$f":"IF($A193=\"\",\"\",VLOOKUP($A193,INSCRITS!$D$4:$W$506,13,0))","v":""},{"$f":"IF(ISNA(VLOOKUP($A193,NAGE!N$7:T$52,6,0)),\"\",VLOOKUP($A193,NAGE!N$7:T$52,6,0))","v":""},{"$f":"IF(ISNA(VLOOKUP($A193,NAGE!N$7:T$52,7,0)),\"\",VLOOKUP($A193,NAGE!N$7:T$52,7,0))","v":""},{"$f":"IF($A193=\"\",\"\",VLOOKUP($A193,INSCRITS!$D$4:$W$506,14,0))","v":""},{"$f":"IF(ISNA(VLOOKUP($A193,SURFSKI!AC$8:AI$53,6,0)),\"\",VLOOKUP($A193,SURFSKI!AC$8:AI$53,6,0))","v":""},{"$f":"IF(ISNA(VLOOKUP($A193,SURFSKI!AC$8:AI$53,7,0)),\"\",VLOOKUP($A193,SURFSKI!AC$8:AI$53,7,0))","v":""},{"$f":"IF($A193=\"\",\"\",VLOOKUP($A193,INSCRITS!$D$4:$W$506,15,0))","v":""},{"$f":"IF(ISNA(VLOOKUP($A193,OCEANMAN!AD$7:AJ$52,6,0)),\"\",VLOOKUP($A193,OCEANMAN!AD$7:AJ$52,6,0))","v":""},{"$f":"IF(ISNA(VLOOKUP($A193,OCEANMAN!AD$7:AJ$52,7,0)),\"\",VLOOKUP($A193,OCEANMAN!AD$7:AJ$52,7,0))","v":""},{"$f":"IF($A193=\"\",\"\",VLOOKUP($A193,INSCRITS!$D$4:$W$506,16,0))","v":""},{"$f":"IF(ISNA(VLOOKUP($A193,CNC!N$7:AC$52,6,0)),\"\",VLOOKUP($A193,CNC!N$7:AC$52,6,0))","v":""},{"$f":"IF(ISNA(VLOOKUP($A193,CNC!N$7:AC$52,7,0)),\"\",VLOOKUP($A193,CNC!N$7:AC$52,7,0))","v":""},0,{"$f":"IF($A193=\"\",\"\",VLOOKUP($A193,INSCRITS!$D$4:$W$506,16,0))","v":""},null,{"$f":"IF(AG193=\"\",\"\",VLOOKUP(AG193,[0]!Relais,2))","v":""},{"$f":"IF($A193=\"\",\"\",VLOOKUP($A193,INSCRITS!$D$4:$W$506,17,0))","v":""},null,{"$f":"IF(AJ193=\"\",\"\",VLOOKUP(AJ193,[0]!Relais,2))","v":""},{"$f":"IF($A193=\"\",\"\",VLOOKUP($A193,INSCRITS!$D$4:$W$506,18,0))","v":""},null,{"$f":"IF(AM193=\"\",\"\",VLOOKUP(AM193,[0]!Relais,2))","v":""},{"$f":"IF($A193=\"\",\"\",VLOOKUP($A193,INSCRITS!$D$4:$W$506,19,0))","v":""},null,{"$f":"IF(AP193=\"\",\"\",VLOOKUP(AP193,[0]!Relais,2))","v":""},0,0]
[null,null,null,{"$f":"IF($A194=\"\",\"\",VLOOKUP($A194,INSCRITS!$D$4:$W$501,4,0))","v":""},{"$f":"IF($A194=\"\",\"\",VLOOKUP($A194,INSCRITS!$D$4:$W$501,5,0))","v":""},{"$f":"IF($A194=\"\",\"\",VLOOKUP($A194,INSCRITS!$D$4:$W$501,6,0))","v":""},{"$f":"IF($A194=\"\",\"\",VLOOKUP($A194,INSCRITS!$D$4:$W$501,7,0))","v":""},{"$f":"IF($A194=\"\",\"\",VLOOKUP($A194,INSCRITS!$D$4:$W$501,8,0))","v":""},{"$f":"IF($A194=\"\",\"\",VLOOKUP($A194,INSCRITS!$D$4:$W$501,9,0))","v":""},{"$f":"IF($A194=\"\",\"\",VLOOKUP($A194,INSCRITS!$D$4:$W$506,10,0))","v":""},{"$f":"IF(ISNA(VLOOKUP($A194,SPRINT!AD$7:AJ$50,6,0)),\"\",VLOOKUP($A194,SPRINT!AD$7:AJ$50,6,0))","v":""},{"$f":"IF(ISNA(VLOOKUP($A194,SPRINT!AD$7:AJ$50,7,0)),\"\",VLOOKUP($A194,SPRINT!AD$7:AJ$50,7,0))","v":""},{"$f":"IF($A194=\"\",\"\",VLOOKUP($A194,INSCRITS!$D$4:$W$506,11,0))","v":""},{"$f":"IF(ISNA(VLOOKUP($A194,BATONS!AD$7:AJ$51,6,0)),\"\",VLOOKUP($A194,BATONS!AD$7:AJ$51,6,0))","v":""},{"$f":"IF(ISNA(VLOOKUP($A194,BATONS!AD$7:AJ$51,7,0)),\"\",VLOOKUP($A194,BATONS!AD$7:AJ$51,7,0))","v":""},{"$f":"IF($A194=\"\",\"\",VLOOKUP($A194,INSCRITS!$D$4:$W$506,12,0))","v":""},{"$f":"IF(ISNA(VLOOKUP($A194,PLANCHE!AC$7:AI$52,6,0)),\"\",VLOOKUP($A194,PLANCHE!AC$7:AI$52,6,0))","v":""},{"$f":"IF(ISNA(VLOOKUP($A194,PLANCHE!AC$7:AI$52,7,0)),\"\",VLOOKUP($A194,PLANCHE!AC$7:AI$52,7,0))","v":""},{"$f":"IF($A194=\"\",\"\",VLOOKUP($A194,INSCRITS!$D$4:$W$506,13,0))","v":""},{"$f":"IF(ISNA(VLOOKUP($A194,NAGE!N$7:T$52,6,0)),\"\",VLOOKUP($A194,NAGE!N$7:T$52,6,0))","v":""},{"$f":"IF(ISNA(VLOOKUP($A194,NAGE!N$7:T$52,7,0)),\"\",VLOOKUP($A194,NAGE!N$7:T$52,7,0))","v":""},{"$f":"IF($A194=\"\",\"\",VLOOKUP($A194,INSCRITS!$D$4:$W$506,14,0))","v":""},{"$f":"IF(ISNA(VLOOKUP($A194,SURFSKI!AC$8:AI$53,6,0)),\"\",VLOOKUP($A194,SURFSKI!AC$8:AI$53,6,0))","v":""},{"$f":"IF(ISNA(VLOOKUP($A194,SURFSKI!AC$8:AI$53,7,0)),\"\",VLOOKUP($A194,SURFSKI!AC$8:AI$53,7,0))","v":""},{"$f":"IF($A194=\"\",\"\",VLOOKUP($A194,INSCRITS!$D$4:$W$506,15,0))","v":""},{"$f":"IF(ISNA(VLOOKUP($A194,OCEANMAN!AD$7:AJ$52,6,0)),\"\",VLOOKUP($A194,OCEANMAN!AD$7:AJ$52,6,0))","v":""},{"$f":"IF(ISNA(VLOOKUP($A194,OCEANMAN!AD$7:AJ$52,7,0)),\"\",VLOOKUP($A194,OCEANMAN!AD$7:AJ$52,7,0))","v":""},{"$f":"IF($A194=\"\",\"\",VLOOKUP($A194,INSCRITS!$D$4:$W$506,16,0))","v":""},{"$f":"IF(ISNA(VLOOKUP($A194,CNC!N$7:AC$52,6,0)),\"\",VLOOKUP($A194,CNC!N$7:AC$52,6,0))","v":""},{"$f":"IF(ISNA(VLOOKUP($A194,CNC!N$7:AC$52,7,0)),\"\",VLOOKUP($A194,CNC!N$7:AC$52,7,0))","v":""},0,{"$f":"IF($A194=\"\",\"\",VLOOKUP($A194,INSCRITS!$D$4:$W$506,16,0))","v":""},null,{"$f":"IF(AG194=\"\",\"\",VLOOKUP(AG194,[0]!Relais,2))","v":""},{"$f":"IF($A194=\"\",\"\",VLOOKUP($A194,INSCRITS!$D$4:$W$506,17,0))","v":""},null,{"$f":"IF(AJ194=\"\",\"\",VLOOKUP(AJ194,[0]!Relais,2))","v":""},{"$f":"IF($A194=\"\",\"\",VLOOKUP($A194,INSCRITS!$D$4:$W$506,18,0))","v":""},null,{"$f":"IF(AM194=\"\",\"\",VLOOKUP(AM194,[0]!Relais,2))","v":""},{"$f":"IF($A194=\"\",\"\",VLOOKUP($A194,INSCRITS!$D$4:$W$506,19,0))","v":""},null,{"$f":"IF(AP194=\"\",\"\",VLOOKUP(AP194,[0]!Relais,2))","v":""},0,0]
[null,null,null,{"$f":"IF($A195=\"\",\"\",VLOOKUP($A195,INSCRITS!$D$4:$W$501,4,0))","v":""},{"$f":"IF($A195=\"\",\"\",VLOOKUP($A195,INSCRITS!$D$4:$W$501,5,0))","v":""},{"$f":"IF($A195=\"\",\"\",VLOOKUP($A195,INSCRITS!$D$4:$W$501,6,0))","v":""},{"$f":"IF($A195=\"\",\"\",VLOOKUP($A195,INSCRITS!$D$4:$W$501,7,0))","v":""},{"$f":"IF($A195=\"\",\"\",VLOOKUP($A195,INSCRITS!$D$4:$W$501,8,0))","v":""},{"$f":"IF($A195=\"\",\"\",VLOOKUP($A195,INSCRITS!$D$4:$W$501,9,0))","v":""},{"$f":"IF($A195=\"\",\"\",VLOOKUP($A195,INSCRITS!$D$4:$W$506,10,0))","v":""},{"$f":"IF(ISNA(VLOOKUP($A195,SPRINT!AD$7:AJ$50,6,0)),\"\",VLOOKUP($A195,SPRINT!AD$7:AJ$50,6,0))","v":""},{"$f":"IF(ISNA(VLOOKUP($A195,SPRINT!AD$7:AJ$50,7,0)),\"\",VLOOKUP($A195,SPRINT!AD$7:AJ$50,7,0))","v":""},{"$f":"IF($A195=\"\",\"\",VLOOKUP($A195,INSCRITS!$D$4:$W$506,11,0))","v":""},{"$f":"IF(ISNA(VLOOKUP($A195,BATONS!AD$7:AJ$51,6,0)),\"\",VLOOKUP($A195,BATONS!AD$7:AJ$51,6,0))","v":""},{"$f":"IF(ISNA(VLOOKUP($A195,BATONS!AD$7:AJ$51,7,0)),\"\",VLOOKUP($A195,BATONS!AD$7:AJ$51,7,0))","v":""},{"$f":"IF($A195=\"\",\"\",VLOOKUP($A195,INSCRITS!$D$4:$W$506,12,0))","v":""},{"$f":"IF(ISNA(VLOOKUP($A195,PLANCHE!AC$7:AI$52,6,0)),\"\",VLOOKUP($A195,PLANCHE!AC$7:AI$52,6,0))","v":""},{"$f":"IF(ISNA(VLOOKUP($A195,PLANCHE!AC$7:AI$52,7,0)),\"\",VLOOKUP($A195,PLANCHE!AC$7:AI$52,7,0))","v":""},{"$f":"IF($A195=\"\",\"\",VLOOKUP($A195,INSCRITS!$D$4:$W$506,13,0))","v":""},{"$f":"IF(ISNA(VLOOKUP($A195,NAGE!N$7:T$52,6,0)),\"\",VLOOKUP($A195,NAGE!N$7:T$52,6,0))","v":""},{"$f":"IF(ISNA(VLOOKUP($A195,NAGE!N$7:T$52,7,0)),\"\",VLOOKUP($A195,NAGE!N$7:T$52,7,0))","v":""},{"$f":"IF($A195=\"\",\"\",VLOOKUP($A195,INSCRITS!$D$4:$W$506,14,0))","v":""},{"$f":"IF(ISNA(VLOOKUP($A195,SURFSKI!AC$8:AI$53,6,0)),\"\",VLOOKUP($A195,SURFSKI!AC$8:AI$53,6,0))","v":""},{"$f":"IF(ISNA(VLOOKUP($A195,SURFSKI!AC$8:AI$53,7,0)),\"\",VLOOKUP($A195,SURFSKI!AC$8:AI$53,7,0))","v":""},{"$f":"IF($A195=\"\",\"\",VLOOKUP($A195,INSCRITS!$D$4:$W$506,15,0))","v":""},{"$f":"IF(ISNA(VLOOKUP($A195,OCEANMAN!AD$7:AJ$52,6,0)),\"\",VLOOKUP($A195,OCEANMAN!AD$7:AJ$52,6,0))","v":""},{"$f":"IF(ISNA(VLOOKUP($A195,OCEANMAN!AD$7:AJ$52,7,0)),\"\",VLOOKUP($A195,OCEANMAN!AD$7:AJ$52,7,0))","v":""},{"$f":"IF($A195=\"\",\"\",VLOOKUP($A195,INSCRITS!$D$4:$W$506,16,0))","v":""},{"$f":"IF(ISNA(VLOOKUP($A195,CNC!N$7:AC$52,6,0)),\"\",VLOOKUP($A195,CNC!N$7:AC$52,6,0))","v":""},{"$f":"IF(ISNA(VLOOKUP($A195,CNC!N$7:AC$52,7,0)),\"\",VLOOKUP($A195,CNC!N$7:AC$52,7,0))","v":""},0,{"$f":"IF($A195=\"\",\"\",VLOOKUP($A195,INSCRITS!$D$4:$W$506,16,0))","v":""},null,{"$f":"IF(AG195=\"\",\"\",VLOOKUP(AG195,[0]!Relais,2))","v":""},{"$f":"IF($A195=\"\",\"\",VLOOKUP($A195,INSCRITS!$D$4:$W$506,17,0))","v":""},null,{"$f":"IF(AJ195=\"\",\"\",VLOOKUP(AJ195,[0]!Relais,2))","v":""},{"$f":"IF($A195=\"\",\"\",VLOOKUP($A195,INSCRITS!$D$4:$W$506,18,0))","v":""},null,{"$f":"IF(AM195=\"\",\"\",VLOOKUP(AM195,[0]!Relais,2))","v":""},{"$f":"IF($A195=\"\",\"\",VLOOKUP($A195,INSCRITS!$D$4:$W$506,19,0))","v":""},null,{"$f":"IF(AP195=\"\",\"\",VLOOKUP(AP195,[0]!Relais,2))","v":""},0,0]
[null,null,null,{"$f":"IF($A196=\"\",\"\",VLOOKUP($A196,INSCRITS!$D$4:$W$501,4,0))","v":""},{"$f":"IF($A196=\"\",\"\",VLOOKUP($A196,INSCRITS!$D$4:$W$501,5,0))","v":""},{"$f":"IF($A196=\"\",\"\",VLOOKUP($A196,INSCRITS!$D$4:$W$501,6,0))","v":""},{"$f":"IF($A196=\"\",\"\",VLOOKUP($A196,INSCRITS!$D$4:$W$501,7,0))","v":""},{"$f":"IF($A196=\"\",\"\",VLOOKUP($A196,INSCRITS!$D$4:$W$501,8,0))","v":""},{"$f":"IF($A196=\"\",\"\",VLOOKUP($A196,INSCRITS!$D$4:$W$501,9,0))","v":""},{"$f":"IF($A196=\"\",\"\",VLOOKUP($A196,INSCRITS!$D$4:$W$506,10,0))","v":""},{"$f":"IF(ISNA(VLOOKUP($A196,SPRINT!AD$7:AJ$50,6,0)),\"\",VLOOKUP($A196,SPRINT!AD$7:AJ$50,6,0))","v":""},{"$f":"IF(ISNA(VLOOKUP($A196,SPRINT!AD$7:AJ$50,7,0)),\"\",VLOOKUP($A196,SPRINT!AD$7:AJ$50,7,0))","v":""},{"$f":"IF($A196=\"\",\"\",VLOOKUP($A196,INSCRITS!$D$4:$W$506,11,0))","v":""},{"$f":"IF(ISNA(VLOOKUP($A196,BATONS!AD$7:AJ$51,6,0)),\"\",VLOOKUP($A196,BATONS!AD$7:AJ$51,6,0))","v":""},{"$f":"IF(ISNA(VLOOKUP($A196,BATONS!AD$7:AJ$51,7,0)),\"\",VLOOKUP($A196,BATONS!AD$7:AJ$51,7,0))","v":""},{"$f":"IF($A196=\"\",\"\",VLOOKUP($A196,INSCRITS!$D$4:$W$506,12,0))","v":""},{"$f":"IF(ISNA(VLOOKUP($A196,PLANCHE!AC$7:AI$52,6,0)),\"\",VLOOKUP($A196,PLANCHE!AC$7:AI$52,6,0))","v":""},{"$f":"IF(ISNA(VLOOKUP($A196,PLANCHE!AC$7:AI$52,7,0)),\"\",VLOOKUP($A196,PLANCHE!AC$7:AI$52,7,0))","v":""},{"$f":"IF($A196=\"\",\"\",VLOOKUP($A196,INSCRITS!$D$4:$W$506,13,0))","v":""},{"$f":"IF(ISNA(VLOOKUP($A196,NAGE!N$7:T$52,6,0)),\"\",VLOOKUP($A196,NAGE!N$7:T$52,6,0))","v":""},{"$f":"IF(ISNA(VLOOKUP($A196,NAGE!N$7:T$52,7,0)),\"\",VLOOKUP($A196,NAGE!N$7:T$52,7,0))","v":""},{"$f":"IF($A196=\"\",\"\",VLOOKUP($A196,INSCRITS!$D$4:$W$506,14,0))","v":""},{"$f":"IF(ISNA(VLOOKUP($A196,SURFSKI!AC$8:AI$53,6,0)),\"\",VLOOKUP($A196,SURFSKI!AC$8:AI$53,6,0))","v":""},{"$f":"IF(ISNA(VLOOKUP($A196,SURFSKI!AC$8:AI$53,7,0)),\"\",VLOOKUP($A196,SURFSKI!AC$8:AI$53,7,0))","v":""},{"$f":"IF($A196=\"\",\"\",VLOOKUP($A196,INSCRITS!$D$4:$W$506,15,0))","v":""},{"$f":"IF(ISNA(VLOOKUP($A196,OCEANMAN!AD$7:AJ$52,6,0)),\"\",VLOOKUP($A196,OCEANMAN!AD$7:AJ$52,6,0))","v":""},{"$f":"IF(ISNA(VLOOKUP($A196,OCEANMAN!AD$7:AJ$52,7,0)),\"\",VLOOKUP($A196,OCEANMAN!AD$7:AJ$52,7,0))","v":""},{"$f":"IF($A196=\"\",\"\",VLOOKUP($A196,INSCRITS!$D$4:$W$506,16,0))","v":""},{"$f":"IF(ISNA(VLOOKUP($A196,CNC!N$7:AC$52,6,0)),\"\",VLOOKUP($A196,CNC!N$7:AC$52,6,0))","v":""},{"$f":"IF(ISNA(VLOOKUP($A196,CNC!N$7:AC$52,7,0)),\"\",VLOOKUP($A196,CNC!N$7:AC$52,7,0))","v":""},0,{"$f":"IF($A196=\"\",\"\",VLOOKUP($A196,INSCRITS!$D$4:$W$506,16,0))","v":""},null,{"$f":"IF(AG196=\"\",\"\",VLOOKUP(AG196,[0]!Relais,2))","v":""},{"$f":"IF($A196=\"\",\"\",VLOOKUP($A196,INSCRITS!$D$4:$W$506,17,0))","v":""},null,{"$f":"IF(AJ196=\"\",\"\",VLOOKUP(AJ196,[0]!Relais,2))","v":""},{"$f":"IF($A196=\"\",\"\",VLOOKUP($A196,INSCRITS!$D$4:$W$506,18,0))","v":""},null,{"$f":"IF(AM196=\"\",\"\",VLOOKUP(AM196,[0]!Relais,2))","v":""},{"$f":"IF($A196=\"\",\"\",VLOOKUP($A196,INSCRITS!$D$4:$W$506,19,0))","v":""},null,{"$f":"IF(AP196=\"\",\"\",VLOOKUP(AP196,[0]!Relais,2))","v":""},0,0]
[null,null,null,{"$f":"IF($A197=\"\",\"\",VLOOKUP($A197,INSCRITS!$D$4:$W$501,4,0))","v":""},{"$f":"IF($A197=\"\",\"\",VLOOKUP($A197,INSCRITS!$D$4:$W$501,5,0))","v":""},{"$f":"IF($A197=\"\",\"\",VLOOKUP($A197,INSCRITS!$D$4:$W$501,6,0))","v":""},{"$f":"IF($A197=\"\",\"\",VLOOKUP($A197,INSCRITS!$D$4:$W$501,7,0))","v":""},{"$f":"IF($A197=\"\",\"\",VLOOKUP($A197,INSCRITS!$D$4:$W$501,8,0))","v":""},{"$f":"IF($A197=\"\",\"\",VLOOKUP($A197,INSCRITS!$D$4:$W$501,9,0))","v":""},{"$f":"IF($A197=\"\",\"\",VLOOKUP($A197,INSCRITS!$D$4:$W$506,10,0))","v":""},{"$f":"IF(ISNA(VLOOKUP($A197,SPRINT!AD$7:AJ$50,6,0)),\"\",VLOOKUP($A197,SPRINT!AD$7:AJ$50,6,0))","v":""},{"$f":"IF(ISNA(VLOOKUP($A197,SPRINT!AD$7:AJ$50,7,0)),\"\",VLOOKUP($A197,SPRINT!AD$7:AJ$50,7,0))","v":""},{"$f":"IF($A197=\"\",\"\",VLOOKUP($A197,INSCRITS!$D$4:$W$506,11,0))","v":""},{"$f":"IF(ISNA(VLOOKUP($A197,BATONS!AD$7:AJ$51,6,0)),\"\",VLOOKUP($A197,BATONS!AD$7:AJ$51,6,0))","v":""},{"$f":"IF(ISNA(VLOOKUP($A197,BATONS!AD$7:AJ$51,7,0)),\"\",VLOOKUP($A197,BATONS!AD$7:AJ$51,7,0))","v":""},{"$f":"IF($A197=\"\",\"\",VLOOKUP($A197,INSCRITS!$D$4:$W$506,12,0))","v":""},{"$f":"IF(ISNA(VLOOKUP($A197,PLANCHE!AC$7:AI$52,6,0)),\"\",VLOOKUP($A197,PLANCHE!AC$7:AI$52,6,0))","v":""},{"$f":"IF(ISNA(VLOOKUP($A197,PLANCHE!AC$7:AI$52,7,0)),\"\",VLOOKUP($A197,PLANCHE!AC$7:AI$52,7,0))","v":""},{"$f":"IF($A197=\"\",\"\",VLOOKUP($A197,INSCRITS!$D$4:$W$506,13,0))","v":""},{"$f":"IF(ISNA(VLOOKUP($A197,NAGE!N$7:T$52,6,0)),\"\",VLOOKUP($A197,NAGE!N$7:T$52,6,0))","v":""},{"$f":"IF(ISNA(VLOOKUP($A197,NAGE!N$7:T$52,7,0)),\"\",VLOOKUP($A197,NAGE!N$7:T$52,7,0))","v":""},{"$f":"IF($A197=\"\",\"\",VLOOKUP($A197,INSCRITS!$D$4:$W$506,14,0))","v":""},{"$f":"IF(ISNA(VLOOKUP($A197,SURFSKI!AC$8:AI$53,6,0)),\"\",VLOOKUP($A197,SURFSKI!AC$8:AI$53,6,0))","v":""},{"$f":"IF(ISNA(VLOOKUP($A197,SURFSKI!AC$8:AI$53,7,0)),\"\",VLOOKUP($A197,SURFSKI!AC$8:AI$53,7,0))","v":""},{"$f":"IF($A197=\"\",\"\",VLOOKUP($A197,INSCRITS!$D$4:$W$506,15,0))","v":""},{"$f":"IF(ISNA(VLOOKUP($A197,OCEANMAN!AD$7:AJ$52,6,0)),\"\",VLOOKUP($A197,OCEANMAN!AD$7:AJ$52,6,0))","v":""},{"$f":"IF(ISNA(VLOOKUP($A197,OCEANMAN!AD$7:AJ$52,7,0)),\"\",VLOOKUP($A197,OCEANMAN!AD$7:AJ$52,7,0))","v":""},{"$f":"IF($A197=\"\",\"\",VLOOKUP($A197,INSCRITS!$D$4:$W$506,16,0))","v":""},{"$f":"IF(ISNA(VLOOKUP($A197,CNC!N$7:AC$52,6,0)),\"\",VLOOKUP($A197,CNC!N$7:AC$52,6,0))","v":""},{"$f":"IF(ISNA(VLOOKUP($A197,CNC!N$7:AC$52,7,0)),\"\",VLOOKUP($A197,CNC!N$7:AC$52,7,0))","v":""},{"$f":"SUM(L197,O197,R197,U197,X197,AA197,AD197)","v":0},{"$f":"IF($A197=\"\",\"\",VLOOKUP($A197,INSCRITS!$D$4:$W$506,16,0))","v":""},null,{"$f":"IF(AG197=\"\",\"\",VLOOKUP(AG197,[0]!Relais,2))","v":""},{"$f":"IF($A197=\"\",\"\",VLOOKUP($A197,INSCRITS!$D$4:$W$506,17,0))","v":""},null,{"$f":"IF(AJ197=\"\",\"\",VLOOKUP(AJ197,[0]!Relais,2))","v":""},{"$f":"IF($A197=\"\",\"\",VLOOKUP($A197,INSCRITS!$D$4:$W$506,18,0))","v":""},null,{"$f":"IF(AM197=\"\",\"\",VLOOKUP(AM197,[0]!Relais,2))","v":""},{"$f":"IF($A197=\"\",\"\",VLOOKUP($A197,INSCRITS!$D$4:$W$506,19,0))","v":""},null,{"$f":"IF(AP197=\"\",\"\",VLOOKUP(AP197,[0]!Relais,2))","v":""},{"$f":"SUM(AH197,AK197,AN197,AQ197)","v":0},{"$f":"AE197+AR197","v":0}]
[null,null,null,{"$f":"IF($A198=\"\",\"\",VLOOKUP($A198,INSCRITS!$D$4:$W$501,4,0))","v":""},{"$f":"IF($A198=\"\",\"\",VLOOKUP($A198,INSCRITS!$D$4:$W$501,5,0))","v":""},{"$f":"IF($A198=\"\",\"\",VLOOKUP($A198,INSCRITS!$D$4:$W$501,6,0))","v":""},{"$f":"IF($A198=\"\",\"\",VLOOKUP($A198,INSCRITS!$D$4:$W$501,7,0))","v":""},{"$f":"IF($A198=\"\",\"\",VLOOKUP($A198,INSCRITS!$D$4:$W$501,8,0))","v":""},{"$f":"IF($A198=\"\",\"\",VLOOKUP($A198,INSCRITS!$D$4:$W$501,9,0))","v":""},{"$f":"IF($A198=\"\",\"\",VLOOKUP($A198,INSCRITS!$D$4:$W$506,10,0))","v":""},{"$f":"IF(ISNA(VLOOKUP($A198,SPRINT!AD$7:AJ$50,6,0)),\"\",VLOOKUP($A198,SPRINT!AD$7:AJ$50,6,0))","v":""},{"$f":"IF(ISNA(VLOOKUP($A198,SPRINT!AD$7:AJ$50,7,0)),\"\",VLOOKUP($A198,SPRINT!AD$7:AJ$50,7,0))","v":""},{"$f":"IF($A198=\"\",\"\",VLOOKUP($A198,INSCRITS!$D$4:$W$506,11,0))","v":""},{"$f":"IF(ISNA(VLOOKUP($A198,BATONS!AD$7:AJ$51,6,0)),\"\",VLOOKUP($A198,BATONS!AD$7:AJ$51,6,0))","v":""},{"$f":"IF(ISNA(VLOOKUP($A198,BATONS!AD$7:AJ$51,7,0)),\"\",VLOOKUP($A198,BATONS!AD$7:AJ$51,7,0))","v":""},{"$f":"IF($A198=\"\",\"\",VLOOKUP($A198,INSCRITS!$D$4:$W$506,12,0))","v":""},{"$f":"IF(ISNA(VLOOKUP($A198,PLANCHE!AC$7:AI$52,6,0)),\"\",VLOOKUP($A198,PLANCHE!AC$7:AI$52,6,0))","v":""},{"$f":"IF(ISNA(VLOOKUP($A198,PLANCHE!AC$7:AI$52,7,0)),\"\",VLOOKUP($A198,PLANCHE!AC$7:AI$52,7,0))","v":""},{"$f":"IF($A198=\"\",\"\",VLOOKUP($A198,INSCRITS!$D$4:$W$506,13,0))","v":""},{"$f":"IF(ISNA(VLOOKUP($A198,NAGE!N$7:T$52,6,0)),\"\",VLOOKUP($A198,NAGE!N$7:T$52,6,0))","v":""},{"$f":"IF(ISNA(VLOOKUP($A198,NAGE!N$7:T$52,7,0)),\"\",VLOOKUP($A198,NAGE!N$7:T$52,7,0))","v":""},{"$f":"IF($A198=\"\",\"\",VLOOKUP($A198,INSCRITS!$D$4:$W$506,14,0))","v":""},{"$f":"IF(ISNA(VLOOKUP($A198,SURFSKI!AC$8:AI$53,6,0)),\"\",VLOOKUP($A198,SURFSKI!AC$8:AI$53,6,0))","v":""},{"$f":"IF(ISNA(VLOOKUP($A198,SURFSKI!AC$8:AI$53,7,0)),\"\",VLOOKUP($A198,SURFSKI!AC$8:AI$53,7,0))","v":""},{"$f":"IF($A198=\"\",\"\",VLOOKUP($A198,INSCRITS!$D$4:$W$506,15,0))","v":""},{"$f":"IF(ISNA(VLOOKUP($A198,OCEANMAN!AD$7:AJ$52,6,0)),\"\",VLOOKUP($A198,OCEANMAN!AD$7:AJ$52,6,0))","v":""},{"$f":"IF(ISNA(VLOOKUP($A198,OCEANMAN!AD$7:AJ$52,7,0)),\"\",VLOOKUP($A198,OCEANMAN!AD$7:AJ$52,7,0))","v":""},{"$f":"IF($A198=\"\",\"\",VLOOKUP($A198,INSCRITS!$D$4:$W$506,16,0))","v":""},{"$f":"IF(ISNA(VLOOKUP($A198,CNC!N$7:AC$52,6,0)),\"\",VLOOKUP($A198,CNC!N$7:AC$52,6,0))","v":""},{"$f":"IF(ISNA(VLOOKUP($A198,CNC!N$7:AC$52,7,0)),\"\",VLOOKUP($A198,CNC!N$7:AC$52,7,0))","v":""},0,{"$f":"IF($A198=\"\",\"\",VLOOKUP($A198,INSCRITS!$D$4:$W$506,16,0))","v":""},null,{"$f":"IF(AG198=\"\",\"\",VLOOKUP(AG198,[0]!Relais,2))","v":""},{"$f":"IF($A198=\"\",\"\",VLOOKUP($A198,INSCRITS!$D$4:$W$506,17,0))","v":""},null,{"$f":"IF(AJ198=\"\",\"\",VLOOKUP(AJ198,[0]!Relais,2))","v":""},{"$f":"IF($A198=\"\",\"\",VLOOKUP($A198,INSCRITS!$D$4:$W$506,18,0))","v":""},null,{"$f":"IF(AM198=\"\",\"\",VLOOKUP(AM198,[0]!Relais,2))","v":""},{"$f":"IF($A198=\"\",\"\",VLOOKUP($A198,INSCRITS!$D$4:$W$506,19,0))","v":""},null,{"$f":"IF(AP198=\"\",\"\",VLOOKUP(AP198,[0]!Relais,2))","v":""},0,0]
[null,null,null,{"$f":"IF($A199=\"\",\"\",VLOOKUP($A199,INSCRITS!$D$4:$W$501,4,0))","v":""},{"$f":"IF($A199=\"\",\"\",VLOOKUP($A199,INSCRITS!$D$4:$W$501,5,0))","v":""},{"$f":"IF($A199=\"\",\"\",VLOOKUP($A199,INSCRITS!$D$4:$W$501,6,0))","v":""},{"$f":"IF($A199=\"\",\"\",VLOOKUP($A199,INSCRITS!$D$4:$W$501,7,0))","v":""},{"$f":"IF($A199=\"\",\"\",VLOOKUP($A199,INSCRITS!$D$4:$W$501,8,0))","v":""},{"$f":"IF($A199=\"\",\"\",VLOOKUP($A199,INSCRITS!$D$4:$W$501,9,0))","v":""},{"$f":"IF($A199=\"\",\"\",VLOOKUP($A199,INSCRITS!$D$4:$W$506,10,0))","v":""},{"$f":"IF(ISNA(VLOOKUP($A199,SPRINT!AD$7:AJ$50,6,0)),\"\",VLOOKUP($A199,SPRINT!AD$7:AJ$50,6,0))","v":""},{"$f":"IF(ISNA(VLOOKUP($A199,SPRINT!AD$7:AJ$50,7,0)),\"\",VLOOKUP($A199,SPRINT!AD$7:AJ$50,7,0))","v":""},{"$f":"IF($A199=\"\",\"\",VLOOKUP($A199,INSCRITS!$D$4:$W$506,11,0))","v":""},{"$f":"IF(ISNA(VLOOKUP($A199,BATONS!AD$7:AJ$51,6,0)),\"\",VLOOKUP($A199,BATONS!AD$7:AJ$51,6,0))","v":""},{"$f":"IF(ISNA(VLOOKUP($A199,BATONS!AD$7:AJ$51,7,0)),\"\",VLOOKUP($A199,BATONS!AD$7:AJ$51,7,0))","v":""},{"$f":"IF($A199=\"\",\"\",VLOOKUP($A199,INSCRITS!$D$4:$W$506,12,0))","v":""},{"$f":"IF(ISNA(VLOOKUP($A199,PLANCHE!AC$7:AI$52,6,0)),\"\",VLOOKUP($A199,PLANCHE!AC$7:AI$52,6,0))","v":""},{"$f":"IF(ISNA(VLOOKUP($A199,PLANCHE!AC$7:AI$52,7,0)),\"\",VLOOKUP($A199,PLANCHE!AC$7:AI$52,7,0))","v":""},{"$f":"IF($A199=\"\",\"\",VLOOKUP($A199,INSCRITS!$D$4:$W$506,13,0))","v":""},{"$f":"IF(ISNA(VLOOKUP($A199,NAGE!N$7:T$52,6,0)),\"\",VLOOKUP($A199,NAGE!N$7:T$52,6,0))","v":""},{"$f":"IF(ISNA(VLOOKUP($A199,NAGE!N$7:T$52,7,0)),\"\",VLOOKUP($A199,NAGE!N$7:T$52,7,0))","v":""},{"$f":"IF($A199=\"\",\"\",VLOOKUP($A199,INSCRITS!$D$4:$W$506,14,0))","v":""},{"$f":"IF(ISNA(VLOOKUP($A199,SURFSKI!AC$8:AI$53,6,0)),\"\",VLOOKUP($A199,SURFSKI!AC$8:AI$53,6,0))","v":""},{"$f":"IF(ISNA(VLOOKUP($A199,SURFSKI!AC$8:AI$53,7,0)),\"\",VLOOKUP($A199,SURFSKI!AC$8:AI$53,7,0))","v":""},{"$f":"IF($A199=\"\",\"\",VLOOKUP($A199,INSCRITS!$D$4:$W$506,15,0))","v":""},{"$f":"IF(ISNA(VLOOKUP($A199,OCEANMAN!AD$7:AJ$52,6,0)),\"\",VLOOKUP($A199,OCEANMAN!AD$7:AJ$52,6,0))","v":""},{"$f":"IF(ISNA(VLOOKUP($A199,OCEANMAN!AD$7:AJ$52,7,0)),\"\",VLOOKUP($A199,OCEANMAN!AD$7:AJ$52,7,0))","v":""},{"$f":"IF($A199=\"\",\"\",VLOOKUP($A199,INSCRITS!$D$4:$W$506,16,0))","v":""},{"$f":"IF(ISNA(VLOOKUP($A199,CNC!N$7:AC$52,6,0)),\"\",VLOOKUP($A199,CNC!N$7:AC$52,6,0))","v":""},{"$f":"IF(ISNA(VLOOKUP($A199,CNC!N$7:AC$52,7,0)),\"\",VLOOKUP($A199,CNC!N$7:AC$52,7,0))","v":""},0,{"$f":"IF($A199=\"\",\"\",VLOOKUP($A199,INSCRITS!$D$4:$W$506,16,0))","v":""},null,{"$f":"IF(AG199=\"\",\"\",VLOOKUP(AG199,[0]!Relais,2))","v":""},{"$f":"IF($A199=\"\",\"\",VLOOKUP($A199,INSCRITS!$D$4:$W$506,17,0))","v":""},null,{"$f":"IF(AJ199=\"\",\"\",VLOOKUP(AJ199,[0]!Relais,2))","v":""},{"$f":"IF($A199=\"\",\"\",VLOOKUP($A199,INSCRITS!$D$4:$W$506,18,0))","v":""},null,{"$f":"IF(AM199=\"\",\"\",VLOOKUP(AM199,[0]!Relais,2))","v":""},{"$f":"IF($A199=\"\",\"\",VLOOKUP($A199,INSCRITS!$D$4:$W$506,19,0))","v":""},null,{"$f":"IF(AP199=\"\",\"\",VLOOKUP(AP199,[0]!Relais,2))","v":""},0,0]
[null,null,null,{"$f":"IF($A200=\"\",\"\",VLOOKUP($A200,INSCRITS!$D$4:$W$501,4,0))","v":""},{"$f":"IF($A200=\"\",\"\",VLOOKUP($A200,INSCRITS!$D$4:$W$501,5,0))","v":""},{"$f":"IF($A200=\"\",\"\",VLOOKUP($A200,INSCRITS!$D$4:$W$501,6,0))","v":""},{"$f":"IF($A200=\"\",\"\",VLOOKUP($A200,INSCRITS!$D$4:$W$501,7,0))","v":""},{"$f":"IF($A200=\"\",\"\",VLOOKUP($A200,INSCRITS!$D$4:$W$501,8,0))","v":""},{"$f":"IF($A200=\"\",\"\",VLOOKUP($A200,INSCRITS!$D$4:$W$501,9,0))","v":""},{"$f":"IF($A200=\"\",\"\",VLOOKUP($A200,INSCRITS!$D$4:$W$506,10,0))","v":""},{"$f":"IF(ISNA(VLOOKUP($A200,SPRINT!AD$7:AJ$50,6,0)),\"\",VLOOKUP($A200,SPRINT!AD$7:AJ$50,6,0))","v":""},{"$f":"IF(ISNA(VLOOKUP($A200,SPRINT!AD$7:AJ$50,7,0)),\"\",VLOOKUP($A200,SPRINT!AD$7:AJ$50,7,0))","v":""},{"$f":"IF($A200=\"\",\"\",VLOOKUP($A200,INSCRITS!$D$4:$W$506,11,0))","v":""},{"$f":"IF(ISNA(VLOOKUP($A200,BATONS!AD$7:AJ$51,6,0)),\"\",VLOOKUP($A200,BATONS!AD$7:AJ$51,6,0))","v":""},{"$f":"IF(ISNA(VLOOKUP($A200,BATONS!AD$7:AJ$51,7,0)),\"\",VLOOKUP($A200,BATONS!AD$7:AJ$51,7,0))","v":""},{"$f":"IF($A200=\"\",\"\",VLOOKUP($A200,INSCRITS!$D$4:$W$506,12,0))","v":""},{"$f":"IF(ISNA(VLOOKUP($A200,PLANCHE!AC$7:AI$52,6,0)),\"\",VLOOKUP($A200,PLANCHE!AC$7:AI$52,6,0))","v":""},{"$f":"IF(ISNA(VLOOKUP($A200,PLANCHE!AC$7:AI$52,7,0)),\"\",VLOOKUP($A200,PLANCHE!AC$7:AI$52,7,0))","v":""},{"$f":"IF($A200=\"\",\"\",VLOOKUP($A200,INSCRITS!$D$4:$W$506,13,0))","v":""},{"$f":"IF(ISNA(VLOOKUP($A200,NAGE!N$7:T$52,6,0)),\"\",VLOOKUP($A200,NAGE!N$7:T$52,6,0))","v":""},{"$f":"IF(ISNA(VLOOKUP($A200,NAGE!N$7:T$52,7,0)),\"\",VLOOKUP($A200,NAGE!N$7:T$52,7,0))","v":""},{"$f":"IF($A200=\"\",\"\",VLOOKUP($A200,INSCRITS!$D$4:$W$506,14,0))","v":""},{"$f":"IF(ISNA(VLOOKUP($A200,SURFSKI!AC$8:AI$53,6,0)),\"\",VLOOKUP($A200,SURFSKI!AC$8:AI$53,6,0))","v":""},{"$f":"IF(ISNA(VLOOKUP($A200,SURFSKI!AC$8:AI$53,7,0)),\"\",VLOOKUP($A200,SURFSKI!AC$8:AI$53,7,0))","v":""},{"$f":"IF($A200=\"\",\"\",VLOOKUP($A200,INSCRITS!$D$4:$W$506,15,0))","v":""},{"$f":"IF(ISNA(VLOOKUP($A200,OCEANMAN!AD$7:AJ$52,6,0)),\"\",VLOOKUP($A200,OCEANMAN!AD$7:AJ$52,6,0))","v":""},{"$f":"IF(ISNA(VLOOKUP($A200,OCEANMAN!AD$7:AJ$52,7,0)),\"\",VLOOKUP($A200,OCEANMAN!AD$7:AJ$52,7,0))","v":""},{"$f":"IF($A200=\"\",\"\",VLOOKUP($A200,INSCRITS!$D$4:$W$506,16,0))","v":""},{"$f":"IF(ISNA(VLOOKUP($A200,CNC!N$7:AC$52,6,0)),\"\",VLOOKUP($A200,CNC!N$7:AC$52,6,0))","v":""},{"$f":"IF(ISNA(VLOOKUP($A200,CNC!N$7:AC$52,7,0)),\"\",VLOOKUP($A200,CNC!N$7:AC$52,7,0))","v":""},0,{"$f":"IF($A200=\"\",\"\",VLOOKUP($A200,INSCRITS!$D$4:$W$506,16,0))","v":""},null,{"$f":"IF(AG200=\"\",\"\",VLOOKUP(AG200,[0]!Relais,2))","v":""},{"$f":"IF($A200=\"\",\"\",VLOOKUP($A200,INSCRITS!$D$4:$W$506,17,0))","v":""},null,{"$f":"IF(AJ200=\"\",\"\",VLOOKUP(AJ200,[0]!Relais,2))","v":""},{"$f":"IF($A200=\"\",\"\",VLOOKUP($A200,INSCRITS!$D$4:$W$506,18,0))","v":""},null,{"$f":"IF(AM200=\"\",\"\",VLOOKUP(AM200,[0]!Relais,2))","v":""},{"$f":"IF($A200=\"\",\"\",VLOOKUP($A200,INSCRITS!$D$4:$W$506,19,0))","v":""},null,{"$f":"IF(AP200=\"\",\"\",VLOOKUP(AP200,[0]!Relais,2))","v":""},0,0]
[null,null,null,{"$f":"IF($A201=\"\",\"\",VLOOKUP($A201,INSCRITS!$D$4:$W$501,4,0))","v":""},{"$f":"IF($A201=\"\",\"\",VLOOKUP($A201,INSCRITS!$D$4:$W$501,5,0))","v":""},{"$f":"IF($A201=\"\",\"\",VLOOKUP($A201,INSCRITS!$D$4:$W$501,6,0))","v":""},{"$f":"IF($A201=\"\",\"\",VLOOKUP($A201,INSCRITS!$D$4:$W$501,7,0))","v":""},{"$f":"IF($A201=\"\",\"\",VLOOKUP($A201,INSCRITS!$D$4:$W$501,8,0))","v":""},{"$f":"IF($A201=\"\",\"\",VLOOKUP($A201,INSCRITS!$D$4:$W$501,9,0))","v":""},{"$f":"IF($A201=\"\",\"\",VLOOKUP($A201,INSCRITS!$D$4:$W$506,10,0))","v":""},{"$f":"IF(ISNA(VLOOKUP($A201,SPRINT!AD$7:AJ$50,6,0)),\"\",VLOOKUP($A201,SPRINT!AD$7:AJ$50,6,0))","v":""},{"$f":"IF(ISNA(VLOOKUP($A201,SPRINT!AD$7:AJ$50,7,0)),\"\",VLOOKUP($A201,SPRINT!AD$7:AJ$50,7,0))","v":""},{"$f":"IF($A201=\"\",\"\",VLOOKUP($A201,INSCRITS!$D$4:$W$506,11,0))","v":""},{"$f":"IF(ISNA(VLOOKUP($A201,BATONS!AD$7:AJ$51,6,0)),\"\",VLOOKUP($A201,BATONS!AD$7:AJ$51,6,0))","v":""},{"$f":"IF(ISNA(VLOOKUP($A201,BATONS!AD$7:AJ$51,7,0)),\"\",VLOOKUP($A201,BATONS!AD$7:AJ$51,7,0))","v":""},{"$f":"IF($A201=\"\",\"\",VLOOKUP($A201,INSCRITS!$D$4:$W$506,12,0))","v":""},{"$f":"IF(ISNA(VLOOKUP($A201,PLANCHE!AC$7:AI$52,6,0)),\"\",VLOOKUP($A201,PLANCHE!AC$7:AI$52,6,0))","v":""},{"$f":"IF(ISNA(VLOOKUP($A201,PLANCHE!AC$7:AI$52,7,0)),\"\",VLOOKUP($A201,PLANCHE!AC$7:AI$52,7,0))","v":""},{"$f":"IF($A201=\"\",\"\",VLOOKUP($A201,INSCRITS!$D$4:$W$506,13,0))","v":""},{"$f":"IF(ISNA(VLOOKUP($A201,NAGE!N$7:T$52,6,0)),\"\",VLOOKUP($A201,NAGE!N$7:T$52,6,0))","v":""},{"$f":"IF(ISNA(VLOOKUP($A201,NAGE!N$7:T$52,7,0)),\"\",VLOOKUP($A201,NAGE!N$7:T$52,7,0))","v":""},{"$f":"IF($A201=\"\",\"\",VLOOKUP($A201,INSCRITS!$D$4:$W$506,14,0))","v":""},{"$f":"IF(ISNA(VLOOKUP($A201,SURFSKI!AC$8:AI$53,6,0)),\"\",VLOOKUP($A201,SURFSKI!AC$8:AI$53,6,0))","v":""},{"$f":"IF(ISNA(VLOOKUP($A201,SURFSKI!AC$8:AI$53,7,0)),\"\",VLOOKUP($A201,SURFSKI!AC$8:AI$53,7,0))","v":""},{"$f":"IF($A201=\"\",\"\",VLOOKUP($A201,INSCRITS!$D$4:$W$506,15,0))","v":""},{"$f":"IF(ISNA(VLOOKUP($A201,OCEANMAN!AD$7:AJ$52,6,0)),\"\",VLOOKUP($A201,OCEANMAN!AD$7:AJ$52,6,0))","v":""},{"$f":"IF(ISNA(VLOOKUP($A201,OCEANMAN!AD$7:AJ$52,7,0)),\"\",VLOOKUP($A201,OCEANMAN!AD$7:AJ$52,7,0))","v":""},{"$f":"IF($A201=\"\",\"\",VLOOKUP($A201,INSCRITS!$D$4:$W$506,16,0))","v":""},{"$f":"IF(ISNA(VLOOKUP($A201,CNC!N$7:AC$52,6,0)),\"\",VLOOKUP($A201,CNC!N$7:AC$52,6,0))","v":""},{"$f":"IF(ISNA(VLOOKUP($A201,CNC!N$7:AC$52,7,0)),\"\",VLOOKUP($A201,CNC!N$7:AC$52,7,0))","v":""},0,{"$f":"IF($A201=\"\",\"\",VLOOKUP($A201,INSCRITS!$D$4:$W$506,16,0))","v":""},null,{"$f":"IF(AG201=\"\",\"\",VLOOKUP(AG201,[0]!Relais,2))","v":""},{"$f":"IF($A201=\"\",\"\",VLOOKUP($A201,INSCRITS!$D$4:$W$506,17,0))","v":""},null,{"$f":"IF(AJ201=\"\",\"\",VLOOKUP(AJ201,[0]!Relais,2))","v":""},{"$f":"IF($A201=\"\",\"\",VLOOKUP($A201,INSCRITS!$D$4:$W$506,18,0))","v":""},null,{"$f":"IF(AM201=\"\",\"\",VLOOKUP(AM201,[0]!Relais,2))","v":""},{"$f":"IF($A201=\"\",\"\",VLOOKUP($A201,INSCRITS!$D$4:$W$506,19,0))","v":""},null,{"$f":"IF(AP201=\"\",\"\",VLOOKUP(AP201,[0]!Relais,2))","v":""},0,0]
[null,null,null,{"$f":"IF($A202=\"\",\"\",VLOOKUP($A202,INSCRITS!$D$4:$W$501,4,0))","v":""},{"$f":"IF($A202=\"\",\"\",VLOOKUP($A202,INSCRITS!$D$4:$W$501,5,0))","v":""},{"$f":"IF($A202=\"\",\"\",VLOOKUP($A202,INSCRITS!$D$4:$W$501,6,0))","v":""},{"$f":"IF($A202=\"\",\"\",VLOOKUP($A202,INSCRITS!$D$4:$W$501,7,0))","v":""},{"$f":"IF($A202=\"\",\"\",VLOOKUP($A202,INSCRITS!$D$4:$W$501,8,0))","v":""},{"$f":"IF($A202=\"\",\"\",VLOOKUP($A202,INSCRITS!$D$4:$W$501,9,0))","v":""},{"$f":"IF($A202=\"\",\"\",VLOOKUP($A202,INSCRITS!$D$4:$W$506,10,0))","v":""},{"$f":"IF(ISNA(VLOOKUP($A202,SPRINT!AD$7:AJ$50,6,0)),\"\",VLOOKUP($A202,SPRINT!AD$7:AJ$50,6,0))","v":""},{"$f":"IF(ISNA(VLOOKUP($A202,SPRINT!AD$7:AJ$50,7,0)),\"\",VLOOKUP($A202,SPRINT!AD$7:AJ$50,7,0))","v":""},{"$f":"IF($A202=\"\",\"\",VLOOKUP($A202,INSCRITS!$D$4:$W$506,11,0))","v":""},{"$f":"IF(ISNA(VLOOKUP($A202,BATONS!AD$7:AJ$51,6,0)),\"\",VLOOKUP($A202,BATONS!AD$7:AJ$51,6,0))","v":""},{"$f":"IF(ISNA(VLOOKUP($A202,BATONS!AD$7:AJ$51,7,0)),\"\",VLOOKUP($A202,BATONS!AD$7:AJ$51,7,0))","v":""},{"$f":"IF($A202=\"\",\"\",VLOOKUP($A202,INSCRITS!$D$4:$W$506,12,0))","v":""},{"$f":"IF(ISNA(VLOOKUP($A202,PLANCHE!AC$7:AI$52,6,0)),\"\",VLOOKUP($A202,PLANCHE!AC$7:AI$52,6,0))","v":""},{"$f":"IF(ISNA(VLOOKUP($A202,PLANCHE!AC$7:AI$52,7,0)),\"\",VLOOKUP($A202,PLANCHE!AC$7:AI$52,7,0))","v":""},{"$f":"IF($A202=\"\",\"\",VLOOKUP($A202,INSCRITS!$D$4:$W$506,13,0))","v":""},{"$f":"IF(ISNA(VLOOKUP($A202,NAGE!N$7:T$52,6,0)),\"\",VLOOKUP($A202,NAGE!N$7:T$52,6,0))","v":""},{"$f":"IF(ISNA(VLOOKUP($A202,NAGE!N$7:T$52,7,0)),\"\",VLOOKUP($A202,NAGE!N$7:T$52,7,0))","v":""},{"$f":"IF($A202=\"\",\"\",VLOOKUP($A202,INSCRITS!$D$4:$W$506,14,0))","v":""},{"$f":"IF(ISNA(VLOOKUP($A202,SURFSKI!AC$8:AI$53,6,0)),\"\",VLOOKUP($A202,SURFSKI!AC$8:AI$53,6,0))","v":""},{"$f":"IF(ISNA(VLOOKUP($A202,SURFSKI!AC$8:AI$53,7,0)),\"\",VLOOKUP($A202,SURFSKI!AC$8:AI$53,7,0))","v":""},{"$f":"IF($A202=\"\",\"\",VLOOKUP($A202,INSCRITS!$D$4:$W$506,15,0))","v":""},{"$f":"IF(ISNA(VLOOKUP($A202,OCEANMAN!AD$7:AJ$52,6,0)),\"\",VLOOKUP($A202,OCEANMAN!AD$7:AJ$52,6,0))","v":""},{"$f":"IF(ISNA(VLOOKUP($A202,OCEANMAN!AD$7:AJ$52,7,0)),\"\",VLOOKUP($A202,OCEANMAN!AD$7:AJ$52,7,0))","v":""},{"$f":"IF($A202=\"\",\"\",VLOOKUP($A202,INSCRITS!$D$4:$W$506,16,0))","v":""},{"$f":"IF(ISNA(VLOOKUP($A202,CNC!N$7:AC$52,6,0)),\"\",VLOOKUP($A202,CNC!N$7:AC$52,6,0))","v":""},{"$f":"IF(ISNA(VLOOKUP($A202,CNC!N$7:AC$52,7,0)),\"\",VLOOKUP($A202,CNC!N$7:AC$52,7,0))","v":""},0,{"$f":"IF($A202=\"\",\"\",VLOOKUP($A202,INSCRITS!$D$4:$W$506,16,0))","v":""},null,{"$f":"IF(AG202=\"\",\"\",VLOOKUP(AG202,[0]!Relais,2))","v":""},{"$f":"IF($A202=\"\",\"\",VLOOKUP($A202,INSCRITS!$D$4:$W$506,17,0))","v":""},null,{"$f":"IF(AJ202=\"\",\"\",VLOOKUP(AJ202,[0]!Relais,2))","v":""},{"$f":"IF($A202=\"\",\"\",VLOOKUP($A202,INSCRITS!$D$4:$W$506,18,0))","v":""},null,{"$f":"IF(AM202=\"\",\"\",VLOOKUP(AM202,[0]!Relais,2))","v":""},{"$f":"IF($A202=\"\",\"\",VLOOKUP($A202,INSCRITS!$D$4:$W$506,19,0))","v":""},null,{"$f":"IF(AP202=\"\",\"\",VLOOKUP(AP202,[0]!Relais,2))","v":""},0,0]
[null,null,null,{"$f":"IF($A203=\"\",\"\",VLOOKUP($A203,INSCRITS!$D$4:$W$501,4,0))","v":""},{"$f":"IF($A203=\"\",\"\",VLOOKUP($A203,INSCRITS!$D$4:$W$501,5,0))","v":""},{"$f":"IF($A203=\"\",\"\",VLOOKUP($A203,INSCRITS!$D$4:$W$501,6,0))","v":""},{"$f":"IF($A203=\"\",\"\",VLOOKUP($A203,INSCRITS!$D$4:$W$501,7,0))","v":""},{"$f":"IF($A203=\"\",\"\",VLOOKUP($A203,INSCRITS!$D$4:$W$501,8,0))","v":""},{"$f":"IF($A203=\"\",\"\",VLOOKUP($A203,INSCRITS!$D$4:$W$501,9,0))","v":""},{"$f":"IF($A203=\"\",\"\",VLOOKUP($A203,INSCRITS!$D$4:$W$506,10,0))","v":""},{"$f":"IF(ISNA(VLOOKUP($A203,SPRINT!AD$7:AJ$50,6,0)),\"\",VLOOKUP($A203,SPRINT!AD$7:AJ$50,6,0))","v":""},{"$f":"IF(ISNA(VLOOKUP($A203,SPRINT!AD$7:AJ$50,7,0)),\"\",VLOOKUP($A203,SPRINT!AD$7:AJ$50,7,0))","v":""},{"$f":"IF($A203=\"\",\"\",VLOOKUP($A203,INSCRITS!$D$4:$W$506,11,0))","v":""},{"$f":"IF(ISNA(VLOOKUP($A203,BATONS!AD$7:AJ$51,6,0)),\"\",VLOOKUP($A203,BATONS!AD$7:AJ$51,6,0))","v":""},{"$f":"IF(ISNA(VLOOKUP($A203,BATONS!AD$7:AJ$51,7,0)),\"\",VLOOKUP($A203,BATONS!AD$7:AJ$51,7,0))","v":""},{"$f":"IF($A203=\"\",\"\",VLOOKUP($A203,INSCRITS!$D$4:$W$506,12,0))","v":""},{"$f":"IF(ISNA(VLOOKUP($A203,PLANCHE!AC$7:AI$52,6,0)),\"\",VLOOKUP($A203,PLANCHE!AC$7:AI$52,6,0))","v":""},{"$f":"IF(ISNA(VLOOKUP($A203,PLANCHE!AC$7:AI$52,7,0)),\"\",VLOOKUP($A203,PLANCHE!AC$7:AI$52,7,0))","v":""},{"$f":"IF($A203=\"\",\"\",VLOOKUP($A203,INSCRITS!$D$4:$W$506,13,0))","v":""},{"$f":"IF(ISNA(VLOOKUP($A203,NAGE!N$7:T$52,6,0)),\"\",VLOOKUP($A203,NAGE!N$7:T$52,6,0))","v":""},{"$f":"IF(ISNA(VLOOKUP($A203,NAGE!N$7:T$52,7,0)),\"\",VLOOKUP($A203,NAGE!N$7:T$52,7,0))","v":""},{"$f":"IF($A203=\"\",\"\",VLOOKUP($A203,INSCRITS!$D$4:$W$506,14,0))","v":""},{"$f":"IF(ISNA(VLOOKUP($A203,SURFSKI!AC$8:AI$53,6,0)),\"\",VLOOKUP($A203,SURFSKI!AC$8:AI$53,6,0))","v":""},{"$f":"IF(ISNA(VLOOKUP($A203,SURFSKI!AC$8:AI$53,7,0)),\"\",VLOOKUP($A203,SURFSKI!AC$8:AI$53,7,0))","v":""},{"$f":"IF($A203=\"\",\"\",VLOOKUP($A203,INSCRITS!$D$4:$W$506,15,0))","v":""},{"$f":"IF(ISNA(VLOOKUP($A203,OCEANMAN!AD$7:AJ$52,6,0)),\"\",VLOOKUP($A203,OCEANMAN!AD$7:AJ$52,6,0))","v":""},{"$f":"IF(ISNA(VLOOKUP($A203,OCEANMAN!AD$7:AJ$52,7,0)),\"\",VLOOKUP($A203,OCEANMAN!AD$7:AJ$52,7,0))","v":""},{"$f":"IF($A203=\"\",\"\",VLOOKUP($A203,INSCRITS!$D$4:$W$506,16,0))","v":""},{"$f":"IF(ISNA(VLOOKUP($A203,CNC!N$7:AC$52,6,0)),\"\",VLOOKUP($A203,CNC!N$7:AC$52,6,0))","v":""},{"$f":"IF(ISNA(VLOOKUP($A203,CNC!N$7:AC$52,7,0)),\"\",VLOOKUP($A203,CNC!N$7:AC$52,7,0))","v":""},0,{"$f":"IF($A203=\"\",\"\",VLOOKUP($A203,INSCRITS!$D$4:$W$506,16,0))","v":""},null,{"$f":"IF(AG203=\"\",\"\",VLOOKUP(AG203,[0]!Relais,2))","v":""},{"$f":"IF($A203=\"\",\"\",VLOOKUP($A203,INSCRITS!$D$4:$W$506,17,0))","v":""},null,{"$f":"IF(AJ203=\"\",\"\",VLOOKUP(AJ203,[0]!Relais,2))","v":""},{"$f":"IF($A203=\"\",\"\",VLOOKUP($A203,INSCRITS!$D$4:$W$506,18,0))","v":""},null,{"$f":"IF(AM203=\"\",\"\",VLOOKUP(AM203,[0]!Relais,2))","v":""},{"$f":"IF($A203=\"\",\"\",VLOOKUP($A203,INSCRITS!$D$4:$W$506,19,0))","v":""},null,{"$f":"IF(AP203=\"\",\"\",VLOOKUP(AP203,[0]!Relais,2))","v":""},0,0]
[null,null,null,{"$f":"IF($A204=\"\",\"\",VLOOKUP($A204,INSCRITS!$D$4:$W$501,4,0))","v":""},{"$f":"IF($A204=\"\",\"\",VLOOKUP($A204,INSCRITS!$D$4:$W$501,5,0))","v":""},{"$f":"IF($A204=\"\",\"\",VLOOKUP($A204,INSCRITS!$D$4:$W$501,6,0))","v":""},{"$f":"IF($A204=\"\",\"\",VLOOKUP($A204,INSCRITS!$D$4:$W$501,7,0))","v":""},{"$f":"IF($A204=\"\",\"\",VLOOKUP($A204,INSCRITS!$D$4:$W$501,8,0))","v":""},{"$f":"IF($A204=\"\",\"\",VLOOKUP($A204,INSCRITS!$D$4:$W$501,9,0))","v":""},{"$f":"IF($A204=\"\",\"\",VLOOKUP($A204,INSCRITS!$D$4:$W$506,10,0))","v":""},{"$f":"IF(ISNA(VLOOKUP($A204,SPRINT!AD$7:AJ$50,6,0)),\"\",VLOOKUP($A204,SPRINT!AD$7:AJ$50,6,0))","v":""},{"$f":"IF(ISNA(VLOOKUP($A204,SPRINT!AD$7:AJ$50,7,0)),\"\",VLOOKUP($A204,SPRINT!AD$7:AJ$50,7,0))","v":""},{"$f":"IF($A204=\"\",\"\",VLOOKUP($A204,INSCRITS!$D$4:$W$506,11,0))","v":""},{"$f":"IF(ISNA(VLOOKUP($A204,BATONS!AD$7:AJ$51,6,0)),\"\",VLOOKUP($A204,BATONS!AD$7:AJ$51,6,0))","v":""},{"$f":"IF(ISNA(VLOOKUP($A204,BATONS!AD$7:AJ$51,7,0)),\"\",VLOOKUP($A204,BATONS!AD$7:AJ$51,7,0))","v":""},{"$f":"IF($A204=\"\",\"\",VLOOKUP($A204,INSCRITS!$D$4:$W$506,12,0))","v":""},{"$f":"IF(ISNA(VLOOKUP($A204,PLANCHE!AC$7:AI$52,6,0)),\"\",VLOOKUP($A204,PLANCHE!AC$7:AI$52,6,0))","v":""},{"$f":"IF(ISNA(VLOOKUP($A204,PLANCHE!AC$7:AI$52,7,0)),\"\",VLOOKUP($A204,PLANCHE!AC$7:AI$52,7,0))","v":""},{"$f":"IF($A204=\"\",\"\",VLOOKUP($A204,INSCRITS!$D$4:$W$506,13,0))","v":""},{"$f":"IF(ISNA(VLOOKUP($A204,NAGE!N$7:T$52,6,0)),\"\",VLOOKUP($A204,NAGE!N$7:T$52,6,0))","v":""},{"$f":"IF(ISNA(VLOOKUP($A204,NAGE!N$7:T$52,7,0)),\"\",VLOOKUP($A204,NAGE!N$7:T$52,7,0))","v":""},{"$f":"IF($A204=\"\",\"\",VLOOKUP($A204,INSCRITS!$D$4:$W$506,14,0))","v":""},{"$f":"IF(ISNA(VLOOKUP($A204,SURFSKI!AC$8:AI$53,6,0)),\"\",VLOOKUP($A204,SURFSKI!AC$8:AI$53,6,0))","v":""},{"$f":"IF(ISNA(VLOOKUP($A204,SURFSKI!AC$8:AI$53,7,0)),\"\",VLOOKUP($A204,SURFSKI!AC$8:AI$53,7,0))","v":""},{"$f":"IF($A204=\"\",\"\",VLOOKUP($A204,INSCRITS!$D$4:$W$506,15,0))","v":""},{"$f":"IF(ISNA(VLOOKUP($A204,OCEANMAN!AD$7:AJ$52,6,0)),\"\",VLOOKUP($A204,OCEANMAN!AD$7:AJ$52,6,0))","v":""},{"$f":"IF(ISNA(VLOOKUP($A204,OCEANMAN!AD$7:AJ$52,7,0)),\"\",VLOOKUP($A204,OCEANMAN!AD$7:AJ$52,7,0))","v":""},{"$f":"IF($A204=\"\",\"\",VLOOKUP($A204,INSCRITS!$D$4:$W$506,16,0))","v":""},{"$f":"IF(ISNA(VLOOKUP($A204,CNC!N$7:AC$52,6,0)),\"\",VLOOKUP($A204,CNC!N$7:AC$52,6,0))","v":""},{"$f":"IF(ISNA(VLOOKUP($A204,CNC!N$7:AC$52,7,0)),\"\",VLOOKUP($A204,CNC!N$7:AC$52,7,0))","v":""},0,{"$f":"IF($A204=\"\",\"\",VLOOKUP($A204,INSCRITS!$D$4:$W$506,16,0))","v":""},null,{"$f":"IF(AG204=\"\",\"\",VLOOKUP(AG204,[0]!Relais,2))","v":""},{"$f":"IF($A204=\"\",\"\",VLOOKUP($A204,INSCRITS!$D$4:$W$506,17,0))","v":""},null,{"$f":"IF(AJ204=\"\",\"\",VLOOKUP(AJ204,[0]!Relais,2))","v":""},{"$f":"IF($A204=\"\",\"\",VLOOKUP($A204,INSCRITS!$D$4:$W$506,18,0))","v":""},null,{"$f":"IF(AM204=\"\",\"\",VLOOKUP(AM204,[0]!Relais,2))","v":""},{"$f":"IF($A204=\"\",\"\",VLOOKUP($A204,INSCRITS!$D$4:$W$506,19,0))","v":""},null,{"$f":"IF(AP204=\"\",\"\",VLOOKUP(AP204,[0]!Relais,2))","v":""},0,0]
[null,null,null,{"$f":"IF($A205=\"\",\"\",VLOOKUP($A205,INSCRITS!$D$4:$W$501,4,0))","v":""},{"$f":"IF($A205=\"\",\"\",VLOOKUP($A205,INSCRITS!$D$4:$W$501,5,0))","v":""},{"$f":"IF($A205=\"\",\"\",VLOOKUP($A205,INSCRITS!$D$4:$W$501,6,0))","v":""},{"$f":"IF($A205=\"\",\"\",VLOOKUP($A205,INSCRITS!$D$4:$W$501,7,0))","v":""},{"$f":"IF($A205=\"\",\"\",VLOOKUP($A205,INSCRITS!$D$4:$W$501,8,0))","v":""},{"$f":"IF($A205=\"\",\"\",VLOOKUP($A205,INSCRITS!$D$4:$W$501,9,0))","v":""},{"$f":"IF($A205=\"\",\"\",VLOOKUP($A205,INSCRITS!$D$4:$W$506,10,0))","v":""},{"$f":"IF(ISNA(VLOOKUP($A205,SPRINT!AD$7:AJ$50,6,0)),\"\",VLOOKUP($A205,SPRINT!AD$7:AJ$50,6,0))","v":""},{"$f":"IF(ISNA(VLOOKUP($A205,SPRINT!AD$7:AJ$50,7,0)),\"\",VLOOKUP($A205,SPRINT!AD$7:AJ$50,7,0))","v":""},{"$f":"IF($A205=\"\",\"\",VLOOKUP($A205,INSCRITS!$D$4:$W$506,11,0))","v":""},{"$f":"IF(ISNA(VLOOKUP($A205,BATONS!AD$7:AJ$51,6,0)),\"\",VLOOKUP($A205,BATONS!AD$7:AJ$51,6,0))","v":""},{"$f":"IF(ISNA(VLOOKUP($A205,BATONS!AD$7:AJ$51,7,0)),\"\",VLOOKUP($A205,BATONS!AD$7:AJ$51,7,0))","v":""},{"$f":"IF($A205=\"\",\"\",VLOOKUP($A205,INSCRITS!$D$4:$W$506,12,0))","v":""},{"$f":"IF(ISNA(VLOOKUP($A205,PLANCHE!AC$7:AI$52,6,0)),\"\",VLOOKUP($A205,PLANCHE!AC$7:AI$52,6,0))","v":""},{"$f":"IF(ISNA(VLOOKUP($A205,PLANCHE!AC$7:AI$52,7,0)),\"\",VLOOKUP($A205,PLANCHE!AC$7:AI$52,7,0))","v":""},{"$f":"IF($A205=\"\",\"\",VLOOKUP($A205,INSCRITS!$D$4:$W$506,13,0))","v":""},{"$f":"IF(ISNA(VLOOKUP($A205,NAGE!N$7:T$52,6,0)),\"\",VLOOKUP($A205,NAGE!N$7:T$52,6,0))","v":""},{"$f":"IF(ISNA(VLOOKUP($A205,NAGE!N$7:T$52,7,0)),\"\",VLOOKUP($A205,NAGE!N$7:T$52,7,0))","v":""},{"$f":"IF($A205=\"\",\"\",VLOOKUP($A205,INSCRITS!$D$4:$W$506,14,0))","v":""},{"$f":"IF(ISNA(VLOOKUP($A205,SURFSKI!AC$8:AI$53,6,0)),\"\",VLOOKUP($A205,SURFSKI!AC$8:AI$53,6,0))","v":""},{"$f":"IF(ISNA(VLOOKUP($A205,SURFSKI!AC$8:AI$53,7,0)),\"\",VLOOKUP($A205,SURFSKI!AC$8:AI$53,7,0))","v":""},{"$f":"IF($A205=\"\",\"\",VLOOKUP($A205,INSCRITS!$D$4:$W$506,15,0))","v":""},{"$f":"IF(ISNA(VLOOKUP($A205,OCEANMAN!AD$7:AJ$52,6,0)),\"\",VLOOKUP($A205,OCEANMAN!AD$7:AJ$52,6,0))","v":""},{"$f":"IF(ISNA(VLOOKUP($A205,OCEANMAN!AD$7:AJ$52,7,0)),\"\",VLOOKUP($A205,OCEANMAN!AD$7:AJ$52,7,0))","v":""},{"$f":"IF($A205=\"\",\"\",VLOOKUP($A205,INSCRITS!$D$4:$W$506,16,0))","v":""},{"$f":"IF(ISNA(VLOOKUP($A205,CNC!N$7:AC$52,6,0)),\"\",VLOOKUP($A205,CNC!N$7:AC$52,6,0))","v":""},{"$f":"IF(ISNA(VLOOKUP($A205,CNC!N$7:AC$52,7,0)),\"\",VLOOKUP($A205,CNC!N$7:AC$52,7,0))","v":""},0,{"$f":"IF($A205=\"\",\"\",VLOOKUP($A205,INSCRITS!$D$4:$W$506,16,0))","v":""},null,{"$f":"IF(AG205=\"\",\"\",VLOOKUP(AG205,[0]!Relais,2))","v":""},{"$f":"IF($A205=\"\",\"\",VLOOKUP($A205,INSCRITS!$D$4:$W$506,17,0))","v":""},null,{"$f":"IF(AJ205=\"\",\"\",VLOOKUP(AJ205,[0]!Relais,2))","v":""},{"$f":"IF($A205=\"\",\"\",VLOOKUP($A205,INSCRITS!$D$4:$W$506,18,0))","v":""},null,{"$f":"IF(AM205=\"\",\"\",VLOOKUP(AM205,[0]!Relais,2))","v":""},{"$f":"IF($A205=\"\",\"\",VLOOKUP($A205,INSCRITS!$D$4:$W$506,19,0))","v":""},null,{"$f":"IF(AP205=\"\",\"\",VLOOKUP(AP205,[0]!Relais,2))","v":""},0,0]

{"sheet":"SPRINT","index":2,"n_rows":151,"n_cols":36,"rows_kept":151,"cut":false,"hidden":false,"merged":[[54,12,61,12],[62,12,69,12],[6,20,13,20],[6,12,13,12],[14,12,21,12],[22,12,29,12],[30,12,37,12],[38,12,45,12],[14,20,21,20],[46,12,53,12],[14,1,21,1],[22,1,29,1],[30,1,37,1],[38,1,45,1],[1,29,1,35],[2,29,2,30],[35,28,44,28],[25,28,34,28],[6,1,13,1]]}
[]
[]
[null,null,null,null,null,null,null,null,null,null,null,null,null,"QUART SPRINT",null,null,null,null,null,null,null,"DEMI-FINALES",null,null,null,null,null,null,null,"FINALES Sprint"]
[null,"SERIES SPRINT Messieurs",null,null,null,null,null,null,null,null,null,null,null,null,null,null,null,null,null,null,null,null,null,null,null,null,null,null,null,"Junior Messieurs"]
[null,null,null,"NOM","Prénom","CLUB","PLACE",null,null,null,null,null,null,"N°","NOM","Prénom","CLUB","PLACE",null,null,null,"N°","NOM","Prénom","CLUB","PLACE",null,null,null,"N°","NOM","Prénom","CLUB",null,"PLACE","PTS"]
[]
[null,"SERIE 1",177,{"$f":"IF($C7=\"\",\"\",VLOOKUP($C7,INSCRITS!$D$4:$W$501,6,0))","v":"GASQUET"},{"$f":"IF($C7=\"\",\"\",VLOOKUP($C7,INSCRITS!$D$4:$W$501,7,0))","v":"Mathieu"},{"$f":"IF($C7=\"\",\"\",VLOOKUP($C7,INSCRITS!$D$4:$W$501,9,0))","v":"Biarritz SC"},null,null,null,null,null,null,"SERIE 1",null,{"$f":"IF($N7=\"\",\"\",VLOOKUP($N7,INSCRITS!$D$4:$W$501,6,0))","v":""},{"$f":"IF($N7=\"\",\"\",VLOOKUP($N7,INSCRITS!$D$4:$W$501,7,0))","v":""},{"$f":"IF($N7=\"\",\"\",VLOOKUP($N7,INSCRITS!$D$4:$W$501,9,0))","v":""},null,null,null,"SERIE 1",null,{"$f":"IF($V7=\"\",\"\",VLOOKUP($V7,INSCRITS!$D$4:$W$501,6,0))","v":""},{"$f":"IF($V7=\"\",\"\",VLOOKUP($V7,INSCRITS!$D$4:$W$501,7,0))","v":""},{"$f":"IF($V7=\"\",\"\",VLOOKUP($V7,INSCRITS!$D$4:$W$501,9,0))","v":""},null,null,null,null,167,{"$f":"IF($AD7=\"\",\"\",VLOOKUP($AD7,INSCRITS!$D$4:$W$501,6,0))","v":"HERVE"},{"$f":"IF($AD7=\"\",\"\",VLOOKUP($AD7,INSCRITS!$D$4:$W$501,7,0))","v":"Axel"},{"$f":"IF($AD7=\"\",\"\",VLOOKUP($AD7,INSCRITS!$D$4:$W$501,9,0))","v":"ASCE DINARD"},null,1,{"$f":"IF(AI7=\"\",\"\",VLOOKUP(AI7,points,2))","v":20}]
[null,null,171,{"$f":"IF($C8=\"\",\"\",VLOOKUP($C8,INSCRITS!$D$4:$W$501,6,0))","v":"DABCHY"},{"$f":"IF($C8=\"\",\"\",VLOOKUP($C8,INSCRITS!$D$4:$W$501,7,0))","v":"Yassine"},{"$f":"IF($C8=\"\",\"\",VLOOKUP($C8,INSCRITS!$D$4:$W$501,9,0))","v":"ASCE DINARD "},null,null,null,null,null,null,null,null,{"$f":"IF($N8=\"\",\"\",VLOOKUP($N8,INSCRITS!$D$4:$W$501,6,0))","v":""},{"$f":"IF($N8=\"\",\"\",VLOOKUP($N8,INSCRITS!$D$4:$W$501,7,0))","v":""},{"$f":"IF($N8=\"\",\"\",VLOOKUP($N8,INSCRITS!$D$4:$W$501,9,0))","v":""},null,null,null,null,null,{"$f":"IF($V8=\"\",\"\",VLOOKUP($V8,INSCRITS!$D$4:$W$501,6,0))","v":""},{"$f":"IF($V8=\"\",\"\",VLOOKUP($V8,INSCRITS!$D$4:$W$501,7,0))","v":""},{"$f":"IF($V8=\"\",\"\",VLOOKUP($V8,INSCRITS!$D$4:$W$501,9,0))","v":""},null,null,null,null,182,{"$f":"IF($AD8=\"\",\"\",VLOOKUP($AD8,INSCRITS!$D$4:$W$501,6,0))","v":"DUBOIS CONSTANT"},{"$f":"IF($AD8=\"\",\"\",VLOOKUP($AD8,INSCRITS!$D$4:$W$501,7,0))","v":"Antoine"},{"$f":"IF($AD8=\"\",\"\",VLOOKUP($AD8,INSCRITS!$D$4:$W$501,9,0))","v":"EMULATION SAUVETAGE NATATION PERPIGNAN"},null,2,18]
[null,null,196,{"$f":"IF($C9=\"\",\"\",VLOOKUP($C9,INSCRITS!$D$4:$W$501,6,0))","v":"ZAMBELLI"},{"$f":"IF($C9=\"\",\"\",VLOOKUP($C9,INSCRITS!$D$4:$W$501,7,0))","v":"Sylvain"},{"$f":"IF($C9=\"\",\"\",VLOOKUP($C9,INSCRITS!$D$4:$W$501,9,0))","v":"MNSL"},null,null,null,null,null,null,null,null,{"$f":"IF($N9=\"\",\"\",VLOOKUP($N9,INSCRITS!$D$4:$W$501,6,0))","v":""},{"$f":"IF($N9=\"\",\"\",VLOOKUP($N9,INSCRITS!$D$4:$W$501,7,0))","v":""},{"$f":"IF($N9=\"\",\"\",VLOOKUP($N9,INSCRITS!$D$4:$W$501,9,0))","v":""},null,null,null,null,null,{"$f":"IF($V9=\"\",\"\",VLOOKUP($V9,INSCRITS!$D$4:$W$501,6,0))","v":""},{"$f":"IF($V9=\"\",\"\",VLOOKUP($V9,INSCRITS!$D$4:$W$501,7,0))","v":""},{"$f":"IF($V9=\"\",\"\",VLOOKUP($V9,INSCRITS!$D$4:$W$501,9,0))","v":""},null,null,null,null,188,{"$f":"IF($AD9=\"\",\"\",VLOOKUP($AD9,INSCRITS!$D$4:$W$501,6,0))","v":"FERRIER"},{"$f":"IF($AD9=\"\",\"\",VLOOKUP($AD9,INSCRITS!$D$4:$W$501,7,0))","v":"Paul"},{"$f":"IF($AD9=\"\",\"\",VLOOKUP($AD9,INSCRITS!$D$4:$W$501,9,0))","v":"HSC"},null,3,16]
[null,null,194,{"$f":"IF($C10=\"\",\"\",VLOOKUP($C10,INSCRITS!$D$4:$W$501,6,0))","v":"NOGUES"},{"$f":"IF($C10=\"\",\"\",VLOOKUP($C10,INSCRITS!$D$4:$W$501,7,0))","v":"Remi"},{"$f":"IF($C10=\"\",\"\",VLOOKUP($C10,INSCRITS!$D$4:$W$501,9,0))","v":"MNSL"},null,null,null,null,null,null,null,null,{"$f":"IF($N10=\"\",\"\",VLOOKUP($N10,INSCRITS!$D$4:$W$501,6,0))","v":""},{"$f":"IF($N10=\"\",\"\",VLOOKUP($N10,INSCRITS!$D$4:$W$501,7,0))","v":""},{"$f":"IF($N10=\"\",\"\",VLOOKUP($N10,INSCRITS!$D$4:$W$501,9,0))","v":""},null,null,null,null,null,{"$f":"IF($V10=\"\",\"\",VLOOKUP($V10,INSCRITS!$D$4:$W$501,6,0))","v":""},{"$f":"IF($V10=\"\",\"\",VLOOKUP($V10,INSCRITS!$D$4:$W$501,7,0))","v":""},{"$f":"IF($V10=\"\",\"\",VLOOKUP($V10,INSCRITS!$D$4:$W$501,9,0))","v":""},null,null,null,null,183,{"$f":"IF($AD10=\"\",\"\",VLOOKUP($AD10,INSCRITS!$D$4:$W$501,6,0))","v":"BLANC"},{"$f":"IF($AD10=\"\",\"\",VLOOKUP($AD10,INSCRITS!$D$4:$W$501,7,0))","v":"Guillaume"},{"$f":"IF($AD10=\"\",\"\",VLOOKUP($AD10,INSCRITS!$D$4:$W$501,9,0))","v":"ENA"},null,4,14]
[null,null,187,{"$f":"IF($C11=\"\",\"\",VLOOKUP($C11,INSCRITS!$D$4:$W$501,6,0))","v":"DEHEZ"},{"$f":"IF($C11=\"\",\"\",VLOOKUP($C11,INSCRITS!$D$4:$W$501,7,0))","v":"Rémy"},{"$f":"IF($C11=\"\",\"\",VLOOKUP($C11,INSCRITS!$D$4:$W$501,9,0))","v":"HSC"},null,null,null,null,null,null,null,null,{"$f":"IF($N11=\"\",\"\",VLOOKUP($N11,INSCRITS!$D$4:$W$501,6,0))","v":""},{"$f":"IF($N11=\"\",\"\",VLOOKUP($N11,INSCRITS!$D$4:$W$501,7,0))","v":""},{"$f":"IF($N11=\"\",\"\",VLOOKUP($N11,INSCRITS!$D$4:$W$501,9,0))","v":""},null,null,null,null,null,{"$f":"IF($V11=\"\",\"\",VLOOKUP($V11,INSCRITS!$D$4:$W$501,6,0))","v":""},{"$f":"IF($V11=\"\",\"\",VLOOKUP($V11,INSCRITS!$D$4:$W$501,7,0))","v":""},{"$f":"IF($V11=\"\",\"\",VLOOKUP($V11,INSCRITS!$D$4:$W$501,9,0))","v":""},null,null,null,null,173,{"$f":"IF($AD11=\"\",\"\",VLOOKUP($AD11,INSCRITS!$D$4:$W$501,6,0))","v":"FOS"},{"$f":"IF($AD11=\"\",\"\",VLOOKUP($AD11,INSCRITS!$D$4:$W$501,7,0))","v":"Robin"},{"$f":"IF($AD11=\"\",\"\",VLOOKUP($AD11,INSCRITS!$D$4:$W$501,9,0))","v":"BEGLES"},null,5,13]
[null,null,192,{"$f":"IF($C12=\"\",\"\",VLOOKUP($C12,INSCRITS!$D$4:$W$501,6,0))","v":"GONZALES"},{"$f":"IF($C12=\"\",\"\",VLOOKUP($C12,INSCRITS!$D$4:$W$501,7,0))","v":"Ulysse"},{"$f":"IF($C12=\"\",\"\",VLOOKUP($C12,INSCRITS!$D$4:$W$501,9,0))","v":"MIMIZAN SAUVETAGE"},null,null,null,null,null,null,null,null,{"$f":"IF($N12=\"\",\"\",VLOOKUP($N12,INSCRITS!$D$4:$W$501,6,0))","v":""},{"$f":"IF($N12=\"\",\"\",VLOOKUP($N12,INSCRITS!$D$4:$W$501,7,0))","v":""},{"$f":"IF($N12=\"\",\"\",VLOOKUP($N12,INSCRITS!$D$4:$W$501,9,0))","v":""},null,null,null,null,null,{"$f":"IF($V12=\"\",\"\",VLOOKUP($V12,INSCRITS!$D$4:$W$501,6,0))","v":""},{"$f":"IF($V12=\"\",\"\",VLOOKUP($V12,INSCRITS!$D$4:$W$501,7,0))","v":""},{"$f":"IF($V12=\"\",\"\",VLOOKUP($V12,INSCRITS!$D$4:$W$501,9,0))","v":""},null,null,null,null,180,{"$f":"IF($AD12=\"\",\"\",VLOOKUP($AD12,INSCRITS!$D$4:$W$501,6,0))","v":"DUSSES"},{"$f":"IF($AD12=\"\",\"\",VLOOKUP($AD12,INSCRITS!$D$4:$W$501,7,0))","v":"Sykvain"},{"$f":"IF($AD12=\"\",\"\",VLOOKUP($AD12,INSCRITS!$D$4:$W$501,9,0))","v":"Capbreton"},null,6,12]
[null,null,174,{"$f":"IF($C13=\"\",\"\",VLOOKUP($C13,INSCRITS!$D$4:$W$501,6,0))","v":"HAZERA"},{"$f":"IF($C13=\"\",\"\",VLOOKUP($C13,INSCRITS!$D$4:$W$501,7,0))","v":"Olivier"},{"$f":"IF($C13=\"\",\"\",VLOOKUP($C13,INSCRITS!$D$4:$W$501,9,0))","v":"BEGLES"},null,null,null,null,null,null,null,null,{"$f":"IF($N13=\"\",\"\",VLOOKUP($N13,INSCRITS!$D$4:$W$501,6,0))","v":""},{"$f":"IF($N13=\"\",\"\",VLOOKUP($N13,INSCRITS!$D$4:$W$501,7,0))","v":""},{"$f":"IF($N13=\"\",\"\",VLOOKUP($N13,INSCRITS!$D$4:$W$501,9,0))","v":""},null,null,null,null,null,{"$f":"IF($V13=\"\",\"\",VLOOKUP($V13,INSCRITS!$D$4:$W$501,6,0))","v":""},{"$f":"IF($V13=\"\",\"\",VLOOKUP($V13,INSCRITS!$D$4:$W$501,7,0))","v":""},{"$f":"IF($V13=\"\",\"\",VLOOKUP($V13,INSCRITS!$D$4:$W$501,9,0))","v":""},null,null,null,null,194,{"$f":"IF($AD13=\"\",\"\",VLOOKUP($AD13,INSCRITS!$D$4:$W$501,6,0))","v":"NOGUES"},{"$f":"IF($AD13=\"\",\"\",VLOOKUP($AD13,INSCRITS!$D$4:$W$501,7,0))","v":"Remi"},{"$f":"IF($AD13=\"\",\"\",VLOOKUP($AD13,INSCRITS!$D$4:$W$501,9,0))","v":"MNSL"},null,7,11]
[null,null,176,{"$f":"IF($C14=\"\",\"\",VLOOKUP($C14,INSCRITS!$D$4:$W$501,6,0))","v":"CALEY"},{"$f":"IF($C14=\"\",\"\",VLOOKUP($C14,INSCRITS!$D$4:$W$501,7,0))","v":"Simon"},{"$f":"IF($C14=\"\",\"\",VLOOKUP($C14,INSCRITS!$D$4:$W$501,9,0))","v":"Biarritz SC"},null,null,null,null,null,null,null,null,{"$f":"IF($N14=\"\",\"\",VLOOKUP($N14,INSCRITS!$D$4:$W$501,6,0))","v":""},{"$f":"IF($N14=\"\",\"\",VLOOKUP($N14,INSCRITS!$D$4:$W$501,7,0))","v":""},{"$f":"IF($N14=\"\",\"\",VLOOKUP($N14,INSCRITS!$D$4:$W$501,9,0))","v":""},null,null,null,null,null,{"$f":"IF($V14=\"\",\"\",VLOOKUP($V14,INSCRITS!$D$4:$W$501,6,0))","v":""},{"$f":"IF($V14=\"\",\"\",VLOOKUP($V14,INSCRITS!$D$4:$W$501,7,0))","v":""},{"$f":"IF($V14=\"\",\"\",VLOOKUP($V14,INSCRITS!$D$4:$W$501,9,0))","v":""},null,null,null,null,165,{"$f":"IF($AD14=\"\",\"\",VLOOKUP($AD14,INSCRITS!$D$4:$W$501,6,0))","v":"HAREL"},{"$f":"IF($AD14=\"\",\"\",VLOOKUP($AD14,INSCRITS!$D$4:$W$501,7,0))","v":"Romain"},{"$f":"IF($AD14=\"\",\"\",VLOOKUP($AD14,INSCRITS!$D$4:$W$501,9,0))","v":"ASCA44"},null,8,10]
[null,"SERIE 2",165,{"$f":"IF($C15=\"\",\"\",VLOOKUP($C15,INSCRITS!$D$4:$W$501,6,0))","v":"HAREL"},{"$f":"IF($C15=\"\",\"\",VLOOKUP($C15,INSCRITS!$D$4:$W$501,7,0))","v":"Romain"},{"$f":"IF($C15=\"\",\"\",VLOOKUP($C15,INSCRITS!$D$4:$W$501,9,0))","v":"ASCA44"},null,null,null,null,null,null,"SERIE 2",null,{"$f":"IF($N15=\"\",\"\",VLOOKUP($N15,INSCRITS!$D$4:$W$501,6,0))","v":""},{"$f":"IF($N15=\"\",\"\",VLOOKUP($N15,INSCRITS!$D$4:$W$501,7,0))","v":""},{"$f":"IF($N15=\"\",\"\",VLOOKUP($N15,INSCRITS!$D$4:$W$501,9,0))","v":""},null,null,null,"SERIE 2",null,{"$f":"IF($V15=\"\",\"\",VLOOKUP($V15,INSCRITS!$D$4:$W$501,6,0))","v":""},{"$f":"IF($V15=\"\",\"\",VLOOKUP($V15,INSCRITS!$D$4:$W$501,7,0))","v":""},{"$f":"IF($V15=\"\",\"\",VLOOKUP($V15,INSCRITS!$D$4:$W$501,9,0))","v":""}]
[null,null,188,{"$f":"IF($C16=\"\",\"\",VLOOKUP($C16,INSCRITS!$D$4:$W$501,6,0))","v":"FERRIER"},{"$f":"IF($C16=\"\",\"\",VLOOKUP($C16,INSCRITS!$D$4:$W$501,7,0))","v":"Paul"},{"$f":"IF($C16=\"\",\"\",VLOOKUP($C16,INSCRITS!$D$4:$W$501,9,0))","v":"HSC"},null,null,null,null,null,null,null,null,{"$f":"IF($N16=\"\",\"\",VLOOKUP($N16,INSCRITS!$D$4:$W$501,6,0))","v":""},{"$f":"IF($N16=\"\",\"\",VLOOKUP($N16,INSCRITS!$D$4:$W$501,7,0))","v":""},{"$f":"IF($N16=\"\",\"\",VLOOKUP($N16,INSCRITS!$D$4:$W$501,9,0))","v":""},null,null,null,null,null,{"$f":"IF($V16=\"\",\"\",VLOOKUP($V16,INSCRITS!$D$4:$W$501,6,0))","v":""},{"$f":"IF($V16=\"\",\"\",VLOOKUP($V16,INSCRITS!$D$4:$W$501,7,0))","v":""},{"$f":"IF($V16=\"\",\"\",VLOOKUP($V16,INSCRITS!$D$4:$W$501,9,0))","v":""},null,null,null,null,195,{"$f":"IF($AD16=\"\",\"\",VLOOKUP($AD16,INSCRITS!$D$4:$W$501,6,0))","v":"SUBRA"},{"$f":"IF($AD16=\"\",\"\",VLOOKUP($AD16,INSCRITS!$D$4:$W$501,7,0))","v":"Olivier"},{"$f":"IF($AD16=\"\",\"\",VLOOKUP($AD16,INSCRITS!$D$4:$W$501,9,0))","v":"MNSL"},null,9,{"$f":"IF(AI16=\"\",\"\",VLOOKUP(AI16,points,2))","v":8}]
[null,null,193,{"$f":"IF($C17=\"\",\"\",VLOOKUP($C17,INSCRITS!$D$4:$W$501,6,0))","v":"MAILHÉ"},{"$f":"IF($C17=\"\",\"\",VLOOKUP($C17,INSCRITS!$D$4:$W$501,7,0))","v":"Loic"},{"$f":"IF($C17=\"\",\"\",VLOOKUP($C17,INSCRITS!$D$4:$W$501,9,0))","v":"MNSL"},null,null,null,null,null,null,null,null,{"$f":"IF($N17=\"\",\"\",VLOOKUP($N17,INSCRITS!$D$4:$W$501,6,0))","v":""},{"$f":"IF($N17=\"\",\"\",VLOOKUP($N17,INSCRITS!$D$4:$W$501,7,0))","v":""},{"$f":"IF($N17=\"\",\"\",VLOOKUP($N17,INSCRITS!$D$4:$W$501,9,0))","v":""},null,null,null,null,null,{"$f":"IF($V17=\"\",\"\",VLOOKUP($V17,INSCRITS!$D$4:$W$501,6,0))","v":""},{"$f":"IF($V17=\"\",\"\",VLOOKUP($V17,INSCRITS!$D$4:$W$501,7,0))","v":""},{"$f":"IF($V17=\"\",\"\",VLOOKUP($V17,INSCRITS!$D$4:$W$501,9,0))","v":""},null,null,null,null,178,{"$f":"IF($AD17=\"\",\"\",VLOOKUP($AD17,INSCRITS!$D$4:$W$501,6,0))","v":"SORIA"},{"$f":"IF($AD17=\"\",\"\",VLOOKUP($AD17,INSCRITS!$D$4:$W$501,7,0))","v":"Samuel"},{"$f":"IF($AD17=\"\",\"\",VLOOKUP($AD17,INSCRITS!$D$4:$W$501,9,0))","v":"Biarritz SC"},null,10,7]
[null,null,186,{"$f":"IF($C18=\"\",\"\",VLOOKUP($C18,INSCRITS!$D$4:$W$501,6,0))","v":"CARISSAN"},{"$f":"IF($C18=\"\",\"\",VLOOKUP($C18,INSCRITS!$D$4:$W$501,7,0))","v":"Ludovic"},{"$f":"IF($C18=\"\",\"\",VLOOKUP($C18,INSCRITS!$D$4:$W$501,9,0))","v":"epstn"},null,null,null,null,null,null,null,null,{"$f":"IF($N18=\"\",\"\",VLOOKUP($N18,INSCRITS!$D$4:$W$501,6,0))","v":""},{"$f":"IF($N18=\"\",\"\",VLOOKUP($N18,INSCRITS!$D$4:$W$501,7,0))","v":""},{"$f":"IF($N18=\"\",\"\",VLOOKUP($N18,INSCRITS!$D$4:$W$501,9,0))","v":""},null,null,null,null,null,{"$f":"IF($V18=\"\",\"\",VLOOKUP($V18,INSCRITS!$D$4:$W$501,6,0))","v":""},{"$f":"IF($V18=\"\",\"\",VLOOKUP($V18,INSCRITS!$D$4:$W$501,7,0))","v":""},{"$f":"IF($V18=\"\",\"\",VLOOKUP($V18,INSCRITS!$D$4:$W$501,9,0))","v":""},null,null,null,null,175,{"$f":"IF($AD18=\"\",\"\",VLOOKUP($AD18,INSCRITS!$D$4:$W$501,6,0))","v":"PHILIPPEAU"},{"$f":"IF($AD18=\"\",\"\",VLOOKUP($AD18,INSCRITS!$D$4:$W$501,7,0))","v":"Jodicael"},{"$f":"IF($AD18=\"\",\"\",VLOOKUP($AD18,INSCRITS!$D$4:$W$501,9,0))","v":"BEGLES"},null,11,6]
[null,null,184,{"$f":"IF($C19=\"\",\"\",VLOOKUP($C19,INSCRITS!$D$4:$W$501,6,0))","v":"BONNAFONT"},{"$f":"IF($C19=\"\",\"\",VLOOKUP($C19,INSCRITS!$D$4:$W$501,7,0))","v":"Charles"},{"$f":"IF($C19=\"\",\"\",VLOOKUP($C19,INSCRITS!$D$4:$W$501,9,0))","v":"ENA"},null,null,null,null,null,null,null,null,{"$f":"IF($N19=\"\",\"\",VLOOKUP($N19,INSCRITS!$D$4:$W$501,6,0))","v":""},{"$f":"IF($N19=\"\",\"\",VLOOKUP($N19,INSCRITS!$D$4:$W$501,7,0))","v":""},{"$f":"IF($N19=\"\",\"\",VLOOKUP($N19,INSCRITS!$D$4:$W$501,9,0))","v":""},null,null,null,null,null,{"$f":"IF($V19=\"\",\"\",VLOOKUP($V19,INSCRITS!$D$4:$W$501,6,0))","v":""},{"$f":"IF($V19=\"\",\"\",VLOOKUP($V19,INSCRITS!$D$4:$W$501,7,0))","v":""},{"$f":"IF($V19=\"\",\"\",VLOOKUP($V19,INSCRITS!$D$4:$W$501,9,0))","v":""},null,null,null,null,193,{"$f":"IF($AD19=\"\",\"\",VLOOKUP($AD19,INSCRITS!$D$4:$W$501,6,0))","v":"MAILHÉ"},{"$f":"IF($AD19=\"\",\"\",VLOOKUP($AD19,INSCRITS!$D$4:$W$501,7,0))","v":"Loic"},{"$f":"IF($AD19=\"\",\"\",VLOOKUP($AD19,INSCRITS!$D$4:$W$501,9,0))","v":"MNSL"},null,12,5]
[null,null,162,{"$f":"IF($C20=\"\",\"\",VLOOKUP($C20,INSCRITS!$D$4:$W$501,6,0))","v":"LATAPIE"},{"$f":"IF($C20=\"\",\"\",VLOOKUP($C20,INSCRITS!$D$4:$W$501,7,0))","v":"Robin"},{"$f":"IF($C20=\"\",\"\",VLOOKUP($C20,INSCRITS!$D$4:$W$501,9,0))","v":"AQUALOVE"},null,null,null,null,null,null,null,null,{"$f":"IF($N20=\"\",\"\",VLOOKUP($N20,INSCRITS!$D$4:$W$501,6,0))","v":""},{"$f":"IF($N20=\"\",\"\",VLOOKUP($N20,INSCRITS!$D$4:$W$501,7,0))","v":""},{"$f":"IF($N20=\"\",\"\",VLOOKUP($N20,INSCRITS!$D$4:$W$501,9,0))","v":""},null,null,null,null,null,{"$f":"IF($V20=\"\",\"\",VLOOKUP($V20,INSCRITS!$D$4:$W$501,6,0))","v":""},{"$f":"IF($V20=\"\",\"\",VLOOKUP($V20,INSCRITS!$D$4:$W$501,7,0))","v":""},{"$f":"IF($V20=\"\",\"\",VLOOKUP($V20,INSCRITS!$D$4:$W$501,9,0))","v":""},null,null,null,null,196,{"$f":"IF($AD20=\"\",\"\",VLOOKUP($AD20,INSCRITS!$D$4:$W$501,6,0))","v":"ZAMBELLI"},{"$f":"IF($AD20=\"\",\"\",VLOOKUP($AD20,INSCRITS!$D$4:$W$501,7,0))","v":"Sylvain"},{"$f":"IF($AD20=\"\",\"\",VLOOKUP($AD20,INSCRITS!$D$4:$W$501,9,0))","v":"MNSL"},null,13,4]
[null,null,163,{"$f":"IF($C21=\"\",\"\",VLOOKUP($C21,INSCRITS!$D$4:$W$501,6,0))","v":"MARCO"},{"$f":"IF($C21=\"\",\"\",VLOOKUP($C21,INSCRITS!$D$4:$W$501,7,0))","v":"Clement"},{"$f":"IF($C21=\"\",\"\",VLOOKUP($C21,INSCRITS!$D$4:$W$501,9,0))","v":"AQUALOVE"},null,null,null,null,null,null,null,null,{"$f":"IF($N21=\"\",\"\",VLOOKUP($N21,INSCRITS!$D$4:$W$501,6,0))","v":""},{"$f":"IF($N21=\"\",\"\",VLOOKUP($N21,INSCRITS!$D$4:$W$501,7,0))","v":""},{"$f":"IF($N21=\"\",\"\",VLOOKUP($N21,INSCRITS!$D$4:$W$501,9,0))","v":""},null,null,null,null,null,{"$f":"IF($V21=\"\",\"\",VLOOKUP($V21,INSCRITS!$D$4:$W$501,6,0))","v":""},{"$f":"IF($V21=\"\",\"\",VLOOKUP($V21,INSCRITS!$D$4:$W$501,7,0))","v":""},{"$f":"IF($V21=\"\",\"\",VLOOKUP($V21,INSCRITS!$D$4:$W$501,9,0))","v":""},null,null,null,null,192,{"$f":"IF($AD21=\"\",\"\",VLOOKUP($AD21,INSCRITS!$D$4:$W$501,6,0))","v":"GONZALES"},{"$f":"IF($AD21=\"\",\"\",VLOOKUP($AD21,INSCRITS!$D$4:$W$501,7,0))","v":"Ulysse"},{"$f":"IF($AD21=\"\",\"\",VLOOKUP($AD21,INSCRITS!$D$4:$W$501,9,0))","v":"MIMIZAN SAUVETAGE"},null,14,3]
[null,null,183,{"$f":"IF($C22=\"\",\"\",VLOOKUP($C22,INSCRITS!$D$4:$W$501,6,0))","v":"BLANC"},{"$f":"IF($C22=\"\",\"\",VLOOKUP($C22,INSCRITS!$D$4:$W$501,7,0))","v":"Guillaume"},{"$f":"IF($C22=\"\",\"\",VLOOKUP($C22,INSCRITS!$D$4:$W$501,9,0))","v":"ENA"},null,null,null,null,null,null,null,null,{"$f":"IF($N22=\"\",\"\",VLOOKUP($N22,INSCRITS!$D$4:$W$501,6,0))","v":""},{"$f":"IF($N22=\"\",\"\",VLOOKUP($N22,INSCRITS!$D$4:$W$501,7,0))","v":""},{"$f":"IF($N22=\"\",\"\",VLOOKUP($N22,INSCRITS!$D$4:$W$501,9,0))","v":""},null,null,null,null,null,{"$f":"IF($V22=\"\",\"\",VLOOKUP($V22,INSCRITS!$D$4:$W$501,6,0))","v":""},{"$f":"IF($V22=\"\",\"\",VLOOKUP($V22,INSCRITS!$D$4:$W$501,7,0))","v":""},{"$f":"IF($V22=\"\",\"\",VLOOKUP($V22,INSCRITS!$D$4:$W$501,9,0))","v":""},null,null,null,null,169,{"$f":"IF($AD22=\"\",\"\",VLOOKUP($AD22,INSCRITS!$D$4:$W$501,6,0))","v":"POUTRIQUET"},{"$f":"IF($AD22=\"\",\"\",VLOOKUP($AD22,INSCRITS!$D$4:$W$501,7,0))","v":"Maxime"},{"$f":"IF($AD22=\"\",\"\",VLOOKUP($AD22,INSCRITS!$D$4:$W$501,9,0))","v":"ASCE DINARD"},null,15,2]
[null,"SERIE 3",180,{"$f":"IF($C23=\"\",\"\",VLOOKUP($C23,INSCRITS!$D$4:$W$501,6,0))","v":"DUSSES"},{"$f":"IF($C23=\"\",\"\",VLOOKUP($C23,INSCRITS!$D$4:$W$501,7,0))","v":"Sykvain"},{"$f":"IF($C23=\"\",\"\",VLOOKUP($C23,INSCRITS!$D$4:$W$501,9,0))","v":"Capbreton"},null,null,null,null,null,null,"SERIE 3",null,{"$f":"IF($N23=\"\",\"\",VLOOKUP($N23,INSCRITS!$D$4:$W$501,6,0))","v":""},{"$f":"IF($N23=\"\",\"\",VLOOKUP($N23,INSCRITS!$D$4:$W$501,7,0))","v":""},{"$f":"IF($N23=\"\",\"\",VLOOKUP($N23,INSCRITS!$D$4:$W$501,9,0))","v":""},null,null,null,null,null,null,null,null,null,null,null,null,null,{"$f":"IF($AD23=\"\",\"\",VLOOKUP($AD23,INSCRITS!$D$4:$W$501,6,0))","v":""},{"$f":"IF($AD23=\"\",\"\",VLOOKUP($AD23,INSCRITS!$D$4:$W$501,7,0))","v":""},{"$f":"IF($AD23=\"\",\"\",VLOOKUP($AD23,INSCRITS!$D$4:$W$501,9,0))","v":""},null,16,1]
[null,null,195,{"$f":"IF($C24=\"\",\"\",VLOOKUP($C24,INSCRITS!$D$4:$W$501,6,0))","v":"SUBRA"},{"$f":"IF($C24=\"\",\"\",VLOOKUP($C24,INSCRITS!$D$4:$W$501,7,0))","v":"Olivier"},{"$f":"IF($C24=\"\",\"\",VLOOKUP($C24,INSCRITS!$D$4:$W$501,9,0))","v":"MNSL"},null,null,null,null,null,null,null,null,{"$f":"IF($N24=\"\",\"\",VLOOKUP($N24,INSCRITS!$D$4:$W$501,6,0))","v":""},{"$f":"IF($N24=\"\",\"\",VLOOKUP($N24,INSCRITS!$D$4:$W$501,7,0))","v":""},{"$f":"IF($N24=\"\",\"\",VLOOKUP($N24,INSCRITS!$D$4:$W$501,9,0))","v":""},null,null,null,null,null,null,null,null,null,null,null,null,null,{"$f":"IF($AD24=\"\",\"\",VLOOKUP($AD24,INSCRITS!$D$4:$W$501,6,0))","v":""},{"$f":"IF($AD24=\"\",\"\",VLOOKUP($AD24,INSCRITS!$D$4:$W$501,7,0))","v":""},{"$f":"IF($AD24=\"\",\"\",VLOOKUP($AD24,INSCRITS!$D$4:$W$501,9,0))","v":""},null,17]
[null,null,161,{"$f":"IF($C25=\"\",\"\",VLOOKUP($C25,INSCRITS!$D$4:$W$501,6,0))","v":"THEO"},{"$f":"IF($C25=\"\",\"\",VLOOKUP($C25,INSCRITS!$D$4:$W$501,7,0))","v":"Valentin"},{"$f":"IF($C25=\"\",\"\",VLOOKUP($C25,INSCRITS!$D$4:$W$501,9,0))","v":"Amiens sauvetage"},null,null,null,null,null,null,null,null,{"$f":"IF($N25=\"\",\"\",VLOOKUP($N25,INSCRITS!$D$4:$W$501,6,0))","v":""},{"$f":"IF($N25=\"\",\"\",VLOOKUP($N25,INSCRITS!$D$4:$W$501,7,0))","v":""},{"$f":"IF($N25=\"\",\"\",VLOOKUP($N25,INSCRITS!$D$4:$W$501,9,0))","v":""},null,null,null,null,null,null,null,null,null,null,null,null,null,{"$f":"IF($AD25=\"\",\"\",VLOOKUP($AD25,INSCRITS!$D$4:$W$501,6,0))","v":""},{"$f":"IF($AD25=\"\",\"\",VLOOKUP($AD25,INSCRITS!$D$4:$W$501,7,0))","v":""},{"$f":"IF($AD25=\"\",\"\",VLOOKUP($AD25,INSCRITS!$D$4:$W$501,9,0))","v":""},null,18]
[null,null,172,{"$f":"IF($C26=\"\",\"\",VLOOKUP($C26,INSCRITS!$D$4:$W$501,6,0))","v":"JEHAN"},{"$f":"IF($C26=\"\",\"\",VLOOKUP($C26,INSCRITS!$D$4:$W$501,7,0))","v":"Thomas"},{"$f":"IF($C26=\"\",\"\",VLOOKUP($C26,INSCRITS!$D$4:$W$501,9,0))","v":"ASCE DINARD "},null,null,null,null,null,null,null,null,{"$f":"IF($N26=\"\",\"\",VLOOKUP($N26,INSCRITS!$D$4:$W$501,6,0))","v":""},{"$f":"IF($N26=\"\",\"\",VLOOKUP($N26,INSCRITS!$D$4:$W$501,7,0))","v":""},{"$f":"IF($N26=\"\",\"\",VLOOKUP($N26,INSCRITS!$D$4:$W$501,9,0))","v":""},null,null,null,null,null,null,null,null,null,null,null,null,null,{"$f":"IF($AD26=\"\",\"\",VLOOKUP($AD26,INSCRITS!$D$4:$W$501,6,0))","v":""},{"$f":"IF($AD26=\"\",\"\",VLOOKUP($AD26,INSCRITS!$D$4:$W$501,7,0))","v":""},{"$f":"IF($AD26=\"\",\"\",VLOOKUP($AD26,INSCRITS!$D$4:$W$501,9,0))","v":""},null,19]
[null,null,167,{"$f":"IF($C27=\"\",\"\",VLOOKUP($C27,INSCRITS!$D$4:$W$501,6,0))","v":"HERVE"},{"$f":"IF($C27=\"\",\"\",VLOOKUP($C27,INSCRITS!$D$4:$W$501,7,0))","v":"Axel"},{"$f":"IF($C27=\"\",\"\",VLOOKUP($C27,INSCRITS!$D$4:$W$501,9,0))","v":"ASCE DINARD"},null,null,null,null,null,null,null,null,{"$f":"IF($N27=\"\",\"\",VLOOKUP($N27,INSCRITS!$D$4:$W$501,6,0))","v":""},{"$f":"IF($N27=\"\",\"\",VLOOKUP($N27,INSCRITS!$D$4:$W$501,7,0))","v":""},{"$f":"IF($N27=\"\",\"\",VLOOKUP($N27,INSCRITS!$D$4:$W$501,9,0))","v":""},null,null,null,null,null,null,null,null,null,null,null,null,null,{"$f":"IF($AD27=\"\",\"\",VLOOKUP($AD27,INSCRITS!$D$4:$W$501,6,0))","v":""},{"$f":"IF($AD27=\"\",\"\",VLOOKUP($AD27,INSCRITS!$D$4:$W$501,7,0))","v":""},{"$f":"IF($AD27=\"\",\"\",VLOOKUP($AD27,INSCRITS!$D$4:$W$501,9,0))","v":""},null,20]
[null,null,179,{"$f":"IF($C28=\"\",\"\",VLOOKUP($C28,INSCRITS!$D$4:$W$501,6,0))","v":"KATOUH"},{"$f":"IF($C28=\"\",\"\",VLOOKUP($C28,INSCRITS!$D$4:$W$501,7,0))","v":"Karim"},{"$f":"IF($C28=\"\",\"\",VLOOKUP($C28,INSCRITS!$D$4:$W$501,9,0))","v":"Cannes Sauvetage Côtier"},null,null,null,null,null,null,null,null,{"$f":"IF($N28=\"\",\"\",VLOOKUP($N28,INSCRITS!$D$4:$W$501,6,0))","v":""},{"$f":"IF($N28=\"\",\"\",VLOOKUP($N28,INSCRITS!$D$4:$W$501,7,0))","v":""},{"$f":"IF($N28=\"\",\"\",VLOOKUP($N28,INSCRITS!$D$4:$W$501,9,0))","v":""},null,null,null,null,null,null,null,null,null,null,null,null,null,{"$f":"IF($AD28=\"\",\"\",VLOOKUP($AD28,INSCRITS!$D$4:$W$501,6,0))","v":""},{"$f":"IF($AD28=\"\",\"\",VLOOKUP($AD28,INSCRITS!$D$4:$W$501,7,0))","v":""},{"$f":"IF($AD28=\"\",\"\",VLOOKUP($AD28,INSCRITS!$D$4:$W$501,9,0))","v":""},null,21]
[null,null,170,{"$f":"IF($C29=\"\",\"\",VLOOKUP($C29,INSCRITS!$D$4:$W$501,6,0))","v":"RIGOT"},{"$f":"IF($C29=\"\",\"\",VLOOKUP($C29,INSCRITS!$D$4:$W$501,7,0))","v":"Quentin"},{"$f":"IF($C29=\"\",\"\",VLOOKUP($C29,INSCRITS!$D$4:$W$501,9,0))","v":"ASCE DINARD"},null,null,null,null,null,null,null,null,{"$f":"IF($N29=\"\",\"\",VLOOKUP($N29,INSCRITS!$D$4:$W$501,6,0))","v":""},{"$f":"IF($N29=\"\",\"\",VLOOKUP($N29,INSCRITS!$D$4:$W$501,7,0))","v":""},{"$f":"IF($N29=\"\",\"\",VLOOKUP($N29,INSCRITS!$D$4:$W$501,9,0))","v":""},null,null,null,null,null,null,null,null,null,null,null,null,null,{"$f":"IF($AD29=\"\",\"\",VLOOKUP($AD29,INSCRITS!$D$4:$W$501,6,0))","v":""},{"$f":"IF($AD29=\"\",\"\",VLOOKUP($AD29,INSCRITS!$D$4:$W$501,7,0))","v":""},{"$f":"IF($AD29=\"\",\"\",VLOOKUP($AD29,INSCRITS!$D$4:$W$501,9,0))","v":""},null,22]
[null,null,173,{"$f":"IF($C30=\"\",\"\",VLOOKUP($C30,INSCRITS!$D$4:$W$501,6,0))","v":"FOS"},{"$f":"IF($C30=\"\",\"\",VLOOKUP($C30,INSCRITS!$D$4:$W$501,7,0))","v":"Robin"},{"$f":"IF($C30=\"\",\"\",VLOOKUP($C30,INSCRITS!$D$4:$W$501,9,0))","v":"BEGLES"},null,null,null,null,null,null,null,null,{"$f":"IF($N30=\"\",\"\",VLOOKUP($N30,INSCRITS!$D$4:$W$501,6,0))","v":""},{"$f":"IF($N30=\"\",\"\",VLOOKUP($N30,INSCRITS!$D$4:$W$501,7,0))","v":""},{"$f":"IF($N30=\"\",\"\",VLOOKUP($N30,INSCRITS!$D$4:$W$501,9,0))","v":""},null,null,null,null,null,null,null,null,null,null,null,null,null,{"$f":"IF($AD30=\"\",\"\",VLOOKUP($AD30,INSCRITS!$D$4:$W$501,6,0))","v":""},{"$f":"IF($AD30=\"\",\"\",VLOOKUP($AD30,INSCRITS!$D$4:$W$501,7,0))","v":""},{"$f":"IF($AD30=\"\",\"\",VLOOKUP($AD30,INSCRITS!$D$4:$W$501,9,0))","v":""},null,23]
[null,"SERIE 4",169,{"$f":"IF($C31=\"\",\"\",VLOOKUP($C31,INSCRITS!$D$4:$W$501,6,0))","v":"POUTRIQUET"},{"$f":"IF($C31=\"\",\"\",VLOOKUP($C31,INSCRITS!$D$4:$W$501,7,0))","v":"Maxime"},{"$f":"IF($C31=\"\",\"\",VLOOKUP($C31,INSCRITS!$D$4:$W$501,9,0))","v":"ASCE DINARD"},null,null,null,null,null,null,"SERIE 4",null,{"$f":"IF($N31=\"\",\"\",VLOOKUP($N31,INSCRITS!$D$4:$W$501,6,0))","v":""},{"$f":"IF($N31=\"\",\"\",VLOOKUP($N31,INSCRITS!$D$4:$W$501,7,0))","v":""},{"$f":"IF($N31=\"\",\"\",VLOOKUP($N31,INSCRITS!$D$4:$W$501,9,0))","v":""},null,null,null,null,null,null,null,null,null,null,null,null,null,{"$f":"IF($AD31=\"\",\"\",VLOOKUP($AD31,INSCRITS!$D$4:$W$501,6,0))","v":""},{"$f":"IF($AD31=\"\",\"\",VLOOKUP($AD31,INSCRITS!$D$4:$W$501,7,0))","v":""},{"$f":"IF($AD31=\"\",\"\",VLOOKUP($AD31,INSCRITS!$D$4:$W$501,9,0))","v":""},null,24]
[null,null,166,{"$f":"IF($C32=\"\",\"\",VLOOKUP($C32,INSCRITS!$D$4:$W$501,6,0))","v":"DOLE"},{"$f":"IF($C32=\"\",\"\",VLOOKUP($C32,INSCRITS!$D$4:$W$501,7,0))","v":"François"},{"$f":"IF($C32=\"\",\"\",VLOOKUP($C32,INSCRITS!$D$4:$W$501,9,0))","v":"ASCE DINARD"},null,null,null,null,null,null,null,null,{"$f":"IF($N32=\"\",\"\",VLOOKUP($N32,INSCRITS!$D$4:$W$501,6,0))","v":""},{"$f":"IF($N32=\"\",\"\",VLOOKUP($N32,INSCRITS!$D$4:$W$501,7,0))","v":""},{"$f":"IF($N32=\"\",\"\",VLOOKUP($N32,INSCRITS!$D$4:$W$501,9,0))","v":""},null,null,null,null,null,null,null,null,null,null,null,null,null,{"$f":"IF($AD32=\"\",\"\",VLOOKUP($AD32,INSCRITS!$D$4:$W$501,6,0))","v":""},{"$f":"IF($AD32=\"\",\"\",VLOOKUP($AD32,INSCRITS!$D$4:$W$501,7,0))","v":""},{"$f":"IF($AD32=\"\",\"\",VLOOKUP($AD32,INSCRITS!$D$4:$W$501,9,0))","v":""}]
[null,null,197,{"$f":"IF($C33=\"\",\"\",VLOOKUP($C33,INSCRITS!$D$4:$W$501,6,0))","v":"RUAULT"},{"$f":"IF($C33=\"\",\"\",VLOOKUP($C33,INSCRITS!$D$4:$W$501,7,0))","v":"Briag"},{"$f":"IF($C33=\"\",\"\",VLOOKUP($C33,INSCRITS!$D$4:$W$501,9,0))","v":"RENNES BREIZH SAUVETAGE COTIER"},null,null,null,null,null,null,null,null,{"$f":"IF($N33=\"\",\"\",VLOOKUP($N33,INSCRITS!$D$4:$W$501,6,0))","v":""},{"$f":"IF($N33=\"\",\"\",VLOOKUP($N33,INSCRITS!$D$4:$W$501,7,0))","v":""},{"$f":"IF($N33=\"\",\"\",VLOOKUP($N33,INSCRITS!$D$4:$W$501,9,0))","v":""},null,null,null,null,null,null,null,null,null,null,null,null,null,{"$f":"IF($AD33=\"\",\"\",VLOOKUP($AD33,INSCRITS!$D$4:$W$501,6,0))","v":""},{"$f":"IF($AD33=\"\",\"\",VLOOKUP($AD33,INSCRITS!$D$4:$W$501,7,0))","v":""},{"$f":"IF($AD33=\"\",\"\",VLOOKUP($AD33,INSCRITS!$D$4:$W$501,9,0))","v":""},null,25]
[null,null,175,{"$f":"IF($C34=\"\",\"\",VLOOKUP($C34,INSCRITS!$D$4:$W$501,6,0))","v":"PHILIPPEAU"},{"$f":"IF($C34=\"\",\"\",VLOOKUP($C34,INSCRITS!$D$4:$W$501,7,0))","v":"Jodicael"},{"$f":"IF($C34=\"\",\"\",VLOOKUP($C34,INSCRITS!$D$4:$W$501,9,0))","v":"BEGLES"},null,null,null,null,null,null,null,null,{"$f":"IF($N34=\"\",\"\",VLOOKUP($N34,INSCRITS!$D$4:$W$501,6,0))","v":""},{"$f":"IF($N34=\"\",\"\",VLOOKUP($N34,INSCRITS!$D$4:$W$501,7,0))","v":""},{"$f":"IF($N34=\"\",\"\",VLOOKUP($N34,INSCRITS!$D$4:$W$501,9,0))","v":""},null,null,null,null,null,null,null,null,null,null,null,null,null,{"$f":"IF($AD34=\"\",\"\",VLOOKUP($AD34,INSCRITS!$D$4:$W$501,6,0))","v":""},{"$f":"IF($AD34=\"\",\"\",VLOOKUP($AD34,INSCRITS!$D$4:$W$501,7,0))","v":""},{"$f":"IF($AD34=\"\",\"\",VLOOKUP($AD34,INSCRITS!$D$4:$W$501,9,0))","v":""},null,26]
[null,null,164,{"$f":"IF($C35=\"\",\"\",VLOOKUP($C35,INSCRITS!$D$4:$W$501,6,0))","v":{"$error":"#N/A"}},{"$f":"IF($C35=\"\",\"\",VLOOKUP($C35,INSCRITS!$D$4:$W$501,7,0))","v":{"$error":"#N/A"}},{"$f":"IF($C35=\"\",\"\",VLOOKUP($C35,INSCRITS!$D$4:$W$501,9,0))","v":{"$error":"#N/A"}},null,null,null,null,null,null,null,null,{"$f":"IF($N35=\"\",\"\",VLOOKUP($N35,INSCRITS!$D$4:$W$501,6,0))","v":""},{"$f":"IF($N35=\"\",\"\",VLOOKUP($N35,INSCRITS!$D$4:$W$501,7,0))","v":""},{"$f":"IF($N35=\"\",\"\",VLOOKUP($N35,INSCRITS!$D$4:$W$501,9,0))","v":""},null,null,null,null,null,null,null,null,null,null,null,null,null,{"$f":"IF($AD35=\"\",\"\",VLOOKUP($AD35,INSCRITS!$D$4:$W$501,6,0))","v":""},{"$f":"IF($AD35=\"\",\"\",VLOOKUP($AD35,INSCRITS!$D$4:$W$501,7,0))","v":""},{"$f":"IF($AD35=\"\",\"\",VLOOKUP($AD35,INSCRITS!$D$4:$W$501,9,0))","v":""},null,27]
[null,null,178,{"$f":"IF($C36=\"\",\"\",VLOOKUP($C36,INSCRITS!$D$4:$W$501,6,0))","v":"SORIA"},{"$f":"IF($C36=\"\",\"\",VLOOKUP($C36,INSCRITS!$D$4:$W$501,7,0))","v":"Samuel"},{"$f":"IF($C36=\"\",\"\",VLOOKUP($C36,INSCRITS!$D$4:$W$501,9,0))","v":"Biarritz SC"},null,null,null,null,null,null,null,null,{"$f":"IF($N36=\"\",\"\",VLOOKUP($N36,INSCRITS!$D$4:$W$501,6,0))","v":""},{"$f":"IF($N36=\"\",\"\",VLOOKUP($N36,INSCRITS!$D$4:$W$501,7,0))","v":""},{"$f":"IF($N36=\"\",\"\",VLOOKUP($N36,INSCRITS!$D$4:$W$501,9,0))","v":""},null,null,null,null,null,null,null,null,null,null,null,null,null,{"$f":"IF($AD36=\"\",\"\",VLOOKUP($AD36,INSCRITS!$D$4:$W$501,6,0))","v":""},{"$f":"IF($AD36=\"\",\"\",VLOOKUP($AD36,INSCRITS!$D$4:$W$501,7,0))","v":""},{"$f":"IF($AD36=\"\",\"\",VLOOKUP($AD36,INSCRITS!$D$4:$W$501,9,0))","v":""},null,28]
[null,null,182,{"$f":"IF($C37=\"\",\"\",VLOOKUP($C37,INSCRITS!$D$4:$W$501,6,0))","v":"DUBOIS CONSTANT"},{"$f":"IF($C37=\"\",\"\",VLOOKUP($C37,INSCRITS!$D$4:$W$501,7,0))","v":"Antoine"},{"$f":"IF($C37=\"\",\"\",VLOOKUP($C37,INSCRITS!$D$4:$W$501,9,0))","v":"EMULATION SAUVETAGE NATATION PERPIGNAN"},null,null,null,null,null,null,null,null,{"$f":"IF($N37=\"\",\"\",VLOOKUP($N37,INSCRITS!$D$4:$W$501,6,0))","v":""},{"$f":"IF($N37=\"\",\"\",VLOOKUP($N37,INSCRITS!$D$4:$W$501,7,0))","v":""},{"$f":"IF($N37=\"\",\"\",VLOOKUP($N37,INSCRITS!$D$4:$W$501,9,0))","v":""},null,null,null,null,null,null,null,null,null,null,null,null,null,{"$f":"IF($AD37=\"\",\"\",VLOOKUP($AD37,INSCRITS!$D$4:$W$501,6,0))","v":""},{"$f":"IF($AD37=\"\",\"\",VLOOKUP($AD37,INSCRITS!$D$4:$W$501,7,0))","v":""},{"$f":"IF($AD37=\"\",\"\",VLOOKUP($AD37,INSCRITS!$D$4:$W$501,9,0))","v":""},null,29]
[null,null,null,{"$f":"IF($C38=\"\",\"\",VLOOKUP($C38,INSCRITS!$D$4:$W$501,6,0))","v":""},{"$f":"IF($C38=\"\",\"\",VLOOKUP($C38,INSCRITS!$D$4:$W$501,7,0))","v":""},{"$f":"IF($C38=\"\",\"\",VLOOKUP($C38,INSCRITS!$D$4:$W$501,9,0))","v":""},null,null,null,null,null,null,null,null,{"$f":"IF($N38=\"\",\"\",VLOOKUP($N38,INSCRITS!$D$4:$W$501,6,0))","v":""},{"$f":"IF($N38=\"\",\"\",VLOOKUP($N38,INSCRITS!$D$4:$W$501,7,0))","v":""},{"$f":"IF($N38=\"\",\"\",VLOOKUP($N38,INSCRITS!$D$4:$W$501,9,0))","v":""},null,null,null,null,null,null,null,null,null,null,null,null,null,{"$f":"IF($AD38=\"\",\"\",VLOOKUP($AD38,INSCRITS!$D$4:$W$501,6,0))","v":""},{"$f":"IF($AD38=\"\",\"\",VLOOKUP($AD38,INSCRITS!$D$4:$W$501,7,0))","v":""},{"$f":"IF($AD38=\"\",\"\",VLOOKUP($AD38,INSCRITS!$D$4:$W$501,9,0))","v":""},null,30]
[null,"SERIE 5",null,{"$f":"IF($C39=\"\",\"\",VLOOKUP($C39,INSCRITS!$D$4:$W$501,6,0))","v":""},{"$f":"IF($C39=\"\",\"\",VLOOKUP($C39,INSCRITS!$D$4:$W$501,7,0))","v":""},{"$f":"IF($C39=\"\",\"\",VLOOKUP($C39,INSCRITS!$D$4:$W$501,9,0))","v":""},null,null,null,null,null,null,"SERIE 5",null,{"$f":"IF($N39=\"\",\"\",VLOOKUP($N39,INSCRITS!$D$4:$W$501,6,0))","v":""},{"$f":"IF($N39=\"\",\"\",VLOOKUP($N39,INSCRITS!$D$4:$W$501,7,0))","v":""},{"$f":"IF($N39=\"\",\"\",VLOOKUP($N39,INSCRITS!$D$4:$W$501,9,0))","v":""},null,null,null,null,null,null,null,null,null,null,null,null,null,{"$f":"IF($AD39=\"\",\"\",VLOOKUP($AD39,INSCRITS!$D$4:$W$501,6,0))","v":""},{"$f":"IF($AD39=\"\",\"\",VLOOKUP($AD39,INSCRITS!$D$4:$W$501,7,0))","v":""},{"$f":"IF($AD39=\"\",\"\",VLOOKUP($AD39,INSCRITS!$D$4:$W$501,9,0))","v":""},null,31]
[null,null,null,{"$f":"IF($C40=\"\",\"\",VLOOKUP($C40,INSCRITS!$D$4:$W$501,6,0))","v":""},{"$f":"IF($C40=\"\",\"\",VLOOKUP($C40,INSCRITS!$D$4:$W$501,7,0))","v":""},{"$f":"IF($C40=\"\",\"\",VLOOKUP($C40,INSCRITS!$D$4:$W$501,9,0))","v":""},null,null,null,null,null,null,null,null,{"$f":"IF($N40=\"\",\"\",VLOOKUP($N40,INSCRITS!$D$4:$W$501,6,0))","v":""},{"$f":"IF($N40=\"\",\"\",VLOOKUP($N40,INSCRITS!$D$4:$W$501,7,0))","v":""},{"$f":"IF($N40=\"\",\"\",VLOOKUP($N40,INSCRITS!$D$4:$W$501,9,0))","v":""},null,null,null,null,null,null,null,null,null,null,null,null,null,{"$f":"IF($AD40=\"\",\"\",VLOOKUP($AD40,INSCRITS!$D$4:$W$501,6,0))","v":""},{"$f":"IF($AD40=\"\",\"\",VLOOKUP($AD40,INSCRITS!$D$4:$W$501,7,0))","v":""},{"$f":"IF($AD40=\"\",\"\",VLOOKUP($AD40,INSCRITS!$D$4:$W$501,9,0))","v":""},null,32]
[null,null,null,{"$f":"IF($C41=\"\",\"\",VLOOKUP($C41,INSCRITS!$D$4:$W$501,6,0))","v":""},{"$f":"IF($C41=\"\",\"\",VLOOKUP($C41,INSCRITS!$D$4:$W$501,7,0))","v":""},{"$f":"IF($C41=\"\",\"\",VLOOKUP($C41,INSCRITS!$D$4:$W$501,9,0))","v":""},null,null,null,null,null,null,null,null,{"$f":"IF($N41=\"\",\"\",VLOOKUP($N41,INSCRITS!$D$4:$W$501,6,0))","v":""},{"$f":"IF($N41=\"\",\"\",VLOOKUP($N41,INSCRITS!$D$4:$W$501,7,0))","v":""},{"$f":"IF($N41=\"\",\"\",VLOOKUP($N41,INSCRITS!$D$4:$W$501,9,0))","v":""},null,null,null,null,null,null,null,null,null,null,null,null,null,{"$f":"IF($AD41=\"\",\"\",VLOOKUP($AD41,INSCRITS!$D$4:$W$501,6,0))","v":""},{"$f":"IF($AD41=\"\",\"\",VLOOKUP($AD41,INSCRITS!$D$4:$W$501,7,0))","v":""},{"$f":"IF($AD41=\"\",\"\",VLOOKUP($AD41,INSCRITS!$D$4:$W$501,9,0))","v":""},null,33]
[null,null,null,{"$f":"IF($C42=\"\",\"\",VLOOKUP($C42,INSCRITS!$D$4:$W$501,6,0))","v":""},{"$f":"IF($C42=\"\",\"\",VLOOKUP($C42,INSCRITS!$D$4:$W$501,7,0))","v":""},{"$f":"IF($C42=\"\",\"\",VLOOKUP($C42,INSCRITS!$D$4:$W$501,9,0))","v":""},null,null,null,null,null,null,null,null,{"$f":"IF($N42=\"\",\"\",VLOOKUP($N42,INSCRITS!$D$4:$W$501,6,0))","v":""},{"$f":"IF($N42=\"\",\"\",VLOOKUP($N42,INSCRITS!$D$4:$W$501,7,0))","v":""},{"$f":"IF($N42=\"\",\"\",VLOOKUP($N42,INSCRITS!$D$4:$W$501,9,0))","v":""},null,null,null,null,null,null,null,null,null,null,null,null,null,{"$f":"IF($AD42=\"\",\"\",VLOOKUP($AD42,INSCRITS!$D$4:$W$501,6,0))","v":""},{"$f":"IF($AD42=\"\",\"\",VLOOKUP($AD42,INSCRITS!$D$4:$W$501,7,0))","v":""},{"$f":"IF($AD42=\"\",\"\",VLOOKUP($AD42,INSCRITS!$D$4:$W$501,9,0))","v":""},null,34]
[null,null,null,{"$f":"IF($C43=\"\",\"\",VLOOKUP($C43,INSCRITS!$D$4:$W$501,6,0))","v":""},{"$f":"IF($C43=\"\",\"\",VLOOKUP($C43,INSCRITS!$D$4:$W$501,7,0))","v":""},{"$f":"IF($C43=\"\",\"\",VLOOKUP($C43,INSCRITS!$D$4:$W$501,9,0))","v":""},null,null,null,null,null,null,null,null,{"$f":"IF($N43=\"\",\"\",VLOOKUP($N43,INSCRITS!$D$4:$W$501,6,0))","v":""},{"$f":"IF($N43=\"\",\"\",VLOOKUP($N43,INSCRITS!$D$4:$W$501,7,0))","v":""},{"$f":"IF($N43=\"\",\"\",VLOOKUP($N43,INSCRITS!$D$4:$W$501,9,0))","v":""},null,null,null,null,null,null,null,null,null,null,null,null,null,{"$f":"IF($AD43=\"\",\"\",VLOOKUP($AD43,INSCRITS!$D$4:$W$501,6,0))","v":""},{"$f":"IF($AD43=\"\",\"\",VLOOKUP($AD43,INSCRITS!$D$4:$W$501,7,0))","v":""},{"$f":"IF($AD43=\"\",\"\",VLOOKUP($AD43,INSCRITS!$D$4:$W$501,9,0))","v":""},null,35]
[null,null,null,{"$f":"IF($C44=\"\",\"\",VLOOKUP($C44,INSCRITS!$D$4:$W$501,6,0))","v":""},{"$f":"IF($C44=\"\",\"\",VLOOKUP($C44,INSCRITS!$D$4:$W$501,7,0))","v":""},{"$f":"IF($C44=\"\",\"\",VLOOKUP($C44,INSCRITS!$D$4:$W$501,9,0))","v":""},null,null,null,null,null,null,null,null,{"$f":"IF($N44=\"\",\"\",VLOOKUP($N44,INSCRITS!$D$4:$W$501,6,0))","v":""},{"$f":"IF($N44=\"\",\"\",VLOOKUP($N44,INSCRITS!$D$4:$W$501,7,0))","v":""},{"$f":"IF($N44=\"\",\"\",VLOOKUP($N44,INSCRITS!$D$4:$W$501,9,0))","v":""},null,null,null,null,null,null,null,null,null,null,null,null,null,{"$f":"IF($AD44=\"\",\"\",VLOOKUP($AD44,INSCRITS!$D$4:$W$501,6,0))","v":""},{"$f":"IF($AD44=\"\",\"\",VLOOKUP($AD44,INSCRITS!$D$4:$W$501,7,0))","v":""},{"$f":"IF($AD44=\"\",\"\",VLOOKUP($AD44,INSCRITS!$D$4:$W$501,9,0))","v":""},null,36]
[null,null,null,{"$f":"IF($C45=\"\",\"\",VLOOKUP($C45,INSCRITS!$D$4:$W$501,6,0))","v":""},{"$f":"IF($C45=\"\",\"\",VLOOKUP($C45,INSCRITS!$D$4:$W$501,7,0))","v":""},{"$f":"IF($C45=\"\",\"\",VLOOKUP($C45,INSCRITS!$D$4:$W$501,9,0))","v":""},null,null,null,null,null,null,null,null,{"$f":"IF($N45=\"\",\"\",VLOOKUP($N45,INSCRITS!$D$4:$W$501,6,0))","v":""},{"$f":"IF($N45=\"\",\"\",VLOOKUP($N45,INSCRITS!$D$4:$W$501,7,0))","v":""},{"$f":"IF($N45=\"\",\"\",VLOOKUP($N45,INSCRITS!$D$4:$W$501,9,0))","v":""}]
[null,null,null,{"$f":"IF($C46=\"\",\"\",VLOOKUP($C46,INSCRITS!$D$4:$W$501,6,0))","v":""},{"$f":"IF($C46=\"\",\"\",VLOOKUP($C46,INSCRITS!$D$4:$W$501,7,0))","v":""},{"$f":"IF($C46=\"\",\"\",VLOOKUP($C46,INSCRITS!$D$4:$W$501,9,0))","v":""},null,null,null,null,null,null,null,null,{"$f":"IF($N46=\"\",\"\",VLOOKUP($N46,INSCRITS!$D$4:$W$501,6,0))","v":""},{"$f":"IF($N46=\"\",\"\",VLOOKUP($N46,INSCRITS!$D$4:$W$501,7,0))","v":""},{"$f":"IF($N46=\"\",\"\",VLOOKUP($N46,INSCRITS!$D$4:$W$501,9,0))","v":""}]
[null,null,null,{"$f":"IF($C47=\"\",\"\",VLOOKUP($C47,INSCRITS!$D$4:$W$501,6,0))","v":""},{"$f":"IF($C47=\"\",\"\",VLOOKUP($C47,INSCRITS!$D$4:$W$501,7,0))","v":""},{"$f":"IF($C47=\"\",\"\",VLOOKUP($C47,INSCRITS!$D$4:$W$501,9,0))","v":""},null,null,null,null,null,null,"SERIE 6",null,{"$f":"IF($N47=\"\",\"\",VLOOKUP($N47,INSCRITS!$D$4:$W$501,6,0))","v":""},{"$f":"IF($N47=\"\",\"\",VLOOKUP($N47,INSCRITS!$D$4:$W$501,7,0))","v":""},{"$f":"IF($N47=\"\",\"\",VLOOKUP($N47,INSCRITS!$D$4:$W$501,9,0))","v":""}]
[null,null,null,{"$f":"IF($C48=\"\",\"\",VLOOKUP($C48,INSCRITS!$D$4:$W$501,6,0))","v":""},{"$f":"IF($C48=\"\",\"\",VLOOKUP($C48,INSCRITS!$D$4:$W$501,7,0))","v":""},{"$f":"IF($C48=\"\",\"\",VLOOKUP($C48,INSCRITS!$D$4:$W$501,9,0))","v":""},null,null,null,null,null,null,null,null,{"$f":"IF($N48=\"\",\"\",VLOOKUP($N48,INSCRITS!$D$4:$W$501,6,0))","v":""},{"$f":"IF($N48=\"\",\"\",VLOOKUP($N48,INSCRITS!$D$4:$W$501,7,0))","v":""},{"$f":"IF($N48=\"\",\"\",VLOOKUP($N48,INSCRITS!$D$4:$W$501,9,0))","v":""}]
[null,null,null,{"$f":"IF($C49=\"\",\"\",VLOOKUP($C49,INSCRITS!$D$4:$W$501,6,0))","v":""},{"$f":"IF($C49=\"\",\"\",VLOOKUP($C49,INSCRITS!$D$4:$W$501,7,0))","v":""},{"$f":"IF($C49=\"\",\"\",VLOOKUP($C49,INSCRITS!$D$4:$W$501,9,0))","v":""},null,null,null,null,null,null,null,null,{"$f":"IF($N49=\"\",\"\",VLOOKUP($N49,INSCRITS!$D$4:$W$501,6,0))","v":""},{"$f":"IF($N49=\"\",\"\",VLOOKUP($N49,INSCRITS!$D$4:$W$501,7,0))","v":""},{"$f":"IF($N49=\"\",\"\",VLOOKUP($N49,INSCRITS!$D$4:$W$501,9,0))","v":""}]
[null,null,null,{"$f":"IF($C50=\"\",\"\",VLOOKUP($C50,INSCRITS!$D$4:$W$501,6,0))","v":""},{"$f":"IF($C50=\"\",\"\",VLOOKUP($C50,INSCRITS!$D$4:$W$501,7,0))","v":""},{"$f":"IF($C50=\"\",\"\",VLOOKUP($C50,INSCRITS!$D$4:$W$501,9,0))","v":""},null,null,null,null,null,null,null,null,{"$f":"IF($N50=\"\",\"\",VLOOKUP($N50,INSCRITS!$D$4:$W$501,6,0))","v":""},{"$f":"IF($N50=\"\",\"\",VLOOKUP($N50,INSCRITS!$D$4:$W$501,7,0))","v":""},{"$f":"IF($N50=\"\",\"\",VLOOKUP($N50,INSCRITS!$D$4:$W$501,9,0))","v":""}]
[null,null,null,{"$f":"IF($C51=\"\",\"\",VLOOKUP($C51,INSCRITS!$D$4:$W$501,6,0))","v":""},{"$f":"IF($C51=\"\",\"\",VLOOKUP($C51,INSCRITS!$D$4:$W$501,7,0))","v":""},{"$f":"IF($C51=\"\",\"\",VLOOKUP($C51,INSCRITS!$D$4:$W$501,9,0))","v":""},null,null,null,null,null,null,null,null,{"$f":"IF($N51=\"\",\"\",VLOOKUP($N51,INSCRITS!$D$4:$W$501,6,0))","v":""},{"$f":"IF($N51=\"\",\"\",VLOOKUP($N51,INSCRITS!$D$4:$W$501,7,0))","v":""},{"$f":"IF($N51=\"\",\"\",VLOOKUP($N51,INSCRITS!$D$4:$W$501,9,0))","v":""}]
[null,"SERIE 6",null,{"$f":"IF($C52=\"\",\"\",VLOOKUP($C52,INSCRITS!$D$4:$W$501,6,0))","v":""},{"$f":"IF($C52=\"\",\"\",VLOOKUP($C52,INSCRITS!$D$4:$W$501,7,0))","v":""},{"$f":"IF($C52=\"\",\"\",VLOOKUP($C52,INSCRITS!$D$4:$W$501,9,0))","v":""},null,null,null,null,null,null,null,null,{"$f":"IF($N52=\"\",\"\",VLOOKUP($N52,INSCRITS!$D$4:$W$501,6,0))","v":""},{"$f":"IF($N52=\"\",\"\",VLOOKUP($N52,INSCRITS!$D$4:$W$501,7,0))","v":""},{"$f":"IF($N52=\"\",\"\",VLOOKUP($N52,INSCRITS!$D$4:$W$501,9,0))","v":""}]
[null,null,null,{"$f":"IF($C53=\"\",\"\",VLOOKUP($C53,INSCRITS!$D$4:$W$501,6,0))","v":""},{"$f":"IF($C53=\"\",\"\",VLOOKUP($C53,INSCRITS!$D$4:$W$501,7,0))","v":""},{"$f":"IF($C53=\"\",\"\",VLOOKUP($C53,INSCRITS!$D$4:$W$501,9,0))","v":""},null,null,null,null,null,null,null,null,{"$f":"IF($N53=\"\",\"\",VLOOKUP($N53,INSCRITS!$D$4:$W$501,6,0))","v":""},{"$f":"IF($N53=\"\",\"\",VLOOKUP($N53,INSCRITS!$D$4:$W$501,7,0))","v":""},{"$f":"IF($N53=\"\",\"\",VLOOKUP($N53,INSCRITS!$D$4:$W$501,9,0))","v":""}]
[null,null,null,{"$f":"IF($C54=\"\",\"\",VLOOKUP($C54,INSCRITS!$D$4:$W$501,6,0))","v":""},{"$f":"IF($C54=\"\",\"\",VLOOKUP($C54,INSCRITS!$D$4:$W$501,7,0))","v":""},{"$f":"IF($C54=\"\",\"\",VLOOKUP($C54,INSCRITS!$D$4:$W$501,9,0))","v":""},null,null,null,null,null,null,null,null,{"$f":"IF($N54=\"\",\"\",VLOOKUP($N54,INSCRITS!$D$4:$W$501,6,0))","v":""},{"$f":"IF($N54=\"\",\"\",VLOOKUP($N54,INSCRITS!$D$4:$W$501,7,0))","v":""},{"$f":"IF($N54=\"\",\"\",VLOOKUP($N54,INSCRITS!$D$4:$W$501,9,0))","v":""}]
[null,null,null,{"$f":"IF($C55=\"\",\"\",VLOOKUP($C55,INSCRITS!$D$4:$W$501,6,0))","v":""},{"$f":"IF($C55=\"\",\"\",VLOOKUP($C55,INSCRITS!$D$4:$W$501,7,0))","v":""},{"$f":"IF($C55=\"\",\"\",VLOOKUP($C55,INSCRITS!$D$4:$W$501,9,0))","v":""},null,null,null,null,null,null,"SERIE 7",null,{"$f":"IF($N55=\"\",\"\",VLOOKUP($N55,INSCRITS!$D$4:$W$501,6,0))","v":""},{"$f":"IF($N55=\"\",\"\",VLOOKUP($N55,INSCRITS!$D$4:$W$501,7,0))","v":""},{"$f":"IF($N55=\"\",\"\",VLOOKUP($N55,INSCRITS!$D$4:$W$501,9,0))","v":""}]
[null,null,null,{"$f":"IF($C56=\"\",\"\",VLOOKUP($C56,INSCRITS!$D$4:$W$501,6,0))","v":""},{"$f":"IF($C56=\"\",\"\",VLOOKUP($C56,INSCRITS!$D$4:$W$501,7,0))","v":""},{"$f":"IF($C56=\"\",\"\",VLOOKUP($C56,INSCRITS!$D$4:$W$501,9,0))","v":""},null,null,null,null,null,null,null,null,{"$f":"IF($N56=\"\",\"\",VLOOKUP($N56,INSCRITS!$D$4:$W$501,6,0))","v":""},{"$f":"IF($N56=\"\",\"\",VLOOKUP($N56,INSCRITS!$D$4:$W$501,7,0))","v":""},{"$f":"IF($N56=\"\",\"\",VLOOKUP($N56,INSCRITS!$D$4:$W$501,9,0))","v":""}]
[null,null,null,{"$f":"IF($C57=\"\",\"\",VLOOKUP($C57,INSCRITS!$D$4:$W$501,6,0))","v":""},{"$f":"IF($C57=\"\",\"\",VLOOKUP($C57,INSCRITS!$D$4:$W$501,7,0))","v":""},{"$f":"IF($C57=\"\",\"\",VLOOKUP($C57,INSCRITS!$D$4:$W$501,9,0))","v":""},null,null,null,null,null,null,null,null,{"$f":"IF($N57=\"\",\"\",VLOOKUP($N57,INSCRITS!$D$4:$W$501,6,0))","v":""},{"$f":"IF($N57=\"\",\"\",VLOOKUP($N57,INSCRITS!$D$4:$W$501,7,0))","v":""},{"$f":"IF($N57=\"\",\"\",VLOOKUP($N57,INSCRITS!$D$4:$W$501,9,0))","v":""}]
[null,null,null,{"$f":"IF($C58=\"\",\"\",VLOOKUP($C58,INSCRITS!$D$4:$W$501,6,0))","v":""},{"$f":"IF($C58=\"\",\"\",VLOOKUP($C58,INSCRITS!$D$4:$W$501,7,0))","v":""},{"$f":"IF($C58=\"\",\"\",VLOOKUP($C58,INSCRITS!$D$4:$W$501,9,0))","v":""},null,null,null,null,null,null,null,null,{"$f":"IF($N58=\"\",\"\",VLOOKUP($N58,INSCRITS!$D$4:$W$501,6,0))","v":""},{"$f":"IF($N58=\"\",\"\",VLOOKUP($N58,INSCRITS!$D$4:$W$501,7,0))","v":""},{"$f":"IF($N58=\"\",\"\",VLOOKUP($N58,INSCRITS!$D$4:$W$501,9,0))","v":""}]
[null,null,null,{"$f":"IF($C59=\"\",\"\",VLOOKUP($C59,INSCRITS!$D$4:$W$501,6,0))","v":""},{"$f":"IF($C59=\"\",\"\",VLOOKUP($C59,INSCRITS!$D$4:$W$501,7,0))","v":""},{"$f":"IF($C59=\"\",\"\",VLOOKUP($C59,INSCRITS!$D$4:$W$501,9,0))","v":""},null,null,null,null,null,null,null,null,{"$f":"IF($N59=\"\",\"\",VLOOKUP($N59,INSCRITS!$D$4:$W$501,6,0))","v":""},{"$f":"IF($N59=\"\",\"\",VLOOKUP($N59,INSCRITS!$D$4:$W$501,7,0))","v":""},{"$f":"IF($N59=\"\",\"\",VLOOKUP($N59,INSCRITS!$D$4:$W$501,9,0))","v":""}]
[null,null,null,{"$f":"IF($C60=\"\",\"\",VLOOKUP($C60,INSCRITS!$D$4:$W$501,6,0))","v":""},{"$f":"IF($C60=\"\",\"\",VLOOKUP($C60,INSCRITS!$D$4:$W$501,7,0))","v":""},{"$f":"IF($C60=\"\",\"\",VLOOKUP($C60,INSCRITS!$D$4:$W$501,9,0))","v":""},null,null,null,null,null,null,null,null,{"$f":"IF($N60=\"\",\"\",VLOOKUP($N60,INSCRITS!$D$4:$W$501,6,0))","v":""},{"$f":"IF($N60=\"\",\"\",VLOOKUP($N60,INSCRITS!$D$4:$W$501,7,0))","v":""},{"$f":"IF($N60=\"\",\"\",VLOOKUP($N60,INSCRITS!$D$4:$W$501,9,0))","v":""}]
[null,"SERIE 7",null,{"$f":"IF($C61=\"\",\"\",VLOOKUP($C61,INSCRITS!$D$4:$W$501,6,0))","v":""},{"$f":"IF($C61=\"\",\"\",VLOOKUP($C61,INSCRITS!$D$4:$W$501,7,0))","v":""},{"$f":"IF($C61=\"\",\"\",VLOOKUP($C61,INSCRITS!$D$4:$W$501,9,0))","v":""},null,null,null,null,null,null,null,null,{"$f":"IF($N61=\"\",\"\",VLOOKUP($N61,INSCRITS!$D$4:$W$501,6,0))","v":""},{"$f":"IF($N61=\"\",\"\",VLOOKUP($N61,INSCRITS!$D$4:$W$501,7,0))","v":""},{"$f":"IF($N61=\"\",\"\",VLOOKUP($N61,INSCRITS!$D$4:$W$501,9,0))","v":""}]
[null,null,null,{"$f":"IF($C62=\"\",\"\",VLOOKUP($C62,INSCRITS!$D$4:$W$501,6,0))","v":""},{"$f":"IF($C62=\"\",\"\",VLOOKUP($C62,INSCRITS!$D$4:$W$501,7,0))","v":""},{"$f":"IF($C62=\"\",\"\",VLOOKUP($C62,INSCRITS!$D$4:$W$501,9,0))","v":""},null,null,null,null,null,null,null,null,{"$f":"IF($N62=\"\",\"\",VLOOKUP($N62,INSCRITS!$D$4:$W$501,6,0))","v":""},{"$f":"IF($N62=\"\",\"\",VLOOKUP($N62,INSCRITS!$D$4:$W$501,7,0))","v":""},{"$f":"IF($N62=\"\",\"\",VLOOKUP($N62,INSCRITS!$D$4:$W$501,9,0))","v":""}]
[null,null,null,{"$f":"IF($C63=\"\",\"\",VLOOKUP($C63,INSCRITS!$D$4:$W$501,6,0))","v":""},{"$f":"IF($C63=\"\",\"\",VLOOKUP($C63,INSCRITS!$D$4:$W$501,7,0))","v":""},{"$f":"IF($C63=\"\",\"\",VLOOKUP($C63,INSCRITS!$D$4:$W$501,9,0))","v":""},null,null,null,null,null,null,"SERIE 8",null,{"$f":"IF($N63=\"\",\"\",VLOOKUP($N63,INSCRITS!$D$4:$W$501,6,0))","v":""},{"$f":"IF($N63=\"\",\"\",VLOOKUP($N63,INSCRITS!$D$4:$W$501,7,0))","v":""},{"$f":"IF($N63=\"\",\"\",VLOOKUP($N63,INSCRITS!$D$4:$W$501,9,0))","v":""}]
[null,null,null,{"$f":"IF($C64=\"\",\"\",VLOOKUP($C64,INSCRITS!$D$4:$W$501,6,0))","v":""},{"$f":"IF($C64=\"\",\"\",VLOOKUP($C64,INSCRITS!$D$4:$W$501,7,0))","v":""},{"$f":"IF($C64=\"\",\"\",VLOOKUP($C64,INSCRITS!$D$4:$W$501,9,0))","v":""},null,null,null,null,null,null,null,null,{"$f":"IF($N64=\"\",\"\",VLOOKUP($N64,INSCRITS!$D$4:$W$501,6,0))","v":""},{"$f":"IF($N64=\"\",\"\",VLOOKUP($N64,INSCRITS!$D$4:$W$501,7,0))","v":""},{"$f":"IF($N64=\"\",\"\",VLOOKUP($N64,INSCRITS!$D$4:$W$501,9,0))","v":""}]
[null,null,null,{"$f":"IF($C65=\"\",\"\",VLOOKUP($C65,INSCRITS!$D$4:$W$501,6,0))","v":""},{"$f":"IF($C65=\"\",\"\",VLOOKUP($C65,INSCRITS!$D$4:$W$501,7,0))","v":""},{"$f":"IF($C65=\"\",\"\",VLOOKUP($C65,INSCRITS!$D$4:$W$501,9,0))","v":""},null,null,null,null,null,null,null,null,{"$f":"IF($N65=\"\",\"\",VLOOKUP($N65,INSCRITS!$D$4:$W$501,6,0))","v":""},{"$f":"IF($N65=\"\",\"\",VLOOKUP($N65,INSCRITS!$D$4:$W$501,7,0))","v":""},{"$f":"IF($N65=\"\",\"\",VLOOKUP($N65,INSCRITS!$D$4:$W$501,9,0))","v":""}]
[null,null,null,{"$f":"IF($C66=\"\",\"\",VLOOKUP($C66,INSCRITS!$D$4:$W$501,6,0))","v":""},{"$f":"IF($C66=\"\",\"\",VLOOKUP($C66,INSCRITS!$D$4:$W$501,7,0))","v":""},{"$f":"IF($C66=\"\",\"\",VLOOKUP($C66,INSCRITS!$D$4:$W$501,9,0))","v":""},null,null,null,null,null,null,null,null,{"$f":"IF($N66=\"\",\"\",VLOOKUP($N66,INSCRITS!$D$4:$W$501,6,0))","v":""},{"$f":"IF($N66=\"\",\"\",VLOOKUP($N66,INSCRITS!$D$4:$W$501,7,0))","v":""},{"$f":"IF($N66=\"\",\"\",VLOOKUP($N66,INSCRITS!$D$4:$W$501,9,0))","v":""}]
[null,null,null,{"$f":"IF($C67=\"\",\"\",VLOOKUP($C67,INSCRITS!$D$4:$W$501,6,0))","v":""},{"$f":"IF($C67=\"\",\"\",VLOOKUP($C67,INSCRITS!$D$4:$W$501,7,0))","v":""},{"$f":"IF($C67=\"\",\"\",VLOOKUP($C67,INSCRITS!$D$4:$W$501,9,0))","v":""},null,null,null,null,null,null,null,null,{"$f":"IF($N67=\"\",\"\",VLOOKUP($N67,INSCRITS!$D$4:$W$501,6,0))","v":""},{"$f":"IF($N67=\"\",\"\",VLOOKUP($N67,INSCRITS!$D$4:$W$501,7,0))","v":""},{"$f":"IF($N67=\"\",\"\",VLOOKUP($N67,INSCRITS!$D$4:$W$501,9,0))","v":""}]
[null,null,null,{"$f":"IF($C68=\"\",\"\",VLOOKUP($C68,INSCRITS!$D$4:$W$501,6,0))","v":""},{"$f":"IF($C68=\"\",\"\",VLOOKUP($C68,INSCRITS!$D$4:$W$501,7,0))","v":""},{"$f":"IF($C68=\"\",\"\",VLOOKUP($C68,INSCRITS!$D$4:$W$501,9,0))","v":""},null,null,null,null,null,null,null,null,{"$f":"IF($N68=\"\",\"\",VLOOKUP($N68,INSCRITS!$D$4:$W$501,6,0))","v":""},{"$f":"IF($N68=\"\",\"\",VLOOKUP($N68,INSCRITS!$D$4:$W$501,7,0))","v":""},{"$f":"IF($N68=\"\",\"\",VLOOKUP($N68,INSCRITS!$D$4:$W$501,9,0))","v":""}]
[null,null,null,{"$f":"IF($C69=\"\",\"\",VLOOKUP($C69,INSCRITS!$D$4:$W$501,6,0))","v":""},{"$f":"IF($C69=\"\",\"\",VLOOKUP($C69,INSCRITS!$D$4:$W$501,7,0))","v":""},{"$f":"IF($C69=\"\",\"\",VLOOKUP($C69,INSCRITS!$D$4:$W$501,9,0))","v":""},null,null,null,null,null,null,null,null,{"$f":"IF($N69=\"\",\"\",VLOOKUP($N69,INSCRITS!$D$4:$W$501,6,0))","v":""},{"$f":"IF($N69=\"\",\"\",VLOOKUP($N69,INSCRITS!$D$4:$W$501,7,0))","v":""},{"$f":"IF($N69=\"\",\"\",VLOOKUP($N69,INSCRITS!$D$4:$W$501,9,0))","v":""}]
[null,"SERIE 8",null,{"$f":"IF($C70=\"\",\"\",VLOOKUP($C70,INSCRITS!$D$4:$W$501,6,0))","v":""},{"$f":"IF($C70=\"\",\"\",VLOOKUP($C70,INSCRITS!$D$4:$W$501,7,0))","v":""},{"$f":"IF($C70=\"\",\"\",VLOOKUP($C70,INSCRITS!$D$4:$W$501,9,0))","v":""},null,null,null,null,null,null,null,null,{"$f":"IF($N70=\"\",\"\",VLOOKUP($N70,INSCRITS!$D$4:$W$501,6,0))","v":""},{"$f":"IF($N70=\"\",\"\",VLOOKUP($N70,INSCRITS!$D$4:$W$501,7,0))","v":""},{"$f":"IF($N70=\"\",\"\",VLOOKUP($N70,INSCRITS!$D$4:$W$501,9,0))","v":""}]
[null,null,null,{"$f":"IF($C71=\"\",\"\",VLOOKUP($C71,INSCRITS!$D$4:$W$501,6,0))","v":""},{"$f":"IF($C71=\"\",\"\",VLOOKUP($C71,INSCRITS!$D$4:$W$501,7,0))","v":""},{"$f":"IF($C71=\"\",\"\",VLOOKUP($C71,INSCRITS!$D$4:$W$501,9,0))","v":""}]
[null,null,null,{"$f":"IF($C72=\"\",\"\",VLOOKUP($C72,INSCRITS!$D$4:$W$501,6,0))","v":""},{"$f":"IF($C72=\"\",\"\",VLOOKUP($C72,INSCRITS!$D$4:$W$501,7,0))","v":""},{"$f":"IF($C72=\"\",\"\",VLOOKUP($C72,INSCRITS!$D$4:$W$501,9,0))","v":""}]
[null,null,null,{"$f":"IF($C73=\"\",\"\",VLOOKUP($C73,INSCRITS!$D$4:$W$501,6,0))","v":""},{"$f":"IF($C73=\"\",\"\",VLOOKUP($C73,INSCRITS!$D$4:$W$501,7,0))","v":""},{"$f":"IF($C73=\"\",\"\",VLOOKUP($C73,INSCRITS!$D$4:$W$501,9,0))","v":""}]
[null,null,null,{"$f":"IF($C74=\"\",\"\",VLOOKUP($C74,INSCRITS!$D$4:$W$501,6,0))","v":""},{"$f":"IF($C74=\"\",\"\",VLOOKUP($C74,INSCRITS!$D$4:$W$501,7,0))","v":""},{"$f":"IF($C74=\"\",\"\",VLOOKUP($C74,INSCRITS!$D$4:$W$501,9,0))","v":""}]
[null,null,null,{"$f":"IF($C75=\"\",\"\",VLOOKUP($C75,INSCRITS!$D$4:$W$501,6,0))","v":""},{"$f":"IF($C75=\"\",\"\",VLOOKUP($C75,INSCRITS!$D$4:$W$501,7,0))","v":""},{"$f":"IF($C75=\"\",\"\",VLOOKUP($C75,INSCRITS!$D$4:$W$501,9,0))","v":""}]
[null,null,null,{"$f":"IF($C76=\"\",\"\",VLOOKUP($C76,INSCRITS!$D$4:$W$501,6,0))","v":""},{"$f":"IF($C76=\"\",\"\",VLOOKUP($C76,INSCRITS!$D$4:$W$501,7,0))","v":""},{"$f":"IF($C76=\"\",\"\",VLOOKUP($C76,INSCRITS!$D$4:$W$501,9,0))","v":""}]
[null,null,null,{"$f":"IF($C77=\"\",\"\",VLOOKUP($C77,INSCRITS!$D$4:$W$501,6,0))","v":""},{"$f":"IF($C77=\"\",\"\",VLOOKUP($C77,INSCRITS!$D$4:$W$501,7,0))","v":""},{"$f":"IF($C77=\"\",\"\",VLOOKUP($C77,INSCRITS!$D$4:$W$501,9,0))","v":""}]
[null,null,null,{"$f":"IF($C78=\"\",\"\",VLOOKUP($C78,INSCRITS!$D$4:$W$501,6,0))","v":""},{"$f":"IF($C78=\"\",\"\",VLOOKUP($C78,INSCRITS!$D$4:$W$501,7,0))","v":""},{"$f":"IF($C78=\"\",\"\",VLOOKUP($C78,INSCRITS!$D$4:$W$501,9,0))","v":""}]
[null,"SERIE 9",null,{"$f":"IF($C79=\"\",\"\",VLOOKUP($C79,INSCRITS!$D$4:$W$501,6,0))","v":""},{"$f":"IF($C79=\"\",\"\",VLOOKUP($C79,INSCRITS!$D$4:$W$501,7,0))","v":""},{"$f":"IF($C79=\"\",\"\",VLOOKUP($C79,INSCRITS!$D$4:$W$501,9,0))","v":""}]
[null,null,null,{"$f":"IF($C80=\"\",\"\",VLOOKUP($C80,INSCRITS!$D$4:$W$501,6,0))","v":""},{"$f":"IF($C80=\"\",\"\",VLOOKUP($C80,INSCRITS!$D$4:$W$501,7,0))","v":""},{"$f":"IF($C80=\"\",\"\",VLOOKUP($C80,INSCRITS!$D$4:$W$501,9,0))","v":""}]
[null,null,null,{"$f":"IF($C81=\"\",\"\",VLOOKUP($C81,INSCRITS!$D$4:$W$501,6,0))","v":""},{"$f":"IF($C81=\"\",\"\",VLOOKUP($C81,INSCRITS!$D$4:$W$501,7,0))","v":""},{"$f":"IF($C81=\"\",\"\",VLOOKUP($C81,INSCRITS!$D$4:$W$501,9,0))","v":""}]
[null,null,null,{"$f":"IF($C82=\"\",\"\",VLOOKUP($C82,INSCRITS!$D$4:$W$501,6,0))","v":""},{"$f":"IF($C82=\"\",\"\",VLOOKUP($C82,INSCRITS!$D$4:$W$501,7,0))","v":""},{"$f":"IF($C82=\"\",\"\",VLOOKUP($C82,INSCRITS!$D$4:$W$501,9,0))","v":""}]
[null,null,null,{"$f":"IF($C83=\"\",\"\",VLOOKUP($C83,INSCRITS!$D$4:$W$501,6,0))","v":""},{"$f":"IF($C83=\"\",\"\",VLOOKUP($C83,INSCRITS!$D$4:$W$501,7,0))","v":""},{"$f":"IF($C83=\"\",\"\",VLOOKUP($C83,INSCRITS!$D$4:$W$501,9,0))","v":""}]
[null,null,null,{"$f":"IF($C84=\"\",\"\",VLOOKUP($C84,INSCRITS!$D$4:$W$501,6,0))","v":""},{"$f":"IF($C84=\"\",\"\",VLOOKUP($C84,INSCRITS!$D$4:$W$501,7,0))","v":""},{"$f":"IF($C84=\"\",\"\",VLOOKUP($C84,INSCRITS!$D$4:$W$501,9,0))","v":""}]
[null,null,null,{"$f":"IF($C85=\"\",\"\",VLOOKUP($C85,INSCRITS!$D$4:$W$501,6,0))","v":""},{"$f":"IF($C85=\"\",\"\",VLOOKUP($C85,INSCRITS!$D$4:$W$501,7,0))","v":""},{"$f":"IF($C85=\"\",\"\",VLOOKUP($C85,INSCRITS!$D$4:$W$501,9,0))","v":""}]
[null,null,null,{"$f":"IF($C86=\"\",\"\",VLOOKUP($C86,INSCRITS!$D$4:$W$501,6,0))","v":""},{"$f":"IF($C86=\"\",\"\",VLOOKUP($C86,INSCRITS!$D$4:$W$501,7,0))","v":""},{"$f":"IF($C86=\"\",\"\",VLOOKUP($C86,INSCRITS!$D$4:$W$501,9,0))","v":""}]
[null,null,null,{"$f":"IF($C87=\"\",\"\",VLOOKUP($C87,INSCRITS!$D$4:$W$501,6,0))","v":""},{"$f":"IF($C87=\"\",\"\",VLOOKUP($C87,INSCRITS!$D$4:$W$501,7,0))","v":""},{"$f":"IF($C87=\"\",\"\",VLOOKUP($C87,INSCRITS!$D$4:$W$501,9,0))","v":""}]
[null,"SERIE 10",null,{"$f":"IF($C88=\"\",\"\",VLOOKUP($C88,INSCRITS!$D$4:$W$501,6,0))","v":""},{"$f":"IF($C88=\"\",\"\",VLOOKUP($C88,INSCRITS!$D$4:$W$501,7,0))","v":""},{"$f":"IF($C88=\"\",\"\",VLOOKUP($C88,INSCRITS!$D$4:$W$501,9,0))","v":""}]
[null,null,null,{"$f":"IF($C89=\"\",\"\",VLOOKUP($C89,INSCRITS!$D$4:$W$501,6,0))","v":""},{"$f":"IF($C89=\"\",\"\",VLOOKUP($C89,INSCRITS!$D$4:$W$501,7,0))","v":""},{"$f":"IF($C89=\"\",\"\",VLOOKUP($C89,INSCRITS!$D$4:$W$501,9,0))","v":""}]
[null,null,null,{"$f":"IF($C90=\"\",\"\",VLOOKUP($C90,INSCRITS!$D$4:$W$501,6,0))","v":""},{"$f":"IF($C90=\"\",\"\",VLOOKUP($C90,INSCRITS!$D$4:$W$501,7,0))","v":""},{"$f":"IF($C90=\"\",\"\",VLOOKUP($C90,INSCRITS!$D$4:$W$501,9,0))","v":""}]
[null,null,null,{"$f":"IF($C91=\"\",\"\",VLOOKUP($C91,INSCRITS!$D$4:$W$501,6,0))","v":""},{"$f":"IF($C91=\"\",\"\",VLOOKUP($C91,INSCRITS!$D$4:$W$501,7,0))","v":""},{"$f":"IF($C91=\"\",\"\",VLOOKUP($C91,INSCRITS!$D$4:$W$501,9,0))","v":""}]
[null,null,null,{"$f":"IF($C92=\"\",\"\",VLOOKUP($C92,INSCRITS!$D$4:$W$501,6,0))","v":""},{"$f":"IF($C92=\"\",\"\",VLOOKUP($C92,INSCRITS!$D$4:$W$501,7,0))","v":""},{"$f":"IF($C92=\"\",\"\",VLOOKUP($C92,INSCRITS!$D$4:$W$501,9,0))","v":""}]
[null,null,null,{"$f":"IF($C93=\"\",\"\",VLOOKUP($C93,INSCRITS!$D$4:$W$501,6,0))","v":""},{"$f":"IF($C93=\"\",\"\",VLOOKUP($C93,INSCRITS!$D$4:$W$501,7,0))","v":""},{"$f":"IF($C93=\"\",\"\",VLOOKUP($C93,INSCRITS!$D$4:$W$501,9,0))","v":""}]
[null,null,null,{"$f":"IF($C94=\"\",\"\",VLOOKUP($C94,INSCRITS!$D$4:$W$501,6,0))","v":""},{"$f":"IF($C94=\"\",\"\",VLOOKUP($C94,INSCRITS!$D$4:$W$501,7,0))","v":""},{"$f":"IF($C94=\"\",\"\",VLOOKUP($C94,INSCRITS!$D$4:$W$501,9,0))","v":""}]
[null,null,null,{"$f":"IF($C95=\"\",\"\",VLOOKUP($C95,INSCRITS!$D$4:$W$501,6,0))","v":""},{"$f":"IF($C95=\"\",\"\",VLOOKUP($C95,INSCRITS!$D$4:$W$501,7,0))","v":""},{"$f":"IF($C95=\"\",\"\",VLOOKUP($C95,INSCRITS!$D$4:$W$501,9,0))","v":""}]
[null,null,null,{"$f":"IF($C96=\"\",\"\",VLOOKUP($C96,INSCRITS!$D$4:$W$501,6,0))","v":""},{"$f":"IF($C96=\"\",\"\",VLOOKUP($C96,INSCRITS!$D$4:$W$501,7,0))","v":""},{"$f":"IF($C96=\"\",\"\",VLOOKUP($C96,INSCRITS!$D$4:$W$501,9,0))","v":""}]
[null,"SERIE 11",null,{"$f":"IF($C97=\"\",\"\",VLOOKUP($C97,INSCRITS!$D$4:$W$501,6,0))","v":""},{"$f":"IF($C97=\"\",\"\",VLOOKUP($C97,INSCRITS!$D$4:$W$501,7,0))","v":""},{"$f":"IF($C97=\"\",\"\",VLOOKUP($C97,INSCRITS!$D$4:$W$501,9,0))","v":""}]
[null,null,null,{"$f":"IF($C98=\"\",\"\",VLOOKUP($C98,INSCRITS!$D$4:$W$501,6,0))","v":""},{"$f":"IF($C98=\"\",\"\",VLOOKUP($C98,INSCRITS!$D$4:$W$501,7,0))","v":""},{"$f":"IF($C98=\"\",\"\",VLOOKUP($C98,INSCRITS!$D$4:$W$501,9,0))","v":""}]
[null,null,null,{"$f":"IF($C99=\"\",\"\",VLOOKUP($C99,INSCRITS!$D$4:$W$501,6,0))","v":""},{"$f":"IF($C99=\"\",\"\",VLOOKUP($C99,INSCRITS!$D$4:$W$501,7,0))","v":""},{"$f":"IF($C99=\"\",\"\",VLOOKUP($C99,INSCRITS!$D$4:$W$501,9,0))","v":""}]
[null,null,null,{"$f":"IF($C100=\"\",\"\",VLOOKUP($C100,INSCRITS!$D$4:$W$501,6,0))","v":""},{"$f":"IF($C100=\"\",\"\",VLOOKUP($C100,INSCRITS!$D$4:$W$501,7,0))","v":""},{"$f":"IF($C100=\"\",\"\",VLOOKUP($C100,INSCRITS!$D$4:$W$501,9,0))","v":""}]
[null,null,null,{"$f":"IF($C101=\"\",\"\",VLOOKUP($C101,INSCRITS!$D$4:$W$501,6,0))","v":""},{"$f":"IF($C101=\"\",\"\",VLOOKUP($C101,INSCRITS!$D$4:$W$501,7,0))","v":""},{"$f":"IF($C101=\"\",\"\",VLOOKUP($C101,INSCRITS!$D$4:$W$501,9,0))","v":""}]
[null,null,null,{"$f":"IF($C102=\"\",\"\",VLOOKUP($C102,INSCRITS!$D$4:$W$501,6,0))","v":""},{"$f":"IF($C102=\"\",\"\",VLOOKUP($C102,INSCRITS!$D$4:$W$501,7,0))","v":""},{"$f":"IF($C102=\"\",\"\",VLOOKUP($C102,INSCRITS!$D$4:$W$501,9,0))","v":""}]
[null,null,null,{"$f":"IF($C103=\"\",\"\",VLOOKUP($C103,INSCRITS!$D$4:$W$501,6,0))","v":""},{"$f":"IF($C103=\"\",\"\",VLOOKUP($C103,INSCRITS!$D$4:$W$501,7,0))","v":""},{"$f":"IF($C103=\"\",\"\",VLOOKUP($C103,INSCRITS!$D$4:$W$501,9,0))","v":""}]
[null,null,null,{"$f":"IF($C104=\"\",\"\",VLOOKUP($C104,INSCRITS!$D$4:$W$501,6,0))","v":""},{"$f":"IF($C104=\"\",\"\",VLOOKUP($C104,INSCRITS!$D$4:$W$501,7,0))","v":""},{"$f":"IF($C104=\"\",\"\",VLOOKUP($C104,INSCRITS!$D$4:$W$501,9,0))","v":""}]
[null,null,null,{"$f":"IF($C105=\"\",\"\",VLOOKUP($C105,INSCRITS!$D$4:$W$501,6,0))","v":""},{"$f":"IF($C105=\"\",\"\",VLOOKUP($C105,INSCRITS!$D$4:$W$501,7,0))","v":""},{"$f":"IF($C105=\"\",\"\",VLOOKUP($C105,INSCRITS!$D$4:$W$501,9,0))","v":""}]
[null,"SERIE 12",null,{"$f":"IF($C106=\"\",\"\",VLOOKUP($C106,INSCRITS!$D$4:$W$501,6,0))","v":""},{"$f":"IF($C106=\"\",\"\",VLOOKUP($C106,INSCRITS!$D$4:$W$501,7,0))","v":""},{"$f":"IF($C106=\"\",\"\",VLOOKUP($C106,INSCRITS!$D$4:$W$501,9,0))","v":""}]
[null,null,null,{"$f":"IF($C107=\"\",\"\",VLOOKUP($C107,INSCRITS!$D$4:$W$501,6,0))","v":""},{"$f":"IF($C107=\"\",\"\",VLOOKUP($C107,INSCRITS!$D$4:$W$501,7,0))","v":""},{"$f":"IF($C107=\"\",\"\",VLOOKUP($C107,INSCRITS!$D$4:$W$501,9,0))","v":""}]
[null,null,null,{"$f":"IF($C108=\"\",\"\",VLOOKUP($C108,INSCRITS!$D$4:$W$501,6,0))","v":""},{"$f":"IF($C108=\"\",\"\",VLOOKUP($C108,INSCRITS!$D$4:$W$501,7,0))","v":""},{"$f":"IF($C108=\"\",\"\",VLOOKUP($C108,INSCRITS!$D$4:$W$501,9,0))","v":""}]
[null,null,null,{"$f":"IF($C109=\"\",\"\",VLOOKUP($C109,INSCRITS!$D$4:$W$501,6,0))","v":""},{"$f":"IF($C109=\"\",\"\",VLOOKUP($C109,INSCRITS!$D$4:$W$501,7,0))","v":""},{"$f":"IF($C109=\"\",\"\",VLOOKUP($C109,INSCRITS!$D$4:$W$501,9,0))","v":""}]
[null,null,null,{"$f":"IF($C110=\"\",\"\",VLOOKUP($C110,INSCRITS!$D$4:$W$501,6,0))","v":""},{"$f":"IF($C110=\"\",\"\",VLOOKUP($C110,INSCRITS!$D$4:$W$501,7,0))","v":""},{"$f":"IF($C110=\"\",\"\",VLOOKUP($C110,INSCRITS!$D$4:$W$501,9,0))","v":""}]
[null,null,null,{"$f":"IF($C111=\"\",\"\",VLOOKUP($C111,INSCRITS!$D$4:$W$501,6,0))","v":""},{"$f":"IF($C111=\"\",\"\",VLOOKUP($C111,INSCRITS!$D$4:$W$501,7,0))","v":""},{"$f":"IF($C111=\"\",\"\",VLOOKUP($C111,INSCRITS!$D$4:$W$501,9,0))","v":""}]
[null,null,null,{"$f":"IF($C112=\"\",\"\",VLOOKUP($C112,INSCRITS!$D$4:$W$501,6,0))","v":""},{"$f":"IF($C112=\"\",\"\",VLOOKUP($C112,INSCRITS!$D$4:$W$501,7,0))","v":""},{"$f":"IF($C112=\"\",\"\",VLOOKUP($C112,INSCRITS!$D$4:$W$501,9,0))","v":""}]
[null,null,null,{"$f":"IF($C113=\"\",\"\",VLOOKUP($C113,INSCRITS!$D$4:$W$501,6,0))","v":""},{"$f":"IF($C113=\"\",\"\",VLOOKUP($C113,INSCRITS!$D$4:$W$501,7,0))","v":""},{"$f":"IF($C113=\"\",\"\",VLOOKUP($C113,INSCRITS!$D$4:$W$501,9,0))","v":""}]
[null,null,null,{"$f":"IF($C114=\"\",\"\",VLOOKUP($C114,INSCRITS!$D$4:$W$501,6,0))","v":""},{"$f":"IF($C114=\"\",\"\",VLOOKUP($C114,INSCRITS!$D$4:$W$501,7,0))","v":""},{"$f":"IF($C114=\"\",\"\",VLOOKUP($C114,INSCRITS!$D$4:$W$501,9,0))","v":""}]
[null,null,null,{"$f":"IF($C115=\"\",\"\",VLOOKUP($C115,INSCRITS!$D$4:$W$501,6,0))","v":""},{"$f":"IF($C115=\"\",\"\",VLOOKUP($C115,INSCRITS!$D$4:$W$501,7,0))","v":""},{"$f":"IF($C115=\"\",\"\",VLOOKUP($C115,INSCRITS!$D$4:$W$501,9,0))","v":""}]
[null,null,null,{"$f":"IF($C116=\"\",\"\",VLOOKUP($C116,INSCRITS!$D$4:$W$501,6,0))","v":""},{"$f":"IF($C116=\"\",\"\",VLOOKUP($C116,INSCRITS!$D$4:$W$501,7,0))","v":""},{"$f":"IF($C116=\"\",\"\",VLOOKUP($C116,INSCRITS!$D$4:$W$501,9,0))","v":""}]
[null,"SERIE 14",null,{"$f":"IF($C117=\"\",\"\",VLOOKUP($C117,INSCRITS!$D$4:$W$501,6,0))","v":""},{"$f":"IF($C117=\"\",\"\",VLOOKUP($C117,INSCRITS!$D$4:$W$501,7,0))","v":""},{"$f":"IF($C117=\"\",\"\",VLOOKUP($C117,INSCRITS!$D$4:$W$501,9,0))","v":""}]
[null,null,null,{"$f":"IF($C118=\"\",\"\",VLOOKUP($C118,INSCRITS!$D$4:$W$501,6,0))","v":""},{"$f":"IF($C118=\"\",\"\",VLOOKUP($C118,INSCRITS!$D$4:$W$501,7,0))","v":""},{"$f":"IF($C118=\"\",\"\",VLOOKUP($C118,INSCRITS!$D$4:$W$501,9,0))","v":""}]
[null,null,null,{"$f":"IF($C119=\"\",\"\",VLOOKUP($C119,INSCRITS!$D$4:$W$501,6,0))","v":""},{"$f":"IF($C119=\"\",\"\",VLOOKUP($C119,INSCRITS!$D$4:$W$501,7,0))","v":""},{"$f":"IF($C119=\"\",\"\",VLOOKUP($C119,INSCRITS!$D$4:$W$501,9,0))","v":""}]
[null,null,null,{"$f":"IF($C120=\"\",\"\",VLOOKUP($C120,INSCRITS!$D$4:$W$501,6,0))","v":""},{"$f":"IF($C120=\"\",\"\",VLOOKUP($C120,INSCRITS!$D$4:$W$501,7,0))","v":""},{"$f":"IF($C120=\"\",\"\",VLOOKUP($C120,INSCRITS!$D$4:$W$501,9,0))","v":""}]
[null,null,null,{"$f":"IF($C121=\"\",\"\",VLOOKUP($C121,INSCRITS!$D$4:$W$501,6,0))","v":""},{"$f":"IF($C121=\"\",\"\",VLOOKUP($C121,INSCRITS!$D$4:$W$501,7,0))","v":""},{"$f":"IF($C121=\"\",\"\",VLOOKUP($C121,INSCRITS!$D$4:$W$501,9,0))","v":""}]
[null,null,null,{"$f":"IF($C122=\"\",\"\",VLOOKUP($C122,INSCRITS!$D$4:$W$501,6,0))","v":""},{"$f":"IF($C122=\"\",\"\",VLOOKUP($C122,INSCRITS!$D$4:$W$501,7,0))","v":""},{"$f":"IF($C122=\"\",\"\",VLOOKUP($C122,INSCRITS!$D$4:$W$501,9,0))","v":""}]
[null,null,null,{"$f":"IF($C123=\"\",\"\",VLOOKUP($C123,INSCRITS!$D$4:$W$501,6,0))","v":""},{"$f":"IF($C123=\"\",\"\",VLOOKUP($C123,INSCRITS!$D$4:$W$501,7,0))","v":""},{"$f":"IF($C123=\"\",\"\",VLOOKUP($C123,INSCRITS!$D$4:$W$501,9,0))","v":""}]
[null,null,null,{"$f":"IF($C124=\"\",\"\",VLOOKUP($C124,INSCRITS!$D$4:$W$501,6,0))","v":""},{"$f":"IF($C124=\"\",\"\",VLOOKUP($C124,INSCRITS!$D$4:$W$501,7,0))","v":""},{"$f":"IF($C124=\"\",\"\",VLOOKUP($C124,INSCRITS!$D$4:$W$501,9,0))","v":""}]
[null,null,null,{"$f":"IF($C125=\"\",\"\",VLOOKUP($C125,INSCRITS!$D$4:$W$501,6,0))","v":""},{"$f":"IF($C125=\"\",\"\",VLOOKUP($C125,INSCRITS!$D$4:$W$501,7,0))","v":""},{"$f":"IF($C125=\"\",\"\",VLOOKUP($C125,INSCRITS!$D$4:$W$501,9,0))","v":""}]
[null,"SERIE 15",null,{"$f":"IF($C126=\"\",\"\",VLOOKUP($C126,INSCRITS!$D$4:$W$501,6,0))","v":""},{"$f":"IF($C126=\"\",\"\",VLOOKUP($C126,INSCRITS!$D$4:$W$501,7,0))","v":""},{"$f":"IF($C126=\"\",\"\",VLOOKUP($C126,INSCRITS!$D$4:$W$501,9,0))","v":""}]
[null,null,null,{"$f":"IF($C127=\"\",\"\",VLOOKUP($C127,INSCRITS!$D$4:$W$501,6,0))","v":""},{"$f":"IF($C127=\"\",\"\",VLOOKUP($C127,INSCRITS!$D$4:$W$501,7,0))","v":""},{"$f":"IF($C127=\"\",\"\",VLOOKUP($C127,INSCRITS!$D$4:$W$501,9,0))","v":""}]
[null,null,null,{"$f":"IF($C128=\"\",\"\",VLOOKUP($C128,INSCRITS!$D$4:$W$501,6,0))","v":""},{"$f":"IF($C128=\"\",\"\",VLOOKUP($C128,INSCRITS!$D$4:$W$501,7,0))","v":""},{"$f":"IF($C128=\"\",\"\",VLOOKUP($C128,INSCRITS!$D$4:$W$501,9,0))","v":""}]
[null,null,null,{"$f":"IF($C129=\"\",\"\",VLOOKUP($C129,INSCRITS!$D$4:$W$501,6,0))","v":""},{"$f":"IF($C129=\"\",\"\",VLOOKUP($C129,INSCRITS!$D$4:$W$501,7,0))","v":""},{"$f":"IF($C129=\"\",\"\",VLOOKUP($C129,INSCRITS!$D$4:$W$501,9,0))","v":""}]
[null,null,null,{"$f":"IF($C130=\"\",\"\",VLOOKUP($C130,INSCRITS!$D$4:$W$501,6,0))","v":""},{"$f":"IF($C130=\"\",\"\",VLOOKUP($C130,INSCRITS!$D$4:$W$501,7,0))","v":""},{"$f":"IF($C130=\"\",\"\",VLOOKUP($C130,INSCRITS!$D$4:$W$501,9,0))","v":""}]
[null,null,null,{"$f":"IF($C131=\"\",\"\",VLOOKUP($C131,INSCRITS!$D$4:$W$501,6,0))","v":""},{"$f":"IF($C131=\"\",\"\",VLOOKUP($C131,INSCRITS!$D$4:$W$501,7,0))","v":""},{"$f":"IF($C131=\"\",\"\",VLOOKUP($C131,INSCRITS!$D$4:$W$501,9,0))","v":""}]
[null,null,null,{"$f":"IF($C132=\"\",\"\",VLOOKUP($C132,INSCRITS!$D$4:$W$501,6,0))","v":""},{"$f":"IF($C132=\"\",\"\",VLOOKUP($C132,INSCRITS!$D$4:$W$501,7,0))","v":""},{"$f":"IF($C132=\"\",\"\",VLOOKUP($C132,INSCRITS!$D$4:$W$501,9,0))","v":""}]
[null,null,null,{"$f":"IF($C133=\"\",\"\",VLOOKUP($C133,INSCRITS!$D$4:$W$501,6,0))","v":""},{"$f":"IF($C133=\"\",\"\",VLOOKUP($C133,INSCRITS!$D$4:$W$501,7,0))","v":""},{"$f":"IF($C133=\"\",\"\",VLOOKUP($C133,INSCRITS!$D$4:$W$501,9,0))","v":""}]
[null,null,null,{"$f":"IF($C134=\"\",\"\",VLOOKUP($C134,INSCRITS!$D$4:$W$501,6,0))","v":""},{"$f":"IF($C134=\"\",\"\",VLOOKUP($C134,INSCRITS!$D$4:$W$501,7,0))","v":""},{"$f":"IF($C134=\"\",\"\",VLOOKUP($C134,INSCRITS!$D$4:$W$501,9,0))","v":""}]
[null,"SERIE 16",null,{"$f":"IF($C135=\"\",\"\",VLOOKUP($C135,INSCRITS!$D$4:$W$501,6,0))","v":""},{"$f":"IF($C135=\"\",\"\",VLOOKUP($C135,INSCRITS!$D$4:$W$501,7,0))","v":""},{"$f":"IF($C135=\"\",\"\",VLOOKUP($C135,INSCRITS!$D$4:$W$501,9,0))","v":""}]
[null,null,null,{"$f":"IF($C136=\"\",\"\",VLOOKUP($C136,INSCRITS!$D$4:$W$501,6,0))","v":""},{"$f":"IF($C136=\"\",\"\",VLOOKUP($C136,INSCRITS!$D$4:$W$501,7,0))","v":""},{"$f":"IF($C136=\"\",\"\",VLOOKUP($C136,INSCRITS!$D$4:$W$501,9,0))","v":""}]
[null,null,null,{"$f":"IF($C137=\"\",\"\",VLOOKUP($C137,INSCRITS!$D$4:$W$501,6,0))","v":""},{"$f":"IF($C137=\"\",\"\",VLOOKUP($C137,INSCRITS!$D$4:$W$501,7,0))","v":""},{"$f":"IF($C137=\"\",\"\",VLOOKUP($C137,INSCRITS!$D$4:$W$501,9,0))","v":""}]
[null,null,null,{"$f":"IF($C138=\"\",\"\",VLOOKUP($C138,INSCRITS!$D$4:$W$501,6,0))","v":""},{"$f":"IF($C138=\"\",\"\",VLOOKUP($C138,INSCRITS!$D$4:$W$501,7,0))","v":""},{"$f":"IF($C138=\"\",\"\",VLOOKUP($C138,INSCRITS!$D$4:$W$501,9,0))","v":""}]
[null,null,null,{"$f":"IF($C139=\"\",\"\",VLOOKUP($C139,INSCRITS!$D$4:$W$501,6,0))","v":""},{"$f":"IF($C139=\"\",\"\",VLOOKUP($C139,INSCRITS!$D$4:$W$501,7,0))","v":""},{"$f":"IF($C139=\"\",\"\",VLOOKUP($C139,INSCRITS!$D$4:$W$501,9,0))","v":""}]
[null,null,null,{"$f":"IF($C140=\"\",\"\",VLOOKUP($C140,INSCRITS!$D$4:$W$501,6,0))","v":""},{"$f":"IF($C140=\"\",\"\",VLOOKUP($C140,INSCRITS!$D$4:$W$501,7,0))","v":""},{"$f":"IF($C140=\"\",\"\",VLOOKUP($C140,INSCRITS!$D$4:$W$501,9,0))","v":""}]
[null,null,null,{"$f":"IF($C141=\"\",\"\",VLOOKUP($C141,INSCRITS!$D$4:$W$501,6,0))","v":""},{"$f":"IF($C141=\"\",\"\",VLOOKUP($C141,INSCRITS!$D$4:$W$501,7,0))","v":""},{"$f":"IF($C141=\"\",\"\",VLOOKUP($C141,INSCRITS!$D$4:$W$501,9,0))","v":""}]
[null,null,null,{"$f":"IF($C142=\"\",\"\",VLOOKUP($C142,INSCRITS!$D$4:$W$501,6,0))","v":""},{"$f":"IF($C142=\"\",\"\",VLOOKUP($C142,INSCRITS!$D$4:$W$501,7,0))","v":""},{"$f":"IF($C142=\"\",\"\",VLOOKUP($C142,INSCRITS!$D$4:$W$501,9,0))","v":""}]
[null,null,null,{"$f":"IF($C143=\"\",\"\",VLOOKUP($C143,INSCRITS!$D$4:$W$501,6,0))","v":""},{"$f":"IF($C143=\"\",\"\",VLOOKUP($C143,INSCRITS!$D$4:$W$501,7,0))","v":""},{"$f":"IF($C143=\"\",\"\",VLOOKUP($C143,INSCRITS!$D$4:$W$501,9,0))","v":""}]
[null,null,null,{"$f":"IF($C144=\"\",\"\",VLOOKUP($C144,INSCRITS!$D$4:$W$501,6,0))","v":""},{"$f":"IF($C144=\"\",\"\",VLOOKUP($C144,INSCRITS!$D$4:$W$501,7,0))","v":""},{"$f":"IF($C144=\"\",\"\",VLOOKUP($C144,INSCRITS!$D$4:$W$501,9,0))","v":""}]
[null,null,null,{"$f":"IF($C145=\"\",\"\",VLOOKUP($C145,INSCRITS!$D$4:$W$501,6,0))","v":""},{"$f":"IF($C145=\"\",\"\",VLOOKUP($C145,INSCRITS!$D$4:$W$501,7,0))","v":""},{"$f":"IF($C145=\"\",\"\",VLOOKUP($C145,INSCRITS!$D$4:$W$501,9,0))","v":""}]
[]
[]
[]
[]
[]
[null,"SERIE 19"]

{"sheet":"BATONS","index":3,"n_rows":146,"n_cols":36,"rows_kept":146,"cut":false,"hidden":false,"merged":[[6,1,19,1],[20,1,33,1],[34,1,47,1],[48,1,61,1],[62,1,75,1],[6,28,21,28],[14,20,21,20],[54,12,69,12],[6,20,13,20],[26,28,41,28],[6,12,22,12],[23,12,39,12],[76,1,89,1],[90,1,103,1],[104,1,117,1],[118,1,131,1],[132,1,145,1]]}
[]
[]
[null,null,null,null,null,null,null,null,null,null,null,null,null,"QUART BATONS",null,null,null,null,null,null,null,"DEMI-FINALES",null,null,null,null,null,null,null,"FINALES Batons Messieurs"]
[null,"BATONS Messieurs",null,null,null,null,null,null,null,null,null,null,null,"Junior G",null,null,null,null,null,null,null,null,null,null,null,null,null,null,null,"Junior"]
[null,null,null,"NOM","Prénom","CLUB","PLACE",null,null,null,null,null,null,"N°","NOM","Prénom","CLUB","PLACE",null,null,null,"N°","NOM","Prénom","CLUB","PLACE",null,null,null,"N°","NOM","Prénom","CLUB",null,"PLACE","PTS"]
[]
[null,"SERIE 1",null,{"$f":"IF($C7=\"\",\"\",VLOOKUP($C7,INSCRITS!$D$4:$W$501,6,0))","v":""},{"$f":"IF($C7=\"\",\"\",VLOOKUP($C7,INSCRITS!$D$4:$W$501,7,0))","v":""},{"$f":"IF($C7=\"\",\"\",VLOOKUP($C7,INSCRITS!$D$4:$W$501,9,0))","v":""},1,null,null,null,null,null,"SERIE 1",178,{"$f":"IF($N7=\"\",\"\",VLOOKUP($N7,INSCRITS!$D$4:$W$501,6,0))","v":"SORIA"},{"$f":"IF($N7=\"\",\"\",VLOOKUP($N7,INSCRITS!$D$4:$W$501,7,0))","v":"Samuel"},{"$f":"IF($N7=\"\",\"\",VLOOKUP($N7,INSCRITS!$D$4:$W$501,9,0))","v":"Biarritz SC"},null,null,null,"SERIE 1",null,{"$f":"IF($V7=\"\",\"\",VLOOKUP($V7,INSCRITS!$D$4:$W$501,6,0))","v":""},{"$f":"IF($V7=\"\",\"\",VLOOKUP($V7,INSCRITS!$D$4:$W$501,7,0))","v":""},{"$f":"IF($V7=\"\",\"\",VLOOKUP($V7,INSCRITS!$D$4:$W$501,9,0))","v":""},null,null,null,"FINALE A",189,{"$f":"IF($AD7=\"\",\"\",VLOOKUP($AD7,INSCRITS!$D$4:$W$501,6,0))","v":"SOULE SUSBIELLE"},{"$f":"IF($AD7=\"\",\"\",VLOOKUP($AD7,INSCRITS!$D$4:$W$501,7,0))","v":"Xavier"},{"$f":"IF($AD7=\"\",\"\",VLOOKUP($AD7,INSCRITS!$D$4:$W$501,9,0))","v":"HSC"},null,1,{"$f":"IF(AI7=\"\",\"\",VLOOKUP(AI7,points,2))","v":20}]
[null,null,null,{"$f":"IF($C8=\"\",\"\",VLOOKUP($C8,INSCRITS!$D$4:$W$501,6,0))","v":""},{"$f":"IF($C8=\"\",\"\",VLOOKUP($C8,INSCRITS!$D$4:$W$501,7,0))","v":""},{"$f":"IF($C8=\"\",\"\",VLOOKUP($C8,INSCRITS!$D$4:$W$501,9,0))","v":""},null,null,null,null,null,null,null,192,{"$f":"IF($N8=\"\",\"\",VLOOKUP($N8,INSCRITS!$D$4:$W$501,6,0))","v":"GONZALES"},{"$f":"IF($N8=\"\",\"\",VLOOKUP($N8,INSCRITS!$D$4:$W$501,7,0))","v":"Ulysse"},{"$f":"IF($N8=\"\",\"\",VLOOKUP($N8,INSCRITS!$D$4:$W$501,9,0))","v":"MIMIZAN SAUVETAGE"},null,null,null,null,null,{"$f":"IF($V8=\"\",\"\",VLOOKUP($V8,INSCRITS!$D$4:$W$501,6,0))","v":""},{"$f":"IF($V8=\"\",\"\",VLOOKUP($V8,INSCRITS!$D$4:$W$501,7,0))","v":""},{"$f":"IF($V8=\"\",\"\",VLOOKUP($V8,INSCRITS!$D$4:$W$501,9,0))","v":""},null,null,null,null,167,{"$f":"IF($AD8=\"\",\"\",VLOOKUP($AD8,INSCRITS!$D$4:$W$501,6,0))","v":"HERVE"},{"$f":"IF($AD8=\"\",\"\",VLOOKUP($AD8,INSCRITS!$D$4:$W$501,7,0))","v":"Axel"},{"$f":"IF($AD8=\"\",\"\",VLOOKUP($AD8,INSCRITS!$D$4:$W$501,9,0))","v":"ASCE DINARD"},null,2,18]
[null,null,null,{"$f":"IF($C9=\"\",\"\",VLOOKUP($C9,INSCRITS!$D$4:$W$501,6,0))","v":""},{"$f":"IF($C9=\"\",\"\",VLOOKUP($C9,INSCRITS!$D$4:$W$501,7,0))","v":""},{"$f":"IF($C9=\"\",\"\",VLOOKUP($C9,INSCRITS!$D$4:$W$501,9,0))","v":""},null,null,null,null,null,null,null,183,{"$f":"IF($N9=\"\",\"\",VLOOKUP($N9,INSCRITS!$D$4:$W$501,6,0))","v":"BLANC"},{"$f":"IF($N9=\"\",\"\",VLOOKUP($N9,INSCRITS!$D$4:$W$501,7,0))","v":"Guillaume"},{"$f":"IF($N9=\"\",\"\",VLOOKUP($N9,INSCRITS!$D$4:$W$501,9,0))","v":"ENA"},null,null,null,null,null,{"$f":"IF($V9=\"\",\"\",VLOOKUP($V9,INSCRITS!$D$4:$W$501,6,0))","v":""},{"$f":"IF($V9=\"\",\"\",VLOOKUP($V9,INSCRITS!$D$4:$W$501,7,0))","v":""},{"$f":"IF($V9=\"\",\"\",VLOOKUP($V9,INSCRITS!$D$4:$W$501,9,0))","v":""},null,null,null,null,192,{"$f":"IF($AD9=\"\",\"\",VLOOKUP($AD9,INSCRITS!$D$4:$W$501,6,0))","v":"GONZALES"},{"$f":"IF($AD9=\"\",\"\",VLOOKUP($AD9,INSCRITS!$D$4:$W$501,7,0))","v":"Ulysse"},{"$f":"IF($AD9=\"\",\"\",VLOOKUP($AD9,INSCRITS!$D$4:$W$501,9,0))","v":"MIMIZAN SAUVETAGE"},null,3,16]
[null,null,null,{"$f":"IF($C10=\"\",\"\",VLOOKUP($C10,INSCRITS!$D$4:$W$501,6,0))","v":""},{"$f":"IF($C10=\"\",\"\",VLOOKUP($C10,INSCRITS!$D$4:$W$501,7,0))","v":""},{"$f":"IF($C10=\"\",\"\",VLOOKUP($C10,INSCRITS!$D$4:$W$501,9,0))","v":""},null,null,null,null,null,null,null,193,{"$f":"IF($N10=\"\",\"\",VLOOKUP($N10,INSCRITS!$D$4:$W$501,6,0))","v":"MAILHÉ"},{"$f":"IF($N10=\"\",\"\",VLOOKUP($N10,INSCRITS!$D$4:$W$501,7,0))","v":"Loic"},{"$f":"IF($N10=\"\",\"\",VLOOKUP($N10,INSCRITS!$D$4:$W$501,9,0))","v":"MNSL"},null,null,null,null,null,{"$f":"IF($V10=\"\",\"\",VLOOKUP($V10,INSCRITS!$D$4:$W$501,6,0))","v":""},{"$f":"IF($V10=\"\",\"\",VLOOKUP($V10,INSCRITS!$D$4:$W$501,7,0))","v":""},{"$f":"IF($V10=\"\",\"\",VLOOKUP($V10,INSCRITS!$D$4:$W$501,9,0))","v":""},null,null,null,null,165,{"$f":"IF($AD10=\"\",\"\",VLOOKUP($AD10,INSCRITS!$D$4:$W$501,6,0))","v":"HAREL"},{"$f":"IF($AD10=\"\",\"\",VLOOKUP($AD10,INSCRITS!$D$4:$W$501,7,0))","v":"Romain"},{"$f":"IF($AD10=\"\",\"\",VLOOKUP($AD10,INSCRITS!$D$4:$W$501,9,0))","v":"ASCA44"},null,4,14]
[null,null,null,{"$f":"IF($C11=\"\",\"\",VLOOKUP($C11,INSCRITS!$D$4:$W$501,6,0))","v":""},{"$f":"IF($C11=\"\",\"\",VLOOKUP($C11,INSCRITS!$D$4:$W$501,7,0))","v":""},{"$f":"IF($C11=\"\",\"\",VLOOKUP($C11,INSCRITS!$D$4:$W$501,9,0))","v":""},null,null,null,null,null,null,null,181,{"$f":"IF($N11=\"\",\"\",VLOOKUP($N11,INSCRITS!$D$4:$W$501,6,0))","v":"GLIZE"},{"$f":"IF($N11=\"\",\"\",VLOOKUP($N11,INSCRITS!$D$4:$W$501,7,0))","v":"Corentin"},{"$f":"IF($N11=\"\",\"\",VLOOKUP($N11,INSCRITS!$D$4:$W$501,9,0))","v":"Capbreton"},null,null,null,null,null,{"$f":"IF($V11=\"\",\"\",VLOOKUP($V11,INSCRITS!$D$4:$W$501,6,0))","v":""},{"$f":"IF($V11=\"\",\"\",VLOOKUP($V11,INSCRITS!$D$4:$W$501,7,0))","v":""},{"$f":"IF($V11=\"\",\"\",VLOOKUP($V11,INSCRITS!$D$4:$W$501,9,0))","v":""},null,null,null,null,194,{"$f":"IF($AD11=\"\",\"\",VLOOKUP($AD11,INSCRITS!$D$4:$W$501,6,0))","v":"NOGUES"},{"$f":"IF($AD11=\"\",\"\",VLOOKUP($AD11,INSCRITS!$D$4:$W$501,7,0))","v":"Remi"},{"$f":"IF($AD11=\"\",\"\",VLOOKUP($AD11,INSCRITS!$D$4:$W$501,9,0))","v":"MNSL"},null,5,13]
[null,null,null,{"$f":"IF($C12=\"\",\"\",VLOOKUP($C12,INSCRITS!$D$4:$W$501,6,0))","v":""},{"$f":"IF($C12=\"\",\"\",VLOOKUP($C12,INSCRITS!$D$4:$W$501,7,0))","v":""},{"$f":"IF($C12=\"\",\"\",VLOOKUP($C12,INSCRITS!$D$4:$W$501,9,0))","v":""},null,null,null,null,null,null,null,179,{"$f":"IF($N12=\"\",\"\",VLOOKUP($N12,INSCRITS!$D$4:$W$501,6,0))","v":"KATOUH"},{"$f":"IF($N12=\"\",\"\",VLOOKUP($N12,INSCRITS!$D$4:$W$501,7,0))","v":"Karim"},{"$f":"IF($N12=\"\",\"\",VLOOKUP($N12,INSCRITS!$D$4:$W$501,9,0))","v":"Cannes Sauvetage Côtier"},null,null,null,null,null,{"$f":"IF($V12=\"\",\"\",VLOOKUP($V12,INSCRITS!$D$4:$W$501,6,0))","v":""},{"$f":"IF($V12=\"\",\"\",VLOOKUP($V12,INSCRITS!$D$4:$W$501,7,0))","v":""},{"$f":"IF($V12=\"\",\"\",VLOOKUP($V12,INSCRITS!$D$4:$W$501,9,0))","v":""},null,null,null,null,187,{"$f":"IF($AD12=\"\",\"\",VLOOKUP($AD12,INSCRITS!$D$4:$W$501,6,0))","v":"DEHEZ"},{"$f":"IF($AD12=\"\",\"\",VLOOKUP($AD12,INSCRITS!$D$4:$W$501,7,0))","v":"Rémy"},{"$f":"IF($AD12=\"\",\"\",VLOOKUP($AD12,INSCRITS!$D$4:$W$501,9,0))","v":"HSC"},null,6,12]
[null,null,null,{"$f":"IF($C13=\"\",\"\",VLOOKUP($C13,INSCRITS!$D$4:$W$501,6,0))","v":""},{"$f":"IF($C13=\"\",\"\",VLOOKUP($C13,INSCRITS!$D$4:$W$501,7,0))","v":""},{"$f":"IF($C13=\"\",\"\",VLOOKUP($C13,INSCRITS!$D$4:$W$501,9,0))","v":""},null,null,null,null,null,null,null,195,{"$f":"IF($N13=\"\",\"\",VLOOKUP($N13,INSCRITS!$D$4:$W$501,6,0))","v":"SUBRA"},{"$f":"IF($N13=\"\",\"\",VLOOKUP($N13,INSCRITS!$D$4:$W$501,7,0))","v":"Olivier"},{"$f":"IF($N13=\"\",\"\",VLOOKUP($N13,INSCRITS!$D$4:$W$501,9,0))","v":"MNSL"},null,null,null,null,null,{"$f":"IF($V13=\"\",\"\",VLOOKUP($V13,INSCRITS!$D$4:$W$501,6,0))","v":""},{"$f":"IF($V13=\"\",\"\",VLOOKUP($V13,INSCRITS!$D$4:$W$501,7,0))","v":""},{"$f":"IF($V13=\"\",\"\",VLOOKUP($V13,INSCRITS!$D$4:$W$501,9,0))","v":""},null,null,null,null,180,{"$f":"IF($AD13=\"\",\"\",VLOOKUP($AD13,INSCRITS!$D$4:$W$501,6,0))","v":"DUSSES"},{"$f":"IF($AD13=\"\",\"\",VLOOKUP($AD13,INSCRITS!$D$4:$W$501,7,0))","v":"Sykvain"},{"$f":"IF($AD13=\"\",\"\",VLOOKUP($AD13,INSCRITS!$D$4:$W$501,9,0))","v":"Capbreton"},null,7,11]
[null,null,null,{"$f":"IF($C14=\"\",\"\",VLOOKUP($C14,INSCRITS!$D$4:$W$501,6,0))","v":""},{"$f":"IF($C14=\"\",\"\",VLOOKUP($C14,INSCRITS!$D$4:$W$501,7,0))","v":""},{"$f":"IF($C14=\"\",\"\",VLOOKUP($C14,INSCRITS!$D$4:$W$501,9,0))","v":""},null,null,null,null,null,null,null,172,{"$f":"IF($N14=\"\",\"\",VLOOKUP($N14,INSCRITS!$D$4:$W$501,6,0))","v":"JEHAN"},{"$f":"IF($N14=\"\",\"\",VLOOKUP($N14,INSCRITS!$D$4:$W$501,7,0))","v":"Thomas"},{"$f":"IF($N14=\"\",\"\",VLOOKUP($N14,INSCRITS!$D$4:$W$501,9,0))","v":"ASCE DINARD "},null,null,null,null,null,{"$f":"IF($V14=\"\",\"\",VLOOKUP($V14,INSCRITS!$D$4:$W$501,6,0))","v":""},{"$f":"IF($V14=\"\",\"\",VLOOKUP($V14,INSCRITS!$D$4:$W$501,7,0))","v":""},{"$f":"IF($V14=\"\",\"\",VLOOKUP($V14,INSCRITS!$D$4:$W$501,9,0))","v":""},null,null,null,null,193,{"$f":"IF($AD14=\"\",\"\",VLOOKUP($AD14,INSCRITS!$D$4:$W$501,6,0))","v":"MAILHÉ"},{"$f":"IF($AD14=\"\",\"\",VLOOKUP($AD14,INSCRITS!$D$4:$W$501,7,0))","v":"Loic"},{"$f":"IF($AD14=\"\",\"\",VLOOKUP($AD14,INSCRITS!$D$4:$W$501,9,0))","v":"MNSL"},null,8,10]
[null,null,null,{"$f":"IF($C15=\"\",\"\",VLOOKUP($C15,INSCRITS!$D$4:$W$501,6,0))","v":""},{"$f":"IF($C15=\"\",\"\",VLOOKUP($C15,INSCRITS!$D$4:$W$501,7,0))","v":""},{"$f":"IF($C15=\"\",\"\",VLOOKUP($C15,INSCRITS!$D$4:$W$501,9,0))","v":""},null,null,null,null,null,null,null,175,{"$f":"IF($N15=\"\",\"\",VLOOKUP($N15,INSCRITS!$D$4:$W$501,6,0))","v":"PHILIPPEAU"},{"$f":"IF($N15=\"\",\"\",VLOOKUP($N15,INSCRITS!$D$4:$W$501,7,0))","v":"Jodicael"},{"$f":"IF($N15=\"\",\"\",VLOOKUP($N15,INSCRITS!$D$4:$W$501,9,0))","v":"BEGLES"},null,null,null,"SERIE 2",null,{"$f":"IF($V15=\"\",\"\",VLOOKUP($V15,INSCRITS!$D$4:$W$501,6,0))","v":""},{"$f":"IF($V15=\"\",\"\",VLOOKUP($V15,INSCRITS!$D$4:$W$501,7,0))","v":""},{"$f":"IF($V15=\"\",\"\",VLOOKUP($V15,INSCRITS!$D$4:$W$501,9,0))","v":""},null,null,null,null,176,{"$f":"IF($AD15=\"\",\"\",VLOOKUP($AD15,INSCRITS!$D$4:$W$501,6,0))","v":"CALEY"},{"$f":"IF($AD15=\"\",\"\",VLOOKUP($AD15,INSCRITS!$D$4:$W$501,7,0))","v":"Simon"},{"$f":"IF($AD15=\"\",\"\",VLOOKUP($AD15,INSCRITS!$D$4:$W$501,9,0))","v":"Biarritz SC"},null,9,8]
[null,null,null,{"$f":"IF($C16=\"\",\"\",VLOOKUP($C16,INSCRITS!$D$4:$W$501,6,0))","v":""},{"$f":"IF($C16=\"\",\"\",VLOOKUP($C16,INSCRITS!$D$4:$W$501,7,0))","v":""},{"$f":"IF($C16=\"\",\"\",VLOOKUP($C16,INSCRITS!$D$4:$W$501,9,0))","v":""},null,null,null,null,null,null,null,170,{"$f":"IF($N16=\"\",\"\",VLOOKUP($N16,INSCRITS!$D$4:$W$501,6,0))","v":"RIGOT"},{"$f":"IF($N16=\"\",\"\",VLOOKUP($N16,INSCRITS!$D$4:$W$501,7,0))","v":"Quentin"},{"$f":"IF($N16=\"\",\"\",VLOOKUP($N16,INSCRITS!$D$4:$W$501,9,0))","v":"ASCE DINARD"},null,null,null,null,null,{"$f":"IF($V16=\"\",\"\",VLOOKUP($V16,INSCRITS!$D$4:$W$501,6,0))","v":""},{"$f":"IF($V16=\"\",\"\",VLOOKUP($V16,INSCRITS!$D$4:$W$501,7,0))","v":""},{"$f":"IF($V16=\"\",\"\",VLOOKUP($V16,INSCRITS!$D$4:$W$501,9,0))","v":""},null,null,null,null,196,{"$f":"IF($AD16=\"\",\"\",VLOOKUP($AD16,INSCRITS!$D$4:$W$501,6,0))","v":"ZAMBELLI"},{"$f":"IF($AD16=\"\",\"\",VLOOKUP($AD16,INSCRITS!$D$4:$W$501,7,0))","v":"Sylvain"},{"$f":"IF($AD16=\"\",\"\",VLOOKUP($AD16,INSCRITS!$D$4:$W$501,9,0))","v":"MNSL"},null,10,7]
[null,null,null,{"$f":"IF($C17=\"\",\"\",VLOOKUP($C17,INSCRITS!$D$4:$W$501,6,0))","v":""},{"$f":"IF($C17=\"\",\"\",VLOOKUP($C17,INSCRITS!$D$4:$W$501,7,0))","v":""},{"$f":"IF($C17=\"\",\"\",VLOOKUP($C17,INSCRITS!$D$4:$W$501,9,0))","v":""},null,null,null,null,null,null,null,173,{"$f":"IF($N17=\"\",\"\",VLOOKUP($N17,INSCRITS!$D$4:$W$501,6,0))","v":"FOS"},{"$f":"IF($N17=\"\",\"\",VLOOKUP($N17,INSCRITS!$D$4:$W$501,7,0))","v":"Robin"},{"$f":"IF($N17=\"\",\"\",VLOOKUP($N17,INSCRITS!$D$4:$W$501,9,0))","v":"BEGLES"},null,null,null,null,null,{"$f":"IF($V17=\"\",\"\",VLOOKUP($V17,INSCRITS!$D$4:$W$501,6,0))","v":""},{"$f":"IF($V17=\"\",\"\",VLOOKUP($V17,INSCRITS!$D$4:$W$501,7,0))","v":""},{"$f":"IF($V17=\"\",\"\",VLOOKUP($V17,INSCRITS!$D$4:$W$501,9,0))","v":""},null,null,null,null,175,{"$f":"IF($AD17=\"\",\"\",VLOOKUP($AD17,INSCRITS!$D$4:$W$501,6,0))","v":"PHILIPPEAU"},{"$f":"IF($AD17=\"\",\"\",VLOOKUP($AD17,INSCRITS!$D$4:$W$501,7,0))","v":"Jodicael"},{"$f":"IF($AD17=\"\",\"\",VLOOKUP($AD17,INSCRITS!$D$4:$W$501,9,0))","v":"BEGLES"},null,11,6]
[null,null,null,{"$f":"IF($C18=\"\",\"\",VLOOKUP($C18,INSCRITS!$D$4:$W$501,6,0))","v":""},{"$f":"IF($C18=\"\",\"\",VLOOKUP($C18,INSCRITS!$D$4:$W$501,7,0))","v":""},{"$f":"IF($C18=\"\",\"\",VLOOKUP($C18,INSCRITS!$D$4:$W$501,9,0))","v":""},null,null,null,null,null,null,null,180,{"$f":"IF($N18=\"\",\"\",VLOOKUP($N18,INSCRITS!$D$4:$W$501,6,0))","v":"DUSSES"},{"$f":"IF($N18=\"\",\"\",VLOOKUP($N18,INSCRITS!$D$4:$W$501,7,0))","v":"Sykvain"},{"$f":"IF($N18=\"\",\"\",VLOOKUP($N18,INSCRITS!$D$4:$W$501,9,0))","v":"Capbreton"},null,null,null,null,null,{"$f":"IF($V18=\"\",\"\",VLOOKUP($V18,INSCRITS!$D$4:$W$501,6,0))","v":""},{"$f":"IF($V18=\"\",\"\",VLOOKUP($V18,INSCRITS!$D$4:$W$501,7,0))","v":""},{"$f":"IF($V18=\"\",\"\",VLOOKUP($V18,INSCRITS!$D$4:$W$501,9,0))","v":""},null,null,null,null,188,{"$f":"IF($AD18=\"\",\"\",VLOOKUP($AD18,INSCRITS!$D$4:$W$501,6,0))","v":"FERRIER"},{"$f":"IF($AD18=\"\",\"\",VLOOKUP($AD18,INSCRITS!$D$4:$W$501,7,0))","v":"Paul"},{"$f":"IF($AD18=\"\",\"\",VLOOKUP($AD18,INSCRITS!$D$4:$W$501,9,0))","v":"HSC"},null,12,5]
[null,null,null,{"$f":"IF($C19=\"\",\"\",VLOOKUP($C19,INSCRITS!$D$4:$W$501,6,0))","v":""},{"$f":"IF($C19=\"\",\"\",VLOOKUP($C19,INSCRITS!$D$4:$W$501,7,0))","v":""},{"$f":"IF($C19=\"\",\"\",VLOOKUP($C19,INSCRITS!$D$4:$W$501,9,0))","v":""},null,null,null,null,null,null,null,167,{"$f":"IF($N19=\"\",\"\",VLOOKUP($N19,INSCRITS!$D$4:$W$501,6,0))","v":"HERVE"},{"$f":"IF($N19=\"\",\"\",VLOOKUP($N19,INSCRITS!$D$4:$W$501,7,0))","v":"Axel"},{"$f":"IF($N19=\"\",\"\",VLOOKUP($N19,INSCRITS!$D$4:$W$501,9,0))","v":"ASCE DINARD"},null,null,null,null,null,{"$f":"IF($V19=\"\",\"\",VLOOKUP($V19,INSCRITS!$D$4:$W$501,6,0))","v":""},{"$f":"IF($V19=\"\",\"\",VLOOKUP($V19,INSCRITS!$D$4:$W$501,7,0))","v":""},{"$f":"IF($V19=\"\",\"\",VLOOKUP($V19,INSCRITS!$D$4:$W$501,9,0))","v":""},null,null,null,null,166,{"$f":"IF($AD19=\"\",\"\",VLOOKUP($AD19,INSCRITS!$D$4:$W$501,6,0))","v":"DOLE"},{"$f":"IF($AD19=\"\",\"\",VLOOKUP($AD19,INSCRITS!$D$4:$W$501,7,0))","v":"François"},{"$f":"IF($AD19=\"\",\"\",VLOOKUP($AD19,INSCRITS!$D$4:$W$501,9,0))","v":"ASCE DINARD"},null,13,4]
[null,null,null,{"$f":"IF($C20=\"\",\"\",VLOOKUP($C20,INSCRITS!$D$4:$W$501,6,0))","v":""},{"$f":"IF($C20=\"\",\"\",VLOOKUP($C20,INSCRITS!$D$4:$W$501,7,0))","v":""},{"$f":"IF($C20=\"\",\"\",VLOOKUP($C20,INSCRITS!$D$4:$W$501,9,0))","v":""},null,null,null,null,null,null,null,182,{"$f":"IF($N20=\"\",\"\",VLOOKUP($N20,INSCRITS!$D$4:$W$501,6,0))","v":"DUBOIS CONSTANT"},{"$f":"IF($N20=\"\",\"\",VLOOKUP($N20,INSCRITS!$D$4:$W$501,7,0))","v":"Antoine"},{"$f":"IF($N20=\"\",\"\",VLOOKUP($N20,INSCRITS!$D$4:$W$501,9,0))","v":"EMULATION SAUVETAGE NATATION PERPIGNAN"},null,null,null,null,null,{"$f":"IF($V20=\"\",\"\",VLOOKUP($V20,INSCRITS!$D$4:$W$501,6,0))","v":""},{"$f":"IF($V20=\"\",\"\",VLOOKUP($V20,INSCRITS!$D$4:$W$501,7,0))","v":""},{"$f":"IF($V20=\"\",\"\",VLOOKUP($V20,INSCRITS!$D$4:$W$501,9,0))","v":""},null,null,null,null,170,{"$f":"IF($AD20=\"\",\"\",VLOOKUP($AD20,INSCRITS!$D$4:$W$501,6,0))","v":"RIGOT"},{"$f":"IF($AD20=\"\",\"\",VLOOKUP($AD20,INSCRITS!$D$4:$W$501,7,0))","v":"Quentin"},{"$f":"IF($AD20=\"\",\"\",VLOOKUP($AD20,INSCRITS!$D$4:$W$501,9,0))","v":"ASCE DINARD"},null,14,3]
[null,"SERIE 2",null,{"$f":"IF($C21=\"\",\"\",VLOOKUP($C21,INSCRITS!$D$4:$W$501,6,0))","v":""},{"$f":"IF($C21=\"\",\"\",VLOOKUP($C21,INSCRITS!$D$4:$W$501,7,0))","v":""},{"$f":"IF($C21=\"\",\"\",VLOOKUP($C21,INSCRITS!$D$4:$W$501,9,0))","v":""},null,null,null,null,null,null,null,184,{"$f":"IF($N21=\"\",\"\",VLOOKUP($N21,INSCRITS!$D$4:$W$501,6,0))","v":"BONNAFONT"},{"$f":"IF($N21=\"\",\"\",VLOOKUP($N21,INSCRITS!$D$4:$W$501,7,0))","v":"Charles"},{"$f":"IF($N21=\"\",\"\",VLOOKUP($N21,INSCRITS!$D$4:$W$501,9,0))","v":"ENA"},null,null,null,null,null,{"$f":"IF($V21=\"\",\"\",VLOOKUP($V21,INSCRITS!$D$4:$W$501,6,0))","v":""},{"$f":"IF($V21=\"\",\"\",VLOOKUP($V21,INSCRITS!$D$4:$W$501,7,0))","v":""},{"$f":"IF($V21=\"\",\"\",VLOOKUP($V21,INSCRITS!$D$4:$W$501,9,0))","v":""},null,null,null,null,181,{"$f":"IF($AD21=\"\",\"\",VLOOKUP($AD21,INSCRITS!$D$4:$W$501,6,0))","v":"GLIZE"},{"$f":"IF($AD21=\"\",\"\",VLOOKUP($AD21,INSCRITS!$D$4:$W$501,7,0))","v":"Corentin"},{"$f":"IF($AD21=\"\",\"\",VLOOKUP($AD21,INSCRITS!$D$4:$W$501,9,0))","v":"Capbreton"},null,15,2]
[null,null,null,{"$f":"IF($C22=\"\",\"\",VLOOKUP($C22,INSCRITS!$D$4:$W$501,6,0))","v":""},{"$f":"IF($C22=\"\",\"\",VLOOKUP($C22,INSCRITS!$D$4:$W$501,7,0))","v":""},{"$f":"IF($C22=\"\",\"\",VLOOKUP($C22,INSCRITS!$D$4:$W$501,9,0))","v":""},null,null,null,null,null,null,null,189,{"$f":"IF($N22=\"\",\"\",VLOOKUP($N22,INSCRITS!$D$4:$W$501,6,0))","v":"SOULE SUSBIELLE"},{"$f":"IF($N22=\"\",\"\",VLOOKUP($N22,INSCRITS!$D$4:$W$501,7,0))","v":"Xavier"},{"$f":"IF($N22=\"\",\"\",VLOOKUP($N22,INSCRITS!$D$4:$W$501,9,0))","v":"HSC"},null,null,null,null,null,{"$f":"IF($V22=\"\",\"\",VLOOKUP($V22,INSCRITS!$D$4:$W$501,6,0))","v":""},{"$f":"IF($V22=\"\",\"\",VLOOKUP($V22,INSCRITS!$D$4:$W$501,7,0))","v":""},{"$f":"IF($V22=\"\",\"\",VLOOKUP($V22,INSCRITS!$D$4:$W$501,9,0))","v":""},null,null,null,null,163,{"$f":"IF($AD22=\"\",\"\",VLOOKUP($AD22,INSCRITS!$D$4:$W$501,6,0))","v":"MARCO"},{"$f":"IF($AD22=\"\",\"\",VLOOKUP($AD22,INSCRITS!$D$4:$W$501,7,0))","v":"Clement"},{"$f":"IF($AD22=\"\",\"\",VLOOKUP($AD22,INSCRITS!$D$4:$W$501,9,0))","v":"AQUALOVE"},null,16,1]
[null,null,null,{"$f":"IF($C23=\"\",\"\",VLOOKUP($C23,INSCRITS!$D$4:$W$501,6,0))","v":""},{"$f":"IF($C23=\"\",\"\",VLOOKUP($C23,INSCRITS!$D$4:$W$501,7,0))","v":""},{"$f":"IF($C23=\"\",\"\",VLOOKUP($C23,INSCRITS!$D$4:$W$501,9,0))","v":""},null,null,null,null,null,null,null,191,{"$f":"IF($N23=\"\",\"\",VLOOKUP($N23,INSCRITS!$D$4:$W$501,6,0))","v":"DUBLINEAU"},{"$f":"IF($N23=\"\",\"\",VLOOKUP($N23,INSCRITS!$D$4:$W$501,7,0))","v":"Clément"},{"$f":"IF($N23=\"\",\"\",VLOOKUP($N23,INSCRITS!$D$4:$W$501,9,0))","v":"MIMIZAN SAUVETAGE"}]
[null,null,null,{"$f":"IF($C24=\"\",\"\",VLOOKUP($C24,INSCRITS!$D$4:$W$501,6,0))","v":""},{"$f":"IF($C24=\"\",\"\",VLOOKUP($C24,INSCRITS!$D$4:$W$501,7,0))","v":""},{"$f":"IF($C24=\"\",\"\",VLOOKUP($C24,INSCRITS!$D$4:$W$501,9,0))","v":""},null,null,null,null,null,null,"SERIE 2",163,{"$f":"IF($N24=\"\",\"\",VLOOKUP($N24,INSCRITS!$D$4:$W$501,6,0))","v":"MARCO"},{"$f":"IF($N24=\"\",\"\",VLOOKUP($N24,INSCRITS!$D$4:$W$501,7,0))","v":"Clement"},{"$f":"IF($N24=\"\",\"\",VLOOKUP($N24,INSCRITS!$D$4:$W$501,9,0))","v":"AQUALOVE"}]
[null,null,null,{"$f":"IF($C25=\"\",\"\",VLOOKUP($C25,INSCRITS!$D$4:$W$501,6,0))","v":""},{"$f":"IF($C25=\"\",\"\",VLOOKUP($C25,INSCRITS!$D$4:$W$501,7,0))","v":""},{"$f":"IF($C25=\"\",\"\",VLOOKUP($C25,INSCRITS!$D$4:$W$501,9,0))","v":""},null,null,null,null,null,null,null,186,{"$f":"IF($N25=\"\",\"\",VLOOKUP($N25,INSCRITS!$D$4:$W$501,6,0))","v":"CARISSAN"},{"$f":"IF($N25=\"\",\"\",VLOOKUP($N25,INSCRITS!$D$4:$W$501,7,0))","v":"Ludovic"},{"$f":"IF($N25=\"\",\"\",VLOOKUP($N25,INSCRITS!$D$4:$W$501,9,0))","v":"epstn"},null,null,null,null,null,null,null,null,null,null,null,null,"N°","NOM","Prénom","CLUB",null,"PLACE","PTS"]
[null,null,null,{"$f":"IF($C26=\"\",\"\",VLOOKUP($C26,INSCRITS!$D$4:$W$501,6,0))","v":""},{"$f":"IF($C26=\"\",\"\",VLOOKUP($C26,INSCRITS!$D$4:$W$501,7,0))","v":""},{"$f":"IF($C26=\"\",\"\",VLOOKUP($C26,INSCRITS!$D$4:$W$501,9,0))","v":""},null,null,null,null,null,null,null,174,{"$f":"IF($N26=\"\",\"\",VLOOKUP($N26,INSCRITS!$D$4:$W$501,6,0))","v":"HAZERA"},{"$f":"IF($N26=\"\",\"\",VLOOKUP($N26,INSCRITS!$D$4:$W$501,7,0))","v":"Olivier"},{"$f":"IF($N26=\"\",\"\",VLOOKUP($N26,INSCRITS!$D$4:$W$501,9,0))","v":"BEGLES"}]
[null,null,null,{"$f":"IF($C27=\"\",\"\",VLOOKUP($C27,INSCRITS!$D$4:$W$501,6,0))","v":""},{"$f":"IF($C27=\"\",\"\",VLOOKUP($C27,INSCRITS!$D$4:$W$501,7,0))","v":""},{"$f":"IF($C27=\"\",\"\",VLOOKUP($C27,INSCRITS!$D$4:$W$501,9,0))","v":""},null,null,null,null,null,null,null,176,{"$f":"IF($N27=\"\",\"\",VLOOKUP($N27,INSCRITS!$D$4:$W$501,6,0))","v":"CALEY"},{"$f":"IF($N27=\"\",\"\",VLOOKUP($N27,INSCRITS!$D$4:$W$501,7,0))","v":"Simon"},{"$f":"IF($N27=\"\",\"\",VLOOKUP($N27,INSCRITS!$D$4:$W$501,9,0))","v":"Biarritz SC"},null,null,null,null,null,null,null,null,null,null,null,"FINALE B",null,{"$f":"IF($AD27=\"\",\"\",VLOOKUP($AD27,INSCRITS!$D$4:$W$501,6,0))","v":""},{"$f":"IF($AD27=\"\",\"\",VLOOKUP($AD27,INSCRITS!$D$4:$W$501,7,0))","v":""},{"$f":"IF($AD27=\"\",\"\",VLOOKUP($AD27,INSCRITS!$D$4:$W$501,9,0))","v":""},null,null,{"$f":"IF(AI27=\"\",\"\",VLOOKUP(AI27,points,2))","v":""}]
[null,null,null,{"$f":"IF($C28=\"\",\"\",VLOOKUP($C28,INSCRITS!$D$4:$W$501,6,0))","v":""},{"$f":"IF($C28=\"\",\"\",VLOOKUP($C28,INSCRITS!$D$4:$W$501,7,0))","v":""},{"$f":"IF($C28=\"\",\"\",VLOOKUP($C28,INSCRITS!$D$4:$W$501,9,0))","v":""},null,null,null,null,null,null,null,166,{"$f":"IF($N28=\"\",\"\",VLOOKUP($N28,INSCRITS!$D$4:$W$501,6,0))","v":"DOLE"},{"$f":"IF($N28=\"\",\"\",VLOOKUP($N28,INSCRITS!$D$4:$W$501,7,0))","v":"François"},{"$f":"IF($N28=\"\",\"\",VLOOKUP($N28,INSCRITS!$D$4:$W$501,9,0))","v":"ASCE DINARD"},null,null,null,null,null,null,null,null,null,null,null,null,null,{"$f":"IF($AD28=\"\",\"\",VLOOKUP($AD28,INSCRITS!$D$4:$W$501,6,0))","v":""},{"$f":"IF($AD28=\"\",\"\",VLOOKUP($AD28,INSCRITS!$D$4:$W$501,7,0))","v":""},{"$f":"IF($AD28=\"\",\"\",VLOOKUP($AD28,INSCRITS!$D$4:$W$501,9,0))","v":""},null,null,""]
[null,null,null,{"$f":"IF($C29=\"\",\"\",VLOOKUP($C29,INSCRITS!$D$4:$W$501,6,0))","v":""},{"$f":"IF($C29=\"\",\"\",VLOOKUP($C29,INSCRITS!$D$4:$W$501,7,0))","v":""},{"$f":"IF($C29=\"\",\"\",VLOOKUP($C29,INSCRITS!$D$4:$W$501,9,0))","v":""},null,null,null,null,null,null,null,169,{"$f":"IF($N29=\"\",\"\",VLOOKUP($N29,INSCRITS!$D$4:$W$501,6,0))","v":"POUTRIQUET"},{"$f":"IF($N29=\"\",\"\",VLOOKUP($N29,INSCRITS!$D$4:$W$501,7,0))","v":"Maxime"},{"$f":"IF($N29=\"\",\"\",VLOOKUP($N29,INSCRITS!$D$4:$W$501,9,0))","v":"ASCE DINARD"},null,null,null,null,null,null,null,null,null,null,null,null,null,{"$f":"IF($AD29=\"\",\"\",VLOOKUP($AD29,INSCRITS!$D$4:$W$501,6,0))","v":""},{"$f":"IF($AD29=\"\",\"\",VLOOKUP($AD29,INSCRITS!$D$4:$W$501,7,0))","v":""},{"$f":"IF($AD29=\"\",\"\",VLOOKUP($AD29,INSCRITS!$D$4:$W$501,9,0))","v":""},null,null,""]
[null,null,null,{"$f":"IF($C30=\"\",\"\",VLOOKUP($C30,INSCRITS!$D$4:$W$501,6,0))","v":""},{"$f":"IF($C30=\"\",\"\",VLOOKUP($C30,INSCRITS!$D$4:$W$501,7,0))","v":""},{"$f":"IF($C30=\"\",\"\",VLOOKUP($C30,INSCRITS!$D$4:$W$501,9,0))","v":""},null,null,null,null,null,null,null,162,{"$f":"IF($N30=\"\",\"\",VLOOKUP($N30,INSCRITS!$D$4:$W$501,6,0))","v":"LATAPIE"},{"$f":"IF($N30=\"\",\"\",VLOOKUP($N30,INSCRITS!$D$4:$W$501,7,0))","v":"Robin"},{"$f":"IF($N30=\"\",\"\",VLOOKUP($N30,INSCRITS!$D$4:$W$501,9,0))","v":"AQUALOVE"},null,null,null,null,null,null,null,null,null,null,null,null,null,{"$f":"IF($AD30=\"\",\"\",VLOOKUP($AD30,INSCRITS!$D$4:$W$501,6,0))","v":""},{"$f":"IF($AD30=\"\",\"\",VLOOKUP($AD30,INSCRITS!$D$4:$W$501,7,0))","v":""},{"$f":"IF($AD30=\"\",\"\",VLOOKUP($AD30,INSCRITS!$D$4:$W$501,9,0))","v":""},null,null,""]
[null,null,null,{"$f":"IF($C31=\"\",\"\",VLOOKUP($C31,INSCRITS!$D$4:$W$501,6,0))","v":""},{"$f":"IF($C31=\"\",\"\",VLOOKUP($C31,INSCRITS!$D$4:$W$501,7,0))","v":""},{"$f":"IF($C31=\"\",\"\",VLOOKUP($C31,INSCRITS!$D$4:$W$501,9,0))","v":""},null,null,null,null,null,null,null,194,{"$f":"IF($N31=\"\",\"\",VLOOKUP($N31,INSCRITS!$D$4:$W$501,6,0))","v":"NOGUES"},{"$f":"IF($N31=\"\",\"\",VLOOKUP($N31,INSCRITS!$D$4:$W$501,7,0))","v":"Remi"},{"$f":"IF($N31=\"\",\"\",VLOOKUP($N31,INSCRITS!$D$4:$W$501,9,0))","v":"MNSL"},null,null,null,null,null,null,null,null,null,null,null,null,null,{"$f":"IF($AD31=\"\",\"\",VLOOKUP($AD31,INSCRITS!$D$4:$W$501,6,0))","v":""},{"$f":"IF($AD31=\"\",\"\",VLOOKUP($AD31,INSCRITS!$D$4:$W$501,7,0))","v":""},{"$f":"IF($AD31=\"\",\"\",VLOOKUP($AD31,INSCRITS!$D$4:$W$501,9,0))","v":""},null,null,""]
[null,null,null,{"$f":"IF($C32=\"\",\"\",VLOOKUP($C32,INSCRITS!$D$4:$W$501,6,0))","v":""},{"$f":"IF($C32=\"\",\"\",VLOOKUP($C32,INSCRITS!$D$4:$W$501,7,0))","v":""},{"$f":"IF($C32=\"\",\"\",VLOOKUP($C32,INSCRITS!$D$4:$W$501,9,0))","v":""},null,null,null,null,null,null,null,161,{"$f":"IF($N32=\"\",\"\",VLOOKUP($N32,INSCRITS!$D$4:$W$501,6,0))","v":"THEO"},{"$f":"IF($N32=\"\",\"\",VLOOKUP($N32,INSCRITS!$D$4:$W$501,7,0))","v":"Valentin"},{"$f":"IF($N32=\"\",\"\",VLOOKUP($N32,INSCRITS!$D$4:$W$501,9,0))","v":"Amiens sauvetage"},null,null,null,null,null,null,null,null,null,null,null,null,null,{"$f":"IF($AD32=\"\",\"\",VLOOKUP($AD32,INSCRITS!$D$4:$W$501,6,0))","v":""},{"$f":"IF($AD32=\"\",\"\",VLOOKUP($AD32,INSCRITS!$D$4:$W$501,7,0))","v":""},{"$f":"IF($AD32=\"\",\"\",VLOOKUP($AD32,INSCRITS!$D$4:$W$501,9,0))","v":""},null,null,""]
[null,null,null,{"$f":"IF($C33=\"\",\"\",VLOOKUP($C33,INSCRITS!$D$4:$W$501,6,0))","v":""},{"$f":"IF($C33=\"\",\"\",VLOOKUP($C33,INSCRITS!$D$4:$W$501,7,0))","v":""},{"$f":"IF($C33=\"\",\"\",VLOOKUP($C33,INSCRITS!$D$4:$W$501,9,0))","v":""},null,null,null,null,null,null,null,197,{"$f":"IF($N33=\"\",\"\",VLOOKUP($N33,INSCRITS!$D$4:$W$501,6,0))","v":"RUAULT"},{"$f":"IF($N33=\"\",\"\",VLOOKUP($N33,INSCRITS!$D$4:$W$501,7,0))","v":"Briag"},{"$f":"IF($N33=\"\",\"\",VLOOKUP($N33,INSCRITS!$D$4:$W$501,9,0))","v":"RENNES BREIZH SAUVETAGE COTIER"},null,null,null,null,null,null,null,null,null,null,null,null,null,{"$f":"IF($AD33=\"\",\"\",VLOOKUP($AD33,INSCRITS!$D$4:$W$501,6,0))","v":""},{"$f":"IF($AD33=\"\",\"\",VLOOKUP($AD33,INSCRITS!$D$4:$W$501,7,0))","v":""},{"$f":"IF($AD33=\"\",\"\",VLOOKUP($AD33,INSCRITS!$D$4:$W$501,9,0))","v":""},null,null,""]
[null,null,null,{"$f":"IF($C34=\"\",\"\",VLOOKUP($C34,INSCRITS!$D$4:$W$501,6,0))","v":""},{"$f":"IF($C34=\"\",\"\",VLOOKUP($C34,INSCRITS!$D$4:$W$501,7,0))","v":""},{"$f":"IF($C34=\"\",\"\",VLOOKUP($C34,INSCRITS!$D$4:$W$501,9,0))","v":""},null,null,null,null,null,null,null,165,{"$f":"IF($N34=\"\",\"\",VLOOKUP($N34,INSCRITS!$D$4:$W$501,6,0))","v":"HAREL"},{"$f":"IF($N34=\"\",\"\",VLOOKUP($N34,INSCRITS!$D$4:$W$501,7,0))","v":"Romain"},{"$f":"IF($N34=\"\",\"\",VLOOKUP($N34,INSCRITS!$D$4:$W$501,9,0))","v":"ASCA44"},null,null,null,null,null,null,null,null,null,null,null,null,null,{"$f":"IF($AD34=\"\",\"\",VLOOKUP($AD34,INSCRITS!$D$4:$W$501,6,0))","v":""},{"$f":"IF($AD34=\"\",\"\",VLOOKUP($AD34,INSCRITS!$D$4:$W$501,7,0))","v":""},{"$f":"IF($AD34=\"\",\"\",VLOOKUP($AD34,INSCRITS!$D$4:$W$501,9,0))","v":""},null,null,""]
[null,"SERIE 3",null,{"$f":"IF($C35=\"\",\"\",VLOOKUP($C35,INSCRITS!$D$4:$W$501,6,0))","v":""},{"$f":"IF($C35=\"\",\"\",VLOOKUP($C35,INSCRITS!$D$4:$W$501,7,0))","v":""},{"$f":"IF($C35=\"\",\"\",VLOOKUP($C35,INSCRITS!$D$4:$W$501,9,0))","v":""},null,null,null,null,null,null,null,187,{"$f":"IF($N35=\"\",\"\",VLOOKUP($N35,INSCRITS!$D$4:$W$501,6,0))","v":"DEHEZ"},{"$f":"IF($N35=\"\",\"\",VLOOKUP($N35,INSCRITS!$D$4:$W$501,7,0))","v":"Rémy"},{"$f":"IF($N35=\"\",\"\",VLOOKUP($N35,INSCRITS!$D$4:$W$501,9,0))","v":"HSC"},null,null,null,null,null,null,null,null,null,null,null,null,null,{"$f":"IF($AD35=\"\",\"\",VLOOKUP($AD35,INSCRITS!$D$4:$W$501,6,0))","v":""},{"$f":"IF($AD35=\"\",\"\",VLOOKUP($AD35,INSCRITS!$D$4:$W$501,7,0))","v":""},{"$f":"IF($AD35=\"\",\"\",VLOOKUP($AD35,INSCRITS!$D$4:$W$501,9,0))","v":""},null,null,""]
[null,null,null,{"$f":"IF($C36=\"\",\"\",VLOOKUP($C36,INSCRITS!$D$4:$W$501,6,0))","v":""},{"$f":"IF($C36=\"\",\"\",VLOOKUP($C36,INSCRITS!$D$4:$W$501,7,0))","v":""},{"$f":"IF($C36=\"\",\"\",VLOOKUP($C36,INSCRITS!$D$4:$W$501,9,0))","v":""},null,null,null,null,null,null,null,164,{"$f":"IF($N36=\"\",\"\",VLOOKUP($N36,INSCRITS!$D$4:$W$501,6,0))","v":{"$error":"#N/A"}},{"$f":"IF($N36=\"\",\"\",VLOOKUP($N36,INSCRITS!$D$4:$W$501,7,0))","v":{"$error":"#N/A"}},{"$f":"IF($N36=\"\",\"\",VLOOKUP($N36,INSCRITS!$D$4:$W$501,9,0))","v":{"$error":"#N/A"}},null,null,null,null,null,null,null,null,null,null,null,null,null,{"$f":"IF($AD36=\"\",\"\",VLOOKUP($AD36,INSCRITS!$D$4:$W$501,6,0))","v":""},{"$f":"IF($AD36=\"\",\"\",VLOOKUP($AD36,INSCRITS!$D$4:$W$501,7,0))","v":""},{"$f":"IF($AD36=\"\",\"\",VLOOKUP($AD36,INSCRITS!$D$4:$W$501,9,0))","v":""},null,null,""]
[null,null,null,{"$f":"IF($C37=\"\",\"\",VLOOKUP($C37,INSCRITS!$D$4:$W$501,6,0))","v":""},{"$f":"IF($C37=\"\",\"\",VLOOKUP($C37,INSCRITS!$D$4:$W$501,7,0))","v":""},{"$f":"IF($C37=\"\",\"\",VLOOKUP($C37,INSCRITS!$D$4:$W$501,9,0))","v":""},null,null,null,null,null,null,null,196,{"$f":"IF($N37=\"\",\"\",VLOOKUP($N37,INSCRITS!$D$4:$W$501,6,0))","v":"ZAMBELLI"},{"$f":"IF($N37=\"\",\"\",VLOOKUP($N37,INSCRITS!$D$4:$W$501,7,0))","v":"Sylvain"},{"$f":"IF($N37=\"\",\"\",VLOOKUP($N37,INSCRITS!$D$4:$W$501,9,0))","v":"MNSL"},null,null,null,null,null,null,null,null,null,null,null,null,null,{"$f":"IF($AD37=\"\",\"\",VLOOKUP($AD37,INSCRITS!$D$4:$W$501,6,0))","v":""},{"$f":"IF($AD37=\"\",\"\",VLOOKUP($AD37,INSCRITS!$D$4:$W$501,7,0))","v":""},{"$f":"IF($AD37=\"\",\"\",VLOOKUP($AD37,INSCRITS!$D$4:$W$501,9,0))","v":""},null,null,""]
[null,null,null,{"$f":"IF($C38=\"\",\"\",VLOOKUP($C38,INSCRITS!$D$4:$W$501,6,0))","v":""},{"$f":"IF($C38=\"\",\"\",VLOOKUP($C38,INSCRITS!$D$4:$W$501,7,0))","v":""},{"$f":"IF($C38=\"\",\"\",VLOOKUP($C38,INSCRITS!$D$4:$W$501,9,0))","v":""},null,null,null,null,null,null,null,188,{"$f":"IF($N38=\"\",\"\",VLOOKUP($N38,INSCRITS!$D$4:$W$501,6,0))","v":"FERRIER"},{"$f":"IF($N38=\"\",\"\",VLOOKUP($N38,INSCRITS!$D$4:$W$501,7,0))","v":"Paul"},{"$f":"IF($N38=\"\",\"\",VLOOKUP($N38,INSCRITS!$D$4:$W$501,9,0))","v":"HSC"},null,null,null,null,null,null,null,null,null,null,null,null,null,{"$f":"IF($AD38=\"\",\"\",VLOOKUP($AD38,INSCRITS!$D$4:$W$501,6,0))","v":""},{"$f":"IF($AD38=\"\",\"\",VLOOKUP($AD38,INSCRITS!$D$4:$W$501,7,0))","v":""},{"$f":"IF($AD38=\"\",\"\",VLOOKUP($AD38,INSCRITS!$D$4:$W$501,9,0))","v":""},null,null,""]
[null,null,null,{"$f":"IF($C39=\"\",\"\",VLOOKUP($C39,INSCRITS!$D$4:$W$501,6,0))","v":""},{"$f":"IF($C39=\"\",\"\",VLOOKUP($C39,INSCRITS!$D$4:$W$501,7,0))","v":""},{"$f":"IF($C39=\"\",\"\",VLOOKUP($C39,INSCRITS!$D$4:$W$501,9,0))","v":""},null,null,null,null,null,null,null,171,{"$f":"IF($N39=\"\",\"\",VLOOKUP($N39,INSCRITS!$D$4:$W$501,6,0))","v":"DABCHY"},{"$f":"IF($N39=\"\",\"\",VLOOKUP($N39,INSCRITS!$D$4:$W$501,7,0))","v":"Yassine"},{"$f":"IF($N39=\"\",\"\",VLOOKUP($N39,INSCRITS!$D$4:$W$501,9,0))","v":"ASCE DINARD "},null,null,null,null,null,null,null,null,null,null,null,null,null,{"$f":"IF($AD39=\"\",\"\",VLOOKUP($AD39,INSCRITS!$D$4:$W$501,6,0))","v":""},{"$f":"IF($AD39=\"\",\"\",VLOOKUP($AD39,INSCRITS!$D$4:$W$501,7,0))","v":""},{"$f":"IF($AD39=\"\",\"\",VLOOKUP($AD39,INSCRITS!$D$4:$W$501,9,0))","v":""},null,null,""]
[null,null,null,{"$f":"IF($C40=\"\",\"\",VLOOKUP($C40,INSCRITS!$D$4:$W$501,6,0))","v":""},{"$f":"IF($C40=\"\",\"\",VLOOKUP($C40,INSCRITS!$D$4:$W$501,7,0))","v":""},{"$f":"IF($C40=\"\",\"\",VLOOKUP($C40,INSCRITS!$D$4:$W$501,9,0))","v":""},null,null,null,null,null,null,null,197,{"$f":"IF($N40=\"\",\"\",VLOOKUP($N40,INSCRITS!$D$4:$W$501,6,0))","v":"RUAULT"},{"$f":"IF($N40=\"\",\"\",VLOOKUP($N40,INSCRITS!$D$4:$W$501,7,0))","v":"Briag"},{"$f":"IF($N40=\"\",\"\",VLOOKUP($N40,INSCRITS!$D$4:$W$501,9,0))","v":"RENNES BREIZH SAUVETAGE COTIER"},null,null,null,null,null,null,null,null,null,null,null,null,null,{"$f":"IF($AD40=\"\",\"\",VLOOKUP($AD40,INSCRITS!$D$4:$W$501,6,0))","v":""},{"$f":"IF($AD40=\"\",\"\",VLOOKUP($AD40,INSCRITS!$D$4:$W$501,7,0))","v":""},{"$f":"IF($AD40=\"\",\"\",VLOOKUP($AD40,INSCRITS!$D$4:$W$501,9,0))","v":""},null,null,""]
[null,null,null,{"$f":"IF($C41=\"\",\"\",VLOOKUP($C41,INSCRITS!$D$4:$W$501,6,0))","v":""},{"$f":"IF($C41=\"\",\"\",VLOOKUP($C41,INSCRITS!$D$4:$W$501,7,0))","v":""},{"$f":"IF($C41=\"\",\"\",VLOOKUP($C41,INSCRITS!$D$4:$W$501,9,0))","v":""},null,null,null,null,null,null,null,null,{"$f":"IF($N41=\"\",\"\",VLOOKUP($N41,INSCRITS!$D$4:$W$501,6,0))","v":""},{"$f":"IF($N41=\"\",\"\",VLOOKUP($N41,INSCRITS!$D$4:$W$501,7,0))","v":""},{"$f":"IF($N41=\"\",\"\",VLOOKUP($N41,INSCRITS!$D$4:$W$501,9,0))","v":""},null,null,null,null,null,null,null,null,null,null,null,null,null,{"$f":"IF($AD41=\"\",\"\",VLOOKUP($AD41,INSCRITS!$D$4:$W$501,6,0))","v":""},{"$f":"IF($AD41=\"\",\"\",VLOOKUP($AD41,INSCRITS!$D$4:$W$501,7,0))","v":""},{"$f":"IF($AD41=\"\",\"\",VLOOKUP($AD41,INSCRITS!$D$4:$W$501,9,0))","v":""},null,null,""]
[null,null,null,{"$f":"IF($C42=\"\",\"\",VLOOKUP($C42,INSCRITS!$D$4:$W$501,6,0))","v":""},{"$f":"IF($C42=\"\",\"\",VLOOKUP($C42,INSCRITS!$D$4:$W$501,7,0))","v":""},{"$f":"IF($C42=\"\",\"\",VLOOKUP($C42,INSCRITS!$D$4:$W$501,9,0))","v":""},null,null,null,null,null,null,null,null,{"$f":"IF($N42=\"\",\"\",VLOOKUP($N42,INSCRITS!$D$4:$W$501,6,0))","v":""},{"$f":"IF($N42=\"\",\"\",VLOOKUP($N42,INSCRITS!$D$4:$W$501,7,0))","v":""},{"$f":"IF($N42=\"\",\"\",VLOOKUP($N42,INSCRITS!$D$4:$W$501,9,0))","v":""},null,null,null,null,null,null,null,null,null,null,null,null,null,{"$f":"IF($AD42=\"\",\"\",VLOOKUP($AD42,INSCRITS!$D$4:$W$501,6,0))","v":""},{"$f":"IF($AD42=\"\",\"\",VLOOKUP($AD42,INSCRITS!$D$4:$W$501,7,0))","v":""},{"$f":"IF($AD42=\"\",\"\",VLOOKUP($AD42,INSCRITS!$D$4:$W$501,9,0))","v":""},null,null,""]
[null,null,null,{"$f":"IF($C43=\"\",\"\",VLOOKUP($C43,INSCRITS!$D$4:$W$501,6,0))","v":""},{"$f":"IF($C43=\"\",\"\",VLOOKUP($C43,INSCRITS!$D$4:$W$501,7,0))","v":""},{"$f":"IF($C43=\"\",\"\",VLOOKUP($C43,INSCRITS!$D$4:$W$501,9,0))","v":""},null,null,null,null,null,null,null,null,{"$f":"IF($N43=\"\",\"\",VLOOKUP($N43,INSCRITS!$D$4:$W$501,6,0))","v":""},{"$f":"IF($N43=\"\",\"\",VLOOKUP($N43,INSCRITS!$D$4:$W$501,7,0))","v":""},{"$f":"IF($N43=\"\",\"\",VLOOKUP($N43,INSCRITS!$D$4:$W$501,9,0))","v":""}]
[null,null,null,{"$f":"IF($C44=\"\",\"\",VLOOKUP($C44,INSCRITS!$D$4:$W$501,6,0))","v":""},{"$f":"IF($C44=\"\",\"\",VLOOKUP($C44,INSCRITS!$D$4:$W$501,7,0))","v":""},{"$f":"IF($C44=\"\",\"\",VLOOKUP($C44,INSCRITS!$D$4:$W$501,9,0))","v":""},null,null,null,null,null,null,null,null,{"$f":"IF($N44=\"\",\"\",VLOOKUP($N44,INSCRITS!$D$4:$W$501,6,0))","v":""},{"$f":"IF($N44=\"\",\"\",VLOOKUP($N44,INSCRITS!$D$4:$W$501,7,0))","v":""},{"$f":"IF($N44=\"\",\"\",VLOOKUP($N44,INSCRITS!$D$4:$W$501,9,0))","v":""}]
[null,null,null,{"$f":"IF($C45=\"\",\"\",VLOOKUP($C45,INSCRITS!$D$4:$W$501,6,0))","v":""},{"$f":"IF($C45=\"\",\"\",VLOOKUP($C45,INSCRITS!$D$4:$W$501,7,0))","v":""},{"$f":"IF($C45=\"\",\"\",VLOOKUP($C45,INSCRITS!$D$4:$W$501,9,0))","v":""},null,null,null,null,null,null,null,null,{"$f":"IF($N45=\"\",\"\",VLOOKUP($N45,INSCRITS!$D$4:$W$501,6,0))","v":""},{"$f":"IF($N45=\"\",\"\",VLOOKUP($N45,INSCRITS!$D$4:$W$501,7,0))","v":""},{"$f":"IF($N45=\"\",\"\",VLOOKUP($N45,INSCRITS!$D$4:$W$501,9,0))","v":""}]
[null,null,null,{"$f":"IF($C46=\"\",\"\",VLOOKUP($C46,INSCRITS!$D$4:$W$501,6,0))","v":""},{"$f":"IF($C46=\"\",\"\",VLOOKUP($C46,INSCRITS!$D$4:$W$501,7,0))","v":""},{"$f":"IF($C46=\"\",\"\",VLOOKUP($C46,INSCRITS!$D$4:$W$501,9,0))","v":""},null,null,null,null,null,null,null,null,{"$f":"IF($N46=\"\",\"\",VLOOKUP($N46,INSCRITS!$D$4:$W$501,6,0))","v":""},{"$f":"IF($N46=\"\",\"\",VLOOKUP($N46,INSCRITS!$D$4:$W$501,7,0))","v":""},{"$f":"IF($N46=\"\",\"\",VLOOKUP($N46,INSCRITS!$D$4:$W$501,9,0))","v":""}]
[null,null,null,{"$f":"IF($C47=\"\",\"\",VLOOKUP($C47,INSCRITS!$D$4:$W$501,6,0))","v":""},{"$f":"IF($C47=\"\",\"\",VLOOKUP($C47,INSCRITS!$D$4:$W$501,7,0))","v":""},{"$f":"IF($C47=\"\",\"\",VLOOKUP($C47,INSCRITS!$D$4:$W$501,9,0))","v":""},null,null,null,null,null,null,null,null,{"$f":"IF($N47=\"\",\"\",VLOOKUP($N47,INSCRITS!$D$4:$W$501,6,0))","v":""},{"$f":"IF($N47=\"\",\"\",VLOOKUP($N47,INSCRITS!$D$4:$W$501,7,0))","v":""},{"$f":"IF($N47=\"\",\"\",VLOOKUP($N47,INSCRITS!$D$4:$W$501,9,0))","v":""}]
[null,null,null,{"$f":"IF($C48=\"\",\"\",VLOOKUP($C48,INSCRITS!$D$4:$W$501,6,0))","v":""},{"$f":"IF($C48=\"\",\"\",VLOOKUP($C48,INSCRITS!$D$4:$W$501,7,0))","v":""},{"$f":"IF($C48=\"\",\"\",VLOOKUP($C48,INSCRITS!$D$4:$W$501,9,0))","v":""},null,null,null,null,null,null,null,null,{"$f":"IF($N48=\"\",\"\",VLOOKUP($N48,INSCRITS!$D$4:$W$501,6,0))","v":""},{"$f":"IF($N48=\"\",\"\",VLOOKUP($N48,INSCRITS!$D$4:$W$501,7,0))","v":""},{"$f":"IF($N48=\"\",\"\",VLOOKUP($N48,INSCRITS!$D$4:$W$501,9,0))","v":""}]
[null,"SERIE 4",null,{"$f":"IF($C49=\"\",\"\",VLOOKUP($C49,INSCRITS!$D$4:$W$501,6,0))","v":""},{"$f":"IF($C49=\"\",\"\",VLOOKUP($C49,INSCRITS!$D$4:$W$501,7,0))","v":""},{"$f":"IF($C49=\"\",\"\",VLOOKUP($C49,INSCRITS!$D$4:$W$501,9,0))","v":""},null,null,null,null,null,null,null,null,{"$f":"IF($N49=\"\",\"\",VLOOKUP($N49,INSCRITS!$D$4:$W$501,6,0))","v":""},{"$f":"IF($N49=\"\",\"\",VLOOKUP($N49,INSCRITS!$D$4:$W$501,7,0))","v":""},{"$f":"IF($N49=\"\",\"\",VLOOKUP($N49,INSCRITS!$D$4:$W$501,9,0))","v":""}]
[null,null,null,{"$f":"IF($C50=\"\",\"\",VLOOKUP($C50,INSCRITS!$D$4:$W$501,6,0))","v":""},{"$f":"IF($C50=\"\",\"\",VLOOKUP($C50,INSCRITS!$D$4:$W$501,7,0))","v":""},{"$f":"IF($C50=\"\",\"\",VLOOKUP($C50,INSCRITS!$D$4:$W$501,9,0))","v":""},null,null,null,null,null,null,null,null,{"$f":"IF($N50=\"\",\"\",VLOOKUP($N50,INSCRITS!$D$4:$W$501,6,0))","v":""},{"$f":"IF($N50=\"\",\"\",VLOOKUP($N50,INSCRITS!$D$4:$W$501,7,0))","v":""},{"$f":"IF($N50=\"\",\"\",VLOOKUP($N50,INSCRITS!$D$4:$W$501,9,0))","v":""}]
[null,null,null,{"$f":"IF($C51=\"\",\"\",VLOOKUP($C51,INSCRITS!$D$4:$W$501,6,0))","v":""},{"$f":"IF($C51=\"\",\"\",VLOOKUP($C51,INSCRITS!$D$4:$W$501,7,0))","v":""},{"$f":"IF($C51=\"\",\"\",VLOOKUP($C51,INSCRITS!$D$4:$W$501,9,0))","v":""},null,null,null,null,null,null,null,null,{"$f":"IF($N51=\"\",\"\",VLOOKUP($N51,INSCRITS!$D$4:$W$501,6,0))","v":""},{"$f":"IF($N51=\"\",\"\",VLOOKUP($N51,INSCRITS!$D$4:$W$501,7,0))","v":""},{"$f":"IF($N51=\"\",\"\",VLOOKUP($N51,INSCRITS!$D$4:$W$501,9,0))","v":""}]
[null,null,null,{"$f":"IF($C52=\"\",\"\",VLOOKUP($C52,INSCRITS!$D$4:$W$501,6,0))","v":""},{"$f":"IF($C52=\"\",\"\",VLOOKUP($C52,INSCRITS!$D$4:$W$501,7,0))","v":""},{"$f":"IF($C52=\"\",\"\",VLOOKUP($C52,INSCRITS!$D$4:$W$501,9,0))","v":""},null,null,null,null,null,null,null,null,{"$f":"IF($N52=\"\",\"\",VLOOKUP($N52,INSCRITS!$D$4:$W$501,6,0))","v":""},{"$f":"IF($N52=\"\",\"\",VLOOKUP($N52,INSCRITS!$D$4:$W$501,7,0))","v":""},{"$f":"IF($N52=\"\",\"\",VLOOKUP($N52,INSCRITS!$D$4:$W$501,9,0))","v":""}]
[null,null,null,{"$f":"IF($C53=\"\",\"\",VLOOKUP($C53,INSCRITS!$D$4:$W$501,6,0))","v":""},{"$f":"IF($C53=\"\",\"\",VLOOKUP($C53,INSCRITS!$D$4:$W$501,7,0))","v":""},{"$f":"IF($C53=\"\",\"\",VLOOKUP($C53,INSCRITS!$D$4:$W$501,9,0))","v":""},null,null,null,null,null,null,null,null,{"$f":"IF($N53=\"\",\"\",VLOOKUP($N53,INSCRITS!$D$4:$W$501,6,0))","v":""},{"$f":"IF($N53=\"\",\"\",VLOOKUP($N53,INSCRITS!$D$4:$W$501,7,0))","v":""},{"$f":"IF($N53=\"\",\"\",VLOOKUP($N53,INSCRITS!$D$4:$W$501,9,0))","v":""}]
[null,null,null,{"$f":"IF($C54=\"\",\"\",VLOOKUP($C54,INSCRITS!$D$4:$W$501,6,0))","v":""},{"$f":"IF($C54=\"\",\"\",VLOOKUP($C54,INSCRITS!$D$4:$W$501,7,0))","v":""},{"$f":"IF($C54=\"\",\"\",VLOOKUP($C54,INSCRITS!$D$4:$W$501,9,0))","v":""},null,null,null,null,null,null,null,null,{"$f":"IF($N54=\"\",\"\",VLOOKUP($N54,INSCRITS!$D$4:$W$501,6,0))","v":""},{"$f":"IF($N54=\"\",\"\",VLOOKUP($N54,INSCRITS!$D$4:$W$501,7,0))","v":""},{"$f":"IF($N54=\"\",\"\",VLOOKUP($N54,INSCRITS!$D$4:$W$501,9,0))","v":""}]
[null,null,null,{"$f":"IF($C55=\"\",\"\",VLOOKUP($C55,INSCRITS!$D$4:$W$501,6,0))","v":""},{"$f":"IF($C55=\"\",\"\",VLOOKUP($C55,INSCRITS!$D$4:$W$501,7,0))","v":""},{"$f":"IF($C55=\"\",\"\",VLOOKUP($C55,INSCRITS!$D$4:$W$501,9,0))","v":""},null,null,null,null,null,null,"SERIE 4",null,{"$f":"IF($N55=\"\",\"\",VLOOKUP($N55,INSCRITS!$D$4:$W$501,6,0))","v":""},{"$f":"IF($N55=\"\",\"\",VLOOKUP($N55,INSCRITS!$D$4:$W$501,7,0))","v":""},{"$f":"IF($N55=\"\",\"\",VLOOKUP($N55,INSCRITS!$D$4:$W$501,9,0))","v":""}]
[null,null,null,{"$f":"IF($C56=\"\",\"\",VLOOKUP($C56,INSCRITS!$D$4:$W$501,6,0))","v":""},{"$f":"IF($C56=\"\",\"\",VLOOKUP($C56,INSCRITS!$D$4:$W$501,7,0))","v":""},{"$f":"IF($C56=\"\",\"\",VLOOKUP($C56,INSCRITS!$D$4:$W$501,9,0))","v":""},null,null,null,null,null,null,null,null,{"$f":"IF($N56=\"\",\"\",VLOOKUP($N56,INSCRITS!$D$4:$W$501,6,0))","v":""},{"$f":"IF($N56=\"\",\"\",VLOOKUP($N56,INSCRITS!$D$4:$W$501,7,0))","v":""},{"$f":"IF($N56=\"\",\"\",VLOOKUP($N56,INSCRITS!$D$4:$W$501,9,0))","v":""}]
[null,null,null,{"$f":"IF($C57=\"\",\"\",VLOOKUP($C57,INSCRITS!$D$4:$W$501,6,0))","v":""},{"$f":"IF($C57=\"\",\"\",VLOOKUP($C57,INSCRITS!$D$4:$W$501,7,0))","v":""},{"$f":"IF($C57=\"\",\"\",VLOOKUP($C57,INSCRITS!$D$4:$W$501,9,0))","v":""},null,null,null,null,null,null,null,null,{"$f":"IF($N57=\"\",\"\",VLOOKUP($N57,INSCRITS!$D$4:$W$501,6,0))","v":""},{"$f":"IF($N57=\"\",\"\",VLOOKUP($N57,INSCRITS!$D$4:$W$501,7,0))","v":""},{"$f":"IF($N57=\"\",\"\",VLOOKUP($N57,INSCRITS!$D$4:$W$501,9,0))","v":""}]
[null,null,null,{"$f":"IF($C58=\"\",\"\",VLOOKUP($C58,INSCRITS!$D$4:$W$501,6,0))","v":""},{"$f":"IF($C58=\"\",\"\",VLOOKUP($C58,INSCRITS!$D$4:$W$501,7,0))","v":""},{"$f":"IF($C58=\"\",\"\",VLOOKUP($C58,INSCRITS!$D$4:$W$501,9,0))","v":""},null,null,null,null,null,null,null,null,{"$f":"IF($N58=\"\",\"\",VLOOKUP($N58,INSCRITS!$D$4:$W$501,6,0))","v":""},{"$f":"IF($N58=\"\",\"\",VLOOKUP($N58,INSCRITS!$D$4:$W$501,7,0))","v":""},{"$f":"IF($N58=\"\",\"\",VLOOKUP($N58,INSCRITS!$D$4:$W$501,9,0))","v":""}]
[null,null,null,{"$f":"IF($C59=\"\",\"\",VLOOKUP($C59,INSCRITS!$D$4:$W$501,6,0))","v":""},{"$f":"IF($C59=\"\",\"\",VLOOKUP($C59,INSCRITS!$D$4:$W$501,7,0))","v":""},{"$f":"IF($C59=\"\",\"\",VLOOKUP($C59,INSCRITS!$D$4:$W$501,9,0))","v":""},null,null,null,null,null,null,null,null,{"$f":"IF($N59=\"\",\"\",VLOOKUP($N59,INSCRITS!$D$4:$W$501,6,0))","v":""},{"$f":"IF($N59=\"\",\"\",VLOOKUP($N59,INSCRITS!$D$4:$W$501,7,0))","v":""},{"$f":"IF($N59=\"\",\"\",VLOOKUP($N59,INSCRITS!$D$4:$W$501,9,0))","v":""}]
[null,null,null,{"$f":"IF($C60=\"\",\"\",VLOOKUP($C60,INSCRITS!$D$4:$W$501,6,0))","v":""},{"$f":"IF($C60=\"\",\"\",VLOOKUP($C60,INSCRITS!$D$4:$W$501,7,0))","v":""},{"$f":"IF($C60=\"\",\"\",VLOOKUP($C60,INSCRITS!$D$4:$W$501,9,0))","v":""},null,null,null,null,null,null,null,null,{"$f":"IF($N60=\"\",\"\",VLOOKUP($N60,INSCRITS!$D$4:$W$501,6,0))","v":""},{"$f":"IF($N60=\"\",\"\",VLOOKUP($N60,INSCRITS!$D$4:$W$501,7,0))","v":""},{"$f":"IF($N60=\"\",\"\",VLOOKUP($N60,INSCRITS!$D$4:$W$501,9,0))","v":""}]
[null,null,null,{"$f":"IF($C61=\"\",\"\",VLOOKUP($C61,INSCRITS!$D$4:$W$501,6,0))","v":""},{"$f":"IF($C61=\"\",\"\",VLOOKUP($C61,INSCRITS!$D$4:$W$501,7,0))","v":""},{"$f":"IF($C61=\"\",\"\",VLOOKUP($C61,INSCRITS!$D$4:$W$501,9,0))","v":""},null,null,null,null,null,null,null,null,{"$f":"IF($N61=\"\",\"\",VLOOKUP($N61,INSCRITS!$D$4:$W$501,6,0))","v":""},{"$f":"IF($N61=\"\",\"\",VLOOKUP($N61,INSCRITS!$D$4:$W$501,7,0))","v":""},{"$f":"IF($N61=\"\",\"\",VLOOKUP($N61,INSCRITS!$D$4:$W$501,9,0))","v":""}]
[null,null,null,{"$f":"IF($C62=\"\",\"\",VLOOKUP($C62,INSCRITS!$D$4:$W$501,6,0))","v":""},{"$f":"IF($C62=\"\",\"\",VLOOKUP($C62,INSCRITS!$D$4:$W$501,7,0))","v":""},{"$f":"IF($C62=\"\",\"\",VLOOKUP($C62,INSCRITS!$D$4:$W$501,9,0))","v":""},null,null,null,null,null,null,null,null,{"$f":"IF($N62=\"\",\"\",VLOOKUP($N62,INSCRITS!$D$4:$W$501,6,0))","v":""},{"$f":"IF($N62=\"\",\"\",VLOOKUP($N62,INSCRITS!$D$4:$W$501,7,0))","v":""},{"$f":"IF($N62=\"\",\"\",VLOOKUP($N62,INSCRITS!$D$4:$W$501,9,0))","v":""}]
[null,"SERIE 5",null,{"$f":"IF($C63=\"\",\"\",VLOOKUP($C63,INSCRITS!$D$4:$W$501,6,0))","v":""},{"$f":"IF($C63=\"\",\"\",VLOOKUP($C63,INSCRITS!$D$4:$W$501,7,0))","v":""},{"$f":"IF($C63=\"\",\"\",VLOOKUP($C63,INSCRITS!$D$4:$W$501,9,0))","v":""},null,null,null,null,null,null,null,null,{"$f":"IF($N63=\"\",\"\",VLOOKUP($N63,INSCRITS!$D$4:$W$501,6,0))","v":""},{"$f":"IF($N63=\"\",\"\",VLOOKUP($N63,INSCRITS!$D$4:$W$501,7,0))","v":""},{"$f":"IF($N63=\"\",\"\",VLOOKUP($N63,INSCRITS!$D$4:$W$501,9,0))","v":""}]
[null,null,null,{"$f":"IF($C64=\"\",\"\",VLOOKUP($C64,INSCRITS!$D$4:$W$501,6,0))","v":""},{"$f":"IF($C64=\"\",\"\",VLOOKUP($C64,INSCRITS!$D$4:$W$501,7,0))","v":""},{"$f":"IF($C64=\"\",\"\",VLOOKUP($C64,INSCRITS!$D$4:$W$501,9,0))","v":""},null,null,null,null,null,null,null,null,{"$f":"IF($N64=\"\",\"\",VLOOKUP($N64,INSCRITS!$D$4:$W$501,6,0))","v":""},{"$f":"IF($N64=\"\",\"\",VLOOKUP($N64,INSCRITS!$D$4:$W$501,7,0))","v":""},{"$f":"IF($N64=\"\",\"\",VLOOKUP($N64,INSCRITS!$D$4:$W$501,9,0))","v":""}]
[null,null,null,{"$f":"IF($C65=\"\",\"\",VLOOKUP($C65,INSCRITS!$D$4:$W$501,6,0))","v":""},{"$f":"IF($C65=\"\",\"\",VLOOKUP($C65,INSCRITS!$D$4:$W$501,7,0))","v":""},{"$f":"IF($C65=\"\",\"\",VLOOKUP($C65,INSCRITS!$D$4:$W$501,9,0))","v":""},null,null,null,null,null,null,null,null,{"$f":"IF($N65=\"\",\"\",VLOOKUP($N65,INSCRITS!$D$4:$W$501,6,0))","v":""},{"$f":"IF($N65=\"\",\"\",VLOOKUP($N65,INSCRITS!$D$4:$W$501,7,0))","v":""},{"$f":"IF($N65=\"\",\"\",VLOOKUP($N65,INSCRITS!$D$4:$W$501,9,0))","v":""}]
[null,null,null,{"$f":"IF($C66=\"\",\"\",VLOOKUP($C66,INSCRITS!$D$4:$W$501,6,0))","v":""},{"$f":"IF($C66=\"\",\"\",VLOOKUP($C66,INSCRITS!$D$4:$W$501,7,0))","v":""},{"$f":"IF($C66=\"\",\"\",VLOOKUP($C66,INSCRITS!$D$4:$W$501,9,0))","v":""},null,null,null,null,null,null,null,null,{"$f":"IF($N66=\"\",\"\",VLOOKUP($N66,INSCRITS!$D$4:$W$501,6,0))","v":""},{"$f":"IF($N66=\"\",\"\",VLOOKUP($N66,INSCRITS!$D$4:$W$501,7,0))","v":""},{"$f":"IF($N66=\"\",\"\",VLOOKUP($N66,INSCRITS!$D$4:$W$501,9,0))","v":""}]
[null,null,null,{"$f":"IF($C67=\"\",\"\",VLOOKUP($C67,INSCRITS!$D$4:$W$501,6,0))","v":""},{"$f":"IF($C67=\"\",\"\",VLOOKUP($C67,INSCRITS!$D$4:$W$501,7,0))","v":""},{"$f":"IF($C67=\"\",\"\",VLOOKUP($C67,INSCRITS!$D$4:$W$501,9,0))","v":""},null,null,null,null,null,null,null,null,{"$f":"IF($N67=\"\",\"\",VLOOKUP($N67,INSCRITS!$D$4:$W$501,6,0))","v":""},{"$f":"IF($N67=\"\",\"\",VLOOKUP($N67,INSCRITS!$D$4:$W$501,7,0))","v":""},{"$f":"IF($N67=\"\",\"\",VLOOKUP($N67,INSCRITS!$D$4:$W$501,9,0))","v":""}]
[null,null,null,{"$f":"IF($C68=\"\",\"\",VLOOKUP($C68,INSCRITS!$D$4:$W$501,6,0))","v":""},{"$f":"IF($C68=\"\",\"\",VLOOKUP($C68,INSCRITS!$D$4:$W$501,7,0))","v":""},{"$f":"IF($C68=\"\",\"\",VLOOKUP($C68,INSCRITS!$D$4:$W$501,9,0))","v":""},null,null,null,null,null,null,null,null,{"$f":"IF($N68=\"\",\"\",VLOOKUP($N68,INSCRITS!$D$4:$W$501,6,0))","v":""},{"$f":"IF($N68=\"\",\"\",VLOOKUP($N68,INSCRITS!$D$4:$W$501,7,0))","v":""},{"$f":"IF($N68=\"\",\"\",VLOOKUP($N68,INSCRITS!$D$4:$W$501,9,0))","v":""}]
[null,null,null,{"$f":"IF($C69=\"\",\"\",VLOOKUP($C69,INSCRITS!$D$4:$W$501,6,0))","v":""},{"$f":"IF($C69=\"\",\"\",VLOOKUP($C69,INSCRITS!$D$4:$W$501,7,0))","v":""},{"$f":"IF($C69=\"\",\"\",VLOOKUP($C69,INSCRITS!$D$4:$W$501,9,0))","v":""},null,null,null,null,null,null,null,null,{"$f":"IF($N69=\"\",\"\",VLOOKUP($N69,INSCRITS!$D$4:$W$501,6,0))","v":""},{"$f":"IF($N69=\"\",\"\",VLOOKUP($N69,INSCRITS!$D$4:$W$501,7,0))","v":""},{"$f":"IF($N69=\"\",\"\",VLOOKUP($N69,INSCRITS!$D$4:$W$501,9,0))","v":""}]
[null,null,null,{"$f":"IF($C70=\"\",\"\",VLOOKUP($C70,INSCRITS!$D$4:$W$501,6,0))","v":""},{"$f":"IF($C70=\"\",\"\",VLOOKUP($C70,INSCRITS!$D$4:$W$501,7,0))","v":""},{"$f":"IF($C70=\"\",\"\",VLOOKUP($C70,INSCRITS!$D$4:$W$501,9,0))","v":""},null,null,null,null,null,null,null,null,{"$f":"IF($N70=\"\",\"\",VLOOKUP($N70,INSCRITS!$D$4:$W$501,6,0))","v":""},{"$f":"IF($N70=\"\",\"\",VLOOKUP($N70,INSCRITS!$D$4:$W$501,7,0))","v":""},{"$f":"IF($N70=\"\",\"\",VLOOKUP($N70,INSCRITS!$D$4:$W$501,9,0))","v":""}]
[null,null,null,{"$f":"IF($C71=\"\",\"\",VLOOKUP($C71,INSCRITS!$D$4:$W$501,6,0))","v":""},{"$f":"IF($C71=\"\",\"\",VLOOKUP($C71,INSCRITS!$D$4:$W$501,7,0))","v":""},{"$f":"IF($C71=\"\",\"\",VLOOKUP($C71,INSCRITS!$D$4:$W$501,9,0))","v":""}]
[null,null,null,{"$f":"IF($C72=\"\",\"\",VLOOKUP($C72,INSCRITS!$D$4:$W$501,6,0))","v":""},{"$f":"IF($C72=\"\",\"\",VLOOKUP($C72,INSCRITS!$D$4:$W$501,7,0))","v":""},{"$f":"IF($C72=\"\",\"\",VLOOKUP($C72,INSCRITS!$D$4:$W$501,9,0))","v":""}]
[null,null,null,{"$f":"IF($C73=\"\",\"\",VLOOKUP($C73,INSCRITS!$D$4:$W$501,6,0))","v":""},{"$f":"IF($C73=\"\",\"\",VLOOKUP($C73,INSCRITS!$D$4:$W$501,7,0))","v":""},{"$f":"IF($C73=\"\",\"\",VLOOKUP($C73,INSCRITS!$D$4:$W$501,9,0))","v":""}]
[null,null,null,{"$f":"IF($C74=\"\",\"\",VLOOKUP($C74,INSCRITS!$D$4:$W$501,6,0))","v":""},{"$f":"IF($C74=\"\",\"\",VLOOKUP($C74,INSCRITS!$D$4:$W$501,7,0))","v":""},{"$f":"IF($C74=\"\",\"\",VLOOKUP($C74,INSCRITS!$D$4:$W$501,9,0))","v":""}]
[null,null,null,{"$f":"IF($C75=\"\",\"\",VLOOKUP($C75,INSCRITS!$D$4:$W$501,6,0))","v":""},{"$f":"IF($C75=\"\",\"\",VLOOKUP($C75,INSCRITS!$D$4:$W$501,7,0))","v":""},{"$f":"IF($C75=\"\",\"\",VLOOKUP($C75,INSCRITS!$D$4:$W$501,9,0))","v":""}]
[null,null,null,{"$f":"IF($C76=\"\",\"\",VLOOKUP($C76,INSCRITS!$D$4:$W$501,6,0))","v":""},{"$f":"IF($C76=\"\",\"\",VLOOKUP($C76,INSCRITS!$D$4:$W$501,7,0))","v":""},{"$f":"IF($C76=\"\",\"\",VLOOKUP($C76,INSCRITS!$D$4:$W$501,9,0))","v":""}]
[null,"SERIE 6",null,{"$f":"IF($C77=\"\",\"\",VLOOKUP($C77,INSCRITS!$D$4:$W$501,6,0))","v":""},{"$f":"IF($C77=\"\",\"\",VLOOKUP($C77,INSCRITS!$D$4:$W$501,7,0))","v":""},{"$f":"IF($C77=\"\",\"\",VLOOKUP($C77,INSCRITS!$D$4:$W$501,9,0))","v":""}]
[null,null,null,{"$f":"IF($C78=\"\",\"\",VLOOKUP($C78,INSCRITS!$D$4:$W$501,6,0))","v":""},{"$f":"IF($C78=\"\",\"\",VLOOKUP($C78,INSCRITS!$D$4:$W$501,7,0))","v":""},{"$f":"IF($C78=\"\",\"\",VLOOKUP($C78,INSCRITS!$D$4:$W$501,9,0))","v":""}]
[null,null,null,{"$f":"IF($C79=\"\",\"\",VLOOKUP($C79,INSCRITS!$D$4:$W$501,6,0))","v":""},{"$f":"IF($C79=\"\",\"\",VLOOKUP($C79,INSCRITS!$D$4:$W$501,7,0))","v":""},{"$f":"IF($C79=\"\",\"\",VLOOKUP($C79,INSCRITS!$D$4:$W$501,9,0))","v":""}]
[null,null,null,{"$f":"IF($C80=\"\",\"\",VLOOKUP($C80,INSCRITS!$D$4:$W$501,6,0))","v":""},{"$f":"IF($C80=\"\",\"\",VLOOKUP($C80,INSCRITS!$D$4:$W$501,7,0))","v":""},{"$f":"IF($C80=\"\",\"\",VLOOKUP($C80,INSCRITS!$D$4:$W$501,9,0))","v":""}]
[null,null,null,{"$f":"IF($C81=\"\",\"\",VLOOKUP($C81,INSCRITS!$D$4:$W$501,6,0))","v":""},{"$f":"IF($C81=\"\",\"\",VLOOKUP($C81,INSCRITS!$D$4:$W$501,7,0))","v":""},{"$f":"IF($C81=\"\",\"\",VLOOKUP($C81,INSCRITS!$D$4:$W$501,9,0))","v":""}]
[null,null,null,{"$f":"IF($C82=\"\",\"\",VLOOKUP($C82,INSCRITS!$D$4:$W$501,6,0))","v":""},{"$f":"IF($C82=\"\",\"\",VLOOKUP($C82,INSCRITS!$D$4:$W$501,7,0))","v":""},{"$f":"IF($C82=\"\",\"\",VLOOKUP($C82,INSCRITS!$D$4:$W$501,9,0))","v":""}]
[null,null,null,{"$f":"IF($C83=\"\",\"\",VLOOKUP($C83,INSCRITS!$D$4:$W$501,6,0))","v":""},{"$f":"IF($C83=\"\",\"\",VLOOKUP($C83,INSCRITS!$D$4:$W$501,7,0))","v":""},{"$f":"IF($C83=\"\",\"\",VLOOKUP($C83,INSCRITS!$D$4:$W$501,9,0))","v":""}]
[null,null,null,{"$f":"IF($C84=\"\",\"\",VLOOKUP($C84,INSCRITS!$D$4:$W$501,6,0))","v":""},{"$f":"IF($C84=\"\",\"\",VLOOKUP($C84,INSCRITS!$D$4:$W$501,7,0))","v":""},{"$f":"IF($C84=\"\",\"\",VLOOKUP($C84,INSCRITS!$D$4:$W$501,9,0))","v":""}]
[null,null,null,{"$f":"IF($C85=\"\",\"\",VLOOKUP($C85,INSCRITS!$D$4:$W$501,6,0))","v":""},{"$f":"IF($C85=\"\",\"\",VLOOKUP($C85,INSCRITS!$D$4:$W$501,7,0))","v":""},{"$f":"IF($C85=\"\",\"\",VLOOKUP($C85,INSCRITS!$D$4:$W$501,9,0))","v":""}]
[null,null,null,{"$f":"IF($C86=\"\",\"\",VLOOKUP($C86,INSCRITS!$D$4:$W$501,6,0))","v":""},{"$f":"IF($C86=\"\",\"\",VLOOKUP($C86,INSCRITS!$D$4:$W$501,7,0))","v":""},{"$f":"IF($C86=\"\",\"\",VLOOKUP($C86,INSCRITS!$D$4:$W$501,9,0))","v":""}]
[null,null,null,{"$f":"IF($C87=\"\",\"\",VLOOKUP($C87,INSCRITS!$D$4:$W$501,6,0))","v":""},{"$f":"IF($C87=\"\",\"\",VLOOKUP($C87,INSCRITS!$D$4:$W$501,7,0))","v":""},{"$f":"IF($C87=\"\",\"\",VLOOKUP($C87,INSCRITS!$D$4:$W$501,9,0))","v":""}]
[null,null,null,{"$f":"IF($C88=\"\",\"\",VLOOKUP($C88,INSCRITS!$D$4:$W$501,6,0))","v":""},{"$f":"IF($C88=\"\",\"\",VLOOKUP($C88,INSCRITS!$D$4:$W$501,7,0))","v":""},{"$f":"IF($C88=\"\",\"\",VLOOKUP($C88,INSCRITS!$D$4:$W$501,9,0))","v":""}]
[null,null,null,{"$f":"IF($C89=\"\",\"\",VLOOKUP($C89,INSCRITS!$D$4:$W$501,6,0))","v":""},{"$f":"IF($C89=\"\",\"\",VLOOKUP($C89,INSCRITS!$D$4:$W$501,7,0))","v":""},{"$f":"IF($C89=\"\",\"\",VLOOKUP($C89,INSCRITS!$D$4:$W$501,9,0))","v":""}]
[null,null,null,{"$f":"IF($C90=\"\",\"\",VLOOKUP($C90,INSCRITS!$D$4:$W$501,6,0))","v":""},{"$f":"IF($C90=\"\",\"\",VLOOKUP($C90,INSCRITS!$D$4:$W$501,7,0))","v":""},{"$f":"IF($C90=\"\",\"\",VLOOKUP($C90,INSCRITS!$D$4:$W$501,9,0))","v":""}]
[null,"SERIE 7",null,{"$f":"IF($C91=\"\",\"\",VLOOKUP($C91,INSCRITS!$D$4:$W$501,6,0))","v":""},{"$f":"IF($C91=\"\",\"\",VLOOKUP($C91,INSCRITS!$D$4:$W$501,7,0))","v":""},{"$f":"IF($C91=\"\",\"\",VLOOKUP($C91,INSCRITS!$D$4:$W$501,9,0))","v":""}]
[null,null,null,{"$f":"IF($C92=\"\",\"\",VLOOKUP($C92,INSCRITS!$D$4:$W$501,6,0))","v":""},{"$f":"IF($C92=\"\",\"\",VLOOKUP($C92,INSCRITS!$D$4:$W$501,7,0))","v":""},{"$f":"IF($C92=\"\",\"\",VLOOKUP($C92,INSCRITS!$D$4:$W$501,9,0))","v":""}]
[null,null,null,{"$f":"IF($C93=\"\",\"\",VLOOKUP($C93,INSCRITS!$D$4:$W$501,6,0))","v":""},{"$f":"IF($C93=\"\",\"\",VLOOKUP($C93,INSCRITS!$D$4:$W$501,7,0))","v":""},{"$f":"IF($C93=\"\",\"\",VLOOKUP($C93,INSCRITS!$D$4:$W$501,9,0))","v":""}]
[null,null,null,{"$f":"IF($C94=\"\",\"\",VLOOKUP($C94,INSCRITS!$D$4:$W$501,6,0))","v":""},{"$f":"IF($C94=\"\",\"\",VLOOKUP($C94,INSCRITS!$D$4:$W$501,7,0))","v":""},{"$f":"IF($C94=\"\",\"\",VLOOKUP($C94,INSCRITS!$D$4:$W$501,9,0))","v":""}]
[null,null,null,{"$f":"IF($C95=\"\",\"\",VLOOKUP($C95,INSCRITS!$D$4:$W$501,6,0))","v":""},{"$f":"IF($C95=\"\",\"\",VLOOKUP($C95,INSCRITS!$D$4:$W$501,7,0))","v":""},{"$f":"IF($C95=\"\",\"\",VLOOKUP($C95,INSCRITS!$D$4:$W$501,9,0))","v":""}]
[null,null,null,{"$f":"IF($C96=\"\",\"\",VLOOKUP($C96,INSCRITS!$D$4:$W$501,6,0))","v":""},{"$f":"IF($C96=\"\",\"\",VLOOKUP($C96,INSCRITS!$D$4:$W$501,7,0))","v":""},{"$f":"IF($C96=\"\",\"\",VLOOKUP($C96,INSCRITS!$D$4:$W$501,9,0))","v":""}]
[null,null,null,{"$f":"IF($C97=\"\",\"\",VLOOKUP($C97,INSCRITS!$D$4:$W$501,6,0))","v":""},{"$f":"IF($C97=\"\",\"\",VLOOKUP($C97,INSCRITS!$D$4:$W$501,7,0))","v":""},{"$f":"IF($C97=\"\",\"\",VLOOKUP($C97,INSCRITS!$D$4:$W$501,9,0))","v":""}]
[null,null,null,{"$f":"IF($C98=\"\",\"\",VLOOKUP($C98,INSCRITS!$D$4:$W$501,6,0))","v":""},{"$f":"IF($C98=\"\",\"\",VLOOKUP($C98,INSCRITS!$D$4:$W$501,7,0))","v":""},{"$f":"IF($C98=\"\",\"\",VLOOKUP($C98,INSCRITS!$D$4:$W$501,9,0))","v":""}]
[null,null,null,{"$f":"IF($C99=\"\",\"\",VLOOKUP($C99,INSCRITS!$D$4:$W$501,6,0))","v":""},{"$f":"IF($C99=\"\",\"\",VLOOKUP($C99,INSCRITS!$D$4:$W$501,7,0))","v":""},{"$f":"IF($C99=\"\",\"\",VLOOKUP($C99,INSCRITS!$D$4:$W$501,9,0))","v":""}]
[null,null,null,{"$f":"IF($C100=\"\",\"\",VLOOKUP($C100,INSCRITS!$D$4:$W$501,6,0))","v":""},{"$f":"IF($C100=\"\",\"\",VLOOKUP($C100,INSCRITS!$D$4:$W$501,7,0))","v":""},{"$f":"IF($C100=\"\",\"\",VLOOKUP($C100,INSCRITS!$D$4:$W$501,9,0))","v":""}]
[null,null,null,{"$f":"IF($C101=\"\",\"\",VLOOKUP($C101,INSCRITS!$D$4:$W$501,6,0))","v":""},{"$f":"IF($C101=\"\",\"\",VLOOKUP($C101,INSCRITS!$D$4:$W$501,7,0))","v":""},{"$f":"IF($C101=\"\",\"\",VLOOKUP($C101,INSCRITS!$D$4:$W$501,9,0))","v":""}]
[null,null,null,{"$f":"IF($C102=\"\",\"\",VLOOKUP($C102,INSCRITS!$D$4:$W$501,6,0))","v":""},{"$f":"IF($C102=\"\",\"\",VLOOKUP($C102,INSCRITS!$D$4:$W$501,7,0))","v":""},{"$f":"IF($C102=\"\",\"\",VLOOKUP($C102,INSCRITS!$D$4:$W$501,9,0))","v":""}]
[null,null,null,{"$f":"IF($C103=\"\",\"\",VLOOKUP($C103,INSCRITS!$D$4:$W$501,6,0))","v":""},{"$f":"IF($C103=\"\",\"\",VLOOKUP($C103,INSCRITS!$D$4:$W$501,7,0))","v":""},{"$f":"IF($C103=\"\",\"\",VLOOKUP($C103,INSCRITS!$D$4:$W$501,9,0))","v":""}]
[null,null,null,{"$f":"IF($C104=\"\",\"\",VLOOKUP($C104,INSCRITS!$D$4:$W$501,6,0))","v":""},{"$f":"IF($C104=\"\",\"\",VLOOKUP($C104,INSCRITS!$D$4:$W$501,7,0))","v":""},{"$f":"IF($C104=\"\",\"\",VLOOKUP($C104,INSCRITS!$D$4:$W$501,9,0))","v":""}]
[null,"SERIE 8",null,{"$f":"IF($C105=\"\",\"\",VLOOKUP($C105,INSCRITS!$D$4:$W$501,6,0))","v":""},{"$f":"IF($C105=\"\",\"\",VLOOKUP($C105,INSCRITS!$D$4:$W$501,7,0))","v":""},{"$f":"IF($C105=\"\",\"\",VLOOKUP($C105,INSCRITS!$D$4:$W$501,9,0))","v":""}]
[null,null,null,{"$f":"IF($C106=\"\",\"\",VLOOKUP($C106,INSCRITS!$D$4:$W$501,6,0))","v":""},{"$f":"IF($C106=\"\",\"\",VLOOKUP($C106,INSCRITS!$D$4:$W$501,7,0))","v":""},{"$f":"IF($C106=\"\",\"\",VLOOKUP($C106,INSCRITS!$D$4:$W$501,9,0))","v":""}]
[null,null,null,{"$f":"IF($C107=\"\",\"\",VLOOKUP($C107,INSCRITS!$D$4:$W$501,6,0))","v":""},{"$f":"IF($C107=\"\",\"\",VLOOKUP($C107,INSCRITS!$D$4:$W$501,7,0))","v":""},{"$f":"IF($C107=\"\",\"\",VLOOKUP($C107,INSCRITS!$D$4:$W$501,9,0))","v":""}]
[null,null,null,{"$f":"IF($C108=\"\",\"\",VLOOKUP($C108,INSCRITS!$D$4:$W$501,6,0))","v":""},{"$f":"IF($C108=\"\",\"\",VLOOKUP($C108,INSCRITS!$D$4:$W$501,7,0))","v":""},{"$f":"IF($C108=\"\",\"\",VLOOKUP($C108,INSCRITS!$D$4:$W$501,9,0))","v":""}]
[null,null,null,{"$f":"IF($C109=\"\",\"\",VLOOKUP($C109,INSCRITS!$D$4:$W$501,6,0))","v":""},{"$f":"IF($C109=\"\",\"\",VLOOKUP($C109,INSCRITS!$D$4:$W$501,7,0))","v":""},{"$f":"IF($C109=\"\",\"\",VLOOKUP($C109,INSCRITS!$D$4:$W$501,9,0))","v":""}]
[null,null,null,{"$f":"IF($C110=\"\",\"\",VLOOKUP($C110,INSCRITS!$D$4:$W$501,6,0))","v":""},{"$f":"IF($C110=\"\",\"\",VLOOKUP($C110,INSCRITS!$D$4:$W$501,7,0))","v":""},{"$f":"IF($C110=\"\",\"\",VLOOKUP($C110,INSCRITS!$D$4:$W$501,9,0))","v":""}]
[null,null,null,{"$f":"IF($C111=\"\",\"\",VLOOKUP($C111,INSCRITS!$D$4:$W$501,6,0))","v":""},{"$f":"IF($C111=\"\",\"\",VLOOKUP($C111,INSCRITS!$D$4:$W$501,7,0))","v":""},{"$f":"IF($C111=\"\",\"\",VLOOKUP($C111,INSCRITS!$D$4:$W$501,9,0))","v":""}]
[null,null,null,{"$f":"IF($C112=\"\",\"\",VLOOKUP($C112,INSCRITS!$D$4:$W$501,6,0))","v":""},{"$f":"IF($C112=\"\",\"\",VLOOKUP($C112,INSCRITS!$D$4:$W$501,7,0))","v":""},{"$f":"IF($C112=\"\",\"\",VLOOKUP($C112,INSCRITS!$D$4:$W$501,9,0))","v":""}]
[null,null,null,{"$f":"IF($C113=\"\",\"\",VLOOKUP($C113,INSCRITS!$D$4:$W$501,6,0))","v":""},{"$f":"IF($C113=\"\",\"\",VLOOKUP($C113,INSCRITS!$D$4:$W$501,7,0))","v":""},{"$f":"IF($C113=\"\",\"\",VLOOKUP($C113,INSCRITS!$D$4:$W$501,9,0))","v":""}]
[null,null,null,{"$f":"IF($C114=\"\",\"\",VLOOKUP($C114,INSCRITS!$D$4:$W$501,6,0))","v":""},{"$f":"IF($C114=\"\",\"\",VLOOKUP($C114,INSCRITS!$D$4:$W$501,7,0))","v":""},{"$f":"IF($C114=\"\",\"\",VLOOKUP($C114,INSCRITS!$D$4:$W$501,9,0))","v":""}]
[null,null,null,{"$f":"IF($C115=\"\",\"\",VLOOKUP($C115,INSCRITS!$D$4:$W$501,6,0))","v":""},{"$f":"IF($C115=\"\",\"\",VLOOKUP($C115,INSCRITS!$D$4:$W$501,7,0))","v":""},{"$f":"IF($C115=\"\",\"\",VLOOKUP($C115,INSCRITS!$D$4:$W$501,9,0))","v":""}]
[null,null,null,{"$f":"IF($C116=\"\",\"\",VLOOKUP($C116,INSCRITS!$D$4:$W$501,6,0))","v":""},{"$f":"IF($C116=\"\",\"\",VLOOKUP($C116,INSCRITS!$D$4:$W$501,7,0))","v":""},{"$f":"IF($C116=\"\",\"\",VLOOKUP($C116,INSCRITS!$D$4:$W$501,9,0))","v":""}]
[null,null,null,{"$f":"IF($C117=\"\",\"\",VLOOKUP($C117,INSCRITS!$D$4:$W$501,6,0))","v":""},{"$f":"IF($C117=\"\",\"\",VLOOKUP($C117,INSCRITS!$D$4:$W$501,7,0))","v":""},{"$f":"IF($C117=\"\",\"\",VLOOKUP($C117,INSCRITS!$D$4:$W$501,9,0))","v":""}]
[null,null,null,{"$f":"IF($C118=\"\",\"\",VLOOKUP($C118,INSCRITS!$D$4:$W$501,6,0))","v":""},{"$f":"IF($C118=\"\",\"\",VLOOKUP($C118,INSCRITS!$D$4:$W$501,7,0))","v":""},{"$f":"IF($C118=\"\",\"\",VLOOKUP($C118,INSCRITS!$D$4:$W$501,9,0))","v":""}]
[null,"SERIE 9",null,{"$f":"IF($C119=\"\",\"\",VLOOKUP($C119,INSCRITS!$D$4:$W$501,6,0))","v":""},{"$f":"IF($C119=\"\",\"\",VLOOKUP($C119,INSCRITS!$D$4:$W$501,7,0))","v":""},{"$f":"IF($C119=\"\",\"\",VLOOKUP($C119,INSCRITS!$D$4:$W$501,9,0))","v":""}]
[null,null,null,{"$f":"IF($C120=\"\",\"\",VLOOKUP($C120,INSCRITS!$D$4:$W$501,6,0))","v":""},{"$f":"IF($C120=\"\",\"\",VLOOKUP($C120,INSCRITS!$D$4:$W$501,7,0))","v":""},{"$f":"IF($C120=\"\",\"\",VLOOKUP($C120,INSCRITS!$D$4:$W$501,9,0))","v":""}]
[null,null,null,{"$f":"IF($C121=\"\",\"\",VLOOKUP($C121,INSCRITS!$D$4:$W$501,6,0))","v":""},{"$f":"IF($C121=\"\",\"\",VLOOKUP($C121,INSCRITS!$D$4:$W$501,7,0))","v":""},{"$f":"IF($C121=\"\",\"\",VLOOKUP($C121,INSCRITS!$D$4:$W$501,9,0))","v":""}]
[null,null,null,{"$f":"IF($C122=\"\",\"\",VLOOKUP($C122,INSCRITS!$D$4:$W$501,6,0))","v":""},{"$f":"IF($C122=\"\",\"\",VLOOKUP($C122,INSCRITS!$D$4:$W$501,7,0))","v":""},{"$f":"IF($C122=\"\",\"\",VLOOKUP($C122,INSCRITS!$D$4:$W$501,9,0))","v":""}]
[null,null,null,{"$f":"IF($C123=\"\",\"\",VLOOKUP($C123,INSCRITS!$D$4:$W$501,6,0))","v":""},{"$f":"IF($C123=\"\",\"\",VLOOKUP($C123,INSCRITS!$D$4:$W$501,7,0))","v":""},{"$f":"IF($C123=\"\",\"\",VLOOKUP($C123,INSCRITS!$D$4:$W$501,9,0))","v":""}]
[null,null,null,{"$f":"IF($C124=\"\",\"\",VLOOKUP($C124,INSCRITS!$D$4:$W$501,6,0))","v":""},{"$f":"IF($C124=\"\",\"\",VLOOKUP($C124,INSCRITS!$D$4:$W$501,7,0))","v":""},{"$f":"IF($C124=\"\",\"\",VLOOKUP($C124,INSCRITS!$D$4:$W$501,9,0))","v":""}]
[null,null,null,{"$f":"IF($C125=\"\",\"\",VLOOKUP($C125,INSCRITS!$D$4:$W$501,6,0))","v":""},{"$f":"IF($C125=\"\",\"\",VLOOKUP($C125,INSCRITS!$D$4:$W$501,7,0))","v":""},{"$f":"IF($C125=\"\",\"\",VLOOKUP($C125,INSCRITS!$D$4:$W$501,9,0))","v":""}]
[null,null,null,{"$f":"IF($C126=\"\",\"\",VLOOKUP($C126,INSCRITS!$D$4:$W$501,6,0))","v":""},{"$f":"IF($C126=\"\",\"\",VLOOKUP($C126,INSCRITS!$D$4:$W$501,7,0))","v":""},{"$f":"IF($C126=\"\",\"\",VLOOKUP($C126,INSCRITS!$D$4:$W$501,9,0))","v":""}]
[null,null,null,{"$f":"IF($C127=\"\",\"\",VLOOKUP($C127,INSCRITS!$D$4:$W$501,6,0))","v":""},{"$f":"IF($C127=\"\",\"\",VLOOKUP($C127,INSCRITS!$D$4:$W$501,7,0))","v":""},{"$f":"IF($C127=\"\",\"\",VLOOKUP($C127,INSCRITS!$D$4:$W$501,9,0))","v":""}]
[null,null,null,{"$f":"IF($C128=\"\",\"\",VLOOKUP($C128,INSCRITS!$D$4:$W$501,6,0))","v":""},{"$f":"IF($C128=\"\",\"\",VLOOKUP($C128,INSCRITS!$D$4:$W$501,7,0))","v":""},{"$f":"IF($C128=\"\",\"\",VLOOKUP($C128,INSCRITS!$D$4:$W$501,9,0))","v":""}]
[null,null,null,{"$f":"IF($C129=\"\",\"\",VLOOKUP($C129,INSCRITS!$D$4:$W$501,6,0))","v":""},{"$f":"IF($C129=\"\",\"\",VLOOKUP($C129,INSCRITS!$D$4:$W$501,7,0))","v":""},{"$f":"IF($C129=\"\",\"\",VLOOKUP($C129,INSCRITS!$D$4:$W$501,9,0))","v":""}]
[null,null,null,{"$f":"IF($C130=\"\",\"\",VLOOKUP($C130,INSCRITS!$D$4:$W$501,6,0))","v":""},{"$f":"IF($C130=\"\",\"\",VLOOKUP($C130,INSCRITS!$D$4:$W$501,7,0))","v":""},{"$f":"IF($C130=\"\",\"\",VLOOKUP($C130,INSCRITS!$D$4:$W$501,9,0))","v":""}]
[null,null,null,{"$f":"IF($C131=\"\",\"\",VLOOKUP($C131,INSCRITS!$D$4:$W$501,6,0))","v":""},{"$f":"IF($C131=\"\",\"\",VLOOKUP($C131,INSCRITS!$D$4:$W$501,7,0))","v":""},{"$f":"IF($C131=\"\",\"\",VLOOKUP($C131,INSCRITS!$D$4:$W$501,9,0))","v":""}]
[null,null,null,{"$f":"IF($C132=\"\",\"\",VLOOKUP($C132,INSCRITS!$D$4:$W$501,6,0))","v":""},{"$f":"IF($C132=\"\",\"\",VLOOKUP($C132,INSCRITS!$D$4:$W$501,7,0))","v":""},{"$f":"IF($C132=\"\",\"\",VLOOKUP($C132,INSCRITS!$D$4:$W$501,9,0))","v":""}]
[null,"SERIE 10",null,{"$f":"IF($C133=\"\",\"\",VLOOKUP($C133,INSCRITS!$D$4:$W$501,6,0))","v":""},{"$f":"IF($C133=\"\",\"\",VLOOKUP($C133,INSCRITS!$D$4:$W$501,7,0))","v":""},{"$f":"IF($C133=\"\",\"\",VLOOKUP($C133,INSCRITS!$D$4:$W$501,9,0))","v":""}]
[null,null,null,{"$f":"IF($C134=\"\",\"\",VLOOKUP($C134,INSCRITS!$D$4:$W$501,6,0))","v":""},{"$f":"IF($C134=\"\",\"\",VLOOKUP($C134,INSCRITS!$D$4:$W$501,7,0))","v":""},{"$f":"IF($C134=\"\",\"\",VLOOKUP($C134,INSCRITS!$D$4:$W$501,9,0))","v":""}]
[null,null,null,{"$f":"IF($C135=\"\",\"\",VLOOKUP($C135,INSCRITS!$D$4:$W$501,6,0))","v":""},{"$f":"IF($C135=\"\",\"\",VLOOKUP($C135,INSCRITS!$D$4:$W$501,7,0))","v":""},{"$f":"IF($C135=\"\",\"\",VLOOKUP($C135,INSCRITS!$D$4:$W$501,9,0))","v":""}]
[null,null,null,{"$f":"IF($C136=\"\",\"\",VLOOKUP($C136,INSCRITS!$D$4:$W$501,6,0))","v":""},{"$f":"IF($C136=\"\",\"\",VLOOKUP($C136,INSCRITS!$D$4:$W$501,7,0))","v":""},{"$f":"IF($C136=\"\",\"\",VLOOKUP($C136,INSCRITS!$D$4:$W$501,9,0))","v":""}]
[null,null,null,{"$f":"IF($C137=\"\",\"\",VLOOKUP($C137,INSCRITS!$D$4:$W$501,6,0))","v":""},{"$f":"IF($C137=\"\",\"\",VLOOKUP($C137,INSCRITS!$D$4:$W$501,7,0))","v":""},{"$f":"IF($C137=\"\",\"\",VLOOKUP($C137,INSCRITS!$D$4:$W$501,9,0))","v":""}]
[null,null,null,{"$f":"IF($C138=\"\",\"\",VLOOKUP($C138,INSCRITS!$D$4:$W$501,6,0))","v":""},{"$f":"IF($C138=\"\",\"\",VLOOKUP($C138,INSCRITS!$D$4:$W$501,7,0))","v":""},{"$f":"IF($C138=\"\",\"\",VLOOKUP($C138,INSCRITS!$D$4:$W$501,9,0))","v":""}]
[null,null,null,{"$f":"IF($C139=\"\",\"\",VLOOKUP($C139,INSCRITS!$D$4:$W$501,6,0))","v":""},{"$f":"IF($C139=\"\",\"\",VLOOKUP($C139,INSCRITS!$D$4:$W$501,7,0))","v":""},{"$f":"IF($C139=\"\",\"\",VLOOKUP($C139,INSCRITS!$D$4:$W$501,9,0))","v":""}]
[null,null,null,{"$f":"IF($C140=\"\",\"\",VLOOKUP($C140,INSCRITS!$D$4:$W$501,6,0))","v":""},{"$f":"IF($C140=\"\",\"\",VLOOKUP($C140,INSCRITS!$D$4:$W$501,7,0))","v":""},{"$f":"IF($C140=\"\",\"\",VLOOKUP($C140,INSCRITS!$D$4:$W$501,9,0))","v":""}]
[null,null,null,{"$f":"IF($C141=\"\",\"\",VLOOKUP($C141,INSCRITS!$D$4:$W$501,6,0))","v":""},{"$f":"IF($C141=\"\",\"\",VLOOKUP($C141,INSCRITS!$D$4:$W$501,7,0))","v":""},{"$f":"IF($C141=\"\",\"\",VLOOKUP($C141,INSCRITS!$D$4:$W$501,9,0))","v":""}]
[null,null,null,{"$f":"IF($C142=\"\",\"\",VLOOKUP($C142,INSCRITS!$D$4:$W$501,6,0))","v":""},{"$f":"IF($C142=\"\",\"\",VLOOKUP($C142,INSCRITS!$D$4:$W$501,7,0))","v":""},{"$f":"IF($C142=\"\",\"\",VLOOKUP($C142,INSCRITS!$D$4:$W$501,9,0))","v":""}]
[null,null,null,{"$f":"IF($C143=\"\",\"\",VLOOKUP($C143,INSCRITS!$D$4:$W$501,6,0))","v":""},{"$f":"IF($C143=\"\",\"\",VLOOKUP($C143,INSCRITS!$D$4:$W$501,7,0))","v":""},{"$f":"IF($C143=\"\",\"\",VLOOKUP($C143,INSCRITS!$D$4:$W$501,9,0))","v":""}]
[null,null,null,{"$f":"IF($C144=\"\",\"\",VLOOKUP($C144,INSCRITS!$D$4:$W$501,6,0))","v":""},{"$f":"IF($C144=\"\",\"\",VLOOKUP($C144,INSCRITS!$D$4:$W$501,7,0))","v":""},{"$f":"IF($C144=\"\",\"\",VLOOKUP($C144,INSCRITS!$D$4:$W$501,9,0))","v":""}]
[null,null,null,{"$f":"IF($C145=\"\",\"\",VLOOKUP($C145,INSCRITS!$D$4:$W$501,6,0))","v":""},{"$f":"IF($C145=\"\",\"\",VLOOKUP($C145,INSCRITS!$D$4:$W$501,7,0))","v":""},{"$f":"IF($C145=\"\",\"\",VLOOKUP($C145,INSCRITS!$D$4:$W$501,9,0))","v":""}]
[null,null,null,{"$f":"IF($C146=\"\",\"\",VLOOKUP($C146,INSCRITS!$D$4:$W$501,6,0))","v":""},{"$f":"IF($C146=\"\",\"\",VLOOKUP($C146,INSCRITS!$D$4:$W$501,7,0))","v":""},{"$f":"IF($C146=\"\",\"\",VLOOKUP($C146,INSCRITS!$D$4:$W$501,9,0))","v":""}]

{"sheet":"NAGE","index":4,"n_rows":113,"n_cols":20,"rows_kept":113,"cut":false,"hidden":false,"merged":[[87,1,113,1],[6,1,32,1],[33,1,59,1],[60,1,86,1],[6,12,37,12]]}
[]
[]
[null,"Séries Nage M",null,null,null,null,null,null,null,null,null,null,null,"FINALE Nage"]
[null,null,null,null,null,null,null,null,null,null,null,null,null,"Messieurs"]
[null,null,null,"NOM",null,"CLUB","PLACE",null,null,null,null,null,null,"N°","NOM","Prénom","CLUB",null,"PLACE","PTS"]
[]
[null,"SERIE 1",null,{"$f":"IF($C7=\"\",\"\",VLOOKUP($C7,INSCRITS!$D$4:$W$501,6,0))","v":""},null,{"$f":"IF($C7=\"\",\"\",VLOOKUP($C7,INSCRITS!$D$4:$W$501,9,0))","v":""},null,null,null,null,null,null,"FINALE",185,{"$f":"IF($N7=\"\",\"\",VLOOKUP($N7,INSCRITS!$D$4:$W$501,6,0))","v":"COUTANCEAU"},{"$f":"IF($N7=\"\",\"\",VLOOKUP($N7,INSCRITS!$D$4:$W$501,7,0))","v":"Guillaume"},{"$f":"IF($N7=\"\",\"\",VLOOKUP($N7,INSCRITS!$D$4:$W$501,9,0))","v":"ENA"},null,1,{"$f":"IF(S7=\"\",\"\",VLOOKUP(S7,points,2))","v":20}]
[null,null,null,{"$f":"IF($C8=\"\",\"\",VLOOKUP($C8,INSCRITS!$D$4:$W$501,6,0))","v":""},null,{"$f":"IF($C8=\"\",\"\",VLOOKUP($C8,INSCRITS!$D$4:$W$501,9,0))","v":""},null,null,null,null,null,null,null,186,{"$f":"IF($N8=\"\",\"\",VLOOKUP($N8,INSCRITS!$D$4:$W$501,6,0))","v":"CARISSAN"},{"$f":"IF($N8=\"\",\"\",VLOOKUP($N8,INSCRITS!$D$4:$W$501,7,0))","v":"Ludovic"},{"$f":"IF($N8=\"\",\"\",VLOOKUP($N8,INSCRITS!$D$4:$W$501,9,0))","v":"epstn"},null,2,18]
[null,null,null,{"$f":"IF($C9=\"\",\"\",VLOOKUP($C9,INSCRITS!$D$4:$W$501,6,0))","v":""},null,{"$f":"IF($C9=\"\",\"\",VLOOKUP($C9,INSCRITS!$D$4:$W$501,9,0))","v":""},null,null,null,null,null,null,null,183,{"$f":"IF($N9=\"\",\"\",VLOOKUP($N9,INSCRITS!$D$4:$W$501,6,0))","v":"BLANC"},{"$f":"IF($N9=\"\",\"\",VLOOKUP($N9,INSCRITS!$D$4:$W$501,7,0))","v":"Guillaume"},{"$f":"IF($N9=\"\",\"\",VLOOKUP($N9,INSCRITS!$D$4:$W$501,9,0))","v":"ENA"},null,3,16]
[null,null,null,{"$f":"IF($C10=\"\",\"\",VLOOKUP($C10,INSCRITS!$D$4:$W$501,6,0))","v":""},null,{"$f":"IF($C10=\"\",\"\",VLOOKUP($C10,INSCRITS!$D$4:$W$501,9,0))","v":""},null,null,null,null,null,null,null,187,{"$f":"IF($N10=\"\",\"\",VLOOKUP($N10,INSCRITS!$D$4:$W$501,6,0))","v":"DEHEZ"},{"$f":"IF($N10=\"\",\"\",VLOOKUP($N10,INSCRITS!$D$4:$W$501,7,0))","v":"Rémy"},{"$f":"IF($N10=\"\",\"\",VLOOKUP($N10,INSCRITS!$D$4:$W$501,9,0))","v":"HSC"},null,4,14]
[null,null,null,{"$f":"IF($C11=\"\",\"\",VLOOKUP($C11,INSCRITS!$D$4:$W$501,6,0))","v":""},null,{"$f":"IF($C11=\"\",\"\",VLOOKUP($C11,INSCRITS!$D$4:$W$501,9,0))","v":""},null,null,null,null,null,null,null,163,{"$f":"IF($N11=\"\",\"\",VLOOKUP($N11,INSCRITS!$D$4:$W$501,6,0))","v":"MARCO"},{"$f":"IF($N11=\"\",\"\",VLOOKUP($N11,INSCRITS!$D$4:$W$501,7,0))","v":"Clement"},{"$f":"IF($N11=\"\",\"\",VLOOKUP($N11,INSCRITS!$D$4:$W$501,9,0))","v":"AQUALOVE"},null,5,13]
[null,null,null,{"$f":"IF($C12=\"\",\"\",VLOOKUP($C12,INSCRITS!$D$4:$W$501,6,0))","v":""},null,{"$f":"IF($C12=\"\",\"\",VLOOKUP($C12,INSCRITS!$D$4:$W$501,9,0))","v":""},null,null,null,null,null,null,null,184,{"$f":"IF($N12=\"\",\"\",VLOOKUP($N12,INSCRITS!$D$4:$W$501,6,0))","v":"BONNAFONT"},{"$f":"IF($N12=\"\",\"\",VLOOKUP($N12,INSCRITS!$D$4:$W$501,7,0))","v":"Charles"},{"$f":"IF($N12=\"\",\"\",VLOOKUP($N12,INSCRITS!$D$4:$W$501,9,0))","v":"ENA"},null,6,12]
[null,null,null,{"$f":"IF($C13=\"\",\"\",VLOOKUP($C13,INSCRITS!$D$4:$W$501,6,0))","v":""},null,{"$f":"IF($C13=\"\",\"\",VLOOKUP($C13,INSCRITS!$D$4:$W$501,9,0))","v":""},null,null,null,null,null,null,null,161,{"$f":"IF($N13=\"\",\"\",VLOOKUP($N13,INSCRITS!$D$4:$W$501,6,0))","v":"THEO"},{"$f":"IF($N13=\"\",\"\",VLOOKUP($N13,INSCRITS!$D$4:$W$501,7,0))","v":"Valentin"},{"$f":"IF($N13=\"\",\"\",VLOOKUP($N13,INSCRITS!$D$4:$W$501,9,0))","v":"Amiens sauvetage"},null,7,11]
[null,null,null,{"$f":"IF($C14=\"\",\"\",VLOOKUP($C14,INSCRITS!$D$4:$W$501,6,0))","v":""},null,{"$f":"IF($C14=\"\",\"\",VLOOKUP($C14,INSCRITS!$D$4:$W$501,9,0))","v":""},null,null,null,null,null,null,null,191,{"$f":"IF($N14=\"\",\"\",VLOOKUP($N14,INSCRITS!$D$4:$W$501,6,0))","v":"DUBLINEAU"},{"$f":"IF($N14=\"\",\"\",VLOOKUP($N14,INSCRITS!$D$4:$W$501,7,0))","v":"Clément"},{"$f":"IF($N14=\"\",\"\",VLOOKUP($N14,INSCRITS!$D$4:$W$501,9,0))","v":"MIMIZAN SAUVETAGE"},null,8,10]
[null,null,null,{"$f":"IF($C15=\"\",\"\",VLOOKUP($C15,INSCRITS!$D$4:$W$501,6,0))","v":""},null,{"$f":"IF($C15=\"\",\"\",VLOOKUP($C15,INSCRITS!$D$4:$W$501,9,0))","v":""},null,null,null,null,null,null,null,177,{"$f":"IF($N15=\"\",\"\",VLOOKUP($N15,INSCRITS!$D$4:$W$501,6,0))","v":"GASQUET"},{"$f":"IF($N15=\"\",\"\",VLOOKUP($N15,INSCRITS!$D$4:$W$501,7,0))","v":"Mathieu"},{"$f":"IF($N15=\"\",\"\",VLOOKUP($N15,INSCRITS!$D$4:$W$501,9,0))","v":"Biarritz SC"},null,9,8]
[null,null,null,{"$f":"IF($C16=\"\",\"\",VLOOKUP($C16,INSCRITS!$D$4:$W$501,6,0))","v":""},null,{"$f":"IF($C16=\"\",\"\",VLOOKUP($C16,INSCRITS!$D$4:$W$501,9,0))","v":""},null,null,null,null,null,null,null,179,{"$f":"IF($N16=\"\",\"\",VLOOKUP($N16,INSCRITS!$D$4:$W$501,6,0))","v":"KATOUH"},{"$f":"IF($N16=\"\",\"\",VLOOKUP($N16,INSCRITS!$D$4:$W$501,7,0))","v":"Karim"},{"$f":"IF($N16=\"\",\"\",VLOOKUP($N16,INSCRITS!$D$4:$W$501,9,0))","v":"Cannes Sauvetage Côtier"},null,10,7]
[null,null,null,{"$f":"IF($C17=\"\",\"\",VLOOKUP($C17,INSCRITS!$D$4:$W$501,6,0))","v":""},null,{"$f":"IF($C17=\"\",\"\",VLOOKUP($C17,INSCRITS!$D$4:$W$501,9,0))","v":""},null,null,null,null,null,null,null,193,{"$f":"IF($N17=\"\",\"\",VLOOKUP($N17,INSCRITS!$D$4:$W$501,6,0))","v":"MAILHÉ"},{"$f":"IF($N17=\"\",\"\",VLOOKUP($N17,INSCRITS!$D$4:$W$501,7,0))","v":"Loic"},{"$f":"IF($N17=\"\",\"\",VLOOKUP($N17,INSCRITS!$D$4:$W$501,9,0))","v":"MNSL"},null,11,6]
[null,null,null,{"$f":"IF($C18=\"\",\"\",VLOOKUP($C18,INSCRITS!$D$4:$W$501,6,0))","v":""},null,{"$f":"IF($C18=\"\",\"\",VLOOKUP($C18,INSCRITS!$D$4:$W$501,9,0))","v":""},null,null,null,null,null,null,null,192,{"$f":"IF($N18=\"\",\"\",VLOOKUP($N18,INSCRITS!$D$4:$W$501,6,0))","v":"GONZALES"},{"$f":"IF($N18=\"\",\"\",VLOOKUP($N18,INSCRITS!$D$4:$W$501,7,0))","v":"Ulysse"},{"$f":"IF($N18=\"\",\"\",VLOOKUP($N18,INSCRITS!$D$4:$W$501,9,0))","v":"MIMIZAN SAUVETAGE"},null,12,5]
[null,null,null,{"$f":"IF($C19=\"\",\"\",VLOOKUP($C19,INSCRITS!$D$4:$W$501,6,0))","v":""},null,{"$f":"IF($C19=\"\",\"\",VLOOKUP($C19,INSCRITS!$D$4:$W$501,9,0))","v":""},null,null,null,null,null,null,null,167,{"$f":"IF($N19=\"\",\"\",VLOOKUP($N19,INSCRITS!$D$4:$W$501,6,0))","v":"HERVE"},{"$f":"IF($N19=\"\",\"\",VLOOKUP($N19,INSCRITS!$D$4:$W$501,7,0))","v":"Axel"},{"$f":"IF($N19=\"\",\"\",VLOOKUP($N19,INSCRITS!$D$4:$W$501,9,0))","v":"ASCE DINARD"},null,13,4]
[null,null,null,{"$f":"IF($C20=\"\",\"\",VLOOKUP($C20,INSCRITS!$D$4:$W$501,6,0))","v":""},null,{"$f":"IF($C20=\"\",\"\",VLOOKUP($C20,INSCRITS!$D$4:$W$501,9,0))","v":""},null,null,null,null,null,null,null,194,{"$f":"IF($N20=\"\",\"\",VLOOKUP($N20,INSCRITS!$D$4:$W$501,6,0))","v":"NOGUES"},{"$f":"IF($N20=\"\",\"\",VLOOKUP($N20,INSCRITS!$D$4:$W$501,7,0))","v":"Remi"},{"$f":"IF($N20=\"\",\"\",VLOOKUP($N20,INSCRITS!$D$4:$W$501,9,0))","v":"MNSL"},null,14,3]
[null,null,null,{"$f":"IF($C21=\"\",\"\",VLOOKUP($C21,INSCRITS!$D$4:$W$501,6,0))","v":""},null,{"$f":"IF($C21=\"\",\"\",VLOOKUP($C21,INSCRITS!$D$4:$W$501,9,0))","v":""},null,null,null,null,null,null,null,178,{"$f":"IF($N21=\"\",\"\",VLOOKUP($N21,INSCRITS!$D$4:$W$501,6,0))","v":"SORIA"},{"$f":"IF($N21=\"\",\"\",VLOOKUP($N21,INSCRITS!$D$4:$W$501,7,0))","v":"Samuel"},{"$f":"IF($N21=\"\",\"\",VLOOKUP($N21,INSCRITS!$D$4:$W$501,9,0))","v":"Biarritz SC"},null,15,2]
[null,null,null,{"$f":"IF($C22=\"\",\"\",VLOOKUP($C22,INSCRITS!$D$4:$W$501,6,0))","v":""},null,{"$f":"IF($C22=\"\",\"\",VLOOKUP($C22,INSCRITS!$D$4:$W$501,9,0))","v":""},null,null,null,null,null,null,null,176,{"$f":"IF($N22=\"\",\"\",VLOOKUP($N22,INSCRITS!$D$4:$W$501,6,0))","v":"CALEY"},{"$f":"IF($N22=\"\",\"\",VLOOKUP($N22,INSCRITS!$D$4:$W$501,7,0))","v":"Simon"},{"$f":"IF($N22=\"\",\"\",VLOOKUP($N22,INSCRITS!$D$4:$W$501,9,0))","v":"Biarritz SC"},null,16,1]
[null,null,null,{"$f":"IF($C23=\"\",\"\",VLOOKUP($C23,INSCRITS!$D$4:$W$501,6,0))","v":""},null,{"$f":"IF($C23=\"\",\"\",VLOOKUP($C23,INSCRITS!$D$4:$W$501,9,0))","v":""},null,null,null,null,null,null,null,188,{"$f":"IF($N23=\"\",\"\",VLOOKUP($N23,INSCRITS!$D$4:$W$501,6,0))","v":"FERRIER"},{"$f":"IF($N23=\"\",\"\",VLOOKUP($N23,INSCRITS!$D$4:$W$501,7,0))","v":"Paul"},{"$f":"IF($N23=\"\",\"\",VLOOKUP($N23,INSCRITS!$D$4:$W$501,9,0))","v":"HSC"},null,17,0]
[null,null,null,{"$f":"IF($C24=\"\",\"\",VLOOKUP($C24,INSCRITS!$D$4:$W$501,6,0))","v":""},null,{"$f":"IF($C24=\"\",\"\",VLOOKUP($C24,INSCRITS!$D$4:$W$501,9,0))","v":""},null,null,null,null,null,null,null,195,{"$f":"IF($N24=\"\",\"\",VLOOKUP($N24,INSCRITS!$D$4:$W$501,6,0))","v":"SUBRA"},{"$f":"IF($N24=\"\",\"\",VLOOKUP($N24,INSCRITS!$D$4:$W$501,7,0))","v":"Olivier"},{"$f":"IF($N24=\"\",\"\",VLOOKUP($N24,INSCRITS!$D$4:$W$501,9,0))","v":"MNSL"},null,18,0]
[null,null,null,{"$f":"IF($C25=\"\",\"\",VLOOKUP($C25,INSCRITS!$D$4:$W$501,6,0))","v":""},null,{"$f":"IF($C25=\"\",\"\",VLOOKUP($C25,INSCRITS!$D$4:$W$501,9,0))","v":""},null,null,null,null,null,null,null,182,{"$f":"IF($N25=\"\",\"\",VLOOKUP($N25,INSCRITS!$D$4:$W$501,6,0))","v":"DUBOIS CONSTANT"},{"$f":"IF($N25=\"\",\"\",VLOOKUP($N25,INSCRITS!$D$4:$W$501,7,0))","v":"Antoine"},{"$f":"IF($N25=\"\",\"\",VLOOKUP($N25,INSCRITS!$D$4:$W$501,9,0))","v":"EMULATION SAUVETAGE NATATION PERPIGNAN"},null,19,0]
[null,null,null,{"$f":"IF($C26=\"\",\"\",VLOOKUP($C26,INSCRITS!$D$4:$W$501,6,0))","v":""},null,{"$f":"IF($C26=\"\",\"\",VLOOKUP($C26,INSCRITS!$D$4:$W$501,9,0))","v":""},null,null,null,null,null,null,null,169,{"$f":"IF($N26=\"\",\"\",VLOOKUP($N26,INSCRITS!$D$4:$W$501,6,0))","v":"POUTRIQUET"},{"$f":"IF($N26=\"\",\"\",VLOOKUP($N26,INSCRITS!$D$4:$W$501,7,0))","v":"Maxime"},{"$f":"IF($N26=\"\",\"\",VLOOKUP($N26,INSCRITS!$D$4:$W$501,9,0))","v":"ASCE DINARD"},null,20,0]
[null,null,null,{"$f":"IF($C27=\"\",\"\",VLOOKUP($C27,INSCRITS!$D$4:$W$501,6,0))","v":""},null,{"$f":"IF($C27=\"\",\"\",VLOOKUP($C27,INSCRITS!$D$4:$W$501,9,0))","v":""},null,null,null,null,null,null,null,175,{"$f":"IF($N27=\"\",\"\",VLOOKUP($N27,INSCRITS!$D$4:$W$501,6,0))","v":"PHILIPPEAU"},{"$f":"IF($N27=\"\",\"\",VLOOKUP($N27,INSCRITS!$D$4:$W$501,7,0))","v":"Jodicael"},{"$f":"IF($N27=\"\",\"\",VLOOKUP($N27,INSCRITS!$D$4:$W$501,9,0))","v":"BEGLES"},null,21,0]
[null,null,null,{"$f":"IF($C28=\"\",\"\",VLOOKUP($C28,INSCRITS!$D$4:$W$501,6,0))","v":""},null,{"$f":"IF($C28=\"\",\"\",VLOOKUP($C28,INSCRITS!$D$4:$W$501,9,0))","v":""},null,null,null,null,null,null,null,170,{"$f":"IF($N28=\"\",\"\",VLOOKUP($N28,INSCRITS!$D$4:$W$501,6,0))","v":"RIGOT"},{"$f":"IF($N28=\"\",\"\",VLOOKUP($N28,INSCRITS!$D$4:$W$501,7,0))","v":"Quentin"},{"$f":"IF($N28=\"\",\"\",VLOOKUP($N28,INSCRITS!$D$4:$W$501,9,0))","v":"ASCE DINARD"},null,22,0]
[null,null,null,{"$f":"IF($C29=\"\",\"\",VLOOKUP($C29,INSCRITS!$D$4:$W$501,6,0))","v":""},null,{"$f":"IF($C29=\"\",\"\",VLOOKUP($C29,INSCRITS!$D$4:$W$501,9,0))","v":""},null,null,null,null,null,null,null,197,{"$f":"IF($N29=\"\",\"\",VLOOKUP($N29,INSCRITS!$D$4:$W$501,6,0))","v":"RUAULT"},{"$f":"IF($N29=\"\",\"\",VLOOKUP($N29,INSCRITS!$D$4:$W$501,7,0))","v":"Briag"},{"$f":"IF($N29=\"\",\"\",VLOOKUP($N29,INSCRITS!$D$4:$W$501,9,0))","v":"RENNES BREIZH SAUVETAGE COTIER"},null,23,0]
[null,null,null,{"$f":"IF($C30=\"\",\"\",VLOOKUP($C30,INSCRITS!$D$4:$W$501,6,0))","v":""},null,{"$f":"IF($C30=\"\",\"\",VLOOKUP($C30,INSCRITS!$D$4:$W$501,9,0))","v":""},null,null,null,null,null,null,null,172,{"$f":"IF($N30=\"\",\"\",VLOOKUP($N30,INSCRITS!$D$4:$W$501,6,0))","v":"JEHAN"},{"$f":"IF($N30=\"\",\"\",VLOOKUP($N30,INSCRITS!$D$4:$W$501,7,0))","v":"Thomas"},{"$f":"IF($N30=\"\",\"\",VLOOKUP($N30,INSCRITS!$D$4:$W$501,9,0))","v":"ASCE DINARD "},null,24,0]
[null,null,null,{"$f":"IF($C31=\"\",\"\",VLOOKUP($C31,INSCRITS!$D$4:$W$501,6,0))","v":""},null,{"$f":"IF($C31=\"\",\"\",VLOOKUP($C31,INSCRITS!$D$4:$W$501,9,0))","v":""},null,null,null,null,null,null,null,166,{"$f":"IF($N31=\"\",\"\",VLOOKUP($N31,INSCRITS!$D$4:$W$501,6,0))","v":"DOLE"},{"$f":"IF($N31=\"\",\"\",VLOOKUP($N31,INSCRITS!$D$4:$W$501,7,0))","v":"François"},{"$f":"IF($N31=\"\",\"\",VLOOKUP($N31,INSCRITS!$D$4:$W$501,9,0))","v":"ASCE DINARD"},null,25,0]
[null,null,null,{"$f":"IF($C32=\"\",\"\",VLOOKUP($C32,INSCRITS!$D$4:$W$501,6,0))","v":""},null,{"$f":"IF($C32=\"\",\"\",VLOOKUP($C32,INSCRITS!$D$4:$W$501,9,0))","v":""},null,null,null,null,null,null,null,180,{"$f":"IF($N32=\"\",\"\",VLOOKUP($N32,INSCRITS!$D$4:$W$501,6,0))","v":"DUSSES"},{"$f":"IF($N32=\"\",\"\",VLOOKUP($N32,INSCRITS!$D$4:$W$501,7,0))","v":"Sykvain"},{"$f":"IF($N32=\"\",\"\",VLOOKUP($N32,INSCRITS!$D$4:$W$501,9,0))","v":"Capbreton"},null,26,0]
[null,null,null,{"$f":"IF($C33=\"\",\"\",VLOOKUP($C33,INSCRITS!$D$4:$W$501,6,0))","v":""},null,{"$f":"IF($C33=\"\",\"\",VLOOKUP($C33,INSCRITS!$D$4:$W$501,9,0))","v":""},null,null,null,null,null,null,null,171,{"$f":"IF($N33=\"\",\"\",VLOOKUP($N33,INSCRITS!$D$4:$W$501,6,0))","v":"DABCHY"},{"$f":"IF($N33=\"\",\"\",VLOOKUP($N33,INSCRITS!$D$4:$W$501,7,0))","v":"Yassine"},{"$f":"IF($N33=\"\",\"\",VLOOKUP($N33,INSCRITS!$D$4:$W$501,9,0))","v":"ASCE DINARD "},null,27,0]
[null,"SERIE 2",null,{"$f":"IF($C34=\"\",\"\",VLOOKUP($C34,INSCRITS!$D$4:$W$501,6,0))","v":""},null,{"$f":"IF($C34=\"\",\"\",VLOOKUP($C34,INSCRITS!$D$4:$W$501,9,0))","v":""},null,null,null,null,null,null,null,null,{"$f":"IF($N34=\"\",\"\",VLOOKUP($N34,INSCRITS!$D$4:$W$501,6,0))","v":""},{"$f":"IF($N34=\"\",\"\",VLOOKUP($N34,INSCRITS!$D$4:$W$501,7,0))","v":""},{"$f":"IF($N34=\"\",\"\",VLOOKUP($N34,INSCRITS!$D$4:$W$501,9,0))","v":""},null,"abs",0]
[null,null,null,{"$f":"IF($C35=\"\",\"\",VLOOKUP($C35,INSCRITS!$D$4:$W$501,6,0))","v":""},null,{"$f":"IF($C35=\"\",\"\",VLOOKUP($C35,INSCRITS!$D$4:$W$501,9,0))","v":""},null,null,null,null,null,null,null,181,{"$f":"IF($N35=\"\",\"\",VLOOKUP($N35,INSCRITS!$D$4:$W$501,6,0))","v":"GLIZE"},{"$f":"IF($N35=\"\",\"\",VLOOKUP($N35,INSCRITS!$D$4:$W$501,7,0))","v":"Corentin"},{"$f":"IF($N35=\"\",\"\",VLOOKUP($N35,INSCRITS!$D$4:$W$501,9,0))","v":"Capbreton"},null,"abs",0]
[null,null,null,{"$f":"IF($C36=\"\",\"\",VLOOKUP($C36,INSCRITS!$D$4:$W$501,6,0))","v":""},null,{"$f":"IF($C36=\"\",\"\",VLOOKUP($C36,INSCRITS!$D$4:$W$501,9,0))","v":""},null,null,null,null,null,null,null,162,{"$f":"IF($N36=\"\",\"\",VLOOKUP($N36,INSCRITS!$D$4:$W$501,6,0))","v":"LATAPIE"},{"$f":"IF($N36=\"\",\"\",VLOOKUP($N36,INSCRITS!$D$4:$W$501,7,0))","v":"Robin"},{"$f":"IF($N36=\"\",\"\",VLOOKUP($N36,INSCRITS!$D$4:$W$501,9,0))","v":"AQUALOVE"},null,"disq",0]
[null,null,null,{"$f":"IF($C37=\"\",\"\",VLOOKUP($C37,INSCRITS!$D$4:$W$501,6,0))","v":""},null,{"$f":"IF($C37=\"\",\"\",VLOOKUP($C37,INSCRITS!$D$4:$W$501,9,0))","v":""},null,null,null,null,null,null,null,180,{"$f":"IF($N37=\"\",\"\",VLOOKUP($N37,INSCRITS!$D$4:$W$501,6,0))","v":"DUSSES"},{"$f":"IF($N37=\"\",\"\",VLOOKUP($N37,INSCRITS!$D$4:$W$501,7,0))","v":"Sykvain"},{"$f":"IF($N37=\"\",\"\",VLOOKUP($N37,INSCRITS!$D$4:$W$501,9,0))","v":"Capbreton"},null,"nc",0]
[null,null,null,{"$f":"IF($C38=\"\",\"\",VLOOKUP($C38,INSCRITS!$D$4:$W$501,6,0))","v":""},null,{"$f":"IF($C38=\"\",\"\",VLOOKUP($C38,INSCRITS!$D$4:$W$501,9,0))","v":""},null,null,null,null,null,null,null,null,{"$f":"IF($N38=\"\",\"\",VLOOKUP($N38,INSCRITS!$D$4:$W$501,6,0))","v":""},{"$f":"IF($N38=\"\",\"\",VLOOKUP($N38,INSCRITS!$D$4:$W$501,7,0))","v":""},{"$f":"IF($N38=\"\",\"\",VLOOKUP($N38,INSCRITS!$D$4:$W$501,9,0))","v":""},null,null,""]
[null,null,null,{"$f":"IF($C39=\"\",\"\",VLOOKUP($C39,INSCRITS!$D$4:$W$501,6,0))","v":""},null,{"$f":"IF($C39=\"\",\"\",VLOOKUP($C39,INSCRITS!$D$4:$W$501,9,0))","v":""},null,null,null,null,null,null,null,null,{"$f":"IF($N39=\"\",\"\",VLOOKUP($N39,INSCRITS!$D$4:$W$501,6,0))","v":""},{"$f":"IF($N39=\"\",\"\",VLOOKUP($N39,INSCRITS!$D$4:$W$501,7,0))","v":""},{"$f":"IF($N39=\"\",\"\",VLOOKUP($N39,INSCRITS!$D$4:$W$501,9,0))","v":""},null,null,""]
[null,null,null,{"$f":"IF($C40=\"\",\"\",VLOOKUP($C40,INSCRITS!$D$4:$W$501,6,0))","v":""},null,{"$f":"IF($C40=\"\",\"\",VLOOKUP($C40,INSCRITS!$D$4:$W$501,9,0))","v":""},null,null,null,null,null,null,null,null,{"$f":"IF($N40=\"\",\"\",VLOOKUP($N40,INSCRITS!$D$4:$W$501,6,0))","v":""},{"$f":"IF($N40=\"\",\"\",VLOOKUP($N40,INSCRITS!$D$4:$W$501,7,0))","v":""},{"$f":"IF($N40=\"\",\"\",VLOOKUP($N40,INSCRITS!$D$4:$W$501,9,0))","v":""},null,null,""]
[null,null,null,{"$f":"IF($C41=\"\",\"\",VLOOKUP($C41,INSCRITS!$D$4:$W$501,6,0))","v":""},null,{"$f":"IF($C41=\"\",\"\",VLOOKUP($C41,INSCRITS!$D$4:$W$501,9,0))","v":""},null,null,null,null,null,null,null,null,{"$f":"IF($N41=\"\",\"\",VLOOKUP($N41,INSCRITS!$D$4:$W$501,6,0))","v":""},{"$f":"IF($N41=\"\",\"\",VLOOKUP($N41,INSCRITS!$D$4:$W$501,7,0))","v":""},{"$f":"IF($N41=\"\",\"\",VLOOKUP($N41,INSCRITS!$D$4:$W$501,9,0))","v":""},null,null,""]
[null,null,null,{"$f":"IF($C42=\"\",\"\",VLOOKUP($C42,INSCRITS!$D$4:$W$501,6,0))","v":""},null,{"$f":"IF($C42=\"\",\"\",VLOOKUP($C42,INSCRITS!$D$4:$W$501,9,0))","v":""},null,null,null,null,null,null,null,null,{"$f":"IF($N42=\"\",\"\",VLOOKUP($N42,INSCRITS!$D$4:$W$501,6,0))","v":""},{"$f":"IF($N42=\"\",\"\",VLOOKUP($N42,INSCRITS!$D$4:$W$501,7,0))","v":""},{"$f":"IF($N42=\"\",\"\",VLOOKUP($N42,INSCRITS!$D$4:$W$501,9,0))","v":""},null,null,""]
[null,null,null,{"$f":"IF($C43=\"\",\"\",VLOOKUP($C43,INSCRITS!$D$4:$W$501,6,0))","v":""},null,{"$f":"IF($C43=\"\",\"\",VLOOKUP($C43,INSCRITS!$D$4:$W$501,9,0))","v":""},null,null,null,null,null,null,null,null,{"$f":"IF($N43=\"\",\"\",VLOOKUP($N43,INSCRITS!$D$4:$W$501,6,0))","v":""},{"$f":"IF($N43=\"\",\"\",VLOOKUP($N43,INSCRITS!$D$4:$W$501,7,0))","v":""},{"$f":"IF($N43=\"\",\"\",VLOOKUP($N43,INSCRITS!$D$4:$W$501,9,0))","v":""},null,null,""]
[null,null,null,{"$f":"IF($C44=\"\",\"\",VLOOKUP($C44,INSCRITS!$D$4:$W$501,6,0))","v":""},null,{"$f":"IF($C44=\"\",\"\",VLOOKUP($C44,INSCRITS!$D$4:$W$501,9,0))","v":""},null,null,null,null,null,null,null,null,{"$f":"IF($N44=\"\",\"\",VLOOKUP($N44,INSCRITS!$D$4:$W$501,6,0))","v":""},{"$f":"IF($N44=\"\",\"\",VLOOKUP($N44,INSCRITS!$D$4:$W$501,7,0))","v":""},{"$f":"IF($N44=\"\",\"\",VLOOKUP($N44,INSCRITS!$D$4:$W$501,9,0))","v":""},null,null,""]
[null,null,null,{"$f":"IF($C45=\"\",\"\",VLOOKUP($C45,INSCRITS!$D$4:$W$501,6,0))","v":""},null,{"$f":"IF($C45=\"\",\"\",VLOOKUP($C45,INSCRITS!$D$4:$W$501,9,0))","v":""},null,null,null,null,null,null,null,null,{"$f":"IF($N45=\"\",\"\",VLOOKUP($N45,INSCRITS!$D$4:$W$501,6,0))","v":""},{"$f":"IF($N45=\"\",\"\",VLOOKUP($N45,INSCRITS!$D$4:$W$501,7,0))","v":""},{"$f":"IF($N45=\"\",\"\",VLOOKUP($N45,INSCRITS!$D$4:$W$501,9,0))","v":""},null,null,""]
[null,null,null,{"$f":"IF($C46=\"\",\"\",VLOOKUP($C46,INSCRITS!$D$4:$W$501,6,0))","v":""},null,{"$f":"IF($C46=\"\",\"\",VLOOKUP($C46,INSCRITS!$D$4:$W$501,9,0))","v":""},null,null,null,null,null,null,null,null,{"$f":"IF($N46=\"\",\"\",VLOOKUP($N46,INSCRITS!$D$4:$W$501,6,0))","v":""},{"$f":"IF($N46=\"\",\"\",VLOOKUP($N46,INSCRITS!$D$4:$W$501,7,0))","v":""},{"$f":"IF($N46=\"\",\"\",VLOOKUP($N46,INSCRITS!$D$4:$W$501,9,0))","v":""},null,null,""]
[null,null,null,{"$f":"IF($C47=\"\",\"\",VLOOKUP($C47,INSCRITS!$D$4:$W$501,6,0))","v":""},null,{"$f":"IF($C47=\"\",\"\",VLOOKUP($C47,INSCRITS!$D$4:$W$501,9,0))","v":""},null,null,null,null,null,null,null,null,{"$f":"IF($N47=\"\",\"\",VLOOKUP($N47,INSCRITS!$D$4:$W$501,6,0))","v":""},{"$f":"IF($N47=\"\",\"\",VLOOKUP($N47,INSCRITS!$D$4:$W$501,7,0))","v":""},{"$f":"IF($N47=\"\",\"\",VLOOKUP($N47,INSCRITS!$D$4:$W$501,9,0))","v":""},null,null,""]
[null,null,null,{"$f":"IF($C48=\"\",\"\",VLOOKUP($C48,INSCRITS!$D$4:$W$501,6,0))","v":""},null,{"$f":"IF($C48=\"\",\"\",VLOOKUP($C48,INSCRITS!$D$4:$W$501,9,0))","v":""},null,null,null,null,null,null,null,null,{"$f":"IF($N48=\"\",\"\",VLOOKUP($N48,INSCRITS!$D$4:$W$501,6,0))","v":""},{"$f":"IF($N48=\"\",\"\",VLOOKUP($N48,INSCRITS!$D$4:$W$501,7,0))","v":""},{"$f":"IF($N48=\"\",\"\",VLOOKUP($N48,INSCRITS!$D$4:$W$501,9,0))","v":""},null,null,""]
[null,null,null,{"$f":"IF($C49=\"\",\"\",VLOOKUP($C49,INSCRITS!$D$4:$W$501,6,0))","v":""},null,{"$f":"IF($C49=\"\",\"\",VLOOKUP($C49,INSCRITS!$D$4:$W$501,9,0))","v":""},null,null,null,null,null,null,null,null,{"$f":"IF($N49=\"\",\"\",VLOOKUP($N49,INSCRITS!$D$4:$W$501,6,0))","v":""},{"$f":"IF($N49=\"\",\"\",VLOOKUP($N49,INSCRITS!$D$4:$W$501,7,0))","v":""},{"$f":"IF($N49=\"\",\"\",VLOOKUP($N49,INSCRITS!$D$4:$W$501,9,0))","v":""},null,null,""]
[null,null,null,{"$f":"IF($C50=\"\",\"\",VLOOKUP($C50,INSCRITS!$D$4:$W$501,6,0))","v":""},null,{"$f":"IF($C50=\"\",\"\",VLOOKUP($C50,INSCRITS!$D$4:$W$501,9,0))","v":""},null,null,null,null,null,null,null,null,{"$f":"IF($N50=\"\",\"\",VLOOKUP($N50,INSCRITS!$D$4:$W$501,6,0))","v":""},{"$f":"IF($N50=\"\",\"\",VLOOKUP($N50,INSCRITS!$D$4:$W$501,7,0))","v":""},{"$f":"IF($N50=\"\",\"\",VLOOKUP($N50,INSCRITS!$D$4:$W$501,9,0))","v":""},null,null,""]
[null,null,null,{"$f":"IF($C51=\"\",\"\",VLOOKUP($C51,INSCRITS!$D$4:$W$501,6,0))","v":""},null,{"$f":"IF($C51=\"\",\"\",VLOOKUP($C51,INSCRITS!$D$4:$W$501,9,0))","v":""},null,null,null,null,null,null,null,null,{"$f":"IF($N51=\"\",\"\",VLOOKUP($N51,INSCRITS!$D$4:$W$501,6,0))","v":""},{"$f":"IF($N51=\"\",\"\",VLOOKUP($N51,INSCRITS!$D$4:$W$501,7,0))","v":""},{"$f":"IF($N51=\"\",\"\",VLOOKUP($N51,INSCRITS!$D$4:$W$501,9,0))","v":""},null,null,""]
[null,null,null,{"$f":"IF($C52=\"\",\"\",VLOOKUP($C52,INSCRITS!$D$4:$W$501,6,0))","v":""},null,{"$f":"IF($C52=\"\",\"\",VLOOKUP($C52,INSCRITS!$D$4:$W$501,9,0))","v":""},null,null,null,null,null,null,null,null,{"$f":"IF($N52=\"\",\"\",VLOOKUP($N52,INSCRITS!$D$4:$W$501,6,0))","v":""},{"$f":"IF($N52=\"\",\"\",VLOOKUP($N52,INSCRITS!$D$4:$W$501,7,0))","v":""},{"$f":"IF($N52=\"\",\"\",VLOOKUP($N52,INSCRITS!$D$4:$W$501,9,0))","v":""},null,null,""]
[null,null,null,{"$f":"IF($C53=\"\",\"\",VLOOKUP($C53,INSCRITS!$D$4:$W$501,6,0))","v":""},null,{"$f":"IF($C53=\"\",\"\",VLOOKUP($C53,INSCRITS!$D$4:$W$501,9,0))","v":""},null,null,null,null,null,null,null,null,{"$f":"IF($N53=\"\",\"\",VLOOKUP($N53,INSCRITS!$D$4:$W$501,6,0))","v":""},{"$f":"IF($N53=\"\",\"\",VLOOKUP($N53,INSCRITS!$D$4:$W$501,7,0))","v":""},{"$f":"IF($N53=\"\",\"\",VLOOKUP($N53,INSCRITS!$D$4:$W$501,9,0))","v":""},null,null,""]
[null,null,null,{"$f":"IF($C54=\"\",\"\",VLOOKUP($C54,INSCRITS!$D$4:$W$501,6,0))","v":""},null,{"$f":"IF($C54=\"\",\"\",VLOOKUP($C54,INSCRITS!$D$4:$W$501,9,0))","v":""},null,null,null,null,null,null,null,null,{"$f":"IF($N54=\"\",\"\",VLOOKUP($N54,INSCRITS!$D$4:$W$501,6,0))","v":""},{"$f":"IF($N54=\"\",\"\",VLOOKUP($N54,INSCRITS!$D$4:$W$501,7,0))","v":""},{"$f":"IF($N54=\"\",\"\",VLOOKUP($N54,INSCRITS!$D$4:$W$501,9,0))","v":""},null,null,""]
[null,null,null,{"$f":"IF($C55=\"\",\"\",VLOOKUP($C55,INSCRITS!$D$4:$W$501,6,0))","v":""},null,{"$f":"IF($C55=\"\",\"\",VLOOKUP($C55,INSCRITS!$D$4:$W$501,9,0))","v":""}]
[null,null,null,{"$f":"IF($C56=\"\",\"\",VLOOKUP($C56,INSCRITS!$D$4:$W$501,6,0))","v":""},null,{"$f":"IF($C56=\"\",\"\",VLOOKUP($C56,INSCRITS!$D$4:$W$501,9,0))","v":""}]
[null,null,null,{"$f":"IF($C57=\"\",\"\",VLOOKUP($C57,INSCRITS!$D$4:$W$501,6,0))","v":""},null,{"$f":"IF($C57=\"\",\"\",VLOOKUP($C57,INSCRITS!$D$4:$W$501,9,0))","v":""}]
[null,null,null,{"$f":"IF($C58=\"\",\"\",VLOOKUP($C58,INSCRITS!$D$4:$W$501,6,0))","v":""},null,{"$f":"IF($C58=\"\",\"\",VLOOKUP($C58,INSCRITS!$D$4:$W$501,9,0))","v":""}]
[null,null,null,{"$f":"IF($C59=\"\",\"\",VLOOKUP($C59,INSCRITS!$D$4:$W$501,6,0))","v":""},null,{"$f":"IF($C59=\"\",\"\",VLOOKUP($C59,INSCRITS!$D$4:$W$501,9,0))","v":""}]
[null,null,null,{"$f":"IF($C60=\"\",\"\",VLOOKUP($C60,INSCRITS!$D$4:$W$501,6,0))","v":""},null,{"$f":"IF($C60=\"\",\"\",VLOOKUP($C60,INSCRITS!$D$4:$W$501,9,0))","v":""}]
[null,"SERIE 3",null,{"$f":"IF($C61=\"\",\"\",VLOOKUP($C61,INSCRITS!$D$4:$W$501,6,0))","v":""},null,{"$f":"IF($C61=\"\",\"\",VLOOKUP($C61,INSCRITS!$D$4:$W$501,9,0))","v":""}]
[null,null,null,{"$f":"IF($C62=\"\",\"\",VLOOKUP($C62,INSCRITS!$D$4:$W$501,6,0))","v":""},null,{"$f":"IF($C62=\"\",\"\",VLOOKUP($C62,INSCRITS!$D$4:$W$501,9,0))","v":""}]
[null,null,null,{"$f":"IF($C63=\"\",\"\",VLOOKUP($C63,INSCRITS!$D$4:$W$501,6,0))","v":""},null,{"$f":"IF($C63=\"\",\"\",VLOOKUP($C63,INSCRITS!$D$4:$W$501,9,0))","v":""}]
[null,null,null,{"$f":"IF($C64=\"\",\"\",VLOOKUP($C64,INSCRITS!$D$4:$W$501,6,0))","v":""},null,{"$f":"IF($C64=\"\",\"\",VLOOKUP($C64,INSCRITS!$D$4:$W$501,9,0))","v":""}]
[null,null,null,{"$f":"IF($C65=\"\",\"\",VLOOKUP($C65,INSCRITS!$D$4:$W$501,6,0))","v":""},null,{"$f":"IF($C65=\"\",\"\",VLOOKUP($C65,INSCRITS!$D$4:$W$501,9,0))","v":""}]
[null,null,null,{"$f":"IF($C66=\"\",\"\",VLOOKUP($C66,INSCRITS!$D$4:$W$501,6,0))","v":""},null,{"$f":"IF($C66=\"\",\"\",VLOOKUP($C66,INSCRITS!$D$4:$W$501,9,0))","v":""}]
[null,null,null,{"$f":"IF($C67=\"\",\"\",VLOOKUP($C67,INSCRITS!$D$4:$W$501,6,0))","v":""},null,{"$f":"IF($C67=\"\",\"\",VLOOKUP($C67,INSCRITS!$D$4:$W$501,9,0))","v":""}]
[null,null,null,{"$f":"IF($C68=\"\",\"\",VLOOKUP($C68,INSCRITS!$D$4:$W$501,6,0))","v":""},null,{"$f":"IF($C68=\"\",\"\",VLOOKUP($C68,INSCRITS!$D$4:$W$501,9,0))","v":""}]
[null,null,null,{"$f":"IF($C69=\"\",\"\",VLOOKUP($C69,INSCRITS!$D$4:$W$501,6,0))","v":""},null,{"$f":"IF($C69=\"\",\"\",VLOOKUP($C69,INSCRITS!$D$4:$W$501,9,0))","v":""}]
[null,null,null,{"$f":"IF($C70=\"\",\"\",VLOOKUP($C70,INSCRITS!$D$4:$W$501,6,0))","v":""},null,{"$f":"IF($C70=\"\",\"\",VLOOKUP($C70,INSCRITS!$D$4:$W$501,9,0))","v":""}]
[null,null,null,{"$f":"IF($C71=\"\",\"\",VLOOKUP($C71,INSCRITS!$D$4:$W$501,6,0))","v":""},null,{"$f":"IF($C71=\"\",\"\",VLOOKUP($C71,INSCRITS!$D$4:$W$501,9,0))","v":""}]
[null,null,null,{"$f":"IF($C72=\"\",\"\",VLOOKUP($C72,INSCRITS!$D$4:$W$501,6,0))","v":""},null,{"$f":"IF($C72=\"\",\"\",VLOOKUP($C72,INSCRITS!$D$4:$W$501,9,0))","v":""}]
[null,null,null,{"$f":"IF($C73=\"\",\"\",VLOOKUP($C73,INSCRITS!$D$4:$W$501,6,0))","v":""},null,{"$f":"IF($C73=\"\",\"\",VLOOKUP($C73,INSCRITS!$D$4:$W$501,9,0))","v":""}]
[null,null,null,{"$f":"IF($C74=\"\",\"\",VLOOKUP($C74,INSCRITS!$D$4:$W$501,6,0))","v":""},null,{"$f":"IF($C74=\"\",\"\",VLOOKUP($C74,INSCRITS!$D$4:$W$501,9,0))","v":""}]
[null,null,null,{"$f":"IF($C75=\"\",\"\",VLOOKUP($C75,INSCRITS!$D$4:$W$501,6,0))","v":""},null,{"$f":"IF($C75=\"\",\"\",VLOOKUP($C75,INSCRITS!$D$4:$W$501,9,0))","v":""}]
[null,null,null,{"$f":"IF($C76=\"\",\"\",VLOOKUP($C76,INSCRITS!$D$4:$W$501,6,0))","v":""},null,{"$f":"IF($C76=\"\",\"\",VLOOKUP($C76,INSCRITS!$D$4:$W$501,9,0))","v":""}]
[null,null,null,{"$f":"IF($C77=\"\",\"\",VLOOKUP($C77,INSCRITS!$D$4:$W$501,6,0))","v":""},null,{"$f":"IF($C77=\"\",\"\",VLOOKUP($C77,INSCRITS!$D$4:$W$501,9,0))","v":""}]
[null,null,null,{"$f":"IF($C78=\"\",\"\",VLOOKUP($C78,INSCRITS!$D$4:$W$501,6,0))","v":""},null,{"$f":"IF($C78=\"\",\"\",VLOOKUP($C78,INSCRITS!$D$4:$W$501,9,0))","v":""}]
[null,null,null,{"$f":"IF($C79=\"\",\"\",VLOOKUP($C79,INSCRITS!$D$4:$W$501,6,0))","v":""},null,{"$f":"IF($C79=\"\",\"\",VLOOKUP($C79,INSCRITS!$D$4:$W$501,9,0))","v":""}]
[null,null,null,{"$f":"IF($C80=\"\",\"\",VLOOKUP($C80,INSCRITS!$D$4:$W$501,6,0))","v":""},null,{"$f":"IF($C80=\"\",\"\",VLOOKUP($C80,INSCRITS!$D$4:$W$501,9,0))","v":""}]
[null,null,null,{"$f":"IF($C81=\"\",\"\",VLOOKUP($C81,INSCRITS!$D$4:$W$501,6,0))","v":""},null,{"$f":"IF($C81=\"\",\"\",VLOOKUP($C81,INSCRITS!$D$4:$W$501,9,0))","v":""}]
[null,null,null,{"$f":"IF($C82=\"\",\"\",VLOOKUP($C82,INSCRITS!$D$4:$W$501,6,0))","v":""},null,{"$f":"IF($C82=\"\",\"\",VLOOKUP($C82,INSCRITS!$D$4:$W$501,9,0))","v":""}]
[null,null,null,{"$f":"IF($C83=\"\",\"\",VLOOKUP($C83,INSCRITS!$D$4:$W$501,6,0))","v":""},null,{"$f":"IF($C83=\"\",\"\",VLOOKUP($C83,INSCRITS!$D$4:$W$501,9,0))","v":""}]
[null,null,null,{"$f":"IF($C84=\"\",\"\",VLOOKUP($C84,INSCRITS!$D$4:$W$501,6,0))","v":""},null,{"$f":"IF($C84=\"\",\"\",VLOOKUP($C84,INSCRITS!$D$4:$W$501,9,0))","v":""}]
[null,null,null,{"$f":"IF($C85=\"\",\"\",VLOOKUP($C85,INSCRITS!$D$4:$W$501,6,0))","v":""},null,{"$f":"IF($C85=\"\",\"\",VLOOKUP($C85,INSCRITS!$D$4:$W$501,9,0))","v":""}]
[null,null,null,{"$f":"IF($C86=\"\",\"\",VLOOKUP($C86,INSCRITS!$D$4:$W$501,6,0))","v":""},null,{"$f":"IF($C86=\"\",\"\",VLOOKUP($C86,INSCRITS!$D$4:$W$501,9,0))","v":""}]
[null,null,null,{"$f":"IF($C87=\"\",\"\",VLOOKUP($C87,INSCRITS!$D$4:$W$501,6,0))","v":""},null,{"$f":"IF($C87=\"\",\"\",VLOOKUP($C87,INSCRITS!$D$4:$W$501,9,0))","v":""}]
[null,"SERIE 4",null,{"$f":"IF($C88=\"\",\"\",VLOOKUP($C88,INSCRITS!$D$4:$W$501,6,0))","v":""},null,{"$f":"IF($C88=\"\",\"\",VLOOKUP($C88,INSCRITS!$D$4:$W$501,9,0))","v":""}]
[null,null,null,{"$f":"IF($C89=\"\",\"\",VLOOKUP($C89,INSCRITS!$D$4:$W$501,6,0))","v":""},null,{"$f":"IF($C89=\"\",\"\",VLOOKUP($C89,INSCRITS!$D$4:$W$501,9,0))","v":""}]
[null,null,null,{"$f":"IF($C90=\"\",\"\",VLOOKUP($C90,INSCRITS!$D$4:$W$501,6,0))","v":""},null,{"$f":"IF($C90=\"\",\"\",VLOOKUP($C90,INSCRITS!$D$4:$W$501,9,0))","v":""}]
[null,null,null,{"$f":"IF($C91=\"\",\"\",VLOOKUP($C91,INSCRITS!$D$4:$W$501,6,0))","v":""},null,{"$f":"IF($C91=\"\",\"\",VLOOKUP($C91,INSCRITS!$D$4:$W$501,9,0))","v":""}]
[null,null,null,{"$f":"IF($C92=\"\",\"\",VLOOKUP($C92,INSCRITS!$D$4:$W$501,6,0))","v":""},null,{"$f":"IF($C92=\"\",\"\",VLOOKUP($C92,INSCRITS!$D$4:$W$501,9,0))","v":""}]
[null,null,null,{"$f":"IF($C93=\"\",\"\",VLOOKUP($C93,INSCRITS!$D$4:$W$501,6,0))","v":""},null,{"$f":"IF($C93=\"\",\"\",VLOOKUP($C93,INSCRITS!$D$4:$W$501,9,0))","v":""}]
[null,null,null,{"$f":"IF($C94=\"\",\"\",VLOOKUP($C94,INSCRITS!$D$4:$W$501,6,0))","v":""},null,{"$f":"IF($C94=\"\",\"\",VLOOKUP($C94,INSCRITS!$D$4:$W$501,9,0))","v":""}]
[null,null,null,{"$f":"IF($C95=\"\",\"\",VLOOKUP($C95,INSCRITS!$D$4:$W$501,6,0))","v":""},null,{"$f":"IF($C95=\"\",\"\",VLOOKUP($C95,INSCRITS!$D$4:$W$501,9,0))","v":""}]
[null,null,null,{"$f":"IF($C96=\"\",\"\",VLOOKUP($C96,INSCRITS!$D$4:$W$501,6,0))","v":""},null,{"$f":"IF($C96=\"\",\"\",VLOOKUP($C96,INSCRITS!$D$4:$W$501,9,0))","v":""}]
[null,null,null,{"$f":"IF($C97=\"\",\"\",VLOOKUP($C97,INSCRITS!$D$4:$W$501,6,0))","v":""},null,{"$f":"IF($C97=\"\",\"\",VLOOKUP($C97,INSCRITS!$D$4:$W$501,9,0))","v":""}]
[null,null,null,{"$f":"IF($C98=\"\",\"\",VLOOKUP($C98,INSCRITS!$D$4:$W$501,6,0))","v":""},null,{"$f":"IF($C98=\"\",\"\",VLOOKUP($C98,INSCRITS!$D$4:$W$501,9,0))","v":""}]
[null,null,null,{"$f":"IF($C99=\"\",\"\",VLOOKUP($C99,INSCRITS!$D$4:$W$501,6,0))","v":""},null,{"$f":"IF($C99=\"\",\"\",VLOOKUP($C99,INSCRITS!$D$4:$W$501,9,0))","v":""}]
[null,null,null,{"$f":"IF($C100=\"\",\"\",VLOOKUP($C100,INSCRITS!$D$4:$W$501,6,0))","v":""},null,{"$f":"IF($C100=\"\",\"\",VLOOKUP($C100,INSCRITS!$D$4:$W$501,9,0))","v":""}]
[null,null,null,{"$f":"IF($C101=\"\",\"\",VLOOKUP($C101,INSCRITS!$D$4:$W$501,6,0))","v":""},null,{"$f":"IF($C101=\"\",\"\",VLOOKUP($C101,INSCRITS!$D$4:$W$501,9,0))","v":""}]
[null,null,null,{"$f":"IF($C102=\"\",\"\",VLOOKUP($C102,INSCRITS!$D$4:$W$501,6,0))","v":""},null,{"$f":"IF($C102=\"\",\"\",VLOOKUP($C102,INSCRITS!$D$4:$W$501,9,0))","v":""}]
[null,null,null,{"$f":"IF($C103=\"\",\"\",VLOOKUP($C103,INSCRITS!$D$4:$W$501,6,0))","v":""},null,{"$f":"IF($C103=\"\",\"\",VLOOKUP($C103,INSCRITS!$D$4:$W$501,9,0))","v":""}]
[null,null,null,{"$f":"IF($C104=\"\",\"\",VLOOKUP($C104,INSCRITS!$D$4:$W$501,6,0))","v":""},null,{"$f":"IF($C104=\"\",\"\",VLOOKUP($C104,INSCRITS!$D$4:$W$501,9,0))","v":""}]
[null,null,null,{"$f":"IF($C105=\"\",\"\",VLOOKUP($C105,INSCRITS!$D$4:$W$501,6,0))","v":""},null,{"$f":"IF($C105=\"\",\"\",VLOOKUP($C105,INSCRITS!$D$4:$W$501,9,0))","v":""}]
[null,null,null,{"$f":"IF($C106=\"\",\"\",VLOOKUP($C106,INSCRITS!$D$4:$W$501,6,0))","v":""},null,{"$f":"IF($C106=\"\",\"\",VLOOKUP($C106,INSCRITS!$D$4:$W$501,9,0))","v":""}]
[null,null,null,{"$f":"IF($C107=\"\",\"\",VLOOKUP($C107,INSCRITS!$D$4:$W$501,6,0))","v":""},null,{"$f":"IF($C107=\"\",\"\",VLOOKUP($C107,INSCRITS!$D$4:$W$501,9,0))","v":""}]
[null,null,null,{"$f":"IF($C108=\"\",\"\",VLOOKUP($C108,INSCRITS!$D$4:$W$501,6,0))","v":""},null,{"$f":"IF($C108=\"\",\"\",VLOOKUP($C108,INSCRITS!$D$4:$W$501,9,0))","v":""}]
[null,null,null,{"$f":"IF($C109=\"\",\"\",VLOOKUP($C109,INSCRITS!$D$4:$W$501,6,0))","v":""},null,{"$f":"IF($C109=\"\",\"\",VLOOKUP($C109,INSCRITS!$D$4:$W$501,9,0))","v":""}]
[null,null,null,{"$f":"IF($C110=\"\",\"\",VLOOKUP($C110,INSCRITS!$D$4:$W$501,6,0))","v":""},null,{"$f":"IF($C110=\"\",\"\",VLOOKUP($C110,INSCRITS!$D$4:$W$501,9,0))","v":""}]
[null,null,null,{"$f":"IF($C111=\"\",\"\",VLOOKUP($C111,INSCRITS!$D$4:$W$501,6,0))","v":""},null,{"$f":"IF($C111=\"\",\"\",VLOOKUP($C111,INSCRITS!$D$4:$W$501,9,0))","v":""}]
[null,null,null,{"$f":"IF($C112=\"\",\"\",VLOOKUP($C112,INSCRITS!$D$4:$W$501,6,0))","v":""},null,{"$f":"IF($C112=\"\",\"\",VLOOKUP($C112,INSCRITS!$D$4:$W$501,9,0))","v":""}]
[null,null,null,{"$f":"IF($C113=\"\",\"\",VLOOKUP($C113,INSCRITS!$D$4:$W$501,6,0))","v":""},null,{"$f":"IF($C113=\"\",\"\",VLOOKUP($C113,INSCRITS!$D$4:$W$501,9,0))","v":""}]

{"sheet":"PLANCHE","index":5,"n_rows":173,"n_cols":35,"rows_kept":173,"cut":false,"hidden":false,"merged":[[146,1,159,1],[160,1,173,1],[34,1,47,1],[48,1,61,1],[62,1,75,1],[76,1,89,1],[90,1,103,1],[104,1,117,1],[118,1,131,1],[132,1,145,1],[6,1,19,1],[20,1,33,1],[6,27,21,27],[6,12,23,12],[24,12,41,12],[42,12,59,12],[60,12,77,12],[26,27,41,27],[6,20,23,20],[24,20,41,20]]}
[]
[]
[null,"SERIES Planche",null,null,null,null,null,null,null,null,null,null,"QUART Planche",null,null,null,null,null,null,null,"DEMI-FINALES Planche",null,null,null,null,null,null,null,"FINALE Planche"]
[null,"Messieurs",null,null,null,null,null,null,null,null,null,null,null,null,null,null,null,null,null,null,"Messieurs","Junior",null,null,null,null,null,"Junior","Messieurs"]
[null,null,null,"NOM","Prénom","CLUB","PLACE",null,null,null,null,null,null,null,"NOM","Prénom","CLUB","PLACE",null,null,null,null,"NOM","Prénom","CLUB","PLACE",null,null,"N°","NOM","Prénom","CLUB",null,"PLACE","PTS"]
[]
[null,"SERIE 1",161,{"$f":"IF($C7=\"\",\"\",VLOOKUP($C7,INSCRITS!$D$4:$W$501,6,0))","v":"THEO"},{"$f":"IF($C7=\"\",\"\",VLOOKUP($C7,INSCRITS!$D$4:$W$501,7,0))","v":"Valentin"},{"$f":"IF($C7=\"\",\"\",VLOOKUP($C7,INSCRITS!$D$4:$W$501,9,0))","v":"Amiens sauvetage"},1,null,null,null,null,null,"SERIE 1",null,{"$f":"IF($N7=\"\",\"\",VLOOKUP($N7,INSCRITS!$D$4:$W$501,6,0))","v":""},{"$f":"IF($N7=\"\",\"\",VLOOKUP($N7,INSCRITS!$D$4:$W$501,7,0))","v":""},{"$f":"IF($N7=\"\",\"\",VLOOKUP($N7,INSCRITS!$D$4:$W$501,9,0))","v":""},1,null,null,"SERIE 1",null,{"$f":"IF($V7=\"\",\"\",VLOOKUP($V7,INSCRITS!$D$4:$W$501,6,0))","v":""},{"$f":"IF($V7=\"\",\"\",VLOOKUP($V7,INSCRITS!$D$4:$W$501,7,0))","v":""},{"$f":"IF($V7=\"\",\"\",VLOOKUP($V7,INSCRITS!$D$4:$W$501,9,0))","v":""},null,null,"FINALE A",187,{"$f":"IF($AC7=\"\",\"\",VLOOKUP($AC7,INSCRITS!$D$4:$W$501,6,0))","v":"DEHEZ"},{"$f":"IF($AC7=\"\",\"\",VLOOKUP($AC7,INSCRITS!$D$4:$W$501,7,0))","v":"Rémy"},{"$f":"IF($AC7=\"\",\"\",VLOOKUP($AC7,INSCRITS!$D$4:$W$501,9,0))","v":"HSC"},null,1,{"$f":"IF(AH7=\"\",\"\",VLOOKUP(AH7,points,2))","v":20}]
[null,null,197,{"$f":"IF($C8=\"\",\"\",VLOOKUP($C8,INSCRITS!$D$4:$W$501,6,0))","v":"RUAULT"},{"$f":"IF($C8=\"\",\"\",VLOOKUP($C8,INSCRITS!$D$4:$W$501,7,0))","v":"Briag"},{"$f":"IF($C8=\"\",\"\",VLOOKUP($C8,INSCRITS!$D$4:$W$501,9,0))","v":"RENNES BREIZH SAUVETAGE COTIER"},2,null,null,null,null,null,null,null,{"$f":"IF($N8=\"\",\"\",VLOOKUP($N8,INSCRITS!$D$4:$W$501,6,0))","v":""},{"$f":"IF($N8=\"\",\"\",VLOOKUP($N8,INSCRITS!$D$4:$W$501,7,0))","v":""},{"$f":"IF($N8=\"\",\"\",VLOOKUP($N8,INSCRITS!$D$4:$W$501,9,0))","v":""},2,null,null,null,166,{"$f":"IF($V8=\"\",\"\",VLOOKUP($V8,INSCRITS!$D$4:$W$501,6,0))","v":"DOLE"},{"$f":"IF($V8=\"\",\"\",VLOOKUP($V8,INSCRITS!$D$4:$W$501,7,0))","v":"François"},{"$f":"IF($V8=\"\",\"\",VLOOKUP($V8,INSCRITS!$D$4:$W$501,9,0))","v":"ASCE DINARD"},null,null,null,178,{"$f":"IF($AC8=\"\",\"\",VLOOKUP($AC8,INSCRITS!$D$4:$W$501,6,0))","v":"SORIA"},{"$f":"IF($AC8=\"\",\"\",VLOOKUP($AC8,INSCRITS!$D$4:$W$501,7,0))","v":"Samuel"},{"$f":"IF($AC8=\"\",\"\",VLOOKUP($AC8,INSCRITS!$D$4:$W$501,9,0))","v":"Biarritz SC"},null,2,18]
[null,null,196,{"$f":"IF($C9=\"\",\"\",VLOOKUP($C9,INSCRITS!$D$4:$W$501,6,0))","v":"ZAMBELLI"},{"$f":"IF($C9=\"\",\"\",VLOOKUP($C9,INSCRITS!$D$4:$W$501,7,0))","v":"Sylvain"},{"$f":"IF($C9=\"\",\"\",VLOOKUP($C9,INSCRITS!$D$4:$W$501,9,0))","v":"MNSL"},3,null,null,null,null,null,null,null,{"$f":"IF($N9=\"\",\"\",VLOOKUP($N9,INSCRITS!$D$4:$W$501,6,0))","v":""},{"$f":"IF($N9=\"\",\"\",VLOOKUP($N9,INSCRITS!$D$4:$W$501,7,0))","v":""},{"$f":"IF($N9=\"\",\"\",VLOOKUP($N9,INSCRITS!$D$4:$W$501,9,0))","v":""},3,null,null,null,191,{"$f":"IF($V9=\"\",\"\",VLOOKUP($V9,INSCRITS!$D$4:$W$501,6,0))","v":"DUBLINEAU"},{"$f":"IF($V9=\"\",\"\",VLOOKUP($V9,INSCRITS!$D$4:$W$501,7,0))","v":"Clément"},{"$f":"IF($V9=\"\",\"\",VLOOKUP($V9,INSCRITS!$D$4:$W$501,9,0))","v":"MIMIZAN SAUVETAGE"},null,null,null,173,{"$f":"IF($AC9=\"\",\"\",VLOOKUP($AC9,INSCRITS!$D$4:$W$501,6,0))","v":"FOS"},{"$f":"IF($AC9=\"\",\"\",VLOOKUP($AC9,INSCRITS!$D$4:$W$501,7,0))","v":"Robin"},{"$f":"IF($AC9=\"\",\"\",VLOOKUP($AC9,INSCRITS!$D$4:$W$501,9,0))","v":"BEGLES"},null,3,16]
[null,null,195,{"$f":"IF($C10=\"\",\"\",VLOOKUP($C10,INSCRITS!$D$4:$W$501,6,0))","v":"SUBRA"},{"$f":"IF($C10=\"\",\"\",VLOOKUP($C10,INSCRITS!$D$4:$W$501,7,0))","v":"Olivier"},{"$f":"IF($C10=\"\",\"\",VLOOKUP($C10,INSCRITS!$D$4:$W$501,9,0))","v":"MNSL"},4,null,null,null,null,null,null,null,{"$f":"IF($N10=\"\",\"\",VLOOKUP($N10,INSCRITS!$D$4:$W$501,6,0))","v":""},{"$f":"IF($N10=\"\",\"\",VLOOKUP($N10,INSCRITS!$D$4:$W$501,7,0))","v":""},{"$f":"IF($N10=\"\",\"\",VLOOKUP($N10,INSCRITS!$D$4:$W$501,9,0))","v":""},4,null,null,null,189,{"$f":"IF($V10=\"\",\"\",VLOOKUP($V10,INSCRITS!$D$4:$W$501,6,0))","v":"SOULE SUSBIELLE"},{"$f":"IF($V10=\"\",\"\",VLOOKUP($V10,INSCRITS!$D$4:$W$501,7,0))","v":"Xavier"},{"$f":"IF($V10=\"\",\"\",VLOOKUP($V10,INSCRITS!$D$4:$W$501,9,0))","v":"HSC"},null,null,null,191,{"$f":"IF($AC10=\"\",\"\",VLOOKUP($AC10,INSCRITS!$D$4:$W$501,6,0))","v":"DUBLINEAU"},{"$f":"IF($AC10=\"\",\"\",VLOOKUP($AC10,INSCRITS!$D$4:$W$501,7,0))","v":"Clément"},{"$f":"IF($AC10=\"\",\"\",VLOOKUP($AC10,INSCRITS!$D$4:$W$501,9,0))","v":"MIMIZAN SAUVETAGE"},null,4,14]
[null,null,194,{"$f":"IF($C11=\"\",\"\",VLOOKUP($C11,INSCRITS!$D$4:$W$501,6,0))","v":"NOGUES"},{"$f":"IF($C11=\"\",\"\",VLOOKUP($C11,INSCRITS!$D$4:$W$501,7,0))","v":"Remi"},{"$f":"IF($C11=\"\",\"\",VLOOKUP($C11,INSCRITS!$D$4:$W$501,9,0))","v":"MNSL"},5,null,null,null,null,null,null,null,{"$f":"IF($N11=\"\",\"\",VLOOKUP($N11,INSCRITS!$D$4:$W$501,6,0))","v":""},{"$f":"IF($N11=\"\",\"\",VLOOKUP($N11,INSCRITS!$D$4:$W$501,7,0))","v":""},{"$f":"IF($N11=\"\",\"\",VLOOKUP($N11,INSCRITS!$D$4:$W$501,9,0))","v":""},5,null,null,null,173,{"$f":"IF($V11=\"\",\"\",VLOOKUP($V11,INSCRITS!$D$4:$W$501,6,0))","v":"FOS"},{"$f":"IF($V11=\"\",\"\",VLOOKUP($V11,INSCRITS!$D$4:$W$501,7,0))","v":"Robin"},{"$f":"IF($V11=\"\",\"\",VLOOKUP($V11,INSCRITS!$D$4:$W$501,9,0))","v":"BEGLES"},null,null,null,163,{"$f":"IF($AC11=\"\",\"\",VLOOKUP($AC11,INSCRITS!$D$4:$W$501,6,0))","v":"MARCO"},{"$f":"IF($AC11=\"\",\"\",VLOOKUP($AC11,INSCRITS!$D$4:$W$501,7,0))","v":"Clement"},{"$f":"IF($AC11=\"\",\"\",VLOOKUP($AC11,INSCRITS!$D$4:$W$501,9,0))","v":"AQUALOVE"},null,5,13]
[null,null,193,{"$f":"IF($C12=\"\",\"\",VLOOKUP($C12,INSCRITS!$D$4:$W$501,6,0))","v":"MAILHÉ"},{"$f":"IF($C12=\"\",\"\",VLOOKUP($C12,INSCRITS!$D$4:$W$501,7,0))","v":"Loic"},{"$f":"IF($C12=\"\",\"\",VLOOKUP($C12,INSCRITS!$D$4:$W$501,9,0))","v":"MNSL"},6,null,null,null,null,null,null,null,{"$f":"IF($N12=\"\",\"\",VLOOKUP($N12,INSCRITS!$D$4:$W$501,6,0))","v":""},{"$f":"IF($N12=\"\",\"\",VLOOKUP($N12,INSCRITS!$D$4:$W$501,7,0))","v":""},{"$f":"IF($N12=\"\",\"\",VLOOKUP($N12,INSCRITS!$D$4:$W$501,9,0))","v":""},6,null,null,null,163,{"$f":"IF($V12=\"\",\"\",VLOOKUP($V12,INSCRITS!$D$4:$W$501,6,0))","v":"MARCO"},{"$f":"IF($V12=\"\",\"\",VLOOKUP($V12,INSCRITS!$D$4:$W$501,7,0))","v":"Clement"},{"$f":"IF($V12=\"\",\"\",VLOOKUP($V12,INSCRITS!$D$4:$W$501,9,0))","v":"AQUALOVE"},null,null,null,185,{"$f":"IF($AC12=\"\",\"\",VLOOKUP($AC12,INSCRITS!$D$4:$W$501,6,0))","v":"COUTANCEAU"},{"$f":"IF($AC12=\"\",\"\",VLOOKUP($AC12,INSCRITS!$D$4:$W$501,7,0))","v":"Guillaume"},{"$f":"IF($AC12=\"\",\"\",VLOOKUP($AC12,INSCRITS!$D$4:$W$501,9,0))","v":"ENA"},null,6,12]
[null,null,192,{"$f":"IF($C13=\"\",\"\",VLOOKUP($C13,INSCRITS!$D$4:$W$501,6,0))","v":"GONZALES"},{"$f":"IF($C13=\"\",\"\",VLOOKUP($C13,INSCRITS!$D$4:$W$501,7,0))","v":"Ulysse"},{"$f":"IF($C13=\"\",\"\",VLOOKUP($C13,INSCRITS!$D$4:$W$501,9,0))","v":"MIMIZAN SAUVETAGE"},7,null,null,null,null,null,null,null,{"$f":"IF($N13=\"\",\"\",VLOOKUP($N13,INSCRITS!$D$4:$W$501,6,0))","v":""},{"$f":"IF($N13=\"\",\"\",VLOOKUP($N13,INSCRITS!$D$4:$W$501,7,0))","v":""},{"$f":"IF($N13=\"\",\"\",VLOOKUP($N13,INSCRITS!$D$4:$W$501,9,0))","v":""},7,null,null,null,178,{"$f":"IF($V13=\"\",\"\",VLOOKUP($V13,INSCRITS!$D$4:$W$501,6,0))","v":"SORIA"},{"$f":"IF($V13=\"\",\"\",VLOOKUP($V13,INSCRITS!$D$4:$W$501,7,0))","v":"Samuel"},{"$f":"IF($V13=\"\",\"\",VLOOKUP($V13,INSCRITS!$D$4:$W$501,9,0))","v":"Biarritz SC"},null,null,null,167,{"$f":"IF($AC13=\"\",\"\",VLOOKUP($AC13,INSCRITS!$D$4:$W$501,6,0))","v":"HERVE"},{"$f":"IF($AC13=\"\",\"\",VLOOKUP($AC13,INSCRITS!$D$4:$W$501,7,0))","v":"Axel"},{"$f":"IF($AC13=\"\",\"\",VLOOKUP($AC13,INSCRITS!$D$4:$W$501,9,0))","v":"ASCE DINARD"},null,7,11]
[null,null,191,{"$f":"IF($C14=\"\",\"\",VLOOKUP($C14,INSCRITS!$D$4:$W$501,6,0))","v":"DUBLINEAU"},{"$f":"IF($C14=\"\",\"\",VLOOKUP($C14,INSCRITS!$D$4:$W$501,7,0))","v":"Clément"},{"$f":"IF($C14=\"\",\"\",VLOOKUP($C14,INSCRITS!$D$4:$W$501,9,0))","v":"MIMIZAN SAUVETAGE"},null,null,null,null,null,null,null,null,{"$f":"IF($N14=\"\",\"\",VLOOKUP($N14,INSCRITS!$D$4:$W$501,6,0))","v":""},{"$f":"IF($N14=\"\",\"\",VLOOKUP($N14,INSCRITS!$D$4:$W$501,7,0))","v":""},{"$f":"IF($N14=\"\",\"\",VLOOKUP($N14,INSCRITS!$D$4:$W$501,9,0))","v":""},8,null,null,null,170,{"$f":"IF($V14=\"\",\"\",VLOOKUP($V14,INSCRITS!$D$4:$W$501,6,0))","v":"RIGOT"},{"$f":"IF($V14=\"\",\"\",VLOOKUP($V14,INSCRITS!$D$4:$W$501,7,0))","v":"Quentin"},{"$f":"IF($V14=\"\",\"\",VLOOKUP($V14,INSCRITS!$D$4:$W$501,9,0))","v":"ASCE DINARD"},null,null,null,183,{"$f":"IF($AC14=\"\",\"\",VLOOKUP($AC14,INSCRITS!$D$4:$W$501,6,0))","v":"BLANC"},{"$f":"IF($AC14=\"\",\"\",VLOOKUP($AC14,INSCRITS!$D$4:$W$501,7,0))","v":"Guillaume"},{"$f":"IF($AC14=\"\",\"\",VLOOKUP($AC14,INSCRITS!$D$4:$W$501,9,0))","v":"ENA"},null,8,10]
[null,null,189,{"$f":"IF($C15=\"\",\"\",VLOOKUP($C15,INSCRITS!$D$4:$W$501,6,0))","v":"SOULE SUSBIELLE"},{"$f":"IF($C15=\"\",\"\",VLOOKUP($C15,INSCRITS!$D$4:$W$501,7,0))","v":"Xavier"},{"$f":"IF($C15=\"\",\"\",VLOOKUP($C15,INSCRITS!$D$4:$W$501,9,0))","v":"HSC"},null,null,null,null,null,null,null,null,{"$f":"IF($N15=\"\",\"\",VLOOKUP($N15,INSCRITS!$D$4:$W$501,6,0))","v":""},{"$f":"IF($N15=\"\",\"\",VLOOKUP($N15,INSCRITS!$D$4:$W$501,7,0))","v":""},{"$f":"IF($N15=\"\",\"\",VLOOKUP($N15,INSCRITS!$D$4:$W$501,9,0))","v":""},null,null,null,null,161,{"$f":"IF($V15=\"\",\"\",VLOOKUP($V15,INSCRITS!$D$4:$W$501,6,0))","v":"THEO"},{"$f":"IF($V15=\"\",\"\",VLOOKUP($V15,INSCRITS!$D$4:$W$501,7,0))","v":"Valentin"},{"$f":"IF($V15=\"\",\"\",VLOOKUP($V15,INSCRITS!$D$4:$W$501,9,0))","v":"Amiens sauvetage"},null,null,null,193,{"$f":"IF($AC15=\"\",\"\",VLOOKUP($AC15,INSCRITS!$D$4:$W$501,6,0))","v":"MAILHÉ"},{"$f":"IF($AC15=\"\",\"\",VLOOKUP($AC15,INSCRITS!$D$4:$W$501,7,0))","v":"Loic"},{"$f":"IF($AC15=\"\",\"\",VLOOKUP($AC15,INSCRITS!$D$4:$W$501,9,0))","v":"MNSL"},null,9,8]
[null,null,188,{"$f":"IF($C16=\"\",\"\",VLOOKUP($C16,INSCRITS!$D$4:$W$501,6,0))","v":"FERRIER"},{"$f":"IF($C16=\"\",\"\",VLOOKUP($C16,INSCRITS!$D$4:$W$501,7,0))","v":"Paul"},{"$f":"IF($C16=\"\",\"\",VLOOKUP($C16,INSCRITS!$D$4:$W$501,9,0))","v":"HSC"},null,null,null,null,null,null,null,null,{"$f":"IF($N16=\"\",\"\",VLOOKUP($N16,INSCRITS!$D$4:$W$501,6,0))","v":""},{"$f":"IF($N16=\"\",\"\",VLOOKUP($N16,INSCRITS!$D$4:$W$501,7,0))","v":""},{"$f":"IF($N16=\"\",\"\",VLOOKUP($N16,INSCRITS!$D$4:$W$501,9,0))","v":""},null,null,null,null,186,{"$f":"IF($V16=\"\",\"\",VLOOKUP($V16,INSCRITS!$D$4:$W$501,6,0))","v":"CARISSAN"},{"$f":"IF($V16=\"\",\"\",VLOOKUP($V16,INSCRITS!$D$4:$W$501,7,0))","v":"Ludovic"},{"$f":"IF($V16=\"\",\"\",VLOOKUP($V16,INSCRITS!$D$4:$W$501,9,0))","v":"epstn"},null,null,null,177,{"$f":"IF($AC16=\"\",\"\",VLOOKUP($AC16,INSCRITS!$D$4:$W$501,6,0))","v":"GASQUET"},{"$f":"IF($AC16=\"\",\"\",VLOOKUP($AC16,INSCRITS!$D$4:$W$501,7,0))","v":"Mathieu"},{"$f":"IF($AC16=\"\",\"\",VLOOKUP($AC16,INSCRITS!$D$4:$W$501,9,0))","v":"Biarritz SC"},null,10,7]
[null,null,187,{"$f":"IF($C17=\"\",\"\",VLOOKUP($C17,INSCRITS!$D$4:$W$501,6,0))","v":"DEHEZ"},{"$f":"IF($C17=\"\",\"\",VLOOKUP($C17,INSCRITS!$D$4:$W$501,7,0))","v":"Rémy"},{"$f":"IF($C17=\"\",\"\",VLOOKUP($C17,INSCRITS!$D$4:$W$501,9,0))","v":"HSC"},null,null,null,null,null,null,null,null,{"$f":"IF($N17=\"\",\"\",VLOOKUP($N17,INSCRITS!$D$4:$W$501,6,0))","v":""},{"$f":"IF($N17=\"\",\"\",VLOOKUP($N17,INSCRITS!$D$4:$W$501,7,0))","v":""},{"$f":"IF($N17=\"\",\"\",VLOOKUP($N17,INSCRITS!$D$4:$W$501,9,0))","v":""},null,null,null,null,195,{"$f":"IF($V17=\"\",\"\",VLOOKUP($V17,INSCRITS!$D$4:$W$501,6,0))","v":"SUBRA"},{"$f":"IF($V17=\"\",\"\",VLOOKUP($V17,INSCRITS!$D$4:$W$501,7,0))","v":"Olivier"},{"$f":"IF($V17=\"\",\"\",VLOOKUP($V17,INSCRITS!$D$4:$W$501,9,0))","v":"MNSL"},null,null,null,175,{"$f":"IF($AC17=\"\",\"\",VLOOKUP($AC17,INSCRITS!$D$4:$W$501,6,0))","v":"PHILIPPEAU"},{"$f":"IF($AC17=\"\",\"\",VLOOKUP($AC17,INSCRITS!$D$4:$W$501,7,0))","v":"Jodicael"},{"$f":"IF($AC17=\"\",\"\",VLOOKUP($AC17,INSCRITS!$D$4:$W$501,9,0))","v":"BEGLES"},null,11,6]
[null,null,186,{"$f":"IF($C18=\"\",\"\",VLOOKUP($C18,INSCRITS!$D$4:$W$501,6,0))","v":"CARISSAN"},{"$f":"IF($C18=\"\",\"\",VLOOKUP($C18,INSCRITS!$D$4:$W$501,7,0))","v":"Ludovic"},{"$f":"IF($C18=\"\",\"\",VLOOKUP($C18,INSCRITS!$D$4:$W$501,9,0))","v":"epstn"},null,null,null,null,null,null,null,null,{"$f":"IF($N18=\"\",\"\",VLOOKUP($N18,INSCRITS!$D$4:$W$501,6,0))","v":""},{"$f":"IF($N18=\"\",\"\",VLOOKUP($N18,INSCRITS!$D$4:$W$501,7,0))","v":""},{"$f":"IF($N18=\"\",\"\",VLOOKUP($N18,INSCRITS!$D$4:$W$501,9,0))","v":""},null,null,null,null,181,{"$f":"IF($V18=\"\",\"\",VLOOKUP($V18,INSCRITS!$D$4:$W$501,6,0))","v":"GLIZE"},{"$f":"IF($V18=\"\",\"\",VLOOKUP($V18,INSCRITS!$D$4:$W$501,7,0))","v":"Corentin"},{"$f":"IF($V18=\"\",\"\",VLOOKUP($V18,INSCRITS!$D$4:$W$501,9,0))","v":"Capbreton"},null,null,null,162,{"$f":"IF($AC18=\"\",\"\",VLOOKUP($AC18,INSCRITS!$D$4:$W$501,6,0))","v":"LATAPIE"},{"$f":"IF($AC18=\"\",\"\",VLOOKUP($AC18,INSCRITS!$D$4:$W$501,7,0))","v":"Robin"},{"$f":"IF($AC18=\"\",\"\",VLOOKUP($AC18,INSCRITS!$D$4:$W$501,9,0))","v":"AQUALOVE"},null,12,5]
[null,null,185,{"$f":"IF($C19=\"\",\"\",VLOOKUP($C19,INSCRITS!$D$4:$W$501,6,0))","v":"COUTANCEAU"},{"$f":"IF($C19=\"\",\"\",VLOOKUP($C19,INSCRITS!$D$4:$W$501,7,0))","v":"Guillaume"},{"$f":"IF($C19=\"\",\"\",VLOOKUP($C19,INSCRITS!$D$4:$W$501,9,0))","v":"ENA"},null,null,null,null,null,null,null,null,{"$f":"IF($N19=\"\",\"\",VLOOKUP($N19,INSCRITS!$D$4:$W$501,6,0))","v":""},{"$f":"IF($N19=\"\",\"\",VLOOKUP($N19,INSCRITS!$D$4:$W$501,7,0))","v":""},{"$f":"IF($N19=\"\",\"\",VLOOKUP($N19,INSCRITS!$D$4:$W$501,9,0))","v":""},null,null,null,null,165,{"$f":"IF($V19=\"\",\"\",VLOOKUP($V19,INSCRITS!$D$4:$W$501,6,0))","v":"HAREL"},{"$f":"IF($V19=\"\",\"\",VLOOKUP($V19,INSCRITS!$D$4:$W$501,7,0))","v":"Romain"},{"$f":"IF($V19=\"\",\"\",VLOOKUP($V19,INSCRITS!$D$4:$W$501,9,0))","v":"ASCA44"},null,null,null,192,{"$f":"IF($AC19=\"\",\"\",VLOOKUP($AC19,INSCRITS!$D$4:$W$501,6,0))","v":"GONZALES"},{"$f":"IF($AC19=\"\",\"\",VLOOKUP($AC19,INSCRITS!$D$4:$W$501,7,0))","v":"Ulysse"},{"$f":"IF($AC19=\"\",\"\",VLOOKUP($AC19,INSCRITS!$D$4:$W$501,9,0))","v":"MIMIZAN SAUVETAGE"},null,13,4]
[null,null,184,{"$f":"IF($C20=\"\",\"\",VLOOKUP($C20,INSCRITS!$D$4:$W$501,6,0))","v":"BONNAFONT"},{"$f":"IF($C20=\"\",\"\",VLOOKUP($C20,INSCRITS!$D$4:$W$501,7,0))","v":"Charles"},{"$f":"IF($C20=\"\",\"\",VLOOKUP($C20,INSCRITS!$D$4:$W$501,9,0))","v":"ENA"},null,null,null,null,null,null,null,null,{"$f":"IF($N20=\"\",\"\",VLOOKUP($N20,INSCRITS!$D$4:$W$501,6,0))","v":""},{"$f":"IF($N20=\"\",\"\",VLOOKUP($N20,INSCRITS!$D$4:$W$501,7,0))","v":""},{"$f":"IF($N20=\"\",\"\",VLOOKUP($N20,INSCRITS!$D$4:$W$501,9,0))","v":""},null,null,null,null,174,{"$f":"IF($V20=\"\",\"\",VLOOKUP($V20,INSCRITS!$D$4:$W$501,6,0))","v":"HAZERA"},{"$f":"IF($V20=\"\",\"\",VLOOKUP($V20,INSCRITS!$D$4:$W$501,7,0))","v":"Olivier"},{"$f":"IF($V20=\"\",\"\",VLOOKUP($V20,INSCRITS!$D$4:$W$501,9,0))","v":"BEGLES"},null,null,null,195,{"$f":"IF($AC20=\"\",\"\",VLOOKUP($AC20,INSCRITS!$D$4:$W$501,6,0))","v":"SUBRA"},{"$f":"IF($AC20=\"\",\"\",VLOOKUP($AC20,INSCRITS!$D$4:$W$501,7,0))","v":"Olivier"},{"$f":"IF($AC20=\"\",\"\",VLOOKUP($AC20,INSCRITS!$D$4:$W$501,9,0))","v":"MNSL"},null,14,3]
[null,"SERIE 2",183,{"$f":"IF($C21=\"\",\"\",VLOOKUP($C21,INSCRITS!$D$4:$W$501,6,0))","v":"BLANC"},{"$f":"IF($C21=\"\",\"\",VLOOKUP($C21,INSCRITS!$D$4:$W$501,7,0))","v":"Guillaume"},{"$f":"IF($C21=\"\",\"\",VLOOKUP($C21,INSCRITS!$D$4:$W$501,9,0))","v":"ENA"},1,null,null,null,null,null,null,null,{"$f":"IF($N21=\"\",\"\",VLOOKUP($N21,INSCRITS!$D$4:$W$501,6,0))","v":""},{"$f":"IF($N21=\"\",\"\",VLOOKUP($N21,INSCRITS!$D$4:$W$501,7,0))","v":""},{"$f":"IF($N21=\"\",\"\",VLOOKUP($N21,INSCRITS!$D$4:$W$501,9,0))","v":""},null,null,null,null,182,{"$f":"IF($V21=\"\",\"\",VLOOKUP($V21,INSCRITS!$D$4:$W$501,6,0))","v":"DUBOIS CONSTANT"},{"$f":"IF($V21=\"\",\"\",VLOOKUP($V21,INSCRITS!$D$4:$W$501,7,0))","v":"Antoine"},{"$f":"IF($V21=\"\",\"\",VLOOKUP($V21,INSCRITS!$D$4:$W$501,9,0))","v":"EMULATION SAUVETAGE NATATION PERPIGNAN"},null,null,null,188,{"$f":"IF($AC21=\"\",\"\",VLOOKUP($AC21,INSCRITS!$D$4:$W$501,6,0))","v":"FERRIER"},{"$f":"IF($AC21=\"\",\"\",VLOOKUP($AC21,INSCRITS!$D$4:$W$501,7,0))","v":"Paul"},{"$f":"IF($AC21=\"\",\"\",VLOOKUP($AC21,INSCRITS!$D$4:$W$501,9,0))","v":"HSC"},null,15,2]
[null,null,182,{"$f":"IF($C22=\"\",\"\",VLOOKUP($C22,INSCRITS!$D$4:$W$501,6,0))","v":"DUBOIS CONSTANT"},{"$f":"IF($C22=\"\",\"\",VLOOKUP($C22,INSCRITS!$D$4:$W$501,7,0))","v":"Antoine"},{"$f":"IF($C22=\"\",\"\",VLOOKUP($C22,INSCRITS!$D$4:$W$501,9,0))","v":"EMULATION SAUVETAGE NATATION PERPIGNAN"},2,null,null,null,null,null,null,null,{"$f":"IF($N22=\"\",\"\",VLOOKUP($N22,INSCRITS!$D$4:$W$501,6,0))","v":""},{"$f":"IF($N22=\"\",\"\",VLOOKUP($N22,INSCRITS!$D$4:$W$501,7,0))","v":""},{"$f":"IF($N22=\"\",\"\",VLOOKUP($N22,INSCRITS!$D$4:$W$501,9,0))","v":""},null,null,null,null,185,{"$f":"IF($V22=\"\",\"\",VLOOKUP($V22,INSCRITS!$D$4:$W$501,6,0))","v":"COUTANCEAU"},{"$f":"IF($V22=\"\",\"\",VLOOKUP($V22,INSCRITS!$D$4:$W$501,7,0))","v":"Guillaume"},{"$f":"IF($V22=\"\",\"\",VLOOKUP($V22,INSCRITS!$D$4:$W$501,9,0))","v":"ENA"},null,null,null,194,{"$f":"IF($AC22=\"\",\"\",VLOOKUP($AC22,INSCRITS!$D$4:$W$501,6,0))","v":"NOGUES"},{"$f":"IF($AC22=\"\",\"\",VLOOKUP($AC22,INSCRITS!$D$4:$W$501,7,0))","v":"Remi"},{"$f":"IF($AC22=\"\",\"\",VLOOKUP($AC22,INSCRITS!$D$4:$W$501,9,0))","v":"MNSL"},null,16,1]
[null,null,181,{"$f":"IF($C23=\"\",\"\",VLOOKUP($C23,INSCRITS!$D$4:$W$501,6,0))","v":"GLIZE"},{"$f":"IF($C23=\"\",\"\",VLOOKUP($C23,INSCRITS!$D$4:$W$501,7,0))","v":"Corentin"},{"$f":"IF($C23=\"\",\"\",VLOOKUP($C23,INSCRITS!$D$4:$W$501,9,0))","v":"Capbreton"},3,null,null,null,null,null,null,null,{"$f":"IF($N23=\"\",\"\",VLOOKUP($N23,INSCRITS!$D$4:$W$501,6,0))","v":""},{"$f":"IF($N23=\"\",\"\",VLOOKUP($N23,INSCRITS!$D$4:$W$501,7,0))","v":""},{"$f":"IF($N23=\"\",\"\",VLOOKUP($N23,INSCRITS!$D$4:$W$501,9,0))","v":""},null,null,null,null,162,{"$f":"IF($V23=\"\",\"\",VLOOKUP($V23,INSCRITS!$D$4:$W$501,6,0))","v":"LATAPIE"},{"$f":"IF($V23=\"\",\"\",VLOOKUP($V23,INSCRITS!$D$4:$W$501,7,0))","v":"Robin"},{"$f":"IF($V23=\"\",\"\",VLOOKUP($V23,INSCRITS!$D$4:$W$501,9,0))","v":"AQUALOVE"}]
[null,null,180,{"$f":"IF($C24=\"\",\"\",VLOOKUP($C24,INSCRITS!$D$4:$W$501,6,0))","v":"DUSSES"},{"$f":"IF($C24=\"\",\"\",VLOOKUP($C24,INSCRITS!$D$4:$W$501,7,0))","v":"Sykvain"},{"$f":"IF($C24=\"\",\"\",VLOOKUP($C24,INSCRITS!$D$4:$W$501,9,0))","v":"Capbreton"},4,null,null,null,null,null,null,null,{"$f":"IF($N24=\"\",\"\",VLOOKUP($N24,INSCRITS!$D$4:$W$501,6,0))","v":""},{"$f":"IF($N24=\"\",\"\",VLOOKUP($N24,INSCRITS!$D$4:$W$501,7,0))","v":""},{"$f":"IF($N24=\"\",\"\",VLOOKUP($N24,INSCRITS!$D$4:$W$501,9,0))","v":""},null,null,null,null,177,{"$f":"IF($V24=\"\",\"\",VLOOKUP($V24,INSCRITS!$D$4:$W$501,6,0))","v":"GASQUET"},{"$f":"IF($V24=\"\",\"\",VLOOKUP($V24,INSCRITS!$D$4:$W$501,7,0))","v":"Mathieu"},{"$f":"IF($V24=\"\",\"\",VLOOKUP($V24,INSCRITS!$D$4:$W$501,9,0))","v":"Biarritz SC"},null,null,null,"Messieurs"]
[null,null,179,{"$f":"IF($C25=\"\",\"\",VLOOKUP($C25,INSCRITS!$D$4:$W$501,6,0))","v":"KATOUH"},{"$f":"IF($C25=\"\",\"\",VLOOKUP($C25,INSCRITS!$D$4:$W$501,7,0))","v":"Karim"},{"$f":"IF($C25=\"\",\"\",VLOOKUP($C25,INSCRITS!$D$4:$W$501,9,0))","v":"Cannes Sauvetage Côtier"},5,null,null,null,null,null,"SERIE 2",null,{"$f":"IF($N25=\"\",\"\",VLOOKUP($N25,INSCRITS!$D$4:$W$501,6,0))","v":""},{"$f":"IF($N25=\"\",\"\",VLOOKUP($N25,INSCRITS!$D$4:$W$501,7,0))","v":""},{"$f":"IF($N25=\"\",\"\",VLOOKUP($N25,INSCRITS!$D$4:$W$501,9,0))","v":""},1,null,null,"SERIE 2",171,{"$f":"IF($V25=\"\",\"\",VLOOKUP($V25,INSCRITS!$D$4:$W$501,6,0))","v":"DABCHY"},{"$f":"IF($V25=\"\",\"\",VLOOKUP($V25,INSCRITS!$D$4:$W$501,7,0))","v":"Yassine"},{"$f":"IF($V25=\"\",\"\",VLOOKUP($V25,INSCRITS!$D$4:$W$501,9,0))","v":"ASCE DINARD "},null,null,null,"N°","NOM","Prénom","CLUB",null,"PLACE"]
[null,null,178,{"$f":"IF($C26=\"\",\"\",VLOOKUP($C26,INSCRITS!$D$4:$W$501,6,0))","v":"SORIA"},{"$f":"IF($C26=\"\",\"\",VLOOKUP($C26,INSCRITS!$D$4:$W$501,7,0))","v":"Samuel"},{"$f":"IF($C26=\"\",\"\",VLOOKUP($C26,INSCRITS!$D$4:$W$501,9,0))","v":"Biarritz SC"},6,null,null,null,null,null,null,null,{"$f":"IF($N26=\"\",\"\",VLOOKUP($N26,INSCRITS!$D$4:$W$501,6,0))","v":""},{"$f":"IF($N26=\"\",\"\",VLOOKUP($N26,INSCRITS!$D$4:$W$501,7,0))","v":""},{"$f":"IF($N26=\"\",\"\",VLOOKUP($N26,INSCRITS!$D$4:$W$501,9,0))","v":""},2,null,null,null,187,{"$f":"IF($V26=\"\",\"\",VLOOKUP($V26,INSCRITS!$D$4:$W$501,6,0))","v":"DEHEZ"},{"$f":"IF($V26=\"\",\"\",VLOOKUP($V26,INSCRITS!$D$4:$W$501,7,0))","v":"Rémy"},{"$f":"IF($V26=\"\",\"\",VLOOKUP($V26,INSCRITS!$D$4:$W$501,9,0))","v":"HSC"}]
[null,null,177,{"$f":"IF($C27=\"\",\"\",VLOOKUP($C27,INSCRITS!$D$4:$W$501,6,0))","v":"GASQUET"},{"$f":"IF($C27=\"\",\"\",VLOOKUP($C27,INSCRITS!$D$4:$W$501,7,0))","v":"Mathieu"},{"$f":"IF($C27=\"\",\"\",VLOOKUP($C27,INSCRITS!$D$4:$W$501,9,0))","v":"Biarritz SC"},7,null,null,null,null,null,null,null,{"$f":"IF($N27=\"\",\"\",VLOOKUP($N27,INSCRITS!$D$4:$W$501,6,0))","v":""},{"$f":"IF($N27=\"\",\"\",VLOOKUP($N27,INSCRITS!$D$4:$W$501,7,0))","v":""},{"$f":"IF($N27=\"\",\"\",VLOOKUP($N27,INSCRITS!$D$4:$W$501,9,0))","v":""},3,null,null,null,188,{"$f":"IF($V27=\"\",\"\",VLOOKUP($V27,INSCRITS!$D$4:$W$501,6,0))","v":"FERRIER"},{"$f":"IF($V27=\"\",\"\",VLOOKUP($V27,INSCRITS!$D$4:$W$501,7,0))","v":"Paul"},{"$f":"IF($V27=\"\",\"\",VLOOKUP($V27,INSCRITS!$D$4:$W$501,9,0))","v":"HSC"},null,null,"FINALE B",null,{"$f":"IF($AC27=\"\",\"\",VLOOKUP($AC27,INSCRITS!$D$4:$W$501,6,0))","v":""},{"$f":"IF($AC27=\"\",\"\",VLOOKUP($AC27,INSCRITS!$D$4:$W$501,7,0))","v":""},{"$f":"IF($AC27=\"\",\"\",VLOOKUP($AC27,INSCRITS!$D$4:$W$501,9,0))","v":""},null,1]
[null,null,176,{"$f":"IF($C28=\"\",\"\",VLOOKUP($C28,INSCRITS!$D$4:$W$501,6,0))","v":"CALEY"},{"$f":"IF($C28=\"\",\"\",VLOOKUP($C28,INSCRITS!$D$4:$W$501,7,0))","v":"Simon"},{"$f":"IF($C28=\"\",\"\",VLOOKUP($C28,INSCRITS!$D$4:$W$501,9,0))","v":"Biarritz SC"},null,null,null,null,null,null,null,null,{"$f":"IF($N28=\"\",\"\",VLOOKUP($N28,INSCRITS!$D$4:$W$501,6,0))","v":""},{"$f":"IF($N28=\"\",\"\",VLOOKUP($N28,INSCRITS!$D$4:$W$501,7,0))","v":""},{"$f":"IF($N28=\"\",\"\",VLOOKUP($N28,INSCRITS!$D$4:$W$501,9,0))","v":""},4,null,null,null,169,{"$f":"IF($V28=\"\",\"\",VLOOKUP($V28,INSCRITS!$D$4:$W$501,6,0))","v":"POUTRIQUET"},{"$f":"IF($V28=\"\",\"\",VLOOKUP($V28,INSCRITS!$D$4:$W$501,7,0))","v":"Maxime"},{"$f":"IF($V28=\"\",\"\",VLOOKUP($V28,INSCRITS!$D$4:$W$501,9,0))","v":"ASCE DINARD"},null,null,null,null,{"$f":"IF($AC28=\"\",\"\",VLOOKUP($AC28,INSCRITS!$D$4:$W$501,6,0))","v":""},{"$f":"IF($AC28=\"\",\"\",VLOOKUP($AC28,INSCRITS!$D$4:$W$501,7,0))","v":""},{"$f":"IF($AC28=\"\",\"\",VLOOKUP($AC28,INSCRITS!$D$4:$W$501,9,0))","v":""},null,2]
[null,null,175,{"$f":"IF($C29=\"\",\"\",VLOOKUP($C29,INSCRITS!$D$4:$W$501,6,0))","v":"PHILIPPEAU"},{"$f":"IF($C29=\"\",\"\",VLOOKUP($C29,INSCRITS!$D$4:$W$501,7,0))","v":"Jodicael"},{"$f":"IF($C29=\"\",\"\",VLOOKUP($C29,INSCRITS!$D$4:$W$501,9,0))","v":"BEGLES"},null,null,null,null,null,null,null,null,{"$f":"IF($N29=\"\",\"\",VLOOKUP($N29,INSCRITS!$D$4:$W$501,6,0))","v":""},{"$f":"IF($N29=\"\",\"\",VLOOKUP($N29,INSCRITS!$D$4:$W$501,7,0))","v":""},{"$f":"IF($N29=\"\",\"\",VLOOKUP($N29,INSCRITS!$D$4:$W$501,9,0))","v":""},5,null,null,null,180,{"$f":"IF($V29=\"\",\"\",VLOOKUP($V29,INSCRITS!$D$4:$W$501,6,0))","v":"DUSSES"},{"$f":"IF($V29=\"\",\"\",VLOOKUP($V29,INSCRITS!$D$4:$W$501,7,0))","v":"Sykvain"},{"$f":"IF($V29=\"\",\"\",VLOOKUP($V29,INSCRITS!$D$4:$W$501,9,0))","v":"Capbreton"},null,null,null,null,{"$f":"IF($AC29=\"\",\"\",VLOOKUP($AC29,INSCRITS!$D$4:$W$501,6,0))","v":""},{"$f":"IF($AC29=\"\",\"\",VLOOKUP($AC29,INSCRITS!$D$4:$W$501,7,0))","v":""},{"$f":"IF($AC29=\"\",\"\",VLOOKUP($AC29,INSCRITS!$D$4:$W$501,9,0))","v":""},null,3]
[null,null,174,{"$f":"IF($C30=\"\",\"\",VLOOKUP($C30,INSCRITS!$D$4:$W$501,6,0))","v":"HAZERA"},{"$f":"IF($C30=\"\",\"\",VLOOKUP($C30,INSCRITS!$D$4:$W$501,7,0))","v":"Olivier"},{"$f":"IF($C30=\"\",\"\",VLOOKUP($C30,INSCRITS!$D$4:$W$501,9,0))","v":"BEGLES"},null,null,null,null,null,null,null,null,{"$f":"IF($N30=\"\",\"\",VLOOKUP($N30,INSCRITS!$D$4:$W$501,6,0))","v":""},{"$f":"IF($N30=\"\",\"\",VLOOKUP($N30,INSCRITS!$D$4:$W$501,7,0))","v":""},{"$f":"IF($N30=\"\",\"\",VLOOKUP($N30,INSCRITS!$D$4:$W$501,9,0))","v":""},6,null,null,null,197,{"$f":"IF($V30=\"\",\"\",VLOOKUP($V30,INSCRITS!$D$4:$W$501,6,0))","v":"RUAULT"},{"$f":"IF($V30=\"\",\"\",VLOOKUP($V30,INSCRITS!$D$4:$W$501,7,0))","v":"Briag"},{"$f":"IF($V30=\"\",\"\",VLOOKUP($V30,INSCRITS!$D$4:$W$501,9,0))","v":"RENNES BREIZH SAUVETAGE COTIER"},null,null,null,null,{"$f":"IF($AC30=\"\",\"\",VLOOKUP($AC30,INSCRITS!$D$4:$W$501,6,0))","v":""},{"$f":"IF($AC30=\"\",\"\",VLOOKUP($AC30,INSCRITS!$D$4:$W$501,7,0))","v":""},{"$f":"IF($AC30=\"\",\"\",VLOOKUP($AC30,INSCRITS!$D$4:$W$501,9,0))","v":""},null,4]
[null,null,173,{"$f":"IF($C31=\"\",\"\",VLOOKUP($C31,INSCRITS!$D$4:$W$501,6,0))","v":"FOS"},{"$f":"IF($C31=\"\",\"\",VLOOKUP($C31,INSCRITS!$D$4:$W$501,7,0))","v":"Robin"},{"$f":"IF($C31=\"\",\"\",VLOOKUP($C31,INSCRITS!$D$4:$W$501,9,0))","v":"BEGLES"},null,null,null,null,null,null,null,null,{"$f":"IF($N31=\"\",\"\",VLOOKUP($N31,INSCRITS!$D$4:$W$501,6,0))","v":""},{"$f":"IF($N31=\"\",\"\",VLOOKUP($N31,INSCRITS!$D$4:$W$501,7,0))","v":""},{"$f":"IF($N31=\"\",\"\",VLOOKUP($N31,INSCRITS!$D$4:$W$501,9,0))","v":""},7,null,null,null,194,{"$f":"IF($V31=\"\",\"\",VLOOKUP($V31,INSCRITS!$D$4:$W$501,6,0))","v":"NOGUES"},{"$f":"IF($V31=\"\",\"\",VLOOKUP($V31,INSCRITS!$D$4:$W$501,7,0))","v":"Remi"},{"$f":"IF($V31=\"\",\"\",VLOOKUP($V31,INSCRITS!$D$4:$W$501,9,0))","v":"MNSL"},null,null,null,null,{"$f":"IF($AC31=\"\",\"\",VLOOKUP($AC31,INSCRITS!$D$4:$W$501,6,0))","v":""},{"$f":"IF($AC31=\"\",\"\",VLOOKUP($AC31,INSCRITS!$D$4:$W$501,7,0))","v":""},{"$f":"IF($AC31=\"\",\"\",VLOOKUP($AC31,INSCRITS!$D$4:$W$501,9,0))","v":""},null,5]
[null,null,172,{"$f":"IF($C32=\"\",\"\",VLOOKUP($C32,INSCRITS!$D$4:$W$501,6,0))","v":"JEHAN"},{"$f":"IF($C32=\"\",\"\",VLOOKUP($C32,INSCRITS!$D$4:$W$501,7,0))","v":"Thomas"},{"$f":"IF($C32=\"\",\"\",VLOOKUP($C32,INSCRITS!$D$4:$W$501,9,0))","v":"ASCE DINARD "},null,null,null,null,null,null,null,null,{"$f":"IF($N32=\"\",\"\",VLOOKUP($N32,INSCRITS!$D$4:$W$501,6,0))","v":""},{"$f":"IF($N32=\"\",\"\",VLOOKUP($N32,INSCRITS!$D$4:$W$501,7,0))","v":""},{"$f":"IF($N32=\"\",\"\",VLOOKUP($N32,INSCRITS!$D$4:$W$501,9,0))","v":""},8,null,null,null,167,{"$f":"IF($V32=\"\",\"\",VLOOKUP($V32,INSCRITS!$D$4:$W$501,6,0))","v":"HERVE"},{"$f":"IF($V32=\"\",\"\",VLOOKUP($V32,INSCRITS!$D$4:$W$501,7,0))","v":"Axel"},{"$f":"IF($V32=\"\",\"\",VLOOKUP($V32,INSCRITS!$D$4:$W$501,9,0))","v":"ASCE DINARD"},null,null,null,null,{"$f":"IF($AC32=\"\",\"\",VLOOKUP($AC32,INSCRITS!$D$4:$W$501,6,0))","v":""},{"$f":"IF($AC32=\"\",\"\",VLOOKUP($AC32,INSCRITS!$D$4:$W$501,7,0))","v":""},{"$f":"IF($AC32=\"\",\"\",VLOOKUP($AC32,INSCRITS!$D$4:$W$501,9,0))","v":""},null,6]
[null,null,171,{"$f":"IF($C33=\"\",\"\",VLOOKUP($C33,INSCRITS!$D$4:$W$501,6,0))","v":"DABCHY"},{"$f":"IF($C33=\"\",\"\",VLOOKUP($C33,INSCRITS!$D$4:$W$501,7,0))","v":"Yassine"},{"$f":"IF($C33=\"\",\"\",VLOOKUP($C33,INSCRITS!$D$4:$W$501,9,0))","v":"ASCE DINARD "},null,null,null,null,null,null,null,null,{"$f":"IF($N33=\"\",\"\",VLOOKUP($N33,INSCRITS!$D$4:$W$501,6,0))","v":""},{"$f":"IF($N33=\"\",\"\",VLOOKUP($N33,INSCRITS!$D$4:$W$501,7,0))","v":""},{"$f":"IF($N33=\"\",\"\",VLOOKUP($N33,INSCRITS!$D$4:$W$501,9,0))","v":""},null,null,null,null,192,{"$f":"IF($V33=\"\",\"\",VLOOKUP($V33,INSCRITS!$D$4:$W$501,6,0))","v":"GONZALES"},{"$f":"IF($V33=\"\",\"\",VLOOKUP($V33,INSCRITS!$D$4:$W$501,7,0))","v":"Ulysse"},{"$f":"IF($V33=\"\",\"\",VLOOKUP($V33,INSCRITS!$D$4:$W$501,9,0))","v":"MIMIZAN SAUVETAGE"},null,null,null,null,{"$f":"IF($AC33=\"\",\"\",VLOOKUP($AC33,INSCRITS!$D$4:$W$501,6,0))","v":""},{"$f":"IF($AC33=\"\",\"\",VLOOKUP($AC33,INSCRITS!$D$4:$W$501,7,0))","v":""},{"$f":"IF($AC33=\"\",\"\",VLOOKUP($AC33,INSCRITS!$D$4:$W$501,9,0))","v":""},null,7]
[null,null,170,{"$f":"IF($C34=\"\",\"\",VLOOKUP($C34,INSCRITS!$D$4:$W$501,6,0))","v":"RIGOT"},{"$f":"IF($C34=\"\",\"\",VLOOKUP($C34,INSCRITS!$D$4:$W$501,7,0))","v":"Quentin"},{"$f":"IF($C34=\"\",\"\",VLOOKUP($C34,INSCRITS!$D$4:$W$501,9,0))","v":"ASCE DINARD"},null,null,null,null,null,null,null,null,{"$f":"IF($N34=\"\",\"\",VLOOKUP($N34,INSCRITS!$D$4:$W$501,6,0))","v":""},{"$f":"IF($N34=\"\",\"\",VLOOKUP($N34,INSCRITS!$D$4:$W$501,7,0))","v":""},{"$f":"IF($N34=\"\",\"\",VLOOKUP($N34,INSCRITS!$D$4:$W$501,9,0))","v":""},null,null,null,null,179,{"$f":"IF($V34=\"\",\"\",VLOOKUP($V34,INSCRITS!$D$4:$W$501,6,0))","v":"KATOUH"},{"$f":"IF($V34=\"\",\"\",VLOOKUP($V34,INSCRITS!$D$4:$W$501,7,0))","v":"Karim"},{"$f":"IF($V34=\"\",\"\",VLOOKUP($V34,INSCRITS!$D$4:$W$501,9,0))","v":"Cannes Sauvetage Côtier"},null,null,null,null,{"$f":"IF($AC34=\"\",\"\",VLOOKUP($AC34,INSCRITS!$D$4:$W$501,6,0))","v":""},{"$f":"IF($AC34=\"\",\"\",VLOOKUP($AC34,INSCRITS!$D$4:$W$501,7,0))","v":""},{"$f":"IF($AC34=\"\",\"\",VLOOKUP($AC34,INSCRITS!$D$4:$W$501,9,0))","v":""},null,8]
[null,"SERIE 3",169,{"$f":"IF($C35=\"\",\"\",VLOOKUP($C35,INSCRITS!$D$4:$W$501,6,0))","v":"POUTRIQUET"},{"$f":"IF($C35=\"\",\"\",VLOOKUP($C35,INSCRITS!$D$4:$W$501,7,0))","v":"Maxime"},{"$f":"IF($C35=\"\",\"\",VLOOKUP($C35,INSCRITS!$D$4:$W$501,9,0))","v":"ASCE DINARD"},1,null,null,null,null,null,null,null,{"$f":"IF($N35=\"\",\"\",VLOOKUP($N35,INSCRITS!$D$4:$W$501,6,0))","v":""},{"$f":"IF($N35=\"\",\"\",VLOOKUP($N35,INSCRITS!$D$4:$W$501,7,0))","v":""},{"$f":"IF($N35=\"\",\"\",VLOOKUP($N35,INSCRITS!$D$4:$W$501,9,0))","v":""},null,null,null,null,175,{"$f":"IF($V35=\"\",\"\",VLOOKUP($V35,INSCRITS!$D$4:$W$501,6,0))","v":"PHILIPPEAU"},{"$f":"IF($V35=\"\",\"\",VLOOKUP($V35,INSCRITS!$D$4:$W$501,7,0))","v":"Jodicael"},{"$f":"IF($V35=\"\",\"\",VLOOKUP($V35,INSCRITS!$D$4:$W$501,9,0))","v":"BEGLES"},null,null,null,null,{"$f":"IF($AC35=\"\",\"\",VLOOKUP($AC35,INSCRITS!$D$4:$W$501,6,0))","v":""},{"$f":"IF($AC35=\"\",\"\",VLOOKUP($AC35,INSCRITS!$D$4:$W$501,7,0))","v":""},{"$f":"IF($AC35=\"\",\"\",VLOOKUP($AC35,INSCRITS!$D$4:$W$501,9,0))","v":""},null,9]
[null,null,168,{"$f":"IF($C36=\"\",\"\",VLOOKUP($C36,INSCRITS!$D$4:$W$501,6,0))","v":{"$error":"#N/A"}},{"$f":"IF($C36=\"\",\"\",VLOOKUP($C36,INSCRITS!$D$4:$W$501,7,0))","v":{"$error":"#N/A"}},{"$f":"IF($C36=\"\",\"\",VLOOKUP($C36,INSCRITS!$D$4:$W$501,9,0))","v":{"$error":"#N/A"}},2,null,null,null,null,null,null,null,{"$f":"IF($N36=\"\",\"\",VLOOKUP($N36,INSCRITS!$D$4:$W$501,6,0))","v":""},{"$f":"IF($N36=\"\",\"\",VLOOKUP($N36,INSCRITS!$D$4:$W$501,7,0))","v":""},{"$f":"IF($N36=\"\",\"\",VLOOKUP($N36,INSCRITS!$D$4:$W$501,9,0))","v":""},null,null,null,null,183,{"$f":"IF($V36=\"\",\"\",VLOOKUP($V36,INSCRITS!$D$4:$W$501,6,0))","v":"BLANC"},{"$f":"IF($V36=\"\",\"\",VLOOKUP($V36,INSCRITS!$D$4:$W$501,7,0))","v":"Guillaume"},{"$f":"IF($V36=\"\",\"\",VLOOKUP($V36,INSCRITS!$D$4:$W$501,9,0))","v":"ENA"},null,null,null,null,{"$f":"IF($AC36=\"\",\"\",VLOOKUP($AC36,INSCRITS!$D$4:$W$501,6,0))","v":""},{"$f":"IF($AC36=\"\",\"\",VLOOKUP($AC36,INSCRITS!$D$4:$W$501,7,0))","v":""},{"$f":"IF($AC36=\"\",\"\",VLOOKUP($AC36,INSCRITS!$D$4:$W$501,9,0))","v":""},null,10]
[null,null,167,{"$f":"IF($C37=\"\",\"\",VLOOKUP($C37,INSCRITS!$D$4:$W$501,6,0))","v":"HERVE"},{"$f":"IF($C37=\"\",\"\",VLOOKUP($C37,INSCRITS!$D$4:$W$501,7,0))","v":"Axel"},{"$f":"IF($C37=\"\",\"\",VLOOKUP($C37,INSCRITS!$D$4:$W$501,9,0))","v":"ASCE DINARD"},3,null,null,null,null,null,null,null,{"$f":"IF($N37=\"\",\"\",VLOOKUP($N37,INSCRITS!$D$4:$W$501,6,0))","v":""},{"$f":"IF($N37=\"\",\"\",VLOOKUP($N37,INSCRITS!$D$4:$W$501,7,0))","v":""},{"$f":"IF($N37=\"\",\"\",VLOOKUP($N37,INSCRITS!$D$4:$W$501,9,0))","v":""},null,null,null,null,176,{"$f":"IF($V37=\"\",\"\",VLOOKUP($V37,INSCRITS!$D$4:$W$501,6,0))","v":"CALEY"},{"$f":"IF($V37=\"\",\"\",VLOOKUP($V37,INSCRITS!$D$4:$W$501,7,0))","v":"Simon"},{"$f":"IF($V37=\"\",\"\",VLOOKUP($V37,INSCRITS!$D$4:$W$501,9,0))","v":"Biarritz SC"},null,null,null,null,{"$f":"IF($AC37=\"\",\"\",VLOOKUP($AC37,INSCRITS!$D$4:$W$501,6,0))","v":""},{"$f":"IF($AC37=\"\",\"\",VLOOKUP($AC37,INSCRITS!$D$4:$W$501,7,0))","v":""},{"$f":"IF($AC37=\"\",\"\",VLOOKUP($AC37,INSCRITS!$D$4:$W$501,9,0))","v":""},null,11]
[null,null,166,{"$f":"IF($C38=\"\",\"\",VLOOKUP($C38,INSCRITS!$D$4:$W$501,6,0))","v":"DOLE"},{"$f":"IF($C38=\"\",\"\",VLOOKUP($C38,INSCRITS!$D$4:$W$501,7,0))","v":"François"},{"$f":"IF($C38=\"\",\"\",VLOOKUP($C38,INSCRITS!$D$4:$W$501,9,0))","v":"ASCE DINARD"},4,null,null,null,null,null,null,null,{"$f":"IF($N38=\"\",\"\",VLOOKUP($N38,INSCRITS!$D$4:$W$501,6,0))","v":""},{"$f":"IF($N38=\"\",\"\",VLOOKUP($N38,INSCRITS!$D$4:$W$501,7,0))","v":""},{"$f":"IF($N38=\"\",\"\",VLOOKUP($N38,INSCRITS!$D$4:$W$501,9,0))","v":""},null,null,null,null,184,{"$f":"IF($V38=\"\",\"\",VLOOKUP($V38,INSCRITS!$D$4:$W$501,6,0))","v":"BONNAFONT"},{"$f":"IF($V38=\"\",\"\",VLOOKUP($V38,INSCRITS!$D$4:$W$501,7,0))","v":"Charles"},{"$f":"IF($V38=\"\",\"\",VLOOKUP($V38,INSCRITS!$D$4:$W$501,9,0))","v":"ENA"},null,null,null,null,{"$f":"IF($AC38=\"\",\"\",VLOOKUP($AC38,INSCRITS!$D$4:$W$501,6,0))","v":""},{"$f":"IF($AC38=\"\",\"\",VLOOKUP($AC38,INSCRITS!$D$4:$W$501,7,0))","v":""},{"$f":"IF($AC38=\"\",\"\",VLOOKUP($AC38,INSCRITS!$D$4:$W$501,9,0))","v":""},null,12]
[null,null,165,{"$f":"IF($C39=\"\",\"\",VLOOKUP($C39,INSCRITS!$D$4:$W$501,6,0))","v":"HAREL"},{"$f":"IF($C39=\"\",\"\",VLOOKUP($C39,INSCRITS!$D$4:$W$501,7,0))","v":"Romain"},{"$f":"IF($C39=\"\",\"\",VLOOKUP($C39,INSCRITS!$D$4:$W$501,9,0))","v":"ASCA44"},5,null,null,null,null,null,null,null,{"$f":"IF($N39=\"\",\"\",VLOOKUP($N39,INSCRITS!$D$4:$W$501,6,0))","v":""},{"$f":"IF($N39=\"\",\"\",VLOOKUP($N39,INSCRITS!$D$4:$W$501,7,0))","v":""},{"$f":"IF($N39=\"\",\"\",VLOOKUP($N39,INSCRITS!$D$4:$W$501,9,0))","v":""},null,null,null,null,196,{"$f":"IF($V39=\"\",\"\",VLOOKUP($V39,INSCRITS!$D$4:$W$501,6,0))","v":"ZAMBELLI"},{"$f":"IF($V39=\"\",\"\",VLOOKUP($V39,INSCRITS!$D$4:$W$501,7,0))","v":"Sylvain"},{"$f":"IF($V39=\"\",\"\",VLOOKUP($V39,INSCRITS!$D$4:$W$501,9,0))","v":"MNSL"},null,null,null,null,{"$f":"IF($AC39=\"\",\"\",VLOOKUP($AC39,INSCRITS!$D$4:$W$501,6,0))","v":""},{"$f":"IF($AC39=\"\",\"\",VLOOKUP($AC39,INSCRITS!$D$4:$W$501,7,0))","v":""},{"$f":"IF($AC39=\"\",\"\",VLOOKUP($AC39,INSCRITS!$D$4:$W$501,9,0))","v":""},null,13]
[null,null,164,{"$f":"IF($C40=\"\",\"\",VLOOKUP($C40,INSCRITS!$D$4:$W$501,6,0))","v":{"$error":"#N/A"}},{"$f":"IF($C40=\"\",\"\",VLOOKUP($C40,INSCRITS!$D$4:$W$501,7,0))","v":{"$error":"#N/A"}},{"$f":"IF($C40=\"\",\"\",VLOOKUP($C40,INSCRITS!$D$4:$W$501,9,0))","v":{"$error":"#N/A"}},6,null,null,null,null,null,null,null,{"$f":"IF($N40=\"\",\"\",VLOOKUP($N40,INSCRITS!$D$4:$W$501,6,0))","v":""},{"$f":"IF($N40=\"\",\"\",VLOOKUP($N40,INSCRITS!$D$4:$W$501,7,0))","v":""},{"$f":"IF($N40=\"\",\"\",VLOOKUP($N40,INSCRITS!$D$4:$W$501,9,0))","v":""},null,null,null,null,193,{"$f":"IF($V40=\"\",\"\",VLOOKUP($V40,INSCRITS!$D$4:$W$501,6,0))","v":"MAILHÉ"},{"$f":"IF($V40=\"\",\"\",VLOOKUP($V40,INSCRITS!$D$4:$W$501,7,0))","v":"Loic"},{"$f":"IF($V40=\"\",\"\",VLOOKUP($V40,INSCRITS!$D$4:$W$501,9,0))","v":"MNSL"},null,null,null,null,{"$f":"IF($AC40=\"\",\"\",VLOOKUP($AC40,INSCRITS!$D$4:$W$501,6,0))","v":""},{"$f":"IF($AC40=\"\",\"\",VLOOKUP($AC40,INSCRITS!$D$4:$W$501,7,0))","v":""},{"$f":"IF($AC40=\"\",\"\",VLOOKUP($AC40,INSCRITS!$D$4:$W$501,9,0))","v":""},null,14]
[null,null,163,{"$f":"IF($C41=\"\",\"\",VLOOKUP($C41,INSCRITS!$D$4:$W$501,6,0))","v":"MARCO"},{"$f":"IF($C41=\"\",\"\",VLOOKUP($C41,INSCRITS!$D$4:$W$501,7,0))","v":"Clement"},{"$f":"IF($C41=\"\",\"\",VLOOKUP($C41,INSCRITS!$D$4:$W$501,9,0))","v":"AQUALOVE"},7,null,null,null,null,null,null,null,{"$f":"IF($N41=\"\",\"\",VLOOKUP($N41,INSCRITS!$D$4:$W$501,6,0))","v":""},{"$f":"IF($N41=\"\",\"\",VLOOKUP($N41,INSCRITS!$D$4:$W$501,7,0))","v":""},{"$f":"IF($N41=\"\",\"\",VLOOKUP($N41,INSCRITS!$D$4:$W$501,9,0))","v":""},null,null,null,null,172,{"$f":"IF($V41=\"\",\"\",VLOOKUP($V41,INSCRITS!$D$4:$W$501,6,0))","v":"JEHAN"},{"$f":"IF($V41=\"\",\"\",VLOOKUP($V41,INSCRITS!$D$4:$W$501,7,0))","v":"Thomas"},{"$f":"IF($V41=\"\",\"\",VLOOKUP($V41,INSCRITS!$D$4:$W$501,9,0))","v":"ASCE DINARD "},null,null,null,null,{"$f":"IF($AC41=\"\",\"\",VLOOKUP($AC41,INSCRITS!$D$4:$W$501,6,0))","v":""},{"$f":"IF($AC41=\"\",\"\",VLOOKUP($AC41,INSCRITS!$D$4:$W$501,7,0))","v":""},{"$f":"IF($AC41=\"\",\"\",VLOOKUP($AC41,INSCRITS!$D$4:$W$501,9,0))","v":""},null,"DISQ"]
[null,null,162,{"$f":"IF($C42=\"\",\"\",VLOOKUP($C42,INSCRITS!$D$4:$W$501,6,0))","v":"LATAPIE"},{"$f":"IF($C42=\"\",\"\",VLOOKUP($C42,INSCRITS!$D$4:$W$501,7,0))","v":"Robin"},{"$f":"IF($C42=\"\",\"\",VLOOKUP($C42,INSCRITS!$D$4:$W$501,9,0))","v":"AQUALOVE"},null,null,null,null,null,null,null,null,{"$f":"IF($N42=\"\",\"\",VLOOKUP($N42,INSCRITS!$D$4:$W$501,6,0))","v":""},{"$f":"IF($N42=\"\",\"\",VLOOKUP($N42,INSCRITS!$D$4:$W$501,7,0))","v":""},{"$f":"IF($N42=\"\",\"\",VLOOKUP($N42,INSCRITS!$D$4:$W$501,9,0))","v":""},null,null,null,null,null,{"$f":"IF($V42=\"\",\"\",VLOOKUP($V42,INSCRITS!$D$4:$W$501,6,0))","v":""},{"$f":"IF($V42=\"\",\"\",VLOOKUP($V42,INSCRITS!$D$4:$W$501,7,0))","v":""},{"$f":"IF($V42=\"\",\"\",VLOOKUP($V42,INSCRITS!$D$4:$W$501,9,0))","v":""},null,null,null,null,{"$f":"IF($AC42=\"\",\"\",VLOOKUP($AC42,INSCRITS!$D$4:$W$501,6,0))","v":""},{"$f":"IF($AC42=\"\",\"\",VLOOKUP($AC42,INSCRITS!$D$4:$W$501,7,0))","v":""},{"$f":"IF($AC42=\"\",\"\",VLOOKUP($AC42,INSCRITS!$D$4:$W$501,9,0))","v":""}]
[null,null,null,{"$f":"IF($C43=\"\",\"\",VLOOKUP($C43,INSCRITS!$D$4:$W$501,6,0))","v":""},{"$f":"IF($C43=\"\",\"\",VLOOKUP($C43,INSCRITS!$D$4:$W$501,7,0))","v":""},{"$f":"IF($C43=\"\",\"\",VLOOKUP($C43,INSCRITS!$D$4:$W$501,9,0))","v":""},null,null,null,null,null,null,"SERIE 3",null,{"$f":"IF($N43=\"\",\"\",VLOOKUP($N43,INSCRITS!$D$4:$W$501,6,0))","v":""},{"$f":"IF($N43=\"\",\"\",VLOOKUP($N43,INSCRITS!$D$4:$W$501,7,0))","v":""},{"$f":"IF($N43=\"\",\"\",VLOOKUP($N43,INSCRITS!$D$4:$W$501,9,0))","v":""},1]
[null,null,null,{"$f":"IF($C44=\"\",\"\",VLOOKUP($C44,INSCRITS!$D$4:$W$501,6,0))","v":""},{"$f":"IF($C44=\"\",\"\",VLOOKUP($C44,INSCRITS!$D$4:$W$501,7,0))","v":""},{"$f":"IF($C44=\"\",\"\",VLOOKUP($C44,INSCRITS!$D$4:$W$501,9,0))","v":""},null,null,null,null,null,null,null,null,{"$f":"IF($N44=\"\",\"\",VLOOKUP($N44,INSCRITS!$D$4:$W$501,6,0))","v":""},{"$f":"IF($N44=\"\",\"\",VLOOKUP($N44,INSCRITS!$D$4:$W$501,7,0))","v":""},{"$f":"IF($N44=\"\",\"\",VLOOKUP($N44,INSCRITS!$D$4:$W$501,9,0))","v":""},2]
[null,null,null,{"$f":"IF($C45=\"\",\"\",VLOOKUP($C45,INSCRITS!$D$4:$W$501,6,0))","v":""},{"$f":"IF($C45=\"\",\"\",VLOOKUP($C45,INSCRITS!$D$4:$W$501,7,0))","v":""},{"$f":"IF($C45=\"\",\"\",VLOOKUP($C45,INSCRITS!$D$4:$W$501,9,0))","v":""},null,null,null,null,null,null,null,null,{"$f":"IF($N45=\"\",\"\",VLOOKUP($N45,INSCRITS!$D$4:$W$501,6,0))","v":""},{"$f":"IF($N45=\"\",\"\",VLOOKUP($N45,INSCRITS!$D$4:$W$501,7,0))","v":""},{"$f":"IF($N45=\"\",\"\",VLOOKUP($N45,INSCRITS!$D$4:$W$501,9,0))","v":""},3]
[null,null,null,{"$f":"IF($C46=\"\",\"\",VLOOKUP($C46,INSCRITS!$D$4:$W$501,6,0))","v":""},{"$f":"IF($C46=\"\",\"\",VLOOKUP($C46,INSCRITS!$D$4:$W$501,7,0))","v":""},{"$f":"IF($C46=\"\",\"\",VLOOKUP($C46,INSCRITS!$D$4:$W$501,9,0))","v":""},null,null,null,null,null,null,null,null,{"$f":"IF($N46=\"\",\"\",VLOOKUP($N46,INSCRITS!$D$4:$W$501,6,0))","v":""},{"$f":"IF($N46=\"\",\"\",VLOOKUP($N46,INSCRITS!$D$4:$W$501,7,0))","v":""},{"$f":"IF($N46=\"\",\"\",VLOOKUP($N46,INSCRITS!$D$4:$W$501,9,0))","v":""},4]
[null,null,null,{"$f":"IF($C47=\"\",\"\",VLOOKUP($C47,INSCRITS!$D$4:$W$501,6,0))","v":""},{"$f":"IF($C47=\"\",\"\",VLOOKUP($C47,INSCRITS!$D$4:$W$501,7,0))","v":""},{"$f":"IF($C47=\"\",\"\",VLOOKUP($C47,INSCRITS!$D$4:$W$501,9,0))","v":""},null,null,null,null,null,null,null,null,{"$f":"IF($N47=\"\",\"\",VLOOKUP($N47,INSCRITS!$D$4:$W$501,6,0))","v":""},{"$f":"IF($N47=\"\",\"\",VLOOKUP($N47,INSCRITS!$D$4:$W$501,7,0))","v":""},{"$f":"IF($N47=\"\",\"\",VLOOKUP($N47,INSCRITS!$D$4:$W$501,9,0))","v":""},5]
[null,null,null,{"$f":"IF($C48=\"\",\"\",VLOOKUP($C48,INSCRITS!$D$4:$W$501,6,0))","v":""},{"$f":"IF($C48=\"\",\"\",VLOOKUP($C48,INSCRITS!$D$4:$W$501,7,0))","v":""},{"$f":"IF($C48=\"\",\"\",VLOOKUP($C48,INSCRITS!$D$4:$W$501,9,0))","v":""},null,null,null,null,null,null,null,null,{"$f":"IF($N48=\"\",\"\",VLOOKUP($N48,INSCRITS!$D$4:$W$501,6,0))","v":""},{"$f":"IF($N48=\"\",\"\",VLOOKUP($N48,INSCRITS!$D$4:$W$501,7,0))","v":""},{"$f":"IF($N48=\"\",\"\",VLOOKUP($N48,INSCRITS!$D$4:$W$501,9,0))","v":""},6]
[null,"SERIE 4",null,{"$f":"IF($C49=\"\",\"\",VLOOKUP($C49,INSCRITS!$D$4:$W$501,6,0))","v":""},{"$f":"IF($C49=\"\",\"\",VLOOKUP($C49,INSCRITS!$D$4:$W$501,7,0))","v":""},{"$f":"IF($C49=\"\",\"\",VLOOKUP($C49,INSCRITS!$D$4:$W$501,9,0))","v":""},1,null,null,null,null,null,null,null,{"$f":"IF($N49=\"\",\"\",VLOOKUP($N49,INSCRITS!$D$4:$W$501,6,0))","v":""},{"$f":"IF($N49=\"\",\"\",VLOOKUP($N49,INSCRITS!$D$4:$W$501,7,0))","v":""},{"$f":"IF($N49=\"\",\"\",VLOOKUP($N49,INSCRITS!$D$4:$W$501,9,0))","v":""},7]
[null,null,null,{"$f":"IF($C50=\"\",\"\",VLOOKUP($C50,INSCRITS!$D$4:$W$501,6,0))","v":""},{"$f":"IF($C50=\"\",\"\",VLOOKUP($C50,INSCRITS!$D$4:$W$501,7,0))","v":""},{"$f":"IF($C50=\"\",\"\",VLOOKUP($C50,INSCRITS!$D$4:$W$501,9,0))","v":""},2,null,null,null,null,null,null,null,{"$f":"IF($N50=\"\",\"\",VLOOKUP($N50,INSCRITS!$D$4:$W$501,6,0))","v":""},{"$f":"IF($N50=\"\",\"\",VLOOKUP($N50,INSCRITS!$D$4:$W$501,7,0))","v":""},{"$f":"IF($N50=\"\",\"\",VLOOKUP($N50,INSCRITS!$D$4:$W$501,9,0))","v":""},8]
[null,null,null,{"$f":"IF($C51=\"\",\"\",VLOOKUP($C51,INSCRITS!$D$4:$W$501,6,0))","v":""},{"$f":"IF($C51=\"\",\"\",VLOOKUP($C51,INSCRITS!$D$4:$W$501,7,0))","v":""},{"$f":"IF($C51=\"\",\"\",VLOOKUP($C51,INSCRITS!$D$4:$W$501,9,0))","v":""},3,null,null,null,null,null,null,null,{"$f":"IF($N51=\"\",\"\",VLOOKUP($N51,INSCRITS!$D$4:$W$501,6,0))","v":""},{"$f":"IF($N51=\"\",\"\",VLOOKUP($N51,INSCRITS!$D$4:$W$501,7,0))","v":""},{"$f":"IF($N51=\"\",\"\",VLOOKUP($N51,INSCRITS!$D$4:$W$501,9,0))","v":""}]
[null,null,null,{"$f":"IF($C52=\"\",\"\",VLOOKUP($C52,INSCRITS!$D$4:$W$501,6,0))","v":""},{"$f":"IF($C52=\"\",\"\",VLOOKUP($C52,INSCRITS!$D$4:$W$501,7,0))","v":""},{"$f":"IF($C52=\"\",\"\",VLOOKUP($C52,INSCRITS!$D$4:$W$501,9,0))","v":""},4,null,null,null,null,null,null,null,{"$f":"IF($N52=\"\",\"\",VLOOKUP($N52,INSCRITS!$D$4:$W$501,6,0))","v":""},{"$f":"IF($N52=\"\",\"\",VLOOKUP($N52,INSCRITS!$D$4:$W$501,7,0))","v":""},{"$f":"IF($N52=\"\",\"\",VLOOKUP($N52,INSCRITS!$D$4:$W$501,9,0))","v":""}]
[null,null,null,{"$f":"IF($C53=\"\",\"\",VLOOKUP($C53,INSCRITS!$D$4:$W$501,6,0))","v":""},{"$f":"IF($C53=\"\",\"\",VLOOKUP($C53,INSCRITS!$D$4:$W$501,7,0))","v":""},{"$f":"IF($C53=\"\",\"\",VLOOKUP($C53,INSCRITS!$D$4:$W$501,9,0))","v":""},5,null,null,null,null,null,null,null,{"$f":"IF($N53=\"\",\"\",VLOOKUP($N53,INSCRITS!$D$4:$W$501,6,0))","v":""},{"$f":"IF($N53=\"\",\"\",VLOOKUP($N53,INSCRITS!$D$4:$W$501,7,0))","v":""},{"$f":"IF($N53=\"\",\"\",VLOOKUP($N53,INSCRITS!$D$4:$W$501,9,0))","v":""}]
[null,null,null,{"$f":"IF($C54=\"\",\"\",VLOOKUP($C54,INSCRITS!$D$4:$W$501,6,0))","v":""},{"$f":"IF($C54=\"\",\"\",VLOOKUP($C54,INSCRITS!$D$4:$W$501,7,0))","v":""},{"$f":"IF($C54=\"\",\"\",VLOOKUP($C54,INSCRITS!$D$4:$W$501,9,0))","v":""},6,null,null,null,null,null,null,null,{"$f":"IF($N54=\"\",\"\",VLOOKUP($N54,INSCRITS!$D$4:$W$501,6,0))","v":""},{"$f":"IF($N54=\"\",\"\",VLOOKUP($N54,INSCRITS!$D$4:$W$501,7,0))","v":""},{"$f":"IF($N54=\"\",\"\",VLOOKUP($N54,INSCRITS!$D$4:$W$501,9,0))","v":""}]
[null,null,null,{"$f":"IF($C55=\"\",\"\",VLOOKUP($C55,INSCRITS!$D$4:$W$501,6,0))","v":""},{"$f":"IF($C55=\"\",\"\",VLOOKUP($C55,INSCRITS!$D$4:$W$501,7,0))","v":""},{"$f":"IF($C55=\"\",\"\",VLOOKUP($C55,INSCRITS!$D$4:$W$501,9,0))","v":""},7,null,null,null,null,null,null,null,{"$f":"IF($N55=\"\",\"\",VLOOKUP($N55,INSCRITS!$D$4:$W$501,6,0))","v":""},{"$f":"IF($N55=\"\",\"\",VLOOKUP($N55,INSCRITS!$D$4:$W$501,7,0))","v":""},{"$f":"IF($N55=\"\",\"\",VLOOKUP($N55,INSCRITS!$D$4:$W$501,9,0))","v":""}]
[null,null,null,{"$f":"IF($C56=\"\",\"\",VLOOKUP($C56,INSCRITS!$D$4:$W$501,6,0))","v":""},{"$f":"IF($C56=\"\",\"\",VLOOKUP($C56,INSCRITS!$D$4:$W$501,7,0))","v":""},{"$f":"IF($C56=\"\",\"\",VLOOKUP($C56,INSCRITS!$D$4:$W$501,9,0))","v":""},null,null,null,null,null,null,null,null,{"$f":"IF($N56=\"\",\"\",VLOOKUP($N56,INSCRITS!$D$4:$W$501,6,0))","v":""},{"$f":"IF($N56=\"\",\"\",VLOOKUP($N56,INSCRITS!$D$4:$W$501,7,0))","v":""},{"$f":"IF($N56=\"\",\"\",VLOOKUP($N56,INSCRITS!$D$4:$W$501,9,0))","v":""}]
[null,null,null,{"$f":"IF($C57=\"\",\"\",VLOOKUP($C57,INSCRITS!$D$4:$W$501,6,0))","v":""},{"$f":"IF($C57=\"\",\"\",VLOOKUP($C57,INSCRITS!$D$4:$W$501,7,0))","v":""},{"$f":"IF($C57=\"\",\"\",VLOOKUP($C57,INSCRITS!$D$4:$W$501,9,0))","v":""},null,null,null,null,null,null,null,null,{"$f":"IF($N57=\"\",\"\",VLOOKUP($N57,INSCRITS!$D$4:$W$501,6,0))","v":""},{"$f":"IF($N57=\"\",\"\",VLOOKUP($N57,INSCRITS!$D$4:$W$501,7,0))","v":""},{"$f":"IF($N57=\"\",\"\",VLOOKUP($N57,INSCRITS!$D$4:$W$501,9,0))","v":""}]
[null,null,null,{"$f":"IF($C58=\"\",\"\",VLOOKUP($C58,INSCRITS!$D$4:$W$501,6,0))","v":""},{"$f":"IF($C58=\"\",\"\",VLOOKUP($C58,INSCRITS!$D$4:$W$501,7,0))","v":""},{"$f":"IF($C58=\"\",\"\",VLOOKUP($C58,INSCRITS!$D$4:$W$501,9,0))","v":""},null,null,null,null,null,null,null,null,{"$f":"IF($N58=\"\",\"\",VLOOKUP($N58,INSCRITS!$D$4:$W$501,6,0))","v":""},{"$f":"IF($N58=\"\",\"\",VLOOKUP($N58,INSCRITS!$D$4:$W$501,7,0))","v":""},{"$f":"IF($N58=\"\",\"\",VLOOKUP($N58,INSCRITS!$D$4:$W$501,9,0))","v":""}]
[null,null,null,{"$f":"IF($C59=\"\",\"\",VLOOKUP($C59,INSCRITS!$D$4:$W$501,6,0))","v":""},{"$f":"IF($C59=\"\",\"\",VLOOKUP($C59,INSCRITS!$D$4:$W$501,7,0))","v":""},{"$f":"IF($C59=\"\",\"\",VLOOKUP($C59,INSCRITS!$D$4:$W$501,9,0))","v":""},null,null,null,null,null,null,null,null,{"$f":"IF($N59=\"\",\"\",VLOOKUP($N59,INSCRITS!$D$4:$W$501,6,0))","v":""},{"$f":"IF($N59=\"\",\"\",VLOOKUP($N59,INSCRITS!$D$4:$W$501,7,0))","v":""},{"$f":"IF($N59=\"\",\"\",VLOOKUP($N59,INSCRITS!$D$4:$W$501,9,0))","v":""}]
[null,null,null,{"$f":"IF($C60=\"\",\"\",VLOOKUP($C60,INSCRITS!$D$4:$W$501,6,0))","v":""},{"$f":"IF($C60=\"\",\"\",VLOOKUP($C60,INSCRITS!$D$4:$W$501,7,0))","v":""},{"$f":"IF($C60=\"\",\"\",VLOOKUP($C60,INSCRITS!$D$4:$W$501,9,0))","v":""},null,null,null,null,null,null,null,null,{"$f":"IF($N60=\"\",\"\",VLOOKUP($N60,INSCRITS!$D$4:$W$501,6,0))","v":""},{"$f":"IF($N60=\"\",\"\",VLOOKUP($N60,INSCRITS!$D$4:$W$501,7,0))","v":""},{"$f":"IF($N60=\"\",\"\",VLOOKUP($N60,INSCRITS!$D$4:$W$501,9,0))","v":""}]
[null,null,null,{"$f":"IF($C61=\"\",\"\",VLOOKUP($C61,INSCRITS!$D$4:$W$501,6,0))","v":""},{"$f":"IF($C61=\"\",\"\",VLOOKUP($C61,INSCRITS!$D$4:$W$501,7,0))","v":""},{"$f":"IF($C61=\"\",\"\",VLOOKUP($C61,INSCRITS!$D$4:$W$501,9,0))","v":""},null,null,null,null,null,null,"SERIE 4",null,{"$f":"IF($N61=\"\",\"\",VLOOKUP($N61,INSCRITS!$D$4:$W$501,6,0))","v":""},{"$f":"IF($N61=\"\",\"\",VLOOKUP($N61,INSCRITS!$D$4:$W$501,7,0))","v":""},{"$f":"IF($N61=\"\",\"\",VLOOKUP($N61,INSCRITS!$D$4:$W$501,9,0))","v":""},1]
[null,null,null,{"$f":"IF($C62=\"\",\"\",VLOOKUP($C62,INSCRITS!$D$4:$W$501,6,0))","v":""},{"$f":"IF($C62=\"\",\"\",VLOOKUP($C62,INSCRITS!$D$4:$W$501,7,0))","v":""},{"$f":"IF($C62=\"\",\"\",VLOOKUP($C62,INSCRITS!$D$4:$W$501,9,0))","v":""},null,null,null,null,null,null,null,null,{"$f":"IF($N62=\"\",\"\",VLOOKUP($N62,INSCRITS!$D$4:$W$501,6,0))","v":""},{"$f":"IF($N62=\"\",\"\",VLOOKUP($N62,INSCRITS!$D$4:$W$501,7,0))","v":""},{"$f":"IF($N62=\"\",\"\",VLOOKUP($N62,INSCRITS!$D$4:$W$501,9,0))","v":""},2]
[null,"SERIE 5",null,{"$f":"IF($C63=\"\",\"\",VLOOKUP($C63,INSCRITS!$D$4:$W$501,6,0))","v":""},{"$f":"IF($C63=\"\",\"\",VLOOKUP($C63,INSCRITS!$D$4:$W$501,7,0))","v":""},{"$f":"IF($C63=\"\",\"\",VLOOKUP($C63,INSCRITS!$D$4:$W$501,9,0))","v":""},1,null,null,null,null,null,null,null,{"$f":"IF($N63=\"\",\"\",VLOOKUP($N63,INSCRITS!$D$4:$W$501,6,0))","v":""},{"$f":"IF($N63=\"\",\"\",VLOOKUP($N63,INSCRITS!$D$4:$W$501,7,0))","v":""},{"$f":"IF($N63=\"\",\"\",VLOOKUP($N63,INSCRITS!$D$4:$W$501,9,0))","v":""},3]
[null,null,null,{"$f":"IF($C64=\"\",\"\",VLOOKUP($C64,INSCRITS!$D$4:$W$501,6,0))","v":""},{"$f":"IF($C64=\"\",\"\",VLOOKUP($C64,INSCRITS!$D$4:$W$501,7,0))","v":""},{"$f":"IF($C64=\"\",\"\",VLOOKUP($C64,INSCRITS!$D$4:$W$501,9,0))","v":""},2,null,null,null,null,null,null,null,{"$f":"IF($N64=\"\",\"\",VLOOKUP($N64,INSCRITS!$D$4:$W$501,6,0))","v":""},{"$f":"IF($N64=\"\",\"\",VLOOKUP($N64,INSCRITS!$D$4:$W$501,7,0))","v":""},{"$f":"IF($N64=\"\",\"\",VLOOKUP($N64,INSCRITS!$D$4:$W$501,9,0))","v":""},4]
[null,null,null,{"$f":"IF($C65=\"\",\"\",VLOOKUP($C65,INSCRITS!$D$4:$W$501,6,0))","v":""},{"$f":"IF($C65=\"\",\"\",VLOOKUP($C65,INSCRITS!$D$4:$W$501,7,0))","v":""},{"$f":"IF($C65=\"\",\"\",VLOOKUP($C65,INSCRITS!$D$4:$W$501,9,0))","v":""},3,null,null,null,null,null,null,null,{"$f":"IF($N65=\"\",\"\",VLOOKUP($N65,INSCRITS!$D$4:$W$501,6,0))","v":""},{"$f":"IF($N65=\"\",\"\",VLOOKUP($N65,INSCRITS!$D$4:$W$501,7,0))","v":""},{"$f":"IF($N65=\"\",\"\",VLOOKUP($N65,INSCRITS!$D$4:$W$501,9,0))","v":""},5]
[null,null,null,{"$f":"IF($C66=\"\",\"\",VLOOKUP($C66,INSCRITS!$D$4:$W$501,6,0))","v":""},{"$f":"IF($C66=\"\",\"\",VLOOKUP($C66,INSCRITS!$D$4:$W$501,7,0))","v":""},{"$f":"IF($C66=\"\",\"\",VLOOKUP($C66,INSCRITS!$D$4:$W$501,9,0))","v":""},4,null,null,null,null,null,null,null,{"$f":"IF($N66=\"\",\"\",VLOOKUP($N66,INSCRITS!$D$4:$W$501,6,0))","v":""},{"$f":"IF($N66=\"\",\"\",VLOOKUP($N66,INSCRITS!$D$4:$W$501,7,0))","v":""},{"$f":"IF($N66=\"\",\"\",VLOOKUP($N66,INSCRITS!$D$4:$W$501,9,0))","v":""},6]
[null,null,null,{"$f":"IF($C67=\"\",\"\",VLOOKUP($C67,INSCRITS!$D$4:$W$501,6,0))","v":""},{"$f":"IF($C67=\"\",\"\",VLOOKUP($C67,INSCRITS!$D$4:$W$501,7,0))","v":""},{"$f":"IF($C67=\"\",\"\",VLOOKUP($C67,INSCRITS!$D$4:$W$501,9,0))","v":""},5,null,null,null,null,null,null,null,{"$f":"IF($N67=\"\",\"\",VLOOKUP($N67,INSCRITS!$D$4:$W$501,6,0))","v":""},{"$f":"IF($N67=\"\",\"\",VLOOKUP($N67,INSCRITS!$D$4:$W$501,7,0))","v":""},{"$f":"IF($N67=\"\",\"\",VLOOKUP($N67,INSCRITS!$D$4:$W$501,9,0))","v":""},7]
[null,null,null,{"$f":"IF($C68=\"\",\"\",VLOOKUP($C68,INSCRITS!$D$4:$W$501,6,0))","v":""},{"$f":"IF($C68=\"\",\"\",VLOOKUP($C68,INSCRITS!$D$4:$W$501,7,0))","v":""},{"$f":"IF($C68=\"\",\"\",VLOOKUP($C68,INSCRITS!$D$4:$W$501,9,0))","v":""},6,null,null,null,null,null,null,null,{"$f":"IF($N68=\"\",\"\",VLOOKUP($N68,INSCRITS!$D$4:$W$501,6,0))","v":""},{"$f":"IF($N68=\"\",\"\",VLOOKUP($N68,INSCRITS!$D$4:$W$501,7,0))","v":""},{"$f":"IF($N68=\"\",\"\",VLOOKUP($N68,INSCRITS!$D$4:$W$501,9,0))","v":""},8]
[null,null,null,{"$f":"IF($C69=\"\",\"\",VLOOKUP($C69,INSCRITS!$D$4:$W$501,6,0))","v":""},{"$f":"IF($C69=\"\",\"\",VLOOKUP($C69,INSCRITS!$D$4:$W$501,7,0))","v":""},{"$f":"IF($C69=\"\",\"\",VLOOKUP($C69,INSCRITS!$D$4:$W$501,9,0))","v":""},7,null,null,null,null,null,null,null,{"$f":"IF($N69=\"\",\"\",VLOOKUP($N69,INSCRITS!$D$4:$W$501,6,0))","v":""},{"$f":"IF($N69=\"\",\"\",VLOOKUP($N69,INSCRITS!$D$4:$W$501,7,0))","v":""},{"$f":"IF($N69=\"\",\"\",VLOOKUP($N69,INSCRITS!$D$4:$W$501,9,0))","v":""}]
[null,null,null,{"$f":"IF($C70=\"\",\"\",VLOOKUP($C70,INSCRITS!$D$4:$W$501,6,0))","v":""},{"$f":"IF($C70=\"\",\"\",VLOOKUP($C70,INSCRITS!$D$4:$W$501,7,0))","v":""},{"$f":"IF($C70=\"\",\"\",VLOOKUP($C70,INSCRITS!$D$4:$W$501,9,0))","v":""},null,null,null,null,null,null,null,null,{"$f":"IF($N70=\"\",\"\",VLOOKUP($N70,INSCRITS!$D$4:$W$501,6,0))","v":""},{"$f":"IF($N70=\"\",\"\",VLOOKUP($N70,INSCRITS!$D$4:$W$501,7,0))","v":""},{"$f":"IF($N70=\"\",\"\",VLOOKUP($N70,INSCRITS!$D$4:$W$501,9,0))","v":""}]
[null,null,null,{"$f":"IF($C71=\"\",\"\",VLOOKUP($C71,INSCRITS!$D$4:$W$501,6,0))","v":""},{"$f":"IF($C71=\"\",\"\",VLOOKUP($C71,INSCRITS!$D$4:$W$501,7,0))","v":""},{"$f":"IF($C71=\"\",\"\",VLOOKUP($C71,INSCRITS!$D$4:$W$501,9,0))","v":""},null,null,null,null,null,null,null,null,{"$f":"IF($N71=\"\",\"\",VLOOKUP($N71,INSCRITS!$D$4:$W$501,6,0))","v":""},{"$f":"IF($N71=\"\",\"\",VLOOKUP($N71,INSCRITS!$D$4:$W$501,7,0))","v":""},{"$f":"IF($N71=\"\",\"\",VLOOKUP($N71,INSCRITS!$D$4:$W$501,9,0))","v":""}]
[null,null,null,{"$f":"IF($C72=\"\",\"\",VLOOKUP($C72,INSCRITS!$D$4:$W$501,6,0))","v":""},{"$f":"IF($C72=\"\",\"\",VLOOKUP($C72,INSCRITS!$D$4:$W$501,7,0))","v":""},{"$f":"IF($C72=\"\",\"\",VLOOKUP($C72,INSCRITS!$D$4:$W$501,9,0))","v":""},null,null,null,null,null,null,null,null,{"$f":"IF($N72=\"\",\"\",VLOOKUP($N72,INSCRITS!$D$4:$W$501,6,0))","v":""},{"$f":"IF($N72=\"\",\"\",VLOOKUP($N72,INSCRITS!$D$4:$W$501,7,0))","v":""},{"$f":"IF($N72=\"\",\"\",VLOOKUP($N72,INSCRITS!$D$4:$W$501,9,0))","v":""}]
[null,null,null,{"$f":"IF($C73=\"\",\"\",VLOOKUP($C73,INSCRITS!$D$4:$W$501,6,0))","v":""},{"$f":"IF($C73=\"\",\"\",VLOOKUP($C73,INSCRITS!$D$4:$W$501,7,0))","v":""},{"$f":"IF($C73=\"\",\"\",VLOOKUP($C73,INSCRITS!$D$4:$W$501,9,0))","v":""},null,null,null,null,null,null,null,null,{"$f":"IF($N73=\"\",\"\",VLOOKUP($N73,INSCRITS!$D$4:$W$501,6,0))","v":""},{"$f":"IF($N73=\"\",\"\",VLOOKUP($N73,INSCRITS!$D$4:$W$501,7,0))","v":""},{"$f":"IF($N73=\"\",\"\",VLOOKUP($N73,INSCRITS!$D$4:$W$501,9,0))","v":""}]
[null,null,null,{"$f":"IF($C74=\"\",\"\",VLOOKUP($C74,INSCRITS!$D$4:$W$501,6,0))","v":""},{"$f":"IF($C74=\"\",\"\",VLOOKUP($C74,INSCRITS!$D$4:$W$501,7,0))","v":""},{"$f":"IF($C74=\"\",\"\",VLOOKUP($C74,INSCRITS!$D$4:$W$501,9,0))","v":""},null,null,null,null,null,null,null,null,{"$f":"IF($N74=\"\",\"\",VLOOKUP($N74,INSCRITS!$D$4:$W$501,6,0))","v":""},{"$f":"IF($N74=\"\",\"\",VLOOKUP($N74,INSCRITS!$D$4:$W$501,7,0))","v":""},{"$f":"IF($N74=\"\",\"\",VLOOKUP($N74,INSCRITS!$D$4:$W$501,9,0))","v":""}]
[null,null,null,{"$f":"IF($C75=\"\",\"\",VLOOKUP($C75,INSCRITS!$D$4:$W$501,6,0))","v":""},{"$f":"IF($C75=\"\",\"\",VLOOKUP($C75,INSCRITS!$D$4:$W$501,7,0))","v":""},{"$f":"IF($C75=\"\",\"\",VLOOKUP($C75,INSCRITS!$D$4:$W$501,9,0))","v":""},null,null,null,null,null,null,null,null,{"$f":"IF($N75=\"\",\"\",VLOOKUP($N75,INSCRITS!$D$4:$W$501,6,0))","v":""},{"$f":"IF($N75=\"\",\"\",VLOOKUP($N75,INSCRITS!$D$4:$W$501,7,0))","v":""},{"$f":"IF($N75=\"\",\"\",VLOOKUP($N75,INSCRITS!$D$4:$W$501,9,0))","v":""}]
[null,null,null,{"$f":"IF($C76=\"\",\"\",VLOOKUP($C76,INSCRITS!$D$4:$W$501,6,0))","v":""},{"$f":"IF($C76=\"\",\"\",VLOOKUP($C76,INSCRITS!$D$4:$W$501,7,0))","v":""},{"$f":"IF($C76=\"\",\"\",VLOOKUP($C76,INSCRITS!$D$4:$W$501,9,0))","v":""},null,null,null,null,null,null,null,null,{"$f":"IF($N76=\"\",\"\",VLOOKUP($N76,INSCRITS!$D$4:$W$501,6,0))","v":""},{"$f":"IF($N76=\"\",\"\",VLOOKUP($N76,INSCRITS!$D$4:$W$501,7,0))","v":""},{"$f":"IF($N76=\"\",\"\",VLOOKUP($N76,INSCRITS!$D$4:$W$501,9,0))","v":""}]
[null,"SERIE 6",null,{"$f":"IF($C77=\"\",\"\",VLOOKUP($C77,INSCRITS!$D$4:$W$501,6,0))","v":""},{"$f":"IF($C77=\"\",\"\",VLOOKUP($C77,INSCRITS!$D$4:$W$501,7,0))","v":""},{"$f":"IF($C77=\"\",\"\",VLOOKUP($C77,INSCRITS!$D$4:$W$501,9,0))","v":""},1,null,null,null,null,null,null,null,{"$f":"IF($N77=\"\",\"\",VLOOKUP($N77,INSCRITS!$D$4:$W$501,6,0))","v":""},{"$f":"IF($N77=\"\",\"\",VLOOKUP($N77,INSCRITS!$D$4:$W$501,7,0))","v":""},{"$f":"IF($N77=\"\",\"\",VLOOKUP($N77,INSCRITS!$D$4:$W$501,9,0))","v":""}]
[null,null,null,{"$f":"IF($C78=\"\",\"\",VLOOKUP($C78,INSCRITS!$D$4:$W$501,6,0))","v":""},{"$f":"IF($C78=\"\",\"\",VLOOKUP($C78,INSCRITS!$D$4:$W$501,7,0))","v":""},{"$f":"IF($C78=\"\",\"\",VLOOKUP($C78,INSCRITS!$D$4:$W$501,9,0))","v":""},2,null,null,null,null,null,null,null,{"$f":"IF($N78=\"\",\"\",VLOOKUP($N78,INSCRITS!$D$4:$W$501,6,0))","v":""},{"$f":"IF($N78=\"\",\"\",VLOOKUP($N78,INSCRITS!$D$4:$W$501,7,0))","v":""},{"$f":"IF($N78=\"\",\"\",VLOOKUP($N78,INSCRITS!$D$4:$W$501,9,0))","v":""}]
[null,null,null,{"$f":"IF($C79=\"\",\"\",VLOOKUP($C79,INSCRITS!$D$4:$W$501,6,0))","v":""},{"$f":"IF($C79=\"\",\"\",VLOOKUP($C79,INSCRITS!$D$4:$W$501,7,0))","v":""},{"$f":"IF($C79=\"\",\"\",VLOOKUP($C79,INSCRITS!$D$4:$W$501,9,0))","v":""},3]
[null,null,null,{"$f":"IF($C80=\"\",\"\",VLOOKUP($C80,INSCRITS!$D$4:$W$501,6,0))","v":""},{"$f":"IF($C80=\"\",\"\",VLOOKUP($C80,INSCRITS!$D$4:$W$501,7,0))","v":""},{"$f":"IF($C80=\"\",\"\",VLOOKUP($C80,INSCRITS!$D$4:$W$501,9,0))","v":""},4]
[null,null,null,{"$f":"IF($C81=\"\",\"\",VLOOKUP($C81,INSCRITS!$D$4:$W$501,6,0))","v":""},{"$f":"IF($C81=\"\",\"\",VLOOKUP($C81,INSCRITS!$D$4:$W$501,7,0))","v":""},{"$f":"IF($C81=\"\",\"\",VLOOKUP($C81,INSCRITS!$D$4:$W$501,9,0))","v":""},5]
[null,null,null,{"$f":"IF($C82=\"\",\"\",VLOOKUP($C82,INSCRITS!$D$4:$W$501,6,0))","v":""},{"$f":"IF($C82=\"\",\"\",VLOOKUP($C82,INSCRITS!$D$4:$W$501,7,0))","v":""},{"$f":"IF($C82=\"\",\"\",VLOOKUP($C82,INSCRITS!$D$4:$W$501,9,0))","v":""},6]
[null,null,null,{"$f":"IF($C83=\"\",\"\",VLOOKUP($C83,INSCRITS!$D$4:$W$501,6,0))","v":""},{"$f":"IF($C83=\"\",\"\",VLOOKUP($C83,INSCRITS!$D$4:$W$501,7,0))","v":""},{"$f":"IF($C83=\"\",\"\",VLOOKUP($C83,INSCRITS!$D$4:$W$501,9,0))","v":""},7]
[null,null,null,{"$f":"IF($C84=\"\",\"\",VLOOKUP($C84,INSCRITS!$D$4:$W$501,6,0))","v":""},{"$f":"IF($C84=\"\",\"\",VLOOKUP($C84,INSCRITS!$D$4:$W$501,7,0))","v":""},{"$f":"IF($C84=\"\",\"\",VLOOKUP($C84,INSCRITS!$D$4:$W$501,9,0))","v":""}]
[null,null,null,{"$f":"IF($C85=\"\",\"\",VLOOKUP($C85,INSCRITS!$D$4:$W$501,6,0))","v":""},{"$f":"IF($C85=\"\",\"\",VLOOKUP($C85,INSCRITS!$D$4:$W$501,7,0))","v":""},{"$f":"IF($C85=\"\",\"\",VLOOKUP($C85,INSCRITS!$D$4:$W$501,9,0))","v":""}]
[null,null,null,{"$f":"IF($C86=\"\",\"\",VLOOKUP($C86,INSCRITS!$D$4:$W$501,6,0))","v":""},{"$f":"IF($C86=\"\",\"\",VLOOKUP($C86,INSCRITS!$D$4:$W$501,7,0))","v":""},{"$f":"IF($C86=\"\",\"\",VLOOKUP($C86,INSCRITS!$D$4:$W$501,9,0))","v":""}]
[null,null,null,{"$f":"IF($C87=\"\",\"\",VLOOKUP($C87,INSCRITS!$D$4:$W$501,6,0))","v":""},{"$f":"IF($C87=\"\",\"\",VLOOKUP($C87,INSCRITS!$D$4:$W$501,7,0))","v":""},{"$f":"IF($C87=\"\",\"\",VLOOKUP($C87,INSCRITS!$D$4:$W$501,9,0))","v":""}]
[null,null,null,{"$f":"IF($C88=\"\",\"\",VLOOKUP($C88,INSCRITS!$D$4:$W$501,6,0))","v":""},{"$f":"IF($C88=\"\",\"\",VLOOKUP($C88,INSCRITS!$D$4:$W$501,7,0))","v":""},{"$f":"IF($C88=\"\",\"\",VLOOKUP($C88,INSCRITS!$D$4:$W$501,9,0))","v":""}]
[null,null,null,{"$f":"IF($C89=\"\",\"\",VLOOKUP($C89,INSCRITS!$D$4:$W$501,6,0))","v":""},{"$f":"IF($C89=\"\",\"\",VLOOKUP($C89,INSCRITS!$D$4:$W$501,7,0))","v":""},{"$f":"IF($C89=\"\",\"\",VLOOKUP($C89,INSCRITS!$D$4:$W$501,9,0))","v":""}]
[null,null,null,{"$f":"IF($C90=\"\",\"\",VLOOKUP($C90,INSCRITS!$D$4:$W$501,6,0))","v":""},{"$f":"IF($C90=\"\",\"\",VLOOKUP($C90,INSCRITS!$D$4:$W$501,7,0))","v":""},{"$f":"IF($C90=\"\",\"\",VLOOKUP($C90,INSCRITS!$D$4:$W$501,9,0))","v":""}]
[null,"SERIE 7",null,{"$f":"IF($C91=\"\",\"\",VLOOKUP($C91,INSCRITS!$D$4:$W$501,6,0))","v":""},{"$f":"IF($C91=\"\",\"\",VLOOKUP($C91,INSCRITS!$D$4:$W$501,7,0))","v":""},{"$f":"IF($C91=\"\",\"\",VLOOKUP($C91,INSCRITS!$D$4:$W$501,9,0))","v":""},1]
[null,null,null,{"$f":"IF($C92=\"\",\"\",VLOOKUP($C92,INSCRITS!$D$4:$W$501,6,0))","v":""},{"$f":"IF($C92=\"\",\"\",VLOOKUP($C92,INSCRITS!$D$4:$W$501,7,0))","v":""},{"$f":"IF($C92=\"\",\"\",VLOOKUP($C92,INSCRITS!$D$4:$W$501,9,0))","v":""},2]
[null,null,null,{"$f":"IF($C93=\"\",\"\",VLOOKUP($C93,INSCRITS!$D$4:$W$501,6,0))","v":""},{"$f":"IF($C93=\"\",\"\",VLOOKUP($C93,INSCRITS!$D$4:$W$501,7,0))","v":""},{"$f":"IF($C93=\"\",\"\",VLOOKUP($C93,INSCRITS!$D$4:$W$501,9,0))","v":""},3]
[null,null,null,{"$f":"IF($C94=\"\",\"\",VLOOKUP($C94,INSCRITS!$D$4:$W$501,6,0))","v":""},{"$f":"IF($C94=\"\",\"\",VLOOKUP($C94,INSCRITS!$D$4:$W$501,7,0))","v":""},{"$f":"IF($C94=\"\",\"\",VLOOKUP($C94,INSCRITS!$D$4:$W$501,9,0))","v":""},4]
[null,null,null,{"$f":"IF($C95=\"\",\"\",VLOOKUP($C95,INSCRITS!$D$4:$W$501,6,0))","v":""},{"$f":"IF($C95=\"\",\"\",VLOOKUP($C95,INSCRITS!$D$4:$W$501,7,0))","v":""},{"$f":"IF($C95=\"\",\"\",VLOOKUP($C95,INSCRITS!$D$4:$W$501,9,0))","v":""},4]
[null,null,null,{"$f":"IF($C96=\"\",\"\",VLOOKUP($C96,INSCRITS!$D$4:$W$501,6,0))","v":""},{"$f":"IF($C96=\"\",\"\",VLOOKUP($C96,INSCRITS!$D$4:$W$501,7,0))","v":""},{"$f":"IF($C96=\"\",\"\",VLOOKUP($C96,INSCRITS!$D$4:$W$501,9,0))","v":""},6]
[null,null,null,{"$f":"IF($C97=\"\",\"\",VLOOKUP($C97,INSCRITS!$D$4:$W$501,6,0))","v":""},{"$f":"IF($C97=\"\",\"\",VLOOKUP($C97,INSCRITS!$D$4:$W$501,7,0))","v":""},{"$f":"IF($C97=\"\",\"\",VLOOKUP($C97,INSCRITS!$D$4:$W$501,9,0))","v":""},7]
[null,null,null,{"$f":"IF($C98=\"\",\"\",VLOOKUP($C98,INSCRITS!$D$4:$W$501,6,0))","v":""},{"$f":"IF($C98=\"\",\"\",VLOOKUP($C98,INSCRITS!$D$4:$W$501,7,0))","v":""},{"$f":"IF($C98=\"\",\"\",VLOOKUP($C98,INSCRITS!$D$4:$W$501,9,0))","v":""}]
[null,null,null,{"$f":"IF($C99=\"\",\"\",VLOOKUP($C99,INSCRITS!$D$4:$W$501,6,0))","v":""},{"$f":"IF($C99=\"\",\"\",VLOOKUP($C99,INSCRITS!$D$4:$W$501,7,0))","v":""},{"$f":"IF($C99=\"\",\"\",VLOOKUP($C99,INSCRITS!$D$4:$W$501,9,0))","v":""}]
[null,null,null,{"$f":"IF($C100=\"\",\"\",VLOOKUP($C100,INSCRITS!$D$4:$W$501,6,0))","v":""},{"$f":"IF($C100=\"\",\"\",VLOOKUP($C100,INSCRITS!$D$4:$W$501,7,0))","v":""},{"$f":"IF($C100=\"\",\"\",VLOOKUP($C100,INSCRITS!$D$4:$W$501,9,0))","v":""}]
[null,null,null,{"$f":"IF($C101=\"\",\"\",VLOOKUP($C101,INSCRITS!$D$4:$W$501,6,0))","v":""},{"$f":"IF($C101=\"\",\"\",VLOOKUP($C101,INSCRITS!$D$4:$W$501,7,0))","v":""},{"$f":"IF($C101=\"\",\"\",VLOOKUP($C101,INSCRITS!$D$4:$W$501,9,0))","v":""}]
[null,null,null,{"$f":"IF($C102=\"\",\"\",VLOOKUP($C102,INSCRITS!$D$4:$W$501,6,0))","v":""},{"$f":"IF($C102=\"\",\"\",VLOOKUP($C102,INSCRITS!$D$4:$W$501,7,0))","v":""},{"$f":"IF($C102=\"\",\"\",VLOOKUP($C102,INSCRITS!$D$4:$W$501,9,0))","v":""}]
[null,null,null,{"$f":"IF($C103=\"\",\"\",VLOOKUP($C103,INSCRITS!$D$4:$W$501,6,0))","v":""},{"$f":"IF($C103=\"\",\"\",VLOOKUP($C103,INSCRITS!$D$4:$W$501,7,0))","v":""},{"$f":"IF($C103=\"\",\"\",VLOOKUP($C103,INSCRITS!$D$4:$W$501,9,0))","v":""}]
[null,null,null,{"$f":"IF($C104=\"\",\"\",VLOOKUP($C104,INSCRITS!$D$4:$W$501,6,0))","v":""},{"$f":"IF($C104=\"\",\"\",VLOOKUP($C104,INSCRITS!$D$4:$W$501,7,0))","v":""},{"$f":"IF($C104=\"\",\"\",VLOOKUP($C104,INSCRITS!$D$4:$W$501,9,0))","v":""}]
[null,"SERIE 8",null,{"$f":"IF($C105=\"\",\"\",VLOOKUP($C105,INSCRITS!$D$4:$W$501,6,0))","v":""},{"$f":"IF($C105=\"\",\"\",VLOOKUP($C105,INSCRITS!$D$4:$W$501,7,0))","v":""},{"$f":"IF($C105=\"\",\"\",VLOOKUP($C105,INSCRITS!$D$4:$W$501,9,0))","v":""},1]
[null,null,null,{"$f":"IF($C106=\"\",\"\",VLOOKUP($C106,INSCRITS!$D$4:$W$501,6,0))","v":""},{"$f":"IF($C106=\"\",\"\",VLOOKUP($C106,INSCRITS!$D$4:$W$501,7,0))","v":""},{"$f":"IF($C106=\"\",\"\",VLOOKUP($C106,INSCRITS!$D$4:$W$501,9,0))","v":""},2]
[null,null,null,{"$f":"IF($C107=\"\",\"\",VLOOKUP($C107,INSCRITS!$D$4:$W$501,6,0))","v":""},{"$f":"IF($C107=\"\",\"\",VLOOKUP($C107,INSCRITS!$D$4:$W$501,7,0))","v":""},{"$f":"IF($C107=\"\",\"\",VLOOKUP($C107,INSCRITS!$D$4:$W$501,9,0))","v":""},3]
[null,null,null,{"$f":"IF($C108=\"\",\"\",VLOOKUP($C108,INSCRITS!$D$4:$W$501,6,0))","v":""},{"$f":"IF($C108=\"\",\"\",VLOOKUP($C108,INSCRITS!$D$4:$W$501,7,0))","v":""},{"$f":"IF($C108=\"\",\"\",VLOOKUP($C108,INSCRITS!$D$4:$W$501,9,0))","v":""},4]
[null,null,null,{"$f":"IF($C109=\"\",\"\",VLOOKUP($C109,INSCRITS!$D$4:$W$501,6,0))","v":""},{"$f":"IF($C109=\"\",\"\",VLOOKUP($C109,INSCRITS!$D$4:$W$501,7,0))","v":""},{"$f":"IF($C109=\"\",\"\",VLOOKUP($C109,INSCRITS!$D$4:$W$501,9,0))","v":""},5]
[null,null,null,{"$f":"IF($C110=\"\",\"\",VLOOKUP($C110,INSCRITS!$D$4:$W$501,6,0))","v":""},{"$f":"IF($C110=\"\",\"\",VLOOKUP($C110,INSCRITS!$D$4:$W$501,7,0))","v":""},{"$f":"IF($C110=\"\",\"\",VLOOKUP($C110,INSCRITS!$D$4:$W$501,9,0))","v":""},6]
[null,null,null,{"$f":"IF($C111=\"\",\"\",VLOOKUP($C111,INSCRITS!$D$4:$W$501,6,0))","v":""},{"$f":"IF($C111=\"\",\"\",VLOOKUP($C111,INSCRITS!$D$4:$W$501,7,0))","v":""},{"$f":"IF($C111=\"\",\"\",VLOOKUP($C111,INSCRITS!$D$4:$W$501,9,0))","v":""},7]
[null,null,null,{"$f":"IF($C112=\"\",\"\",VLOOKUP($C112,INSCRITS!$D$4:$W$501,6,0))","v":""},{"$f":"IF($C112=\"\",\"\",VLOOKUP($C112,INSCRITS!$D$4:$W$501,7,0))","v":""},{"$f":"IF($C112=\"\",\"\",VLOOKUP($C112,INSCRITS!$D$4:$W$501,9,0))","v":""}]
[null,null,null,{"$f":"IF($C113=\"\",\"\",VLOOKUP($C113,INSCRITS!$D$4:$W$501,6,0))","v":""},{"$f":"IF($C113=\"\",\"\",VLOOKUP($C113,INSCRITS!$D$4:$W$501,7,0))","v":""},{"$f":"IF($C113=\"\",\"\",VLOOKUP($C113,INSCRITS!$D$4:$W$501,9,0))","v":""}]
[null,null,null,{"$f":"IF($C114=\"\",\"\",VLOOKUP($C114,INSCRITS!$D$4:$W$501,6,0))","v":""},{"$f":"IF($C114=\"\",\"\",VLOOKUP($C114,INSCRITS!$D$4:$W$501,7,0))","v":""},{"$f":"IF($C114=\"\",\"\",VLOOKUP($C114,INSCRITS!$D$4:$W$501,9,0))","v":""}]
[null,null,null,{"$f":"IF($C115=\"\",\"\",VLOOKUP($C115,INSCRITS!$D$4:$W$501,6,0))","v":""},{"$f":"IF($C115=\"\",\"\",VLOOKUP($C115,INSCRITS!$D$4:$W$501,7,0))","v":""},{"$f":"IF($C115=\"\",\"\",VLOOKUP($C115,INSCRITS!$D$4:$W$501,9,0))","v":""}]
[null,null,null,{"$f":"IF($C116=\"\",\"\",VLOOKUP($C116,INSCRITS!$D$4:$W$501,6,0))","v":""},{"$f":"IF($C116=\"\",\"\",VLOOKUP($C116,INSCRITS!$D$4:$W$501,7,0))","v":""},{"$f":"IF($C116=\"\",\"\",VLOOKUP($C116,INSCRITS!$D$4:$W$501,9,0))","v":""}]
[null,null,null,{"$f":"IF($C117=\"\",\"\",VLOOKUP($C117,INSCRITS!$D$4:$W$501,6,0))","v":""},{"$f":"IF($C117=\"\",\"\",VLOOKUP($C117,INSCRITS!$D$4:$W$501,7,0))","v":""},{"$f":"IF($C117=\"\",\"\",VLOOKUP($C117,INSCRITS!$D$4:$W$501,9,0))","v":""}]
[null,null,null,{"$f":"IF($C118=\"\",\"\",VLOOKUP($C118,INSCRITS!$D$4:$W$501,6,0))","v":""},{"$f":"IF($C118=\"\",\"\",VLOOKUP($C118,INSCRITS!$D$4:$W$501,7,0))","v":""},{"$f":"IF($C118=\"\",\"\",VLOOKUP($C118,INSCRITS!$D$4:$W$501,9,0))","v":""}]
[null,"SERIE 9",null,{"$f":"IF($C119=\"\",\"\",VLOOKUP($C119,INSCRITS!$D$4:$W$501,6,0))","v":""},{"$f":"IF($C119=\"\",\"\",VLOOKUP($C119,INSCRITS!$D$4:$W$501,7,0))","v":""},{"$f":"IF($C119=\"\",\"\",VLOOKUP($C119,INSCRITS!$D$4:$W$501,9,0))","v":""},1]
[null,null,null,{"$f":"IF($C120=\"\",\"\",VLOOKUP($C120,INSCRITS!$D$4:$W$501,6,0))","v":""},{"$f":"IF($C120=\"\",\"\",VLOOKUP($C120,INSCRITS!$D$4:$W$501,7,0))","v":""},{"$f":"IF($C120=\"\",\"\",VLOOKUP($C120,INSCRITS!$D$4:$W$501,9,0))","v":""},2]
[null,null,null,{"$f":"IF($C121=\"\",\"\",VLOOKUP($C121,INSCRITS!$D$4:$W$501,6,0))","v":""},{"$f":"IF($C121=\"\",\"\",VLOOKUP($C121,INSCRITS!$D$4:$W$501,7,0))","v":""},{"$f":"IF($C121=\"\",\"\",VLOOKUP($C121,INSCRITS!$D$4:$W$501,9,0))","v":""},3]
[null,null,null,{"$f":"IF($C122=\"\",\"\",VLOOKUP($C122,INSCRITS!$D$4:$W$501,6,0))","v":""},{"$f":"IF($C122=\"\",\"\",VLOOKUP($C122,INSCRITS!$D$4:$W$501,7,0))","v":""},{"$f":"IF($C122=\"\",\"\",VLOOKUP($C122,INSCRITS!$D$4:$W$501,9,0))","v":""},4]
[null,null,null,{"$f":"IF($C123=\"\",\"\",VLOOKUP($C123,INSCRITS!$D$4:$W$501,6,0))","v":""},{"$f":"IF($C123=\"\",\"\",VLOOKUP($C123,INSCRITS!$D$4:$W$501,7,0))","v":""},{"$f":"IF($C123=\"\",\"\",VLOOKUP($C123,INSCRITS!$D$4:$W$501,9,0))","v":""},5]
[null,null,null,{"$f":"IF($C124=\"\",\"\",VLOOKUP($C124,INSCRITS!$D$4:$W$501,6,0))","v":""},{"$f":"IF($C124=\"\",\"\",VLOOKUP($C124,INSCRITS!$D$4:$W$501,7,0))","v":""},{"$f":"IF($C124=\"\",\"\",VLOOKUP($C124,INSCRITS!$D$4:$W$501,9,0))","v":""},6]
[null,null,null,{"$f":"IF($C125=\"\",\"\",VLOOKUP($C125,INSCRITS!$D$4:$W$501,6,0))","v":""},{"$f":"IF($C125=\"\",\"\",VLOOKUP($C125,INSCRITS!$D$4:$W$501,7,0))","v":""},{"$f":"IF($C125=\"\",\"\",VLOOKUP($C125,INSCRITS!$D$4:$W$501,9,0))","v":""},7]
[null,null,null,{"$f":"IF($C126=\"\",\"\",VLOOKUP($C126,INSCRITS!$D$4:$W$501,6,0))","v":""},{"$f":"IF($C126=\"\",\"\",VLOOKUP($C126,INSCRITS!$D$4:$W$501,7,0))","v":""},{"$f":"IF($C126=\"\",\"\",VLOOKUP($C126,INSCRITS!$D$4:$W$501,9,0))","v":""}]
[null,null,null,{"$f":"IF($C127=\"\",\"\",VLOOKUP($C127,INSCRITS!$D$4:$W$501,6,0))","v":""},{"$f":"IF($C127=\"\",\"\",VLOOKUP($C127,INSCRITS!$D$4:$W$501,7,0))","v":""},{"$f":"IF($C127=\"\",\"\",VLOOKUP($C127,INSCRITS!$D$4:$W$501,9,0))","v":""}]
[null,null,null,{"$f":"IF($C128=\"\",\"\",VLOOKUP($C128,INSCRITS!$D$4:$W$501,6,0))","v":""},{"$f":"IF($C128=\"\",\"\",VLOOKUP($C128,INSCRITS!$D$4:$W$501,7,0))","v":""},{"$f":"IF($C128=\"\",\"\",VLOOKUP($C128,INSCRITS!$D$4:$W$501,9,0))","v":""}]
[null,null,null,{"$f":"IF($C129=\"\",\"\",VLOOKUP($C129,INSCRITS!$D$4:$W$501,6,0))","v":""},{"$f":"IF($C129=\"\",\"\",VLOOKUP($C129,INSCRITS!$D$4:$W$501,7,0))","v":""},{"$f":"IF($C129=\"\",\"\",VLOOKUP($C129,INSCRITS!$D$4:$W$501,9,0))","v":""}]
[null,null,null,{"$f":"IF($C130=\"\",\"\",VLOOKUP($C130,INSCRITS!$D$4:$W$501,6,0))","v":""},{"$f":"IF($C130=\"\",\"\",VLOOKUP($C130,INSCRITS!$D$4:$W$501,7,0))","v":""},{"$f":"IF($C130=\"\",\"\",VLOOKUP($C130,INSCRITS!$D$4:$W$501,9,0))","v":""}]
[null,null,null,{"$f":"IF($C131=\"\",\"\",VLOOKUP($C131,INSCRITS!$D$4:$W$501,6,0))","v":""},{"$f":"IF($C131=\"\",\"\",VLOOKUP($C131,INSCRITS!$D$4:$W$501,7,0))","v":""},{"$f":"IF($C131=\"\",\"\",VLOOKUP($C131,INSCRITS!$D$4:$W$501,9,0))","v":""}]
[null,null,null,{"$f":"IF($C132=\"\",\"\",VLOOKUP($C132,INSCRITS!$D$4:$W$501,6,0))","v":""},{"$f":"IF($C132=\"\",\"\",VLOOKUP($C132,INSCRITS!$D$4:$W$501,7,0))","v":""},{"$f":"IF($C132=\"\",\"\",VLOOKUP($C132,INSCRITS!$D$4:$W$501,9,0))","v":""}]
[null,"SERIE 10",null,{"$f":"IF($C133=\"\",\"\",VLOOKUP($C133,INSCRITS!$D$4:$W$501,6,0))","v":""},{"$f":"IF($C133=\"\",\"\",VLOOKUP($C133,INSCRITS!$D$4:$W$501,7,0))","v":""},{"$f":"IF($C133=\"\",\"\",VLOOKUP($C133,INSCRITS!$D$4:$W$501,9,0))","v":""},1]
[null,null,null,{"$f":"IF($C134=\"\",\"\",VLOOKUP($C134,INSCRITS!$D$4:$W$501,6,0))","v":""},{"$f":"IF($C134=\"\",\"\",VLOOKUP($C134,INSCRITS!$D$4:$W$501,7,0))","v":""},{"$f":"IF($C134=\"\",\"\",VLOOKUP($C134,INSCRITS!$D$4:$W$501,9,0))","v":""},2]
[null,null,null,{"$f":"IF($C135=\"\",\"\",VLOOKUP($C135,INSCRITS!$D$4:$W$501,6,0))","v":""},{"$f":"IF($C135=\"\",\"\",VLOOKUP($C135,INSCRITS!$D$4:$W$501,7,0))","v":""},{"$f":"IF($C135=\"\",\"\",VLOOKUP($C135,INSCRITS!$D$4:$W$501,9,0))","v":""},3]
[null,null,null,{"$f":"IF($C136=\"\",\"\",VLOOKUP($C136,INSCRITS!$D$4:$W$501,6,0))","v":""},{"$f":"IF($C136=\"\",\"\",VLOOKUP($C136,INSCRITS!$D$4:$W$501,7,0))","v":""},{"$f":"IF($C136=\"\",\"\",VLOOKUP($C136,INSCRITS!$D$4:$W$501,9,0))","v":""},4]
[null,null,null,{"$f":"IF($C137=\"\",\"\",VLOOKUP($C137,INSCRITS!$D$4:$W$501,6,0))","v":""},{"$f":"IF($C137=\"\",\"\",VLOOKUP($C137,INSCRITS!$D$4:$W$501,7,0))","v":""},{"$f":"IF($C137=\"\",\"\",VLOOKUP($C137,INSCRITS!$D$4:$W$501,9,0))","v":""},5]
[null,null,null,{"$f":"IF($C138=\"\",\"\",VLOOKUP($C138,INSCRITS!$D$4:$W$501,6,0))","v":""},{"$f":"IF($C138=\"\",\"\",VLOOKUP($C138,INSCRITS!$D$4:$W$501,7,0))","v":""},{"$f":"IF($C138=\"\",\"\",VLOOKUP($C138,INSCRITS!$D$4:$W$501,9,0))","v":""},6]
[null,null,null,{"$f":"IF($C139=\"\",\"\",VLOOKUP($C139,INSCRITS!$D$4:$W$501,6,0))","v":""},{"$f":"IF($C139=\"\",\"\",VLOOKUP($C139,INSCRITS!$D$4:$W$501,7,0))","v":""},{"$f":"IF($C139=\"\",\"\",VLOOKUP($C139,INSCRITS!$D$4:$W$501,9,0))","v":""},7]
[null,null,null,{"$f":"IF($C140=\"\",\"\",VLOOKUP($C140,INSCRITS!$D$4:$W$501,6,0))","v":""},{"$f":"IF($C140=\"\",\"\",VLOOKUP($C140,INSCRITS!$D$4:$W$501,7,0))","v":""},{"$f":"IF($C140=\"\",\"\",VLOOKUP($C140,INSCRITS!$D$4:$W$501,9,0))","v":""}]
[null,null,null,{"$f":"IF($C141=\"\",\"\",VLOOKUP($C141,INSCRITS!$D$4:$W$501,6,0))","v":""},{"$f":"IF($C141=\"\",\"\",VLOOKUP($C141,INSCRITS!$D$4:$W$501,7,0))","v":""},{"$f":"IF($C141=\"\",\"\",VLOOKUP($C141,INSCRITS!$D$4:$W$501,9,0))","v":""}]
[null,null,null,{"$f":"IF($C142=\"\",\"\",VLOOKUP($C142,INSCRITS!$D$4:$W$501,6,0))","v":""},{"$f":"IF($C142=\"\",\"\",VLOOKUP($C142,INSCRITS!$D$4:$W$501,7,0))","v":""},{"$f":"IF($C142=\"\",\"\",VLOOKUP($C142,INSCRITS!$D$4:$W$501,9,0))","v":""}]
[null,null,null,{"$f":"IF($C143=\"\",\"\",VLOOKUP($C143,INSCRITS!$D$4:$W$501,6,0))","v":""},{"$f":"IF($C143=\"\",\"\",VLOOKUP($C143,INSCRITS!$D$4:$W$501,7,0))","v":""},{"$f":"IF($C143=\"\",\"\",VLOOKUP($C143,INSCRITS!$D$4:$W$501,9,0))","v":""}]
[null,null,null,{"$f":"IF($C144=\"\",\"\",VLOOKUP($C144,INSCRITS!$D$4:$W$501,6,0))","v":""},{"$f":"IF($C144=\"\",\"\",VLOOKUP($C144,INSCRITS!$D$4:$W$501,7,0))","v":""},{"$f":"IF($C144=\"\",\"\",VLOOKUP($C144,INSCRITS!$D$4:$W$501,9,0))","v":""}]
[null,null,null,{"$f":"IF($C145=\"\",\"\",VLOOKUP($C145,INSCRITS!$D$4:$W$501,6,0))","v":""},{"$f":"IF($C145=\"\",\"\",VLOOKUP($C145,INSCRITS!$D$4:$W$501,7,0))","v":""},{"$f":"IF($C145=\"\",\"\",VLOOKUP($C145,INSCRITS!$D$4:$W$501,9,0))","v":""}]
[null,null,null,{"$f":"IF($C146=\"\",\"\",VLOOKUP($C146,INSCRITS!$D$4:$W$501,6,0))","v":""},{"$f":"IF($C146=\"\",\"\",VLOOKUP($C146,INSCRITS!$D$4:$W$501,7,0))","v":""},{"$f":"IF($C146=\"\",\"\",VLOOKUP($C146,INSCRITS!$D$4:$W$501,9,0))","v":""}]
[null,"SERIE 11",null,{"$f":"IF($C147=\"\",\"\",VLOOKUP($C147,INSCRITS!$D$4:$W$501,6,0))","v":""},{"$f":"IF($C147=\"\",\"\",VLOOKUP($C147,INSCRITS!$D$4:$W$501,7,0))","v":""},{"$f":"IF($C147=\"\",\"\",VLOOKUP($C147,INSCRITS!$D$4:$W$501,9,0))","v":""},1]
[null,null,null,{"$f":"IF($C148=\"\",\"\",VLOOKUP($C148,INSCRITS!$D$4:$W$501,6,0))","v":""},{"$f":"IF($C148=\"\",\"\",VLOOKUP($C148,INSCRITS!$D$4:$W$501,7,0))","v":""},{"$f":"IF($C148=\"\",\"\",VLOOKUP($C148,INSCRITS!$D$4:$W$501,9,0))","v":""},2]
[null,null,null,{"$f":"IF($C149=\"\",\"\",VLOOKUP($C149,INSCRITS!$D$4:$W$501,6,0))","v":""},{"$f":"IF($C149=\"\",\"\",VLOOKUP($C149,INSCRITS!$D$4:$W$501,7,0))","v":""},{"$f":"IF($C149=\"\",\"\",VLOOKUP($C149,INSCRITS!$D$4:$W$501,9,0))","v":""},3]
[null,null,null,{"$f":"IF($C150=\"\",\"\",VLOOKUP($C150,INSCRITS!$D$4:$W$501,6,0))","v":""},{"$f":"IF($C150=\"\",\"\",VLOOKUP($C150,INSCRITS!$D$4:$W$501,7,0))","v":""},{"$f":"IF($C150=\"\",\"\",VLOOKUP($C150,INSCRITS!$D$4:$W$501,9,0))","v":""},4]
[null,null,null,{"$f":"IF($C151=\"\",\"\",VLOOKUP($C151,INSCRITS!$D$4:$W$501,6,0))","v":""},{"$f":"IF($C151=\"\",\"\",VLOOKUP($C151,INSCRITS!$D$4:$W$501,7,0))","v":""},{"$f":"IF($C151=\"\",\"\",VLOOKUP($C151,INSCRITS!$D$4:$W$501,9,0))","v":""},5]
[null,null,null,{"$f":"IF($C152=\"\",\"\",VLOOKUP($C152,INSCRITS!$D$4:$W$501,6,0))","v":""},{"$f":"IF($C152=\"\",\"\",VLOOKUP($C152,INSCRITS!$D$4:$W$501,7,0))","v":""},{"$f":"IF($C152=\"\",\"\",VLOOKUP($C152,INSCRITS!$D$4:$W$501,9,0))","v":""},6]
[null,null,null,{"$f":"IF($C153=\"\",\"\",VLOOKUP($C153,INSCRITS!$D$4:$W$501,6,0))","v":""},{"$f":"IF($C153=\"\",\"\",VLOOKUP($C153,INSCRITS!$D$4:$W$501,7,0))","v":""},{"$f":"IF($C153=\"\",\"\",VLOOKUP($C153,INSCRITS!$D$4:$W$501,9,0))","v":""},7]
[null,null,null,{"$f":"IF($C154=\"\",\"\",VLOOKUP($C154,INSCRITS!$D$4:$W$501,6,0))","v":""},{"$f":"IF($C154=\"\",\"\",VLOOKUP($C154,INSCRITS!$D$4:$W$501,7,0))","v":""},{"$f":"IF($C154=\"\",\"\",VLOOKUP($C154,INSCRITS!$D$4:$W$501,9,0))","v":""}]
[null,null,null,{"$f":"IF($C155=\"\",\"\",VLOOKUP($C155,INSCRITS!$D$4:$W$501,6,0))","v":""},{"$f":"IF($C155=\"\",\"\",VLOOKUP($C155,INSCRITS!$D$4:$W$501,7,0))","v":""},{"$f":"IF($C155=\"\",\"\",VLOOKUP($C155,INSCRITS!$D$4:$W$501,9,0))","v":""}]
[null,null,null,{"$f":"IF($C156=\"\",\"\",VLOOKUP($C156,INSCRITS!$D$4:$W$501,6,0))","v":""},{"$f":"IF($C156=\"\",\"\",VLOOKUP($C156,INSCRITS!$D$4:$W$501,7,0))","v":""},{"$f":"IF($C156=\"\",\"\",VLOOKUP($C156,INSCRITS!$D$4:$W$501,9,0))","v":""}]
[null,null,null,{"$f":"IF($C157=\"\",\"\",VLOOKUP($C157,INSCRITS!$D$4:$W$501,6,0))","v":""},{"$f":"IF($C157=\"\",\"\",VLOOKUP($C157,INSCRITS!$D$4:$W$501,7,0))","v":""},{"$f":"IF($C157=\"\",\"\",VLOOKUP($C157,INSCRITS!$D$4:$W$501,9,0))","v":""}]
[null,null,null,{"$f":"IF($C158=\"\",\"\",VLOOKUP($C158,INSCRITS!$D$4:$W$501,6,0))","v":""},{"$f":"IF($C158=\"\",\"\",VLOOKUP($C158,INSCRITS!$D$4:$W$501,7,0))","v":""},{"$f":"IF($C158=\"\",\"\",VLOOKUP($C158,INSCRITS!$D$4:$W$501,9,0))","v":""}]
[null,null,null,{"$f":"IF($C159=\"\",\"\",VLOOKUP($C159,INSCRITS!$D$4:$W$501,6,0))","v":""},{"$f":"IF($C159=\"\",\"\",VLOOKUP($C159,INSCRITS!$D$4:$W$501,7,0))","v":""},{"$f":"IF($C159=\"\",\"\",VLOOKUP($C159,INSCRITS!$D$4:$W$501,9,0))","v":""}]
[null,null,null,{"$f":"IF($C160=\"\",\"\",VLOOKUP($C160,INSCRITS!$D$4:$W$501,6,0))","v":""},{"$f":"IF($C160=\"\",\"\",VLOOKUP($C160,INSCRITS!$D$4:$W$501,7,0))","v":""},{"$f":"IF($C160=\"\",\"\",VLOOKUP($C160,INSCRITS!$D$4:$W$501,9,0))","v":""}]
[null,"SERIE 12",null,{"$f":"IF($C161=\"\",\"\",VLOOKUP($C161,INSCRITS!$D$4:$W$501,6,0))","v":""},{"$f":"IF($C161=\"\",\"\",VLOOKUP($C161,INSCRITS!$D$4:$W$501,7,0))","v":""},{"$f":"IF($C161=\"\",\"\",VLOOKUP($C161,INSCRITS!$D$4:$W$501,9,0))","v":""},1]
[null,null,null,{"$f":"IF($C162=\"\",\"\",VLOOKUP($C162,INSCRITS!$D$4:$W$501,6,0))","v":""},{"$f":"IF($C162=\"\",\"\",VLOOKUP($C162,INSCRITS!$D$4:$W$501,7,0))","v":""},{"$f":"IF($C162=\"\",\"\",VLOOKUP($C162,INSCRITS!$D$4:$W$501,9,0))","v":""},2]
[null,null,null,{"$f":"IF($C163=\"\",\"\",VLOOKUP($C163,INSCRITS!$D$4:$W$501,6,0))","v":""},{"$f":"IF($C163=\"\",\"\",VLOOKUP($C163,INSCRITS!$D$4:$W$501,7,0))","v":""},{"$f":"IF($C163=\"\",\"\",VLOOKUP($C163,INSCRITS!$D$4:$W$501,9,0))","v":""},3]
[null,null,null,{"$f":"IF($C164=\"\",\"\",VLOOKUP($C164,INSCRITS!$D$4:$W$501,6,0))","v":""},{"$f":"IF($C164=\"\",\"\",VLOOKUP($C164,INSCRITS!$D$4:$W$501,7,0))","v":""},{"$f":"IF($C164=\"\",\"\",VLOOKUP($C164,INSCRITS!$D$4:$W$501,9,0))","v":""},4]
[null,null,null,{"$f":"IF($C165=\"\",\"\",VLOOKUP($C165,INSCRITS!$D$4:$W$501,6,0))","v":""},{"$f":"IF($C165=\"\",\"\",VLOOKUP($C165,INSCRITS!$D$4:$W$501,7,0))","v":""},{"$f":"IF($C165=\"\",\"\",VLOOKUP($C165,INSCRITS!$D$4:$W$501,9,0))","v":""},5]
[null,null,null,{"$f":"IF($C166=\"\",\"\",VLOOKUP($C166,INSCRITS!$D$4:$W$501,6,0))","v":""},{"$f":"IF($C166=\"\",\"\",VLOOKUP($C166,INSCRITS!$D$4:$W$501,7,0))","v":""},{"$f":"IF($C166=\"\",\"\",VLOOKUP($C166,INSCRITS!$D$4:$W$501,9,0))","v":""},6]
[null,null,null,{"$f":"IF($C167=\"\",\"\",VLOOKUP($C167,INSCRITS!$D$4:$W$501,6,0))","v":""},{"$f":"IF($C167=\"\",\"\",VLOOKUP($C167,INSCRITS!$D$4:$W$501,7,0))","v":""},{"$f":"IF($C167=\"\",\"\",VLOOKUP($C167,INSCRITS!$D$4:$W$501,9,0))","v":""},7]
[null,null,null,{"$f":"IF($C168=\"\",\"\",VLOOKUP($C168,INSCRITS!$D$4:$W$501,6,0))","v":""},{"$f":"IF($C168=\"\",\"\",VLOOKUP($C168,INSCRITS!$D$4:$W$501,7,0))","v":""},{"$f":"IF($C168=\"\",\"\",VLOOKUP($C168,INSCRITS!$D$4:$W$501,9,0))","v":""}]
[null,null,null,{"$f":"IF($C169=\"\",\"\",VLOOKUP($C169,INSCRITS!$D$4:$W$501,6,0))","v":""},{"$f":"IF($C169=\"\",\"\",VLOOKUP($C169,INSCRITS!$D$4:$W$501,7,0))","v":""},{"$f":"IF($C169=\"\",\"\",VLOOKUP($C169,INSCRITS!$D$4:$W$501,9,0))","v":""}]
[null,null,null,{"$f":"IF($C170=\"\",\"\",VLOOKUP($C170,INSCRITS!$D$4:$W$501,6,0))","v":""},{"$f":"IF($C170=\"\",\"\",VLOOKUP($C170,INSCRITS!$D$4:$W$501,7,0))","v":""},{"$f":"IF($C170=\"\",\"\",VLOOKUP($C170,INSCRITS!$D$4:$W$501,9,0))","v":""}]
[null,null,null,{"$f":"IF($C171=\"\",\"\",VLOOKUP($C171,INSCRITS!$D$4:$W$501,6,0))","v":""},{"$f":"IF($C171=\"\",\"\",VLOOKUP($C171,INSCRITS!$D$4:$W$501,7,0))","v":""},{"$f":"IF($C171=\"\",\"\",VLOOKUP($C171,INSCRITS!$D$4:$W$501,9,0))","v":""}]
[null,null,null,{"$f":"IF($C172=\"\",\"\",VLOOKUP($C172,INSCRITS!$D$4:$W$501,6,0))","v":""},{"$f":"IF($C172=\"\",\"\",VLOOKUP($C172,INSCRITS!$D$4:$W$501,7,0))","v":""},{"$f":"IF($C172=\"\",\"\",VLOOKUP($C172,INSCRITS!$D$4:$W$501,9,0))","v":""}]
[null,null,null,{"$f":"IF($C173=\"\",\"\",VLOOKUP($C173,INSCRITS!$D$4:$W$501,6,0))","v":""},{"$f":"IF($C173=\"\",\"\",VLOOKUP($C173,INSCRITS!$D$4:$W$501,7,0))","v":""},{"$f":"IF($C173=\"\",\"\",VLOOKUP($C173,INSCRITS!$D$4:$W$501,9,0))","v":""}]

{"sheet":"SURFSKI","index":6,"n_rows":177,"n_cols":35,"rows_kept":177,"cut":false,"hidden":false,"merged":[[176,1,188,1],[85,1,97,1],[98,1,110,1],[111,1,123,1],[124,1,136,1],[137,1,149,1],[28,27,43,27],[55,12,71,12],[7,27,27,27],[150,1,162,1],[163,1,175,1],[72,1,84,1],[7,20,22,20],[23,20,38,20],[23,12,38,12],[39,12,54,12],[7,12,22,12],[7,1,19,1],[20,1,32,1],[33,1,45,1],[46,1,58,1],[59,1,71,1]]}
[]
[]
[]
[null,"SERIES SURF SKI",null,null,null,null,null,null,null,null,null,null,"QUART SURF SKI",null,null,null,null,null,null,null,"DEMI-FINALES SURF SKI",null,null,null,null,null,null,null,"FINALE SURF SKI"]
[null,"Messieurs",null,null,null,null,null,null,null,null,null,null,null,null,null,null,null,null,null,null,"Messieurs",null,null,null,null,null,null,"Junior","Messieurs"]
[null,null,null,"NOM","Prénom","CLUB","PLACE",null,null,null,null,null,null,null,"NOM","Prénom","CLUB","PLACE",null,null,null,null,"NOM","Prénom","CLUB","PLACE",null,null,"N°","NOM","Prénom","CLUB",null,"PLACE","PTS"]
[null,null,162,{"$f":"IF($C7=\"\",\"\",VLOOKUP($C7,INSCRITS!$D$4:$W$501,6,0))","v":"LATAPIE"},{"$f":"IF($C7=\"\",\"\",VLOOKUP($C7,INSCRITS!$D$4:$W$501,7,0))","v":"Robin"},{"$f":"IF($C7=\"\",\"\",VLOOKUP($C7,INSCRITS!$D$4:$W$501,9,0))","v":"AQUALOVE"}]
[null,"SERIE 1",197,{"$f":"IF($C8=\"\",\"\",VLOOKUP($C8,INSCRITS!$D$4:$W$501,6,0))","v":"RUAULT"},{"$f":"IF($C8=\"\",\"\",VLOOKUP($C8,INSCRITS!$D$4:$W$501,7,0))","v":"Briag"},{"$f":"IF($C8=\"\",\"\",VLOOKUP($C8,INSCRITS!$D$4:$W$501,9,0))","v":"RENNES BREIZH SAUVETAGE COTIER"},null,null,null,null,null,null,"SERIE 1",null,{"$f":"IF($N8=\"\",\"\",VLOOKUP($N8,INSCRITS!$D$4:$W$501,6,0))","v":""},{"$f":"IF($N8=\"\",\"\",VLOOKUP($N8,INSCRITS!$D$4:$W$501,7,0))","v":""},{"$f":"IF($N8=\"\",\"\",VLOOKUP($N8,INSCRITS!$D$4:$W$501,9,0))","v":""},null,null,null,"SERIE 1",null,{"$f":"IF($V8=\"\",\"\",VLOOKUP($V8,INSCRITS!$D$4:$W$501,6,0))","v":""},{"$f":"IF($V8=\"\",\"\",VLOOKUP($V8,INSCRITS!$D$4:$W$501,7,0))","v":""},{"$f":"IF($V8=\"\",\"\",VLOOKUP($V8,INSCRITS!$D$4:$W$501,9,0))","v":""},null,null,"FINALE ",187,{"$f":"IF($AC8=\"\",\"\",VLOOKUP($AC8,INSCRITS!$D$4:$W$501,6,0))","v":"DEHEZ"},{"$f":"IF($AC8=\"\",\"\",VLOOKUP($AC8,INSCRITS!$D$4:$W$501,7,0))","v":"Rémy"},{"$f":"IF($AC8=\"\",\"\",VLOOKUP($AC8,INSCRITS!$D$4:$W$501,9,0))","v":"HSC"},null,1,{"$f":"IF(AH8=\"\",\"\",VLOOKUP(AH8,points,2))","v":20}]
[null,null,196,{"$f":"IF($C9=\"\",\"\",VLOOKUP($C9,INSCRITS!$D$4:$W$501,6,0))","v":"ZAMBELLI"},{"$f":"IF($C9=\"\",\"\",VLOOKUP($C9,INSCRITS!$D$4:$W$501,7,0))","v":"Sylvain"},{"$f":"IF($C9=\"\",\"\",VLOOKUP($C9,INSCRITS!$D$4:$W$501,9,0))","v":"MNSL"},null,null,null,null,null,null,null,null,{"$f":"IF($N9=\"\",\"\",VLOOKUP($N9,INSCRITS!$D$4:$W$501,6,0))","v":""},{"$f":"IF($N9=\"\",\"\",VLOOKUP($N9,INSCRITS!$D$4:$W$501,7,0))","v":""},{"$f":"IF($N9=\"\",\"\",VLOOKUP($N9,INSCRITS!$D$4:$W$501,9,0))","v":""},null,null,null,null,null,{"$f":"IF($V9=\"\",\"\",VLOOKUP($V9,INSCRITS!$D$4:$W$501,6,0))","v":""},{"$f":"IF($V9=\"\",\"\",VLOOKUP($V9,INSCRITS!$D$4:$W$501,7,0))","v":""},{"$f":"IF($V9=\"\",\"\",VLOOKUP($V9,INSCRITS!$D$4:$W$501,9,0))","v":""},null,null,null,173,{"$f":"IF($AC9=\"\",\"\",VLOOKUP($AC9,INSCRITS!$D$4:$W$501,6,0))","v":"FOS"},{"$f":"IF($AC9=\"\",\"\",VLOOKUP($AC9,INSCRITS!$D$4:$W$501,7,0))","v":"Robin"},{"$f":"IF($AC9=\"\",\"\",VLOOKUP($AC9,INSCRITS!$D$4:$W$501,9,0))","v":"BEGLES"},null,2,18]
[null,null,195,{"$f":"IF($C10=\"\",\"\",VLOOKUP($C10,INSCRITS!$D$4:$W$501,6,0))","v":"SUBRA"},{"$f":"IF($C10=\"\",\"\",VLOOKUP($C10,INSCRITS!$D$4:$W$501,7,0))","v":"Olivier"},{"$f":"IF($C10=\"\",\"\",VLOOKUP($C10,INSCRITS!$D$4:$W$501,9,0))","v":"MNSL"},null,null,null,null,null,null,null,null,{"$f":"IF($N10=\"\",\"\",VLOOKUP($N10,INSCRITS!$D$4:$W$501,6,0))","v":""},{"$f":"IF($N10=\"\",\"\",VLOOKUP($N10,INSCRITS!$D$4:$W$501,7,0))","v":""},{"$f":"IF($N10=\"\",\"\",VLOOKUP($N10,INSCRITS!$D$4:$W$501,9,0))","v":""},null,null,null,null,null,{"$f":"IF($V10=\"\",\"\",VLOOKUP($V10,INSCRITS!$D$4:$W$501,6,0))","v":""},{"$f":"IF($V10=\"\",\"\",VLOOKUP($V10,INSCRITS!$D$4:$W$501,7,0))","v":""},{"$f":"IF($V10=\"\",\"\",VLOOKUP($V10,INSCRITS!$D$4:$W$501,9,0))","v":""},null,null,null,178,{"$f":"IF($AC10=\"\",\"\",VLOOKUP($AC10,INSCRITS!$D$4:$W$501,6,0))","v":"SORIA"},{"$f":"IF($AC10=\"\",\"\",VLOOKUP($AC10,INSCRITS!$D$4:$W$501,7,0))","v":"Samuel"},{"$f":"IF($AC10=\"\",\"\",VLOOKUP($AC10,INSCRITS!$D$4:$W$501,9,0))","v":"Biarritz SC"},null,3,16]
[null,null,194,{"$f":"IF($C11=\"\",\"\",VLOOKUP($C11,INSCRITS!$D$4:$W$501,6,0))","v":"NOGUES"},{"$f":"IF($C11=\"\",\"\",VLOOKUP($C11,INSCRITS!$D$4:$W$501,7,0))","v":"Remi"},{"$f":"IF($C11=\"\",\"\",VLOOKUP($C11,INSCRITS!$D$4:$W$501,9,0))","v":"MNSL"},null,null,null,null,null,null,null,null,{"$f":"IF($N11=\"\",\"\",VLOOKUP($N11,INSCRITS!$D$4:$W$501,6,0))","v":""},{"$f":"IF($N11=\"\",\"\",VLOOKUP($N11,INSCRITS!$D$4:$W$501,7,0))","v":""},{"$f":"IF($N11=\"\",\"\",VLOOKUP($N11,INSCRITS!$D$4:$W$501,9,0))","v":""},null,null,null,null,null,{"$f":"IF($V11=\"\",\"\",VLOOKUP($V11,INSCRITS!$D$4:$W$501,6,0))","v":""},{"$f":"IF($V11=\"\",\"\",VLOOKUP($V11,INSCRITS!$D$4:$W$501,7,0))","v":""},{"$f":"IF($V11=\"\",\"\",VLOOKUP($V11,INSCRITS!$D$4:$W$501,9,0))","v":""},null,null,null,162,{"$f":"IF($AC11=\"\",\"\",VLOOKUP($AC11,INSCRITS!$D$4:$W$501,6,0))","v":"LATAPIE"},{"$f":"IF($AC11=\"\",\"\",VLOOKUP($AC11,INSCRITS!$D$4:$W$501,7,0))","v":"Robin"},{"$f":"IF($AC11=\"\",\"\",VLOOKUP($AC11,INSCRITS!$D$4:$W$501,9,0))","v":"AQUALOVE"},null,4,14]
[null,null,193,{"$f":"IF($C12=\"\",\"\",VLOOKUP($C12,INSCRITS!$D$4:$W$501,6,0))","v":"MAILHÉ"},{"$f":"IF($C12=\"\",\"\",VLOOKUP($C12,INSCRITS!$D$4:$W$501,7,0))","v":"Loic"},{"$f":"IF($C12=\"\",\"\",VLOOKUP($C12,INSCRITS!$D$4:$W$501,9,0))","v":"MNSL"},null,null,null,null,null,null,null,null,{"$f":"IF($N12=\"\",\"\",VLOOKUP($N12,INSCRITS!$D$4:$W$501,6,0))","v":""},{"$f":"IF($N12=\"\",\"\",VLOOKUP($N12,INSCRITS!$D$4:$W$501,7,0))","v":""},{"$f":"IF($N12=\"\",\"\",VLOOKUP($N12,INSCRITS!$D$4:$W$501,9,0))","v":""},null,null,null,null,null,{"$f":"IF($V12=\"\",\"\",VLOOKUP($V12,INSCRITS!$D$4:$W$501,6,0))","v":""},{"$f":"IF($V12=\"\",\"\",VLOOKUP($V12,INSCRITS!$D$4:$W$501,7,0))","v":""},{"$f":"IF($V12=\"\",\"\",VLOOKUP($V12,INSCRITS!$D$4:$W$501,9,0))","v":""},null,null,null,175,{"$f":"IF($AC12=\"\",\"\",VLOOKUP($AC12,INSCRITS!$D$4:$W$501,6,0))","v":"PHILIPPEAU"},{"$f":"IF($AC12=\"\",\"\",VLOOKUP($AC12,INSCRITS!$D$4:$W$501,7,0))","v":"Jodicael"},{"$f":"IF($AC12=\"\",\"\",VLOOKUP($AC12,INSCRITS!$D$4:$W$501,9,0))","v":"BEGLES"},null,5,13]
[null,null,187,{"$f":"IF($C13=\"\",\"\",VLOOKUP($C13,INSCRITS!$D$4:$W$501,6,0))","v":"DEHEZ"},{"$f":"IF($C13=\"\",\"\",VLOOKUP($C13,INSCRITS!$D$4:$W$501,7,0))","v":"Rémy"},{"$f":"IF($C13=\"\",\"\",VLOOKUP($C13,INSCRITS!$D$4:$W$501,9,0))","v":"HSC"},null,null,null,null,null,null,null,null,{"$f":"IF($N13=\"\",\"\",VLOOKUP($N13,INSCRITS!$D$4:$W$501,6,0))","v":""},{"$f":"IF($N13=\"\",\"\",VLOOKUP($N13,INSCRITS!$D$4:$W$501,7,0))","v":""},{"$f":"IF($N13=\"\",\"\",VLOOKUP($N13,INSCRITS!$D$4:$W$501,9,0))","v":""},null,null,null,null,null,{"$f":"IF($V13=\"\",\"\",VLOOKUP($V13,INSCRITS!$D$4:$W$501,6,0))","v":""},{"$f":"IF($V13=\"\",\"\",VLOOKUP($V13,INSCRITS!$D$4:$W$501,7,0))","v":""},{"$f":"IF($V13=\"\",\"\",VLOOKUP($V13,INSCRITS!$D$4:$W$501,9,0))","v":""},null,null,null,163,{"$f":"IF($AC13=\"\",\"\",VLOOKUP($AC13,INSCRITS!$D$4:$W$501,6,0))","v":"MARCO"},{"$f":"IF($AC13=\"\",\"\",VLOOKUP($AC13,INSCRITS!$D$4:$W$501,7,0))","v":"Clement"},{"$f":"IF($AC13=\"\",\"\",VLOOKUP($AC13,INSCRITS!$D$4:$W$501,9,0))","v":"AQUALOVE"},null,6,12]
[null,null,183,{"$f":"IF($C14=\"\",\"\",VLOOKUP($C14,INSCRITS!$D$4:$W$501,6,0))","v":"BLANC"},{"$f":"IF($C14=\"\",\"\",VLOOKUP($C14,INSCRITS!$D$4:$W$501,7,0))","v":"Guillaume"},{"$f":"IF($C14=\"\",\"\",VLOOKUP($C14,INSCRITS!$D$4:$W$501,9,0))","v":"ENA"},null,null,null,null,null,null,null,null,{"$f":"IF($N14=\"\",\"\",VLOOKUP($N14,INSCRITS!$D$4:$W$501,6,0))","v":""},{"$f":"IF($N14=\"\",\"\",VLOOKUP($N14,INSCRITS!$D$4:$W$501,7,0))","v":""},{"$f":"IF($N14=\"\",\"\",VLOOKUP($N14,INSCRITS!$D$4:$W$501,9,0))","v":""},null,null,null,null,null,{"$f":"IF($V14=\"\",\"\",VLOOKUP($V14,INSCRITS!$D$4:$W$501,6,0))","v":""},{"$f":"IF($V14=\"\",\"\",VLOOKUP($V14,INSCRITS!$D$4:$W$501,7,0))","v":""},{"$f":"IF($V14=\"\",\"\",VLOOKUP($V14,INSCRITS!$D$4:$W$501,9,0))","v":""},null,null,null,193,{"$f":"IF($AC14=\"\",\"\",VLOOKUP($AC14,INSCRITS!$D$4:$W$501,6,0))","v":"MAILHÉ"},{"$f":"IF($AC14=\"\",\"\",VLOOKUP($AC14,INSCRITS!$D$4:$W$501,7,0))","v":"Loic"},{"$f":"IF($AC14=\"\",\"\",VLOOKUP($AC14,INSCRITS!$D$4:$W$501,9,0))","v":"MNSL"},null,7,11]
[null,null,182,{"$f":"IF($C15=\"\",\"\",VLOOKUP($C15,INSCRITS!$D$4:$W$501,6,0))","v":"DUBOIS CONSTANT"},{"$f":"IF($C15=\"\",\"\",VLOOKUP($C15,INSCRITS!$D$4:$W$501,7,0))","v":"Antoine"},{"$f":"IF($C15=\"\",\"\",VLOOKUP($C15,INSCRITS!$D$4:$W$501,9,0))","v":"EMULATION SAUVETAGE NATATION PERPIGNAN"},null,null,null,null,null,null,null,null,{"$f":"IF($N15=\"\",\"\",VLOOKUP($N15,INSCRITS!$D$4:$W$501,6,0))","v":""},{"$f":"IF($N15=\"\",\"\",VLOOKUP($N15,INSCRITS!$D$4:$W$501,7,0))","v":""},{"$f":"IF($N15=\"\",\"\",VLOOKUP($N15,INSCRITS!$D$4:$W$501,9,0))","v":""},null,null,null,null,null,{"$f":"IF($V15=\"\",\"\",VLOOKUP($V15,INSCRITS!$D$4:$W$501,6,0))","v":""},{"$f":"IF($V15=\"\",\"\",VLOOKUP($V15,INSCRITS!$D$4:$W$501,7,0))","v":""},{"$f":"IF($V15=\"\",\"\",VLOOKUP($V15,INSCRITS!$D$4:$W$501,9,0))","v":""},null,null,null,167,{"$f":"IF($AC15=\"\",\"\",VLOOKUP($AC15,INSCRITS!$D$4:$W$501,6,0))","v":"HERVE"},{"$f":"IF($AC15=\"\",\"\",VLOOKUP($AC15,INSCRITS!$D$4:$W$501,7,0))","v":"Axel"},{"$f":"IF($AC15=\"\",\"\",VLOOKUP($AC15,INSCRITS!$D$4:$W$501,9,0))","v":"ASCE DINARD"},null,8,10]
[null,null,178,{"$f":"IF($C16=\"\",\"\",VLOOKUP($C16,INSCRITS!$D$4:$W$501,6,0))","v":"SORIA"},{"$f":"IF($C16=\"\",\"\",VLOOKUP($C16,INSCRITS!$D$4:$W$501,7,0))","v":"Samuel"},{"$f":"IF($C16=\"\",\"\",VLOOKUP($C16,INSCRITS!$D$4:$W$501,9,0))","v":"Biarritz SC"},null,null,null,null,null,null,null,null,{"$f":"IF($N16=\"\",\"\",VLOOKUP($N16,INSCRITS!$D$4:$W$501,6,0))","v":""},{"$f":"IF($N16=\"\",\"\",VLOOKUP($N16,INSCRITS!$D$4:$W$501,7,0))","v":""},{"$f":"IF($N16=\"\",\"\",VLOOKUP($N16,INSCRITS!$D$4:$W$501,9,0))","v":""},null,null,null,null,null,{"$f":"IF($V16=\"\",\"\",VLOOKUP($V16,INSCRITS!$D$4:$W$501,6,0))","v":""},{"$f":"IF($V16=\"\",\"\",VLOOKUP($V16,INSCRITS!$D$4:$W$501,7,0))","v":""},{"$f":"IF($V16=\"\",\"\",VLOOKUP($V16,INSCRITS!$D$4:$W$501,9,0))","v":""},null,null,null,183,{"$f":"IF($AC16=\"\",\"\",VLOOKUP($AC16,INSCRITS!$D$4:$W$501,6,0))","v":"BLANC"},{"$f":"IF($AC16=\"\",\"\",VLOOKUP($AC16,INSCRITS!$D$4:$W$501,7,0))","v":"Guillaume"},{"$f":"IF($AC16=\"\",\"\",VLOOKUP($AC16,INSCRITS!$D$4:$W$501,9,0))","v":"ENA"},null,9,8]
[null,null,175,{"$f":"IF($C17=\"\",\"\",VLOOKUP($C17,INSCRITS!$D$4:$W$501,6,0))","v":"PHILIPPEAU"},{"$f":"IF($C17=\"\",\"\",VLOOKUP($C17,INSCRITS!$D$4:$W$501,7,0))","v":"Jodicael"},{"$f":"IF($C17=\"\",\"\",VLOOKUP($C17,INSCRITS!$D$4:$W$501,9,0))","v":"BEGLES"},null,null,null,null,null,null,null,null,{"$f":"IF($N17=\"\",\"\",VLOOKUP($N17,INSCRITS!$D$4:$W$501,6,0))","v":""},{"$f":"IF($N17=\"\",\"\",VLOOKUP($N17,INSCRITS!$D$4:$W$501,7,0))","v":""},{"$f":"IF($N17=\"\",\"\",VLOOKUP($N17,INSCRITS!$D$4:$W$501,9,0))","v":""},null,null,null,null,null,{"$f":"IF($V17=\"\",\"\",VLOOKUP($V17,INSCRITS!$D$4:$W$501,6,0))","v":""},{"$f":"IF($V17=\"\",\"\",VLOOKUP($V17,INSCRITS!$D$4:$W$501,7,0))","v":""},{"$f":"IF($V17=\"\",\"\",VLOOKUP($V17,INSCRITS!$D$4:$W$501,9,0))","v":""},null,null,null,194,{"$f":"IF($AC17=\"\",\"\",VLOOKUP($AC17,INSCRITS!$D$4:$W$501,6,0))","v":"NOGUES"},{"$f":"IF($AC17=\"\",\"\",VLOOKUP($AC17,INSCRITS!$D$4:$W$501,7,0))","v":"Remi"},{"$f":"IF($AC17=\"\",\"\",VLOOKUP($AC17,INSCRITS!$D$4:$W$501,9,0))","v":"MNSL"},null,10,7]
[null,null,174,{"$f":"IF($C18=\"\",\"\",VLOOKUP($C18,INSCRITS!$D$4:$W$501,6,0))","v":"HAZERA"},{"$f":"IF($C18=\"\",\"\",VLOOKUP($C18,INSCRITS!$D$4:$W$501,7,0))","v":"Olivier"},{"$f":"IF($C18=\"\",\"\",VLOOKUP($C18,INSCRITS!$D$4:$W$501,9,0))","v":"BEGLES"},null,null,null,null,null,null,null,null,{"$f":"IF($N18=\"\",\"\",VLOOKUP($N18,INSCRITS!$D$4:$W$501,6,0))","v":""},{"$f":"IF($N18=\"\",\"\",VLOOKUP($N18,INSCRITS!$D$4:$W$501,7,0))","v":""},{"$f":"IF($N18=\"\",\"\",VLOOKUP($N18,INSCRITS!$D$4:$W$501,9,0))","v":""},null,null,null,null,null,{"$f":"IF($V18=\"\",\"\",VLOOKUP($V18,INSCRITS!$D$4:$W$501,6,0))","v":""},{"$f":"IF($V18=\"\",\"\",VLOOKUP($V18,INSCRITS!$D$4:$W$501,7,0))","v":""},{"$f":"IF($V18=\"\",\"\",VLOOKUP($V18,INSCRITS!$D$4:$W$501,9,0))","v":""},null,null,null,174,{"$f":"IF($AC18=\"\",\"\",VLOOKUP($AC18,INSCRITS!$D$4:$W$501,6,0))","v":"HAZERA"},{"$f":"IF($AC18=\"\",\"\",VLOOKUP($AC18,INSCRITS!$D$4:$W$501,7,0))","v":"Olivier"},{"$f":"IF($AC18=\"\",\"\",VLOOKUP($AC18,INSCRITS!$D$4:$W$501,9,0))","v":"BEGLES"},null,11,6]
[null,null,173,{"$f":"IF($C19=\"\",\"\",VLOOKUP($C19,INSCRITS!$D$4:$W$501,6,0))","v":"FOS"},{"$f":"IF($C19=\"\",\"\",VLOOKUP($C19,INSCRITS!$D$4:$W$501,7,0))","v":"Robin"},{"$f":"IF($C19=\"\",\"\",VLOOKUP($C19,INSCRITS!$D$4:$W$501,9,0))","v":"BEGLES"},null,null,null,null,null,null,null,null,{"$f":"IF($N19=\"\",\"\",VLOOKUP($N19,INSCRITS!$D$4:$W$501,6,0))","v":""},{"$f":"IF($N19=\"\",\"\",VLOOKUP($N19,INSCRITS!$D$4:$W$501,7,0))","v":""},{"$f":"IF($N19=\"\",\"\",VLOOKUP($N19,INSCRITS!$D$4:$W$501,9,0))","v":""},null,null,null,null,null,{"$f":"IF($V19=\"\",\"\",VLOOKUP($V19,INSCRITS!$D$4:$W$501,6,0))","v":""},{"$f":"IF($V19=\"\",\"\",VLOOKUP($V19,INSCRITS!$D$4:$W$501,7,0))","v":""},{"$f":"IF($V19=\"\",\"\",VLOOKUP($V19,INSCRITS!$D$4:$W$501,9,0))","v":""},null,null,null,195,{"$f":"IF($AC19=\"\",\"\",VLOOKUP($AC19,INSCRITS!$D$4:$W$501,6,0))","v":"SUBRA"},{"$f":"IF($AC19=\"\",\"\",VLOOKUP($AC19,INSCRITS!$D$4:$W$501,7,0))","v":"Olivier"},{"$f":"IF($AC19=\"\",\"\",VLOOKUP($AC19,INSCRITS!$D$4:$W$501,9,0))","v":"MNSL"},null,12,5]
[null,null,172,{"$f":"IF($C20=\"\",\"\",VLOOKUP($C20,INSCRITS!$D$4:$W$501,6,0))","v":"JEHAN"},{"$f":"IF($C20=\"\",\"\",VLOOKUP($C20,INSCRITS!$D$4:$W$501,7,0))","v":"Thomas"},{"$f":"IF($C20=\"\",\"\",VLOOKUP($C20,INSCRITS!$D$4:$W$501,9,0))","v":"ASCE DINARD "},null,null,null,null,null,null,null,null,{"$f":"IF($N20=\"\",\"\",VLOOKUP($N20,INSCRITS!$D$4:$W$501,6,0))","v":""},{"$f":"IF($N20=\"\",\"\",VLOOKUP($N20,INSCRITS!$D$4:$W$501,7,0))","v":""},{"$f":"IF($N20=\"\",\"\",VLOOKUP($N20,INSCRITS!$D$4:$W$501,9,0))","v":""},null,null,null,null,null,{"$f":"IF($V20=\"\",\"\",VLOOKUP($V20,INSCRITS!$D$4:$W$501,6,0))","v":""},{"$f":"IF($V20=\"\",\"\",VLOOKUP($V20,INSCRITS!$D$4:$W$501,7,0))","v":""},{"$f":"IF($V20=\"\",\"\",VLOOKUP($V20,INSCRITS!$D$4:$W$501,9,0))","v":""},null,null,null,169,{"$f":"IF($AC20=\"\",\"\",VLOOKUP($AC20,INSCRITS!$D$4:$W$501,6,0))","v":"POUTRIQUET"},{"$f":"IF($AC20=\"\",\"\",VLOOKUP($AC20,INSCRITS!$D$4:$W$501,7,0))","v":"Maxime"},{"$f":"IF($AC20=\"\",\"\",VLOOKUP($AC20,INSCRITS!$D$4:$W$501,9,0))","v":"ASCE DINARD"},null,13,4]
[null,"SERIE 2",171,{"$f":"IF($C21=\"\",\"\",VLOOKUP($C21,INSCRITS!$D$4:$W$501,6,0))","v":"DABCHY"},{"$f":"IF($C21=\"\",\"\",VLOOKUP($C21,INSCRITS!$D$4:$W$501,7,0))","v":"Yassine"},{"$f":"IF($C21=\"\",\"\",VLOOKUP($C21,INSCRITS!$D$4:$W$501,9,0))","v":"ASCE DINARD "},null,null,null,null,null,null,null,null,{"$f":"IF($N21=\"\",\"\",VLOOKUP($N21,INSCRITS!$D$4:$W$501,6,0))","v":""},{"$f":"IF($N21=\"\",\"\",VLOOKUP($N21,INSCRITS!$D$4:$W$501,7,0))","v":""},{"$f":"IF($N21=\"\",\"\",VLOOKUP($N21,INSCRITS!$D$4:$W$501,9,0))","v":""},null,null,null,null,null,{"$f":"IF($V21=\"\",\"\",VLOOKUP($V21,INSCRITS!$D$4:$W$501,6,0))","v":""},{"$f":"IF($V21=\"\",\"\",VLOOKUP($V21,INSCRITS!$D$4:$W$501,7,0))","v":""},{"$f":"IF($V21=\"\",\"\",VLOOKUP($V21,INSCRITS!$D$4:$W$501,9,0))","v":""},null,null,null,196,{"$f":"IF($AC21=\"\",\"\",VLOOKUP($AC21,INSCRITS!$D$4:$W$501,6,0))","v":"ZAMBELLI"},{"$f":"IF($AC21=\"\",\"\",VLOOKUP($AC21,INSCRITS!$D$4:$W$501,7,0))","v":"Sylvain"},{"$f":"IF($AC21=\"\",\"\",VLOOKUP($AC21,INSCRITS!$D$4:$W$501,9,0))","v":"MNSL"},null,14,3]
[null,null,170,{"$f":"IF($C22=\"\",\"\",VLOOKUP($C22,INSCRITS!$D$4:$W$501,6,0))","v":"RIGOT"},{"$f":"IF($C22=\"\",\"\",VLOOKUP($C22,INSCRITS!$D$4:$W$501,7,0))","v":"Quentin"},{"$f":"IF($C22=\"\",\"\",VLOOKUP($C22,INSCRITS!$D$4:$W$501,9,0))","v":"ASCE DINARD"},null,null,null,null,null,null,null,null,{"$f":"IF($N22=\"\",\"\",VLOOKUP($N22,INSCRITS!$D$4:$W$501,6,0))","v":""},{"$f":"IF($N22=\"\",\"\",VLOOKUP($N22,INSCRITS!$D$4:$W$501,7,0))","v":""},{"$f":"IF($N22=\"\",\"\",VLOOKUP($N22,INSCRITS!$D$4:$W$501,9,0))","v":""},null,null,null,null,null,{"$f":"IF($V22=\"\",\"\",VLOOKUP($V22,INSCRITS!$D$4:$W$501,6,0))","v":""},{"$f":"IF($V22=\"\",\"\",VLOOKUP($V22,INSCRITS!$D$4:$W$501,7,0))","v":""},{"$f":"IF($V22=\"\",\"\",VLOOKUP($V22,INSCRITS!$D$4:$W$501,9,0))","v":""},null,null,null,172,{"$f":"IF($AC22=\"\",\"\",VLOOKUP($AC22,INSCRITS!$D$4:$W$501,6,0))","v":"JEHAN"},{"$f":"IF($AC22=\"\",\"\",VLOOKUP($AC22,INSCRITS!$D$4:$W$501,7,0))","v":"Thomas"},{"$f":"IF($AC22=\"\",\"\",VLOOKUP($AC22,INSCRITS!$D$4:$W$501,9,0))","v":"ASCE DINARD "},null,15,2]
[null,null,169,{"$f":"IF($C23=\"\",\"\",VLOOKUP($C23,INSCRITS!$D$4:$W$501,6,0))","v":"POUTRIQUET"},{"$f":"IF($C23=\"\",\"\",VLOOKUP($C23,INSCRITS!$D$4:$W$501,7,0))","v":"Maxime"},{"$f":"IF($C23=\"\",\"\",VLOOKUP($C23,INSCRITS!$D$4:$W$501,9,0))","v":"ASCE DINARD"},null,null,null,null,null,null,null,null,{"$f":"IF($N23=\"\",\"\",VLOOKUP($N23,INSCRITS!$D$4:$W$501,6,0))","v":""},{"$f":"IF($N23=\"\",\"\",VLOOKUP($N23,INSCRITS!$D$4:$W$501,7,0))","v":""},{"$f":"IF($N23=\"\",\"\",VLOOKUP($N23,INSCRITS!$D$4:$W$501,9,0))","v":""},null,null,null,null,null,{"$f":"IF($V23=\"\",\"\",VLOOKUP($V23,INSCRITS!$D$4:$W$501,6,0))","v":""},{"$f":"IF($V23=\"\",\"\",VLOOKUP($V23,INSCRITS!$D$4:$W$501,7,0))","v":""},{"$f":"IF($V23=\"\",\"\",VLOOKUP($V23,INSCRITS!$D$4:$W$501,9,0))","v":""},null,null,null,197,{"$f":"IF($AC23=\"\",\"\",VLOOKUP($AC23,INSCRITS!$D$4:$W$501,6,0))","v":"RUAULT"},{"$f":"IF($AC23=\"\",\"\",VLOOKUP($AC23,INSCRITS!$D$4:$W$501,7,0))","v":"Briag"},{"$f":"IF($AC23=\"\",\"\",VLOOKUP($AC23,INSCRITS!$D$4:$W$501,9,0))","v":"RENNES BREIZH SAUVETAGE COTIER"},null,16,1]
[null,null,null,{"$f":"IF($C24=\"\",\"\",VLOOKUP($C24,INSCRITS!$D$4:$W$501,6,0))","v":""},{"$f":"IF($C24=\"\",\"\",VLOOKUP($C24,INSCRITS!$D$4:$W$501,7,0))","v":""},{"$f":"IF($C24=\"\",\"\",VLOOKUP($C24,INSCRITS!$D$4:$W$501,9,0))","v":""},null,null,null,null,null,null,"SERIE 2",null,{"$f":"IF($N24=\"\",\"\",VLOOKUP($N24,INSCRITS!$D$4:$W$501,6,0))","v":""},{"$f":"IF($N24=\"\",\"\",VLOOKUP($N24,INSCRITS!$D$4:$W$501,7,0))","v":""},{"$f":"IF($N24=\"\",\"\",VLOOKUP($N24,INSCRITS!$D$4:$W$501,9,0))","v":""},null,null,null,"SERIE 2",null,{"$f":"IF($V24=\"\",\"\",VLOOKUP($V24,INSCRITS!$D$4:$W$501,6,0))","v":""},{"$f":"IF($V24=\"\",\"\",VLOOKUP($V24,INSCRITS!$D$4:$W$501,7,0))","v":""},{"$f":"IF($V24=\"\",\"\",VLOOKUP($V24,INSCRITS!$D$4:$W$501,9,0))","v":""},null,null,null,166,{"$f":"IF($AC24=\"\",\"\",VLOOKUP($AC24,INSCRITS!$D$4:$W$501,6,0))","v":"DOLE"},{"$f":"IF($AC24=\"\",\"\",VLOOKUP($AC24,INSCRITS!$D$4:$W$501,7,0))","v":"François"},{"$f":"IF($AC24=\"\",\"\",VLOOKUP($AC24,INSCRITS!$D$4:$W$501,9,0))","v":"ASCE DINARD"},null,17,0]
[null,null,167,{"$f":"IF($C25=\"\",\"\",VLOOKUP($C25,INSCRITS!$D$4:$W$501,6,0))","v":"HERVE"},{"$f":"IF($C25=\"\",\"\",VLOOKUP($C25,INSCRITS!$D$4:$W$501,7,0))","v":"Axel"},{"$f":"IF($C25=\"\",\"\",VLOOKUP($C25,INSCRITS!$D$4:$W$501,9,0))","v":"ASCE DINARD"},null,null,null,null,null,null,null,null,{"$f":"IF($N25=\"\",\"\",VLOOKUP($N25,INSCRITS!$D$4:$W$501,6,0))","v":""},{"$f":"IF($N25=\"\",\"\",VLOOKUP($N25,INSCRITS!$D$4:$W$501,7,0))","v":""},{"$f":"IF($N25=\"\",\"\",VLOOKUP($N25,INSCRITS!$D$4:$W$501,9,0))","v":""},null,null,null,null,null,{"$f":"IF($V25=\"\",\"\",VLOOKUP($V25,INSCRITS!$D$4:$W$501,6,0))","v":""},{"$f":"IF($V25=\"\",\"\",VLOOKUP($V25,INSCRITS!$D$4:$W$501,7,0))","v":""},{"$f":"IF($V25=\"\",\"\",VLOOKUP($V25,INSCRITS!$D$4:$W$501,9,0))","v":""},null,null,null,171,{"$f":"IF($AC25=\"\",\"\",VLOOKUP($AC25,INSCRITS!$D$4:$W$501,6,0))","v":"DABCHY"},{"$f":"IF($AC25=\"\",\"\",VLOOKUP($AC25,INSCRITS!$D$4:$W$501,7,0))","v":"Yassine"},{"$f":"IF($AC25=\"\",\"\",VLOOKUP($AC25,INSCRITS!$D$4:$W$501,9,0))","v":"ASCE DINARD "},null,"abs",0]
[null,null,166,{"$f":"IF($C26=\"\",\"\",VLOOKUP($C26,INSCRITS!$D$4:$W$501,6,0))","v":"DOLE"},{"$f":"IF($C26=\"\",\"\",VLOOKUP($C26,INSCRITS!$D$4:$W$501,7,0))","v":"François"},{"$f":"IF($C26=\"\",\"\",VLOOKUP($C26,INSCRITS!$D$4:$W$501,9,0))","v":"ASCE DINARD"},null,null,null,null,null,null,null,null,{"$f":"IF($N26=\"\",\"\",VLOOKUP($N26,INSCRITS!$D$4:$W$501,6,0))","v":""},{"$f":"IF($N26=\"\",\"\",VLOOKUP($N26,INSCRITS!$D$4:$W$501,7,0))","v":""},{"$f":"IF($N26=\"\",\"\",VLOOKUP($N26,INSCRITS!$D$4:$W$501,9,0))","v":""},null,null,null,null,null,{"$f":"IF($V26=\"\",\"\",VLOOKUP($V26,INSCRITS!$D$4:$W$501,6,0))","v":""},{"$f":"IF($V26=\"\",\"\",VLOOKUP($V26,INSCRITS!$D$4:$W$501,7,0))","v":""},{"$f":"IF($V26=\"\",\"\",VLOOKUP($V26,INSCRITS!$D$4:$W$501,9,0))","v":""},null,null,null,null,{"$f":"IF($AC26=\"\",\"\",VLOOKUP($AC26,INSCRITS!$D$4:$W$501,6,0))","v":""},{"$f":"IF($AC26=\"\",\"\",VLOOKUP($AC26,INSCRITS!$D$4:$W$501,7,0))","v":""},{"$f":"IF($AC26=\"\",\"\",VLOOKUP($AC26,INSCRITS!$D$4:$W$501,9,0))","v":""},null,null,""]
[null,null,164,{"$f":"IF($C27=\"\",\"\",VLOOKUP($C27,INSCRITS!$D$4:$W$501,6,0))","v":{"$error":"#N/A"}},{"$f":"IF($C27=\"\",\"\",VLOOKUP($C27,INSCRITS!$D$4:$W$501,7,0))","v":{"$error":"#N/A"}},{"$f":"IF($C27=\"\",\"\",VLOOKUP($C27,INSCRITS!$D$4:$W$501,9,0))","v":{"$error":"#N/A"}},null,null,null,null,null,null,null,null,{"$f":"IF($N27=\"\",\"\",VLOOKUP($N27,INSCRITS!$D$4:$W$501,6,0))","v":""},{"$f":"IF($N27=\"\",\"\",VLOOKUP($N27,INSCRITS!$D$4:$W$501,7,0))","v":""},{"$f":"IF($N27=\"\",\"\",VLOOKUP($N27,INSCRITS!$D$4:$W$501,9,0))","v":""},null,null,null,null,null,{"$f":"IF($V27=\"\",\"\",VLOOKUP($V27,INSCRITS!$D$4:$W$501,6,0))","v":""},{"$f":"IF($V27=\"\",\"\",VLOOKUP($V27,INSCRITS!$D$4:$W$501,7,0))","v":""},{"$f":"IF($V27=\"\",\"\",VLOOKUP($V27,INSCRITS!$D$4:$W$501,9,0))","v":""},null,null,null,null,{"$f":"IF($AC27=\"\",\"\",VLOOKUP($AC27,INSCRITS!$D$4:$W$501,6,0))","v":""},{"$f":"IF($AC27=\"\",\"\",VLOOKUP($AC27,INSCRITS!$D$4:$W$501,7,0))","v":""},{"$f":"IF($AC27=\"\",\"\",VLOOKUP($AC27,INSCRITS!$D$4:$W$501,9,0))","v":""},null,null,""]
[null,null,163,{"$f":"IF($C28=\"\",\"\",VLOOKUP($C28,INSCRITS!$D$4:$W$501,6,0))","v":"MARCO"},{"$f":"IF($C28=\"\",\"\",VLOOKUP($C28,INSCRITS!$D$4:$W$501,7,0))","v":"Clement"},{"$f":"IF($C28=\"\",\"\",VLOOKUP($C28,INSCRITS!$D$4:$W$501,9,0))","v":"AQUALOVE"},null,null,null,null,null,null,null,null,{"$f":"IF($N28=\"\",\"\",VLOOKUP($N28,INSCRITS!$D$4:$W$501,6,0))","v":""},{"$f":"IF($N28=\"\",\"\",VLOOKUP($N28,INSCRITS!$D$4:$W$501,7,0))","v":""},{"$f":"IF($N28=\"\",\"\",VLOOKUP($N28,INSCRITS!$D$4:$W$501,9,0))","v":""},null,null,null,null,null,{"$f":"IF($V28=\"\",\"\",VLOOKUP($V28,INSCRITS!$D$4:$W$501,6,0))","v":""},{"$f":"IF($V28=\"\",\"\",VLOOKUP($V28,INSCRITS!$D$4:$W$501,7,0))","v":""},{"$f":"IF($V28=\"\",\"\",VLOOKUP($V28,INSCRITS!$D$4:$W$501,9,0))","v":""},null,null,null,null,{"$f":"IF($AC28=\"\",\"\",VLOOKUP($AC28,INSCRITS!$D$4:$W$501,6,0))","v":""},{"$f":"IF($AC28=\"\",\"\",VLOOKUP($AC28,INSCRITS!$D$4:$W$501,7,0))","v":""},{"$f":"IF($AC28=\"\",\"\",VLOOKUP($AC28,INSCRITS!$D$4:$W$501,9,0))","v":""},null,null,""]
[null,null,null,{"$f":"IF($C29=\"\",\"\",VLOOKUP($C29,INSCRITS!$D$4:$W$501,6,0))","v":""},{"$f":"IF($C29=\"\",\"\",VLOOKUP($C29,INSCRITS!$D$4:$W$501,7,0))","v":""},{"$f":"IF($C29=\"\",\"\",VLOOKUP($C29,INSCRITS!$D$4:$W$501,9,0))","v":""},null,null,null,null,null,null,null,null,{"$f":"IF($N29=\"\",\"\",VLOOKUP($N29,INSCRITS!$D$4:$W$501,6,0))","v":""},{"$f":"IF($N29=\"\",\"\",VLOOKUP($N29,INSCRITS!$D$4:$W$501,7,0))","v":""},{"$f":"IF($N29=\"\",\"\",VLOOKUP($N29,INSCRITS!$D$4:$W$501,9,0))","v":""},null,null,null,null,null,{"$f":"IF($V29=\"\",\"\",VLOOKUP($V29,INSCRITS!$D$4:$W$501,6,0))","v":""},{"$f":"IF($V29=\"\",\"\",VLOOKUP($V29,INSCRITS!$D$4:$W$501,7,0))","v":""},{"$f":"IF($V29=\"\",\"\",VLOOKUP($V29,INSCRITS!$D$4:$W$501,9,0))","v":""},null,null,"FINALE B",null,{"$f":"IF($AC29=\"\",\"\",VLOOKUP($AC29,INSCRITS!$D$4:$W$501,6,0))","v":""},{"$f":"IF($AC29=\"\",\"\",VLOOKUP($AC29,INSCRITS!$D$4:$W$501,7,0))","v":""},{"$f":"IF($AC29=\"\",\"\",VLOOKUP($AC29,INSCRITS!$D$4:$W$501,9,0))","v":""}]
[null,null,null,{"$f":"IF($C30=\"\",\"\",VLOOKUP($C30,INSCRITS!$D$4:$W$501,6,0))","v":""},{"$f":"IF($C30=\"\",\"\",VLOOKUP($C30,INSCRITS!$D$4:$W$501,7,0))","v":""},{"$f":"IF($C30=\"\",\"\",VLOOKUP($C30,INSCRITS!$D$4:$W$501,9,0))","v":""},null,null,null,null,null,null,null,null,{"$f":"IF($N30=\"\",\"\",VLOOKUP($N30,INSCRITS!$D$4:$W$501,6,0))","v":""},{"$f":"IF($N30=\"\",\"\",VLOOKUP($N30,INSCRITS!$D$4:$W$501,7,0))","v":""},{"$f":"IF($N30=\"\",\"\",VLOOKUP($N30,INSCRITS!$D$4:$W$501,9,0))","v":""},null,null,null,null,null,{"$f":"IF($V30=\"\",\"\",VLOOKUP($V30,INSCRITS!$D$4:$W$501,6,0))","v":""},{"$f":"IF($V30=\"\",\"\",VLOOKUP($V30,INSCRITS!$D$4:$W$501,7,0))","v":""},{"$f":"IF($V30=\"\",\"\",VLOOKUP($V30,INSCRITS!$D$4:$W$501,9,0))","v":""},null,null,null,null,{"$f":"IF($AC30=\"\",\"\",VLOOKUP($AC30,INSCRITS!$D$4:$W$501,6,0))","v":""},{"$f":"IF($AC30=\"\",\"\",VLOOKUP($AC30,INSCRITS!$D$4:$W$501,7,0))","v":""},{"$f":"IF($AC30=\"\",\"\",VLOOKUP($AC30,INSCRITS!$D$4:$W$501,9,0))","v":""}]
[null,null,null,{"$f":"IF($C31=\"\",\"\",VLOOKUP($C31,INSCRITS!$D$4:$W$501,6,0))","v":""},{"$f":"IF($C31=\"\",\"\",VLOOKUP($C31,INSCRITS!$D$4:$W$501,7,0))","v":""},{"$f":"IF($C31=\"\",\"\",VLOOKUP($C31,INSCRITS!$D$4:$W$501,9,0))","v":""},null,null,null,null,null,null,null,null,{"$f":"IF($N31=\"\",\"\",VLOOKUP($N31,INSCRITS!$D$4:$W$501,6,0))","v":""},{"$f":"IF($N31=\"\",\"\",VLOOKUP($N31,INSCRITS!$D$4:$W$501,7,0))","v":""},{"$f":"IF($N31=\"\",\"\",VLOOKUP($N31,INSCRITS!$D$4:$W$501,9,0))","v":""},null,null,null,null,null,{"$f":"IF($V31=\"\",\"\",VLOOKUP($V31,INSCRITS!$D$4:$W$501,6,0))","v":""},{"$f":"IF($V31=\"\",\"\",VLOOKUP($V31,INSCRITS!$D$4:$W$501,7,0))","v":""},{"$f":"IF($V31=\"\",\"\",VLOOKUP($V31,INSCRITS!$D$4:$W$501,9,0))","v":""},null,null,null,null,{"$f":"IF($AC31=\"\",\"\",VLOOKUP($AC31,INSCRITS!$D$4:$W$501,6,0))","v":""},{"$f":"IF($AC31=\"\",\"\",VLOOKUP($AC31,INSCRITS!$D$4:$W$501,7,0))","v":""},{"$f":"IF($AC31=\"\",\"\",VLOOKUP($AC31,INSCRITS!$D$4:$W$501,9,0))","v":""}]
[null,null,null,{"$f":"IF($C32=\"\",\"\",VLOOKUP($C32,INSCRITS!$D$4:$W$501,6,0))","v":""},{"$f":"IF($C32=\"\",\"\",VLOOKUP($C32,INSCRITS!$D$4:$W$501,7,0))","v":""},{"$f":"IF($C32=\"\",\"\",VLOOKUP($C32,INSCRITS!$D$4:$W$501,9,0))","v":""},null,null,null,null,null,null,null,null,{"$f":"IF($N32=\"\",\"\",VLOOKUP($N32,INSCRITS!$D$4:$W$501,6,0))","v":""},{"$f":"IF($N32=\"\",\"\",VLOOKUP($N32,INSCRITS!$D$4:$W$501,7,0))","v":""},{"$f":"IF($N32=\"\",\"\",VLOOKUP($N32,INSCRITS!$D$4:$W$501,9,0))","v":""},null,null,null,null,null,{"$f":"IF($V32=\"\",\"\",VLOOKUP($V32,INSCRITS!$D$4:$W$501,6,0))","v":""},{"$f":"IF($V32=\"\",\"\",VLOOKUP($V32,INSCRITS!$D$4:$W$501,7,0))","v":""},{"$f":"IF($V32=\"\",\"\",VLOOKUP($V32,INSCRITS!$D$4:$W$501,9,0))","v":""},null,null,null,null,{"$f":"IF($AC32=\"\",\"\",VLOOKUP($AC32,INSCRITS!$D$4:$W$501,6,0))","v":""},{"$f":"IF($AC32=\"\",\"\",VLOOKUP($AC32,INSCRITS!$D$4:$W$501,7,0))","v":""},{"$f":"IF($AC32=\"\",\"\",VLOOKUP($AC32,INSCRITS!$D$4:$W$501,9,0))","v":""}]
[null,null,null,{"$f":"IF($C33=\"\",\"\",VLOOKUP($C33,INSCRITS!$D$4:$W$501,6,0))","v":""},{"$f":"IF($C33=\"\",\"\",VLOOKUP($C33,INSCRITS!$D$4:$W$501,7,0))","v":""},{"$f":"IF($C33=\"\",\"\",VLOOKUP($C33,INSCRITS!$D$4:$W$501,9,0))","v":""},null,null,null,null,null,null,null,null,{"$f":"IF($N33=\"\",\"\",VLOOKUP($N33,INSCRITS!$D$4:$W$501,6,0))","v":""},{"$f":"IF($N33=\"\",\"\",VLOOKUP($N33,INSCRITS!$D$4:$W$501,7,0))","v":""},{"$f":"IF($N33=\"\",\"\",VLOOKUP($N33,INSCRITS!$D$4:$W$501,9,0))","v":""},null,null,null,null,null,{"$f":"IF($V33=\"\",\"\",VLOOKUP($V33,INSCRITS!$D$4:$W$501,6,0))","v":""},{"$f":"IF($V33=\"\",\"\",VLOOKUP($V33,INSCRITS!$D$4:$W$501,7,0))","v":""},{"$f":"IF($V33=\"\",\"\",VLOOKUP($V33,INSCRITS!$D$4:$W$501,9,0))","v":""},null,null,null,null,{"$f":"IF($AC33=\"\",\"\",VLOOKUP($AC33,INSCRITS!$D$4:$W$501,6,0))","v":""},{"$f":"IF($AC33=\"\",\"\",VLOOKUP($AC33,INSCRITS!$D$4:$W$501,7,0))","v":""},{"$f":"IF($AC33=\"\",\"\",VLOOKUP($AC33,INSCRITS!$D$4:$W$501,9,0))","v":""}]
[null,"SERIE 3",null,{"$f":"IF($C34=\"\",\"\",VLOOKUP($C34,INSCRITS!$D$4:$W$501,6,0))","v":""},{"$f":"IF($C34=\"\",\"\",VLOOKUP($C34,INSCRITS!$D$4:$W$501,7,0))","v":""},{"$f":"IF($C34=\"\",\"\",VLOOKUP($C34,INSCRITS!$D$4:$W$501,9,0))","v":""},null,null,null,null,null,null,null,null,{"$f":"IF($N34=\"\",\"\",VLOOKUP($N34,INSCRITS!$D$4:$W$501,6,0))","v":""},{"$f":"IF($N34=\"\",\"\",VLOOKUP($N34,INSCRITS!$D$4:$W$501,7,0))","v":""},{"$f":"IF($N34=\"\",\"\",VLOOKUP($N34,INSCRITS!$D$4:$W$501,9,0))","v":""},null,null,null,null,null,{"$f":"IF($V34=\"\",\"\",VLOOKUP($V34,INSCRITS!$D$4:$W$501,6,0))","v":""},{"$f":"IF($V34=\"\",\"\",VLOOKUP($V34,INSCRITS!$D$4:$W$501,7,0))","v":""},{"$f":"IF($V34=\"\",\"\",VLOOKUP($V34,INSCRITS!$D$4:$W$501,9,0))","v":""},null,null,null,null,{"$f":"IF($AC34=\"\",\"\",VLOOKUP($AC34,INSCRITS!$D$4:$W$501,6,0))","v":""},{"$f":"IF($AC34=\"\",\"\",VLOOKUP($AC34,INSCRITS!$D$4:$W$501,7,0))","v":""},{"$f":"IF($AC34=\"\",\"\",VLOOKUP($AC34,INSCRITS!$D$4:$W$501,9,0))","v":""}]
[null,null,null,{"$f":"IF($C35=\"\",\"\",VLOOKUP($C35,INSCRITS!$D$4:$W$501,6,0))","v":""},{"$f":"IF($C35=\"\",\"\",VLOOKUP($C35,INSCRITS!$D$4:$W$501,7,0))","v":""},{"$f":"IF($C35=\"\",\"\",VLOOKUP($C35,INSCRITS!$D$4:$W$501,9,0))","v":""},null,null,null,null,null,null,null,null,{"$f":"IF($N35=\"\",\"\",VLOOKUP($N35,INSCRITS!$D$4:$W$501,6,0))","v":""},{"$f":"IF($N35=\"\",\"\",VLOOKUP($N35,INSCRITS!$D$4:$W$501,7,0))","v":""},{"$f":"IF($N35=\"\",\"\",VLOOKUP($N35,INSCRITS!$D$4:$W$501,9,0))","v":""},null,null,null,null,null,{"$f":"IF($V35=\"\",\"\",VLOOKUP($V35,INSCRITS!$D$4:$W$501,6,0))","v":""},{"$f":"IF($V35=\"\",\"\",VLOOKUP($V35,INSCRITS!$D$4:$W$501,7,0))","v":""},{"$f":"IF($V35=\"\",\"\",VLOOKUP($V35,INSCRITS!$D$4:$W$501,9,0))","v":""},null,null,null,null,{"$f":"IF($AC35=\"\",\"\",VLOOKUP($AC35,INSCRITS!$D$4:$W$501,6,0))","v":""},{"$f":"IF($AC35=\"\",\"\",VLOOKUP($AC35,INSCRITS!$D$4:$W$501,7,0))","v":""},{"$f":"IF($AC35=\"\",\"\",VLOOKUP($AC35,INSCRITS!$D$4:$W$501,9,0))","v":""}]
[null,null,null,{"$f":"IF($C36=\"\",\"\",VLOOKUP($C36,INSCRITS!$D$4:$W$501,6,0))","v":""},{"$f":"IF($C36=\"\",\"\",VLOOKUP($C36,INSCRITS!$D$4:$W$501,7,0))","v":""},{"$f":"IF($C36=\"\",\"\",VLOOKUP($C36,INSCRITS!$D$4:$W$501,9,0))","v":""},null,null,null,null,null,null,null,null,{"$f":"IF($N36=\"\",\"\",VLOOKUP($N36,INSCRITS!$D$4:$W$501,6,0))","v":""},{"$f":"IF($N36=\"\",\"\",VLOOKUP($N36,INSCRITS!$D$4:$W$501,7,0))","v":""},{"$f":"IF($N36=\"\",\"\",VLOOKUP($N36,INSCRITS!$D$4:$W$501,9,0))","v":""},null,null,null,null,null,{"$f":"IF($V36=\"\",\"\",VLOOKUP($V36,INSCRITS!$D$4:$W$501,6,0))","v":""},{"$f":"IF($V36=\"\",\"\",VLOOKUP($V36,INSCRITS!$D$4:$W$501,7,0))","v":""},{"$f":"IF($V36=\"\",\"\",VLOOKUP($V36,INSCRITS!$D$4:$W$501,9,0))","v":""},null,null,null,null,{"$f":"IF($AC36=\"\",\"\",VLOOKUP($AC36,INSCRITS!$D$4:$W$501,6,0))","v":""},{"$f":"IF($AC36=\"\",\"\",VLOOKUP($AC36,INSCRITS!$D$4:$W$501,7,0))","v":""},{"$f":"IF($AC36=\"\",\"\",VLOOKUP($AC36,INSCRITS!$D$4:$W$501,9,0))","v":""}]
[null,null,null,{"$f":"IF($C37=\"\",\"\",VLOOKUP($C37,INSCRITS!$D$4:$W$501,6,0))","v":""},{"$f":"IF($C37=\"\",\"\",VLOOKUP($C37,INSCRITS!$D$4:$W$501,7,0))","v":""},{"$f":"IF($C37=\"\",\"\",VLOOKUP($C37,INSCRITS!$D$4:$W$501,9,0))","v":""},null,null,null,null,null,null,null,null,{"$f":"IF($N37=\"\",\"\",VLOOKUP($N37,INSCRITS!$D$4:$W$501,6,0))","v":""},{"$f":"IF($N37=\"\",\"\",VLOOKUP($N37,INSCRITS!$D$4:$W$501,7,0))","v":""},{"$f":"IF($N37=\"\",\"\",VLOOKUP($N37,INSCRITS!$D$4:$W$501,9,0))","v":""},null,null,null,null,null,{"$f":"IF($V37=\"\",\"\",VLOOKUP($V37,INSCRITS!$D$4:$W$501,6,0))","v":""},{"$f":"IF($V37=\"\",\"\",VLOOKUP($V37,INSCRITS!$D$4:$W$501,7,0))","v":""},{"$f":"IF($V37=\"\",\"\",VLOOKUP($V37,INSCRITS!$D$4:$W$501,9,0))","v":""},null,null,null,null,{"$f":"IF($AC37=\"\",\"\",VLOOKUP($AC37,INSCRITS!$D$4:$W$501,6,0))","v":""},{"$f":"IF($AC37=\"\",\"\",VLOOKUP($AC37,INSCRITS!$D$4:$W$501,7,0))","v":""},{"$f":"IF($AC37=\"\",\"\",VLOOKUP($AC37,INSCRITS!$D$4:$W$501,9,0))","v":""}]
[null,null,null,{"$f":"IF($C38=\"\",\"\",VLOOKUP($C38,INSCRITS!$D$4:$W$501,6,0))","v":""},{"$f":"IF($C38=\"\",\"\",VLOOKUP($C38,INSCRITS!$D$4:$W$501,7,0))","v":""},{"$f":"IF($C38=\"\",\"\",VLOOKUP($C38,INSCRITS!$D$4:$W$501,9,0))","v":""},null,null,null,null,null,null,null,null,{"$f":"IF($N38=\"\",\"\",VLOOKUP($N38,INSCRITS!$D$4:$W$501,6,0))","v":""},{"$f":"IF($N38=\"\",\"\",VLOOKUP($N38,INSCRITS!$D$4:$W$501,7,0))","v":""},{"$f":"IF($N38=\"\",\"\",VLOOKUP($N38,INSCRITS!$D$4:$W$501,9,0))","v":""},null,null,null,null,null,{"$f":"IF($V38=\"\",\"\",VLOOKUP($V38,INSCRITS!$D$4:$W$501,6,0))","v":""},{"$f":"IF($V38=\"\",\"\",VLOOKUP($V38,INSCRITS!$D$4:$W$501,7,0))","v":""},{"$f":"IF($V38=\"\",\"\",VLOOKUP($V38,INSCRITS!$D$4:$W$501,9,0))","v":""},null,null,null,null,{"$f":"IF($AC38=\"\",\"\",VLOOKUP($AC38,INSCRITS!$D$4:$W$501,6,0))","v":""},{"$f":"IF($AC38=\"\",\"\",VLOOKUP($AC38,INSCRITS!$D$4:$W$501,7,0))","v":""},{"$f":"IF($AC38=\"\",\"\",VLOOKUP($AC38,INSCRITS!$D$4:$W$501,9,0))","v":""}]
[null,null,null,{"$f":"IF($C39=\"\",\"\",VLOOKUP($C39,INSCRITS!$D$4:$W$501,6,0))","v":""},{"$f":"IF($C39=\"\",\"\",VLOOKUP($C39,INSCRITS!$D$4:$W$501,7,0))","v":""},{"$f":"IF($C39=\"\",\"\",VLOOKUP($C39,INSCRITS!$D$4:$W$501,9,0))","v":""},null,null,null,null,null,null,null,null,{"$f":"IF($N39=\"\",\"\",VLOOKUP($N39,INSCRITS!$D$4:$W$501,6,0))","v":""},{"$f":"IF($N39=\"\",\"\",VLOOKUP($N39,INSCRITS!$D$4:$W$501,7,0))","v":""},{"$f":"IF($N39=\"\",\"\",VLOOKUP($N39,INSCRITS!$D$4:$W$501,9,0))","v":""},null,null,null,null,null,{"$f":"IF($V39=\"\",\"\",VLOOKUP($V39,INSCRITS!$D$4:$W$501,6,0))","v":""},{"$f":"IF($V39=\"\",\"\",VLOOKUP($V39,INSCRITS!$D$4:$W$501,7,0))","v":""},{"$f":"IF($V39=\"\",\"\",VLOOKUP($V39,INSCRITS!$D$4:$W$501,9,0))","v":""},null,null,null,null,{"$f":"IF($AC39=\"\",\"\",VLOOKUP($AC39,INSCRITS!$D$4:$W$501,6,0))","v":""},{"$f":"IF($AC39=\"\",\"\",VLOOKUP($AC39,INSCRITS!$D$4:$W$501,7,0))","v":""},{"$f":"IF($AC39=\"\",\"\",VLOOKUP($AC39,INSCRITS!$D$4:$W$501,9,0))","v":""}]
[null,null,null,{"$f":"IF($C40=\"\",\"\",VLOOKUP($C40,INSCRITS!$D$4:$W$501,6,0))","v":""},{"$f":"IF($C40=\"\",\"\",VLOOKUP($C40,INSCRITS!$D$4:$W$501,7,0))","v":""},{"$f":"IF($C40=\"\",\"\",VLOOKUP($C40,INSCRITS!$D$4:$W$501,9,0))","v":""},null,null,null,null,null,null,"SERIE 3",null,{"$f":"IF($N40=\"\",\"\",VLOOKUP($N40,INSCRITS!$D$4:$W$501,6,0))","v":""},{"$f":"IF($N40=\"\",\"\",VLOOKUP($N40,INSCRITS!$D$4:$W$501,7,0))","v":""},{"$f":"IF($N40=\"\",\"\",VLOOKUP($N40,INSCRITS!$D$4:$W$501,9,0))","v":""},null,null,null,null,null,null,null,null,null,null,null,null,{"$f":"IF($AC40=\"\",\"\",VLOOKUP($AC40,INSCRITS!$D$4:$W$501,6,0))","v":""},{"$f":"IF($AC40=\"\",\"\",VLOOKUP($AC40,INSCRITS!$D$4:$W$501,7,0))","v":""},{"$f":"IF($AC40=\"\",\"\",VLOOKUP($AC40,INSCRITS!$D$4:$W$501,9,0))","v":""}]
[null,null,null,{"$f":"IF($C41=\"\",\"\",VLOOKUP($C41,INSCRITS!$D$4:$W$501,6,0))","v":""},{"$f":"IF($C41=\"\",\"\",VLOOKUP($C41,INSCRITS!$D$4:$W$501,7,0))","v":""},{"$f":"IF($C41=\"\",\"\",VLOOKUP($C41,INSCRITS!$D$4:$W$501,9,0))","v":""},null,null,null,null,null,null,null,null,{"$f":"IF($N41=\"\",\"\",VLOOKUP($N41,INSCRITS!$D$4:$W$501,6,0))","v":""},{"$f":"IF($N41=\"\",\"\",VLOOKUP($N41,INSCRITS!$D$4:$W$501,7,0))","v":""},{"$f":"IF($N41=\"\",\"\",VLOOKUP($N41,INSCRITS!$D$4:$W$501,9,0))","v":""},null,null,null,null,null,null,null,null,null,null,null,null,{"$f":"IF($AC41=\"\",\"\",VLOOKUP($AC41,INSCRITS!$D$4:$W$501,6,0))","v":""},{"$f":"IF($AC41=\"\",\"\",VLOOKUP($AC41,INSCRITS!$D$4:$W$501,7,0))","v":""},{"$f":"IF($AC41=\"\",\"\",VLOOKUP($AC41,INSCRITS!$D$4:$W$501,9,0))","v":""}]
[null,null,null,{"$f":"IF($C42=\"\",\"\",VLOOKUP($C42,INSCRITS!$D$4:$W$501,6,0))","v":""},{"$f":"IF($C42=\"\",\"\",VLOOKUP($C42,INSCRITS!$D$4:$W$501,7,0))","v":""},{"$f":"IF($C42=\"\",\"\",VLOOKUP($C42,INSCRITS!$D$4:$W$501,9,0))","v":""},null,null,null,null,null,null,null,null,{"$f":"IF($N42=\"\",\"\",VLOOKUP($N42,INSCRITS!$D$4:$W$501,6,0))","v":""},{"$f":"IF($N42=\"\",\"\",VLOOKUP($N42,INSCRITS!$D$4:$W$501,7,0))","v":""},{"$f":"IF($N42=\"\",\"\",VLOOKUP($N42,INSCRITS!$D$4:$W$501,9,0))","v":""},null,null,null,null,null,null,null,null,null,null,null,null,{"$f":"IF($AC42=\"\",\"\",VLOOKUP($AC42,INSCRITS!$D$4:$W$501,6,0))","v":""},{"$f":"IF($AC42=\"\",\"\",VLOOKUP($AC42,INSCRITS!$D$4:$W$501,7,0))","v":""},{"$f":"IF($AC42=\"\",\"\",VLOOKUP($AC42,INSCRITS!$D$4:$W$501,9,0))","v":""}]
[null,null,null,{"$f":"IF($C43=\"\",\"\",VLOOKUP($C43,INSCRITS!$D$4:$W$501,6,0))","v":""},{"$f":"IF($C43=\"\",\"\",VLOOKUP($C43,INSCRITS!$D$4:$W$501,7,0))","v":""},{"$f":"IF($C43=\"\",\"\",VLOOKUP($C43,INSCRITS!$D$4:$W$501,9,0))","v":""},null,null,null,null,null,null,null,null,{"$f":"IF($N43=\"\",\"\",VLOOKUP($N43,INSCRITS!$D$4:$W$501,6,0))","v":""},{"$f":"IF($N43=\"\",\"\",VLOOKUP($N43,INSCRITS!$D$4:$W$501,7,0))","v":""},{"$f":"IF($N43=\"\",\"\",VLOOKUP($N43,INSCRITS!$D$4:$W$501,9,0))","v":""}]
[null,null,null,{"$f":"IF($C44=\"\",\"\",VLOOKUP($C44,INSCRITS!$D$4:$W$501,6,0))","v":""},{"$f":"IF($C44=\"\",\"\",VLOOKUP($C44,INSCRITS!$D$4:$W$501,7,0))","v":""},{"$f":"IF($C44=\"\",\"\",VLOOKUP($C44,INSCRITS!$D$4:$W$501,9,0))","v":""},null,null,null,null,null,null,null,null,{"$f":"IF($N44=\"\",\"\",VLOOKUP($N44,INSCRITS!$D$4:$W$501,6,0))","v":""},{"$f":"IF($N44=\"\",\"\",VLOOKUP($N44,INSCRITS!$D$4:$W$501,7,0))","v":""},{"$f":"IF($N44=\"\",\"\",VLOOKUP($N44,INSCRITS!$D$4:$W$501,9,0))","v":""}]
[null,null,null,{"$f":"IF($C45=\"\",\"\",VLOOKUP($C45,INSCRITS!$D$4:$W$501,6,0))","v":""},{"$f":"IF($C45=\"\",\"\",VLOOKUP($C45,INSCRITS!$D$4:$W$501,7,0))","v":""},{"$f":"IF($C45=\"\",\"\",VLOOKUP($C45,INSCRITS!$D$4:$W$501,9,0))","v":""},null,null,null,null,null,null,null,null,{"$f":"IF($N45=\"\",\"\",VLOOKUP($N45,INSCRITS!$D$4:$W$501,6,0))","v":""},{"$f":"IF($N45=\"\",\"\",VLOOKUP($N45,INSCRITS!$D$4:$W$501,7,0))","v":""},{"$f":"IF($N45=\"\",\"\",VLOOKUP($N45,INSCRITS!$D$4:$W$501,9,0))","v":""}]
[null,null,null,{"$f":"IF($C46=\"\",\"\",VLOOKUP($C46,INSCRITS!$D$4:$W$501,6,0))","v":""},{"$f":"IF($C46=\"\",\"\",VLOOKUP($C46,INSCRITS!$D$4:$W$501,7,0))","v":""},{"$f":"IF($C46=\"\",\"\",VLOOKUP($C46,INSCRITS!$D$4:$W$501,9,0))","v":""},null,null,null,null,null,null,null,null,{"$f":"IF($N46=\"\",\"\",VLOOKUP($N46,INSCRITS!$D$4:$W$501,6,0))","v":""},{"$f":"IF($N46=\"\",\"\",VLOOKUP($N46,INSCRITS!$D$4:$W$501,7,0))","v":""},{"$f":"IF($N46=\"\",\"\",VLOOKUP($N46,INSCRITS!$D$4:$W$501,9,0))","v":""}]
[null,"SERIE 4",null,{"$f":"IF($C47=\"\",\"\",VLOOKUP($C47,INSCRITS!$D$4:$W$501,6,0))","v":""},{"$f":"IF($C47=\"\",\"\",VLOOKUP($C47,INSCRITS!$D$4:$W$501,7,0))","v":""},{"$f":"IF($C47=\"\",\"\",VLOOKUP($C47,INSCRITS!$D$4:$W$501,9,0))","v":""},null,null,null,null,null,null,null,null,{"$f":"IF($N47=\"\",\"\",VLOOKUP($N47,INSCRITS!$D$4:$W$501,6,0))","v":""},{"$f":"IF($N47=\"\",\"\",VLOOKUP($N47,INSCRITS!$D$4:$W$501,7,0))","v":""},{"$f":"IF($N47=\"\",\"\",VLOOKUP($N47,INSCRITS!$D$4:$W$501,9,0))","v":""}]
[null,null,null,{"$f":"IF($C48=\"\",\"\",VLOOKUP($C48,INSCRITS!$D$4:$W$501,6,0))","v":""},{"$f":"IF($C48=\"\",\"\",VLOOKUP($C48,INSCRITS!$D$4:$W$501,7,0))","v":""},{"$f":"IF($C48=\"\",\"\",VLOOKUP($C48,INSCRITS!$D$4:$W$501,9,0))","v":""},null,null,null,null,null,null,null,null,{"$f":"IF($N48=\"\",\"\",VLOOKUP($N48,INSCRITS!$D$4:$W$501,6,0))","v":""},{"$f":"IF($N48=\"\",\"\",VLOOKUP($N48,INSCRITS!$D$4:$W$501,7,0))","v":""},{"$f":"IF($N48=\"\",\"\",VLOOKUP($N48,INSCRITS!$D$4:$W$501,9,0))","v":""}]
[null,null,null,{"$f":"IF($C49=\"\",\"\",VLOOKUP($C49,INSCRITS!$D$4:$W$501,6,0))","v":""},{"$f":"IF($C49=\"\",\"\",VLOOKUP($C49,INSCRITS!$D$4:$W$501,7,0))","v":""},{"$f":"IF($C49=\"\",\"\",VLOOKUP($C49,INSCRITS!$D$4:$W$501,9,0))","v":""},null,null,null,null,null,null,null,null,{"$f":"IF($N49=\"\",\"\",VLOOKUP($N49,INSCRITS!$D$4:$W$501,6,0))","v":""},{"$f":"IF($N49=\"\",\"\",VLOOKUP($N49,INSCRITS!$D$4:$W$501,7,0))","v":""},{"$f":"IF($N49=\"\",\"\",VLOOKUP($N49,INSCRITS!$D$4:$W$501,9,0))","v":""}]
[null,null,null,{"$f":"IF($C50=\"\",\"\",VLOOKUP($C50,INSCRITS!$D$4:$W$501,6,0))","v":""},{"$f":"IF($C50=\"\",\"\",VLOOKUP($C50,INSCRITS!$D$4:$W$501,7,0))","v":""},{"$f":"IF($C50=\"\",\"\",VLOOKUP($C50,INSCRITS!$D$4:$W$501,9,0))","v":""},null,null,null,null,null,null,null,null,{"$f":"IF($N50=\"\",\"\",VLOOKUP($N50,INSCRITS!$D$4:$W$501,6,0))","v":""},{"$f":"IF($N50=\"\",\"\",VLOOKUP($N50,INSCRITS!$D$4:$W$501,7,0))","v":""},{"$f":"IF($N50=\"\",\"\",VLOOKUP($N50,INSCRITS!$D$4:$W$501,9,0))","v":""}]
[null,null,null,{"$f":"IF($C51=\"\",\"\",VLOOKUP($C51,INSCRITS!$D$4:$W$501,6,0))","v":""},{"$f":"IF($C51=\"\",\"\",VLOOKUP($C51,INSCRITS!$D$4:$W$501,7,0))","v":""},{"$f":"IF($C51=\"\",\"\",VLOOKUP($C51,INSCRITS!$D$4:$W$501,9,0))","v":""},null,null,null,null,null,null,null,null,{"$f":"IF($N51=\"\",\"\",VLOOKUP($N51,INSCRITS!$D$4:$W$501,6,0))","v":""},{"$f":"IF($N51=\"\",\"\",VLOOKUP($N51,INSCRITS!$D$4:$W$501,7,0))","v":""},{"$f":"IF($N51=\"\",\"\",VLOOKUP($N51,INSCRITS!$D$4:$W$501,9,0))","v":""}]
[null,null,null,{"$f":"IF($C52=\"\",\"\",VLOOKUP($C52,INSCRITS!$D$4:$W$501,6,0))","v":""},{"$f":"IF($C52=\"\",\"\",VLOOKUP($C52,INSCRITS!$D$4:$W$501,7,0))","v":""},{"$f":"IF($C52=\"\",\"\",VLOOKUP($C52,INSCRITS!$D$4:$W$501,9,0))","v":""},null,null,null,null,null,null,null,null,{"$f":"IF($N52=\"\",\"\",VLOOKUP($N52,INSCRITS!$D$4:$W$501,6,0))","v":""},{"$f":"IF($N52=\"\",\"\",VLOOKUP($N52,INSCRITS!$D$4:$W$501,7,0))","v":""},{"$f":"IF($N52=\"\",\"\",VLOOKUP($N52,INSCRITS!$D$4:$W$501,9,0))","v":""}]
[null,null,null,{"$f":"IF($C53=\"\",\"\",VLOOKUP($C53,INSCRITS!$D$4:$W$501,6,0))","v":""},{"$f":"IF($C53=\"\",\"\",VLOOKUP($C53,INSCRITS!$D$4:$W$501,7,0))","v":""},{"$f":"IF($C53=\"\",\"\",VLOOKUP($C53,INSCRITS!$D$4:$W$501,9,0))","v":""},null,null,null,null,null,null,null,null,{"$f":"IF($N53=\"\",\"\",VLOOKUP($N53,INSCRITS!$D$4:$W$501,6,0))","v":""},{"$f":"IF($N53=\"\",\"\",VLOOKUP($N53,INSCRITS!$D$4:$W$501,7,0))","v":""},{"$f":"IF($N53=\"\",\"\",VLOOKUP($N53,INSCRITS!$D$4:$W$501,9,0))","v":""}]
[null,null,null,{"$f":"IF($C54=\"\",\"\",VLOOKUP($C54,INSCRITS!$D$4:$W$501,6,0))","v":""},{"$f":"IF($C54=\"\",\"\",VLOOKUP($C54,INSCRITS!$D$4:$W$501,7,0))","v":""},{"$f":"IF($C54=\"\",\"\",VLOOKUP($C54,INSCRITS!$D$4:$W$501,9,0))","v":""},null,null,null,null,null,null,null,null,{"$f":"IF($N54=\"\",\"\",VLOOKUP($N54,INSCRITS!$D$4:$W$501,6,0))","v":""},{"$f":"IF($N54=\"\",\"\",VLOOKUP($N54,INSCRITS!$D$4:$W$501,7,0))","v":""},{"$f":"IF($N54=\"\",\"\",VLOOKUP($N54,INSCRITS!$D$4:$W$501,9,0))","v":""}]
[null,null,null,{"$f":"IF($C55=\"\",\"\",VLOOKUP($C55,INSCRITS!$D$4:$W$501,6,0))","v":""},{"$f":"IF($C55=\"\",\"\",VLOOKUP($C55,INSCRITS!$D$4:$W$501,7,0))","v":""},{"$f":"IF($C55=\"\",\"\",VLOOKUP($C55,INSCRITS!$D$4:$W$501,9,0))","v":""},null,null,null,null,null,null,null,null,{"$f":"IF($N55=\"\",\"\",VLOOKUP($N55,INSCRITS!$D$4:$W$501,6,0))","v":""},{"$f":"IF($N55=\"\",\"\",VLOOKUP($N55,INSCRITS!$D$4:$W$501,7,0))","v":""},{"$f":"IF($N55=\"\",\"\",VLOOKUP($N55,INSCRITS!$D$4:$W$501,9,0))","v":""}]
[null,null,null,{"$f":"IF($C56=\"\",\"\",VLOOKUP($C56,INSCRITS!$D$4:$W$501,6,0))","v":""},{"$f":"IF($C56=\"\",\"\",VLOOKUP($C56,INSCRITS!$D$4:$W$501,7,0))","v":""},{"$f":"IF($C56=\"\",\"\",VLOOKUP($C56,INSCRITS!$D$4:$W$501,9,0))","v":""},null,null,null,null,null,null,"SERIE 4",null,{"$f":"IF($N56=\"\",\"\",VLOOKUP($N56,INSCRITS!$D$4:$W$501,6,0))","v":""},{"$f":"IF($N56=\"\",\"\",VLOOKUP($N56,INSCRITS!$D$4:$W$501,7,0))","v":""},{"$f":"IF($N56=\"\",\"\",VLOOKUP($N56,INSCRITS!$D$4:$W$501,9,0))","v":""}]
[null,null,null,{"$f":"IF($C57=\"\",\"\",VLOOKUP($C57,INSCRITS!$D$4:$W$501,6,0))","v":""},{"$f":"IF($C57=\"\",\"\",VLOOKUP($C57,INSCRITS!$D$4:$W$501,7,0))","v":""},{"$f":"IF($C57=\"\",\"\",VLOOKUP($C57,INSCRITS!$D$4:$W$501,9,0))","v":""},null,null,null,null,null,null,null,null,{"$f":"IF($N57=\"\",\"\",VLOOKUP($N57,INSCRITS!$D$4:$W$501,6,0))","v":""},{"$f":"IF($N57=\"\",\"\",VLOOKUP($N57,INSCRITS!$D$4:$W$501,7,0))","v":""},{"$f":"IF($N57=\"\",\"\",VLOOKUP($N57,INSCRITS!$D$4:$W$501,9,0))","v":""}]
[null,null,null,{"$f":"IF($C58=\"\",\"\",VLOOKUP($C58,INSCRITS!$D$4:$W$501,6,0))","v":""},{"$f":"IF($C58=\"\",\"\",VLOOKUP($C58,INSCRITS!$D$4:$W$501,7,0))","v":""},{"$f":"IF($C58=\"\",\"\",VLOOKUP($C58,INSCRITS!$D$4:$W$501,9,0))","v":""},null,null,null,null,null,null,null,null,{"$f":"IF($N58=\"\",\"\",VLOOKUP($N58,INSCRITS!$D$4:$W$501,6,0))","v":""},{"$f":"IF($N58=\"\",\"\",VLOOKUP($N58,INSCRITS!$D$4:$W$501,7,0))","v":""},{"$f":"IF($N58=\"\",\"\",VLOOKUP($N58,INSCRITS!$D$4:$W$501,9,0))","v":""}]
[null,null,null,{"$f":"IF($C59=\"\",\"\",VLOOKUP($C59,INSCRITS!$D$4:$W$501,6,0))","v":""},{"$f":"IF($C59=\"\",\"\",VLOOKUP($C59,INSCRITS!$D$4:$W$501,7,0))","v":""},{"$f":"IF($C59=\"\",\"\",VLOOKUP($C59,INSCRITS!$D$4:$W$501,9,0))","v":""},null,null,null,null,null,null,null,null,{"$f":"IF($N59=\"\",\"\",VLOOKUP($N59,INSCRITS!$D$4:$W$501,6,0))","v":""},{"$f":"IF($N59=\"\",\"\",VLOOKUP($N59,INSCRITS!$D$4:$W$501,7,0))","v":""},{"$f":"IF($N59=\"\",\"\",VLOOKUP($N59,INSCRITS!$D$4:$W$501,9,0))","v":""}]
[null,"SERIE 5",null,{"$f":"IF($C60=\"\",\"\",VLOOKUP($C60,INSCRITS!$D$4:$W$501,6,0))","v":""},{"$f":"IF($C60=\"\",\"\",VLOOKUP($C60,INSCRITS!$D$4:$W$501,7,0))","v":""},{"$f":"IF($C60=\"\",\"\",VLOOKUP($C60,INSCRITS!$D$4:$W$501,9,0))","v":""},null,null,null,null,null,null,null,null,{"$f":"IF($N60=\"\",\"\",VLOOKUP($N60,INSCRITS!$D$4:$W$501,6,0))","v":""},{"$f":"IF($N60=\"\",\"\",VLOOKUP($N60,INSCRITS!$D$4:$W$501,7,0))","v":""},{"$f":"IF($N60=\"\",\"\",VLOOKUP($N60,INSCRITS!$D$4:$W$501,9,0))","v":""}]
[null,null,null,{"$f":"IF($C61=\"\",\"\",VLOOKUP($C61,INSCRITS!$D$4:$W$501,6,0))","v":""},{"$f":"IF($C61=\"\",\"\",VLOOKUP($C61,INSCRITS!$D$4:$W$501,7,0))","v":""},{"$f":"IF($C61=\"\",\"\",VLOOKUP($C61,INSCRITS!$D$4:$W$501,9,0))","v":""},null,null,null,null,null,null,null,null,{"$f":"IF($N61=\"\",\"\",VLOOKUP($N61,INSCRITS!$D$4:$W$501,6,0))","v":""},{"$f":"IF($N61=\"\",\"\",VLOOKUP($N61,INSCRITS!$D$4:$W$501,7,0))","v":""},{"$f":"IF($N61=\"\",\"\",VLOOKUP($N61,INSCRITS!$D$4:$W$501,9,0))","v":""}]
[null,null,null,{"$f":"IF($C62=\"\",\"\",VLOOKUP($C62,INSCRITS!$D$4:$W$501,6,0))","v":""},{"$f":"IF($C62=\"\",\"\",VLOOKUP($C62,INSCRITS!$D$4:$W$501,7,0))","v":""},{"$f":"IF($C62=\"\",\"\",VLOOKUP($C62,INSCRITS!$D$4:$W$501,9,0))","v":""},null,null,null,null,null,null,null,null,{"$f":"IF($N62=\"\",\"\",VLOOKUP($N62,INSCRITS!$D$4:$W$501,6,0))","v":""},{"$f":"IF($N62=\"\",\"\",VLOOKUP($N62,INSCRITS!$D$4:$W$501,7,0))","v":""},{"$f":"IF($N62=\"\",\"\",VLOOKUP($N62,INSCRITS!$D$4:$W$501,9,0))","v":""}]
[null,null,null,{"$f":"IF($C63=\"\",\"\",VLOOKUP($C63,INSCRITS!$D$4:$W$501,6,0))","v":""},{"$f":"IF($C63=\"\",\"\",VLOOKUP($C63,INSCRITS!$D$4:$W$501,7,0))","v":""},{"$f":"IF($C63=\"\",\"\",VLOOKUP($C63,INSCRITS!$D$4:$W$501,9,0))","v":""},null,null,null,null,null,null,null,null,{"$f":"IF($N63=\"\",\"\",VLOOKUP($N63,INSCRITS!$D$4:$W$501,6,0))","v":""},{"$f":"IF($N63=\"\",\"\",VLOOKUP($N63,INSCRITS!$D$4:$W$501,7,0))","v":""},{"$f":"IF($N63=\"\",\"\",VLOOKUP($N63,INSCRITS!$D$4:$W$501,9,0))","v":""}]
[null,null,null,{"$f":"IF($C64=\"\",\"\",VLOOKUP($C64,INSCRITS!$D$4:$W$501,6,0))","v":""},{"$f":"IF($C64=\"\",\"\",VLOOKUP($C64,INSCRITS!$D$4:$W$501,7,0))","v":""},{"$f":"IF($C64=\"\",\"\",VLOOKUP($C64,INSCRITS!$D$4:$W$501,9,0))","v":""},null,null,null,null,null,null,null,null,{"$f":"IF($N64=\"\",\"\",VLOOKUP($N64,INSCRITS!$D$4:$W$501,6,0))","v":""},{"$f":"IF($N64=\"\",\"\",VLOOKUP($N64,INSCRITS!$D$4:$W$501,7,0))","v":""},{"$f":"IF($N64=\"\",\"\",VLOOKUP($N64,INSCRITS!$D$4:$W$501,9,0))","v":""}]
[null,null,null,{"$f":"IF($C65=\"\",\"\",VLOOKUP($C65,INSCRITS!$D$4:$W$501,6,0))","v":""},{"$f":"IF($C65=\"\",\"\",VLOOKUP($C65,INSCRITS!$D$4:$W$501,7,0))","v":""},{"$f":"IF($C65=\"\",\"\",VLOOKUP($C65,INSCRITS!$D$4:$W$501,9,0))","v":""},null,null,null,null,null,null,null,null,{"$f":"IF($N65=\"\",\"\",VLOOKUP($N65,INSCRITS!$D$4:$W$501,6,0))","v":""},{"$f":"IF($N65=\"\",\"\",VLOOKUP($N65,INSCRITS!$D$4:$W$501,7,0))","v":""},{"$f":"IF($N65=\"\",\"\",VLOOKUP($N65,INSCRITS!$D$4:$W$501,9,0))","v":""}]
[null,null,null,{"$f":"IF($C66=\"\",\"\",VLOOKUP($C66,INSCRITS!$D$4:$W$501,6,0))","v":""},{"$f":"IF($C66=\"\",\"\",VLOOKUP($C66,INSCRITS!$D$4:$W$501,7,0))","v":""},{"$f":"IF($C66=\"\",\"\",VLOOKUP($C66,INSCRITS!$D$4:$W$501,9,0))","v":""},null,null,null,null,null,null,null,null,{"$f":"IF($N66=\"\",\"\",VLOOKUP($N66,INSCRITS!$D$4:$W$501,6,0))","v":""},{"$f":"IF($N66=\"\",\"\",VLOOKUP($N66,INSCRITS!$D$4:$W$501,7,0))","v":""},{"$f":"IF($N66=\"\",\"\",VLOOKUP($N66,INSCRITS!$D$4:$W$501,9,0))","v":""}]
[null,null,null,{"$f":"IF($C67=\"\",\"\",VLOOKUP($C67,INSCRITS!$D$4:$W$501,6,0))","v":""},{"$f":"IF($C67=\"\",\"\",VLOOKUP($C67,INSCRITS!$D$4:$W$501,7,0))","v":""},{"$f":"IF($C67=\"\",\"\",VLOOKUP($C67,INSCRITS!$D$4:$W$501,9,0))","v":""},null,null,null,null,null,null,null,null,{"$f":"IF($N67=\"\",\"\",VLOOKUP($N67,INSCRITS!$D$4:$W$501,6,0))","v":""},{"$f":"IF($N67=\"\",\"\",VLOOKUP($N67,INSCRITS!$D$4:$W$501,7,0))","v":""},{"$f":"IF($N67=\"\",\"\",VLOOKUP($N67,INSCRITS!$D$4:$W$501,9,0))","v":""}]
[null,null,null,{"$f":"IF($C68=\"\",\"\",VLOOKUP($C68,INSCRITS!$D$4:$W$501,6,0))","v":""},{"$f":"IF($C68=\"\",\"\",VLOOKUP($C68,INSCRITS!$D$4:$W$501,7,0))","v":""},{"$f":"IF($C68=\"\",\"\",VLOOKUP($C68,INSCRITS!$D$4:$W$501,9,0))","v":""},null,null,null,null,null,null,null,null,{"$f":"IF($N68=\"\",\"\",VLOOKUP($N68,INSCRITS!$D$4:$W$501,6,0))","v":""},{"$f":"IF($N68=\"\",\"\",VLOOKUP($N68,INSCRITS!$D$4:$W$501,7,0))","v":""},{"$f":"IF($N68=\"\",\"\",VLOOKUP($N68,INSCRITS!$D$4:$W$501,9,0))","v":""}]
[null,null,null,{"$f":"IF($C69=\"\",\"\",VLOOKUP($C69,INSCRITS!$D$4:$W$501,6,0))","v":""},{"$f":"IF($C69=\"\",\"\",VLOOKUP($C69,INSCRITS!$D$4:$W$501,7,0))","v":""},{"$f":"IF($C69=\"\",\"\",VLOOKUP($C69,INSCRITS!$D$4:$W$501,9,0))","v":""},null,null,null,null,null,null,null,null,{"$f":"IF($N69=\"\",\"\",VLOOKUP($N69,INSCRITS!$D$4:$W$501,6,0))","v":""},{"$f":"IF($N69=\"\",\"\",VLOOKUP($N69,INSCRITS!$D$4:$W$501,7,0))","v":""},{"$f":"IF($N69=\"\",\"\",VLOOKUP($N69,INSCRITS!$D$4:$W$501,9,0))","v":""}]
[null,null,null,{"$f":"IF($C70=\"\",\"\",VLOOKUP($C70,INSCRITS!$D$4:$W$501,6,0))","v":""},{"$f":"IF($C70=\"\",\"\",VLOOKUP($C70,INSCRITS!$D$4:$W$501,7,0))","v":""},{"$f":"IF($C70=\"\",\"\",VLOOKUP($C70,INSCRITS!$D$4:$W$501,9,0))","v":""},null,null,null,null,null,null,null,null,{"$f":"IF($N70=\"\",\"\",VLOOKUP($N70,INSCRITS!$D$4:$W$501,6,0))","v":""},{"$f":"IF($N70=\"\",\"\",VLOOKUP($N70,INSCRITS!$D$4:$W$501,7,0))","v":""},{"$f":"IF($N70=\"\",\"\",VLOOKUP($N70,INSCRITS!$D$4:$W$501,9,0))","v":""}]
[null,null,null,{"$f":"IF($C71=\"\",\"\",VLOOKUP($C71,INSCRITS!$D$4:$W$501,6,0))","v":""},{"$f":"IF($C71=\"\",\"\",VLOOKUP($C71,INSCRITS!$D$4:$W$501,7,0))","v":""},{"$f":"IF($C71=\"\",\"\",VLOOKUP($C71,INSCRITS!$D$4:$W$501,9,0))","v":""},null,null,null,null,null,null,null,null,{"$f":"IF($N71=\"\",\"\",VLOOKUP($N71,INSCRITS!$D$4:$W$501,6,0))","v":""},{"$f":"IF($N71=\"\",\"\",VLOOKUP($N71,INSCRITS!$D$4:$W$501,7,0))","v":""},{"$f":"IF($N71=\"\",\"\",VLOOKUP($N71,INSCRITS!$D$4:$W$501,9,0))","v":""}]
[null,null,null,{"$f":"IF($C72=\"\",\"\",VLOOKUP($C72,INSCRITS!$D$4:$W$501,6,0))","v":""},{"$f":"IF($C72=\"\",\"\",VLOOKUP($C72,INSCRITS!$D$4:$W$501,7,0))","v":""},{"$f":"IF($C72=\"\",\"\",VLOOKUP($C72,INSCRITS!$D$4:$W$501,9,0))","v":""},null,null,null,null,null,null,null,null,{"$f":"IF($N72=\"\",\"\",VLOOKUP($N72,INSCRITS!$D$4:$W$501,6,0))","v":""},{"$f":"IF($N72=\"\",\"\",VLOOKUP($N72,INSCRITS!$D$4:$W$501,7,0))","v":""},{"$f":"IF($N72=\"\",\"\",VLOOKUP($N72,INSCRITS!$D$4:$W$501,9,0))","v":""}]
[null,"SERIE 6",null,{"$f":"IF($C73=\"\",\"\",VLOOKUP($C73,INSCRITS!$D$4:$W$501,6,0))","v":""},{"$f":"IF($C73=\"\",\"\",VLOOKUP($C73,INSCRITS!$D$4:$W$501,7,0))","v":""},{"$f":"IF($C73=\"\",\"\",VLOOKUP($C73,INSCRITS!$D$4:$W$501,9,0))","v":""}]
[null,null,null,{"$f":"IF($C74=\"\",\"\",VLOOKUP($C74,INSCRITS!$D$4:$W$501,6,0))","v":""},{"$f":"IF($C74=\"\",\"\",VLOOKUP($C74,INSCRITS!$D$4:$W$501,7,0))","v":""},{"$f":"IF($C74=\"\",\"\",VLOOKUP($C74,INSCRITS!$D$4:$W$501,9,0))","v":""}]
[null,null,null,{"$f":"IF($C75=\"\",\"\",VLOOKUP($C75,INSCRITS!$D$4:$W$501,6,0))","v":""},{"$f":"IF($C75=\"\",\"\",VLOOKUP($C75,INSCRITS!$D$4:$W$501,7,0))","v":""},{"$f":"IF($C75=\"\",\"\",VLOOKUP($C75,INSCRITS!$D$4:$W$501,9,0))","v":""}]
[null,null,null,{"$f":"IF($C76=\"\",\"\",VLOOKUP($C76,INSCRITS!$D$4:$W$501,6,0))","v":""},{"$f":"IF($C76=\"\",\"\",VLOOKUP($C76,INSCRITS!$D$4:$W$501,7,0))","v":""},{"$f":"IF($C76=\"\",\"\",VLOOKUP($C76,INSCRITS!$D$4:$W$501,9,0))","v":""}]
[null,null,null,{"$f":"IF($C77=\"\",\"\",VLOOKUP($C77,INSCRITS!$D$4:$W$501,6,0))","v":""},{"$f":"IF($C77=\"\",\"\",VLOOKUP($C77,INSCRITS!$D$4:$W$501,7,0))","v":""},{"$f":"IF($C77=\"\",\"\",VLOOKUP($C77,INSCRITS!$D$4:$W$501,9,0))","v":""}]
[null,null,null,{"$f":"IF($C78=\"\",\"\",VLOOKUP($C78,INSCRITS!$D$4:$W$501,6,0))","v":""},{"$f":"IF($C78=\"\",\"\",VLOOKUP($C78,INSCRITS!$D$4:$W$501,7,0))","v":""},{"$f":"IF($C78=\"\",\"\",VLOOKUP($C78,INSCRITS!$D$4:$W$501,9,0))","v":""}]
[null,null,null,{"$f":"IF($C79=\"\",\"\",VLOOKUP($C79,INSCRITS!$D$4:$W$501,6,0))","v":""},{"$f":"IF($C79=\"\",\"\",VLOOKUP($C79,INSCRITS!$D$4:$W$501,7,0))","v":""},{"$f":"IF($C79=\"\",\"\",VLOOKUP($C79,INSCRITS!$D$4:$W$501,9,0))","v":""}]
[null,null,null,{"$f":"IF($C80=\"\",\"\",VLOOKUP($C80,INSCRITS!$D$4:$W$501,6,0))","v":""},{"$f":"IF($C80=\"\",\"\",VLOOKUP($C80,INSCRITS!$D$4:$W$501,7,0))","v":""},{"$f":"IF($C80=\"\",\"\",VLOOKUP($C80,INSCRITS!$D$4:$W$501,9,0))","v":""}]
[null,null,null,{"$f":"IF($C81=\"\",\"\",VLOOKUP($C81,INSCRITS!$D$4:$W$501,6,0))","v":""},{"$f":"IF($C81=\"\",\"\",VLOOKUP($C81,INSCRITS!$D$4:$W$501,7,0))","v":""},{"$f":"IF($C81=\"\",\"\",VLOOKUP($C81,INSCRITS!$D$4:$W$501,9,0))","v":""}]
[null,null,null,{"$f":"IF($C82=\"\",\"\",VLOOKUP($C82,INSCRITS!$D$4:$W$501,6,0))","v":""},{"$f":"IF($C82=\"\",\"\",VLOOKUP($C82,INSCRITS!$D$4:$W$501,7,0))","v":""},{"$f":"IF($C82=\"\",\"\",VLOOKUP($C82,INSCRITS!$D$4:$W$501,9,0))","v":""}]
[null,null,null,{"$f":"IF($C83=\"\",\"\",VLOOKUP($C83,INSCRITS!$D$4:$W$501,6,0))","v":""},{"$f":"IF($C83=\"\",\"\",VLOOKUP($C83,INSCRITS!$D$4:$W$501,7,0))","v":""},{"$f":"IF($C83=\"\",\"\",VLOOKUP($C83,INSCRITS!$D$4:$W$501,9,0))","v":""}]
[null,null,null,{"$f":"IF($C84=\"\",\"\",VLOOKUP($C84,INSCRITS!$D$4:$W$501,6,0))","v":""},{"$f":"IF($C84=\"\",\"\",VLOOKUP($C84,INSCRITS!$D$4:$W$501,7,0))","v":""},{"$f":"IF($C84=\"\",\"\",VLOOKUP($C84,INSCRITS!$D$4:$W$501,9,0))","v":""}]
[null,null,null,{"$f":"IF($C85=\"\",\"\",VLOOKUP($C85,INSCRITS!$D$4:$W$501,6,0))","v":""},{"$f":"IF($C85=\"\",\"\",VLOOKUP($C85,INSCRITS!$D$4:$W$501,7,0))","v":""},{"$f":"IF($C85=\"\",\"\",VLOOKUP($C85,INSCRITS!$D$4:$W$501,9,0))","v":""}]
[null,"SERIE 7",null,{"$f":"IF($C86=\"\",\"\",VLOOKUP($C86,INSCRITS!$D$4:$W$501,6,0))","v":""},{"$f":"IF($C86=\"\",\"\",VLOOKUP($C86,INSCRITS!$D$4:$W$501,7,0))","v":""},{"$f":"IF($C86=\"\",\"\",VLOOKUP($C86,INSCRITS!$D$4:$W$501,9,0))","v":""}]
[null,null,null,{"$f":"IF($C87=\"\",\"\",VLOOKUP($C87,INSCRITS!$D$4:$W$501,6,0))","v":""},{"$f":"IF($C87=\"\",\"\",VLOOKUP($C87,INSCRITS!$D$4:$W$501,7,0))","v":""},{"$f":"IF($C87=\"\",\"\",VLOOKUP($C87,INSCRITS!$D$4:$W$501,9,0))","v":""}]
[null,null,null,{"$f":"IF($C88=\"\",\"\",VLOOKUP($C88,INSCRITS!$D$4:$W$501,6,0))","v":""},{"$f":"IF($C88=\"\",\"\",VLOOKUP($C88,INSCRITS!$D$4:$W$501,7,0))","v":""},{"$f":"IF($C88=\"\",\"\",VLOOKUP($C88,INSCRITS!$D$4:$W$501,9,0))","v":""}]
[null,null,null,{"$f":"IF($C89=\"\",\"\",VLOOKUP($C89,INSCRITS!$D$4:$W$501,6,0))","v":""},{"$f":"IF($C89=\"\",\"\",VLOOKUP($C89,INSCRITS!$D$4:$W$501,7,0))","v":""},{"$f":"IF($C89=\"\",\"\",VLOOKUP($C89,INSCRITS!$D$4:$W$501,9,0))","v":""}]
[null,null,null,{"$f":"IF($C90=\"\",\"\",VLOOKUP($C90,INSCRITS!$D$4:$W$501,6,0))","v":""},{"$f":"IF($C90=\"\",\"\",VLOOKUP($C90,INSCRITS!$D$4:$W$501,7,0))","v":""},{"$f":"IF($C90=\"\",\"\",VLOOKUP($C90,INSCRITS!$D$4:$W$501,9,0))","v":""}]
[null,null,null,{"$f":"IF($C91=\"\",\"\",VLOOKUP($C91,INSCRITS!$D$4:$W$501,6,0))","v":""},{"$f":"IF($C91=\"\",\"\",VLOOKUP($C91,INSCRITS!$D$4:$W$501,7,0))","v":""},{"$f":"IF($C91=\"\",\"\",VLOOKUP($C91,INSCRITS!$D$4:$W$501,9,0))","v":""}]
[null,null,null,{"$f":"IF($C92=\"\",\"\",VLOOKUP($C92,INSCRITS!$D$4:$W$501,6,0))","v":""},{"$f":"IF($C92=\"\",\"\",VLOOKUP($C92,INSCRITS!$D$4:$W$501,7,0))","v":""},{"$f":"IF($C92=\"\",\"\",VLOOKUP($C92,INSCRITS!$D$4:$W$501,9,0))","v":""}]
[null,null,null,{"$f":"IF($C93=\"\",\"\",VLOOKUP($C93,INSCRITS!$D$4:$W$501,6,0))","v":""},{"$f":"IF($C93=\"\",\"\",VLOOKUP($C93,INSCRITS!$D$4:$W$501,7,0))","v":""},{"$f":"IF($C93=\"\",\"\",VLOOKUP($C93,INSCRITS!$D$4:$W$501,9,0))","v":""}]
[null,null,null,{"$f":"IF($C94=\"\",\"\",VLOOKUP($C94,INSCRITS!$D$4:$W$501,6,0))","v":""},{"$f":"IF($C94=\"\",\"\",VLOOKUP($C94,INSCRITS!$D$4:$W$501,7,0))","v":""},{"$f":"IF($C94=\"\",\"\",VLOOKUP($C94,INSCRITS!$D$4:$W$501,9,0))","v":""}]
[null,null,null,{"$f":"IF($C95=\"\",\"\",VLOOKUP($C95,INSCRITS!$D$4:$W$501,6,0))","v":""},{"$f":"IF($C95=\"\",\"\",VLOOKUP($C95,INSCRITS!$D$4:$W$501,7,0))","v":""},{"$f":"IF($C95=\"\",\"\",VLOOKUP($C95,INSCRITS!$D$4:$W$501,9,0))","v":""}]
[null,null,null,{"$f":"IF($C96=\"\",\"\",VLOOKUP($C96,INSCRITS!$D$4:$W$501,6,0))","v":""},{"$f":"IF($C96=\"\",\"\",VLOOKUP($C96,INSCRITS!$D$4:$W$501,7,0))","v":""},{"$f":"IF($C96=\"\",\"\",VLOOKUP($C96,INSCRITS!$D$4:$W$501,9,0))","v":""}]
[null,null,null,{"$f":"IF($C97=\"\",\"\",VLOOKUP($C97,INSCRITS!$D$4:$W$501,6,0))","v":""},{"$f":"IF($C97=\"\",\"\",VLOOKUP($C97,INSCRITS!$D$4:$W$501,7,0))","v":""},{"$f":"IF($C97=\"\",\"\",VLOOKUP($C97,INSCRITS!$D$4:$W$501,9,0))","v":""}]
[null,null,null,{"$f":"IF($C98=\"\",\"\",VLOOKUP($C98,INSCRITS!$D$4:$W$501,6,0))","v":""},{"$f":"IF($C98=\"\",\"\",VLOOKUP($C98,INSCRITS!$D$4:$W$501,7,0))","v":""},{"$f":"IF($C98=\"\",\"\",VLOOKUP($C98,INSCRITS!$D$4:$W$501,9,0))","v":""}]
[null,"SERIE 8",null,{"$f":"IF($C99=\"\",\"\",VLOOKUP($C99,INSCRITS!$D$4:$W$501,6,0))","v":""},{"$f":"IF($C99=\"\",\"\",VLOOKUP($C99,INSCRITS!$D$4:$W$501,7,0))","v":""},{"$f":"IF($C99=\"\",\"\",VLOOKUP($C99,INSCRITS!$D$4:$W$501,9,0))","v":""}]
[null,null,null,{"$f":"IF($C100=\"\",\"\",VLOOKUP($C100,INSCRITS!$D$4:$W$501,6,0))","v":""},{"$f":"IF($C100=\"\",\"\",VLOOKUP($C100,INSCRITS!$D$4:$W$501,7,0))","v":""},{"$f":"IF($C100=\"\",\"\",VLOOKUP($C100,INSCRITS!$D$4:$W$501,9,0))","v":""}]
[null,null,null,{"$f":"IF($C101=\"\",\"\",VLOOKUP($C101,INSCRITS!$D$4:$W$501,6,0))","v":""},{"$f":"IF($C101=\"\",\"\",VLOOKUP($C101,INSCRITS!$D$4:$W$501,7,0))","v":""},{"$f":"IF($C101=\"\",\"\",VLOOKUP($C101,INSCRITS!$D$4:$W$501,9,0))","v":""}]
[null,null,null,{"$f":"IF($C102=\"\",\"\",VLOOKUP($C102,INSCRITS!$D$4:$W$501,6,0))","v":""},{"$f":"IF($C102=\"\",\"\",VLOOKUP($C102,INSCRITS!$D$4:$W$501,7,0))","v":""},{"$f":"IF($C102=\"\",\"\",VLOOKUP($C102,INSCRITS!$D$4:$W$501,9,0))","v":""}]
[null,null,null,{"$f":"IF($C103=\"\",\"\",VLOOKUP($C103,INSCRITS!$D$4:$W$501,6,0))","v":""},{"$f":"IF($C103=\"\",\"\",VLOOKUP($C103,INSCRITS!$D$4:$W$501,7,0))","v":""},{"$f":"IF($C103=\"\",\"\",VLOOKUP($C103,INSCRITS!$D$4:$W$501,9,0))","v":""}]
[null,null,null,{"$f":"IF($C104=\"\",\"\",VLOOKUP($C104,INSCRITS!$D$4:$W$501,6,0))","v":""},{"$f":"IF($C104=\"\",\"\",VLOOKUP($C104,INSCRITS!$D$4:$W$501,7,0))","v":""},{"$f":"IF($C104=\"\",\"\",VLOOKUP($C104,INSCRITS!$D$4:$W$501,9,0))","v":""}]
[null,null,null,{"$f":"IF($C105=\"\",\"\",VLOOKUP($C105,INSCRITS!$D$4:$W$501,6,0))","v":""},{"$f":"IF($C105=\"\",\"\",VLOOKUP($C105,INSCRITS!$D$4:$W$501,7,0))","v":""},{"$f":"IF($C105=\"\",\"\",VLOOKUP($C105,INSCRITS!$D$4:$W$501,9,0))","v":""}]
[null,null,null,{"$f":"IF($C106=\"\",\"\",VLOOKUP($C106,INSCRITS!$D$4:$W$501,6,0))","v":""},{"$f":"IF($C106=\"\",\"\",VLOOKUP($C106,INSCRITS!$D$4:$W$501,7,0))","v":""},{"$f":"IF($C106=\"\",\"\",VLOOKUP($C106,INSCRITS!$D$4:$W$501,9,0))","v":""}]
[null,null,null,{"$f":"IF($C107=\"\",\"\",VLOOKUP($C107,INSCRITS!$D$4:$W$501,6,0))","v":""},{"$f":"IF($C107=\"\",\"\",VLOOKUP($C107,INSCRITS!$D$4:$W$501,7,0))","v":""},{"$f":"IF($C107=\"\",\"\",VLOOKUP($C107,INSCRITS!$D$4:$W$501,9,0))","v":""}]
[null,null,null,{"$f":"IF($C108=\"\",\"\",VLOOKUP($C108,INSCRITS!$D$4:$W$501,6,0))","v":""},{"$f":"IF($C108=\"\",\"\",VLOOKUP($C108,INSCRITS!$D$4:$W$501,7,0))","v":""},{"$f":"IF($C108=\"\",\"\",VLOOKUP($C108,INSCRITS!$D$4:$W$501,9,0))","v":""}]
[null,null,null,{"$f":"IF($C109=\"\",\"\",VLOOKUP($C109,INSCRITS!$D$4:$W$501,6,0))","v":""},{"$f":"IF($C109=\"\",\"\",VLOOKUP($C109,INSCRITS!$D$4:$W$501,7,0))","v":""},{"$f":"IF($C109=\"\",\"\",VLOOKUP($C109,INSCRITS!$D$4:$W$501,9,0))","v":""}]
[null,null,null,{"$f":"IF($C110=\"\",\"\",VLOOKUP($C110,INSCRITS!$D$4:$W$501,6,0))","v":""},{"$f":"IF($C110=\"\",\"\",VLOOKUP($C110,INSCRITS!$D$4:$W$501,7,0))","v":""},{"$f":"IF($C110=\"\",\"\",VLOOKUP($C110,INSCRITS!$D$4:$W$501,9,0))","v":""}]
[null,null,null,{"$f":"IF($C111=\"\",\"\",VLOOKUP($C111,INSCRITS!$D$4:$W$501,6,0))","v":""},{"$f":"IF($C111=\"\",\"\",VLOOKUP($C111,INSCRITS!$D$4:$W$501,7,0))","v":""},{"$f":"IF($C111=\"\",\"\",VLOOKUP($C111,INSCRITS!$D$4:$W$501,9,0))","v":""}]
[null,"SERIE 9",null,{"$f":"IF($C112=\"\",\"\",VLOOKUP($C112,INSCRITS!$D$4:$W$501,6,0))","v":""},{"$f":"IF($C112=\"\",\"\",VLOOKUP($C112,INSCRITS!$D$4:$W$501,7,0))","v":""},{"$f":"IF($C112=\"\",\"\",VLOOKUP($C112,INSCRITS!$D$4:$W$501,9,0))","v":""}]
[null,null,null,{"$f":"IF($C113=\"\",\"\",VLOOKUP($C113,INSCRITS!$D$4:$W$501,6,0))","v":""},{"$f":"IF($C113=\"\",\"\",VLOOKUP($C113,INSCRITS!$D$4:$W$501,7,0))","v":""},{"$f":"IF($C113=\"\",\"\",VLOOKUP($C113,INSCRITS!$D$4:$W$501,9,0))","v":""}]
[null,null,null,{"$f":"IF($C114=\"\",\"\",VLOOKUP($C114,INSCRITS!$D$4:$W$501,6,0))","v":""},{"$f":"IF($C114=\"\",\"\",VLOOKUP($C114,INSCRITS!$D$4:$W$501,7,0))","v":""},{"$f":"IF($C114=\"\",\"\",VLOOKUP($C114,INSCRITS!$D$4:$W$501,9,0))","v":""}]
[null,null,null,{"$f":"IF($C115=\"\",\"\",VLOOKUP($C115,INSCRITS!$D$4:$W$501,6,0))","v":""},{"$f":"IF($C115=\"\",\"\",VLOOKUP($C115,INSCRITS!$D$4:$W$501,7,0))","v":""},{"$f":"IF($C115=\"\",\"\",VLOOKUP($C115,INSCRITS!$D$4:$W$501,9,0))","v":""}]
[null,null,null,{"$f":"IF($C116=\"\",\"\",VLOOKUP($C116,INSCRITS!$D$4:$W$501,6,0))","v":""},{"$f":"IF($C116=\"\",\"\",VLOOKUP($C116,INSCRITS!$D$4:$W$501,7,0))","v":""},{"$f":"IF($C116=\"\",\"\",VLOOKUP($C116,INSCRITS!$D$4:$W$501,9,0))","v":""}]
[null,null,null,{"$f":"IF($C117=\"\",\"\",VLOOKUP($C117,INSCRITS!$D$4:$W$501,6,0))","v":""},{"$f":"IF($C117=\"\",\"\",VLOOKUP($C117,INSCRITS!$D$4:$W$501,7,0))","v":""},{"$f":"IF($C117=\"\",\"\",VLOOKUP($C117,INSCRITS!$D$4:$W$501,9,0))","v":""}]
[null,null,null,{"$f":"IF($C118=\"\",\"\",VLOOKUP($C118,INSCRITS!$D$4:$W$501,6,0))","v":""},{"$f":"IF($C118=\"\",\"\",VLOOKUP($C118,INSCRITS!$D$4:$W$501,7,0))","v":""},{"$f":"IF($C118=\"\",\"\",VLOOKUP($C118,INSCRITS!$D$4:$W$501,9,0))","v":""}]
[null,null,null,{"$f":"IF($C119=\"\",\"\",VLOOKUP($C119,INSCRITS!$D$4:$W$501,6,0))","v":""},{"$f":"IF($C119=\"\",\"\",VLOOKUP($C119,INSCRITS!$D$4:$W$501,7,0))","v":""},{"$f":"IF($C119=\"\",\"\",VLOOKUP($C119,INSCRITS!$D$4:$W$501,9,0))","v":""}]
[null,null,null,{"$f":"IF($C120=\"\",\"\",VLOOKUP($C120,INSCRITS!$D$4:$W$501,6,0))","v":""},{"$f":"IF($C120=\"\",\"\",VLOOKUP($C120,INSCRITS!$D$4:$W$501,7,0))","v":""},{"$f":"IF($C120=\"\",\"\",VLOOKUP($C120,INSCRITS!$D$4:$W$501,9,0))","v":""}]
[null,null,null,{"$f":"IF($C121=\"\",\"\",VLOOKUP($C121,INSCRITS!$D$4:$W$501,6,0))","v":""},{"$f":"IF($C121=\"\",\"\",VLOOKUP($C121,INSCRITS!$D$4:$W$501,7,0))","v":""},{"$f":"IF($C121=\"\",\"\",VLOOKUP($C121,INSCRITS!$D$4:$W$501,9,0))","v":""}]
[null,null,null,{"$f":"IF($C122=\"\",\"\",VLOOKUP($C122,INSCRITS!$D$4:$W$501,6,0))","v":""},{"$f":"IF($C122=\"\",\"\",VLOOKUP($C122,INSCRITS!$D$4:$W$501,7,0))","v":""},{"$f":"IF($C122=\"\",\"\",VLOOKUP($C122,INSCRITS!$D$4:$W$501,9,0))","v":""}]
[null,null,null,{"$f":"IF($C123=\"\",\"\",VLOOKUP($C123,INSCRITS!$D$4:$W$501,6,0))","v":""},{"$f":"IF($C123=\"\",\"\",VLOOKUP($C123,INSCRITS!$D$4:$W$501,7,0))","v":""},{"$f":"IF($C123=\"\",\"\",VLOOKUP($C123,INSCRITS!$D$4:$W$501,9,0))","v":""}]
[null,null,null,{"$f":"IF($C124=\"\",\"\",VLOOKUP($C124,INSCRITS!$D$4:$W$501,6,0))","v":""},{"$f":"IF($C124=\"\",\"\",VLOOKUP($C124,INSCRITS!$D$4:$W$501,7,0))","v":""},{"$f":"IF($C124=\"\",\"\",VLOOKUP($C124,INSCRITS!$D$4:$W$501,9,0))","v":""}]
[null,"SERIE 10",null,{"$f":"IF($C125=\"\",\"\",VLOOKUP($C125,INSCRITS!$D$4:$W$501,6,0))","v":""},{"$f":"IF($C125=\"\",\"\",VLOOKUP($C125,INSCRITS!$D$4:$W$501,7,0))","v":""},{"$f":"IF($C125=\"\",\"\",VLOOKUP($C125,INSCRITS!$D$4:$W$501,9,0))","v":""}]
[null,null,null,{"$f":"IF($C126=\"\",\"\",VLOOKUP($C126,INSCRITS!$D$4:$W$501,6,0))","v":""},{"$f":"IF($C126=\"\",\"\",VLOOKUP($C126,INSCRITS!$D$4:$W$501,7,0))","v":""},{"$f":"IF($C126=\"\",\"\",VLOOKUP($C126,INSCRITS!$D$4:$W$501,9,0))","v":""}]
[null,null,null,{"$f":"IF($C127=\"\",\"\",VLOOKUP($C127,INSCRITS!$D$4:$W$501,6,0))","v":""},{"$f":"IF($C127=\"\",\"\",VLOOKUP($C127,INSCRITS!$D$4:$W$501,7,0))","v":""},{"$f":"IF($C127=\"\",\"\",VLOOKUP($C127,INSCRITS!$D$4:$W$501,9,0))","v":""}]
[null,null,null,{"$f":"IF($C128=\"\",\"\",VLOOKUP($C128,INSCRITS!$D$4:$W$501,6,0))","v":""},{"$f":"IF($C128=\"\",\"\",VLOOKUP($C128,INSCRITS!$D$4:$W$501,7,0))","v":""},{"$f":"IF($C128=\"\",\"\",VLOOKUP($C128,INSCRITS!$D$4:$W$501,9,0))","v":""}]
[]
[]
[]
[]
[]
[]
[]
[]
[]
[null,"SERIE 11"]
[]
[]
[]
[]
[]
[]
[]
[]
[]
[]
[]
[]
[null,"SERIE 12"]
[]
[]
[]
[]
[]
[]
[]
[]
[]
[]
[]
[]
[null,"SERIE 13"]
[]
[]
[]
[]
[]
[]
[]
[]
[]
[]
[]
[]
[null,"SERIE 14"]

{"sheet":"OCEANMAN","index":7,"n_rows":134,"n_cols":36,"rows_kept":134,"cut":false,"hidden":false,"merged":[[6,28,23,28],[6,20,15,20],[16,20,26,20],[84,1,97,1],[98,1,111,1],[71,1,83,1],[6,12,21,12],[54,12,69,12],[6,1,18,1],[19,1,31,1],[32,1,44,1],[45,1,57,1],[58,1,70,1],[22,12,37,12],[38,12,53,12]]}
[]
[]
[null,"SERIES OCEANMAN",null,null,null,null,null,null,null,null,null,null,"QUART SPRINT OCEANMAN",null,null,null,null,null,null,null,"DEMI-FINALES OCEANMAN",null,null,null,null,null,null,null,null,"FINALE OCEANMAN Messieurs"]
[null,"Messieurs",null,null,null,null,null,null,null,null,null,null,null,null,null,null,null,null,null,null,null,null,"Garçon",null,null,null,null,null,null,"Junior"]
[null,null,null,"NOM","Prénom","CLUB","PLACE",null,null,null,null,null,null,"N°","NOM","Prénom","CLUB","PLACE",null,null,null,"N°","NOM","Prénom","CLUB","PLACE",null,null,null,"N°","NOM","Prénom","CLUB",null,"PLACE","PTS"]
[]
[null,"SERIE 1",162,{"$f":"IF($C7=\"\",\"\",VLOOKUP($C7,INSCRITS!$D$4:$W$501,6,0))","v":"LATAPIE"},{"$f":"IF($C7=\"\",\"\",VLOOKUP($C7,INSCRITS!$D$4:$W$501,7,0))","v":"Robin"},{"$f":"IF($C7=\"\",\"\",VLOOKUP($C7,INSCRITS!$D$4:$W$501,9,0))","v":"AQUALOVE"},null,null,null,null,null,null,"SERIE 1",null,{"$f":"IF($N7=\"\",\"\",VLOOKUP($N7,INSCRITS!$D$4:$W$501,6,0))","v":""},{"$f":"IF($N7=\"\",\"\",VLOOKUP($N7,INSCRITS!$D$4:$W$501,7,0))","v":""},{"$f":"IF($N7=\"\",\"\",VLOOKUP($N7,INSCRITS!$D$4:$W$501,9,0))","v":""},null,null,null,"SERIE 1",170,{"$f":"IF($V7=\"\",\"\",VLOOKUP($V7,INSCRITS!$D$4:$W$501,6,0))","v":"RIGOT"},{"$f":"IF($V7=\"\",\"\",VLOOKUP($V7,INSCRITS!$D$4:$W$501,7,0))","v":"Quentin"},{"$f":"IF($V7=\"\",\"\",VLOOKUP($V7,INSCRITS!$D$4:$W$501,9,0))","v":"ASCE DINARD"},null,null,null,"FINALE ",187,{"$f":"IF($AD7=\"\",\"\",VLOOKUP($AD7,INSCRITS!$D$4:$W$501,6,0))","v":"DEHEZ"},{"$f":"IF($AD7=\"\",\"\",VLOOKUP($AD7,INSCRITS!$D$4:$W$501,7,0))","v":"Rémy"},{"$f":"IF($AD7=\"\",\"\",VLOOKUP($AD7,INSCRITS!$D$4:$W$501,9,0))","v":"HSC"},null,1,{"$f":"IF(AI7=\"\",\"\",VLOOKUP(AI7,points,2))","v":20}]
[null,null,163,{"$f":"IF($C8=\"\",\"\",VLOOKUP($C8,INSCRITS!$D$4:$W$501,6,0))","v":"MARCO"},{"$f":"IF($C8=\"\",\"\",VLOOKUP($C8,INSCRITS!$D$4:$W$501,7,0))","v":"Clement"},{"$f":"IF($C8=\"\",\"\",VLOOKUP($C8,INSCRITS!$D$4:$W$501,9,0))","v":"AQUALOVE"},null,null,null,null,null,null,null,null,{"$f":"IF($N8=\"\",\"\",VLOOKUP($N8,INSCRITS!$D$4:$W$501,6,0))","v":""},{"$f":"IF($N8=\"\",\"\",VLOOKUP($N8,INSCRITS!$D$4:$W$501,7,0))","v":""},{"$f":"IF($N8=\"\",\"\",VLOOKUP($N8,INSCRITS!$D$4:$W$501,9,0))","v":""},null,null,null,null,193,{"$f":"IF($V8=\"\",\"\",VLOOKUP($V8,INSCRITS!$D$4:$W$501,6,0))","v":"MAILHÉ"},{"$f":"IF($V8=\"\",\"\",VLOOKUP($V8,INSCRITS!$D$4:$W$501,7,0))","v":"Loic"},{"$f":"IF($V8=\"\",\"\",VLOOKUP($V8,INSCRITS!$D$4:$W$501,9,0))","v":"MNSL"},null,null,null,null,163,{"$f":"IF($AD8=\"\",\"\",VLOOKUP($AD8,INSCRITS!$D$4:$W$501,6,0))","v":"MARCO"},{"$f":"IF($AD8=\"\",\"\",VLOOKUP($AD8,INSCRITS!$D$4:$W$501,7,0))","v":"Clement"},{"$f":"IF($AD8=\"\",\"\",VLOOKUP($AD8,INSCRITS!$D$4:$W$501,9,0))","v":"AQUALOVE"},null,2,18]
[null,null,164,{"$f":"IF($C9=\"\",\"\",VLOOKUP($C9,INSCRITS!$D$4:$W$501,6,0))","v":{"$error":"#N/A"}},{"$f":"IF($C9=\"\",\"\",VLOOKUP($C9,INSCRITS!$D$4:$W$501,7,0))","v":{"$error":"#N/A"}},{"$f":"IF($C9=\"\",\"\",VLOOKUP($C9,INSCRITS!$D$4:$W$501,9,0))","v":{"$error":"#N/A"}},null,null,null,null,null,null,null,null,{"$f":"IF($N9=\"\",\"\",VLOOKUP($N9,INSCRITS!$D$4:$W$501,6,0))","v":""},{"$f":"IF($N9=\"\",\"\",VLOOKUP($N9,INSCRITS!$D$4:$W$501,7,0))","v":""},{"$f":"IF($N9=\"\",\"\",VLOOKUP($N9,INSCRITS!$D$4:$W$501,9,0))","v":""},null,null,null,null,165,{"$f":"IF($V9=\"\",\"\",VLOOKUP($V9,INSCRITS!$D$4:$W$501,6,0))","v":"HAREL"},{"$f":"IF($V9=\"\",\"\",VLOOKUP($V9,INSCRITS!$D$4:$W$501,7,0))","v":"Romain"},{"$f":"IF($V9=\"\",\"\",VLOOKUP($V9,INSCRITS!$D$4:$W$501,9,0))","v":"ASCA44"},null,null,null,null,178,{"$f":"IF($AD9=\"\",\"\",VLOOKUP($AD9,INSCRITS!$D$4:$W$501,6,0))","v":"SORIA"},{"$f":"IF($AD9=\"\",\"\",VLOOKUP($AD9,INSCRITS!$D$4:$W$501,7,0))","v":"Samuel"},{"$f":"IF($AD9=\"\",\"\",VLOOKUP($AD9,INSCRITS!$D$4:$W$501,9,0))","v":"Biarritz SC"},null,3,16]
[null,null,165,{"$f":"IF($C10=\"\",\"\",VLOOKUP($C10,INSCRITS!$D$4:$W$501,6,0))","v":"HAREL"},{"$f":"IF($C10=\"\",\"\",VLOOKUP($C10,INSCRITS!$D$4:$W$501,7,0))","v":"Romain"},{"$f":"IF($C10=\"\",\"\",VLOOKUP($C10,INSCRITS!$D$4:$W$501,9,0))","v":"ASCA44"},null,null,null,null,null,null,null,null,{"$f":"IF($N10=\"\",\"\",VLOOKUP($N10,INSCRITS!$D$4:$W$501,6,0))","v":""},{"$f":"IF($N10=\"\",\"\",VLOOKUP($N10,INSCRITS!$D$4:$W$501,7,0))","v":""},{"$f":"IF($N10=\"\",\"\",VLOOKUP($N10,INSCRITS!$D$4:$W$501,9,0))","v":""},null,null,null,null,187,{"$f":"IF($V10=\"\",\"\",VLOOKUP($V10,INSCRITS!$D$4:$W$501,6,0))","v":"DEHEZ"},{"$f":"IF($V10=\"\",\"\",VLOOKUP($V10,INSCRITS!$D$4:$W$501,7,0))","v":"Rémy"},{"$f":"IF($V10=\"\",\"\",VLOOKUP($V10,INSCRITS!$D$4:$W$501,9,0))","v":"HSC"},null,null,null,null,183,{"$f":"IF($AD10=\"\",\"\",VLOOKUP($AD10,INSCRITS!$D$4:$W$501,6,0))","v":"BLANC"},{"$f":"IF($AD10=\"\",\"\",VLOOKUP($AD10,INSCRITS!$D$4:$W$501,7,0))","v":"Guillaume"},{"$f":"IF($AD10=\"\",\"\",VLOOKUP($AD10,INSCRITS!$D$4:$W$501,9,0))","v":"ENA"},null,4,14]
[null,null,166,{"$f":"IF($C11=\"\",\"\",VLOOKUP($C11,INSCRITS!$D$4:$W$501,6,0))","v":"DOLE"},{"$f":"IF($C11=\"\",\"\",VLOOKUP($C11,INSCRITS!$D$4:$W$501,7,0))","v":"François"},{"$f":"IF($C11=\"\",\"\",VLOOKUP($C11,INSCRITS!$D$4:$W$501,9,0))","v":"ASCE DINARD"},null,null,null,null,null,null,null,null,{"$f":"IF($N11=\"\",\"\",VLOOKUP($N11,INSCRITS!$D$4:$W$501,6,0))","v":""},{"$f":"IF($N11=\"\",\"\",VLOOKUP($N11,INSCRITS!$D$4:$W$501,7,0))","v":""},{"$f":"IF($N11=\"\",\"\",VLOOKUP($N11,INSCRITS!$D$4:$W$501,9,0))","v":""},null,null,null,null,null,{"$f":"IF($V11=\"\",\"\",VLOOKUP($V11,INSCRITS!$D$4:$W$501,6,0))","v":""},{"$f":"IF($V11=\"\",\"\",VLOOKUP($V11,INSCRITS!$D$4:$W$501,7,0))","v":""},{"$f":"IF($V11=\"\",\"\",VLOOKUP($V11,INSCRITS!$D$4:$W$501,9,0))","v":""},null,null,null,null,193,{"$f":"IF($AD11=\"\",\"\",VLOOKUP($AD11,INSCRITS!$D$4:$W$501,6,0))","v":"MAILHÉ"},{"$f":"IF($AD11=\"\",\"\",VLOOKUP($AD11,INSCRITS!$D$4:$W$501,7,0))","v":"Loic"},{"$f":"IF($AD11=\"\",\"\",VLOOKUP($AD11,INSCRITS!$D$4:$W$501,9,0))","v":"MNSL"},null,5,13]
[null,null,167,{"$f":"IF($C12=\"\",\"\",VLOOKUP($C12,INSCRITS!$D$4:$W$501,6,0))","v":"HERVE"},{"$f":"IF($C12=\"\",\"\",VLOOKUP($C12,INSCRITS!$D$4:$W$501,7,0))","v":"Axel"},{"$f":"IF($C12=\"\",\"\",VLOOKUP($C12,INSCRITS!$D$4:$W$501,9,0))","v":"ASCE DINARD"},null,null,null,null,null,null,null,null,{"$f":"IF($N12=\"\",\"\",VLOOKUP($N12,INSCRITS!$D$4:$W$501,6,0))","v":""},{"$f":"IF($N12=\"\",\"\",VLOOKUP($N12,INSCRITS!$D$4:$W$501,7,0))","v":""},{"$f":"IF($N12=\"\",\"\",VLOOKUP($N12,INSCRITS!$D$4:$W$501,9,0))","v":""},null,null,null,null,194,{"$f":"IF($V12=\"\",\"\",VLOOKUP($V12,INSCRITS!$D$4:$W$501,6,0))","v":"NOGUES"},{"$f":"IF($V12=\"\",\"\",VLOOKUP($V12,INSCRITS!$D$4:$W$501,7,0))","v":"Remi"},{"$f":"IF($V12=\"\",\"\",VLOOKUP($V12,INSCRITS!$D$4:$W$501,9,0))","v":"MNSL"},null,null,null,null,173,{"$f":"IF($AD12=\"\",\"\",VLOOKUP($AD12,INSCRITS!$D$4:$W$501,6,0))","v":"FOS"},{"$f":"IF($AD12=\"\",\"\",VLOOKUP($AD12,INSCRITS!$D$4:$W$501,7,0))","v":"Robin"},{"$f":"IF($AD12=\"\",\"\",VLOOKUP($AD12,INSCRITS!$D$4:$W$501,9,0))","v":"BEGLES"},null,6,12]
[null,null,168,{"$f":"IF($C13=\"\",\"\",VLOOKUP($C13,INSCRITS!$D$4:$W$501,6,0))","v":{"$error":"#N/A"}},{"$f":"IF($C13=\"\",\"\",VLOOKUP($C13,INSCRITS!$D$4:$W$501,7,0))","v":{"$error":"#N/A"}},{"$f":"IF($C13=\"\",\"\",VLOOKUP($C13,INSCRITS!$D$4:$W$501,9,0))","v":{"$error":"#N/A"}},null,null,null,null,null,null,null,null,{"$f":"IF($N13=\"\",\"\",VLOOKUP($N13,INSCRITS!$D$4:$W$501,6,0))","v":""},{"$f":"IF($N13=\"\",\"\",VLOOKUP($N13,INSCRITS!$D$4:$W$501,7,0))","v":""},{"$f":"IF($N13=\"\",\"\",VLOOKUP($N13,INSCRITS!$D$4:$W$501,9,0))","v":""},null,null,null,null,178,{"$f":"IF($V13=\"\",\"\",VLOOKUP($V13,INSCRITS!$D$4:$W$501,6,0))","v":"SORIA"},{"$f":"IF($V13=\"\",\"\",VLOOKUP($V13,INSCRITS!$D$4:$W$501,7,0))","v":"Samuel"},{"$f":"IF($V13=\"\",\"\",VLOOKUP($V13,INSCRITS!$D$4:$W$501,9,0))","v":"Biarritz SC"},null,null,null,null,162,{"$f":"IF($AD13=\"\",\"\",VLOOKUP($AD13,INSCRITS!$D$4:$W$501,6,0))","v":"LATAPIE"},{"$f":"IF($AD13=\"\",\"\",VLOOKUP($AD13,INSCRITS!$D$4:$W$501,7,0))","v":"Robin"},{"$f":"IF($AD13=\"\",\"\",VLOOKUP($AD13,INSCRITS!$D$4:$W$501,9,0))","v":"AQUALOVE"},null,7,11]
[null,null,169,{"$f":"IF($C14=\"\",\"\",VLOOKUP($C14,INSCRITS!$D$4:$W$501,6,0))","v":"POUTRIQUET"},{"$f":"IF($C14=\"\",\"\",VLOOKUP($C14,INSCRITS!$D$4:$W$501,7,0))","v":"Maxime"},{"$f":"IF($C14=\"\",\"\",VLOOKUP($C14,INSCRITS!$D$4:$W$501,9,0))","v":"ASCE DINARD"},null,null,null,null,null,null,null,null,{"$f":"IF($N14=\"\",\"\",VLOOKUP($N14,INSCRITS!$D$4:$W$501,6,0))","v":""},{"$f":"IF($N14=\"\",\"\",VLOOKUP($N14,INSCRITS!$D$4:$W$501,7,0))","v":""},{"$f":"IF($N14=\"\",\"\",VLOOKUP($N14,INSCRITS!$D$4:$W$501,9,0))","v":""},null,null,null,null,167,{"$f":"IF($V14=\"\",\"\",VLOOKUP($V14,INSCRITS!$D$4:$W$501,6,0))","v":"HERVE"},{"$f":"IF($V14=\"\",\"\",VLOOKUP($V14,INSCRITS!$D$4:$W$501,7,0))","v":"Axel"},{"$f":"IF($V14=\"\",\"\",VLOOKUP($V14,INSCRITS!$D$4:$W$501,9,0))","v":"ASCE DINARD"},null,null,null,null,167,{"$f":"IF($AD14=\"\",\"\",VLOOKUP($AD14,INSCRITS!$D$4:$W$501,6,0))","v":"HERVE"},{"$f":"IF($AD14=\"\",\"\",VLOOKUP($AD14,INSCRITS!$D$4:$W$501,7,0))","v":"Axel"},{"$f":"IF($AD14=\"\",\"\",VLOOKUP($AD14,INSCRITS!$D$4:$W$501,9,0))","v":"ASCE DINARD"},null,8,10]
[null,null,170,{"$f":"IF($C15=\"\",\"\",VLOOKUP($C15,INSCRITS!$D$4:$W$501,6,0))","v":"RIGOT"},{"$f":"IF($C15=\"\",\"\",VLOOKUP($C15,INSCRITS!$D$4:$W$501,7,0))","v":"Quentin"},{"$f":"IF($C15=\"\",\"\",VLOOKUP($C15,INSCRITS!$D$4:$W$501,9,0))","v":"ASCE DINARD"},null,null,null,null,null,null,null,null,{"$f":"IF($N15=\"\",\"\",VLOOKUP($N15,INSCRITS!$D$4:$W$501,6,0))","v":""},{"$f":"IF($N15=\"\",\"\",VLOOKUP($N15,INSCRITS!$D$4:$W$501,7,0))","v":""},{"$f":"IF($N15=\"\",\"\",VLOOKUP($N15,INSCRITS!$D$4:$W$501,9,0))","v":""},null,null,null,null,175,{"$f":"IF($V15=\"\",\"\",VLOOKUP($V15,INSCRITS!$D$4:$W$501,6,0))","v":"PHILIPPEAU"},{"$f":"IF($V15=\"\",\"\",VLOOKUP($V15,INSCRITS!$D$4:$W$501,7,0))","v":"Jodicael"},{"$f":"IF($V15=\"\",\"\",VLOOKUP($V15,INSCRITS!$D$4:$W$501,9,0))","v":"BEGLES"},null,null,null,null,175,{"$f":"IF($AD15=\"\",\"\",VLOOKUP($AD15,INSCRITS!$D$4:$W$501,6,0))","v":"PHILIPPEAU"},{"$f":"IF($AD15=\"\",\"\",VLOOKUP($AD15,INSCRITS!$D$4:$W$501,7,0))","v":"Jodicael"},{"$f":"IF($AD15=\"\",\"\",VLOOKUP($AD15,INSCRITS!$D$4:$W$501,9,0))","v":"BEGLES"},null,9,8]
[null,null,171,{"$f":"IF($C16=\"\",\"\",VLOOKUP($C16,INSCRITS!$D$4:$W$501,6,0))","v":"DABCHY"},{"$f":"IF($C16=\"\",\"\",VLOOKUP($C16,INSCRITS!$D$4:$W$501,7,0))","v":"Yassine"},{"$f":"IF($C16=\"\",\"\",VLOOKUP($C16,INSCRITS!$D$4:$W$501,9,0))","v":"ASCE DINARD "},null,null,null,null,null,null,null,null,{"$f":"IF($N16=\"\",\"\",VLOOKUP($N16,INSCRITS!$D$4:$W$501,6,0))","v":""},{"$f":"IF($N16=\"\",\"\",VLOOKUP($N16,INSCRITS!$D$4:$W$501,7,0))","v":""},{"$f":"IF($N16=\"\",\"\",VLOOKUP($N16,INSCRITS!$D$4:$W$501,9,0))","v":""},null,null,null,null,183,{"$f":"IF($V16=\"\",\"\",VLOOKUP($V16,INSCRITS!$D$4:$W$501,6,0))","v":"BLANC"},{"$f":"IF($V16=\"\",\"\",VLOOKUP($V16,INSCRITS!$D$4:$W$501,7,0))","v":"Guillaume"},{"$f":"IF($V16=\"\",\"\",VLOOKUP($V16,INSCRITS!$D$4:$W$501,9,0))","v":"ENA"},null,null,null,null,195,{"$f":"IF($AD16=\"\",\"\",VLOOKUP($AD16,INSCRITS!$D$4:$W$501,6,0))","v":"SUBRA"},{"$f":"IF($AD16=\"\",\"\",VLOOKUP($AD16,INSCRITS!$D$4:$W$501,7,0))","v":"Olivier"},{"$f":"IF($AD16=\"\",\"\",VLOOKUP($AD16,INSCRITS!$D$4:$W$501,9,0))","v":"MNSL"},null,10,7]
[null,null,172,{"$f":"IF($C17=\"\",\"\",VLOOKUP($C17,INSCRITS!$D$4:$W$501,6,0))","v":"JEHAN"},{"$f":"IF($C17=\"\",\"\",VLOOKUP($C17,INSCRITS!$D$4:$W$501,7,0))","v":"Thomas"},{"$f":"IF($C17=\"\",\"\",VLOOKUP($C17,INSCRITS!$D$4:$W$501,9,0))","v":"ASCE DINARD "},null,null,null,null,null,null,null,null,{"$f":"IF($N17=\"\",\"\",VLOOKUP($N17,INSCRITS!$D$4:$W$501,6,0))","v":""},{"$f":"IF($N17=\"\",\"\",VLOOKUP($N17,INSCRITS!$D$4:$W$501,7,0))","v":""},{"$f":"IF($N17=\"\",\"\",VLOOKUP($N17,INSCRITS!$D$4:$W$501,9,0))","v":""},null,null,null,"SERIE 2",null,{"$f":"IF($V17=\"\",\"\",VLOOKUP($V17,INSCRITS!$D$4:$W$501,6,0))","v":""},{"$f":"IF($V17=\"\",\"\",VLOOKUP($V17,INSCRITS!$D$4:$W$501,7,0))","v":""},{"$f":"IF($V17=\"\",\"\",VLOOKUP($V17,INSCRITS!$D$4:$W$501,9,0))","v":""},null,null,null,null,169,{"$f":"IF($AD17=\"\",\"\",VLOOKUP($AD17,INSCRITS!$D$4:$W$501,6,0))","v":"POUTRIQUET"},{"$f":"IF($AD17=\"\",\"\",VLOOKUP($AD17,INSCRITS!$D$4:$W$501,7,0))","v":"Maxime"},{"$f":"IF($AD17=\"\",\"\",VLOOKUP($AD17,INSCRITS!$D$4:$W$501,9,0))","v":"ASCE DINARD"},null,11,6]
[null,null,173,{"$f":"IF($C18=\"\",\"\",VLOOKUP($C18,INSCRITS!$D$4:$W$501,6,0))","v":"FOS"},{"$f":"IF($C18=\"\",\"\",VLOOKUP($C18,INSCRITS!$D$4:$W$501,7,0))","v":"Robin"},{"$f":"IF($C18=\"\",\"\",VLOOKUP($C18,INSCRITS!$D$4:$W$501,9,0))","v":"BEGLES"},null,null,null,null,null,null,null,null,{"$f":"IF($N18=\"\",\"\",VLOOKUP($N18,INSCRITS!$D$4:$W$501,6,0))","v":""},{"$f":"IF($N18=\"\",\"\",VLOOKUP($N18,INSCRITS!$D$4:$W$501,7,0))","v":""},{"$f":"IF($N18=\"\",\"\",VLOOKUP($N18,INSCRITS!$D$4:$W$501,9,0))","v":""},null,null,null,null,171,{"$f":"IF($V18=\"\",\"\",VLOOKUP($V18,INSCRITS!$D$4:$W$501,6,0))","v":"DABCHY"},{"$f":"IF($V18=\"\",\"\",VLOOKUP($V18,INSCRITS!$D$4:$W$501,7,0))","v":"Yassine"},{"$f":"IF($V18=\"\",\"\",VLOOKUP($V18,INSCRITS!$D$4:$W$501,9,0))","v":"ASCE DINARD "},null,null,null,null,194,{"$f":"IF($AD18=\"\",\"\",VLOOKUP($AD18,INSCRITS!$D$4:$W$501,6,0))","v":"NOGUES"},{"$f":"IF($AD18=\"\",\"\",VLOOKUP($AD18,INSCRITS!$D$4:$W$501,7,0))","v":"Remi"},{"$f":"IF($AD18=\"\",\"\",VLOOKUP($AD18,INSCRITS!$D$4:$W$501,9,0))","v":"MNSL"},null,12,5]
[null,null,174,{"$f":"IF($C19=\"\",\"\",VLOOKUP($C19,INSCRITS!$D$4:$W$501,6,0))","v":"HAZERA"},{"$f":"IF($C19=\"\",\"\",VLOOKUP($C19,INSCRITS!$D$4:$W$501,7,0))","v":"Olivier"},{"$f":"IF($C19=\"\",\"\",VLOOKUP($C19,INSCRITS!$D$4:$W$501,9,0))","v":"BEGLES"},null,null,null,null,null,null,null,null,{"$f":"IF($N19=\"\",\"\",VLOOKUP($N19,INSCRITS!$D$4:$W$501,6,0))","v":""},{"$f":"IF($N19=\"\",\"\",VLOOKUP($N19,INSCRITS!$D$4:$W$501,7,0))","v":""},{"$f":"IF($N19=\"\",\"\",VLOOKUP($N19,INSCRITS!$D$4:$W$501,9,0))","v":""},null,null,null,null,195,{"$f":"IF($V19=\"\",\"\",VLOOKUP($V19,INSCRITS!$D$4:$W$501,6,0))","v":"SUBRA"},{"$f":"IF($V19=\"\",\"\",VLOOKUP($V19,INSCRITS!$D$4:$W$501,7,0))","v":"Olivier"},{"$f":"IF($V19=\"\",\"\",VLOOKUP($V19,INSCRITS!$D$4:$W$501,9,0))","v":"MNSL"},null,null,null,null,196,{"$f":"IF($AD19=\"\",\"\",VLOOKUP($AD19,INSCRITS!$D$4:$W$501,6,0))","v":"ZAMBELLI"},{"$f":"IF($AD19=\"\",\"\",VLOOKUP($AD19,INSCRITS!$D$4:$W$501,7,0))","v":"Sylvain"},{"$f":"IF($AD19=\"\",\"\",VLOOKUP($AD19,INSCRITS!$D$4:$W$501,9,0))","v":"MNSL"},null,13,4]
[null,"SERIE 2",175,{"$f":"IF($C20=\"\",\"\",VLOOKUP($C20,INSCRITS!$D$4:$W$501,6,0))","v":"PHILIPPEAU"},{"$f":"IF($C20=\"\",\"\",VLOOKUP($C20,INSCRITS!$D$4:$W$501,7,0))","v":"Jodicael"},{"$f":"IF($C20=\"\",\"\",VLOOKUP($C20,INSCRITS!$D$4:$W$501,9,0))","v":"BEGLES"},null,null,null,null,null,null,null,null,{"$f":"IF($N20=\"\",\"\",VLOOKUP($N20,INSCRITS!$D$4:$W$501,6,0))","v":""},{"$f":"IF($N20=\"\",\"\",VLOOKUP($N20,INSCRITS!$D$4:$W$501,7,0))","v":""},{"$f":"IF($N20=\"\",\"\",VLOOKUP($N20,INSCRITS!$D$4:$W$501,9,0))","v":""},null,null,null,null,196,{"$f":"IF($V20=\"\",\"\",VLOOKUP($V20,INSCRITS!$D$4:$W$501,6,0))","v":"ZAMBELLI"},{"$f":"IF($V20=\"\",\"\",VLOOKUP($V20,INSCRITS!$D$4:$W$501,7,0))","v":"Sylvain"},{"$f":"IF($V20=\"\",\"\",VLOOKUP($V20,INSCRITS!$D$4:$W$501,9,0))","v":"MNSL"},null,null,null,null,166,{"$f":"IF($AD20=\"\",\"\",VLOOKUP($AD20,INSCRITS!$D$4:$W$501,6,0))","v":"DOLE"},{"$f":"IF($AD20=\"\",\"\",VLOOKUP($AD20,INSCRITS!$D$4:$W$501,7,0))","v":"François"},{"$f":"IF($AD20=\"\",\"\",VLOOKUP($AD20,INSCRITS!$D$4:$W$501,9,0))","v":"ASCE DINARD"},null,14,3]
[null,null,178,{"$f":"IF($C21=\"\",\"\",VLOOKUP($C21,INSCRITS!$D$4:$W$501,6,0))","v":"SORIA"},{"$f":"IF($C21=\"\",\"\",VLOOKUP($C21,INSCRITS!$D$4:$W$501,7,0))","v":"Samuel"},{"$f":"IF($C21=\"\",\"\",VLOOKUP($C21,INSCRITS!$D$4:$W$501,9,0))","v":"Biarritz SC"},null,null,null,null,null,null,null,null,{"$f":"IF($N21=\"\",\"\",VLOOKUP($N21,INSCRITS!$D$4:$W$501,6,0))","v":""},{"$f":"IF($N21=\"\",\"\",VLOOKUP($N21,INSCRITS!$D$4:$W$501,7,0))","v":""},{"$f":"IF($N21=\"\",\"\",VLOOKUP($N21,INSCRITS!$D$4:$W$501,9,0))","v":""},null,null,null,null,174,{"$f":"IF($V21=\"\",\"\",VLOOKUP($V21,INSCRITS!$D$4:$W$501,6,0))","v":"HAZERA"},{"$f":"IF($V21=\"\",\"\",VLOOKUP($V21,INSCRITS!$D$4:$W$501,7,0))","v":"Olivier"},{"$f":"IF($V21=\"\",\"\",VLOOKUP($V21,INSCRITS!$D$4:$W$501,9,0))","v":"BEGLES"},null,null,null,null,170,{"$f":"IF($AD21=\"\",\"\",VLOOKUP($AD21,INSCRITS!$D$4:$W$501,6,0))","v":"RIGOT"},{"$f":"IF($AD21=\"\",\"\",VLOOKUP($AD21,INSCRITS!$D$4:$W$501,7,0))","v":"Quentin"},{"$f":"IF($AD21=\"\",\"\",VLOOKUP($AD21,INSCRITS!$D$4:$W$501,9,0))","v":"ASCE DINARD"},null,15,2]
[null,null,182,{"$f":"IF($C22=\"\",\"\",VLOOKUP($C22,INSCRITS!$D$4:$W$501,6,0))","v":"DUBOIS CONSTANT"},{"$f":"IF($C22=\"\",\"\",VLOOKUP($C22,INSCRITS!$D$4:$W$501,7,0))","v":"Antoine"},{"$f":"IF($C22=\"\",\"\",VLOOKUP($C22,INSCRITS!$D$4:$W$501,9,0))","v":"EMULATION SAUVETAGE NATATION PERPIGNAN"},null,null,null,null,null,null,null,null,{"$f":"IF($N22=\"\",\"\",VLOOKUP($N22,INSCRITS!$D$4:$W$501,6,0))","v":""},{"$f":"IF($N22=\"\",\"\",VLOOKUP($N22,INSCRITS!$D$4:$W$501,7,0))","v":""},{"$f":"IF($N22=\"\",\"\",VLOOKUP($N22,INSCRITS!$D$4:$W$501,9,0))","v":""},null,null,null,null,null,{"$f":"IF($V22=\"\",\"\",VLOOKUP($V22,INSCRITS!$D$4:$W$501,6,0))","v":""},{"$f":"IF($V22=\"\",\"\",VLOOKUP($V22,INSCRITS!$D$4:$W$501,7,0))","v":""},{"$f":"IF($V22=\"\",\"\",VLOOKUP($V22,INSCRITS!$D$4:$W$501,9,0))","v":""},null,null,null,null,171,{"$f":"IF($AD22=\"\",\"\",VLOOKUP($AD22,INSCRITS!$D$4:$W$501,6,0))","v":"DABCHY"},{"$f":"IF($AD22=\"\",\"\",VLOOKUP($AD22,INSCRITS!$D$4:$W$501,7,0))","v":"Yassine"},{"$f":"IF($AD22=\"\",\"\",VLOOKUP($AD22,INSCRITS!$D$4:$W$501,9,0))","v":"ASCE DINARD "},null,"Abd",0]
[null,null,183,{"$f":"IF($C23=\"\",\"\",VLOOKUP($C23,INSCRITS!$D$4:$W$501,6,0))","v":"BLANC"},{"$f":"IF($C23=\"\",\"\",VLOOKUP($C23,INSCRITS!$D$4:$W$501,7,0))","v":"Guillaume"},{"$f":"IF($C23=\"\",\"\",VLOOKUP($C23,INSCRITS!$D$4:$W$501,9,0))","v":"ENA"},null,null,null,null,null,null,"SERIE 2",null,{"$f":"IF($N23=\"\",\"\",VLOOKUP($N23,INSCRITS!$D$4:$W$501,6,0))","v":""},{"$f":"IF($N23=\"\",\"\",VLOOKUP($N23,INSCRITS!$D$4:$W$501,7,0))","v":""},{"$f":"IF($N23=\"\",\"\",VLOOKUP($N23,INSCRITS!$D$4:$W$501,9,0))","v":""},null,null,null,null,162,{"$f":"IF($V23=\"\",\"\",VLOOKUP($V23,INSCRITS!$D$4:$W$501,6,0))","v":"LATAPIE"},{"$f":"IF($V23=\"\",\"\",VLOOKUP($V23,INSCRITS!$D$4:$W$501,7,0))","v":"Robin"},{"$f":"IF($V23=\"\",\"\",VLOOKUP($V23,INSCRITS!$D$4:$W$501,9,0))","v":"AQUALOVE"},null,null,null,null,174,{"$f":"IF($AD23=\"\",\"\",VLOOKUP($AD23,INSCRITS!$D$4:$W$501,6,0))","v":"HAZERA"},{"$f":"IF($AD23=\"\",\"\",VLOOKUP($AD23,INSCRITS!$D$4:$W$501,7,0))","v":"Olivier"},{"$f":"IF($AD23=\"\",\"\",VLOOKUP($AD23,INSCRITS!$D$4:$W$501,9,0))","v":"BEGLES"},null,"Abd",0]
[null,null,187,{"$f":"IF($C24=\"\",\"\",VLOOKUP($C24,INSCRITS!$D$4:$W$501,6,0))","v":"DEHEZ"},{"$f":"IF($C24=\"\",\"\",VLOOKUP($C24,INSCRITS!$D$4:$W$501,7,0))","v":"Rémy"},{"$f":"IF($C24=\"\",\"\",VLOOKUP($C24,INSCRITS!$D$4:$W$501,9,0))","v":"HSC"},null,null,null,null,null,null,null,null,{"$f":"IF($N24=\"\",\"\",VLOOKUP($N24,INSCRITS!$D$4:$W$501,6,0))","v":""},{"$f":"IF($N24=\"\",\"\",VLOOKUP($N24,INSCRITS!$D$4:$W$501,7,0))","v":""},{"$f":"IF($N24=\"\",\"\",VLOOKUP($N24,INSCRITS!$D$4:$W$501,9,0))","v":""},null,null,null,null,166,{"$f":"IF($V24=\"\",\"\",VLOOKUP($V24,INSCRITS!$D$4:$W$501,6,0))","v":"DOLE"},{"$f":"IF($V24=\"\",\"\",VLOOKUP($V24,INSCRITS!$D$4:$W$501,7,0))","v":"François"},{"$f":"IF($V24=\"\",\"\",VLOOKUP($V24,INSCRITS!$D$4:$W$501,9,0))","v":"ASCE DINARD"},null,null,null,null,165,{"$f":"IF($AD24=\"\",\"\",VLOOKUP($AD24,INSCRITS!$D$4:$W$501,6,0))","v":"HAREL"},{"$f":"IF($AD24=\"\",\"\",VLOOKUP($AD24,INSCRITS!$D$4:$W$501,7,0))","v":"Romain"},{"$f":"IF($AD24=\"\",\"\",VLOOKUP($AD24,INSCRITS!$D$4:$W$501,9,0))","v":"ASCA44"},null,"Abs",0]
[null,null,193,{"$f":"IF($C25=\"\",\"\",VLOOKUP($C25,INSCRITS!$D$4:$W$501,6,0))","v":"MAILHÉ"},{"$f":"IF($C25=\"\",\"\",VLOOKUP($C25,INSCRITS!$D$4:$W$501,7,0))","v":"Loic"},{"$f":"IF($C25=\"\",\"\",VLOOKUP($C25,INSCRITS!$D$4:$W$501,9,0))","v":"MNSL"},null,null,null,null,null,null,null,null,{"$f":"IF($N25=\"\",\"\",VLOOKUP($N25,INSCRITS!$D$4:$W$501,6,0))","v":""},{"$f":"IF($N25=\"\",\"\",VLOOKUP($N25,INSCRITS!$D$4:$W$501,7,0))","v":""},{"$f":"IF($N25=\"\",\"\",VLOOKUP($N25,INSCRITS!$D$4:$W$501,9,0))","v":""},null,null,null,null,169,{"$f":"IF($V25=\"\",\"\",VLOOKUP($V25,INSCRITS!$D$4:$W$501,6,0))","v":"POUTRIQUET"},{"$f":"IF($V25=\"\",\"\",VLOOKUP($V25,INSCRITS!$D$4:$W$501,7,0))","v":"Maxime"},{"$f":"IF($V25=\"\",\"\",VLOOKUP($V25,INSCRITS!$D$4:$W$501,9,0))","v":"ASCE DINARD"},null,null,null,null,null,{"$f":"IF($AD25=\"\",\"\",VLOOKUP($AD25,INSCRITS!$D$4:$W$501,6,0))","v":""},{"$f":"IF($AD25=\"\",\"\",VLOOKUP($AD25,INSCRITS!$D$4:$W$501,7,0))","v":""},{"$f":"IF($AD25=\"\",\"\",VLOOKUP($AD25,INSCRITS!$D$4:$W$501,9,0))","v":""},null,null,""]
[null,null,194,{"$f":"IF($C26=\"\",\"\",VLOOKUP($C26,INSCRITS!$D$4:$W$501,6,0))","v":"NOGUES"},{"$f":"IF($C26=\"\",\"\",VLOOKUP($C26,INSCRITS!$D$4:$W$501,7,0))","v":"Remi"},{"$f":"IF($C26=\"\",\"\",VLOOKUP($C26,INSCRITS!$D$4:$W$501,9,0))","v":"MNSL"},null,null,null,null,null,null,null,null,{"$f":"IF($N26=\"\",\"\",VLOOKUP($N26,INSCRITS!$D$4:$W$501,6,0))","v":""},{"$f":"IF($N26=\"\",\"\",VLOOKUP($N26,INSCRITS!$D$4:$W$501,7,0))","v":""},{"$f":"IF($N26=\"\",\"\",VLOOKUP($N26,INSCRITS!$D$4:$W$501,9,0))","v":""},null,null,null,null,173,{"$f":"IF($V26=\"\",\"\",VLOOKUP($V26,INSCRITS!$D$4:$W$501,6,0))","v":"FOS"},{"$f":"IF($V26=\"\",\"\",VLOOKUP($V26,INSCRITS!$D$4:$W$501,7,0))","v":"Robin"},{"$f":"IF($V26=\"\",\"\",VLOOKUP($V26,INSCRITS!$D$4:$W$501,9,0))","v":"BEGLES"},null,null,null,null,null,{"$f":"IF($AD26=\"\",\"\",VLOOKUP($AD26,INSCRITS!$D$4:$W$501,6,0))","v":""},{"$f":"IF($AD26=\"\",\"\",VLOOKUP($AD26,INSCRITS!$D$4:$W$501,7,0))","v":""},{"$f":"IF($AD26=\"\",\"\",VLOOKUP($AD26,INSCRITS!$D$4:$W$501,9,0))","v":""},null,null,""]
[null,null,195,{"$f":"IF($C27=\"\",\"\",VLOOKUP($C27,INSCRITS!$D$4:$W$501,6,0))","v":"SUBRA"},{"$f":"IF($C27=\"\",\"\",VLOOKUP($C27,INSCRITS!$D$4:$W$501,7,0))","v":"Olivier"},{"$f":"IF($C27=\"\",\"\",VLOOKUP($C27,INSCRITS!$D$4:$W$501,9,0))","v":"MNSL"},null,null,null,null,null,null,null,null,{"$f":"IF($N27=\"\",\"\",VLOOKUP($N27,INSCRITS!$D$4:$W$501,6,0))","v":""},{"$f":"IF($N27=\"\",\"\",VLOOKUP($N27,INSCRITS!$D$4:$W$501,7,0))","v":""},{"$f":"IF($N27=\"\",\"\",VLOOKUP($N27,INSCRITS!$D$4:$W$501,9,0))","v":""},null,null,null,null,163,{"$f":"IF($V27=\"\",\"\",VLOOKUP($V27,INSCRITS!$D$4:$W$501,6,0))","v":"MARCO"},{"$f":"IF($V27=\"\",\"\",VLOOKUP($V27,INSCRITS!$D$4:$W$501,7,0))","v":"Clement"},{"$f":"IF($V27=\"\",\"\",VLOOKUP($V27,INSCRITS!$D$4:$W$501,9,0))","v":"AQUALOVE"},null,null,null,null,null,{"$f":"IF($AD27=\"\",\"\",VLOOKUP($AD27,INSCRITS!$D$4:$W$501,6,0))","v":""},{"$f":"IF($AD27=\"\",\"\",VLOOKUP($AD27,INSCRITS!$D$4:$W$501,7,0))","v":""},{"$f":"IF($AD27=\"\",\"\",VLOOKUP($AD27,INSCRITS!$D$4:$W$501,9,0))","v":""},null,null,""]
[null,null,196,{"$f":"IF($C28=\"\",\"\",VLOOKUP($C28,INSCRITS!$D$4:$W$501,6,0))","v":"ZAMBELLI"},{"$f":"IF($C28=\"\",\"\",VLOOKUP($C28,INSCRITS!$D$4:$W$501,7,0))","v":"Sylvain"},{"$f":"IF($C28=\"\",\"\",VLOOKUP($C28,INSCRITS!$D$4:$W$501,9,0))","v":"MNSL"},null,null,null,null,null,null,null,null,{"$f":"IF($N28=\"\",\"\",VLOOKUP($N28,INSCRITS!$D$4:$W$501,6,0))","v":""},{"$f":"IF($N28=\"\",\"\",VLOOKUP($N28,INSCRITS!$D$4:$W$501,7,0))","v":""},{"$f":"IF($N28=\"\",\"\",VLOOKUP($N28,INSCRITS!$D$4:$W$501,9,0))","v":""},null,null,null,null,null,{"$f":"IF($V28=\"\",\"\",VLOOKUP($V28,INSCRITS!$D$4:$W$501,6,0))","v":""},{"$f":"IF($V28=\"\",\"\",VLOOKUP($V28,INSCRITS!$D$4:$W$501,7,0))","v":""},{"$f":"IF($V28=\"\",\"\",VLOOKUP($V28,INSCRITS!$D$4:$W$501,9,0))","v":""},null,null,null,null,null,{"$f":"IF($AD28=\"\",\"\",VLOOKUP($AD28,INSCRITS!$D$4:$W$501,6,0))","v":""},{"$f":"IF($AD28=\"\",\"\",VLOOKUP($AD28,INSCRITS!$D$4:$W$501,7,0))","v":""},{"$f":"IF($AD28=\"\",\"\",VLOOKUP($AD28,INSCRITS!$D$4:$W$501,9,0))","v":""}]
[null,null,null,{"$f":"IF($C29=\"\",\"\",VLOOKUP($C29,INSCRITS!$D$4:$W$501,6,0))","v":""},{"$f":"IF($C29=\"\",\"\",VLOOKUP($C29,INSCRITS!$D$4:$W$501,7,0))","v":""},{"$f":"IF($C29=\"\",\"\",VLOOKUP($C29,INSCRITS!$D$4:$W$501,9,0))","v":""},null,null,null,null,null,null,null,null,{"$f":"IF($N29=\"\",\"\",VLOOKUP($N29,INSCRITS!$D$4:$W$501,6,0))","v":""},{"$f":"IF($N29=\"\",\"\",VLOOKUP($N29,INSCRITS!$D$4:$W$501,7,0))","v":""},{"$f":"IF($N29=\"\",\"\",VLOOKUP($N29,INSCRITS!$D$4:$W$501,9,0))","v":""},null,null,null,null,null,{"$f":"IF($V29=\"\",\"\",VLOOKUP($V29,INSCRITS!$D$4:$W$501,6,0))","v":""},{"$f":"IF($V29=\"\",\"\",VLOOKUP($V29,INSCRITS!$D$4:$W$501,7,0))","v":""},{"$f":"IF($V29=\"\",\"\",VLOOKUP($V29,INSCRITS!$D$4:$W$501,9,0))","v":""},null,null,null,null,null,{"$f":"IF($AD29=\"\",\"\",VLOOKUP($AD29,INSCRITS!$D$4:$W$501,6,0))","v":""},{"$f":"IF($AD29=\"\",\"\",VLOOKUP($AD29,INSCRITS!$D$4:$W$501,7,0))","v":""},{"$f":"IF($AD29=\"\",\"\",VLOOKUP($AD29,INSCRITS!$D$4:$W$501,9,0))","v":""}]
[null,null,null,{"$f":"IF($C30=\"\",\"\",VLOOKUP($C30,INSCRITS!$D$4:$W$501,6,0))","v":""},{"$f":"IF($C30=\"\",\"\",VLOOKUP($C30,INSCRITS!$D$4:$W$501,7,0))","v":""},{"$f":"IF($C30=\"\",\"\",VLOOKUP($C30,INSCRITS!$D$4:$W$501,9,0))","v":""},null,null,null,null,null,null,null,null,{"$f":"IF($N30=\"\",\"\",VLOOKUP($N30,INSCRITS!$D$4:$W$501,6,0))","v":""},{"$f":"IF($N30=\"\",\"\",VLOOKUP($N30,INSCRITS!$D$4:$W$501,7,0))","v":""},{"$f":"IF($N30=\"\",\"\",VLOOKUP($N30,INSCRITS!$D$4:$W$501,9,0))","v":""},null,null,null,null,null,{"$f":"IF($V30=\"\",\"\",VLOOKUP($V30,INSCRITS!$D$4:$W$501,6,0))","v":""},{"$f":"IF($V30=\"\",\"\",VLOOKUP($V30,INSCRITS!$D$4:$W$501,7,0))","v":""},{"$f":"IF($V30=\"\",\"\",VLOOKUP($V30,INSCRITS!$D$4:$W$501,9,0))","v":""},null,null,null,null,null,{"$f":"IF($AD30=\"\",\"\",VLOOKUP($AD30,INSCRITS!$D$4:$W$501,6,0))","v":""},{"$f":"IF($AD30=\"\",\"\",VLOOKUP($AD30,INSCRITS!$D$4:$W$501,7,0))","v":""},{"$f":"IF($AD30=\"\",\"\",VLOOKUP($AD30,INSCRITS!$D$4:$W$501,9,0))","v":""}]
[null,null,null,{"$f":"IF($C31=\"\",\"\",VLOOKUP($C31,INSCRITS!$D$4:$W$501,6,0))","v":""},{"$f":"IF($C31=\"\",\"\",VLOOKUP($C31,INSCRITS!$D$4:$W$501,7,0))","v":""},{"$f":"IF($C31=\"\",\"\",VLOOKUP($C31,INSCRITS!$D$4:$W$501,9,0))","v":""},null,null,null,null,null,null,null,null,{"$f":"IF($N31=\"\",\"\",VLOOKUP($N31,INSCRITS!$D$4:$W$501,6,0))","v":""},{"$f":"IF($N31=\"\",\"\",VLOOKUP($N31,INSCRITS!$D$4:$W$501,7,0))","v":""},{"$f":"IF($N31=\"\",\"\",VLOOKUP($N31,INSCRITS!$D$4:$W$501,9,0))","v":""},null,null,null,null,null,{"$f":"IF($V31=\"\",\"\",VLOOKUP($V31,INSCRITS!$D$4:$W$501,6,0))","v":""},{"$f":"IF($V31=\"\",\"\",VLOOKUP($V31,INSCRITS!$D$4:$W$501,7,0))","v":""},{"$f":"IF($V31=\"\",\"\",VLOOKUP($V31,INSCRITS!$D$4:$W$501,9,0))","v":""},null,null,null,null,null,{"$f":"IF($AD31=\"\",\"\",VLOOKUP($AD31,INSCRITS!$D$4:$W$501,6,0))","v":""},{"$f":"IF($AD31=\"\",\"\",VLOOKUP($AD31,INSCRITS!$D$4:$W$501,7,0))","v":""},{"$f":"IF($AD31=\"\",\"\",VLOOKUP($AD31,INSCRITS!$D$4:$W$501,9,0))","v":""}]
[null,null,null,{"$f":"IF($C32=\"\",\"\",VLOOKUP($C32,INSCRITS!$D$4:$W$501,6,0))","v":""},{"$f":"IF($C32=\"\",\"\",VLOOKUP($C32,INSCRITS!$D$4:$W$501,7,0))","v":""},{"$f":"IF($C32=\"\",\"\",VLOOKUP($C32,INSCRITS!$D$4:$W$501,9,0))","v":""},null,null,null,null,null,null,null,null,{"$f":"IF($N32=\"\",\"\",VLOOKUP($N32,INSCRITS!$D$4:$W$501,6,0))","v":""},{"$f":"IF($N32=\"\",\"\",VLOOKUP($N32,INSCRITS!$D$4:$W$501,7,0))","v":""},{"$f":"IF($N32=\"\",\"\",VLOOKUP($N32,INSCRITS!$D$4:$W$501,9,0))","v":""},null,null,null,null,null,{"$f":"IF($V32=\"\",\"\",VLOOKUP($V32,INSCRITS!$D$4:$W$501,6,0))","v":""},{"$f":"IF($V32=\"\",\"\",VLOOKUP($V32,INSCRITS!$D$4:$W$501,7,0))","v":""},{"$f":"IF($V32=\"\",\"\",VLOOKUP($V32,INSCRITS!$D$4:$W$501,9,0))","v":""},null,null,null,null,null,{"$f":"IF($AD32=\"\",\"\",VLOOKUP($AD32,INSCRITS!$D$4:$W$501,6,0))","v":""},{"$f":"IF($AD32=\"\",\"\",VLOOKUP($AD32,INSCRITS!$D$4:$W$501,7,0))","v":""},{"$f":"IF($AD32=\"\",\"\",VLOOKUP($AD32,INSCRITS!$D$4:$W$501,9,0))","v":""}]
[null,"SERIE 3",null,{"$f":"IF($C33=\"\",\"\",VLOOKUP($C33,INSCRITS!$D$4:$W$501,6,0))","v":""},{"$f":"IF($C33=\"\",\"\",VLOOKUP($C33,INSCRITS!$D$4:$W$501,7,0))","v":""},{"$f":"IF($C33=\"\",\"\",VLOOKUP($C33,INSCRITS!$D$4:$W$501,9,0))","v":""},null,null,null,null,null,null,null,null,{"$f":"IF($N33=\"\",\"\",VLOOKUP($N33,INSCRITS!$D$4:$W$501,6,0))","v":""},{"$f":"IF($N33=\"\",\"\",VLOOKUP($N33,INSCRITS!$D$4:$W$501,7,0))","v":""},{"$f":"IF($N33=\"\",\"\",VLOOKUP($N33,INSCRITS!$D$4:$W$501,9,0))","v":""},null,null,null,null,null,{"$f":"IF($V33=\"\",\"\",VLOOKUP($V33,INSCRITS!$D$4:$W$501,6,0))","v":""},{"$f":"IF($V33=\"\",\"\",VLOOKUP($V33,INSCRITS!$D$4:$W$501,7,0))","v":""},{"$f":"IF($V33=\"\",\"\",VLOOKUP($V33,INSCRITS!$D$4:$W$501,9,0))","v":""},null,null,null,null,null,{"$f":"IF($AD33=\"\",\"\",VLOOKUP($AD33,INSCRITS!$D$4:$W$501,6,0))","v":""},{"$f":"IF($AD33=\"\",\"\",VLOOKUP($AD33,INSCRITS!$D$4:$W$501,7,0))","v":""},{"$f":"IF($AD33=\"\",\"\",VLOOKUP($AD33,INSCRITS!$D$4:$W$501,9,0))","v":""}]
[null,null,null,{"$f":"IF($C34=\"\",\"\",VLOOKUP($C34,INSCRITS!$D$4:$W$501,6,0))","v":""},{"$f":"IF($C34=\"\",\"\",VLOOKUP($C34,INSCRITS!$D$4:$W$501,7,0))","v":""},{"$f":"IF($C34=\"\",\"\",VLOOKUP($C34,INSCRITS!$D$4:$W$501,9,0))","v":""},null,null,null,null,null,null,null,null,{"$f":"IF($N34=\"\",\"\",VLOOKUP($N34,INSCRITS!$D$4:$W$501,6,0))","v":""},{"$f":"IF($N34=\"\",\"\",VLOOKUP($N34,INSCRITS!$D$4:$W$501,7,0))","v":""},{"$f":"IF($N34=\"\",\"\",VLOOKUP($N34,INSCRITS!$D$4:$W$501,9,0))","v":""},null,null,null,null,null,{"$f":"IF($V34=\"\",\"\",VLOOKUP($V34,INSCRITS!$D$4:$W$501,6,0))","v":""},{"$f":"IF($V34=\"\",\"\",VLOOKUP($V34,INSCRITS!$D$4:$W$501,7,0))","v":""},{"$f":"IF($V34=\"\",\"\",VLOOKUP($V34,INSCRITS!$D$4:$W$501,9,0))","v":""},null,null,null,null,null,{"$f":"IF($AD34=\"\",\"\",VLOOKUP($AD34,INSCRITS!$D$4:$W$501,6,0))","v":""},{"$f":"IF($AD34=\"\",\"\",VLOOKUP($AD34,INSCRITS!$D$4:$W$501,7,0))","v":""},{"$f":"IF($AD34=\"\",\"\",VLOOKUP($AD34,INSCRITS!$D$4:$W$501,9,0))","v":""}]
[null,null,null,{"$f":"IF($C35=\"\",\"\",VLOOKUP($C35,INSCRITS!$D$4:$W$501,6,0))","v":""},{"$f":"IF($C35=\"\",\"\",VLOOKUP($C35,INSCRITS!$D$4:$W$501,7,0))","v":""},{"$f":"IF($C35=\"\",\"\",VLOOKUP($C35,INSCRITS!$D$4:$W$501,9,0))","v":""},null,null,null,null,null,null,null,null,{"$f":"IF($N35=\"\",\"\",VLOOKUP($N35,INSCRITS!$D$4:$W$501,6,0))","v":""},{"$f":"IF($N35=\"\",\"\",VLOOKUP($N35,INSCRITS!$D$4:$W$501,7,0))","v":""},{"$f":"IF($N35=\"\",\"\",VLOOKUP($N35,INSCRITS!$D$4:$W$501,9,0))","v":""},null,null,null,null,null,{"$f":"IF($V35=\"\",\"\",VLOOKUP($V35,INSCRITS!$D$4:$W$501,6,0))","v":""},{"$f":"IF($V35=\"\",\"\",VLOOKUP($V35,INSCRITS!$D$4:$W$501,7,0))","v":""},{"$f":"IF($V35=\"\",\"\",VLOOKUP($V35,INSCRITS!$D$4:$W$501,9,0))","v":""},null,null,null,null,null,{"$f":"IF($AD35=\"\",\"\",VLOOKUP($AD35,INSCRITS!$D$4:$W$501,6,0))","v":""},{"$f":"IF($AD35=\"\",\"\",VLOOKUP($AD35,INSCRITS!$D$4:$W$501,7,0))","v":""},{"$f":"IF($AD35=\"\",\"\",VLOOKUP($AD35,INSCRITS!$D$4:$W$501,9,0))","v":""}]
[null,null,null,{"$f":"IF($C36=\"\",\"\",VLOOKUP($C36,INSCRITS!$D$4:$W$501,6,0))","v":""},{"$f":"IF($C36=\"\",\"\",VLOOKUP($C36,INSCRITS!$D$4:$W$501,7,0))","v":""},{"$f":"IF($C36=\"\",\"\",VLOOKUP($C36,INSCRITS!$D$4:$W$501,9,0))","v":""},null,null,null,null,null,null,null,null,{"$f":"IF($N36=\"\",\"\",VLOOKUP($N36,INSCRITS!$D$4:$W$501,6,0))","v":""},{"$f":"IF($N36=\"\",\"\",VLOOKUP($N36,INSCRITS!$D$4:$W$501,7,0))","v":""},{"$f":"IF($N36=\"\",\"\",VLOOKUP($N36,INSCRITS!$D$4:$W$501,9,0))","v":""},null,null,null,null,null,{"$f":"IF($V36=\"\",\"\",VLOOKUP($V36,INSCRITS!$D$4:$W$501,6,0))","v":""},{"$f":"IF($V36=\"\",\"\",VLOOKUP($V36,INSCRITS!$D$4:$W$501,7,0))","v":""},{"$f":"IF($V36=\"\",\"\",VLOOKUP($V36,INSCRITS!$D$4:$W$501,9,0))","v":""},null,null,null,null,null,{"$f":"IF($AD36=\"\",\"\",VLOOKUP($AD36,INSCRITS!$D$4:$W$501,6,0))","v":""},{"$f":"IF($AD36=\"\",\"\",VLOOKUP($AD36,INSCRITS!$D$4:$W$501,7,0))","v":""},{"$f":"IF($AD36=\"\",\"\",VLOOKUP($AD36,INSCRITS!$D$4:$W$501,9,0))","v":""}]
[null,null,null,{"$f":"IF($C37=\"\",\"\",VLOOKUP($C37,INSCRITS!$D$4:$W$501,6,0))","v":""},{"$f":"IF($C37=\"\",\"\",VLOOKUP($C37,INSCRITS!$D$4:$W$501,7,0))","v":""},{"$f":"IF($C37=\"\",\"\",VLOOKUP($C37,INSCRITS!$D$4:$W$501,9,0))","v":""},null,null,null,null,null,null,null,null,{"$f":"IF($N37=\"\",\"\",VLOOKUP($N37,INSCRITS!$D$4:$W$501,6,0))","v":""},{"$f":"IF($N37=\"\",\"\",VLOOKUP($N37,INSCRITS!$D$4:$W$501,7,0))","v":""},{"$f":"IF($N37=\"\",\"\",VLOOKUP($N37,INSCRITS!$D$4:$W$501,9,0))","v":""},null,null,null,null,null,{"$f":"IF($V37=\"\",\"\",VLOOKUP($V37,INSCRITS!$D$4:$W$501,6,0))","v":""},{"$f":"IF($V37=\"\",\"\",VLOOKUP($V37,INSCRITS!$D$4:$W$501,7,0))","v":""},{"$f":"IF($V37=\"\",\"\",VLOOKUP($V37,INSCRITS!$D$4:$W$501,9,0))","v":""},null,null,null,null,null,{"$f":"IF($AD37=\"\",\"\",VLOOKUP($AD37,INSCRITS!$D$4:$W$501,6,0))","v":""},{"$f":"IF($AD37=\"\",\"\",VLOOKUP($AD37,INSCRITS!$D$4:$W$501,7,0))","v":""},{"$f":"IF($AD37=\"\",\"\",VLOOKUP($AD37,INSCRITS!$D$4:$W$501,9,0))","v":""}]
[null,null,null,{"$f":"IF($C38=\"\",\"\",VLOOKUP($C38,INSCRITS!$D$4:$W$501,6,0))","v":""},{"$f":"IF($C38=\"\",\"\",VLOOKUP($C38,INSCRITS!$D$4:$W$501,7,0))","v":""},{"$f":"IF($C38=\"\",\"\",VLOOKUP($C38,INSCRITS!$D$4:$W$501,9,0))","v":""},null,null,null,null,null,null,null,null,{"$f":"IF($N38=\"\",\"\",VLOOKUP($N38,INSCRITS!$D$4:$W$501,6,0))","v":""},{"$f":"IF($N38=\"\",\"\",VLOOKUP($N38,INSCRITS!$D$4:$W$501,7,0))","v":""},{"$f":"IF($N38=\"\",\"\",VLOOKUP($N38,INSCRITS!$D$4:$W$501,9,0))","v":""},null,null,null,null,null,{"$f":"IF($V38=\"\",\"\",VLOOKUP($V38,INSCRITS!$D$4:$W$501,6,0))","v":""},{"$f":"IF($V38=\"\",\"\",VLOOKUP($V38,INSCRITS!$D$4:$W$501,7,0))","v":""},{"$f":"IF($V38=\"\",\"\",VLOOKUP($V38,INSCRITS!$D$4:$W$501,9,0))","v":""},null,null,null,null,null,{"$f":"IF($AD38=\"\",\"\",VLOOKUP($AD38,INSCRITS!$D$4:$W$501,6,0))","v":""},{"$f":"IF($AD38=\"\",\"\",VLOOKUP($AD38,INSCRITS!$D$4:$W$501,7,0))","v":""},{"$f":"IF($AD38=\"\",\"\",VLOOKUP($AD38,INSCRITS!$D$4:$W$501,9,0))","v":""}]
[null,null,null,{"$f":"IF($C39=\"\",\"\",VLOOKUP($C39,INSCRITS!$D$4:$W$501,6,0))","v":""},{"$f":"IF($C39=\"\",\"\",VLOOKUP($C39,INSCRITS!$D$4:$W$501,7,0))","v":""},{"$f":"IF($C39=\"\",\"\",VLOOKUP($C39,INSCRITS!$D$4:$W$501,9,0))","v":""},null,null,null,null,null,null,"SERIE 3",null,{"$f":"IF($N39=\"\",\"\",VLOOKUP($N39,INSCRITS!$D$4:$W$501,6,0))","v":""},{"$f":"IF($N39=\"\",\"\",VLOOKUP($N39,INSCRITS!$D$4:$W$501,7,0))","v":""},{"$f":"IF($N39=\"\",\"\",VLOOKUP($N39,INSCRITS!$D$4:$W$501,9,0))","v":""},null,null,null,null,null,null,null,null,null,null,null,null,null,{"$f":"IF($AD39=\"\",\"\",VLOOKUP($AD39,INSCRITS!$D$4:$W$501,6,0))","v":""},{"$f":"IF($AD39=\"\",\"\",VLOOKUP($AD39,INSCRITS!$D$4:$W$501,7,0))","v":""},{"$f":"IF($AD39=\"\",\"\",VLOOKUP($AD39,INSCRITS!$D$4:$W$501,9,0))","v":""}]
[null,null,null,{"$f":"IF($C40=\"\",\"\",VLOOKUP($C40,INSCRITS!$D$4:$W$501,6,0))","v":""},{"$f":"IF($C40=\"\",\"\",VLOOKUP($C40,INSCRITS!$D$4:$W$501,7,0))","v":""},{"$f":"IF($C40=\"\",\"\",VLOOKUP($C40,INSCRITS!$D$4:$W$501,9,0))","v":""},null,null,null,null,null,null,null,null,{"$f":"IF($N40=\"\",\"\",VLOOKUP($N40,INSCRITS!$D$4:$W$501,6,0))","v":""},{"$f":"IF($N40=\"\",\"\",VLOOKUP($N40,INSCRITS!$D$4:$W$501,7,0))","v":""},{"$f":"IF($N40=\"\",\"\",VLOOKUP($N40,INSCRITS!$D$4:$W$501,9,0))","v":""}]
[null,null,null,{"$f":"IF($C41=\"\",\"\",VLOOKUP($C41,INSCRITS!$D$4:$W$501,6,0))","v":""},{"$f":"IF($C41=\"\",\"\",VLOOKUP($C41,INSCRITS!$D$4:$W$501,7,0))","v":""},{"$f":"IF($C41=\"\",\"\",VLOOKUP($C41,INSCRITS!$D$4:$W$501,9,0))","v":""},null,null,null,null,null,null,null,null,{"$f":"IF($N41=\"\",\"\",VLOOKUP($N41,INSCRITS!$D$4:$W$501,6,0))","v":""},{"$f":"IF($N41=\"\",\"\",VLOOKUP($N41,INSCRITS!$D$4:$W$501,7,0))","v":""},{"$f":"IF($N41=\"\",\"\",VLOOKUP($N41,INSCRITS!$D$4:$W$501,9,0))","v":""}]
[null,null,null,{"$f":"IF($C42=\"\",\"\",VLOOKUP($C42,INSCRITS!$D$4:$W$501,6,0))","v":""},{"$f":"IF($C42=\"\",\"\",VLOOKUP($C42,INSCRITS!$D$4:$W$501,7,0))","v":""},{"$f":"IF($C42=\"\",\"\",VLOOKUP($C42,INSCRITS!$D$4:$W$501,9,0))","v":""},null,null,null,null,null,null,null,null,{"$f":"IF($N42=\"\",\"\",VLOOKUP($N42,INSCRITS!$D$4:$W$501,6,0))","v":""},{"$f":"IF($N42=\"\",\"\",VLOOKUP($N42,INSCRITS!$D$4:$W$501,7,0))","v":""},{"$f":"IF($N42=\"\",\"\",VLOOKUP($N42,INSCRITS!$D$4:$W$501,9,0))","v":""}]
[null,null,null,{"$f":"IF($C43=\"\",\"\",VLOOKUP($C43,INSCRITS!$D$4:$W$501,6,0))","v":""},{"$f":"IF($C43=\"\",\"\",VLOOKUP($C43,INSCRITS!$D$4:$W$501,7,0))","v":""},{"$f":"IF($C43=\"\",\"\",VLOOKUP($C43,INSCRITS!$D$4:$W$501,9,0))","v":""},null,null,null,null,null,null,null,null,{"$f":"IF($N43=\"\",\"\",VLOOKUP($N43,INSCRITS!$D$4:$W$501,6,0))","v":""},{"$f":"IF($N43=\"\",\"\",VLOOKUP($N43,INSCRITS!$D$4:$W$501,7,0))","v":""},{"$f":"IF($N43=\"\",\"\",VLOOKUP($N43,INSCRITS!$D$4:$W$501,9,0))","v":""}]
[null,null,null,{"$f":"IF($C44=\"\",\"\",VLOOKUP($C44,INSCRITS!$D$4:$W$501,6,0))","v":""},{"$f":"IF($C44=\"\",\"\",VLOOKUP($C44,INSCRITS!$D$4:$W$501,7,0))","v":""},{"$f":"IF($C44=\"\",\"\",VLOOKUP($C44,INSCRITS!$D$4:$W$501,9,0))","v":""},null,null,null,null,null,null,null,null,{"$f":"IF($N44=\"\",\"\",VLOOKUP($N44,INSCRITS!$D$4:$W$501,6,0))","v":""},{"$f":"IF($N44=\"\",\"\",VLOOKUP($N44,INSCRITS!$D$4:$W$501,7,0))","v":""},{"$f":"IF($N44=\"\",\"\",VLOOKUP($N44,INSCRITS!$D$4:$W$501,9,0))","v":""}]
[null,null,null,{"$f":"IF($C45=\"\",\"\",VLOOKUP($C45,INSCRITS!$D$4:$W$501,6,0))","v":""},{"$f":"IF($C45=\"\",\"\",VLOOKUP($C45,INSCRITS!$D$4:$W$501,7,0))","v":""},{"$f":"IF($C45=\"\",\"\",VLOOKUP($C45,INSCRITS!$D$4:$W$501,9,0))","v":""},null,null,null,null,null,null,null,null,{"$f":"IF($N45=\"\",\"\",VLOOKUP($N45,INSCRITS!$D$4:$W$501,6,0))","v":""},{"$f":"IF($N45=\"\",\"\",VLOOKUP($N45,INSCRITS!$D$4:$W$501,7,0))","v":""},{"$f":"IF($N45=\"\",\"\",VLOOKUP($N45,INSCRITS!$D$4:$W$501,9,0))","v":""}]
[null,"SERIE 4",null,{"$f":"IF($C46=\"\",\"\",VLOOKUP($C46,INSCRITS!$D$4:$W$501,6,0))","v":""},{"$f":"IF($C46=\"\",\"\",VLOOKUP($C46,INSCRITS!$D$4:$W$501,7,0))","v":""},{"$f":"IF($C46=\"\",\"\",VLOOKUP($C46,INSCRITS!$D$4:$W$501,9,0))","v":""},null,null,null,null,null,null,null,null,{"$f":"IF($N46=\"\",\"\",VLOOKUP($N46,INSCRITS!$D$4:$W$501,6,0))","v":""},{"$f":"IF($N46=\"\",\"\",VLOOKUP($N46,INSCRITS!$D$4:$W$501,7,0))","v":""},{"$f":"IF($N46=\"\",\"\",VLOOKUP($N46,INSCRITS!$D$4:$W$501,9,0))","v":""}]
[null,null,null,{"$f":"IF($C47=\"\",\"\",VLOOKUP($C47,INSCRITS!$D$4:$W$501,6,0))","v":""},{"$f":"IF($C47=\"\",\"\",VLOOKUP($C47,INSCRITS!$D$4:$W$501,7,0))","v":""},{"$f":"IF($C47=\"\",\"\",VLOOKUP($C47,INSCRITS!$D$4:$W$501,9,0))","v":""},null,null,null,null,null,null,null,null,{"$f":"IF($N47=\"\",\"\",VLOOKUP($N47,INSCRITS!$D$4:$W$501,6,0))","v":""},{"$f":"IF($N47=\"\",\"\",VLOOKUP($N47,INSCRITS!$D$4:$W$501,7,0))","v":""},{"$f":"IF($N47=\"\",\"\",VLOOKUP($N47,INSCRITS!$D$4:$W$501,9,0))","v":""}]
[null,null,null,{"$f":"IF($C48=\"\",\"\",VLOOKUP($C48,INSCRITS!$D$4:$W$501,6,0))","v":""},{"$f":"IF($C48=\"\",\"\",VLOOKUP($C48,INSCRITS!$D$4:$W$501,7,0))","v":""},{"$f":"IF($C48=\"\",\"\",VLOOKUP($C48,INSCRITS!$D$4:$W$501,9,0))","v":""},null,null,null,null,null,null,null,null,{"$f":"IF($N48=\"\",\"\",VLOOKUP($N48,INSCRITS!$D$4:$W$501,6,0))","v":""},{"$f":"IF($N48=\"\",\"\",VLOOKUP($N48,INSCRITS!$D$4:$W$501,7,0))","v":""},{"$f":"IF($N48=\"\",\"\",VLOOKUP($N48,INSCRITS!$D$4:$W$501,9,0))","v":""}]
[null,null,null,{"$f":"IF($C49=\"\",\"\",VLOOKUP($C49,INSCRITS!$D$4:$W$501,6,0))","v":""},{"$f":"IF($C49=\"\",\"\",VLOOKUP($C49,INSCRITS!$D$4:$W$501,7,0))","v":""},{"$f":"IF($C49=\"\",\"\",VLOOKUP($C49,INSCRITS!$D$4:$W$501,9,0))","v":""},null,null,null,null,null,null,null,null,{"$f":"IF($N49=\"\",\"\",VLOOKUP($N49,INSCRITS!$D$4:$W$501,6,0))","v":""},{"$f":"IF($N49=\"\",\"\",VLOOKUP($N49,INSCRITS!$D$4:$W$501,7,0))","v":""},{"$f":"IF($N49=\"\",\"\",VLOOKUP($N49,INSCRITS!$D$4:$W$501,9,0))","v":""}]
[null,null,null,{"$f":"IF($C50=\"\",\"\",VLOOKUP($C50,INSCRITS!$D$4:$W$501,6,0))","v":""},{"$f":"IF($C50=\"\",\"\",VLOOKUP($C50,INSCRITS!$D$4:$W$501,7,0))","v":""},{"$f":"IF($C50=\"\",\"\",VLOOKUP($C50,INSCRITS!$D$4:$W$501,9,0))","v":""},null,null,null,null,null,null,null,null,{"$f":"IF($N50=\"\",\"\",VLOOKUP($N50,INSCRITS!$D$4:$W$501,6,0))","v":""},{"$f":"IF($N50=\"\",\"\",VLOOKUP($N50,INSCRITS!$D$4:$W$501,7,0))","v":""},{"$f":"IF($N50=\"\",\"\",VLOOKUP($N50,INSCRITS!$D$4:$W$501,9,0))","v":""}]
[null,null,null,{"$f":"IF($C51=\"\",\"\",VLOOKUP($C51,INSCRITS!$D$4:$W$501,6,0))","v":""},{"$f":"IF($C51=\"\",\"\",VLOOKUP($C51,INSCRITS!$D$4:$W$501,7,0))","v":""},{"$f":"IF($C51=\"\",\"\",VLOOKUP($C51,INSCRITS!$D$4:$W$501,9,0))","v":""},null,null,null,null,null,null,null,null,{"$f":"IF($N51=\"\",\"\",VLOOKUP($N51,INSCRITS!$D$4:$W$501,6,0))","v":""},{"$f":"IF($N51=\"\",\"\",VLOOKUP($N51,INSCRITS!$D$4:$W$501,7,0))","v":""},{"$f":"IF($N51=\"\",\"\",VLOOKUP($N51,INSCRITS!$D$4:$W$501,9,0))","v":""}]
[null,null,null,{"$f":"IF($C52=\"\",\"\",VLOOKUP($C52,INSCRITS!$D$4:$W$501,6,0))","v":""},{"$f":"IF($C52=\"\",\"\",VLOOKUP($C52,INSCRITS!$D$4:$W$501,7,0))","v":""},{"$f":"IF($C52=\"\",\"\",VLOOKUP($C52,INSCRITS!$D$4:$W$501,9,0))","v":""},null,null,null,null,null,null,null,null,{"$f":"IF($N52=\"\",\"\",VLOOKUP($N52,INSCRITS!$D$4:$W$501,6,0))","v":""},{"$f":"IF($N52=\"\",\"\",VLOOKUP($N52,INSCRITS!$D$4:$W$501,7,0))","v":""},{"$f":"IF($N52=\"\",\"\",VLOOKUP($N52,INSCRITS!$D$4:$W$501,9,0))","v":""}]
[null,null,null,{"$f":"IF($C53=\"\",\"\",VLOOKUP($C53,INSCRITS!$D$4:$W$501,6,0))","v":""},{"$f":"IF($C53=\"\",\"\",VLOOKUP($C53,INSCRITS!$D$4:$W$501,7,0))","v":""},{"$f":"IF($C53=\"\",\"\",VLOOKUP($C53,INSCRITS!$D$4:$W$501,9,0))","v":""},null,null,null,null,null,null,null,null,{"$f":"IF($N53=\"\",\"\",VLOOKUP($N53,INSCRITS!$D$4:$W$501,6,0))","v":""},{"$f":"IF($N53=\"\",\"\",VLOOKUP($N53,INSCRITS!$D$4:$W$501,7,0))","v":""},{"$f":"IF($N53=\"\",\"\",VLOOKUP($N53,INSCRITS!$D$4:$W$501,9,0))","v":""}]
[null,null,null,{"$f":"IF($C54=\"\",\"\",VLOOKUP($C54,INSCRITS!$D$4:$W$501,6,0))","v":""},{"$f":"IF($C54=\"\",\"\",VLOOKUP($C54,INSCRITS!$D$4:$W$501,7,0))","v":""},{"$f":"IF($C54=\"\",\"\",VLOOKUP($C54,INSCRITS!$D$4:$W$501,9,0))","v":""},null,null,null,null,null,null,null,null,{"$f":"IF($N54=\"\",\"\",VLOOKUP($N54,INSCRITS!$D$4:$W$501,6,0))","v":""},{"$f":"IF($N54=\"\",\"\",VLOOKUP($N54,INSCRITS!$D$4:$W$501,7,0))","v":""},{"$f":"IF($N54=\"\",\"\",VLOOKUP($N54,INSCRITS!$D$4:$W$501,9,0))","v":""}]
[null,null,null,{"$f":"IF($C55=\"\",\"\",VLOOKUP($C55,INSCRITS!$D$4:$W$501,6,0))","v":""},{"$f":"IF($C55=\"\",\"\",VLOOKUP($C55,INSCRITS!$D$4:$W$501,7,0))","v":""},{"$f":"IF($C55=\"\",\"\",VLOOKUP($C55,INSCRITS!$D$4:$W$501,9,0))","v":""},null,null,null,null,null,null,"SERIE 4",null,{"$f":"IF($N55=\"\",\"\",VLOOKUP($N55,INSCRITS!$D$4:$W$501,6,0))","v":""},{"$f":"IF($N55=\"\",\"\",VLOOKUP($N55,INSCRITS!$D$4:$W$501,7,0))","v":""},{"$f":"IF($N55=\"\",\"\",VLOOKUP($N55,INSCRITS!$D$4:$W$501,9,0))","v":""}]
[null,null,null,{"$f":"IF($C56=\"\",\"\",VLOOKUP($C56,INSCRITS!$D$4:$W$501,6,0))","v":""},{"$f":"IF($C56=\"\",\"\",VLOOKUP($C56,INSCRITS!$D$4:$W$501,7,0))","v":""},{"$f":"IF($C56=\"\",\"\",VLOOKUP($C56,INSCRITS!$D$4:$W$501,9,0))","v":""},null,null,null,null,null,null,null,null,{"$f":"IF($N56=\"\",\"\",VLOOKUP($N56,INSCRITS!$D$4:$W$501,6,0))","v":""},{"$f":"IF($N56=\"\",\"\",VLOOKUP($N56,INSCRITS!$D$4:$W$501,7,0))","v":""},{"$f":"IF($N56=\"\",\"\",VLOOKUP($N56,INSCRITS!$D$4:$W$501,9,0))","v":""}]
[null,null,null,{"$f":"IF($C57=\"\",\"\",VLOOKUP($C57,INSCRITS!$D$4:$W$501,6,0))","v":""},{"$f":"IF($C57=\"\",\"\",VLOOKUP($C57,INSCRITS!$D$4:$W$501,7,0))","v":""},{"$f":"IF($C57=\"\",\"\",VLOOKUP($C57,INSCRITS!$D$4:$W$501,9,0))","v":""},null,null,null,null,null,null,null,null,{"$f":"IF($N57=\"\",\"\",VLOOKUP($N57,INSCRITS!$D$4:$W$501,6,0))","v":""},{"$f":"IF($N57=\"\",\"\",VLOOKUP($N57,INSCRITS!$D$4:$W$501,7,0))","v":""},{"$f":"IF($N57=\"\",\"\",VLOOKUP($N57,INSCRITS!$D$4:$W$501,9,0))","v":""}]
[null,null,null,{"$f":"IF($C58=\"\",\"\",VLOOKUP($C58,INSCRITS!$D$4:$W$501,6,0))","v":""},{"$f":"IF($C58=\"\",\"\",VLOOKUP($C58,INSCRITS!$D$4:$W$501,7,0))","v":""},{"$f":"IF($C58=\"\",\"\",VLOOKUP($C58,INSCRITS!$D$4:$W$501,9,0))","v":""},null,null,null,null,null,null,null,null,{"$f":"IF($N58=\"\",\"\",VLOOKUP($N58,INSCRITS!$D$4:$W$501,6,0))","v":""},{"$f":"IF($N58=\"\",\"\",VLOOKUP($N58,INSCRITS!$D$4:$W$501,7,0))","v":""},{"$f":"IF($N58=\"\",\"\",VLOOKUP($N58,INSCRITS!$D$4:$W$501,9,0))","v":""}]
[null,"SERIE 5",null,{"$f":"IF($C59=\"\",\"\",VLOOKUP($C59,INSCRITS!$D$4:$W$501,6,0))","v":""},{"$f":"IF($C59=\"\",\"\",VLOOKUP($C59,INSCRITS!$D$4:$W$501,7,0))","v":""},{"$f":"IF($C59=\"\",\"\",VLOOKUP($C59,INSCRITS!$D$4:$W$501,9,0))","v":""},null,null,null,null,null,null,null,null,{"$f":"IF($N59=\"\",\"\",VLOOKUP($N59,INSCRITS!$D$4:$W$501,6,0))","v":""},{"$f":"IF($N59=\"\",\"\",VLOOKUP($N59,INSCRITS!$D$4:$W$501,7,0))","v":""},{"$f":"IF($N59=\"\",\"\",VLOOKUP($N59,INSCRITS!$D$4:$W$501,9,0))","v":""}]
[null,null,null,{"$f":"IF($C60=\"\",\"\",VLOOKUP($C60,INSCRITS!$D$4:$W$501,6,0))","v":""},{"$f":"IF($C60=\"\",\"\",VLOOKUP($C60,INSCRITS!$D$4:$W$501,7,0))","v":""},{"$f":"IF($C60=\"\",\"\",VLOOKUP($C60,INSCRITS!$D$4:$W$501,9,0))","v":""},null,null,null,null,null,null,null,null,{"$f":"IF($N60=\"\",\"\",VLOOKUP($N60,INSCRITS!$D$4:$W$501,6,0))","v":""},{"$f":"IF($N60=\"\",\"\",VLOOKUP($N60,INSCRITS!$D$4:$W$501,7,0))","v":""},{"$f":"IF($N60=\"\",\"\",VLOOKUP($N60,INSCRITS!$D$4:$W$501,9,0))","v":""}]
[null,null,null,{"$f":"IF($C61=\"\",\"\",VLOOKUP($C61,INSCRITS!$D$4:$W$501,6,0))","v":""},{"$f":"IF($C61=\"\",\"\",VLOOKUP($C61,INSCRITS!$D$4:$W$501,7,0))","v":""},{"$f":"IF($C61=\"\",\"\",VLOOKUP($C61,INSCRITS!$D$4:$W$501,9,0))","v":""},null,null,null,null,null,null,null,null,{"$f":"IF($N61=\"\",\"\",VLOOKUP($N61,INSCRITS!$D$4:$W$501,6,0))","v":""},{"$f":"IF($N61=\"\",\"\",VLOOKUP($N61,INSCRITS!$D$4:$W$501,7,0))","v":""},{"$f":"IF($N61=\"\",\"\",VLOOKUP($N61,INSCRITS!$D$4:$W$501,9,0))","v":""}]
[null,null,null,{"$f":"IF($C62=\"\",\"\",VLOOKUP($C62,INSCRITS!$D$4:$W$501,6,0))","v":""},{"$f":"IF($C62=\"\",\"\",VLOOKUP($C62,INSCRITS!$D$4:$W$501,7,0))","v":""},{"$f":"IF($C62=\"\",\"\",VLOOKUP($C62,INSCRITS!$D$4:$W$501,9,0))","v":""},null,null,null,null,null,null,null,null,{"$f":"IF($N62=\"\",\"\",VLOOKUP($N62,INSCRITS!$D$4:$W$501,6,0))","v":""},{"$f":"IF($N62=\"\",\"\",VLOOKUP($N62,INSCRITS!$D$4:$W$501,7,0))","v":""},{"$f":"IF($N62=\"\",\"\",VLOOKUP($N62,INSCRITS!$D$4:$W$501,9,0))","v":""}]
[null,null,null,{"$f":"IF($C63=\"\",\"\",VLOOKUP($C63,INSCRITS!$D$4:$W$501,6,0))","v":""},{"$f":"IF($C63=\"\",\"\",VLOOKUP($C63,INSCRITS!$D$4:$W$501,7,0))","v":""},{"$f":"IF($C63=\"\",\"\",VLOOKUP($C63,INSCRITS!$D$4:$W$501,9,0))","v":""},null,null,null,null,null,null,null,null,{"$f":"IF($N63=\"\",\"\",VLOOKUP($N63,INSCRITS!$D$4:$W$501,6,0))","v":""},{"$f":"IF($N63=\"\",\"\",VLOOKUP($N63,INSCRITS!$D$4:$W$501,7,0))","v":""},{"$f":"IF($N63=\"\",\"\",VLOOKUP($N63,INSCRITS!$D$4:$W$501,9,0))","v":""}]
[null,null,null,{"$f":"IF($C64=\"\",\"\",VLOOKUP($C64,INSCRITS!$D$4:$W$501,6,0))","v":""},{"$f":"IF($C64=\"\",\"\",VLOOKUP($C64,INSCRITS!$D$4:$W$501,7,0))","v":""},{"$f":"IF($C64=\"\",\"\",VLOOKUP($C64,INSCRITS!$D$4:$W$501,9,0))","v":""},null,null,null,null,null,null,null,null,{"$f":"IF($N64=\"\",\"\",VLOOKUP($N64,INSCRITS!$D$4:$W$501,6,0))","v":""},{"$f":"IF($N64=\"\",\"\",VLOOKUP($N64,INSCRITS!$D$4:$W$501,7,0))","v":""},{"$f":"IF($N64=\"\",\"\",VLOOKUP($N64,INSCRITS!$D$4:$W$501,9,0))","v":""}]
[null,null,null,{"$f":"IF($C65=\"\",\"\",VLOOKUP($C65,INSCRITS!$D$4:$W$501,6,0))","v":""},{"$f":"IF($C65=\"\",\"\",VLOOKUP($C65,INSCRITS!$D$4:$W$501,7,0))","v":""},{"$f":"IF($C65=\"\",\"\",VLOOKUP($C65,INSCRITS!$D$4:$W$501,9,0))","v":""},null,null,null,null,null,null,null,null,{"$f":"IF($N65=\"\",\"\",VLOOKUP($N65,INSCRITS!$D$4:$W$501,6,0))","v":""},{"$f":"IF($N65=\"\",\"\",VLOOKUP($N65,INSCRITS!$D$4:$W$501,7,0))","v":""},{"$f":"IF($N65=\"\",\"\",VLOOKUP($N65,INSCRITS!$D$4:$W$501,9,0))","v":""}]
[null,null,null,{"$f":"IF($C66=\"\",\"\",VLOOKUP($C66,INSCRITS!$D$4:$W$501,6,0))","v":""},{"$f":"IF($C66=\"\",\"\",VLOOKUP($C66,INSCRITS!$D$4:$W$501,7,0))","v":""},{"$f":"IF($C66=\"\",\"\",VLOOKUP($C66,INSCRITS!$D$4:$W$501,9,0))","v":""},null,null,null,null,null,null,null,null,{"$f":"IF($N66=\"\",\"\",VLOOKUP($N66,INSCRITS!$D$4:$W$501,6,0))","v":""},{"$f":"IF($N66=\"\",\"\",VLOOKUP($N66,INSCRITS!$D$4:$W$501,7,0))","v":""},{"$f":"IF($N66=\"\",\"\",VLOOKUP($N66,INSCRITS!$D$4:$W$501,9,0))","v":""}]
[null,null,null,{"$f":"IF($C67=\"\",\"\",VLOOKUP($C67,INSCRITS!$D$4:$W$501,6,0))","v":""},{"$f":"IF($C67=\"\",\"\",VLOOKUP($C67,INSCRITS!$D$4:$W$501,7,0))","v":""},{"$f":"IF($C67=\"\",\"\",VLOOKUP($C67,INSCRITS!$D$4:$W$501,9,0))","v":""},null,null,null,null,null,null,null,null,{"$f":"IF($N67=\"\",\"\",VLOOKUP($N67,INSCRITS!$D$4:$W$501,6,0))","v":""},{"$f":"IF($N67=\"\",\"\",VLOOKUP($N67,INSCRITS!$D$4:$W$501,7,0))","v":""},{"$f":"IF($N67=\"\",\"\",VLOOKUP($N67,INSCRITS!$D$4:$W$501,9,0))","v":""}]
[null,null,null,{"$f":"IF($C68=\"\",\"\",VLOOKUP($C68,INSCRITS!$D$4:$W$501,6,0))","v":""},{"$f":"IF($C68=\"\",\"\",VLOOKUP($C68,INSCRITS!$D$4:$W$501,7,0))","v":""},{"$f":"IF($C68=\"\",\"\",VLOOKUP($C68,INSCRITS!$D$4:$W$501,9,0))","v":""},null,null,null,null,null,null,null,null,{"$f":"IF($N68=\"\",\"\",VLOOKUP($N68,INSCRITS!$D$4:$W$501,6,0))","v":""},{"$f":"IF($N68=\"\",\"\",VLOOKUP($N68,INSCRITS!$D$4:$W$501,7,0))","v":""},{"$f":"IF($N68=\"\",\"\",VLOOKUP($N68,INSCRITS!$D$4:$W$501,9,0))","v":""}]
[null,null,null,{"$f":"IF($C69=\"\",\"\",VLOOKUP($C69,INSCRITS!$D$4:$W$501,6,0))","v":""},{"$f":"IF($C69=\"\",\"\",VLOOKUP($C69,INSCRITS!$D$4:$W$501,7,0))","v":""},{"$f":"IF($C69=\"\",\"\",VLOOKUP($C69,INSCRITS!$D$4:$W$501,9,0))","v":""},null,null,null,null,null,null,null,null,{"$f":"IF($N69=\"\",\"\",VLOOKUP($N69,INSCRITS!$D$4:$W$501,6,0))","v":""},{"$f":"IF($N69=\"\",\"\",VLOOKUP($N69,INSCRITS!$D$4:$W$501,7,0))","v":""},{"$f":"IF($N69=\"\",\"\",VLOOKUP($N69,INSCRITS!$D$4:$W$501,9,0))","v":""}]
[null,null,null,{"$f":"IF($C70=\"\",\"\",VLOOKUP($C70,INSCRITS!$D$4:$W$501,6,0))","v":""},{"$f":"IF($C70=\"\",\"\",VLOOKUP($C70,INSCRITS!$D$4:$W$501,7,0))","v":""},{"$f":"IF($C70=\"\",\"\",VLOOKUP($C70,INSCRITS!$D$4:$W$501,9,0))","v":""},null,null,null,null,null,null,null,null,{"$f":"IF($N70=\"\",\"\",VLOOKUP($N70,INSCRITS!$D$4:$W$501,6,0))","v":""},{"$f":"IF($N70=\"\",\"\",VLOOKUP($N70,INSCRITS!$D$4:$W$501,7,0))","v":""},{"$f":"IF($N70=\"\",\"\",VLOOKUP($N70,INSCRITS!$D$4:$W$501,9,0))","v":""}]
[null,null,null,{"$f":"IF($C71=\"\",\"\",VLOOKUP($C71,INSCRITS!$D$4:$W$501,6,0))","v":""},{"$f":"IF($C71=\"\",\"\",VLOOKUP($C71,INSCRITS!$D$4:$W$501,7,0))","v":""},{"$f":"IF($C71=\"\",\"\",VLOOKUP($C71,INSCRITS!$D$4:$W$501,9,0))","v":""}]
[null,"SERIE 6",null,{"$f":"IF($C72=\"\",\"\",VLOOKUP($C72,INSCRITS!$D$4:$W$501,6,0))","v":""},{"$f":"IF($C72=\"\",\"\",VLOOKUP($C72,INSCRITS!$D$4:$W$501,7,0))","v":""},{"$f":"IF($C72=\"\",\"\",VLOOKUP($C72,INSCRITS!$D$4:$W$501,9,0))","v":""}]
[null,null,null,{"$f":"IF($C73=\"\",\"\",VLOOKUP($C73,INSCRITS!$D$4:$W$501,6,0))","v":""},{"$f":"IF($C73=\"\",\"\",VLOOKUP($C73,INSCRITS!$D$4:$W$501,7,0))","v":""},{"$f":"IF($C73=\"\",\"\",VLOOKUP($C73,INSCRITS!$D$4:$W$501,9,0))","v":""}]
[null,null,null,{"$f":"IF($C74=\"\",\"\",VLOOKUP($C74,INSCRITS!$D$4:$W$501,6,0))","v":""},{"$f":"IF($C74=\"\",\"\",VLOOKUP($C74,INSCRITS!$D$4:$W$501,7,0))","v":""},{"$f":"IF($C74=\"\",\"\",VLOOKUP($C74,INSCRITS!$D$4:$W$501,9,0))","v":""}]
[null,null,null,{"$f":"IF($C75=\"\",\"\",VLOOKUP($C75,INSCRITS!$D$4:$W$501,6,0))","v":""},{"$f":"IF($C75=\"\",\"\",VLOOKUP($C75,INSCRITS!$D$4:$W$501,7,0))","v":""},{"$f":"IF($C75=\"\",\"\",VLOOKUP($C75,INSCRITS!$D$4:$W$501,9,0))","v":""}]
[null,null,null,{"$f":"IF($C76=\"\",\"\",VLOOKUP($C76,INSCRITS!$D$4:$W$501,6,0))","v":""},{"$f":"IF($C76=\"\",\"\",VLOOKUP($C76,INSCRITS!$D$4:$W$501,7,0))","v":""},{"$f":"IF($C76=\"\",\"\",VLOOKUP($C76,INSCRITS!$D$4:$W$501,9,0))","v":""}]
[null,null,null,{"$f":"IF($C77=\"\",\"\",VLOOKUP($C77,INSCRITS!$D$4:$W$501,6,0))","v":""},{"$f":"IF($C77=\"\",\"\",VLOOKUP($C77,INSCRITS!$D$4:$W$501,7,0))","v":""},{"$f":"IF($C77=\"\",\"\",VLOOKUP($C77,INSCRITS!$D$4:$W$501,9,0))","v":""}]
[null,null,null,{"$f":"IF($C78=\"\",\"\",VLOOKUP($C78,INSCRITS!$D$4:$W$501,6,0))","v":""},{"$f":"IF($C78=\"\",\"\",VLOOKUP($C78,INSCRITS!$D$4:$W$501,7,0))","v":""},{"$f":"IF($C78=\"\",\"\",VLOOKUP($C78,INSCRITS!$D$4:$W$501,9,0))","v":""}]
[null,null,null,{"$f":"IF($C79=\"\",\"\",VLOOKUP($C79,INSCRITS!$D$4:$W$501,6,0))","v":""},{"$f":"IF($C79=\"\",\"\",VLOOKUP($C79,INSCRITS!$D$4:$W$501,7,0))","v":""},{"$f":"IF($C79=\"\",\"\",VLOOKUP($C79,INSCRITS!$D$4:$W$501,9,0))","v":""}]
[null,null,null,{"$f":"IF($C80=\"\",\"\",VLOOKUP($C80,INSCRITS!$D$4:$W$501,6,0))","v":""},{"$f":"IF($C80=\"\",\"\",VLOOKUP($C80,INSCRITS!$D$4:$W$501,7,0))","v":""},{"$f":"IF($C80=\"\",\"\",VLOOKUP($C80,INSCRITS!$D$4:$W$501,9,0))","v":""}]
[null,null,null,{"$f":"IF($C81=\"\",\"\",VLOOKUP($C81,INSCRITS!$D$4:$W$501,6,0))","v":""},{"$f":"IF($C81=\"\",\"\",VLOOKUP($C81,INSCRITS!$D$4:$W$501,7,0))","v":""},{"$f":"IF($C81=\"\",\"\",VLOOKUP($C81,INSCRITS!$D$4:$W$501,9,0))","v":""}]
[null,null,null,{"$f":"IF($C82=\"\",\"\",VLOOKUP($C82,INSCRITS!$D$4:$W$501,6,0))","v":""},{"$f":"IF($C82=\"\",\"\",VLOOKUP($C82,INSCRITS!$D$4:$W$501,7,0))","v":""},{"$f":"IF($C82=\"\",\"\",VLOOKUP($C82,INSCRITS!$D$4:$W$501,9,0))","v":""}]
[null,null,null,{"$f":"IF($C83=\"\",\"\",VLOOKUP($C83,INSCRITS!$D$4:$W$501,6,0))","v":""},{"$f":"IF($C83=\"\",\"\",VLOOKUP($C83,INSCRITS!$D$4:$W$501,7,0))","v":""},{"$f":"IF($C83=\"\",\"\",VLOOKUP($C83,INSCRITS!$D$4:$W$501,9,0))","v":""}]
[null,null,null,{"$f":"IF($C84=\"\",\"\",VLOOKUP($C84,INSCRITS!$D$4:$W$501,6,0))","v":""},{"$f":"IF($C84=\"\",\"\",VLOOKUP($C84,INSCRITS!$D$4:$W$501,7,0))","v":""},{"$f":"IF($C84=\"\",\"\",VLOOKUP($C84,INSCRITS!$D$4:$W$501,9,0))","v":""}]
[null,"SERIE 7",null,{"$f":"IF($C85=\"\",\"\",VLOOKUP($C85,INSCRITS!$D$4:$W$501,6,0))","v":""},{"$f":"IF($C85=\"\",\"\",VLOOKUP($C85,INSCRITS!$D$4:$W$501,7,0))","v":""},{"$f":"IF($C85=\"\",\"\",VLOOKUP($C85,INSCRITS!$D$4:$W$501,9,0))","v":""}]
[null,null,null,{"$f":"IF($C86=\"\",\"\",VLOOKUP($C86,INSCRITS!$D$4:$W$501,6,0))","v":""},{"$f":"IF($C86=\"\",\"\",VLOOKUP($C86,INSCRITS!$D$4:$W$501,7,0))","v":""},{"$f":"IF($C86=\"\",\"\",VLOOKUP($C86,INSCRITS!$D$4:$W$501,9,0))","v":""}]
[null,null,null,{"$f":"IF($C87=\"\",\"\",VLOOKUP($C87,INSCRITS!$D$4:$W$501,6,0))","v":""},{"$f":"IF($C87=\"\",\"\",VLOOKUP($C87,INSCRITS!$D$4:$W$501,7,0))","v":""},{"$f":"IF($C87=\"\",\"\",VLOOKUP($C87,INSCRITS!$D$4:$W$501,9,0))","v":""}]
[null,null,null,{"$f":"IF($C88=\"\",\"\",VLOOKUP($C88,INSCRITS!$D$4:$W$501,6,0))","v":""},{"$f":"IF($C88=\"\",\"\",VLOOKUP($C88,INSCRITS!$D$4:$W$501,7,0))","v":""},{"$f":"IF($C88=\"\",\"\",VLOOKUP($C88,INSCRITS!$D$4:$W$501,9,0))","v":""}]
[null,null,null,{"$f":"IF($C89=\"\",\"\",VLOOKUP($C89,INSCRITS!$D$4:$W$501,6,0))","v":""},{"$f":"IF($C89=\"\",\"\",VLOOKUP($C89,INSCRITS!$D$4:$W$501,7,0))","v":""},{"$f":"IF($C89=\"\",\"\",VLOOKUP($C89,INSCRITS!$D$4:$W$501,9,0))","v":""}]
[null,null,null,{"$f":"IF($C90=\"\",\"\",VLOOKUP($C90,INSCRITS!$D$4:$W$501,6,0))","v":""},{"$f":"IF($C90=\"\",\"\",VLOOKUP($C90,INSCRITS!$D$4:$W$501,7,0))","v":""},{"$f":"IF($C90=\"\",\"\",VLOOKUP($C90,INSCRITS!$D$4:$W$501,9,0))","v":""}]
[null,null,null,{"$f":"IF($C91=\"\",\"\",VLOOKUP($C91,INSCRITS!$D$4:$W$501,6,0))","v":""},{"$f":"IF($C91=\"\",\"\",VLOOKUP($C91,INSCRITS!$D$4:$W$501,7,0))","v":""},{"$f":"IF($C91=\"\",\"\",VLOOKUP($C91,INSCRITS!$D$4:$W$501,9,0))","v":""}]
[null,null,null,{"$f":"IF($C92=\"\",\"\",VLOOKUP($C92,INSCRITS!$D$4:$W$501,6,0))","v":""},{"$f":"IF($C92=\"\",\"\",VLOOKUP($C92,INSCRITS!$D$4:$W$501,7,0))","v":""},{"$f":"IF($C92=\"\",\"\",VLOOKUP($C92,INSCRITS!$D$4:$W$501,9,0))","v":""}]
[null,null,null,{"$f":"IF($C93=\"\",\"\",VLOOKUP($C93,INSCRITS!$D$4:$W$501,6,0))","v":""},{"$f":"IF($C93=\"\",\"\",VLOOKUP($C93,INSCRITS!$D$4:$W$501,7,0))","v":""},{"$f":"IF($C93=\"\",\"\",VLOOKUP($C93,INSCRITS!$D$4:$W$501,9,0))","v":""}]
[null,null,null,{"$f":"IF($C94=\"\",\"\",VLOOKUP($C94,INSCRITS!$D$4:$W$501,6,0))","v":""},{"$f":"IF($C94=\"\",\"\",VLOOKUP($C94,INSCRITS!$D$4:$W$501,7,0))","v":""},{"$f":"IF($C94=\"\",\"\",VLOOKUP($C94,INSCRITS!$D$4:$W$501,9,0))","v":""}]
[null,null,null,{"$f":"IF($C95=\"\",\"\",VLOOKUP($C95,INSCRITS!$D$4:$W$501,6,0))","v":""},{"$f":"IF($C95=\"\",\"\",VLOOKUP($C95,INSCRITS!$D$4:$W$501,7,0))","v":""},{"$f":"IF($C95=\"\",\"\",VLOOKUP($C95,INSCRITS!$D$4:$W$501,9,0))","v":""}]
[null,null,null,{"$f":"IF($C96=\"\",\"\",VLOOKUP($C96,INSCRITS!$D$4:$W$501,6,0))","v":""},{"$f":"IF($C96=\"\",\"\",VLOOKUP($C96,INSCRITS!$D$4:$W$501,7,0))","v":""},{"$f":"IF($C96=\"\",\"\",VLOOKUP($C96,INSCRITS!$D$4:$W$501,9,0))","v":""}]
[null,null,null,{"$f":"IF($C97=\"\",\"\",VLOOKUP($C97,INSCRITS!$D$4:$W$501,6,0))","v":""},{"$f":"IF($C97=\"\",\"\",VLOOKUP($C97,INSCRITS!$D$4:$W$501,7,0))","v":""},{"$f":"IF($C97=\"\",\"\",VLOOKUP($C97,INSCRITS!$D$4:$W$501,9,0))","v":""}]
[null,null,null,{"$f":"IF($C98=\"\",\"\",VLOOKUP($C98,INSCRITS!$D$4:$W$501,6,0))","v":""},{"$f":"IF($C98=\"\",\"\",VLOOKUP($C98,INSCRITS!$D$4:$W$501,7,0))","v":""},{"$f":"IF($C98=\"\",\"\",VLOOKUP($C98,INSCRITS!$D$4:$W$501,9,0))","v":""}]
[null,"SERIE 8",null,{"$f":"IF($C99=\"\",\"\",VLOOKUP($C99,INSCRITS!$D$4:$W$501,6,0))","v":""},{"$f":"IF($C99=\"\",\"\",VLOOKUP($C99,INSCRITS!$D$4:$W$501,7,0))","v":""},{"$f":"IF($C99=\"\",\"\",VLOOKUP($C99,INSCRITS!$D$4:$W$501,9,0))","v":""}]
[null,null,null,{"$f":"IF($C100=\"\",\"\",VLOOKUP($C100,INSCRITS!$D$4:$W$501,6,0))","v":""},{"$f":"IF($C100=\"\",\"\",VLOOKUP($C100,INSCRITS!$D$4:$W$501,7,0))","v":""},{"$f":"IF($C100=\"\",\"\",VLOOKUP($C100,INSCRITS!$D$4:$W$501,9,0))","v":""}]
[null,null,null,{"$f":"IF($C101=\"\",\"\",VLOOKUP($C101,INSCRITS!$D$4:$W$501,6,0))","v":""},{"$f":"IF($C101=\"\",\"\",VLOOKUP($C101,INSCRITS!$D$4:$W$501,7,0))","v":""},{"$f":"IF($C101=\"\",\"\",VLOOKUP($C101,INSCRITS!$D$4:$W$501,9,0))","v":""}]
[null,null,null,{"$f":"IF($C102=\"\",\"\",VLOOKUP($C102,INSCRITS!$D$4:$W$501,6,0))","v":""},{"$f":"IF($C102=\"\",\"\",VLOOKUP($C102,INSCRITS!$D$4:$W$501,7,0))","v":""},{"$f":"IF($C102=\"\",\"\",VLOOKUP($C102,INSCRITS!$D$4:$W$501,9,0))","v":""}]
[null,null,null,{"$f":"IF($C103=\"\",\"\",VLOOKUP($C103,INSCRITS!$D$4:$W$501,6,0))","v":""},{"$f":"IF($C103=\"\",\"\",VLOOKUP($C103,INSCRITS!$D$4:$W$501,7,0))","v":""},{"$f":"IF($C103=\"\",\"\",VLOOKUP($C103,INSCRITS!$D$4:$W$501,9,0))","v":""}]
[null,null,null,{"$f":"IF($C104=\"\",\"\",VLOOKUP($C104,INSCRITS!$D$4:$W$501,6,0))","v":""},{"$f":"IF($C104=\"\",\"\",VLOOKUP($C104,INSCRITS!$D$4:$W$501,7,0))","v":""},{"$f":"IF($C104=\"\",\"\",VLOOKUP($C104,INSCRITS!$D$4:$W$501,9,0))","v":""}]
[null,null,null,{"$f":"IF($C105=\"\",\"\",VLOOKUP($C105,INSCRITS!$D$4:$W$501,6,0))","v":""},{"$f":"IF($C105=\"\",\"\",VLOOKUP($C105,INSCRITS!$D$4:$W$501,7,0))","v":""},{"$f":"IF($C105=\"\",\"\",VLOOKUP($C105,INSCRITS!$D$4:$W$501,9,0))","v":""}]
[null,null,null,{"$f":"IF($C106=\"\",\"\",VLOOKUP($C106,INSCRITS!$D$4:$W$501,6,0))","v":""},{"$f":"IF($C106=\"\",\"\",VLOOKUP($C106,INSCRITS!$D$4:$W$501,7,0))","v":""},{"$f":"IF($C106=\"\",\"\",VLOOKUP($C106,INSCRITS!$D$4:$W$501,9,0))","v":""}]
[null,null,null,{"$f":"IF($C107=\"\",\"\",VLOOKUP($C107,INSCRITS!$D$4:$W$501,6,0))","v":""},{"$f":"IF($C107=\"\",\"\",VLOOKUP($C107,INSCRITS!$D$4:$W$501,7,0))","v":""},{"$f":"IF($C107=\"\",\"\",VLOOKUP($C107,INSCRITS!$D$4:$W$501,9,0))","v":""}]
[null,null,null,{"$f":"IF($C108=\"\",\"\",VLOOKUP($C108,INSCRITS!$D$4:$W$501,6,0))","v":""},{"$f":"IF($C108=\"\",\"\",VLOOKUP($C108,INSCRITS!$D$4:$W$501,7,0))","v":""},{"$f":"IF($C108=\"\",\"\",VLOOKUP($C108,INSCRITS!$D$4:$W$501,9,0))","v":""}]
[null,null,null,{"$f":"IF($C109=\"\",\"\",VLOOKUP($C109,INSCRITS!$D$4:$W$501,6,0))","v":""},{"$f":"IF($C109=\"\",\"\",VLOOKUP($C109,INSCRITS!$D$4:$W$501,7,0))","v":""},{"$f":"IF($C109=\"\",\"\",VLOOKUP($C109,INSCRITS!$D$4:$W$501,9,0))","v":""}]
[null,null,null,{"$f":"IF($C110=\"\",\"\",VLOOKUP($C110,INSCRITS!$D$4:$W$501,6,0))","v":""},{"$f":"IF($C110=\"\",\"\",VLOOKUP($C110,INSCRITS!$D$4:$W$501,7,0))","v":""},{"$f":"IF($C110=\"\",\"\",VLOOKUP($C110,INSCRITS!$D$4:$W$501,9,0))","v":""}]
[null,null,null,{"$f":"IF($C111=\"\",\"\",VLOOKUP($C111,INSCRITS!$D$4:$W$501,6,0))","v":""},{"$f":"IF($C111=\"\",\"\",VLOOKUP($C111,INSCRITS!$D$4:$W$501,7,0))","v":""},{"$f":"IF($C111=\"\",\"\",VLOOKUP($C111,INSCRITS!$D$4:$W$501,9,0))","v":""}]
[null,null,null,{"$f":"IF($C112=\"\",\"\",VLOOKUP($C112,INSCRITS!$D$4:$W$501,6,0))","v":""},{"$f":"IF($C112=\"\",\"\",VLOOKUP($C112,INSCRITS!$D$4:$W$501,7,0))","v":""},{"$f":"IF($C112=\"\",\"\",VLOOKUP($C112,INSCRITS!$D$4:$W$501,9,0))","v":""}]
[null,null,null,{"$f":"IF($C113=\"\",\"\",VLOOKUP($C113,INSCRITS!$D$4:$W$501,6,0))","v":""},{"$f":"IF($C113=\"\",\"\",VLOOKUP($C113,INSCRITS!$D$4:$W$501,7,0))","v":""},{"$f":"IF($C113=\"\",\"\",VLOOKUP($C113,INSCRITS!$D$4:$W$501,9,0))","v":""}]
[null,null,null,{"$f":"IF($C114=\"\",\"\",VLOOKUP($C114,INSCRITS!$D$4:$W$501,6,0))","v":""},{"$f":"IF($C114=\"\",\"\",VLOOKUP($C114,INSCRITS!$D$4:$W$501,7,0))","v":""},{"$f":"IF($C114=\"\",\"\",VLOOKUP($C114,INSCRITS!$D$4:$W$501,9,0))","v":""}]
[null,null,null,{"$f":"IF($C115=\"\",\"\",VLOOKUP($C115,INSCRITS!$D$4:$W$501,6,0))","v":""},{"$f":"IF($C115=\"\",\"\",VLOOKUP($C115,INSCRITS!$D$4:$W$501,7,0))","v":""},{"$f":"IF($C115=\"\",\"\",VLOOKUP($C115,INSCRITS!$D$4:$W$501,9,0))","v":""}]
[null,null,null,{"$f":"IF($C116=\"\",\"\",VLOOKUP($C116,INSCRITS!$D$4:$W$501,6,0))","v":""},{"$f":"IF($C116=\"\",\"\",VLOOKUP($C116,INSCRITS!$D$4:$W$501,7,0))","v":""},{"$f":"IF($C116=\"\",\"\",VLOOKUP($C116,INSCRITS!$D$4:$W$501,9,0))","v":""}]
[null,null,null,{"$f":"IF($C117=\"\",\"\",VLOOKUP($C117,INSCRITS!$D$4:$W$501,6,0))","v":""},{"$f":"IF($C117=\"\",\"\",VLOOKUP($C117,INSCRITS!$D$4:$W$501,7,0))","v":""},{"$f":"IF($C117=\"\",\"\",VLOOKUP($C117,INSCRITS!$D$4:$W$501,9,0))","v":""}]
[null,null,null,{"$f":"IF($C118=\"\",\"\",VLOOKUP($C118,INSCRITS!$D$4:$W$501,6,0))","v":""},{"$f":"IF($C118=\"\",\"\",VLOOKUP($C118,INSCRITS!$D$4:$W$501,7,0))","v":""},{"$f":"IF($C118=\"\",\"\",VLOOKUP($C118,INSCRITS!$D$4:$W$501,9,0))","v":""}]
[null,"SERIE 8",null,{"$f":"IF($C119=\"\",\"\",VLOOKUP($C119,INSCRITS!$D$4:$W$501,6,0))","v":""},{"$f":"IF($C119=\"\",\"\",VLOOKUP($C119,INSCRITS!$D$4:$W$501,7,0))","v":""},{"$f":"IF($C119=\"\",\"\",VLOOKUP($C119,INSCRITS!$D$4:$W$501,9,0))","v":""}]
[null,null,null,{"$f":"IF($C120=\"\",\"\",VLOOKUP($C120,INSCRITS!$D$4:$W$501,6,0))","v":""},{"$f":"IF($C120=\"\",\"\",VLOOKUP($C120,INSCRITS!$D$4:$W$501,7,0))","v":""},{"$f":"IF($C120=\"\",\"\",VLOOKUP($C120,INSCRITS!$D$4:$W$501,9,0))","v":""}]
[null,null,null,{"$f":"IF($C121=\"\",\"\",VLOOKUP($C121,INSCRITS!$D$4:$W$501,6,0))","v":""},{"$f":"IF($C121=\"\",\"\",VLOOKUP($C121,INSCRITS!$D$4:$W$501,7,0))","v":""},{"$f":"IF($C121=\"\",\"\",VLOOKUP($C121,INSCRITS!$D$4:$W$501,9,0))","v":""}]
[null,null,null,{"$f":"IF($C122=\"\",\"\",VLOOKUP($C122,INSCRITS!$D$4:$W$501,6,0))","v":""},{"$f":"IF($C122=\"\",\"\",VLOOKUP($C122,INSCRITS!$D$4:$W$501,7,0))","v":""},{"$f":"IF($C122=\"\",\"\",VLOOKUP($C122,INSCRITS!$D$4:$W$501,9,0))","v":""}]
[null,null,null,{"$f":"IF($C123=\"\",\"\",VLOOKUP($C123,INSCRITS!$D$4:$W$501,6,0))","v":""},{"$f":"IF($C123=\"\",\"\",VLOOKUP($C123,INSCRITS!$D$4:$W$501,7,0))","v":""},{"$f":"IF($C123=\"\",\"\",VLOOKUP($C123,INSCRITS!$D$4:$W$501,9,0))","v":""}]
[null,null,null,{"$f":"IF($C124=\"\",\"\",VLOOKUP($C124,INSCRITS!$D$4:$W$501,6,0))","v":""},{"$f":"IF($C124=\"\",\"\",VLOOKUP($C124,INSCRITS!$D$4:$W$501,7,0))","v":""},{"$f":"IF($C124=\"\",\"\",VLOOKUP($C124,INSCRITS!$D$4:$W$501,9,0))","v":""}]
[null,null,null,{"$f":"IF($C125=\"\",\"\",VLOOKUP($C125,INSCRITS!$D$4:$W$501,6,0))","v":""},{"$f":"IF($C125=\"\",\"\",VLOOKUP($C125,INSCRITS!$D$4:$W$501,7,0))","v":""},{"$f":"IF($C125=\"\",\"\",VLOOKUP($C125,INSCRITS!$D$4:$W$501,9,0))","v":""}]
[null,null,null,{"$f":"IF($C126=\"\",\"\",VLOOKUP($C126,INSCRITS!$D$4:$W$501,6,0))","v":""},{"$f":"IF($C126=\"\",\"\",VLOOKUP($C126,INSCRITS!$D$4:$W$501,7,0))","v":""},{"$f":"IF($C126=\"\",\"\",VLOOKUP($C126,INSCRITS!$D$4:$W$501,9,0))","v":""}]
[null,null,null,{"$f":"IF($C127=\"\",\"\",VLOOKUP($C127,INSCRITS!$D$4:$W$501,6,0))","v":""},{"$f":"IF($C127=\"\",\"\",VLOOKUP($C127,INSCRITS!$D$4:$W$501,7,0))","v":""},{"$f":"IF($C127=\"\",\"\",VLOOKUP($C127,INSCRITS!$D$4:$W$501,9,0))","v":""}]
[null,null,null,{"$f":"IF($C128=\"\",\"\",VLOOKUP($C128,INSCRITS!$D$4:$W$501,6,0))","v":""},{"$f":"IF($C128=\"\",\"\",VLOOKUP($C128,INSCRITS!$D$4:$W$501,7,0))","v":""},{"$f":"IF($C128=\"\",\"\",VLOOKUP($C128,INSCRITS!$D$4:$W$501,9,0))","v":""}]
[null,null,null,{"$f":"IF($C129=\"\",\"\",VLOOKUP($C129,INSCRITS!$D$4:$W$501,6,0))","v":""},{"$f":"IF($C129=\"\",\"\",VLOOKUP($C129,INSCRITS!$D$4:$W$501,7,0))","v":""},{"$f":"IF($C129=\"\",\"\",VLOOKUP($C129,INSCRITS!$D$4:$W$501,9,0))","v":""}]
[null,null,null,{"$f":"IF($C130=\"\",\"\",VLOOKUP($C130,INSCRITS!$D$4:$W$501,6,0))","v":""},{"$f":"IF($C130=\"\",\"\",VLOOKUP($C130,INSCRITS!$D$4:$W$501,7,0))","v":""},{"$f":"IF($C130=\"\",\"\",VLOOKUP($C130,INSCRITS!$D$4:$W$501,9,0))","v":""}]
[null,null,null,{"$f":"IF($C131=\"\",\"\",VLOOKUP($C131,INSCRITS!$D$4:$W$501,6,0))","v":""},{"$f":"IF($C131=\"\",\"\",VLOOKUP($C131,INSCRITS!$D$4:$W$501,7,0))","v":""},{"$f":"IF($C131=\"\",\"\",VLOOKUP($C131,INSCRITS!$D$4:$W$501,9,0))","v":""}]
[null,null,null,{"$f":"IF($C132=\"\",\"\",VLOOKUP($C132,INSCRITS!$D$4:$W$501,6,0))","v":""},{"$f":"IF($C132=\"\",\"\",VLOOKUP($C132,INSCRITS!$D$4:$W$501,7,0))","v":""},{"$f":"IF($C132=\"\",\"\",VLOOKUP($C132,INSCRITS!$D$4:$W$501,9,0))","v":""}]
[null,null,null,{"$f":"IF($C133=\"\",\"\",VLOOKUP($C133,INSCRITS!$D$4:$W$501,6,0))","v":""},{"$f":"IF($C133=\"\",\"\",VLOOKUP($C133,INSCRITS!$D$4:$W$501,7,0))","v":""},{"$f":"IF($C133=\"\",\"\",VLOOKUP($C133,INSCRITS!$D$4:$W$501,9,0))","v":""}]
[null,null,null,{"$f":"IF($C134=\"\",\"\",VLOOKUP($C134,INSCRITS!$D$4:$W$501,6,0))","v":""},{"$f":"IF($C134=\"\",\"\",VLOOKUP($C134,INSCRITS!$D$4:$W$501,7,0))","v":""},{"$f":"IF($C134=\"\",\"\",VLOOKUP($C134,INSCRITS!$D$4:$W$501,9,0))","v":""}]

{"sheet":"CNC","index":8,"n_rows":109,"n_cols":20,"rows_kept":109,"cut":false,"hidden":false,"merged":[[36,1,65,1],[66,1,85,1],[6,1,35,1],[6,12,21,12]]}
[]
[]
[null,"Séries CNC",null,null,null,null,null,null,null,null,null,null,null,"FINALE CNC"]
[null,"Messieurs",null,null,null,null,null,null,null,null,null,null,"Junior","Messieurs"]
[null,null,null,null,null,null,null,null,null,null,null,null,null,null,null,null,null,null,"PLACE","Pts"]
[]
[null,"SERIE 1",182,{"$f":"IF($C7=\"\",\"\",VLOOKUP($C7,INSCRITS!$D$4:$W$501,6,0))","v":"DUBOIS CONSTANT"},{"$f":"IF($C7=\"\",\"\",VLOOKUP($C7,INSCRITS!$D$4:$W$501,7,0))","v":"Antoine"},{"$f":"IF($C7=\"\",\"\",VLOOKUP($C7,INSCRITS!$D$4:$W$501,9,0))","v":"EMULATION SAUVETAGE NATATION PERPIGNAN"},null,null,null,null,null,null,"FINALE",187,{"$f":"IF($N7=\"\",\"\",VLOOKUP($N7,INSCRITS!$D$4:$W$501,6,0))","v":"DEHEZ"},{"$f":"IF($N7=\"\",\"\",VLOOKUP($N7,INSCRITS!$D$4:$W$501,7,0))","v":"Rémy"},{"$f":"IF($N7=\"\",\"\",VLOOKUP($N7,INSCRITS!$D$4:$W$501,9,0))","v":"HSC"},null,1,{"$f":"IF(S7=\"\",\"\",VLOOKUP(S7,points,2))","v":20}]
[null,null,178,{"$f":"IF($C8=\"\",\"\",VLOOKUP($C8,INSCRITS!$D$4:$W$501,6,0))","v":"SORIA"},{"$f":"IF($C8=\"\",\"\",VLOOKUP($C8,INSCRITS!$D$4:$W$501,7,0))","v":"Samuel"},{"$f":"IF($C8=\"\",\"\",VLOOKUP($C8,INSCRITS!$D$4:$W$501,9,0))","v":"Biarritz SC"},null,null,null,null,null,null,null,186,{"$f":"IF($N8=\"\",\"\",VLOOKUP($N8,INSCRITS!$D$4:$W$501,6,0))","v":"CARISSAN"},{"$f":"IF($N8=\"\",\"\",VLOOKUP($N8,INSCRITS!$D$4:$W$501,7,0))","v":"Ludovic"},{"$f":"IF($N8=\"\",\"\",VLOOKUP($N8,INSCRITS!$D$4:$W$501,9,0))","v":"epstn"},null,2,{"$f":"IF(S8=\"\",\"\",VLOOKUP(S8,points,2))","v":18}]
[null,null,167,{"$f":"IF($C9=\"\",\"\",VLOOKUP($C9,INSCRITS!$D$4:$W$501,6,0))","v":"HERVE"},{"$f":"IF($C9=\"\",\"\",VLOOKUP($C9,INSCRITS!$D$4:$W$501,7,0))","v":"Axel"},{"$f":"IF($C9=\"\",\"\",VLOOKUP($C9,INSCRITS!$D$4:$W$501,9,0))","v":"ASCE DINARD"},null,null,null,null,null,null,null,163,{"$f":"IF($N9=\"\",\"\",VLOOKUP($N9,INSCRITS!$D$4:$W$501,6,0))","v":"MARCO"},{"$f":"IF($N9=\"\",\"\",VLOOKUP($N9,INSCRITS!$D$4:$W$501,7,0))","v":"Clement"},{"$f":"IF($N9=\"\",\"\",VLOOKUP($N9,INSCRITS!$D$4:$W$501,9,0))","v":"AQUALOVE"},null,3,16]
[null,null,195,{"$f":"IF($C10=\"\",\"\",VLOOKUP($C10,INSCRITS!$D$4:$W$501,6,0))","v":"SUBRA"},{"$f":"IF($C10=\"\",\"\",VLOOKUP($C10,INSCRITS!$D$4:$W$501,7,0))","v":"Olivier"},{"$f":"IF($C10=\"\",\"\",VLOOKUP($C10,INSCRITS!$D$4:$W$501,9,0))","v":"MNSL"},null,null,null,null,null,null,null,183,{"$f":"IF($N10=\"\",\"\",VLOOKUP($N10,INSCRITS!$D$4:$W$501,6,0))","v":"BLANC"},{"$f":"IF($N10=\"\",\"\",VLOOKUP($N10,INSCRITS!$D$4:$W$501,7,0))","v":"Guillaume"},{"$f":"IF($N10=\"\",\"\",VLOOKUP($N10,INSCRITS!$D$4:$W$501,9,0))","v":"ENA"},null,4,14]
[null,null,176,{"$f":"IF($C11=\"\",\"\",VLOOKUP($C11,INSCRITS!$D$4:$W$501,6,0))","v":"CALEY"},{"$f":"IF($C11=\"\",\"\",VLOOKUP($C11,INSCRITS!$D$4:$W$501,7,0))","v":"Simon"},{"$f":"IF($C11=\"\",\"\",VLOOKUP($C11,INSCRITS!$D$4:$W$501,9,0))","v":"Biarritz SC"},null,null,null,null,null,null,null,185,{"$f":"IF($N11=\"\",\"\",VLOOKUP($N11,INSCRITS!$D$4:$W$501,6,0))","v":"COUTANCEAU"},{"$f":"IF($N11=\"\",\"\",VLOOKUP($N11,INSCRITS!$D$4:$W$501,7,0))","v":"Guillaume"},{"$f":"IF($N11=\"\",\"\",VLOOKUP($N11,INSCRITS!$D$4:$W$501,9,0))","v":"ENA"},null,5,13]
[null,null,194,{"$f":"IF($C12=\"\",\"\",VLOOKUP($C12,INSCRITS!$D$4:$W$501,6,0))","v":"NOGUES"},{"$f":"IF($C12=\"\",\"\",VLOOKUP($C12,INSCRITS!$D$4:$W$501,7,0))","v":"Remi"},{"$f":"IF($C12=\"\",\"\",VLOOKUP($C12,INSCRITS!$D$4:$W$501,9,0))","v":"MNSL"},null,null,null,null,null,null,null,161,{"$f":"IF($N12=\"\",\"\",VLOOKUP($N12,INSCRITS!$D$4:$W$501,6,0))","v":"THEO"},{"$f":"IF($N12=\"\",\"\",VLOOKUP($N12,INSCRITS!$D$4:$W$501,7,0))","v":"Valentin"},{"$f":"IF($N12=\"\",\"\",VLOOKUP($N12,INSCRITS!$D$4:$W$501,9,0))","v":"Amiens sauvetage"},null,6,12]
[null,null,193,{"$f":"IF($C13=\"\",\"\",VLOOKUP($C13,INSCRITS!$D$4:$W$501,6,0))","v":"MAILHÉ"},{"$f":"IF($C13=\"\",\"\",VLOOKUP($C13,INSCRITS!$D$4:$W$501,7,0))","v":"Loic"},{"$f":"IF($C13=\"\",\"\",VLOOKUP($C13,INSCRITS!$D$4:$W$501,9,0))","v":"MNSL"},null,null,null,null,null,null,null,177,{"$f":"IF($N13=\"\",\"\",VLOOKUP($N13,INSCRITS!$D$4:$W$501,6,0))","v":"GASQUET"},{"$f":"IF($N13=\"\",\"\",VLOOKUP($N13,INSCRITS!$D$4:$W$501,7,0))","v":"Mathieu"},{"$f":"IF($N13=\"\",\"\",VLOOKUP($N13,INSCRITS!$D$4:$W$501,9,0))","v":"Biarritz SC"},null,7,11]
[null,null,183,{"$f":"IF($C14=\"\",\"\",VLOOKUP($C14,INSCRITS!$D$4:$W$501,6,0))","v":"BLANC"},{"$f":"IF($C14=\"\",\"\",VLOOKUP($C14,INSCRITS!$D$4:$W$501,7,0))","v":"Guillaume"},{"$f":"IF($C14=\"\",\"\",VLOOKUP($C14,INSCRITS!$D$4:$W$501,9,0))","v":"ENA"},null,null,null,null,null,null,null,191,{"$f":"IF($N14=\"\",\"\",VLOOKUP($N14,INSCRITS!$D$4:$W$501,6,0))","v":"DUBLINEAU"},{"$f":"IF($N14=\"\",\"\",VLOOKUP($N14,INSCRITS!$D$4:$W$501,7,0))","v":"Clément"},{"$f":"IF($N14=\"\",\"\",VLOOKUP($N14,INSCRITS!$D$4:$W$501,9,0))","v":"MIMIZAN SAUVETAGE"},null,8,10]
[null,null,184,{"$f":"IF($C15=\"\",\"\",VLOOKUP($C15,INSCRITS!$D$4:$W$501,6,0))","v":"BONNAFONT"},{"$f":"IF($C15=\"\",\"\",VLOOKUP($C15,INSCRITS!$D$4:$W$501,7,0))","v":"Charles"},{"$f":"IF($C15=\"\",\"\",VLOOKUP($C15,INSCRITS!$D$4:$W$501,9,0))","v":"ENA"},null,null,null,null,null,null,null,178,{"$f":"IF($N15=\"\",\"\",VLOOKUP($N15,INSCRITS!$D$4:$W$501,6,0))","v":"SORIA"},{"$f":"IF($N15=\"\",\"\",VLOOKUP($N15,INSCRITS!$D$4:$W$501,7,0))","v":"Samuel"},{"$f":"IF($N15=\"\",\"\",VLOOKUP($N15,INSCRITS!$D$4:$W$501,9,0))","v":"Biarritz SC"},null,9,8]
[null,null,196,{"$f":"IF($C16=\"\",\"\",VLOOKUP($C16,INSCRITS!$D$4:$W$501,6,0))","v":"ZAMBELLI"},{"$f":"IF($C16=\"\",\"\",VLOOKUP($C16,INSCRITS!$D$4:$W$501,7,0))","v":"Sylvain"},{"$f":"IF($C16=\"\",\"\",VLOOKUP($C16,INSCRITS!$D$4:$W$501,9,0))","v":"MNSL"},null,null,null,null,null,null,null,192,{"$f":"IF($N16=\"\",\"\",VLOOKUP($N16,INSCRITS!$D$4:$W$501,6,0))","v":"GONZALES"},{"$f":"IF($N16=\"\",\"\",VLOOKUP($N16,INSCRITS!$D$4:$W$501,7,0))","v":"Ulysse"},{"$f":"IF($N16=\"\",\"\",VLOOKUP($N16,INSCRITS!$D$4:$W$501,9,0))","v":"MIMIZAN SAUVETAGE"},null,10,7]
[null,null,179,{"$f":"IF($C17=\"\",\"\",VLOOKUP($C17,INSCRITS!$D$4:$W$501,6,0))","v":"KATOUH"},{"$f":"IF($C17=\"\",\"\",VLOOKUP($C17,INSCRITS!$D$4:$W$501,7,0))","v":"Karim"},{"$f":"IF($C17=\"\",\"\",VLOOKUP($C17,INSCRITS!$D$4:$W$501,9,0))","v":"Cannes Sauvetage Côtier"},null,null,null,null,null,null,null,193,{"$f":"IF($N17=\"\",\"\",VLOOKUP($N17,INSCRITS!$D$4:$W$501,6,0))","v":"MAILHÉ"},{"$f":"IF($N17=\"\",\"\",VLOOKUP($N17,INSCRITS!$D$4:$W$501,7,0))","v":"Loic"},{"$f":"IF($N17=\"\",\"\",VLOOKUP($N17,INSCRITS!$D$4:$W$501,9,0))","v":"MNSL"},null,11,6]
[null,null,187,{"$f":"IF($C18=\"\",\"\",VLOOKUP($C18,INSCRITS!$D$4:$W$501,6,0))","v":"DEHEZ"},{"$f":"IF($C18=\"\",\"\",VLOOKUP($C18,INSCRITS!$D$4:$W$501,7,0))","v":"Rémy"},{"$f":"IF($C18=\"\",\"\",VLOOKUP($C18,INSCRITS!$D$4:$W$501,9,0))","v":"HSC"},null,null,null,null,null,null,null,184,{"$f":"IF($N18=\"\",\"\",VLOOKUP($N18,INSCRITS!$D$4:$W$501,6,0))","v":"BONNAFONT"},{"$f":"IF($N18=\"\",\"\",VLOOKUP($N18,INSCRITS!$D$4:$W$501,7,0))","v":"Charles"},{"$f":"IF($N18=\"\",\"\",VLOOKUP($N18,INSCRITS!$D$4:$W$501,9,0))","v":"ENA"},null,12,5]
[null,null,165,{"$f":"IF($C19=\"\",\"\",VLOOKUP($C19,INSCRITS!$D$4:$W$501,6,0))","v":"HAREL"},{"$f":"IF($C19=\"\",\"\",VLOOKUP($C19,INSCRITS!$D$4:$W$501,7,0))","v":"Romain"},{"$f":"IF($C19=\"\",\"\",VLOOKUP($C19,INSCRITS!$D$4:$W$501,9,0))","v":"ASCA44"},null,null,null,null,null,null,null,167,{"$f":"IF($N19=\"\",\"\",VLOOKUP($N19,INSCRITS!$D$4:$W$501,6,0))","v":"HERVE"},{"$f":"IF($N19=\"\",\"\",VLOOKUP($N19,INSCRITS!$D$4:$W$501,7,0))","v":"Axel"},{"$f":"IF($N19=\"\",\"\",VLOOKUP($N19,INSCRITS!$D$4:$W$501,9,0))","v":"ASCE DINARD"},null,13,4]
[null,null,171,{"$f":"IF($C20=\"\",\"\",VLOOKUP($C20,INSCRITS!$D$4:$W$501,6,0))","v":"DABCHY"},{"$f":"IF($C20=\"\",\"\",VLOOKUP($C20,INSCRITS!$D$4:$W$501,7,0))","v":"Yassine"},{"$f":"IF($C20=\"\",\"\",VLOOKUP($C20,INSCRITS!$D$4:$W$501,9,0))","v":"ASCE DINARD "},null,null,null,null,null,null,null,179,{"$f":"IF($N20=\"\",\"\",VLOOKUP($N20,INSCRITS!$D$4:$W$501,6,0))","v":"KATOUH"},{"$f":"IF($N20=\"\",\"\",VLOOKUP($N20,INSCRITS!$D$4:$W$501,7,0))","v":"Karim"},{"$f":"IF($N20=\"\",\"\",VLOOKUP($N20,INSCRITS!$D$4:$W$501,9,0))","v":"Cannes Sauvetage Côtier"},null,14,3]
[null,null,161,{"$f":"IF($C21=\"\",\"\",VLOOKUP($C21,INSCRITS!$D$4:$W$501,6,0))","v":"THEO"},{"$f":"IF($C21=\"\",\"\",VLOOKUP($C21,INSCRITS!$D$4:$W$501,7,0))","v":"Valentin"},{"$f":"IF($C21=\"\",\"\",VLOOKUP($C21,INSCRITS!$D$4:$W$501,9,0))","v":"Amiens sauvetage"},null,null,null,null,null,null,null,194,{"$f":"IF($N21=\"\",\"\",VLOOKUP($N21,INSCRITS!$D$4:$W$501,6,0))","v":"NOGUES"},{"$f":"IF($N21=\"\",\"\",VLOOKUP($N21,INSCRITS!$D$4:$W$501,7,0))","v":"Remi"},{"$f":"IF($N21=\"\",\"\",VLOOKUP($N21,INSCRITS!$D$4:$W$501,9,0))","v":"MNSL"},null,15,2]
[null,null,170,{"$f":"IF($C22=\"\",\"\",VLOOKUP($C22,INSCRITS!$D$4:$W$501,6,0))","v":"RIGOT"},{"$f":"IF($C22=\"\",\"\",VLOOKUP($C22,INSCRITS!$D$4:$W$501,7,0))","v":"Quentin"},{"$f":"IF($C22=\"\",\"\",VLOOKUP($C22,INSCRITS!$D$4:$W$501,9,0))","v":"ASCE DINARD"},null,null,null,null,null,null,null,165,{"$f":"IF($N22=\"\",\"\",VLOOKUP($N22,INSCRITS!$D$4:$W$501,6,0))","v":"HAREL"},{"$f":"IF($N22=\"\",\"\",VLOOKUP($N22,INSCRITS!$D$4:$W$501,7,0))","v":"Romain"},{"$f":"IF($N22=\"\",\"\",VLOOKUP($N22,INSCRITS!$D$4:$W$501,9,0))","v":"ASCA44"},null,16,1]
[null,null,191,{"$f":"IF($C23=\"\",\"\",VLOOKUP($C23,INSCRITS!$D$4:$W$501,6,0))","v":"DUBLINEAU"},{"$f":"IF($C23=\"\",\"\",VLOOKUP($C23,INSCRITS!$D$4:$W$501,7,0))","v":"Clément"},{"$f":"IF($C23=\"\",\"\",VLOOKUP($C23,INSCRITS!$D$4:$W$501,9,0))","v":"MIMIZAN SAUVETAGE"},null,null,null,null,null,null,null,null,{"$f":"IF($N23=\"\",\"\",VLOOKUP($N23,INSCRITS!$D$4:$W$501,6,0))","v":""},{"$f":"IF($N23=\"\",\"\",VLOOKUP($N23,INSCRITS!$D$4:$W$501,7,0))","v":""},{"$f":"IF($N23=\"\",\"\",VLOOKUP($N23,INSCRITS!$D$4:$W$501,9,0))","v":""},null,null,""]
[null,null,166,{"$f":"IF($C24=\"\",\"\",VLOOKUP($C24,INSCRITS!$D$4:$W$501,6,0))","v":"DOLE"},{"$f":"IF($C24=\"\",\"\",VLOOKUP($C24,INSCRITS!$D$4:$W$501,7,0))","v":"François"},{"$f":"IF($C24=\"\",\"\",VLOOKUP($C24,INSCRITS!$D$4:$W$501,9,0))","v":"ASCE DINARD"},null,null,null,null,null,null,null,null,{"$f":"IF($N24=\"\",\"\",VLOOKUP($N24,INSCRITS!$D$4:$W$501,6,0))","v":""},{"$f":"IF($N24=\"\",\"\",VLOOKUP($N24,INSCRITS!$D$4:$W$501,7,0))","v":""},{"$f":"IF($N24=\"\",\"\",VLOOKUP($N24,INSCRITS!$D$4:$W$501,9,0))","v":""},null,null,""]
[null,null,197,{"$f":"IF($C25=\"\",\"\",VLOOKUP($C25,INSCRITS!$D$4:$W$501,6,0))","v":"RUAULT"},{"$f":"IF($C25=\"\",\"\",VLOOKUP($C25,INSCRITS!$D$4:$W$501,7,0))","v":"Briag"},{"$f":"IF($C25=\"\",\"\",VLOOKUP($C25,INSCRITS!$D$4:$W$501,9,0))","v":"RENNES BREIZH SAUVETAGE COTIER"},null,null,null,null,null,null,null,null,{"$f":"IF($N25=\"\",\"\",VLOOKUP($N25,INSCRITS!$D$4:$W$501,6,0))","v":""},{"$f":"IF($N25=\"\",\"\",VLOOKUP($N25,INSCRITS!$D$4:$W$501,7,0))","v":""},{"$f":"IF($N25=\"\",\"\",VLOOKUP($N25,INSCRITS!$D$4:$W$501,9,0))","v":""},null,null,""]
[null,null,185,{"$f":"IF($C26=\"\",\"\",VLOOKUP($C26,INSCRITS!$D$4:$W$501,6,0))","v":"COUTANCEAU"},{"$f":"IF($C26=\"\",\"\",VLOOKUP($C26,INSCRITS!$D$4:$W$501,7,0))","v":"Guillaume"},{"$f":"IF($C26=\"\",\"\",VLOOKUP($C26,INSCRITS!$D$4:$W$501,9,0))","v":"ENA"},null,null,null,null,null,null,null,null,{"$f":"IF($N26=\"\",\"\",VLOOKUP($N26,INSCRITS!$D$4:$W$501,6,0))","v":""},{"$f":"IF($N26=\"\",\"\",VLOOKUP($N26,INSCRITS!$D$4:$W$501,7,0))","v":""},{"$f":"IF($N26=\"\",\"\",VLOOKUP($N26,INSCRITS!$D$4:$W$501,9,0))","v":""},null,null,""]
[null,null,192,{"$f":"IF($C27=\"\",\"\",VLOOKUP($C27,INSCRITS!$D$4:$W$501,6,0))","v":"GONZALES"},{"$f":"IF($C27=\"\",\"\",VLOOKUP($C27,INSCRITS!$D$4:$W$501,7,0))","v":"Ulysse"},{"$f":"IF($C27=\"\",\"\",VLOOKUP($C27,INSCRITS!$D$4:$W$501,9,0))","v":"MIMIZAN SAUVETAGE"},null,null,null,null,null,null,null,null,{"$f":"IF($N27=\"\",\"\",VLOOKUP($N27,INSCRITS!$D$4:$W$501,6,0))","v":""},{"$f":"IF($N27=\"\",\"\",VLOOKUP($N27,INSCRITS!$D$4:$W$501,7,0))","v":""},{"$f":"IF($N27=\"\",\"\",VLOOKUP($N27,INSCRITS!$D$4:$W$501,9,0))","v":""},null,null,""]
[null,null,188,{"$f":"IF($C28=\"\",\"\",VLOOKUP($C28,INSCRITS!$D$4:$W$501,6,0))","v":"FERRIER"},{"$f":"IF($C28=\"\",\"\",VLOOKUP($C28,INSCRITS!$D$4:$W$501,7,0))","v":"Paul"},{"$f":"IF($C28=\"\",\"\",VLOOKUP($C28,INSCRITS!$D$4:$W$501,9,0))","v":"HSC"},null,null,null,null,null,null,null,null,{"$f":"IF($N28=\"\",\"\",VLOOKUP($N28,INSCRITS!$D$4:$W$501,6,0))","v":""},{"$f":"IF($N28=\"\",\"\",VLOOKUP($N28,INSCRITS!$D$4:$W$501,7,0))","v":""},{"$f":"IF($N28=\"\",\"\",VLOOKUP($N28,INSCRITS!$D$4:$W$501,9,0))","v":""},null,null,""]
[null,null,169,{"$f":"IF($C29=\"\",\"\",VLOOKUP($C29,INSCRITS!$D$4:$W$501,6,0))","v":"POUTRIQUET"},{"$f":"IF($C29=\"\",\"\",VLOOKUP($C29,INSCRITS!$D$4:$W$501,7,0))","v":"Maxime"},{"$f":"IF($C29=\"\",\"\",VLOOKUP($C29,INSCRITS!$D$4:$W$501,9,0))","v":"ASCE DINARD"},null,null,null,null,null,null,null,null,{"$f":"IF($N29=\"\",\"\",VLOOKUP($N29,INSCRITS!$D$4:$W$501,6,0))","v":""},{"$f":"IF($N29=\"\",\"\",VLOOKUP($N29,INSCRITS!$D$4:$W$501,7,0))","v":""},{"$f":"IF($N29=\"\",\"\",VLOOKUP($N29,INSCRITS!$D$4:$W$501,9,0))","v":""},null,null,""]
[null,null,177,{"$f":"IF($C30=\"\",\"\",VLOOKUP($C30,INSCRITS!$D$4:$W$501,6,0))","v":"GASQUET"},{"$f":"IF($C30=\"\",\"\",VLOOKUP($C30,INSCRITS!$D$4:$W$501,7,0))","v":"Mathieu"},{"$f":"IF($C30=\"\",\"\",VLOOKUP($C30,INSCRITS!$D$4:$W$501,9,0))","v":"Biarritz SC"},null,null,null,null,null,null,null,null,{"$f":"IF($N30=\"\",\"\",VLOOKUP($N30,INSCRITS!$D$4:$W$501,6,0))","v":""},{"$f":"IF($N30=\"\",\"\",VLOOKUP($N30,INSCRITS!$D$4:$W$501,7,0))","v":""},{"$f":"IF($N30=\"\",\"\",VLOOKUP($N30,INSCRITS!$D$4:$W$501,9,0))","v":""},null,null,""]
[null,null,172,{"$f":"IF($C31=\"\",\"\",VLOOKUP($C31,INSCRITS!$D$4:$W$501,6,0))","v":"JEHAN"},{"$f":"IF($C31=\"\",\"\",VLOOKUP($C31,INSCRITS!$D$4:$W$501,7,0))","v":"Thomas"},{"$f":"IF($C31=\"\",\"\",VLOOKUP($C31,INSCRITS!$D$4:$W$501,9,0))","v":"ASCE DINARD "},null,null,null,null,null,null,null,null,{"$f":"IF($N31=\"\",\"\",VLOOKUP($N31,INSCRITS!$D$4:$W$501,6,0))","v":""},{"$f":"IF($N31=\"\",\"\",VLOOKUP($N31,INSCRITS!$D$4:$W$501,7,0))","v":""},{"$f":"IF($N31=\"\",\"\",VLOOKUP($N31,INSCRITS!$D$4:$W$501,9,0))","v":""},null,null,""]
[null,null,186,{"$f":"IF($C32=\"\",\"\",VLOOKUP($C32,INSCRITS!$D$4:$W$501,6,0))","v":"CARISSAN"},{"$f":"IF($C32=\"\",\"\",VLOOKUP($C32,INSCRITS!$D$4:$W$501,7,0))","v":"Ludovic"},{"$f":"IF($C32=\"\",\"\",VLOOKUP($C32,INSCRITS!$D$4:$W$501,9,0))","v":"epstn"},null,null,null,null,null,null,null,null,{"$f":"IF($N32=\"\",\"\",VLOOKUP($N32,INSCRITS!$D$4:$W$501,6,0))","v":""},{"$f":"IF($N32=\"\",\"\",VLOOKUP($N32,INSCRITS!$D$4:$W$501,7,0))","v":""},{"$f":"IF($N32=\"\",\"\",VLOOKUP($N32,INSCRITS!$D$4:$W$501,9,0))","v":""},null,null,""]
[null,null,null,{"$f":"IF($C33=\"\",\"\",VLOOKUP($C33,INSCRITS!$D$4:$W$501,6,0))","v":""},{"$f":"IF($C33=\"\",\"\",VLOOKUP($C33,INSCRITS!$D$4:$W$501,7,0))","v":""},{"$f":"IF($C33=\"\",\"\",VLOOKUP($C33,INSCRITS!$D$4:$W$501,9,0))","v":""},null,null,null,null,null,null,null,null,{"$f":"IF($N33=\"\",\"\",VLOOKUP($N33,INSCRITS!$D$4:$W$501,6,0))","v":""},{"$f":"IF($N33=\"\",\"\",VLOOKUP($N33,INSCRITS!$D$4:$W$501,7,0))","v":""},{"$f":"IF($N33=\"\",\"\",VLOOKUP($N33,INSCRITS!$D$4:$W$501,9,0))","v":""},null,null,""]
[null,null,null,{"$f":"IF($C34=\"\",\"\",VLOOKUP($C34,INSCRITS!$D$4:$W$501,6,0))","v":""},{"$f":"IF($C34=\"\",\"\",VLOOKUP($C34,INSCRITS!$D$4:$W$501,7,0))","v":""},{"$f":"IF($C34=\"\",\"\",VLOOKUP($C34,INSCRITS!$D$4:$W$501,9,0))","v":""},null,null,null,null,null,null,null,null,{"$f":"IF($N34=\"\",\"\",VLOOKUP($N34,INSCRITS!$D$4:$W$501,6,0))","v":""},{"$f":"IF($N34=\"\",\"\",VLOOKUP($N34,INSCRITS!$D$4:$W$501,7,0))","v":""},{"$f":"IF($N34=\"\",\"\",VLOOKUP($N34,INSCRITS!$D$4:$W$501,9,0))","v":""},null,null,""]
[null,null,null,{"$f":"IF($C35=\"\",\"\",VLOOKUP($C35,INSCRITS!$D$4:$W$501,6,0))","v":""},{"$f":"IF($C35=\"\",\"\",VLOOKUP($C35,INSCRITS!$D$4:$W$501,7,0))","v":""},{"$f":"IF($C35=\"\",\"\",VLOOKUP($C35,INSCRITS!$D$4:$W$501,9,0))","v":""},null,null,null,null,null,null,null,null,{"$f":"IF($N35=\"\",\"\",VLOOKUP($N35,INSCRITS!$D$4:$W$501,6,0))","v":""},{"$f":"IF($N35=\"\",\"\",VLOOKUP($N35,INSCRITS!$D$4:$W$501,7,0))","v":""},{"$f":"IF($N35=\"\",\"\",VLOOKUP($N35,INSCRITS!$D$4:$W$501,9,0))","v":""},null,null,""]
[null,null,null,{"$f":"IF($C36=\"\",\"\",VLOOKUP($C36,INSCRITS!$D$4:$W$501,6,0))","v":""},{"$f":"IF($C36=\"\",\"\",VLOOKUP($C36,INSCRITS!$D$4:$W$501,7,0))","v":""},{"$f":"IF($C36=\"\",\"\",VLOOKUP($C36,INSCRITS!$D$4:$W$501,9,0))","v":""},null,null,null,null,null,null,null,null,{"$f":"IF($N36=\"\",\"\",VLOOKUP($N36,INSCRITS!$D$4:$W$501,6,0))","v":""},{"$f":"IF($N36=\"\",\"\",VLOOKUP($N36,INSCRITS!$D$4:$W$501,7,0))","v":""},{"$f":"IF($N36=\"\",\"\",VLOOKUP($N36,INSCRITS!$D$4:$W$501,9,0))","v":""},null,null,""]
[null,"SERIE 2",null,{"$f":"IF($C37=\"\",\"\",VLOOKUP($C37,INSCRITS!$D$4:$W$501,6,0))","v":""},{"$f":"IF($C37=\"\",\"\",VLOOKUP($C37,INSCRITS!$D$4:$W$501,7,0))","v":""},{"$f":"IF($C37=\"\",\"\",VLOOKUP($C37,INSCRITS!$D$4:$W$501,9,0))","v":""},null,null,null,null,null,null,null,null,{"$f":"IF($N37=\"\",\"\",VLOOKUP($N37,INSCRITS!$D$4:$W$501,6,0))","v":""},{"$f":"IF($N37=\"\",\"\",VLOOKUP($N37,INSCRITS!$D$4:$W$501,7,0))","v":""},{"$f":"IF($N37=\"\",\"\",VLOOKUP($N37,INSCRITS!$D$4:$W$501,9,0))","v":""},null,null,""]
[null,null,null,{"$f":"IF($C38=\"\",\"\",VLOOKUP($C38,INSCRITS!$D$4:$W$501,6,0))","v":""},{"$f":"IF($C38=\"\",\"\",VLOOKUP($C38,INSCRITS!$D$4:$W$501,7,0))","v":""},{"$f":"IF($C38=\"\",\"\",VLOOKUP($C38,INSCRITS!$D$4:$W$501,9,0))","v":""},null,null,null,null,null,null,null,null,{"$f":"IF($N38=\"\",\"\",VLOOKUP($N38,INSCRITS!$D$4:$W$501,6,0))","v":""},{"$f":"IF($N38=\"\",\"\",VLOOKUP($N38,INSCRITS!$D$4:$W$501,7,0))","v":""},{"$f":"IF($N38=\"\",\"\",VLOOKUP($N38,INSCRITS!$D$4:$W$501,9,0))","v":""},null,null,""]
[null,null,null,{"$f":"IF($C39=\"\",\"\",VLOOKUP($C39,INSCRITS!$D$4:$W$501,6,0))","v":""},{"$f":"IF($C39=\"\",\"\",VLOOKUP($C39,INSCRITS!$D$4:$W$501,7,0))","v":""},{"$f":"IF($C39=\"\",\"\",VLOOKUP($C39,INSCRITS!$D$4:$W$501,9,0))","v":""},null,null,null,null,null,null,null,null,{"$f":"IF($N39=\"\",\"\",VLOOKUP($N39,INSCRITS!$D$4:$W$501,6,0))","v":""},{"$f":"IF($N39=\"\",\"\",VLOOKUP($N39,INSCRITS!$D$4:$W$501,7,0))","v":""},{"$f":"IF($N39=\"\",\"\",VLOOKUP($N39,INSCRITS!$D$4:$W$501,9,0))","v":""},null,null,""]
[null,null,null,{"$f":"IF($C40=\"\",\"\",VLOOKUP($C40,INSCRITS!$D$4:$W$501,6,0))","v":""},{"$f":"IF($C40=\"\",\"\",VLOOKUP($C40,INSCRITS!$D$4:$W$501,7,0))","v":""},{"$f":"IF($C40=\"\",\"\",VLOOKUP($C40,INSCRITS!$D$4:$W$501,9,0))","v":""},null,null,null,null,null,null,null,null,{"$f":"IF($N40=\"\",\"\",VLOOKUP($N40,INSCRITS!$D$4:$W$501,6,0))","v":""},{"$f":"IF($N40=\"\",\"\",VLOOKUP($N40,INSCRITS!$D$4:$W$501,7,0))","v":""},{"$f":"IF($N40=\"\",\"\",VLOOKUP($N40,INSCRITS!$D$4:$W$501,9,0))","v":""},null,null,""]
[null,null,null,{"$f":"IF($C41=\"\",\"\",VLOOKUP($C41,INSCRITS!$D$4:$W$501,6,0))","v":""},{"$f":"IF($C41=\"\",\"\",VLOOKUP($C41,INSCRITS!$D$4:$W$501,7,0))","v":""},{"$f":"IF($C41=\"\",\"\",VLOOKUP($C41,INSCRITS!$D$4:$W$501,9,0))","v":""},null,null,null,null,null,null,null,null,{"$f":"IF($N41=\"\",\"\",VLOOKUP($N41,INSCRITS!$D$4:$W$501,6,0))","v":""},{"$f":"IF($N41=\"\",\"\",VLOOKUP($N41,INSCRITS!$D$4:$W$501,7,0))","v":""},{"$f":"IF($N41=\"\",\"\",VLOOKUP($N41,INSCRITS!$D$4:$W$501,9,0))","v":""},null,null,""]
[null,null,null,{"$f":"IF($C42=\"\",\"\",VLOOKUP($C42,INSCRITS!$D$4:$W$501,6,0))","v":""},{"$f":"IF($C42=\"\",\"\",VLOOKUP($C42,INSCRITS!$D$4:$W$501,7,0))","v":""},{"$f":"IF($C42=\"\",\"\",VLOOKUP($C42,INSCRITS!$D$4:$W$501,9,0))","v":""},null,null,null,null,null,null,null,null,{"$f":"IF($N42=\"\",\"\",VLOOKUP($N42,INSCRITS!$D$4:$W$501,6,0))","v":""},{"$f":"IF($N42=\"\",\"\",VLOOKUP($N42,INSCRITS!$D$4:$W$501,7,0))","v":""},{"$f":"IF($N42=\"\",\"\",VLOOKUP($N42,INSCRITS!$D$4:$W$501,9,0))","v":""},null,null,""]
[null,null,null,{"$f":"IF($C43=\"\",\"\",VLOOKUP($C43,INSCRITS!$D$4:$W$501,6,0))","v":""},{"$f":"IF($C43=\"\",\"\",VLOOKUP($C43,INSCRITS!$D$4:$W$501,7,0))","v":""},{"$f":"IF($C43=\"\",\"\",VLOOKUP($C43,INSCRITS!$D$4:$W$501,9,0))","v":""},null,null,null,null,null,null,null,null,{"$f":"IF($N43=\"\",\"\",VLOOKUP($N43,INSCRITS!$D$4:$W$501,6,0))","v":""},{"$f":"IF($N43=\"\",\"\",VLOOKUP($N43,INSCRITS!$D$4:$W$501,7,0))","v":""},{"$f":"IF($N43=\"\",\"\",VLOOKUP($N43,INSCRITS!$D$4:$W$501,9,0))","v":""},null,null,""]
[null,null,null,{"$f":"IF($C44=\"\",\"\",VLOOKUP($C44,INSCRITS!$D$4:$W$501,6,0))","v":""},{"$f":"IF($C44=\"\",\"\",VLOOKUP($C44,INSCRITS!$D$4:$W$501,7,0))","v":""},{"$f":"IF($C44=\"\",\"\",VLOOKUP($C44,INSCRITS!$D$4:$W$501,9,0))","v":""},null,null,null,null,null,null,null,null,{"$f":"IF($N44=\"\",\"\",VLOOKUP($N44,INSCRITS!$D$4:$W$501,6,0))","v":""},{"$f":"IF($N44=\"\",\"\",VLOOKUP($N44,INSCRITS!$D$4:$W$501,7,0))","v":""},{"$f":"IF($N44=\"\",\"\",VLOOKUP($N44,INSCRITS!$D$4:$W$501,9,0))","v":""},null,null,""]
[null,null,null,{"$f":"IF($C45=\"\",\"\",VLOOKUP($C45,INSCRITS!$D$4:$W$501,6,0))","v":""},{"$f":"IF($C45=\"\",\"\",VLOOKUP($C45,INSCRITS!$D$4:$W$501,7,0))","v":""},{"$f":"IF($C45=\"\",\"\",VLOOKUP($C45,INSCRITS!$D$4:$W$501,9,0))","v":""},null,null,null,null,null,null,null,null,{"$f":"IF($N45=\"\",\"\",VLOOKUP($N45,INSCRITS!$D$4:$W$501,6,0))","v":""},{"$f":"IF($N45=\"\",\"\",VLOOKUP($N45,INSCRITS!$D$4:$W$501,7,0))","v":""},{"$f":"IF($N45=\"\",\"\",VLOOKUP($N45,INSCRITS!$D$4:$W$501,9,0))","v":""},null,null,""]
[null,null,null,{"$f":"IF($C46=\"\",\"\",VLOOKUP($C46,INSCRITS!$D$4:$W$501,6,0))","v":""},{"$f":"IF($C46=\"\",\"\",VLOOKUP($C46,INSCRITS!$D$4:$W$501,7,0))","v":""},{"$f":"IF($C46=\"\",\"\",VLOOKUP($C46,INSCRITS!$D$4:$W$501,9,0))","v":""},null,null,null,null,null,null,null,null,{"$f":"IF($N46=\"\",\"\",VLOOKUP($N46,INSCRITS!$D$4:$W$501,6,0))","v":""},{"$f":"IF($N46=\"\",\"\",VLOOKUP($N46,INSCRITS!$D$4:$W$501,7,0))","v":""},{"$f":"IF($N46=\"\",\"\",VLOOKUP($N46,INSCRITS!$D$4:$W$501,9,0))","v":""},null,null,""]
[null,null,null,{"$f":"IF($C47=\"\",\"\",VLOOKUP($C47,INSCRITS!$D$4:$W$501,6,0))","v":""},{"$f":"IF($C47=\"\",\"\",VLOOKUP($C47,INSCRITS!$D$4:$W$501,7,0))","v":""},{"$f":"IF($C47=\"\",\"\",VLOOKUP($C47,INSCRITS!$D$4:$W$501,9,0))","v":""},null,null,null,null,null,null,null,null,{"$f":"IF($N47=\"\",\"\",VLOOKUP($N47,INSCRITS!$D$4:$W$501,6,0))","v":""},{"$f":"IF($N47=\"\",\"\",VLOOKUP($N47,INSCRITS!$D$4:$W$501,7,0))","v":""},{"$f":"IF($N47=\"\",\"\",VLOOKUP($N47,INSCRITS!$D$4:$W$501,9,0))","v":""},null,null,""]
[null,null,null,{"$f":"IF($C48=\"\",\"\",VLOOKUP($C48,INSCRITS!$D$4:$W$501,6,0))","v":""},{"$f":"IF($C48=\"\",\"\",VLOOKUP($C48,INSCRITS!$D$4:$W$501,7,0))","v":""},{"$f":"IF($C48=\"\",\"\",VLOOKUP($C48,INSCRITS!$D$4:$W$501,9,0))","v":""},null,null,null,null,null,null,null,null,{"$f":"IF($N48=\"\",\"\",VLOOKUP($N48,INSCRITS!$D$4:$W$501,6,0))","v":""},{"$f":"IF($N48=\"\",\"\",VLOOKUP($N48,INSCRITS!$D$4:$W$501,7,0))","v":""},{"$f":"IF($N48=\"\",\"\",VLOOKUP($N48,INSCRITS!$D$4:$W$501,9,0))","v":""},null,null,""]
[null,null,null,{"$f":"IF($C49=\"\",\"\",VLOOKUP($C49,INSCRITS!$D$4:$W$501,6,0))","v":""},{"$f":"IF($C49=\"\",\"\",VLOOKUP($C49,INSCRITS!$D$4:$W$501,7,0))","v":""},{"$f":"IF($C49=\"\",\"\",VLOOKUP($C49,INSCRITS!$D$4:$W$501,9,0))","v":""},null,null,null,null,null,null,null,null,{"$f":"IF($N49=\"\",\"\",VLOOKUP($N49,INSCRITS!$D$4:$W$501,6,0))","v":""},{"$f":"IF($N49=\"\",\"\",VLOOKUP($N49,INSCRITS!$D$4:$W$501,7,0))","v":""},{"$f":"IF($N49=\"\",\"\",VLOOKUP($N49,INSCRITS!$D$4:$W$501,9,0))","v":""},null,null,""]
[null,null,null,{"$f":"IF($C50=\"\",\"\",VLOOKUP($C50,INSCRITS!$D$4:$W$501,6,0))","v":""},{"$f":"IF($C50=\"\",\"\",VLOOKUP($C50,INSCRITS!$D$4:$W$501,7,0))","v":""},{"$f":"IF($C50=\"\",\"\",VLOOKUP($C50,INSCRITS!$D$4:$W$501,9,0))","v":""},null,null,null,null,null,null,null,null,{"$f":"IF($N50=\"\",\"\",VLOOKUP($N50,INSCRITS!$D$4:$W$501,6,0))","v":""},{"$f":"IF($N50=\"\",\"\",VLOOKUP($N50,INSCRITS!$D$4:$W$501,7,0))","v":""},{"$f":"IF($N50=\"\",\"\",VLOOKUP($N50,INSCRITS!$D$4:$W$501,9,0))","v":""},null,null,""]
[null,null,null,{"$f":"IF($C51=\"\",\"\",VLOOKUP($C51,INSCRITS!$D$4:$W$501,6,0))","v":""},{"$f":"IF($C51=\"\",\"\",VLOOKUP($C51,INSCRITS!$D$4:$W$501,7,0))","v":""},{"$f":"IF($C51=\"\",\"\",VLOOKUP($C51,INSCRITS!$D$4:$W$501,9,0))","v":""},null,null,null,null,null,null,null,null,{"$f":"IF($N51=\"\",\"\",VLOOKUP($N51,INSCRITS!$D$4:$W$501,6,0))","v":""},{"$f":"IF($N51=\"\",\"\",VLOOKUP($N51,INSCRITS!$D$4:$W$501,7,0))","v":""},{"$f":"IF($N51=\"\",\"\",VLOOKUP($N51,INSCRITS!$D$4:$W$501,9,0))","v":""},null,null,""]
[null,null,null,{"$f":"IF($C52=\"\",\"\",VLOOKUP($C52,INSCRITS!$D$4:$W$501,6,0))","v":""},{"$f":"IF($C52=\"\",\"\",VLOOKUP($C52,INSCRITS!$D$4:$W$501,7,0))","v":""},{"$f":"IF($C52=\"\",\"\",VLOOKUP($C52,INSCRITS!$D$4:$W$501,9,0))","v":""},null,null,null,null,null,null,null,null,{"$f":"IF($N52=\"\",\"\",VLOOKUP($N52,INSCRITS!$D$4:$W$501,6,0))","v":""},{"$f":"IF($N52=\"\",\"\",VLOOKUP($N52,INSCRITS!$D$4:$W$501,7,0))","v":""},{"$f":"IF($N52=\"\",\"\",VLOOKUP($N52,INSCRITS!$D$4:$W$501,9,0))","v":""},null,null,""]
[null,null,null,{"$f":"IF($C53=\"\",\"\",VLOOKUP($C53,INSCRITS!$D$4:$W$501,6,0))","v":""},{"$f":"IF($C53=\"\",\"\",VLOOKUP($C53,INSCRITS!$D$4:$W$501,7,0))","v":""},{"$f":"IF($C53=\"\",\"\",VLOOKUP($C53,INSCRITS!$D$4:$W$501,9,0))","v":""},null,null,null,null,null,null,null,null,{"$f":"IF($N53=\"\",\"\",VLOOKUP($N53,INSCRITS!$D$4:$W$501,6,0))","v":""},{"$f":"IF($N53=\"\",\"\",VLOOKUP($N53,INSCRITS!$D$4:$W$501,7,0))","v":""},{"$f":"IF($N53=\"\",\"\",VLOOKUP($N53,INSCRITS!$D$4:$W$501,9,0))","v":""},null,null,""]
[null,null,null,{"$f":"IF($C54=\"\",\"\",VLOOKUP($C54,INSCRITS!$D$4:$W$501,6,0))","v":""},{"$f":"IF($C54=\"\",\"\",VLOOKUP($C54,INSCRITS!$D$4:$W$501,7,0))","v":""},{"$f":"IF($C54=\"\",\"\",VLOOKUP($C54,INSCRITS!$D$4:$W$501,9,0))","v":""},null,null,null,null,null,null,null,null,{"$f":"IF($N54=\"\",\"\",VLOOKUP($N54,INSCRITS!$D$4:$W$501,6,0))","v":""},{"$f":"IF($N54=\"\",\"\",VLOOKUP($N54,INSCRITS!$D$4:$W$501,7,0))","v":""},{"$f":"IF($N54=\"\",\"\",VLOOKUP($N54,INSCRITS!$D$4:$W$501,9,0))","v":""},null,null,""]
[null,null,null,{"$f":"IF($C55=\"\",\"\",VLOOKUP($C55,INSCRITS!$D$4:$W$501,6,0))","v":""},{"$f":"IF($C55=\"\",\"\",VLOOKUP($C55,INSCRITS!$D$4:$W$501,7,0))","v":""},{"$f":"IF($C55=\"\",\"\",VLOOKUP($C55,INSCRITS!$D$4:$W$501,9,0))","v":""}]
[null,null,null,{"$f":"IF($C56=\"\",\"\",VLOOKUP($C56,INSCRITS!$D$4:$W$501,6,0))","v":""},{"$f":"IF($C56=\"\",\"\",VLOOKUP($C56,INSCRITS!$D$4:$W$501,7,0))","v":""},{"$f":"IF($C56=\"\",\"\",VLOOKUP($C56,INSCRITS!$D$4:$W$501,9,0))","v":""}]
[null,null,null,{"$f":"IF($C57=\"\",\"\",VLOOKUP($C57,INSCRITS!$D$4:$W$501,6,0))","v":""},{"$f":"IF($C57=\"\",\"\",VLOOKUP($C57,INSCRITS!$D$4:$W$501,7,0))","v":""},{"$f":"IF($C57=\"\",\"\",VLOOKUP($C57,INSCRITS!$D$4:$W$501,9,0))","v":""}]
[null,null,null,{"$f":"IF($C58=\"\",\"\",VLOOKUP($C58,INSCRITS!$D$4:$W$501,6,0))","v":""},{"$f":"IF($C58=\"\",\"\",VLOOKUP($C58,INSCRITS!$D$4:$W$501,7,0))","v":""},{"$f":"IF($C58=\"\",\"\",VLOOKUP($C58,INSCRITS!$D$4:$W$501,9,0))","v":""}]
[null,null,null,{"$f":"IF($C59=\"\",\"\",VLOOKUP($C59,INSCRITS!$D$4:$W$501,6,0))","v":""},{"$f":"IF($C59=\"\",\"\",VLOOKUP($C59,INSCRITS!$D$4:$W$501,7,0))","v":""},{"$f":"IF($C59=\"\",\"\",VLOOKUP($C59,INSCRITS!$D$4:$W$501,9,0))","v":""}]
[null,null,null,{"$f":"IF($C60=\"\",\"\",VLOOKUP($C60,INSCRITS!$D$4:$W$501,6,0))","v":""},{"$f":"IF($C60=\"\",\"\",VLOOKUP($C60,INSCRITS!$D$4:$W$501,7,0))","v":""},{"$f":"IF($C60=\"\",\"\",VLOOKUP($C60,INSCRITS!$D$4:$W$501,9,0))","v":""}]
[null,null,null,{"$f":"IF($C61=\"\",\"\",VLOOKUP($C61,INSCRITS!$D$4:$W$501,6,0))","v":""},{"$f":"IF($C61=\"\",\"\",VLOOKUP($C61,INSCRITS!$D$4:$W$501,7,0))","v":""},{"$f":"IF($C61=\"\",\"\",VLOOKUP($C61,INSCRITS!$D$4:$W$501,9,0))","v":""}]
[null,null,null,{"$f":"IF($C62=\"\",\"\",VLOOKUP($C62,INSCRITS!$D$4:$W$501,6,0))","v":""},{"$f":"IF($C62=\"\",\"\",VLOOKUP($C62,INSCRITS!$D$4:$W$501,7,0))","v":""},{"$f":"IF($C62=\"\",\"\",VLOOKUP($C62,INSCRITS!$D$4:$W$501,9,0))","v":""}]
[null,null,null,{"$f":"IF($C63=\"\",\"\",VLOOKUP($C63,INSCRITS!$D$4:$W$501,6,0))","v":""},{"$f":"IF($C63=\"\",\"\",VLOOKUP($C63,INSCRITS!$D$4:$W$501,7,0))","v":""},{"$f":"IF($C63=\"\",\"\",VLOOKUP($C63,INSCRITS!$D$4:$W$501,9,0))","v":""}]
[null,null,null,{"$f":"IF($C64=\"\",\"\",VLOOKUP($C64,INSCRITS!$D$4:$W$501,6,0))","v":""},{"$f":"IF($C64=\"\",\"\",VLOOKUP($C64,INSCRITS!$D$4:$W$501,7,0))","v":""},{"$f":"IF($C64=\"\",\"\",VLOOKUP($C64,INSCRITS!$D$4:$W$501,9,0))","v":""}]
[null,null,null,{"$f":"IF($C65=\"\",\"\",VLOOKUP($C65,INSCRITS!$D$4:$W$501,6,0))","v":""},{"$f":"IF($C65=\"\",\"\",VLOOKUP($C65,INSCRITS!$D$4:$W$501,7,0))","v":""},{"$f":"IF($C65=\"\",\"\",VLOOKUP($C65,INSCRITS!$D$4:$W$501,9,0))","v":""}]
[null,null,null,{"$f":"IF($C66=\"\",\"\",VLOOKUP($C66,INSCRITS!$D$4:$W$501,6,0))","v":""},{"$f":"IF($C66=\"\",\"\",VLOOKUP($C66,INSCRITS!$D$4:$W$501,7,0))","v":""},{"$f":"IF($C66=\"\",\"\",VLOOKUP($C66,INSCRITS!$D$4:$W$501,9,0))","v":""}]
[null,"SERIE 4",null,{"$f":"IF($C67=\"\",\"\",VLOOKUP($C67,INSCRITS!$D$4:$W$501,6,0))","v":""},{"$f":"IF($C67=\"\",\"\",VLOOKUP($C67,INSCRITS!$D$4:$W$501,7,0))","v":""},{"$f":"IF($C67=\"\",\"\",VLOOKUP($C67,INSCRITS!$D$4:$W$501,9,0))","v":""}]
[null,null,null,{"$f":"IF($C68=\"\",\"\",VLOOKUP($C68,INSCRITS!$D$4:$W$501,6,0))","v":""},{"$f":"IF($C68=\"\",\"\",VLOOKUP($C68,INSCRITS!$D$4:$W$501,7,0))","v":""},{"$f":"IF($C68=\"\",\"\",VLOOKUP($C68,INSCRITS!$D$4:$W$501,9,0))","v":""}]
[null,null,null,{"$f":"IF($C69=\"\",\"\",VLOOKUP($C69,INSCRITS!$D$4:$W$501,6,0))","v":""},{"$f":"IF($C69=\"\",\"\",VLOOKUP($C69,INSCRITS!$D$4:$W$501,7,0))","v":""},{"$f":"IF($C69=\"\",\"\",VLOOKUP($C69,INSCRITS!$D$4:$W$501,9,0))","v":""}]
[null,null,null,{"$f":"IF($C70=\"\",\"\",VLOOKUP($C70,INSCRITS!$D$4:$W$501,6,0))","v":""},{"$f":"IF($C70=\"\",\"\",VLOOKUP($C70,INSCRITS!$D$4:$W$501,7,0))","v":""},{"$f":"IF($C70=\"\",\"\",VLOOKUP($C70,INSCRITS!$D$4:$W$501,9,0))","v":""}]
[null,null,null,{"$f":"IF($C71=\"\",\"\",VLOOKUP($C71,INSCRITS!$D$4:$W$501,6,0))","v":""},{"$f":"IF($C71=\"\",\"\",VLOOKUP($C71,INSCRITS!$D$4:$W$501,7,0))","v":""},{"$f":"IF($C71=\"\",\"\",VLOOKUP($C71,INSCRITS!$D$4:$W$501,9,0))","v":""}]
[null,null,null,{"$f":"IF($C72=\"\",\"\",VLOOKUP($C72,INSCRITS!$D$4:$W$501,6,0))","v":""},{"$f":"IF($C72=\"\",\"\",VLOOKUP($C72,INSCRITS!$D$4:$W$501,7,0))","v":""},{"$f":"IF($C72=\"\",\"\",VLOOKUP($C72,INSCRITS!$D$4:$W$501,9,0))","v":""}]
[null,null,null,{"$f":"IF($C73=\"\",\"\",VLOOKUP($C73,INSCRITS!$D$4:$W$501,6,0))","v":""},{"$f":"IF($C73=\"\",\"\",VLOOKUP($C73,INSCRITS!$D$4:$W$501,7,0))","v":""},{"$f":"IF($C73=\"\",\"\",VLOOKUP($C73,INSCRITS!$D$4:$W$501,9,0))","v":""}]
[null,null,null,{"$f":"IF($C74=\"\",\"\",VLOOKUP($C74,INSCRITS!$D$4:$W$501,6,0))","v":""},{"$f":"IF($C74=\"\",\"\",VLOOKUP($C74,INSCRITS!$D$4:$W$501,7,0))","v":""},{"$f":"IF($C74=\"\",\"\",VLOOKUP($C74,INSCRITS!$D$4:$W$501,9,0))","v":""}]
[null,null,null,{"$f":"IF($C75=\"\",\"\",VLOOKUP($C75,INSCRITS!$D$4:$W$501,6,0))","v":""},{"$f":"IF($C75=\"\",\"\",VLOOKUP($C75,INSCRITS!$D$4:$W$501,7,0))","v":""},{"$f":"IF($C75=\"\",\"\",VLOOKUP($C75,INSCRITS!$D$4:$W$501,9,0))","v":""}]
[null,null,null,{"$f":"IF($C76=\"\",\"\",VLOOKUP($C76,INSCRITS!$D$4:$W$501,6,0))","v":""},{"$f":"IF($C76=\"\",\"\",VLOOKUP($C76,INSCRITS!$D$4:$W$501,7,0))","v":""},{"$f":"IF($C76=\"\",\"\",VLOOKUP($C76,INSCRITS!$D$4:$W$501,9,0))","v":""}]
[null,null,null,{"$f":"IF($C77=\"\",\"\",VLOOKUP($C77,INSCRITS!$D$4:$W$501,6,0))","v":""},{"$f":"IF($C77=\"\",\"\",VLOOKUP($C77,INSCRITS!$D$4:$W$501,7,0))","v":""},{"$f":"IF($C77=\"\",\"\",VLOOKUP($C77,INSCRITS!$D$4:$W$501,9,0))","v":""}]
[null,null,null,{"$f":"IF($C78=\"\",\"\",VLOOKUP($C78,INSCRITS!$D$4:$W$501,6,0))","v":""},{"$f":"IF($C78=\"\",\"\",VLOOKUP($C78,INSCRITS!$D$4:$W$501,7,0))","v":""},{"$f":"IF($C78=\"\",\"\",VLOOKUP($C78,INSCRITS!$D$4:$W$501,9,0))","v":""}]
[null,null,null,{"$f":"IF($C79=\"\",\"\",VLOOKUP($C79,INSCRITS!$D$4:$W$501,6,0))","v":""},{"$f":"IF($C79=\"\",\"\",VLOOKUP($C79,INSCRITS!$D$4:$W$501,7,0))","v":""},{"$f":"IF($C79=\"\",\"\",VLOOKUP($C79,INSCRITS!$D$4:$W$501,9,0))","v":""}]
[null,null,null,{"$f":"IF($C80=\"\",\"\",VLOOKUP($C80,INSCRITS!$D$4:$W$501,6,0))","v":""},{"$f":"IF($C80=\"\",\"\",VLOOKUP($C80,INSCRITS!$D$4:$W$501,7,0))","v":""},{"$f":"IF($C80=\"\",\"\",VLOOKUP($C80,INSCRITS!$D$4:$W$501,9,0))","v":""}]
[null,null,null,{"$f":"IF($C81=\"\",\"\",VLOOKUP($C81,INSCRITS!$D$4:$W$501,6,0))","v":""},{"$f":"IF($C81=\"\",\"\",VLOOKUP($C81,INSCRITS!$D$4:$W$501,7,0))","v":""},{"$f":"IF($C81=\"\",\"\",VLOOKUP($C81,INSCRITS!$D$4:$W$501,9,0))","v":""}]
[null,null,null,{"$f":"IF($C82=\"\",\"\",VLOOKUP($C82,INSCRITS!$D$4:$W$501,6,0))","v":""},{"$f":"IF($C82=\"\",\"\",VLOOKUP($C82,INSCRITS!$D$4:$W$501,7,0))","v":""},{"$f":"IF($C82=\"\",\"\",VLOOKUP($C82,INSCRITS!$D$4:$W$501,9,0))","v":""}]
[null,null,null,{"$f":"IF($C83=\"\",\"\",VLOOKUP($C83,INSCRITS!$D$4:$W$501,6,0))","v":""},{"$f":"IF($C83=\"\",\"\",VLOOKUP($C83,INSCRITS!$D$4:$W$501,7,0))","v":""},{"$f":"IF($C83=\"\",\"\",VLOOKUP($C83,INSCRITS!$D$4:$W$501,9,0))","v":""}]
[null,null,null,{"$f":"IF($C84=\"\",\"\",VLOOKUP($C84,INSCRITS!$D$4:$W$501,6,0))","v":""},{"$f":"IF($C84=\"\",\"\",VLOOKUP($C84,INSCRITS!$D$4:$W$501,7,0))","v":""},{"$f":"IF($C84=\"\",\"\",VLOOKUP($C84,INSCRITS!$D$4:$W$501,9,0))","v":""}]
[null,null,null,{"$f":"IF($C85=\"\",\"\",VLOOKUP($C85,INSCRITS!$D$4:$W$501,6,0))","v":""},{"$f":"IF($C85=\"\",\"\",VLOOKUP($C85,INSCRITS!$D$4:$W$501,7,0))","v":""},{"$f":"IF($C85=\"\",\"\",VLOOKUP($C85,INSCRITS!$D$4:$W$501,9,0))","v":""}]
[null,null,null,{"$f":"IF($C86=\"\",\"\",VLOOKUP($C86,INSCRITS!$D$4:$W$501,6,0))","v":""},{"$f":"IF($C86=\"\",\"\",VLOOKUP($C86,INSCRITS!$D$4:$W$501,7,0))","v":""},{"$f":"IF($C86=\"\",\"\",VLOOKUP($C86,INSCRITS!$D$4:$W$501,9,0))","v":""}]
[null,null,null,{"$f":"IF($C87=\"\",\"\",VLOOKUP($C87,INSCRITS!$D$4:$W$501,6,0))","v":""},{"$f":"IF($C87=\"\",\"\",VLOOKUP($C87,INSCRITS!$D$4:$W$501,7,0))","v":""},{"$f":"IF($C87=\"\",\"\",VLOOKUP($C87,INSCRITS!$D$4:$W$501,9,0))","v":""}]
[null,null,null,{"$f":"IF($C88=\"\",\"\",VLOOKUP($C88,INSCRITS!$D$4:$W$501,6,0))","v":""},{"$f":"IF($C88=\"\",\"\",VLOOKUP($C88,INSCRITS!$D$4:$W$501,7,0))","v":""},{"$f":"IF($C88=\"\",\"\",VLOOKUP($C88,INSCRITS!$D$4:$W$501,9,0))","v":""}]
[null,null,null,{"$f":"IF($C89=\"\",\"\",VLOOKUP($C89,INSCRITS!$D$4:$W$501,6,0))","v":""},{"$f":"IF($C89=\"\",\"\",VLOOKUP($C89,INSCRITS!$D$4:$W$501,7,0))","v":""},{"$f":"IF($C89=\"\",\"\",VLOOKUP($C89,INSCRITS!$D$4:$W$501,9,0))","v":""}]
[null,null,null,{"$f":"IF($C90=\"\",\"\",VLOOKUP($C90,INSCRITS!$D$4:$W$501,6,0))","v":""},{"$f":"IF($C90=\"\",\"\",VLOOKUP($C90,INSCRITS!$D$4:$W$501,7,0))","v":""},{"$f":"IF($C90=\"\",\"\",VLOOKUP($C90,INSCRITS!$D$4:$W$501,9,0))","v":""}]
[null,null,null,{"$f":"IF($C91=\"\",\"\",VLOOKUP($C91,INSCRITS!$D$4:$W$501,6,0))","v":""},{"$f":"IF($C91=\"\",\"\",VLOOKUP($C91,INSCRITS!$D$4:$W$501,7,0))","v":""},{"$f":"IF($C91=\"\",\"\",VLOOKUP($C91,INSCRITS!$D$4:$W$501,9,0))","v":""}]
[null,null,null,{"$f":"IF($C92=\"\",\"\",VLOOKUP($C92,INSCRITS!$D$4:$W$501,6,0))","v":""},{"$f":"IF($C92=\"\",\"\",VLOOKUP($C92,INSCRITS!$D$4:$W$501,7,0))","v":""},{"$f":"IF($C92=\"\",\"\",VLOOKUP($C92,INSCRITS!$D$4:$W$501,9,0))","v":""}]
[null,null,null,{"$f":"IF($C93=\"\",\"\",VLOOKUP($C93,INSCRITS!$D$4:$W$501,6,0))","v":""},{"$f":"IF($C93=\"\",\"\",VLOOKUP($C93,INSCRITS!$D$4:$W$501,7,0))","v":""},{"$f":"IF($C93=\"\",\"\",VLOOKUP($C93,INSCRITS!$D$4:$W$501,9,0))","v":""}]
[null,null,null,{"$f":"IF($C94=\"\",\"\",VLOOKUP($C94,INSCRITS!$D$4:$W$501,6,0))","v":""},{"$f":"IF($C94=\"\",\"\",VLOOKUP($C94,INSCRITS!$D$4:$W$501,7,0))","v":""},{"$f":"IF($C94=\"\",\"\",VLOOKUP($C94,INSCRITS!$D$4:$W$501,9,0))","v":""}]
[null,null,null,{"$f":"IF($C95=\"\",\"\",VLOOKUP($C95,INSCRITS!$D$4:$W$501,6,0))","v":""},{"$f":"IF($C95=\"\",\"\",VLOOKUP($C95,INSCRITS!$D$4:$W$501,7,0))","v":""},{"$f":"IF($C95=\"\",\"\",VLOOKUP($C95,INSCRITS!$D$4:$W$501,9,0))","v":""}]
[null,null,null,{"$f":"IF($C96=\"\",\"\",VLOOKUP($C96,INSCRITS!$D$4:$W$501,6,0))","v":""},{"$f":"IF($C96=\"\",\"\",VLOOKUP($C96,INSCRITS!$D$4:$W$501,7,0))","v":""},{"$f":"IF($C96=\"\",\"\",VLOOKUP($C96,INSCRITS!$D$4:$W$501,9,0))","v":""}]
[null,null,null,{"$f":"IF($C97=\"\",\"\",VLOOKUP($C97,INSCRITS!$D$4:$W$501,6,0))","v":""},{"$f":"IF($C97=\"\",\"\",VLOOKUP($C97,INSCRITS!$D$4:$W$501,7,0))","v":""},{"$f":"IF($C97=\"\",\"\",VLOOKUP($C97,INSCRITS!$D$4:$W$501,9,0))","v":""}]
[null,null,null,{"$f":"IF($C98=\"\",\"\",VLOOKUP($C98,INSCRITS!$D$4:$W$501,6,0))","v":""},{"$f":"IF($C98=\"\",\"\",VLOOKUP($C98,INSCRITS!$D$4:$W$501,7,0))","v":""},{"$f":"IF($C98=\"\",\"\",VLOOKUP($C98,INSCRITS!$D$4:$W$501,9,0))","v":""}]
[null,null,null,{"$f":"IF($C99=\"\",\"\",VLOOKUP($C99,INSCRITS!$D$4:$W$501,6,0))","v":""},{"$f":"IF($C99=\"\",\"\",VLOOKUP($C99,INSCRITS!$D$4:$W$501,7,0))","v":""},{"$f":"IF($C99=\"\",\"\",VLOOKUP($C99,INSCRITS!$D$4:$W$501,9,0))","v":""}]
[null,null,null,{"$f":"IF($C100=\"\",\"\",VLOOKUP($C100,INSCRITS!$D$4:$W$501,6,0))","v":""},{"$f":"IF($C100=\"\",\"\",VLOOKUP($C100,INSCRITS!$D$4:$W$501,7,0))","v":""},{"$f":"IF($C100=\"\",\"\",VLOOKUP($C100,INSCRITS!$D$4:$W$501,9,0))","v":""}]
[null,null,null,{"$f":"IF($C101=\"\",\"\",VLOOKUP($C101,INSCRITS!$D$4:$W$501,6,0))","v":""},{"$f":"IF($C101=\"\",\"\",VLOOKUP($C101,INSCRITS!$D$4:$W$501,7,0))","v":""},{"$f":"IF($C101=\"\",\"\",VLOOKUP($C101,INSCRITS!$D$4:$W$501,9,0))","v":""}]
[null,null,null,{"$f":"IF($C102=\"\",\"\",VLOOKUP($C102,INSCRITS!$D$4:$W$501,6,0))","v":""},{"$f":"IF($C102=\"\",\"\",VLOOKUP($C102,INSCRITS!$D$4:$W$501,7,0))","v":""},{"$f":"IF($C102=\"\",\"\",VLOOKUP($C102,INSCRITS!$D$4:$W$501,9,0))","v":""}]
[null,null,null,{"$f":"IF($C103=\"\",\"\",VLOOKUP($C103,[1]INSCRITS!$D$4:$W$501,6,0))","v":""},{"$f":"IF($C103=\"\",\"\",VLOOKUP($C103,[1]INSCRITS!$D$4:$W$501,7,0))","v":""},{"$f":"IF($C103=\"\",\"\",VLOOKUP($C103,[1]INSCRITS!$D$4:$W$501,9,0))","v":""}]
[null,null,null,{"$f":"IF($C104=\"\",\"\",VLOOKUP($C104,[1]INSCRITS!$D$4:$W$501,6,0))","v":""},{"$f":"IF($C104=\"\",\"\",VLOOKUP($C104,[1]INSCRITS!$D$4:$W$501,7,0))","v":""},{"$f":"IF($C104=\"\",\"\",VLOOKUP($C104,[1]INSCRITS!$D$4:$W$501,9,0))","v":""}]
[null,null,null,{"$f":"IF($C105=\"\",\"\",VLOOKUP($C105,[1]INSCRITS!$D$4:$W$501,6,0))","v":""},{"$f":"IF($C105=\"\",\"\",VLOOKUP($C105,[1]INSCRITS!$D$4:$W$501,7,0))","v":""},{"$f":"IF($C105=\"\",\"\",VLOOKUP($C105,[1]INSCRITS!$D$4:$W$501,9,0))","v":""}]
[null,null,null,{"$f":"IF($C106=\"\",\"\",VLOOKUP($C106,[1]INSCRITS!$D$4:$W$501,6,0))","v":""},{"$f":"IF($C106=\"\",\"\",VLOOKUP($C106,[1]INSCRITS!$D$4:$W$501,7,0))","v":""},{"$f":"IF($C106=\"\",\"\",VLOOKUP($C106,[1]INSCRITS!$D$4:$W$501,9,0))","v":""}]
[null,null,null,{"$f":"IF($C107=\"\",\"\",VLOOKUP($C107,[1]INSCRITS!$D$4:$W$501,6,0))","v":""},{"$f":"IF($C107=\"\",\"\",VLOOKUP($C107,[1]INSCRITS!$D$4:$W$501,7,0))","v":""},{"$f":"IF($C107=\"\",\"\",VLOOKUP($C107,[1]INSCRITS!$D$4:$W$501,9,0))","v":""}]
[null,null,null,{"$f":"IF($C108=\"\",\"\",VLOOKUP($C108,[1]INSCRITS!$D$4:$W$501,6,0))","v":""},{"$f":"IF($C108=\"\",\"\",VLOOKUP($C108,[1]INSCRITS!$D$4:$W$501,7,0))","v":""},{"$f":"IF($C108=\"\",\"\",VLOOKUP($C108,[1]INSCRITS!$D$4:$W$501,9,0))","v":""}]
[null,null,null,{"$f":"IF($C109=\"\",\"\",VLOOKUP($C109,[1]INSCRITS!$D$4:$W$501,6,0))","v":""},{"$f":"IF($C109=\"\",\"\",VLOOKUP($C109,[1]INSCRITS!$D$4:$W$501,7,0))","v":""},{"$f":"IF($C109=\"\",\"\",VLOOKUP($C109,[1]INSCRITS!$D$4:$W$501,9,0))","v":""}]

{"sheet":"RELAIS SPRINT","index":9,"n_rows":41,"n_cols":22,"rows_kept":41,"cut":false,"hidden":true,"merged":[[4,1,13,1],[14,1,23,1],[24,1,33,1]]}
[null,"QUART RELAIS SPRINT"]
[null,"Messieurs"]
[null,null,"CLUB","Composition","PLACE"]
[]
[null,"SERIE 1","MONTPELLIER AQUALOVE SAUVETAGE2","H",null,"THEO","Valentin","Junior","Amiens sauvetage","X","X","X","X",null,null,"X"]
[null,null,"SLRG INNERSCHWYZ (CH)","H",null,"LATAPIE","Robin","Junior","AQUALOVE","X","X","X","X","X","X"]
[null,null,"ALBI EN2","H",null,"MARCO","Clement","Junior","AQUALOVE","X","X","X","X","X","X"]
[null,null,"TOULOUSE CST 2","H",null,"MIGAYROU","Olivier","Junior","AQUALOVE","X","X","X","X","X","X"]
[null,null,"VITROLLE ESSV","H",null,"HAREL","Romain","Junior","ASCA44","X","X",null,"X",null,"X","X"]
[null,null,"TOULOUSE CST 1","H",null,"DOLE","François","Junior","ASCE DINARD","X","X","X","X","X","X","X"]
[null,null,"MONTPELLIER AQUALOVE SAUVETAGE1","H",null,"HERVE","Axel","Junior","ASCE DINARD","X","X","X","X","X","X","X"]
[null,null,"SLRG BERN","H",null,"HERVE","Axel","Junior","ASCE DINARD","X","X","X","X","X","X","X"]
[null,null,"HOSSEGOR SC2","H",null,"POUTRIQUET","Maxime","Junior","ASCE DINARD","X","X","X","X","X","X","X","NOM","Composition","PLACE",null,"PLACE","PTS"]
[null,null,"FRONTON DF","H",null,"RIGOT","Quentin","Junior","ASCE DINARD","X","X","X","X","X","X","X"]
[null,"SERIE 2","COLMAR ACSS","H",null,"DABCHY","Yassine","Junior","ASCE DINARD ","X","X","X","X","X","X","X","HOSSEGOR SC1","A",1,null,1,{"$f":"IF(U15=\"\",\"\",VLOOKUP(U15,points,2))","v":20}]
[null,null,"PERPIGNAN ESN","H",null,"JEHAN","Thomas","Junior","ASCE DINARD ","X","X","X","X","X","X","X","HOSSEGOR SC2","A",2,null,2,18]
[null,null,"NEDERLAND2","H",null,"FOS","Robin","Junior","BEGLES","X","X","X","X","X","X",null,"NEDERLAND1","A",3,null,3,16]
[null,null,"GERMANY1","H",null,"HAZERA","Olivier","Junior","BEGLES","X","X",null,"X","X","X",null,"MONTPELLIER AQUALOVE SAUVETAGE1","A",4,null,4,14]
[null,null,"GERMANY2","H",null,"PHILIPPEAU","Jodicael","Junior","BEGLES","X","X","X","X","X","X",null,"ALCARREÑO SALVAMENTO","A",5,null,5,13]
[null,null,"MARSEILLE ASPTT2","H",null,"CALEY","Simon","Junior","Biarritz SC","X","X","X","X",null,null,"X","GERMANY2","A",6,null,6,12]
[null,null,"ALBI EN1","H",null,"GASQUET","Mathieu","Junior","Biarritz SC","X",null,"X","X",null,null,"X","SETE MNSL1","A",7,null,7,11]
[null,null,"SETE MNSL2","H",null,"SORIA","Samuel","Junior","Biarritz SC","X","X","X","X","X","X","X","TOULOUSE CST 1","A",8,null,8,10]
[null,null,"HOSSEGOR SC1","H",null,"KATOUH","Karim","Junior","Cannes Sauvetage Côtier","X","X","X","X",null,null,null,"ALBI EN1","A",9,null,9,8]
[null,null,"CANNES SAUVETAGE CÔTIER","H",null,"DUSSES","Sykvain","Junior","Capbreton","X","X","X","X",null,null,null,null,null,null,null,null,""]
[null,"SERIE 3","SETE MNSL1","H",null,"GLIZE","Corentin","Junior","Capbreton",null,"X",null,"X",null,null,null,null,null,null,null,null,""]
[null,null,"NEDERLAND1","H",null,"DUBOIS CONSTANT","Antoine","Junior","EMULATION SAUVETAGE NATATION PERPIGNAN","X","X","X","X","X","X",null,null,null,null,null,null,""]
[null,null,"CAPBRETON SC","H",null,"BLANC","Guillaume","Junior","ENA","X","X","X","X","X","X",null,"BEGLES S","B",1,null,10,7]
[null,null,"BIARRITZ SC2","H",null,"BONNAFONT","Charles","Junior","ENA","X","X","X","X",null,null,null,"PERPIGNAN ESN","B",2,null,11,6]
[null,null,"BEGLES S","H",null,"COUTANCEAU","Guillaume","Junior","ENA",null,null,"X","X",null,null,null,"SETE MNSL2","B",3,null,12,5]
[null,null,"MARSEILLE ASPTT1","H",null,"CARISSAN","Ludovic","Junior","epstn","X","X","X","X",null,null,"X","TOULOUSE CST 2","B",5,null,13,4]
[null,null,"MARSEILLE ESM","H",null,"DEHEZ","Rémy","Junior","HSC","X","X","X","X","X","X",null,"DLRG KELKHEIM","B",6,null,14,3]
[null,null,"DLRG KELKHEIM","H",null,"FERRIER","Paul","Junior","HSC","X","X","X","X",null,null,null,"COLMAR ACSS","B",7,null,15,2]
[null,null,"BIARRITZ SC1","H",null,"SOULE SUSBIELLE","Xavier","Junior","HSC",null,"X",null,"X",null,null,null,"MARSEILLE ASPTT2","B",8,null,16,1]
[null,null,"ALCARREÑO SALVAMENTO","H",null,"BLOUIN","Roman","Junior","MIMIZAN SAUVETAGE",null,null,null,null,null,null,null,"NEDERLAND2","B",9,null,17,0]
[null,"SERIE 4",null,"H",null,"DUBLINEAU","Clément","Junior","MIMIZAN SAUVETAGE",null,"X","X","X",null,null,"X"]
[null,null,null,"H",null,"GONZALES","Ulysse","Junior","MIMIZAN SAUVETAGE","X","X","X","X",null,null,"X"]
[null,null,null,"H",null,"MAILHÉ","Loic","Junior","MNSL","X","X",null,"X","X","X","X"]
[null,null,null,"H",null,"NOGUES","Remi","Junior","MNSL","X","X",null,"X","X","X","X"]
[null,null,null,"H",null,"SUBRA","Olivier","Junior","MNSL","X","X",null,"X","X","X","X"]
[null,null,null,"H",null,"ZAMBELLI","Sylvain","Junior","MNSL","X","X",null,"X","X","X","X"]
[null,null,null,"H",null,"RUAULT","Briag","Junior","RENNES BREIZH SAUVETAGE COTIER","X","X","X","X","X"]

{"sheet":"RELAIS TUBE","index":10,"n_rows":46,"n_cols":24,"rows_kept":46,"cut":false,"hidden":true,"merged":[[4,1,12,1],[14,16,22,16],[27,16,35,16],[13,1,21,1],[22,1,30,1],[31,1,39,1]]}
[null,"QUART RELAIS BOUEE TUBE"]
[null,"MESSIEURS"]
[null,null,"N°","CLUB","Composition","PLACE"]
[]
[null,"SERIE 1",null,"H",null,"THEO","Valentin","Junior","Amiens sauvetage","X","X","X","X",null,null,"X"]
[null,null,null,"H",null,"LATAPIE","Robin","Junior","AQUALOVE","X","X","X","X","X","X"]
[null,null,null,"H",null,"MARCO","Clement","Junior","AQUALOVE","X","X","X","X","X","X"]
[null,null,null,"H",null,"MIGAYROU","Olivier","Junior","AQUALOVE","X","X","X","X","X","X"]
[null,null,null,"H",null,"HAREL","Romain","Junior","ASCA44","X","X",null,"X",null,"X","X"]
[null,null,null,"H",null,"DOLE","François","Junior","ASCE DINARD","X","X","X","X","X","X","X"]
[null,null,null,"H",null,"HERVE","Axel","Junior","ASCE DINARD","X","X","X","X","X","X","X","FINALES RELAIS BOUEE TUBE"]
[null,null,null,"H",null,"HERVE","Axel","Junior","ASCE DINARD","X","X","X","X","X","X","X"]
[null,null,null,"H",null,"POUTRIQUET","Maxime","Junior","ASCE DINARD","X","X","X","X","X","X","X",null,"N°","NOM","Composition","PLACE",null,"PLACE","PTS"]
[null,"SERIE 2",null,"H",null,"RIGOT","Quentin","Junior","ASCE DINARD","X","X","X","X","X","X","X"]
[null,null,null,"H",null,"DABCHY","Yassine","Junior","ASCE DINARD ","X","X","X","X","X","X","X","FINALE A",null,{"$f":"IF($R15=\"\",\"\",VLOOKUP($R15,INSCRITS!$D$4:$W$501,6,0))","v":""},null,null,null,null,{"$f":"IF(W15=\"\",\"\",VLOOKUP(W15,points,2))","v":""}]
[null,null,null,"H",null,"JEHAN","Thomas","Junior","ASCE DINARD ","X","X","X","X","X","X","X",null,null,{"$f":"IF($R16=\"\",\"\",VLOOKUP($R16,INSCRITS!$D$4:$W$501,6,0))","v":""},null,null,null,null,""]
[null,null,null,"H",null,"FOS","Robin","Junior","BEGLES","X","X","X","X","X","X",null,null,null,{"$f":"IF($R17=\"\",\"\",VLOOKUP($R17,INSCRITS!$D$4:$W$501,6,0))","v":""},null,null,null,null,""]
[null,null,null,"H",null,"HAZERA","Olivier","Junior","BEGLES","X","X",null,"X","X","X"]
[null,null,null,"H",null,"PHILIPPEAU","Jodicael","Junior","BEGLES","X","X","X","X","X","X",null,null,null,{"$f":"IF($R19=\"\",\"\",VLOOKUP($R19,INSCRITS!$D$4:$W$501,6,0))","v":""},null,null,null,null,""]
[null,null,null,"H",null,"CALEY","Simon","Junior","Biarritz SC","X","X","X","X",null,null,"X",null,null,{"$f":"IF($R20=\"\",\"\",VLOOKUP($R20,INSCRITS!$D$4:$W$501,6,0))","v":""},null,null,null,null,""]
[null,null,null,"H",null,"GASQUET","Mathieu","Junior","Biarritz SC","X",null,"X","X",null,null,"X",null,null,{"$f":"IF($R21=\"\",\"\",VLOOKUP($R21,INSCRITS!$D$4:$W$501,6,0))","v":""},null,null,null,null,""]
[null,null,null,"H",null,"SORIA","Samuel","Junior","Biarritz SC","X","X","X","X","X","X","X",null,null,{"$f":"IF($R22=\"\",\"\",VLOOKUP($R22,INSCRITS!$D$4:$W$501,6,0))","v":""},null,null,null,null,""]
[null,"SERIE 3",null,"H",null,"KATOUH","Karim","Junior","Cannes Sauvetage Côtier","X","X","X","X",null,null,null,null,null,{"$f":"IF($R23=\"\",\"\",VLOOKUP($R23,INSCRITS!$D$4:$W$501,6,0))","v":""},null,null,null,null,""]
[null,null,null,"H",null,"DUSSES","Sykvain","Junior","Capbreton","X","X","X","X"]
[null,null,null,"H",null,"GLIZE","Corentin","Junior","Capbreton",null,"X",null,"X"]
[null,null,null,"H",null,"DUBOIS CONSTANT","Antoine","Junior","EMULATION SAUVETAGE NATATION PERPIGNAN","X","X","X","X","X","X"]
[null,null,null,"H",null,"BLANC","Guillaume","Junior","ENA","X","X","X","X","X","X"]
[null,null,null,"H",null,"BONNAFONT","Charles","Junior","ENA","X","X","X","X",null,null,null,"FINALE B",null,{"$f":"IF($R28=\"\",\"\",VLOOKUP($R28,INSCRITS!$D$4:$W$501,6,0))","v":""},null,null,null,null,{"$f":"IF(W28=\"\",\"\",VLOOKUP(W28,points,2))","v":""}]
[null,null,null,"H",null,"COUTANCEAU","Guillaume","Junior","ENA",null,null,"X","X",null,null,null,null,null,{"$f":"IF($R29=\"\",\"\",VLOOKUP($R29,INSCRITS!$D$4:$W$501,6,0))","v":""},null,null,null,null,""]
[null,null,null,"H",null,"CARISSAN","Ludovic","Junior","epstn","X","X","X","X",null,null,"X"]
[null,null,null,"H",null,"DEHEZ","Rémy","Junior","HSC","X","X","X","X","X","X",null,null,null,{"$f":"IF($R31=\"\",\"\",VLOOKUP($R31,INSCRITS!$D$4:$W$501,6,0))","v":""},null,null,null,null,""]
[null,"SERIE 4",null,"H",null,"FERRIER","Paul","Junior","HSC","X","X","X","X",null,null,null,null,null,{"$f":"IF($R32=\"\",\"\",VLOOKUP($R32,INSCRITS!$D$4:$W$501,6,0))","v":""},null,null,null,null,""]
[null,null,null,"H",null,"SOULE SUSBIELLE","Xavier","Junior","HSC",null,"X",null,"X",null,null,null,null,null,{"$f":"IF($R33=\"\",\"\",VLOOKUP($R33,INSCRITS!$D$4:$W$501,6,0))","v":""},null,null,null,null,""]
[null,null,null,"H",null,"BLOUIN","Roman","Junior","MIMIZAN SAUVETAGE",null,null,null,null,null,null,null,null,null,{"$f":"IF($R34=\"\",\"\",VLOOKUP($R34,INSCRITS!$D$4:$W$501,6,0))","v":""},null,null,null,null,""]
[null,null,null,"H",null,"DUBLINEAU","Clément","Junior","MIMIZAN SAUVETAGE",null,"X","X","X",null,null,"X",null,null,{"$f":"IF($R35=\"\",\"\",VLOOKUP($R35,INSCRITS!$D$4:$W$501,6,0))","v":""},null,null,null,null,""]
[null,null,null,"H",null,"GONZALES","Ulysse","Junior","MIMIZAN SAUVETAGE","X","X","X","X",null,null,"X",null,null,{"$f":"IF($R36=\"\",\"\",VLOOKUP($R36,INSCRITS!$D$4:$W$501,6,0))","v":""},null,null,null,null,""]
[null,null,null,"H",null,"MAILHÉ","Loic","Junior","MNSL","X","X",null,"X","X","X","X"]
[null,null,null,"H",null,"NOGUES","Remi","Junior","MNSL","X","X",null,"X","X","X","X"]
[null,null,null,"H",null,"SUBRA","Olivier","Junior","MNSL","X","X",null,"X","X","X","X"]
[null,null,null,"H",null,"ZAMBELLI","Sylvain","Junior","MNSL","X","X",null,"X","X","X","X"]
[null,null,null,"H",null,"RUAULT","Briag","Junior","RENNES BREIZH SAUVETAGE COTIER","X","X","X","X","X"]
[]
[null,null,null,{"$f":"IF($C43=\"\",\"\",VLOOKUP($C43,INSCRITS!$D$4:$W$501,6,0))","v":""}]
[null,null,null,{"$f":"IF($C44=\"\",\"\",VLOOKUP($C44,INSCRITS!$D$4:$W$501,6,0))","v":""}]
[null,null,null,{"$f":"IF($C45=\"\",\"\",VLOOKUP($C45,INSCRITS!$D$4:$W$501,6,0))","v":""}]
[null,null,null,{"$f":"IF($C46=\"\",\"\",VLOOKUP($C46,INSCRITS!$D$4:$W$501,6,0))","v":""}]

{"sheet":"SAUV PLANCHE","index":11,"n_rows":49,"n_cols":24,"rows_kept":49,"cut":false,"hidden":true,"merged":[[40,1,48,1],[4,1,12,1],[14,16,22,16],[27,16,35,16],[13,1,21,1],[22,1,30,1],[31,1,39,1]]}
[null,"QUART SAUVETAGE PLANCHE"]
[null,"Messieurs"]
[null,null,"N°","CLUB","Composition","PLACE"]
[]
[null,"SERIE 1",null,"H",null,"THEO","Valentin","Junior","Amiens sauvetage","X","X","X","X",null,null,"X"]
[null,null,null,"H",null,"LATAPIE","Robin","Junior","AQUALOVE","X","X","X","X","X","X"]
[null,null,null,"H",null,"MARCO","Clement","Junior","AQUALOVE","X","X","X","X","X","X"]
[null,null,null,"H",null,"MIGAYROU","Olivier","Junior","AQUALOVE","X","X","X","X","X","X"]
[null,null,null,"H",null,"HAREL","Romain","Junior","ASCA44","X","X",null,"X",null,"X","X"]
[null,null,null,"H",null,"DOLE","François","Junior","ASCE DINARD","X","X","X","X","X","X","X"]
[null,null,null,"H",null,"HERVE","Axel","Junior","ASCE DINARD","X","X","X","X","X","X","X","FINALES SAUVETAGE PLANCHE"]
[null,null,null,"H",null,"HERVE","Axel","Junior","ASCE DINARD","X","X","X","X","X","X","X","MESSIEURS"]
[null,null,null,"H",null,"POUTRIQUET","Maxime","Junior","ASCE DINARD","X","X","X","X","X","X","X",null,"N°","NOM","Composition","PLACE",null,"PLACE","PTS"]
[null,"SERIE 2",null,"H",null,"RIGOT","Quentin","Junior","ASCE DINARD","X","X","X","X","X","X","X"]
[null,null,null,"H",null,"DABCHY","Yassine","Junior","ASCE DINARD ","X","X","X","X","X","X","X","FINALE A",null,"BIARRITZ SC1",null,null,null,1,{"$f":"IF(W15=\"\",\"\",VLOOKUP(W15,points,2))","v":20}]
[null,null,null,"H",null,"JEHAN","Thomas","Junior","ASCE DINARD ","X","X","X","X","X","X","X",null,null,"HOSSEGOR SC1",null,null,null,2,18]
[null,null,null,"H",null,"FOS","Robin","Junior","BEGLES","X","X","X","X","X","X",null,null,null,"NEDERLAND 1",null,null,null,3,16]
[null,null,null,"H",null,"HAZERA","Olivier","Junior","BEGLES","X","X",null,"X","X","X",null,null,null,"COLMARS ACSS 1",null,null,null,4,14]
[null,null,null,"H",null,"PHILIPPEAU","Jodicael","Junior","BEGLES","X","X","X","X","X","X",null,null,null,"NEDERLAND 2",null,null,null,5,13]
[null,null,null,"H",null,"CALEY","Simon","Junior","Biarritz SC","X","X","X","X",null,null,"X",null,null,"CAPBRETON SC 1",null,null,null,6,12]
[null,null,null,"H",null,"GASQUET","Mathieu","Junior","Biarritz SC","X",null,"X","X",null,null,"X",null,null,"ALCARREÑO SALVAMENTO1",null,null,null,7,11]
[null,null,null,"H",null,"SORIA","Samuel","Junior","Biarritz SC","X","X","X","X","X","X","X",null,null,"HOSSEGOR SC2",null,null,null,"Disq"]
[null,"SERIE 3",null,"H",null,"KATOUH","Karim","Junior","Cannes Sauvetage Côtier","X","X","X","X",null,null,null,null,null,{"$f":"IF($R23=\"\",\"\",VLOOKUP($R23,INSCRITS!$D$4:$W$501,6,0))","v":""},null,null,null,null,{"$f":"IF(W23=\"\",\"\",VLOOKUP(W23,points,2))","v":""}]
[null,null,null,"H",null,"DUSSES","Sykvain","Junior","Capbreton","X","X","X","X"]
[null,null,null,"H",null,"GLIZE","Corentin","Junior","Capbreton",null,"X",null,"X"]
[null,null,null,"H",null,"DUBOIS CONSTANT","Antoine","Junior","EMULATION SAUVETAGE NATATION PERPIGNAN","X","X","X","X","X","X"]
[null,null,null,"H",null,"BLANC","Guillaume","Junior","ENA","X","X","X","X","X","X"]
[null,null,null,"H",null,"BONNAFONT","Charles","Junior","ENA","X","X","X","X",null,null,null,"FINALE B",null,"MONTEPELLIER AQUALOVE2",null,null,null,9,{"$f":"IF(W28=\"\",\"\",VLOOKUP(W28,points,2))","v":8}]
[null,null,null,"H",null,"COUTANCEAU","Guillaume","Junior","ENA",null,null,"X","X",null,null,null,null,null,"SETES MNSL1",null,null,null,10,7]
[null,null,null,"H",null,"CARISSAN","Ludovic","Junior","epstn","X","X","X","X",null,null,"X",null,null,"LOUVAIN",null,null,null,11,6]
[null,null,null,"H",null,"DEHEZ","Rémy","Junior","HSC","X","X","X","X","X","X",null,null,null,"CANNES 2",null,null,null,12,5]
[null,"SERIE 4",null,"H",null,"FERRIER","Paul","Junior","HSC","X","X","X","X",null,null,null,null,null,"GERMANY 1",null,null,null,13,4]
[null,null,null,"H",null,"SOULE SUSBIELLE","Xavier","Junior","HSC",null,"X",null,"X",null,null,null,null,null,"SLRG INNERSCHWYZ (CH)2",null,null,null,14,3]
[null,null,null,"H",null,"BLOUIN","Roman","Junior","MIMIZAN SAUVETAGE",null,null,null,null,null,null,null,null,null,"MARSEILLE ESM1",null,null,null,15,2]
[null,null,null,"H",null,"DUBLINEAU","Clément","Junior","MIMIZAN SAUVETAGE",null,"X","X","X",null,null,"X",null,null,"ALBI EN 2",null,null,null,16,1]
[null,null,null,"H",null,"GONZALES","Ulysse","Junior","MIMIZAN SAUVETAGE","X","X","X","X",null,null,"X",null,null,{"$f":"IF($R36=\"\",\"\",VLOOKUP($R36,INSCRITS!$D$4:$W$501,6,0))","v":""},null,null,null,null,{"$f":"IF(W36=\"\",\"\",VLOOKUP(W36,points,2))","v":""}]
[null,null,null,"H",null,"MAILHÉ","Loic","Junior","MNSL","X","X",null,"X","X","X","X"]
[null,null,null,"H",null,"NOGUES","Remi","Junior","MNSL","X","X",null,"X","X","X","X"]
[null,null,null,"H",null,"SUBRA","Olivier","Junior","MNSL","X","X",null,"X","X","X","X"]
[null,null,null,"H",null,"ZAMBELLI","Sylvain","Junior","MNSL","X","X",null,"X","X","X","X"]
[null,"SERIE 5",null,"H",null,"RUAULT","Briag","Junior","RENNES BREIZH SAUVETAGE COTIER","X","X","X","X","X"]
[null,null,null,"MONTPELLIER AQUALOVE SAUVETAGE1"]
[null,null,null,"CAPBRETON SC2"]
[null,null,null,"CAPBRETON SC1"]
[null,null,null,"ALCARREÑO SALVAMENTO2"]
[null,null,null,"NEDERLAND2"]
[null,null,null,"GERMANY1"]
[null,null,null,"NEDERLAND1"]
[null,null,null,"TOULOUSE CST1"]

{"sheet":"RELAIS COMBINE","index":12,"n_rows":41,"n_cols":16,"rows_kept":41,"cut":false,"hidden":true,"merged":[[4,1,19,1],[24,1,39,1]]}
[null,"DEMIE  FINALE RELAIS COMBINE"]
[null,"MESSIEURS"]
[null,null,"CLUB","Composition","PLACE"]
[]
[null,"SERIE 1","SETE MNSL2","H",null,"THEO","Valentin","Junior","Amiens sauvetage","X","X","X","X",null,null,"X"]
[null,null,"NEDERLAND1","H",null,"LATAPIE","Robin","Junior","AQUALOVE","X","X","X","X","X","X"]
[null,null,"DLRG KELKHEIM","H",null,"MARCO","Clement","Junior","AQUALOVE","X","X","X","X","X","X"]
[null,null,"COLMAR ACSS","H",null,"MIGAYROU","Olivier","Junior","AQUALOVE","X","X","X","X","X","X"]
[null,null,"MONTPELLIER AQUALOVE SAUVETAGE1","H",null,"HAREL","Romain","Junior","ASCA44","X","X",null,"X",null,"X","X"]
[null,null,"CAPBRETON SC","H",null,"DOLE","François","Junior","ASCE DINARD","X","X","X","X","X","X","X"]
[null,null,"GERMANY1","H",null,"HERVE","Axel","Junior","ASCE DINARD","X","X","X","X","X","X","X"]
[null,null,"ALBI EN2","H",null,"HERVE","Axel","Junior","ASCE DINARD","X","X","X","X","X","X","X"]
[null,null,"GERMANY2","H",null,"POUTRIQUET","Maxime","Junior","ASCE DINARD","X","X","X","X","X","X","X"]
[null,null,"BIARRITZ SC1","H",null,"RIGOT","Quentin","Junior","ASCE DINARD","X","X","X","X","X","X","X"]
[null,null,"FRONTON DF","H",null,"DABCHY","Yassine","Junior","ASCE DINARD ","X","X","X","X","X","X","X"]
[null,null,"SLRG BERN","H",null,"JEHAN","Thomas","Junior","ASCE DINARD ","X","X","X","X","X","X","X"]
[null,null,"SETE MNSL1","H",null,"FOS","Robin","Junior","BEGLES","X","X","X","X","X","X"]
[null,null,"ALBI EN1","H",null,"HAZERA","Olivier","Junior","BEGLES","X","X",null,"X","X","X"]
[null,null,"PERPIGNAN ESN","H",null,"PHILIPPEAU","Jodicael","Junior","BEGLES","X","X","X","X","X","X"]
[null,null,null,"H",null,"CALEY","Simon","Junior","Biarritz SC","X","X","X","X",null,null,"X"]
[null,null,null,"H",null,"GASQUET","Mathieu","Junior","Biarritz SC","X",null,"X","X",null,null,"X"]
[null,null,null,"H",null,"SORIA","Samuel","Junior","Biarritz SC","X","X","X","X","X","X","X"]
[null,null,null,"H",null,"KATOUH","Karim","Junior","Cannes Sauvetage Côtier","X","X","X","X"]
[null,null,null,"H",null,"DUSSES","Sykvain","Junior","Capbreton","X","X","X","X"]
[null,"SERIE 2","HOSSEGOR SC1","H",null,"GLIZE","Corentin","Junior","Capbreton",null,"X",null,"X"]
[null,null,"ALCARREÑO SALVAMENTO","H",null,"DUBOIS CONSTANT","Antoine","Junior","EMULATION SAUVETAGE NATATION PERPIGNAN","X","X","X","X","X","X"]
[null,null,"HOSSEGOR SC2","H",null,"BLANC","Guillaume","Junior","ENA","X","X","X","X","X","X"]
[null,null,"MARSEILLE ESM","H",null,"BONNAFONT","Charles","Junior","ENA","X","X","X","X"]
[null,null,"NEDERLAND2","H",null,"COUTANCEAU","Guillaume","Junior","ENA",null,null,"X","X"]
[null,null,"BIARRITZ SC2","H",null,"CARISSAN","Ludovic","Junior","epstn","X","X","X","X",null,null,"X"]
[null,null,"BEGLES S","H",null,"DEHEZ","Rémy","Junior","HSC","X","X","X","X","X","X"]
[null,null,"MARSEILLE ASPTT2","H",null,"FERRIER","Paul","Junior","HSC","X","X","X","X"]
[null,null,"VITROLLE ESSV","H",null,"SOULE SUSBIELLE","Xavier","Junior","HSC",null,"X",null,"X"]
[null,null,"SLRG INNERSCHWYZ (CH)","H",null,"BLOUIN","Roman","Junior","MIMIZAN SAUVETAGE"]
[null,null,"MARSEILLE ASPTT1","H",null,"DUBLINEAU","Clément","Junior","MIMIZAN SAUVETAGE",null,"X","X","X",null,null,"X"]
[null,null,"TOULOUSE CST 1","H",null,"GONZALES","Ulysse","Junior","MIMIZAN SAUVETAGE","X","X","X","X",null,null,"X"]
[null,null,"CANNES SAUVETAGE CÔTIER","H",null,"MAILHÉ","Loic","Junior","MNSL","X","X",null,"X","X","X","X"]
[null,null,"TOULOUSE CST 2","H",null,"NOGUES","Remi","Junior","MNSL","X","X",null,"X","X","X","X"]
[null,null,"MONTPELLIER AQUALOVE SAUVETAGE2","H",null,"SUBRA","Olivier","Junior","MNSL","X","X",null,"X","X","X","X"]
[null,null,null,"H",null,"ZAMBELLI","Sylvain","Junior","MNSL","X","X",null,"X","X","X","X"]
[null,null,null,"H",null,"RUAULT","Briag","Junior","RENNES BREIZH SAUVETAGE COTIER","X","X","X","X","X"]

{"sheet":"EQUIPE","index":13,"n_rows":41,"n_cols":16,"rows_kept":41,"cut":false,"hidden":true,"merged":[[2,1,2,10]]}
[]
[]
[null,"RESULTATS"]
[]
[null,null,null,"H",null,"THEO","Valentin","Junior","Amiens sauvetage","X","X","X","X",null,null,"X"]
[null,"Places","Clubs","H",null,"LATAPIE","Robin","Junior","AQUALOVE","X","X","X","X","X","X"]
[null,1,null,"H",null,"MARCO","Clement","Junior","AQUALOVE","X","X","X","X","X","X"]
[null,2,null,"H",null,"MIGAYROU","Olivier","Junior","AQUALOVE","X","X","X","X","X","X"]
[null,3,null,"H",null,"HAREL","Romain","Junior","ASCA44","X","X",null,"X",null,"X","X"]
[null,4,null,"H",null,"DOLE","François","Junior","ASCE DINARD","X","X","X","X","X","X","X"]
[null,5,null,"H",null,"HERVE","Axel","Junior","ASCE DINARD","X","X","X","X","X","X","X"]
[null,6,null,"H",null,"HERVE","Axel","Junior","ASCE DINARD","X","X","X","X","X","X","X"]
[null,7,null,"H",null,"POUTRIQUET","Maxime","Junior","ASCE DINARD","X","X","X","X","X","X","X"]
[null,8,null,"H",null,"RIGOT","Quentin","Junior","ASCE DINARD","X","X","X","X","X","X","X"]
[null,9,null,"H",null,"DABCHY","Yassine","Junior","ASCE DINARD ","X","X","X","X","X","X","X"]
[null,10,null,"H",null,"JEHAN","Thomas","Junior","ASCE DINARD ","X","X","X","X","X","X","X"]
[null,11,null,"H",null,"FOS","Robin","Junior","BEGLES","X","X","X","X","X","X"]
[null,12,null,"H",null,"HAZERA","Olivier","Junior","BEGLES","X","X",null,"X","X","X"]
[null,13,null,"H",null,"PHILIPPEAU","Jodicael","Junior","BEGLES","X","X","X","X","X","X"]
[null,14,null,"H",null,"CALEY","Simon","Junior","Biarritz SC","X","X","X","X",null,null,"X"]
[null,15,null,"H",null,"GASQUET","Mathieu","Junior","Biarritz SC","X",null,"X","X",null,null,"X"]
[null,16,null,"H",null,"SORIA","Samuel","Junior","Biarritz SC","X","X","X","X","X","X","X"]
[null,17,null,"H",null,"KATOUH","Karim","Junior","Cannes Sauvetage Côtier","X","X","X","X"]
[null,18,null,"H",null,"DUSSES","Sykvain","Junior","Capbreton","X","X","X","X"]
[null,19,null,"H",null,"GLIZE","Corentin","Junior","Capbreton",null,"X",null,"X"]
[null,20,null,"H",null,"DUBOIS CONSTANT","Antoine","Junior","EMULATION SAUVETAGE NATATION PERPIGNAN","X","X","X","X","X","X"]
[null,21,null,"H",null,"BLANC","Guillaume","Junior","ENA","X","X","X","X","X","X"]
[null,22,null,"H",null,"BONNAFONT","Charles","Junior","ENA","X","X","X","X"]
[null,23,null,"H",null,"COUTANCEAU","Guillaume","Junior","ENA",null,null,"X","X"]
[null,24,null,"H",null,"CARISSAN","Ludovic","Junior","epstn","X","X","X","X",null,null,"X"]
[null,25,null,"H",null,"DEHEZ","Rémy","Junior","HSC","X","X","X","X","X","X"]
[null,26,null,"H",null,"FERRIER","Paul","Junior","HSC","X","X","X","X"]
[null,27,null,"H",null,"SOULE SUSBIELLE","Xavier","Junior","HSC",null,"X",null,"X"]
[null,28,null,"H",null,"BLOUIN","Roman","Junior","MIMIZAN SAUVETAGE"]
[null,29,null,"H",null,"DUBLINEAU","Clément","Junior","MIMIZAN SAUVETAGE",null,"X","X","X",null,null,"X"]
[null,30,null,"H",null,"GONZALES","Ulysse","Junior","MIMIZAN SAUVETAGE","X","X","X","X",null,null,"X"]
[null,null,null,"H",null,"MAILHÉ","Loic","Junior","MNSL","X","X",null,"X","X","X","X"]
[null,null,null,"H",null,"NOGUES","Remi","Junior","MNSL","X","X",null,"X","X","X","X"]
[null,null,null,"H",null,"SUBRA","Olivier","Junior","MNSL","X","X",null,"X","X","X","X"]
[null,null,null,"H",null,"ZAMBELLI","Sylvain","Junior","MNSL","X","X",null,"X","X","X","X"]
[null,null,null,"H",null,"RUAULT","Briag","Junior","RENNES BREIZH SAUVETAGE COTIER","X","X","X","X","X"]