{"text_format":"1","workbook":"xlsx","n_sheets":14,"sheets":["RESULTATS","INSCRITS","SPRINT","BATONS","NAGE","PLANCHE","SURFSKI","OCEANMAN","CNC","RELAIS SPRINT","RELAIS TUBE","SAUV PLANCHE","RELAIS COMBINE","EQUIPE"],"not_rendered":{"charts":0,"images":16,"macros":1,"external_links":0,"defined_names":16,"comments":0,"pivot_tables":0},"unopened":[],"bounds":{"document_bytes":16777216,"sheet_cells":100000,"rows_first":2000,"rows_last":500,"rows_between":2000,"halvings":0,"cell_chars":16384,"cell_head_chars":4096},"cells_cut":0,"cells_raw":0,"read":"whole","date_system":"1900"}

{"sheet":"RESULTATS","index":0,"n_rows":133,"n_cols":45,"rows_kept":133,"cut":false,"hidden":true,"merged":[[0,0,0,30],[1,0,1,30],[3,0,3,4],[3,31,3,43],[3,9,3,30]]}
[]
[]
["N°","n° Licence","Année","Sexe  M. ou F.","Date de Naissance","NOM","Prénom","Cat.","Club","SPRINT","Pl.","Pts","BATONS","Pl.","Pts","PLANCHE","Pl.","Pts","NAGE","Pl.","Pts","SURF SKI","Pl.","Pts","OCEANMAN","Pl.","Pts","CNC","Pl.","Pts","TOTAUX","Relais sprint","Pl.","Pts","Relais Bouée Tube","Pl.","Pts","Sauvetage Planche","Pl.","Pts","Relais Combiné","Pl.","Pts","TOTAUX","TOTAL GENERAL"]
["Messieurs",null,null,null,null,null,null,null,null,"INDIVIDUELLE",null,null,null,null,null,null,null,null,null,null,null,null,null,null,null,null,null,null,null,null,null,"RELAIS"]
[121,{"$f":"IF($A5=\"\",\"\",VLOOKUP($A5,INSCRITS!$D$4:$W$501,2,0))","v":0},{"$f":"IF($A5=\"\",\"\",VLOOKUP($A5,INSCRITS!$D$4:$W$501,3,0))","v":1996},{"$f":"IF($A5=\"\",\"\",VLOOKUP($A5,INSCRITS!$D$4:$W$501,4,0))","v":"H"},{"$f":"IF($A5=\"\",\"\",VLOOKUP($A5,INSCRITS!$D$4:$W$501,5,0))","v":"00:00:00"},{"$f":"IF($A5=\"\",\"\",VLOOKUP($A5,INSCRITS!$D$4:$W$501,6,0))","v":"COSSART"},{"$f":"IF($A5=\"\",\"\",VLOOKUP($A5,INSCRITS!$D$4:$W$501,7,0))","v":"Théo"},{"$f":"IF($A5=\"\",\"\",VLOOKUP($A5,INSCRITS!$D$4:$W$501,8,0))","v":"Cadet"},{"$f":"IF($A5=\"\",\"\",VLOOKUP($A5,INSCRITS!$D$4:$W$501,9,0))","v":"Amiens sauvetage"},{"$f":"IF($A5=\"\",\"\",VLOOKUP($A5,INSCRITS!$D$4:$W$506,10,0))","v":"X"},{"$f":"IF(ISNA(VLOOKUP($A5,SPRINT!AD$7:AJ$50,6,0)),\"\",VLOOKUP($A5,SPRINT!AD$7:AJ$50,6,0))","v":""},{"$f":"IF(ISNA(VLOOKUP($A5,SPRINT!AD$7:AJ$50,7,0)),\"\",VLOOKUP($A5,SPRINT!AD$7:AJ$50,7,0))","v":""},{"$f":"IF($A5=\"\",\"\",VLOOKUP($A5,INSCRITS!$D$4:$W$506,11,0))","v":"X"},{"$f":"IF(ISNA(VLOOKUP($A5,BATONS!AD$7:AJ$51,6,0)),\"\",VLOOKUP($A5,BATONS!AD$7:AJ$51,6,0))","v":""},{"$f":"IF(ISNA(VLOOKUP($A5,BATONS!AD$7:AJ$51,7,0)),\"\",VLOOKUP($A5,BATONS!AD$7:AJ$51,7,0))","v":""},{"$f":"IF($A5=\"\",\"\",VLOOKUP($A5,INSCRITS!$D$4:$W$506,12,0))","v":"X"},{"$f":"IF(ISNA(VLOOKUP($A5,PLANCHE!AC$7:AI$52,6,0)),\"\",VLOOKUP($A5,PLANCHE!AC$7:AI$52,6,0))","v":""},{"$f":"IF(ISNA(VLOOKUP($A5,PLANCHE!AC$7:AI$52,7,0)),\"\",VLOOKUP($A5,PLANCHE!AC$7:AI$52,7,0))","v":""},{"$f":"IF($A5=\"\",\"\",VLOOKUP($A5,INSCRITS!$D$4:$W$506,13,0))","v":"X"},{"$f":"IF(ISNA(VLOOKUP($A5,NAGE!N$7:T$52,6,0)),\"\",VLOOKUP($A5,NAGE!N$7:T$52,6,0))","v":6},{"$f":"IF(ISNA(VLOOKUP($A5,NAGE!N$7:T$52,7,0)),\"\",VLOOKUP($A5,NAGE!N$7:T$52,7,0))","v":12},{"$f":"IF($A5=\"\",\"\",VLOOKUP($A5,INSCRITS!$D$4:$W$506,14,0))","v":0},{"$f":"IF(ISNA(VLOOKUP($A5,SURFSKI!AC$8:AI$53,6,0)),\"\",VLOOKUP($A5,SURFSKI!AC$8:AI$53,6,0))","v":""},{"$f":"IF(ISNA(VLOOKUP($A5,SURFSKI!AC$8:AI$53,7,0)),\"\",VLOOKUP($A5,SURFSKI!AC$8:AI$53,7,0))","v":""},{"$f":"IF($A5=\"\",\"\",VLOOKUP($A5,INSCRITS!$D$4:$W$506,15,0))","v":0},{"$f":"IF(ISNA(VLOOKUP($A5,OCEANMAN!AC$7:AI$52,6,0)),\"\",VLOOKUP($A5,OCEANMAN!AC$7:AI$52,6,0))","v":""},{"$f":"IF(ISNA(VLOOKUP($A5,OCEANMAN!AC$7:AI$52,7,0)),\"\",VLOOKUP($A5,OCEANMAN!AC$7:AI$52,7,0))","v":""},{"$f":"IF($A5=\"\",\"\",VLOOKUP($A5,INSCRITS!$D$4:$W$506,16,0))","v":"X"},{"$f":"IF(ISNA(VLOOKUP($A5,CNC!N$7:AC$52,6,0)),\"\",VLOOKUP($A5,CNC!N$7:AC$52,6,0))","v":8},{"$f":"IF(ISNA(VLOOKUP($A5,CNC!N$7:AC$52,7,0)),\"\",VLOOKUP($A5,CNC!N$7:AC$52,7,0))","v":10},{"$f":"SUM(L5,O5,R5,U5,X5,AA5,AD5)","v":22},{"$f":"IF($A5=\"\",\"\",VLOOKUP($A5,INSCRITS!$D$4:$W$506,16,0))","v":"X"},null,{"$f":"IF(AG5=\"\",\"\",VLOOKUP(AG5,[0]!Relais,2))","v":""},{"$f":"IF($A5=\"\",\"\",VLOOKUP($A5,INSCRITS!$D$4:$W$506,17,0))","v":0},null,{"$f":"IF(AJ5=\"\",\"\",VLOOKUP(AJ5,[0]!Relais,2))","v":""},{"$f":"IF($A5=\"\",\"\",VLOOKUP($A5,INSCRITS!$D$4:$W$506,18,0))","v":0},null,{"$f":"IF(AM5=\"\",\"\",VLOOKUP(AM5,[0]!Relais,2))","v":""},{"$f":"IF($A5=\"\",\"\",VLOOKUP($A5,INSCRITS!$D$4:$W$506,19,0))","v":0},null,{"$f":"IF(AP5=\"\",\"\",VLOOKUP(AP5,[0]!Relais,2))","v":""},{"$f":"SUM(AH5,AK5,AN5,AQ5)","v":0},{"$f":"AE5+AR5","v":22}]
[122,{"$f":"IF($A6=\"\",\"\",VLOOKUP($A6,INSCRITS!$D$4:$W$501,2,0))","v":0},{"$f":"IF($A6=\"\",\"\",VLOOKUP($A6,INSCRITS!$D$4:$W$501,3,0))","v":1996},{"$f":"IF($A6=\"\",\"\",VLOOKUP($A6,INSCRITS!$D$4:$W$501,4,0))","v":"H"},{"$f":"IF($A6=\"\",\"\",VLOOKUP($A6,INSCRITS!$D$4:$W$501,5,0))","v":"00:00:00"},{"$f":"IF($A6=\"\",\"\",VLOOKUP($A6,INSCRITS!$D$4:$W$501,6,0))","v":"LAVALLARD"},{"$f":"IF($A6=\"\",\"\",VLOOKUP($A6,INSCRITS!$D$4:$W$501,7,0))","v":"Logan"},{"$f":"IF($A6=\"\",\"\",VLOOKUP($A6,INSCRITS!$D$4:$W$501,8,0))","v":"Cadet"},{"$f":"IF($A6=\"\",\"\",VLOOKUP($A6,INSCRITS!$D$4:$W$501,9,0))","v":"Amiens sauvetage"},{"$f":"IF($A6=\"\",\"\",VLOOKUP($A6,INSCRITS!$D$4:$W$506,10,0))","v":"X"},{"$f":"IF(ISNA(VLOOKUP($A6,SPRINT!AD$7:AJ$50,6,0)),\"\",VLOOKUP($A6,SPRINT!AD$7:AJ$50,6,0))","v":""},{"$f":"IF(ISNA(VLOOKUP($A6,SPRINT!AD$7:AJ$50,7,0)),\"\",VLOOKUP($A6,SPRINT!AD$7:AJ$50,7,0))","v":""},{"$f":"IF($A6=\"\",\"\",VLOOKUP($A6,INSCRITS!$D$4:$W$506,11,0))","v":"X"},{"$f":"IF(ISNA(VLOOKUP($A6,BATONS!AD$7:AJ$51,6,0)),\"\",VLOOKUP($A6,BATONS!AD$7:AJ$51,6,0))","v":""},{"$f":"IF(ISNA(VLOOKUP($A6,BATONS!AD$7:AJ$51,7,0)),\"\",VLOOKUP($A6,BATONS!AD$7:AJ$51,7,0))","v":""},{"$f":"IF($A6=\"\",\"\",VLOOKUP($A6,INSCRITS!$D$4:$W$506,12,0))","v":"X"},{"$f":"IF(ISNA(VLOOKUP($A6,PLANCHE!AC$7:AI$52,6,0)),\"\",VLOOKUP($A6,PLANCHE!AC$7:AI$52,6,0))","v":""},{"$f":"IF(ISNA(VLOOKUP($A6,PLANCHE!AC$7:AI$52,7,0)),\"\",VLOOKUP($A6,PLANCHE!AC$7:AI$52,7,0))","v":""},{"$f":"IF($A6=\"\",\"\",VLOOKUP($A6,INSCRITS!$D$4:$W$506,13,0))","v":"X"},{"$f":"IF(ISNA(VLOOKUP($A6,NAGE!N$7:T$52,6,0)),\"\",VLOOKUP($A6,NAGE!N$7:T$52,6,0))","v":15},{"$f":"IF(ISNA(VLOOKUP($A6,NAGE!N$7:T$52,7,0)),\"\",VLOOKUP($A6,NAGE!N$7:T$52,7,0))","v":2},{"$f":"IF($A6=\"\",\"\",VLOOKUP($A6,INSCRITS!$D$4:$W$506,14,0))","v":0},{"$f":"IF(ISNA(VLOOKUP($A6,SURFSKI!AC$8:AI$53,6,0)),\"\",VLOOKUP($A6,SURFSKI!AC$8:AI$53,6,0))","v":""},{"$f":"IF(ISNA(VLOOKUP($A6,SURFSKI!AC$8:AI$53,7,0)),\"\",VLOOKUP($A6,SURFSKI!AC$8:AI$53,7,0))","v":""},{"$f":"IF($A6=\"\",\"\",VLOOKUP($A6,INSCRITS!$D$4:$W$506,15,0))","v":0},{"$f":"IF(ISNA(VLOOKUP($A6,OCEANMAN!AC$7:AI$52,6,0)),\"\",VLOOKUP($A6,OCEANMAN!AC$7:AI$52,6,0))","v":""},{"$f":"IF(ISNA(VLOOKUP($A6,OCEANMAN!AC$7:AI$52,7,0)),\"\",VLOOKUP($A6,OCEANMAN!AC$7:AI$52,7,0))","v":""},{"$f":"IF($A6=\"\",\"\",VLOOKUP($A6,INSCRITS!$D$4:$W$506,16,0))","v":"X"},{"$f":"IF(ISNA(VLOOKUP($A6,CNC!N$7:AC$52,6,0)),\"\",VLOOKUP($A6,CNC!N$7:AC$52,6,0))","v":"NC"},{"$f":"IF(ISNA(VLOOKUP($A6,CNC!N$7:AC$52,7,0)),\"\",VLOOKUP($A6,CNC!N$7:AC$52,7,0))","v":0},2,{"$f":"IF($A6=\"\",\"\",VLOOKUP($A6,INSCRITS!$D$4:$W$506,16,0))","v":"X"},null,{"$f":"IF(AG6=\"\",\"\",VLOOKUP(AG6,[0]!Relais,2))","v":""},{"$f":"IF($A6=\"\",\"\",VLOOKUP($A6,INSCRITS!$D$4:$W$506,17,0))","v":0},null,{"$f":"IF(AJ6=\"\",\"\",VLOOKUP(AJ6,[0]!Relais,2))","v":""},{"$f":"IF($A6=\"\",\"\",VLOOKUP($A6,INSCRITS!$D$4:$W$506,18,0))","v":0},null,{"$f":"IF(AM6=\"\",\"\",VLOOKUP(AM6,[0]!Relais,2))","v":""},{"$f":"IF($A6=\"\",\"\",VLOOKUP($A6,INSCRITS!$D$4:$W$506,19,0))","v":0},null,{"$f":"IF(AP6=\"\",\"\",VLOOKUP(AP6,[0]!Relais,2))","v":""},{"$f":"SUM(AH6,AK6,AN6,AQ6)","v":0},{"$f":"AE6+AR6","v":2}]
[123,{"$f":"IF($A7=\"\",\"\",VLOOKUP($A7,INSCRITS!$D$4:$W$501,2,0))","v":0},null,{"$f":"IF($A7=\"\",\"\",VLOOKUP($A7,INSCRITS!$D$4:$W$501,4,0))","v":"H"},{"$f":"IF($A7=\"\",\"\",VLOOKUP($A7,INSCRITS!$D$4:$W$501,5,0))","v":"00:00:00"},{"$f":"IF($A7=\"\",\"\",VLOOKUP($A7,INSCRITS!$D$4:$W$501,6,0))","v":"VANDENBERGHE"},{"$f":"IF($A7=\"\",\"\",VLOOKUP($A7,INSCRITS!$D$4:$W$501,7,0))","v":"Sébastien"},{"$f":"IF($A7=\"\",\"\",VLOOKUP($A7,INSCRITS!$D$4:$W$501,8,0))","v":"Cadet"},{"$f":"IF($A7=\"\",\"\",VLOOKUP($A7,INSCRITS!$D$4:$W$501,9,0))","v":"ANV"},{"$f":"IF($A7=\"\",\"\",VLOOKUP($A7,INSCRITS!$D$4:$W$506,10,0))","v":"X"},{"$f":"IF(ISNA(VLOOKUP($A7,SPRINT!AD$7:AJ$50,6,0)),\"\",VLOOKUP($A7,SPRINT!AD$7:AJ$50,6,0))","v":""},{"$f":"IF(ISNA(VLOOKUP($A7,SPRINT!AD$7:AJ$50,7,0)),\"\",VLOOKUP($A7,SPRINT!AD$7:AJ$50,7,0))","v":""},{"$f":"IF($A7=\"\",\"\",VLOOKUP($A7,INSCRITS!$D$4:$W$506,11,0))","v":"X"},{"$f":"IF(ISNA(VLOOKUP($A7,BATONS!AD$7:AJ$51,6,0)),\"\",VLOOKUP($A7,BATONS!AD$7:AJ$51,6,0))","v":""},{"$f":"IF(ISNA(VLOOKUP($A7,BATONS!AD$7:AJ$51,7,0)),\"\",VLOOKUP($A7,BATONS!AD$7:AJ$51,7,0))","v":""},{"$f":"IF($A7=\"\",\"\",VLOOKUP($A7,INSCRITS!$D$4:$W$506,12,0))","v":"X"},{"$f":"IF(ISNA(VLOOKUP($A7,PLANCHE!AC$7:AI$52,6,0)),\"\",VLOOKUP($A7,PLANCHE!AC$7:AI$52,6,0))","v":12},{"$f":"IF(ISNA(VLOOKUP($A7,PLANCHE!AC$7:AI$52,7,0)),\"\",VLOOKUP($A7,PLANCHE!AC$7:AI$52,7,0))","v":5},{"$f":"IF($A7=\"\",\"\",VLOOKUP($A7,INSCRITS!$D$4:$W$506,13,0))","v":"X"},{"$f":"IF(ISNA(VLOOKUP($A7,NAGE!N$7:T$52,6,0)),\"\",VLOOKUP($A7,NAGE!N$7:T$52,6,0))","v":2},{"$f":"IF(ISNA(VLOOKUP($A7,NAGE!N$7:T$52,7,0)),\"\",VLOOKUP($A7,NAGE!N$7:T$52,7,0))","v":18},{"$f":"IF($A7=\"\",\"\",VLOOKUP($A7,INSCRITS!$D$4:$W$506,14,0))","v":"X"},{"$f":"IF(ISNA(VLOOKUP($A7,SURFSKI!AC$8:AI$53,6,0)),\"\",VLOOKUP($A7,SURFSKI!AC$8:AI$53,6,0))","v":9},{"$f":"IF(ISNA(VLOOKUP($A7,SURFSKI!AC$8:AI$53,7,0)),\"\",VLOOKUP($A7,SURFSKI!AC$8:AI$53,7,0))","v":8},{"$f":"IF($A7=\"\",\"\",VLOOKUP($A7,INSCRITS!$D$4:$W$506,15,0))","v":"X"},{"$f":"IF(ISNA(VLOOKUP($A7,OCEANMAN!AC$7:AI$52,6,0)),\"\",VLOOKUP($A7,OCEANMAN!AC$7:AI$52,6,0))","v":2},{"$f":"IF(ISNA(VLOOKUP($A7,OCEANMAN!AC$7:AI$52,7,0)),\"\",VLOOKUP($A7,OCEANMAN!AC$7:AI$52,7,0))","v":18},{"$f":"IF($A7=\"\",\"\",VLOOKUP($A7,INSCRITS!$D$4:$W$506,16,0))","v":"X"},{"$f":"IF(ISNA(VLOOKUP($A7,CNC!N$7:AC$52,6,0)),\"\",VLOOKUP($A7,CNC!N$7:AC$52,6,0))","v":3},{"$f":"IF(ISNA(VLOOKUP($A7,CNC!N$7:AC$52,7,0)),\"\",VLOOKUP($A7,CNC!N$7:AC$52,7,0))","v":16},{"$f":"SUM(L7,O7,R7,U7,X7,AA7,AD7)","v":65},{"$f":"IF($A7=\"\",\"\",VLOOKUP($A7,INSCRITS!$D$4:$W$506,16,0))","v":"X"},null,{"$f":"IF(AG7=\"\",\"\",VLOOKUP(AG7,[0]!Relais,2))","v":""},{"$f":"IF($A7=\"\",\"\",VLOOKUP($A7,INSCRITS!$D$4:$W$506,17,0))","v":0},null,{"$f":"IF(AJ7=\"\",\"\",VLOOKUP(AJ7,[0]!Relais,2))","v":""},{"$f":"IF($A7=\"\",\"\",VLOOKUP($A7,INSCRITS!$D$4:$W$506,18,0))","v":0},null,{"$f":"IF(AM7=\"\",\"\",VLOOKUP(AM7,[0]!Relais,2))","v":""},{"$f":"IF($A7=\"\",\"\",VLOOKUP($A7,INSCRITS!$D$4:$W$506,19,0))","v":0},null,{"$f":"IF(AP7=\"\",\"\",VLOOKUP(AP7,[0]!Relais,2))","v":""},0,65]
[124,{"$f":"IF($A8=\"\",\"\",VLOOKUP($A8,INSCRITS!$D$4:$W$501,2,0))","v":0},null,{"$f":"IF($A8=\"\",\"\",VLOOKUP($A8,INSCRITS!$D$4:$W$501,4,0))","v":"H"},{"$f":"IF($A8=\"\",\"\",VLOOKUP($A8,INSCRITS!$D$4:$W$501,5,0))","v":"00:00:00"},{"$f":"IF($A8=\"\",\"\",VLOOKUP($A8,INSCRITS!$D$4:$W$501,6,0))","v":"ALARCON"},{"$f":"IF($A8=\"\",\"\",VLOOKUP($A8,INSCRITS!$D$4:$W$501,7,0))","v":"Benjamin"},{"$f":"IF($A8=\"\",\"\",VLOOKUP($A8,INSCRITS!$D$4:$W$501,8,0))","v":"Cadet"},{"$f":"IF($A8=\"\",\"\",VLOOKUP($A8,INSCRITS!$D$4:$W$501,9,0))","v":"AQUALOVE"},{"$f":"IF($A8=\"\",\"\",VLOOKUP($A8,INSCRITS!$D$4:$W$506,10,0))","v":"X"},{"$f":"IF(ISNA(VLOOKUP($A8,SPRINT!AD$7:AJ$50,6,0)),\"\",VLOOKUP($A8,SPRINT!AD$7:AJ$50,6,0))","v":""},{"$f":"IF(ISNA(VLOOKUP($A8,SPRINT!AD$7:AJ$50,7,0)),\"\",VLOOKUP($A8,SPRINT!AD$7:AJ$50,7,0))","v":""},{"$f":"IF($A8=\"\",\"\",VLOOKUP($A8,INSCRITS!$D$4:$W$506,11,0))","v":"X"},{"$f":"IF(ISNA(VLOOKUP($A8,BATONS!AD$7:AJ$51,6,0)),\"\",VLOOKUP($A8,BATONS!AD$7:AJ$51,6,0))","v":""},{"$f":"IF(ISNA(VLOOKUP($A8,BATONS!AD$7:AJ$51,7,0)),\"\",VLOOKUP($A8,BATONS!AD$7:AJ$51,7,0))","v":""},{"$f":"IF($A8=\"\",\"\",VLOOKUP($A8,INSCRITS!$D$4:$W$506,12,0))","v":0},{"$f":"IF(ISNA(VLOOKUP($A8,PLANCHE!AC$7:AI$52,6,0)),\"\",VLOOKUP($A8,PLANCHE!AC$7:AI$52,6,0))","v":8},{"$f":"IF(ISNA(VLOOKUP($A8,PLANCHE!AC$7:AI$52,7,0)),\"\",VLOOKUP($A8,PLANCHE!AC$7:AI$52,7,0))","v":10},{"$f":"IF($A8=\"\",\"\",VLOOKUP($A8,INSCRITS!$D$4:$W$506,13,0))","v":"X"},{"$f":"IF(ISNA(VLOOKUP($A8,NAGE!N$7:T$52,6,0)),\"\",VLOOKUP($A8,NAGE!N$7:T$52,6,0))","v":5},{"$f":"IF(ISNA(VLOOKUP($A8,NAGE!N$7:T$52,7,0)),\"\",VLOOKUP($A8,NAGE!N$7:T$52,7,0))","v":13},{"$f":"IF($A8=\"\",\"\",VLOOKUP($A8,INSCRITS!$D$4:$W$506,14,0))","v":"X"},{"$f":"IF(ISNA(VLOOKUP($A8,SURFSKI!AC$8:AI$53,6,0)),\"\",VLOOKUP($A8,SURFSKI!AC$8:AI$53,6,0))","v":"abs"},{"$f":"IF(ISNA(VLOOKUP($A8,SURFSKI!AC$8:AI$53,7,0)),\"\",VLOOKUP($A8,SURFSKI!AC$8:AI$53,7,0))","v":0},{"$f":"IF($A8=\"\",\"\",VLOOKUP($A8,INSCRITS!$D$4:$W$506,15,0))","v":"X"},{"$f":"IF(ISNA(VLOOKUP($A8,OCEANMAN!AC$7:AI$52,6,0)),\"\",VLOOKUP($A8,OCEANMAN!AC$7:AI$52,6,0))","v":7},{"$f":"IF(ISNA(VLOOKUP($A8,OCEANMAN!AC$7:AI$52,7,0)),\"\",VLOOKUP($A8,OCEANMAN!AC$7:AI$52,7,0))","v":11},{"$f":"IF($A8=\"\",\"\",VLOOKUP($A8,INSCRITS!$D$4:$W$506,16,0))","v":"X"},{"$f":"IF(ISNA(VLOOKUP($A8,CNC!N$7:AC$52,6,0)),\"\",VLOOKUP($A8,CNC!N$7:AC$52,6,0))","v":9},{"$f":"IF(ISNA(VLOOKUP($A8,CNC!N$7:AC$52,7,0)),\"\",VLOOKUP($A8,CNC!N$7:AC$52,7,0))","v":8},42,{"$f":"IF($A8=\"\",\"\",VLOOKUP($A8,INSCRITS!$D$4:$W$506,16,0))","v":"X"},null,{"$f":"IF(AG8=\"\",\"\",VLOOKUP(AG8,[0]!Relais,2))","v":""},{"$f":"IF($A8=\"\",\"\",VLOOKUP($A8,INSCRITS!$D$4:$W$506,17,0))","v":0},null,{"$f":"IF(AJ8=\"\",\"\",VLOOKUP(AJ8,[0]!Relais,2))","v":""},{"$f":"IF($A8=\"\",\"\",VLOOKUP($A8,INSCRITS!$D$4:$W$506,18,0))","v":0},null,{"$f":"IF(AM8=\"\",\"\",VLOOKUP(AM8,[0]!Relais,2))","v":""},{"$f":"IF($A8=\"\",\"\",VLOOKUP($A8,INSCRITS!$D$4:$W$506,19,0))","v":0},null,{"$f":"IF(AP8=\"\",\"\",VLOOKUP(AP8,[0]!Relais,2))","v":""},0,42]
[125,{"$f":"IF($A9=\"\",\"\",VLOOKUP($A9,INSCRITS!$D$4:$W$501,2,0))","v":0},null,{"$f":"IF($A9=\"\",\"\",VLOOKUP($A9,INSCRITS!$D$4:$W$501,4,0))","v":"H"},{"$f":"IF($A9=\"\",\"\",VLOOKUP($A9,INSCRITS!$D$4:$W$501,5,0))","v":"00:00:00"},{"$f":"IF($A9=\"\",\"\",VLOOKUP($A9,INSCRITS!$D$4:$W$501,6,0))","v":"EL KHATIR"},{"$f":"IF($A9=\"\",\"\",VLOOKUP($A9,INSCRITS!$D$4:$W$501,7,0))","v":"Younes"},{"$f":"IF($A9=\"\",\"\",VLOOKUP($A9,INSCRITS!$D$4:$W$501,8,0))","v":"Cadet"},{"$f":"IF($A9=\"\",\"\",VLOOKUP($A9,INSCRITS!$D$4:$W$501,9,0))","v":"AQUALOVE"},{"$f":"IF($A9=\"\",\"\",VLOOKUP($A9,INSCRITS!$D$4:$W$506,10,0))","v":"X"},{"$f":"IF(ISNA(VLOOKUP($A9,SPRINT!AD$7:AJ$50,6,0)),\"\",VLOOKUP($A9,SPRINT!AD$7:AJ$50,6,0))","v":""},{"$f":"IF(ISNA(VLOOKUP($A9,SPRINT!AD$7:AJ$50,7,0)),\"\",VLOOKUP($A9,SPRINT!AD$7:AJ$50,7,0))","v":""},{"$f":"IF($A9=\"\",\"\",VLOOKUP($A9,INSCRITS!$D$4:$W$506,11,0))","v":"X"},{"$f":"IF(ISNA(VLOOKUP($A9,BATONS!AD$7:AJ$51,6,0)),\"\",VLOOKUP($A9,BATONS!AD$7:AJ$51,6,0))","v":""},{"$f":"IF(ISNA(VLOOKUP($A9,BATONS!AD$7:AJ$51,7,0)),\"\",VLOOKUP($A9,BATONS!AD$7:AJ$51,7,0))","v":""},{"$f":"IF($A9=\"\",\"\",VLOOKUP($A9,INSCRITS!$D$4:$W$506,12,0))","v":0},{"$f":"IF(ISNA(VLOOKUP($A9,PLANCHE!AC$7:AI$52,6,0)),\"\",VLOOKUP($A9,PLANCHE!AC$7:AI$52,6,0))","v":""},{"$f":"IF(ISNA(VLOOKUP($A9,PLANCHE!AC$7:AI$52,7,0)),\"\",VLOOKUP($A9,PLANCHE!AC$7:AI$52,7,0))","v":""},{"$f":"IF($A9=\"\",\"\",VLOOKUP($A9,INSCRITS!$D$4:$W$506,13,0))","v":"X"},{"$f":"IF(ISNA(VLOOKUP($A9,NAGE!N$7:T$52,6,0)),\"\",VLOOKUP($A9,NAGE!N$7:T$52,6,0))","v":11},{"$f":"IF(ISNA(VLOOKUP($A9,NAGE!N$7:T$52,7,0)),\"\",VLOOKUP($A9,NAGE!N$7:T$52,7,0))","v":6},{"$f":"IF($A9=\"\",\"\",VLOOKUP($A9,INSCRITS!$D$4:$W$506,14,0))","v":"X"},{"$f":"IF(ISNA(VLOOKUP($A9,SURFSKI!AC$8:AI$53,6,0)),\"\",VLOOKUP($A9,SURFSKI!AC$8:AI$53,6,0))","v":8},{"$f":"IF(ISNA(VLOOKUP($A9,SURFSKI!AC$8:AI$53,7,0)),\"\",VLOOKUP($A9,SURFSKI!AC$8:AI$53,7,0))","v":10},{"$f":"IF($A9=\"\",\"\",VLOOKUP($A9,INSCRITS!$D$4:$W$506,15,0))","v":"X"},{"$f":"IF(ISNA(VLOOKUP($A9,OCEANMAN!AC$7:AI$52,6,0)),\"\",VLOOKUP($A9,OCEANMAN!AC$7:AI$52,6,0))","v":8},{"$f":"IF(ISNA(VLOOKUP($A9,OCEANMAN!AC$7:AI$52,7,0)),\"\",VLOOKUP($A9,OCEANMAN!AC$7:AI$52,7,0))","v":10},{"$f":"IF($A9=\"\",\"\",VLOOKUP($A9,INSCRITS!$D$4:$W$506,16,0))","v":"X"},{"$f":"IF(ISNA(VLOOKUP($A9,CNC!N$7:AC$52,6,0)),\"\",VLOOKUP($A9,CNC!N$7:AC$52,6,0))","v":15},{"$f":"IF(ISNA(VLOOKUP($A9,CNC!N$7:AC$52,7,0)),\"\",VLOOKUP($A9,CNC!N$7:AC$52,7,0))","v":2},28,{"$f":"IF($A9=\"\",\"\",VLOOKUP($A9,INSCRITS!$D$4:$W$506,16,0))","v":"X"},null,{"$f":"IF(AG9=\"\",\"\",VLOOKUP(AG9,[0]!Relais,2))","v":""},{"$f":"IF($A9=\"\",\"\",VLOOKUP($A9,INSCRITS!$D$4:$W$506,17,0))","v":0},null,{"$f":"IF(AJ9=\"\",\"\",VLOOKUP(AJ9,[0]!Relais,2))","v":""},{"$f":"IF($A9=\"\",\"\",VLOOKUP($A9,INSCRITS!$D$4:$W$506,18,0))","v":0},null,{"$f":"IF(AM9=\"\",\"\",VLOOKUP(AM9,[0]!Relais,2))","v":""},{"$f":"IF($A9=\"\",\"\",VLOOKUP($A9,INSCRITS!$D$4:$W$506,19,0))","v":0},null,{"$f":"IF(AP9=\"\",\"\",VLOOKUP(AP9,[0]!Relais,2))","v":""},0,28]
[126,{"$f":"IF($A10=\"\",\"\",VLOOKUP($A10,INSCRITS!$D$4:$W$501,2,0))","v":0},null,{"$f":"IF($A10=\"\",\"\",VLOOKUP($A10,INSCRITS!$D$4:$W$501,4,0))","v":"H"},{"$f":"IF($A10=\"\",\"\",VLOOKUP($A10,INSCRITS!$D$4:$W$501,5,0))","v":"00:00:00"},{"$f":"IF($A10=\"\",\"\",VLOOKUP($A10,INSCRITS!$D$4:$W$501,6,0))","v":"PLESSIS"},{"$f":"IF($A10=\"\",\"\",VLOOKUP($A10,INSCRITS!$D$4:$W$501,7,0))","v":"Quentin"},{"$f":"IF($A10=\"\",\"\",VLOOKUP($A10,INSCRITS!$D$4:$W$501,8,0))","v":"Cadet"},{"$f":"IF($A10=\"\",\"\",VLOOKUP($A10,INSCRITS!$D$4:$W$501,9,0))","v":"AQUALOVE"},{"$f":"IF($A10=\"\",\"\",VLOOKUP($A10,INSCRITS!$D$4:$W$506,10,0))","v":"X"},{"$f":"IF(ISNA(VLOOKUP($A10,SPRINT!AD$7:AJ$50,6,0)),\"\",VLOOKUP($A10,SPRINT!AD$7:AJ$50,6,0))","v":9},{"$f":"IF(ISNA(VLOOKUP($A10,SPRINT!AD$7:AJ$50,7,0)),\"\",VLOOKUP($A10,SPRINT!AD$7:AJ$50,7,0))","v":8},{"$f":"IF($A10=\"\",\"\",VLOOKUP($A10,INSCRITS!$D$4:$W$506,11,0))","v":"X"},{"$f":"IF(ISNA(VLOOKUP($A10,BATONS!AD$7:AJ$51,6,0)),\"\",VLOOKUP($A10,BATONS!AD$7:AJ$51,6,0))","v":7},{"$f":"IF(ISNA(VLOOKUP($A10,BATONS!AD$7:AJ$51,7,0)),\"\",VLOOKUP($A10,BATONS!AD$7:AJ$51,7,0))","v":11},{"$f":"IF($A10=\"\",\"\",VLOOKUP($A10,INSCRITS!$D$4:$W$506,12,0))","v":0},{"$f":"IF(ISNA(VLOOKUP($A10,PLANCHE!AC$7:AI$52,6,0)),\"\",VLOOKUP($A10,PLANCHE!AC$7:AI$52,6,0))","v":5},{"$f":"IF(ISNA(VLOOKUP($A10,PLANCHE!AC$7:AI$52,7,0)),\"\",VLOOKUP($A10,PLANCHE!AC$7:AI$52,7,0))","v":13},{"$f":"IF($A10=\"\",\"\",VLOOKUP($A10,INSCRITS!$D$4:$W$506,13,0))","v":"X"},{"$f":"IF(ISNA(VLOOKUP($A10,NAGE!N$7:T$52,6,0)),\"\",VLOOKUP($A10,NAGE!N$7:T$52,6,0))","v":8},{"$f":"IF(ISNA(VLOOKUP($A10,NAGE!N$7:T$52,7,0)),\"\",VLOOKUP($A10,NAGE!N$7:T$52,7,0))","v":10},{"$f":"IF($A10=\"\",\"\",VLOOKUP($A10,INSCRITS!$D$4:$W$506,14,0))","v":"X"},{"$f":"IF(ISNA(VLOOKUP($A10,SURFSKI!AC$8:AI$53,6,0)),\"\",VLOOKUP($A10,SURFSKI!AC$8:AI$53,6,0))","v":6},{"$f":"IF(ISNA(VLOOKUP($A10,SURFSKI!AC$8:AI$53,7,0)),\"\",VLOOKUP($A10,SURFSKI!AC$8:AI$53,7,0))","v":12},{"$f":"IF($A10=\"\",\"\",VLOOKUP($A10,INSCRITS!$D$4:$W$506,15,0))","v":"X"},{"$f":"IF(ISNA(VLOOKUP($A10,OCEANMAN!AC$7:AI$52,6,0)),\"\",VLOOKUP($A10,OCEANMAN!AC$7:AI$52,6,0))","v":1},{"$f":"IF(ISNA(VLOOKUP($A10,OCEANMAN!AC$7:AI$52,7,0)),\"\",VLOOKUP($A10,OCEANMAN!AC$7:AI$52,7,0))","v":20},{"$f":"IF($A10=\"\",\"\",VLOOKUP($A10,INSCRITS!$D$4:$W$506,16,0))","v":"X"},{"$f":"IF(ISNA(VLOOKUP($A10,CNC!N$7:AC$52,6,0)),\"\",VLOOKUP($A10,CNC!N$7:AC$52,6,0))","v":5},{"$f":"IF(ISNA(VLOOKUP($A10,CNC!N$7:AC$52,7,0)),\"\",VLOOKUP($A10,CNC!N$7:AC$52,7,0))","v":13},87,{"$f":"IF($A10=\"\",\"\",VLOOKUP($A10,INSCRITS!$D$4:$W$506,16,0))","v":"X"},null,{"$f":"IF(AG10=\"\",\"\",VLOOKUP(AG10,[0]!Relais,2))","v":""},{"$f":"IF($A10=\"\",\"\",VLOOKUP($A10,INSCRITS!$D$4:$W$506,17,0))","v":0},null,{"$f":"IF(AJ10=\"\",\"\",VLOOKUP(AJ10,[0]!Relais,2))","v":""},{"$f":"IF($A10=\"\",\"\",VLOOKUP($A10,INSCRITS!$D$4:$W$506,18,0))","v":0},null,{"$f":"IF(AM10=\"\",\"\",VLOOKUP(AM10,[0]!Relais,2))","v":""},{"$f":"IF($A10=\"\",\"\",VLOOKUP($A10,INSCRITS!$D$4:$W$506,19,0))","v":0},null,{"$f":"IF(AP10=\"\",\"\",VLOOKUP(AP10,[0]!Relais,2))","v":""},0,87]
[127,{"$f":"IF($A11=\"\",\"\",VLOOKUP($A11,INSCRITS!$D$4:$W$501,2,0))","v":0},null,{"$f":"IF($A11=\"\",\"\",VLOOKUP($A11,INSCRITS!$D$4:$W$501,4,0))","v":"H"},{"$f":"IF($A11=\"\",\"\",VLOOKUP($A11,INSCRITS!$D$4:$W$501,5,0))","v":"00:00:00"},{"$f":"IF($A11=\"\",\"\",VLOOKUP($A11,INSCRITS!$D$4:$W$501,6,0))","v":"CADOT"},{"$f":"IF($A11=\"\",\"\",VLOOKUP($A11,INSCRITS!$D$4:$W$501,7,0))","v":"François"},{"$f":"IF($A11=\"\",\"\",VLOOKUP($A11,INSCRITS!$D$4:$W$501,8,0))","v":"Cadet"},{"$f":"IF($A11=\"\",\"\",VLOOKUP($A11,INSCRITS!$D$4:$W$501,9,0))","v":"ASCE DINARD"},{"$f":"IF($A11=\"\",\"\",VLOOKUP($A11,INSCRITS!$D$4:$W$506,10,0))","v":"X"},{"$f":"IF(ISNA(VLOOKUP($A11,SPRINT!AD$7:AJ$50,6,0)),\"\",VLOOKUP($A11,SPRINT!AD$7:AJ$50,6,0))","v":""},{"$f":"IF(ISNA(VLOOKUP($A11,SPRINT!AD$7:AJ$50,7,0)),\"\",VLOOKUP($A11,SPRINT!AD$7:AJ$50,7,0))","v":""},{"$f":"IF($A11=\"\",\"\",VLOOKUP($A11,INSCRITS!$D$4:$W$506,11,0))","v":"X"},{"$f":"IF(ISNA(VLOOKUP($A11,BATONS!AD$7:AJ$51,6,0)),\"\",VLOOKUP($A11,BATONS!AD$7:AJ$51,6,0))","v":""},{"$f":"IF(ISNA(VLOOKUP($A11,BATONS!AD$7:AJ$51,7,0)),\"\",VLOOKUP($A11,BATONS!AD$7:AJ$51,7,0))","v":""},{"$f":"IF($A11=\"\",\"\",VLOOKUP($A11,INSCRITS!$D$4:$W$506,12,0))","v":"X"},{"$f":"IF(ISNA(VLOOKUP($A11,PLANCHE!AC$7:AI$52,6,0)),\"\",VLOOKUP($A11,PLANCHE!AC$7:AI$52,6,0))","v":""},{"$f":"IF(ISNA(VLOOKUP($A11,PLANCHE!AC$7:AI$52,7,0)),\"\",VLOOKUP($A11,PLANCHE!AC$7:AI$52,7,0))","v":""},{"$f":"IF($A11=\"\",\"\",VLOOKUP($A11,INSCRITS!$D$4:$W$506,13,0))","v":"X"},{"$f":"IF(ISNA(VLOOKUP($A11,NAGE!N$7:T$52,6,0)),\"\",VLOOKUP($A11,NAGE!N$7:T$52,6,0))","v":25},{"$f":"IF(ISNA(VLOOKUP($A11,NAGE!N$7:T$52,7,0)),\"\",VLOOKUP($A11,NAGE!N$7:T$52,7,0))","v":0},{"$f":"IF($A11=\"\",\"\",VLOOKUP($A11,INSCRITS!$D$4:$W$506,14,0))","v":"X"},{"$f":"IF(ISNA(VLOOKUP($A11,SURFSKI!AC$8:AI$53,6,0)),\"\",VLOOKUP($A11,SURFSKI!AC$8:AI$53,6,0))","v":"abs"},{"$f":"IF(ISNA(VLOOKUP($A11,SURFSKI!AC$8:AI$53,7,0)),\"\",VLOOKUP($A11,SURFSKI!AC$8:AI$53,7,0))","v":0},{"$f":"IF($A11=\"\",\"\",VLOOKUP($A11,INSCRITS!$D$4:$W$506,15,0))","v":"X"},{"$f":"IF(ISNA(VLOOKUP($A11,OCEANMAN!AC$7:AI$52,6,0)),\"\",VLOOKUP($A11,OCEANMAN!AC$7:AI$52,6,0))","v":""},{"$f":"IF(ISNA(VLOOKUP($A11,OCEANMAN!AC$7:AI$52,7,0)),\"\",VLOOKUP($A11,OCEANMAN!AC$7:AI$52,7,0))","v":""},{"$f":"IF($A11=\"\",\"\",VLOOKUP($A11,INSCRITS!$D$4:$W$506,16,0))","v":"X"},{"$f":"IF(ISNA(VLOOKUP($A11,CNC!N$7:AC$52,6,0)),\"\",VLOOKUP($A11,CNC!N$7:AC$52,6,0))","v":"NC"},{"$f":"IF(ISNA(VLOOKUP($A11,CNC!N$7:AC$52,7,0)),\"\",VLOOKUP($A11,CNC!N$7:AC$52,7,0))","v":0},0,{"$f":"IF($A11=\"\",\"\",VLOOKUP($A11,INSCRITS!$D$4:$W$506,16,0))","v":"X"},null,{"$f":"IF(AG11=\"\",\"\",VLOOKUP(AG11,[0]!Relais,2))","v":""},{"$f":"IF($A11=\"\",\"\",VLOOKUP($A11,INSCRITS!$D$4:$W$506,17,0))","v":0},null,{"$f":"IF(AJ11=\"\",\"\",VLOOKUP(AJ11,[0]!Relais,2))","v":""},{"$f":"IF($A11=\"\",\"\",VLOOKUP($A11,INSCRITS!$D$4:$W$506,18,0))","v":0},null,{"$f":"IF(AM11=\"\",\"\",VLOOKUP(AM11,[0]!Relais,2))","v":""},{"$f":"IF($A11=\"\",\"\",VLOOKUP($A11,INSCRITS!$D$4:$W$506,19,0))","v":0},null,{"$f":"IF(AP11=\"\",\"\",VLOOKUP(AP11,[0]!Relais,2))","v":""},0,0]
[128,{"$f":"IF($A12=\"\",\"\",VLOOKUP($A12,INSCRITS!$D$4:$W$501,2,0))","v":0},null,{"$f":"IF($A12=\"\",\"\",VLOOKUP($A12,INSCRITS!$D$4:$W$501,4,0))","v":"H"},{"$f":"IF($A12=\"\",\"\",VLOOKUP($A12,INSCRITS!$D$4:$W$501,5,0))","v":"00:00:00"},{"$f":"IF($A12=\"\",\"\",VLOOKUP($A12,INSCRITS!$D$4:$W$501,6,0))","v":"CORBEL"},{"$f":"IF($A12=\"\",\"\",VLOOKUP($A12,INSCRITS!$D$4:$W$501,7,0))","v":"Yann"},{"$f":"IF($A12=\"\",\"\",VLOOKUP($A12,INSCRITS!$D$4:$W$501,8,0))","v":"Cadet"},{"$f":"IF($A12=\"\",\"\",VLOOKUP($A12,INSCRITS!$D$4:$W$501,9,0))","v":"ASCE DINARD"},{"$f":"IF($A12=\"\",\"\",VLOOKUP($A12,INSCRITS!$D$4:$W$506,10,0))","v":"X"},{"$f":"IF(ISNA(VLOOKUP($A12,SPRINT!AD$7:AJ$50,6,0)),\"\",VLOOKUP($A12,SPRINT!AD$7:AJ$50,6,0))","v":""},{"$f":"IF(ISNA(VLOOKUP($A12,SPRINT!AD$7:AJ$50,7,0)),\"\",VLOOKUP($A12,SPRINT!AD$7:AJ$50,7,0))","v":""},{"$f":"IF($A12=\"\",\"\",VLOOKUP($A12,INSCRITS!$D$4:$W$506,11,0))","v":"X"},{"$f":"IF(ISNA(VLOOKUP($A12,BATONS!AD$7:AJ$51,6,0)),\"\",VLOOKUP($A12,BATONS!AD$7:AJ$51,6,0))","v":""},{"$f":"IF(ISNA(VLOOKUP($A12,BATONS!AD$7:AJ$51,7,0)),\"\",VLOOKUP($A12,BATONS!AD$7:AJ$51,7,0))","v":""},{"$f":"IF($A12=\"\",\"\",VLOOKUP($A12,INSCRITS!$D$4:$W$506,12,0))","v":"X"},{"$f":"IF(ISNA(VLOOKUP($A12,PLANCHE!AC$7:AI$52,6,0)),\"\",VLOOKUP($A12,PLANCHE!AC$7:AI$52,6,0))","v":14},{"$f":"IF(ISNA(VLOOKUP($A12,PLANCHE!AC$7:AI$52,7,0)),\"\",VLOOKUP($A12,PLANCHE!AC$7:AI$52,7,0))","v":3},{"$f":"IF($A12=\"\",\"\",VLOOKUP($A12,INSCRITS!$D$4:$W$506,13,0))","v":"X"},{"$f":"IF(ISNA(VLOOKUP($A12,NAGE!N$7:T$52,6,0)),\"\",VLOOKUP($A12,NAGE!N$7:T$52,6,0))","v":1},{"$f":"IF(ISNA(VLOOKUP($A12,NAGE!N$7:T$52,7,0)),\"\",VLOOKUP($A12,NAGE!N$7:T$52,7,0))","v":20},{"$f":"IF($A12=\"\",\"\",VLOOKUP($A12,INSCRITS!$D$4:$W$506,14,0))","v":"X"},{"$f":"IF(ISNA(VLOOKUP($A12,SURFSKI!AC$8:AI$53,6,0)),\"\",VLOOKUP($A12,SURFSKI!AC$8:AI$53,6,0))","v":""},{"$f":"IF(ISNA(VLOOKUP($A12,SURFSKI!AC$8:AI$53,7,0)),\"\",VLOOKUP($A12,SURFSKI!AC$8:AI$53,7,0))","v":""},{"$f":"IF($A12=\"\",\"\",VLOOKUP($A12,INSCRITS!$D$4:$W$506,15,0))","v":"X"},{"$f":"IF(ISNA(VLOOKUP($A12,OCEANMAN!AC$7:AI$52,6,0)),\"\",VLOOKUP($A12,OCEANMAN!AC$7:AI$52,6,0))","v":""},{"$f":"IF(ISNA(VLOOKUP($A12,OCEANMAN!AC$7:AI$52,7,0)),\"\",VLOOKUP($A12,OCEANMAN!AC$7:AI$52,7,0))","v":""},{"$f":"IF($A12=\"\",\"\",VLOOKUP($A12,INSCRITS!$D$4:$W$506,16,0))","v":"X"},{"$f":"IF(ISNA(VLOOKUP($A12,CNC!N$7:AC$52,6,0)),\"\",VLOOKUP($A12,CNC!N$7:AC$52,6,0))","v":1},{"$f":"IF(ISNA(VLOOKUP($A12,CNC!N$7:AC$52,7,0)),\"\",VLOOKUP($A12,CNC!N$7:AC$52,7,0))","v":20},43,{"$f":"IF($A12=\"\",\"\",VLOOKUP($A12,INSCRITS!$D$4:$W$506,16,0))","v":"X"},null,{"$f":"IF(AG12=\"\",\"\",VLOOKUP(AG12,[0]!Relais,2))","v":""},{"$f":"IF($A12=\"\",\"\",VLOOKUP($A12,INSCRITS!$D$4:$W$506,17,0))","v":0},null,{"$f":"IF(AJ12=\"\",\"\",VLOOKUP(AJ12,[0]!Relais,2))","v":""},{"$f":"IF($A12=\"\",\"\",VLOOKUP($A12,INSCRITS!$D$4:$W$506,18,0))","v":0},null,{"$f":"IF(AM12=\"\",\"\",VLOOKUP(AM12,[0]!Relais,2))","v":""},{"$f":"IF($A12=\"\",\"\",VLOOKUP($A12,INSCRITS!$D$4:$W$506,19,0))","v":0},null,{"$f":"IF(AP12=\"\",\"\",VLOOKUP(AP12,[0]!Relais,2))","v":""},0,43]
[129,{"$f":"IF($A13=\"\",\"\",VLOOKUP($A13,INSCRITS!$D$4:$W$501,2,0))","v":0},null,{"$f":"IF($A13=\"\",\"\",VLOOKUP($A13,INSCRITS!$D$4:$W$501,4,0))","v":"H"},{"$f":"IF($A13=\"\",\"\",VLOOKUP($A13,INSCRITS!$D$4:$W$501,5,0))","v":"00:00:00"},{"$f":"IF($A13=\"\",\"\",VLOOKUP($A13,INSCRITS!$D$4:$W$501,6,0))","v":"LEBRET"},{"$f":"IF($A13=\"\",\"\",VLOOKUP($A13,INSCRITS!$D$4:$W$501,7,0))","v":"Samuel"},{"$f":"IF($A13=\"\",\"\",VLOOKUP($A13,INSCRITS!$D$4:$W$501,8,0))","v":"Cadet"},{"$f":"IF($A13=\"\",\"\",VLOOKUP($A13,INSCRITS!$D$4:$W$501,9,0))","v":"ASCE DINARD "},{"$f":"IF($A13=\"\",\"\",VLOOKUP($A13,INSCRITS!$D$4:$W$506,10,0))","v":"X"},{"$f":"IF(ISNA(VLOOKUP($A13,SPRINT!AD$7:AJ$50,6,0)),\"\",VLOOKUP($A13,SPRINT!AD$7:AJ$50,6,0))","v":""},{"$f":"IF(ISNA(VLOOKUP($A13,SPRINT!AD$7:AJ$50,7,0)),\"\",VLOOKUP($A13,SPRINT!AD$7:AJ$50,7,0))","v":""},{"$f":"IF($A13=\"\",\"\",VLOOKUP($A13,INSCRITS!$D$4:$W$506,11,0))","v":"X"},{"$f":"IF(ISNA(VLOOKUP($A13,BATONS!AD$7:AJ$51,6,0)),\"\",VLOOKUP($A13,BATONS!AD$7:AJ$51,6,0))","v":""},{"$f":"IF(ISNA(VLOOKUP($A13,BATONS!AD$7:AJ$51,7,0)),\"\",VLOOKUP($A13,BATONS!AD$7:AJ$51,7,0))","v":""},{"$f":"IF($A13=\"\",\"\",VLOOKUP($A13,INSCRITS!$D$4:$W$506,12,0))","v":"X"},{"$f":"IF(ISNA(VLOOKUP($A13,PLANCHE!AC$7:AI$52,6,0)),\"\",VLOOKUP($A13,PLANCHE!AC$7:AI$52,6,0))","v":""},{"$f":"IF(ISNA(VLOOKUP($A13,PLANCHE!AC$7:AI$52,7,0)),\"\",VLOOKUP($A13,PLANCHE!AC$7:AI$52,7,0))","v":""},{"$f":"IF($A13=\"\",\"\",VLOOKUP($A13,INSCRITS!$D$4:$W$506,13,0))","v":"X"},{"$f":"IF(ISNA(VLOOKUP($A13,NAGE!N$7:T$52,6,0)),\"\",VLOOKUP($A13,NAGE!N$7:T$52,6,0))","v":24},{"$f":"IF(ISNA(VLOOKUP($A13,NAGE!N$7:T$52,7,0)),\"\",VLOOKUP($A13,NAGE!N$7:T$52,7,0))","v":0},{"$f":"IF($A13=\"\",\"\",VLOOKUP($A13,INSCRITS!$D$4:$W$506,14,0))","v":"X"},{"$f":"IF(ISNA(VLOOKUP($A13,SURFSKI!AC$8:AI$53,6,0)),\"\",VLOOKUP($A13,SURFSKI!AC$8:AI$53,6,0))","v":""},{"$f":"IF(ISNA(VLOOKUP($A13,SURFSKI!AC$8:AI$53,7,0)),\"\",VLOOKUP($A13,SURFSKI!AC$8:AI$53,7,0))","v":""},{"$f":"IF($A13=\"\",\"\",VLOOKUP($A13,INSCRITS!$D$4:$W$506,15,0))","v":"X"},{"$f":"IF(ISNA(VLOOKUP($A13,OCEANMAN!AC$7:AI$52,6,0)),\"\",VLOOKUP($A13,OCEANMAN!AC$7:AI$52,6,0))","v":""},{"$f":"IF(ISNA(VLOOKUP($A13,OCEANMAN!AC$7:AI$52,7,0)),\"\",VLOOKUP($A13,OCEANMAN!AC$7:AI$52,7,0))","v":""},{"$f":"IF($A13=\"\",\"\",VLOOKUP($A13,INSCRITS!$D$4:$W$506,16,0))","v":"X"},{"$f":"IF(ISNA(VLOOKUP($A13,CNC!N$7:AC$52,6,0)),\"\",VLOOKUP($A13,CNC!N$7:AC$52,6,0))","v":"NC"},{"$f":"IF(ISNA(VLOOKUP($A13,CNC!N$7:AC$52,7,0)),\"\",VLOOKUP($A13,CNC!N$7:AC$52,7,0))","v":0},0,{"$f":"IF($A13=\"\",\"\",VLOOKUP($A13,INSCRITS!$D$4:$W$506,16,0))","v":"X"},null,{"$f":"IF(AG13=\"\",\"\",VLOOKUP(AG13,[0]!Relais,2))","v":""},{"$f":"IF($A13=\"\",\"\",VLOOKUP($A13,INSCRITS!$D$4:$W$506,17,0))","v":0},null,{"$f":"IF(AJ13=\"\",\"\",VLOOKUP(AJ13,[0]!Relais,2))","v":""},{"$f":"IF($A13=\"\",\"\",VLOOKUP($A13,INSCRITS!$D$4:$W$506,18,0))","v":0},null,{"$f":"IF(AM13=\"\",\"\",VLOOKUP(AM13,[0]!Relais,2))","v":""},{"$f":"IF($A13=\"\",\"\",VLOOKUP($A13,INSCRITS!$D$4:$W$506,19,0))","v":0},null,{"$f":"IF(AP13=\"\",\"\",VLOOKUP(AP13,[0]!Relais,2))","v":""},0,0]
[130,{"$f":"IF($A14=\"\",\"\",VLOOKUP($A14,INSCRITS!$D$4:$W$501,2,0))","v":0},null,{"$f":"IF($A14=\"\",\"\",VLOOKUP($A14,INSCRITS!$D$4:$W$501,4,0))","v":"H"},{"$f":"IF($A14=\"\",\"\",VLOOKUP($A14,INSCRITS!$D$4:$W$501,5,0))","v":"00:00:00"},{"$f":"IF($A14=\"\",\"\",VLOOKUP($A14,INSCRITS!$D$4:$W$501,6,0))","v":"DUFFAUD"},{"$f":"IF($A14=\"\",\"\",VLOOKUP($A14,INSCRITS!$D$4:$W$501,7,0))","v":"Simon"},{"$f":"IF($A14=\"\",\"\",VLOOKUP($A14,INSCRITS!$D$4:$W$501,8,0))","v":"Cadet"},{"$f":"IF($A14=\"\",\"\",VLOOKUP($A14,INSCRITS!$D$4:$W$501,9,0))","v":"BEGLES"},{"$f":"IF($A14=\"\",\"\",VLOOKUP($A14,INSCRITS!$D$4:$W$506,10,0))","v":"X"},{"$f":"IF(ISNA(VLOOKUP($A14,SPRINT!AD$7:AJ$50,6,0)),\"\",VLOOKUP($A14,SPRINT!AD$7:AJ$50,6,0))","v":""},{"$f":"IF(ISNA(VLOOKUP($A14,SPRINT!AD$7:AJ$50,7,0)),\"\",VLOOKUP($A14,SPRINT!AD$7:AJ$50,7,0))","v":""},{"$f":"IF($A14=\"\",\"\",VLOOKUP($A14,INSCRITS!$D$4:$W$506,11,0))","v":"X"},{"$f":"IF(ISNA(VLOOKUP($A14,BATONS!AD$7:AJ$51,6,0)),\"\",VLOOKUP($A14,BATONS!AD$7:AJ$51,6,0))","v":14},{"$f":"IF(ISNA(VLOOKUP($A14,BATONS!AD$7:AJ$51,7,0)),\"\",VLOOKUP($A14,BATONS!AD$7:AJ$51,7,0))","v":3},{"$f":"IF($A14=\"\",\"\",VLOOKUP($A14,INSCRITS!$D$4:$W$506,12,0))","v":0},{"$f":"IF(ISNA(VLOOKUP($A14,PLANCHE!AC$7:AI$52,6,0)),\"\",VLOOKUP($A14,PLANCHE!AC$7:AI$52,6,0))","v":""},{"$f":"IF(ISNA(VLOOKUP($A14,PLANCHE!AC$7:AI$52,7,0)),\"\",VLOOKUP($A14,PLANCHE!AC$7:AI$52,7,0))","v":""},{"$f":"IF($A14=\"\",\"\",VLOOKUP($A14,INSCRITS!$D$4:$W$506,13,0))","v":"X"},{"$f":"IF(ISNA(VLOOKUP($A14,NAGE!N$7:T$52,6,0)),\"\",VLOOKUP($A14,NAGE!N$7:T$52,6,0))","v":""},{"$f":"IF(ISNA(VLOOKUP($A14,NAGE!N$7:T$52,7,0)),\"\",VLOOKUP($A14,NAGE!N$7:T$52,7,0))","v":""},{"$f":"IF($A14=\"\",\"\",VLOOKUP($A14,INSCRITS!$D$4:$W$506,14,0))","v":0},{"$f":"IF(ISNA(VLOOKUP($A14,SURFSKI!AC$8:AI$53,6,0)),\"\",VLOOKUP($A14,SURFSKI!AC$8:AI$53,6,0))","v":""},{"$f":"IF(ISNA(VLOOKUP($A14,SURFSKI!AC$8:AI$53,7,0)),\"\",VLOOKUP($A14,SURFSKI!AC$8:AI$53,7,0))","v":""},{"$f":"IF($A14=\"\",\"\",VLOOKUP($A14,INSCRITS!$D$4:$W$506,15,0))","v":"X"},{"$f":"IF(ISNA(VLOOKUP($A14,OCEANMAN!AC$7:AI$52,6,0)),\"\",VLOOKUP($A14,OCEANMAN!AC$7:AI$52,6,0))","v":17},{"$f":"IF(ISNA(VLOOKUP($A14,OCEANMAN!AC$7:AI$52,7,0)),\"\",VLOOKUP($A14,OCEANMAN!AC$7:AI$52,7,0))","v":0},{"$f":"IF($A14=\"\",\"\",VLOOKUP($A14,INSCRITS!$D$4:$W$506,16,0))","v":"X"},{"$f":"IF(ISNA(VLOOKUP($A14,CNC!N$7:AC$52,6,0)),\"\",VLOOKUP($A14,CNC!N$7:AC$52,6,0))","v":"NC"},{"$f":"IF(ISNA(VLOOKUP($A14,CNC!N$7:AC$52,7,0)),\"\",VLOOKUP($A14,CNC!N$7:AC$52,7,0))","v":0},3,{"$f":"IF($A14=\"\",\"\",VLOOKUP($A14,INSCRITS!$D$4:$W$506,16,0))","v":"X"},null,{"$f":"IF(AG14=\"\",\"\",VLOOKUP(AG14,[0]!Relais,2))","v":""},{"$f":"IF($A14=\"\",\"\",VLOOKUP($A14,INSCRITS!$D$4:$W$506,17,0))","v":0},null,{"$f":"IF(AJ14=\"\",\"\",VLOOKUP(AJ14,[0]!Relais,2))","v":""},{"$f":"IF($A14=\"\",\"\",VLOOKUP($A14,INSCRITS!$D$4:$W$506,18,0))","v":0},null,{"$f":"IF(AM14=\"\",\"\",VLOOKUP(AM14,[0]!Relais,2))","v":""},{"$f":"IF($A14=\"\",\"\",VLOOKUP($A14,INSCRITS!$D$4:$W$506,19,0))","v":0},null,{"$f":"IF(AP14=\"\",\"\",VLOOKUP(AP14,[0]!Relais,2))","v":""},0,3]
[131,{"$f":"IF($A15=\"\",\"\",VLOOKUP($A15,INSCRITS!$D$4:$W$501,2,0))","v":0},null,{"$f":"IF($A15=\"\",\"\",VLOOKUP($A15,INSCRITS!$D$4:$W$501,4,0))","v":"H"},{"$f":"IF($A15=\"\",\"\",VLOOKUP($A15,INSCRITS!$D$4:$W$501,5,0))","v":"00:00:00"},{"$f":"IF($A15=\"\",\"\",VLOOKUP($A15,INSCRITS!$D$4:$W$501,6,0))","v":"FOS"},{"$f":"IF($A15=\"\",\"\",VLOOKUP($A15,INSCRITS!$D$4:$W$501,7,0))","v":"Dorian"},{"$f":"IF($A15=\"\",\"\",VLOOKUP($A15,INSCRITS!$D$4:$W$501,8,0))","v":"Cadet"},{"$f":"IF($A15=\"\",\"\",VLOOKUP($A15,INSCRITS!$D$4:$W$501,9,0))","v":"BEGLES"},{"$f":"IF($A15=\"\",\"\",VLOOKUP($A15,INSCRITS!$D$4:$W$506,10,0))","v":"X"},{"$f":"IF(ISNA(VLOOKUP($A15,SPRINT!AD$7:AJ$50,6,0)),\"\",VLOOKUP($A15,SPRINT!AD$7:AJ$50,6,0))","v":""},{"$f":"IF(ISNA(VLOOKUP($A15,SPRINT!AD$7:AJ$50,7,0)),\"\",VLOOKUP($A15,SPRINT!AD$7:AJ$50,7,0))","v":""},{"$f":"IF($A15=\"\",\"\",VLOOKUP($A15,INSCRITS!$D$4:$W$506,11,0))","v":"X"},{"$f":"IF(ISNA(VLOOKUP($A15,BATONS!AD$7:AJ$51,6,0)),\"\",VLOOKUP($A15,BATONS!AD$7:AJ$51,6,0))","v":11},{"$f":"IF(ISNA(VLOOKUP($A15,BATONS!AD$7:AJ$51,7,0)),\"\",VLOOKUP($A15,BATONS!AD$7:AJ$51,7,0))","v":6},{"$f":"IF($A15=\"\",\"\",VLOOKUP($A15,INSCRITS!$D$4:$W$506,12,0))","v":0},{"$f":"IF(ISNA(VLOOKUP($A15,PLANCHE!AC$7:AI$52,6,0)),\"\",VLOOKUP($A15,PLANCHE!AC$7:AI$52,6,0))","v":""},{"$f":"IF(ISNA(VLOOKUP($A15,PLANCHE!AC$7:AI$52,7,0)),\"\",VLOOKUP($A15,PLANCHE!AC$7:AI$52,7,0))","v":""},{"$f":"IF($A15=\"\",\"\",VLOOKUP($A15,INSCRITS!$D$4:$W$506,13,0))","v":0},{"$f":"IF(ISNA(VLOOKUP($A15,NAGE!N$7:T$52,6,0)),\"\",VLOOKUP($A15,NAGE!N$7:T$52,6,0))","v":""},{"$f":"IF(ISNA(VLOOKUP($A15,NAGE!N$7:T$52,7,0)),\"\",VLOOKUP($A15,NAGE!N$7:T$52,7,0))","v":""},{"$f":"IF($A15=\"\",\"\",VLOOKUP($A15,INSCRITS!$D$4:$W$506,14,0))","v":0},{"$f":"IF(ISNA(VLOOKUP($A15,SURFSKI!AC$8:AI$53,6,0)),\"\",VLOOKUP($A15,SURFSKI!AC$8:AI$53,6,0))","v":""},{"$f":"IF(ISNA(VLOOKUP($A15,SURFSKI!AC$8:AI$53,7,0)),\"\",VLOOKUP($A15,SURFSKI!AC$8:AI$53,7,0))","v":""},{"$f":"IF($A15=\"\",\"\",VLOOKUP($A15,INSCRITS!$D$4:$W$506,15,0))","v":0},{"$f":"IF(ISNA(VLOOKUP($A15,OCEANMAN!AC$7:AI$52,6,0)),\"\",VLOOKUP($A15,OCEANMAN!AC$7:AI$52,6,0))","v":""},{"$f":"IF(ISNA(VLOOKUP($A15,OCEANMAN!AC$7:AI$52,7,0)),\"\",VLOOKUP($A15,OCEANMAN!AC$7:AI$52,7,0))","v":""},{"$f":"IF($A15=\"\",\"\",VLOOKUP($A15,INSCRITS!$D$4:$W$506,16,0))","v":0},{"$f":"IF(ISNA(VLOOKUP($A15,CNC!N$7:AC$52,6,0)),\"\",VLOOKUP($A15,CNC!N$7:AC$52,6,0))","v":""},{"$f":"IF(ISNA(VLOOKUP($A15,CNC!N$7:AC$52,7,0)),\"\",VLOOKUP($A15,CNC!N$7:AC$52,7,0))","v":""},6,{"$f":"IF($A15=\"\",\"\",VLOOKUP($A15,INSCRITS!$D$4:$W$506,16,0))","v":0},null,{"$f":"IF(AG15=\"\",\"\",VLOOKUP(AG15,[0]!Relais,2))","v":""},{"$f":"IF($A15=\"\",\"\",VLOOKUP($A15,INSCRITS!$D$4:$W$506,17,0))","v":0},null,{"$f":"IF(AJ15=\"\",\"\",VLOOKUP(AJ15,[0]!Relais,2))","v":""},{"$f":"IF($A15=\"\",\"\",VLOOKUP($A15,INSCRITS!$D$4:$W$506,18,0))","v":0},null,{"$f":"IF(AM15=\"\",\"\",VLOOKUP(AM15,[0]!Relais,2))","v":""},{"$f":"IF($A15=\"\",\"\",VLOOKUP($A15,INSCRITS!$D$4:$W$506,19,0))","v":0},null,{"$f":"IF(AP15=\"\",\"\",VLOOKUP(AP15,[0]!Relais,2))","v":""},0,6]
[132,{"$f":"IF($A16=\"\",\"\",VLOOKUP($A16,INSCRITS!$D$4:$W$501,2,0))","v":0},null,{"$f":"IF($A16=\"\",\"\",VLOOKUP($A16,INSCRITS!$D$4:$W$501,4,0))","v":"H"},{"$f":"IF($A16=\"\",\"\",VLOOKUP($A16,INSCRITS!$D$4:$W$501,5,0))","v":"00:00:00"},{"$f":"IF($A16=\"\",\"\",VLOOKUP($A16,INSCRITS!$D$4:$W$501,6,0))","v":"ARTOLA"},{"$f":"IF($A16=\"\",\"\",VLOOKUP($A16,INSCRITS!$D$4:$W$501,7,0))","v":"Bixente"},{"$f":"IF($A16=\"\",\"\",VLOOKUP($A16,INSCRITS!$D$4:$W$501,8,0))","v":"Cadet"},{"$f":"IF($A16=\"\",\"\",VLOOKUP($A16,INSCRITS!$D$4:$W$501,9,0))","v":"BELHARRA WC"},{"$f":"IF($A16=\"\",\"\",VLOOKUP($A16,INSCRITS!$D$4:$W$506,10,0))","v":"X"},{"$f":"IF(ISNA(VLOOKUP($A16,SPRINT!AD$7:AJ$50,6,0)),\"\",VLOOKUP($A16,SPRINT!AD$7:AJ$50,6,0))","v":4},{"$f":"IF(ISNA(VLOOKUP($A16,SPRINT!AD$7:AJ$50,7,0)),\"\",VLOOKUP($A16,SPRINT!AD$7:AJ$50,7,0))","v":14},{"$f":"IF($A16=\"\",\"\",VLOOKUP($A16,INSCRITS!$D$4:$W$506,11,0))","v":"X"},{"$f":"IF(ISNA(VLOOKUP($A16,BATONS!AD$7:AJ$51,6,0)),\"\",VLOOKUP($A16,BATONS!AD$7:AJ$51,6,0))","v":""},{"$f":"IF(ISNA(VLOOKUP($A16,BATONS!AD$7:AJ$51,7,0)),\"\",VLOOKUP($A16,BATONS!AD$7:AJ$51,7,0))","v":""},{"$f":"IF($A16=\"\",\"\",VLOOKUP($A16,INSCRITS!$D$4:$W$506,12,0))","v":"X"},{"$f":"IF(ISNA(VLOOKUP($A16,PLANCHE!AC$7:AI$52,6,0)),\"\",VLOOKUP($A16,PLANCHE!AC$7:AI$52,6,0))","v":""},{"$f":"IF(ISNA(VLOOKUP($A16,PLANCHE!AC$7:AI$52,7,0)),\"\",VLOOKUP($A16,PLANCHE!AC$7:AI$52,7,0))","v":""},{"$f":"IF($A16=\"\",\"\",VLOOKUP($A16,INSCRITS!$D$4:$W$506,13,0))","v":"X"},{"$f":"IF(ISNA(VLOOKUP($A16,NAGE!N$7:T$52,6,0)),\"\",VLOOKUP($A16,NAGE!N$7:T$52,6,0))","v":"abs"},{"$f":"IF(ISNA(VLOOKUP($A16,NAGE!N$7:T$52,7,0)),\"\",VLOOKUP($A16,NAGE!N$7:T$52,7,0))","v":0},{"$f":"IF($A16=\"\",\"\",VLOOKUP($A16,INSCRITS!$D$4:$W$506,14,0))","v":0},{"$f":"IF(ISNA(VLOOKUP($A16,SURFSKI!AC$8:AI$53,6,0)),\"\",VLOOKUP($A16,SURFSKI!AC$8:AI$53,6,0))","v":""},{"$f":"IF(ISNA(VLOOKUP($A16,SURFSKI!AC$8:AI$53,7,0)),\"\",VLOOKUP($A16,SURFSKI!AC$8:AI$53,7,0))","v":""},{"$f":"IF($A16=\"\",\"\",VLOOKUP($A16,INSCRITS!$D$4:$W$506,15,0))","v":0},{"$f":"IF(ISNA(VLOOKUP($A16,OCEANMAN!AC$7:AI$52,6,0)),\"\",VLOOKUP($A16,OCEANMAN!AC$7:AI$52,6,0))","v":""},{"$f":"IF(ISNA(VLOOKUP($A16,OCEANMAN!AC$7:AI$52,7,0)),\"\",VLOOKUP($A16,OCEANMAN!AC$7:AI$52,7,0))","v":""},{"$f":"IF($A16=\"\",\"\",VLOOKUP($A16,INSCRITS!$D$4:$W$506,16,0))","v":"X"},{"$f":"IF(ISNA(VLOOKUP($A16,CNC!N$7:AC$52,6,0)),\"\",VLOOKUP($A16,CNC!N$7:AC$52,6,0))","v":"NC"},{"$f":"IF(ISNA(VLOOKUP($A16,CNC!N$7:AC$52,7,0)),\"\",VLOOKUP($A16,CNC!N$7:AC$52,7,0))","v":0},14,{"$f":"IF($A16=\"\",\"\",VLOOKUP($A16,INSCRITS!$D$4:$W$506,16,0))","v":"X"},null,{"$f":"IF(AG16=\"\",\"\",VLOOKUP(AG16,[0]!Relais,2))","v":""},{"$f":"IF($A16=\"\",\"\",VLOOKUP($A16,INSCRITS!$D$4:$W$506,17,0))","v":0},null,{"$f":"IF(AJ16=\"\",\"\",VLOOKUP(AJ16,[0]!Relais,2))","v":""},{"$f":"IF($A16=\"\",\"\",VLOOKUP($A16,INSCRITS!$D$4:$W$506,18,0))","v":0},null,{"$f":"IF(AM16=\"\",\"\",VLOOKUP(AM16,[0]!Relais,2))","v":""},{"$f":"IF($A16=\"\",\"\",VLOOKUP($A16,INSCRITS!$D$4:$W$506,19,0))","v":0},null,{"$f":"IF(AP16=\"\",\"\",VLOOKUP(AP16,[0]!Relais,2))","v":""},0,14]
[133,{"$f":"IF($A17=\"\",\"\",VLOOKUP($A17,INSCRITS!$D$4:$W$501,2,0))","v":0},null,{"$f":"IF($A17=\"\",\"\",VLOOKUP($A17,INSCRITS!$D$4:$W$501,4,0))","v":"H"},{"$f":"IF($A17=\"\",\"\",VLOOKUP($A17,INSCRITS!$D$4:$W$501,5,0))","v":"00:00:00"},{"$f":"IF($A17=\"\",\"\",VLOOKUP($A17,INSCRITS!$D$4:$W$501,6,0))","v":"SOLABERRIETA"},{"$f":"IF($A17=\"\",\"\",VLOOKUP($A17,INSCRITS!$D$4:$W$501,7,0))","v":"Jean"},{"$f":"IF($A17=\"\",\"\",VLOOKUP($A17,INSCRITS!$D$4:$W$501,8,0))","v":"Cadet"},{"$f":"IF($A17=\"\",\"\",VLOOKUP($A17,INSCRITS!$D$4:$W$501,9,0))","v":"BELHARRA WC"},{"$f":"IF($A17=\"\",\"\",VLOOKUP($A17,INSCRITS!$D$4:$W$506,10,0))","v":"X"},{"$f":"IF(ISNA(VLOOKUP($A17,SPRINT!AD$7:AJ$50,6,0)),\"\",VLOOKUP($A17,SPRINT!AD$7:AJ$50,6,0))","v":""},{"$f":"IF(ISNA(VLOOKUP($A17,SPRINT!AD$7:AJ$50,7,0)),\"\",VLOOKUP($A17,SPRINT!AD$7:AJ$50,7,0))","v":""},{"$f":"IF($A17=\"\",\"\",VLOOKUP($A17,INSCRITS!$D$4:$W$506,11,0))","v":"X"},{"$f":"IF(ISNA(VLOOKUP($A17,BATONS!AD$7:AJ$51,6,0)),\"\",VLOOKUP($A17,BATONS!AD$7:AJ$51,6,0))","v":""},{"$f":"IF(ISNA(VLOOKUP($A17,BATONS!AD$7:AJ$51,7,0)),\"\",VLOOKUP($A17,BATONS!AD$7:AJ$51,7,0))","v":""},{"$f":"IF($A17=\"\",\"\",VLOOKUP($A17,INSCRITS!$D$4:$W$506,12,0))","v":"X"},{"$f":"IF(ISNA(VLOOKUP($A17,PLANCHE!AC$7:AI$52,6,0)),\"\",VLOOKUP($A17,PLANCHE!AC$7:AI$52,6,0))","v":""},{"$f":"IF(ISNA(VLOOKUP($A17,PLANCHE!AC$7:AI$52,7,0)),\"\",VLOOKUP($A17,PLANCHE!AC$7:AI$52,7,0))","v":""},{"$f":"IF($A17=\"\",\"\",VLOOKUP($A17,INSCRITS!$D$4:$W$506,13,0))","v":"X"},{"$f":"IF(ISNA(VLOOKUP($A17,NAGE!N$7:T$52,6,0)),\"\",VLOOKUP($A17,NAGE!N$7:T$52,6,0))","v":"abs"},{"$f":"IF(ISNA(VLOOKUP($A17,NAGE!N$7:T$52,7,0)),\"\",VLOOKUP($A17,NAGE!N$7:T$52,7,0))","v":0},{"$f":"IF($A17=\"\",\"\",VLOOKUP($A17,INSCRITS!$D$4:$W$506,14,0))","v":0},{"$f":"IF(ISNA(VLOOKUP($A17,SURFSKI!AC$8:AI$53,6,0)),\"\",VLOOKUP($A17,SURFSKI!AC$8:AI$53,6,0))","v":""},{"$f":"IF(ISNA(VLOOKUP($A17,SURFSKI!AC$8:AI$53,7,0)),\"\",VLOOKUP($A17,SURFSKI!AC$8:AI$53,7,0))","v":""},{"$f":"IF($A17=\"\",\"\",VLOOKUP($A17,INSCRITS!$D$4:$W$506,15,0))","v":"X"},{"$f":"IF(ISNA(VLOOKUP($A17,OCEANMAN!AC$7:AI$52,6,0)),\"\",VLOOKUP($A17,OCEANMAN!AC$7:AI$52,6,0))","v":"Abs"},{"$f":"IF(ISNA(VLOOKUP($A17,OCEANMAN!AC$7:AI$52,7,0)),\"\",VLOOKUP($A17,OCEANMAN!AC$7:AI$52,7,0))","v":0},{"$f":"IF($A17=\"\",\"\",VLOOKUP($A17,INSCRITS!$D$4:$W$506,16,0))","v":"X"},{"$f":"IF(ISNA(VLOOKUP($A17,CNC!N$7:AC$52,6,0)),\"\",VLOOKUP($A17,CNC!N$7:AC$52,6,0))","v":"NC"},{"$f":"IF(ISNA(VLOOKUP($A17,CNC!N$7:AC$52,7,0)),\"\",VLOOKUP($A17,CNC!N$7:AC$52,7,0))","v":0},0,{"$f":"IF($A17=\"\",\"\",VLOOKUP($A17,INSCRITS!$D$4:$W$506,16,0))","v":"X"},null,{"$f":"IF(AG17=\"\",\"\",VLOOKUP(AG17,[0]!Relais,2))","v":""},{"$f":"IF($A17=\"\",\"\",VLOOKUP($A17,INSCRITS!$D$4:$W$506,17,0))","v":0},null,{"$f":"IF(AJ17=\"\",\"\",VLOOKUP(AJ17,[0]!Relais,2))","v":""},{"$f":"IF($A17=\"\",\"\",VLOOKUP($A17,INSCRITS!$D$4:$W$506,18,0))","v":0},null,{"$f":"IF(AM17=\"\",\"\",VLOOKUP(AM17,[0]!Relais,2))","v":""},{"$f":"IF($A17=\"\",\"\",VLOOKUP($A17,INSCRITS!$D$4:$W$506,19,0))","v":0},null,{"$f":"IF(AP17=\"\",\"\",VLOOKUP(AP17,[0]!Relais,2))","v":""},0,0]
[134,{"$f":"IF($A18=\"\",\"\",VLOOKUP($A18,INSCRITS!$D$4:$W$501,2,0))","v":0},null,{"$f":"IF($A18=\"\",\"\",VLOOKUP($A18,INSCRITS!$D$4:$W$501,4,0))","v":"H"},{"$f":"IF($A18=\"\",\"\",VLOOKUP($A18,INSCRITS!$D$4:$W$501,5,0))","v":"00:00:00"},{"$f":"IF($A18=\"\",\"\",VLOOKUP($A18,INSCRITS!$D$4:$W$501,6,0))","v":"CAMGRAND"},{"$f":"IF($A18=\"\",\"\",VLOOKUP($A18,INSCRITS!$D$4:$W$501,7,0))","v":"Jérémie"},{"$f":"IF($A18=\"\",\"\",VLOOKUP($A18,INSCRITS!$D$4:$W$501,8,0))","v":"Cadet"},{"$f":"IF($A18=\"\",\"\",VLOOKUP($A18,INSCRITS!$D$4:$W$501,9,0))","v":"Biarritz SC"},{"$f":"IF($A18=\"\",\"\",VLOOKUP($A18,INSCRITS!$D$4:$W$506,10,0))","v":0},{"$f":"IF(ISNA(VLOOKUP($A18,SPRINT!AD$7:AJ$50,6,0)),\"\",VLOOKUP($A18,SPRINT!AD$7:AJ$50,6,0))","v":""},{"$f":"IF(ISNA(VLOOKUP($A18,SPRINT!AD$7:AJ$50,7,0)),\"\",VLOOKUP($A18,SPRINT!AD$7:AJ$50,7,0))","v":""},{"$f":"IF($A18=\"\",\"\",VLOOKUP($A18,INSCRITS!$D$4:$W$506,11,0))","v":"X"},{"$f":"IF(ISNA(VLOOKUP($A18,BATONS!AD$7:AJ$51,6,0)),\"\",VLOOKUP($A18,BATONS!AD$7:AJ$51,6,0))","v":8},{"$f":"IF(ISNA(VLOOKUP($A18,BATONS!AD$7:AJ$51,7,0)),\"\",VLOOKUP($A18,BATONS!AD$7:AJ$51,7,0))","v":10},{"$f":"IF($A18=\"\",\"\",VLOOKUP($A18,INSCRITS!$D$4:$W$506,12,0))","v":"X"},{"$f":"IF(ISNA(VLOOKUP($A18,PLANCHE!AC$7:AI$52,6,0)),\"\",VLOOKUP($A18,PLANCHE!AC$7:AI$52,6,0))","v":3},{"$f":"IF(ISNA(VLOOKUP($A18,PLANCHE!AC$7:AI$52,7,0)),\"\",VLOOKUP($A18,PLANCHE!AC$7:AI$52,7,0))","v":16},{"$f":"IF($A18=\"\",\"\",VLOOKUP($A18,INSCRITS!$D$4:$W$506,13,0))","v":"X"},{"$f":"IF(ISNA(VLOOKUP($A18,NAGE!N$7:T$52,6,0)),\"\",VLOOKUP($A18,NAGE!N$7:T$52,6,0))","v":13},{"$f":"IF(ISNA(VLOOKUP($A18,NAGE!N$7:T$52,7,0)),\"\",VLOOKUP($A18,NAGE!N$7:T$52,7,0))","v":4},{"$f":"IF($A18=\"\",\"\",VLOOKUP($A18,INSCRITS!$D$4:$W$506,14,0))","v":"X"},{"$f":"IF(ISNA(VLOOKUP($A18,SURFSKI!AC$8:AI$53,6,0)),\"\",VLOOKUP($A18,SURFSKI!AC$8:AI$53,6,0))","v":2},{"$f":"IF(ISNA(VLOOKUP($A18,SURFSKI!AC$8:AI$53,7,0)),\"\",VLOOKUP($A18,SURFSKI!AC$8:AI$53,7,0))","v":18},{"$f":"IF($A18=\"\",\"\",VLOOKUP($A18,INSCRITS!$D$4:$W$506,15,0))","v":"X"},{"$f":"IF(ISNA(VLOOKUP($A18,OCEANMAN!AC$7:AI$52,6,0)),\"\",VLOOKUP($A18,OCEANMAN!AC$7:AI$52,6,0))","v":6},{"$f":"IF(ISNA(VLOOKUP($A18,OCEANMAN!AC$7:AI$52,7,0)),\"\",VLOOKUP($A18,OCEANMAN!AC$7:AI$52,7,0))","v":12},{"$f":"IF($A18=\"\",\"\",VLOOKUP($A18,INSCRITS!$D$4:$W$506,16,0))","v":"X"},{"$f":"IF(ISNA(VLOOKUP($A18,CNC!N$7:AC$52,6,0)),\"\",VLOOKUP($A18,CNC!N$7:AC$52,6,0))","v":""},{"$f":"IF(ISNA(VLOOKUP($A18,CNC!N$7:AC$52,7,0)),\"\",VLOOKUP($A18,CNC!N$7:AC$52,7,0))","v":""},60,{"$f":"IF($A18=\"\",\"\",VLOOKUP($A18,INSCRITS!$D$4:$W$506,16,0))","v":"X"},null,{"$f":"IF(AG18=\"\",\"\",VLOOKUP(AG18,[0]!Relais,2))","v":""},{"$f":"IF($A18=\"\",\"\",VLOOKUP($A18,INSCRITS!$D$4:$W$506,17,0))","v":0},null,{"$f":"IF(AJ18=\"\",\"\",VLOOKUP(AJ18,[0]!Relais,2))","v":""},{"$f":"IF($A18=\"\",\"\",VLOOKUP($A18,INSCRITS!$D$4:$W$506,18,0))","v":0},null,{"$f":"IF(AM18=\"\",\"\",VLOOKUP(AM18,[0]!Relais,2))","v":""},{"$f":"IF($A18=\"\",\"\",VLOOKUP($A18,INSCRITS!$D$4:$W$506,19,0))","v":0},null,{"$f":"IF(AP18=\"\",\"\",VLOOKUP(AP18,[0]!Relais,2))","v":""},0,60]
[135,{"$f":"IF($A19=\"\",\"\",VLOOKUP($A19,INSCRITS!$D$4:$W$501,2,0))","v":0},null,{"$f":"IF($A19=\"\",\"\",VLOOKUP($A19,INSCRITS!$D$4:$W$501,4,0))","v":"H"},{"$f":"IF($A19=\"\",\"\",VLOOKUP($A19,INSCRITS!$D$4:$W$501,5,0))","v":"00:00:00"},{"$f":"IF($A19=\"\",\"\",VLOOKUP($A19,INSCRITS!$D$4:$W$501,6,0))","v":"DE SAINT BLANQUAT"},{"$f":"IF($A19=\"\",\"\",VLOOKUP($A19,INSCRITS!$D$4:$W$501,7,0))","v":"Thomas"},{"$f":"IF($A19=\"\",\"\",VLOOKUP($A19,INSCRITS!$D$4:$W$501,8,0))","v":"Cadet"},{"$f":"IF($A19=\"\",\"\",VLOOKUP($A19,INSCRITS!$D$4:$W$501,9,0))","v":"Biarritz SC"},{"$f":"IF($A19=\"\",\"\",VLOOKUP($A19,INSCRITS!$D$4:$W$506,10,0))","v":"X"},{"$f":"IF(ISNA(VLOOKUP($A19,SPRINT!AD$7:AJ$50,6,0)),\"\",VLOOKUP($A19,SPRINT!AD$7:AJ$50,6,0))","v":""},{"$f":"IF(ISNA(VLOOKUP($A19,SPRINT!AD$7:AJ$50,7,0)),\"\",VLOOKUP($A19,SPRINT!AD$7:AJ$50,7,0))","v":""},{"$f":"IF($A19=\"\",\"\",VLOOKUP($A19,INSCRITS!$D$4:$W$506,11,0))","v":"X"},{"$f":"IF(ISNA(VLOOKUP($A19,BATONS!AD$7:AJ$51,6,0)),\"\",VLOOKUP($A19,BATONS!AD$7:AJ$51,6,0))","v":""},{"$f":"IF(ISNA(VLOOKUP($A19,BATONS!AD$7:AJ$51,7,0)),\"\",VLOOKUP($A19,BATONS!AD$7:AJ$51,7,0))","v":""},{"$f":"IF($A19=\"\",\"\",VLOOKUP($A19,INSCRITS!$D$4:$W$506,12,0))","v":"X"},{"$f":"IF(ISNA(VLOOKUP($A19,PLANCHE!AC$7:AI$52,6,0)),\"\",VLOOKUP($A19,PLANCHE!AC$7:AI$52,6,0))","v":18},{"$f":"IF(ISNA(VLOOKUP($A19,PLANCHE!AC$7:AI$52,7,0)),\"\",VLOOKUP($A19,PLANCHE!AC$7:AI$52,7,0))","v":0},{"$f":"IF($A19=\"\",\"\",VLOOKUP($A19,INSCRITS!$D$4:$W$506,13,0))","v":"X"},{"$f":"IF(ISNA(VLOOKUP($A19,NAGE!N$7:T$52,6,0)),\"\",VLOOKUP($A19,NAGE!N$7:T$52,6,0))","v":10},{"$f":"IF(ISNA(VLOOKUP($A19,NAGE!N$7:T$52,7,0)),\"\",VLOOKUP($A19,NAGE!N$7:T$52,7,0))","v":7},{"$f":"IF($A19=\"\",\"\",VLOOKUP($A19,INSCRITS!$D$4:$W$506,14,0))","v":0},{"$f":"IF(ISNA(VLOOKUP($A19,SURFSKI!AC$8:AI$53,6,0)),\"\",VLOOKUP($A19,SURFSKI!AC$8:AI$53,6,0))","v":""},{"$f":"IF(ISNA(VLOOKUP($A19,SURFSKI!AC$8:AI$53,7,0)),\"\",VLOOKUP($A19,SURFSKI!AC$8:AI$53,7,0))","v":""},{"$f":"IF($A19=\"\",\"\",VLOOKUP($A19,INSCRITS!$D$4:$W$506,15,0))","v":0},{"$f":"IF(ISNA(VLOOKUP($A19,OCEANMAN!AC$7:AI$52,6,0)),\"\",VLOOKUP($A19,OCEANMAN!AC$7:AI$52,6,0))","v":""},{"$f":"IF(ISNA(VLOOKUP($A19,OCEANMAN!AC$7:AI$52,7,0)),\"\",VLOOKUP($A19,OCEANMAN!AC$7:AI$52,7,0))","v":""},{"$f":"IF($A19=\"\",\"\",VLOOKUP($A19,INSCRITS!$D$4:$W$506,16,0))","v":"X"},{"$f":"IF(ISNA(VLOOKUP($A19,CNC!N$7:AC$52,6,0)),\"\",VLOOKUP($A19,CNC!N$7:AC$52,6,0))","v":11},{"$f":"IF(ISNA(VLOOKUP($A19,CNC!N$7:AC$52,7,0)),\"\",VLOOKUP($A19,CNC!N$7:AC$52,7,0))","v":6},13,{"$f":"IF($A19=\"\",\"\",VLOOKUP($A19,INSCRITS!$D$4:$W$506,16,0))","v":"X"},null,{"$f":"IF(AG19=\"\",\"\",VLOOKUP(AG19,[0]!Relais,2))","v":""},{"$f":"IF($A19=\"\",\"\",VLOOKUP($A19,INSCRITS!$D$4:$W$506,17,0))","v":0},null,{"$f":"IF(AJ19=\"\",\"\",VLOOKUP(AJ19,[0]!Relais,2))","v":""},{"$f":"IF($A19=\"\",\"\",VLOOKUP($A19,INSCRITS!$D$4:$W$506,18,0))","v":0},null,{"$f":"IF(AM19=\"\",\"\",VLOOKUP(AM19,[0]!Relais,2))","v":""},{"$f":"IF($A19=\"\",\"\",VLOOKUP($A19,INSCRITS!$D$4:$W$506,19,0))","v":0},null,{"$f":"IF(AP19=\"\",\"\",VLOOKUP(AP19,[0]!Relais,2))","v":""},0,13]
[136,{"$f":"IF($A20=\"\",\"\",VLOOKUP($A20,INSCRITS!$D$4:$W$501,2,0))","v":0},null,{"$f":"IF($A20=\"\",\"\",VLOOKUP($A20,INSCRITS!$D$4:$W$501,4,0))","v":"H"},{"$f":"IF($A20=\"\",\"\",VLOOKUP($A20,INSCRITS!$D$4:$W$501,5,0))","v":"00:00:00"},{"$f":"IF($A20=\"\",\"\",VLOOKUP($A20,INSCRITS!$D$4:$W$501,6,0))","v":"DUCOUDRET"},{"$f":"IF($A20=\"\",\"\",VLOOKUP($A20,INSCRITS!$D$4:$W$501,7,0))","v":"Arnaud"},{"$f":"IF($A20=\"\",\"\",VLOOKUP($A20,INSCRITS!$D$4:$W$501,8,0))","v":"Cadet"},{"$f":"IF($A20=\"\",\"\",VLOOKUP($A20,INSCRITS!$D$4:$W$501,9,0))","v":"Biarritz SC"},{"$f":"IF($A20=\"\",\"\",VLOOKUP($A20,INSCRITS!$D$4:$W$506,10,0))","v":"X"},{"$f":"IF(ISNA(VLOOKUP($A20,SPRINT!AD$7:AJ$50,6,0)),\"\",VLOOKUP($A20,SPRINT!AD$7:AJ$50,6,0))","v":13},{"$f":"IF(ISNA(VLOOKUP($A20,SPRINT!AD$7:AJ$50,7,0)),\"\",VLOOKUP($A20,SPRINT!AD$7:AJ$50,7,0))","v":4},{"$f":"IF($A20=\"\",\"\",VLOOKUP($A20,INSCRITS!$D$4:$W$506,11,0))","v":"X"},{"$f":"IF(ISNA(VLOOKUP($A20,BATONS!AD$7:AJ$51,6,0)),\"\",VLOOKUP($A20,BATONS!AD$7:AJ$51,6,0))","v":""},{"$f":"IF(ISNA(VLOOKUP($A20,BATONS!AD$7:AJ$51,7,0)),\"\",VLOOKUP($A20,BATONS!AD$7:AJ$51,7,0))","v":""},{"$f":"IF($A20=\"\",\"\",VLOOKUP($A20,INSCRITS!$D$4:$W$506,12,0))","v":"X"},{"$f":"IF(ISNA(VLOOKUP($A20,PLANCHE!AC$7:AI$52,6,0)),\"\",VLOOKUP($A20,PLANCHE!AC$7:AI$52,6,0))","v":11},{"$f":"IF(ISNA(VLOOKUP($A20,PLANCHE!AC$7:AI$52,7,0)),\"\",VLOOKUP($A20,PLANCHE!AC$7:AI$52,7,0))","v":6},{"$f":"IF($A20=\"\",\"\",VLOOKUP($A20,INSCRITS!$D$4:$W$506,13,0))","v":"X"},{"$f":"IF(ISNA(VLOOKUP($A20,NAGE!N$7:T$52,6,0)),\"\",VLOOKUP($A20,NAGE!N$7:T$52,6,0))","v":"abs"},{"$f":"IF(ISNA(VLOOKUP($A20,NAGE!N$7:T$52,7,0)),\"\",VLOOKUP($A20,NAGE!N$7:T$52,7,0))","v":0},{"$f":"IF($A20=\"\",\"\",VLOOKUP($A20,INSCRITS!$D$4:$W$506,14,0))","v":0},{"$f":"IF(ISNA(VLOOKUP($A20,SURFSKI!AC$8:AI$53,6,0)),\"\",VLOOKUP($A20,SURFSKI!AC$8:AI$53,6,0))","v":""},{"$f":"IF(ISNA(VLOOKUP($A20,SURFSKI!AC$8:AI$53,7,0)),\"\",VLOOKUP($A20,SURFSKI!AC$8:AI$53,7,0))","v":""},{"$f":"IF($A20=\"\",\"\",VLOOKUP($A20,INSCRITS!$D$4:$W$506,15,0))","v":0},{"$f":"IF(ISNA(VLOOKUP($A20,OCEANMAN!AC$7:AI$52,6,0)),\"\",VLOOKUP($A20,OCEANMAN!AC$7:AI$52,6,0))","v":""},{"$f":"IF(ISNA(VLOOKUP($A20,OCEANMAN!AC$7:AI$52,7,0)),\"\",VLOOKUP($A20,OCEANMAN!AC$7:AI$52,7,0))","v":""},{"$f":"IF($A20=\"\",\"\",VLOOKUP($A20,INSCRITS!$D$4:$W$506,16,0))","v":"X"},{"$f":"IF(ISNA(VLOOKUP($A20,CNC!N$7:AC$52,6,0)),\"\",VLOOKUP($A20,CNC!N$7:AC$52,6,0))","v":"NC"},{"$f":"IF(ISNA(VLOOKUP($A20,CNC!N$7:AC$52,7,0)),\"\",VLOOKUP($A20,CNC!N$7:AC$52,7,0))","v":0},10,{"$f":"IF($A20=\"\",\"\",VLOOKUP($A20,INSCRITS!$D$4:$W$506,16,0))","v":"X"},null,{"$f":"IF(AG20=\"\",\"\",VLOOKUP(AG20,[0]!Relais,2))","v":""},{"$f":"IF($A20=\"\",\"\",VLOOKUP($A20,INSCRITS!$D$4:$W$506,17,0))","v":0},null,{"$f":"IF(AJ20=\"\",\"\",VLOOKUP(AJ20,[0]!Relais,2))","v":""},{"$f":"IF($A20=\"\",\"\",VLOOKUP($A20,INSCRITS!$D$4:$W$506,18,0))","v":0},null,{"$f":"IF(AM20=\"\",\"\",VLOOKUP(AM20,[0]!Relais,2))","v":""},{"$f":"IF($A20=\"\",\"\",VLOOKUP($A20,INSCRITS!$D$4:$W$506,19,0))","v":0},null,{"$f":"IF(AP20=\"\",\"\",VLOOKUP(AP20,[0]!Relais,2))","v":""},0,10]
[137,{"$f":"IF($A21=\"\",\"\",VLOOKUP($A21,INSCRITS!$D$4:$W$501,2,0))","v":0},null,{"$f":"IF($A21=\"\",\"\",VLOOKUP($A21,INSCRITS!$D$4:$W$501,4,0))","v":"H"},{"$f":"IF($A21=\"\",\"\",VLOOKUP($A21,INSCRITS!$D$4:$W$501,5,0))","v":"00:00:00"},{"$f":"IF($A21=\"\",\"\",VLOOKUP($A21,INSCRITS!$D$4:$W$501,6,0))","v":"GAUDIN"},{"$f":"IF($A21=\"\",\"\",VLOOKUP($A21,INSCRITS!$D$4:$W$501,7,0))","v":"Arnaud"},{"$f":"IF($A21=\"\",\"\",VLOOKUP($A21,INSCRITS!$D$4:$W$501,8,0))","v":"Cadet"},{"$f":"IF($A21=\"\",\"\",VLOOKUP($A21,INSCRITS!$D$4:$W$501,9,0))","v":"Biarritz SC"},{"$f":"IF($A21=\"\",\"\",VLOOKUP($A21,INSCRITS!$D$4:$W$506,10,0))","v":"X"},{"$f":"IF(ISNA(VLOOKUP($A21,SPRINT!AD$7:AJ$50,6,0)),\"\",VLOOKUP($A21,SPRINT!AD$7:AJ$50,6,0))","v":""},{"$f":"IF(ISNA(VLOOKUP($A21,SPRINT!AD$7:AJ$50,7,0)),\"\",VLOOKUP($A21,SPRINT!AD$7:AJ$50,7,0))","v":""},{"$f":"IF($A21=\"\",\"\",VLOOKUP($A21,INSCRITS!$D$4:$W$506,11,0))","v":"X"},{"$f":"IF(ISNA(VLOOKUP($A21,BATONS!AD$7:AJ$51,6,0)),\"\",VLOOKUP($A21,BATONS!AD$7:AJ$51,6,0))","v":""},{"$f":"IF(ISNA(VLOOKUP($A21,BATONS!AD$7:AJ$51,7,0)),\"\",VLOOKUP($A21,BATONS!AD$7:AJ$51,7,0))","v":""},{"$f":"IF($A21=\"\",\"\",VLOOKUP($A21,INSCRITS!$D$4:$W$506,12,0))","v":"X"},{"$f":"IF(ISNA(VLOOKUP($A21,PLANCHE!AC$7:AI$52,6,0)),\"\",VLOOKUP($A21,PLANCHE!AC$7:AI$52,6,0))","v":""},{"$f":"IF(ISNA(VLOOKUP($A21,PLANCHE!AC$7:AI$52,7,0)),\"\",VLOOKUP($A21,PLANCHE!AC$7:AI$52,7,0))","v":""},{"$f":"IF($A21=\"\",\"\",VLOOKUP($A21,INSCRITS!$D$4:$W$506,13,0))","v":"X"},{"$f":"IF(ISNA(VLOOKUP($A21,NAGE!N$7:T$52,6,0)),\"\",VLOOKUP($A21,NAGE!N$7:T$52,6,0))","v":20},{"$f":"IF(ISNA(VLOOKUP($A21,NAGE!N$7:T$52,7,0)),\"\",VLOOKUP($A21,NAGE!N$7:T$52,7,0))","v":0},{"$f":"IF($A21=\"\",\"\",VLOOKUP($A21,INSCRITS!$D$4:$W$506,14,0))","v":0},{"$f":"IF(ISNA(VLOOKUP($A21,SURFSKI!AC$8:AI$53,6,0)),\"\",VLOOKUP($A21,SURFSKI!AC$8:AI$53,6,0))","v":""},{"$f":"IF(ISNA(VLOOKUP($A21,SURFSKI!AC$8:AI$53,7,0)),\"\",VLOOKUP($A21,SURFSKI!AC$8:AI$53,7,0))","v":""},{"$f":"IF($A21=\"\",\"\",VLOOKUP($A21,INSCRITS!$D$4:$W$506,15,0))","v":0},{"$f":"IF(ISNA(VLOOKUP($A21,OCEANMAN!AC$7:AI$52,6,0)),\"\",VLOOKUP($A21,OCEANMAN!AC$7:AI$52,6,0))","v":""},{"$f":"IF(ISNA(VLOOKUP($A21,OCEANMAN!AC$7:AI$52,7,0)),\"\",VLOOKUP($A21,OCEANMAN!AC$7:AI$52,7,0))","v":""},{"$f":"IF($A21=\"\",\"\",VLOOKUP($A21,INSCRITS!$D$4:$W$506,16,0))","v":"X"},{"$f":"IF(ISNA(VLOOKUP($A21,CNC!N$7:AC$52,6,0)),\"\",VLOOKUP($A21,CNC!N$7:AC$52,6,0))","v":"NC"},{"$f":"IF(ISNA(VLOOKUP($A21,CNC!N$7:AC$52,7,0)),\"\",VLOOKUP($A21,CNC!N$7:AC$52,7,0))","v":0},0,{"$f":"IF($A21=\"\",\"\",VLOOKUP($A21,INSCRITS!$D$4:$W$506,16,0))","v":"X"},null,{"$f":"IF(AG21=\"\",\"\",VLOOKUP(AG21,[0]!Relais,2))","v":""},{"$f":"IF($A21=\"\",\"\",VLOOKUP($A21,INSCRITS!$D$4:$W$506,17,0))","v":0},null,{"$f":"IF(AJ21=\"\",\"\",VLOOKUP(AJ21,[0]!Relais,2))","v":""},{"$f":"IF($A21=\"\",\"\",VLOOKUP($A21,INSCRITS!$D$4:$W$506,18,0))","v":0},null,{"$f":"IF(AM21=\"\",\"\",VLOOKUP(AM21,[0]!Relais,2))","v":""},{"$f":"IF($A21=\"\",\"\",VLOOKUP($A21,INSCRITS!$D$4:$W$506,19,0))","v":0},null,{"$f":"IF(AP21=\"\",\"\",VLOOKUP(AP21,[0]!Relais,2))","v":""},0,0]
[138,{"$f":"IF($A22=\"\",\"\",VLOOKUP($A22,INSCRITS!$D$4:$W$501,2,0))","v":0},null,{"$f":"IF($A22=\"\",\"\",VLOOKUP($A22,INSCRITS!$D$4:$W$501,4,0))","v":"H"},{"$f":"IF($A22=\"\",\"\",VLOOKUP($A22,INSCRITS!$D$4:$W$501,5,0))","v":"00:00:00"},{"$f":"IF($A22=\"\",\"\",VLOOKUP($A22,INSCRITS!$D$4:$W$501,6,0))","v":"LABAT"},{"$f":"IF($A22=\"\",\"\",VLOOKUP($A22,INSCRITS!$D$4:$W$501,7,0))","v":"Maxime"},{"$f":"IF($A22=\"\",\"\",VLOOKUP($A22,INSCRITS!$D$4:$W$501,8,0))","v":"Cadet"},{"$f":"IF($A22=\"\",\"\",VLOOKUP($A22,INSCRITS!$D$4:$W$501,9,0))","v":"Biarritz SC"},{"$f":"IF($A22=\"\",\"\",VLOOKUP($A22,INSCRITS!$D$4:$W$506,10,0))","v":"X"},{"$f":"IF(ISNA(VLOOKUP($A22,SPRINT!AD$7:AJ$50,6,0)),\"\",VLOOKUP($A22,SPRINT!AD$7:AJ$50,6,0))","v":""},{"$f":"IF(ISNA(VLOOKUP($A22,SPRINT!AD$7:AJ$50,7,0)),\"\",VLOOKUP($A22,SPRINT!AD$7:AJ$50,7,0))","v":""},{"$f":"IF($A22=\"\",\"\",VLOOKUP($A22,INSCRITS!$D$4:$W$506,11,0))","v":"X"},{"$f":"IF(ISNA(VLOOKUP($A22,BATONS!AD$7:AJ$51,6,0)),\"\",VLOOKUP($A22,BATONS!AD$7:AJ$51,6,0))","v":6},{"$f":"IF(ISNA(VLOOKUP($A22,BATONS!AD$7:AJ$51,7,0)),\"\",VLOOKUP($A22,BATONS!AD$7:AJ$51,7,0))","v":12},{"$f":"IF($A22=\"\",\"\",VLOOKUP($A22,INSCRITS!$D$4:$W$506,12,0))","v":"X"},{"$f":"IF(ISNA(VLOOKUP($A22,PLANCHE!AC$7:AI$52,6,0)),\"\",VLOOKUP($A22,PLANCHE!AC$7:AI$52,6,0))","v":4},{"$f":"IF(ISNA(VLOOKUP($A22,PLANCHE!AC$7:AI$52,7,0)),\"\",VLOOKUP($A22,PLANCHE!AC$7:AI$52,7,0))","v":14},{"$f":"IF($A22=\"\",\"\",VLOOKUP($A22,INSCRITS!$D$4:$W$506,13,0))","v":"X"},{"$f":"IF(ISNA(VLOOKUP($A22,NAGE!N$7:T$52,6,0)),\"\",VLOOKUP($A22,NAGE!N$7:T$52,6,0))","v":7},{"$f":"IF(ISNA(VLOOKUP($A22,NAGE!N$7:T$52,7,0)),\"\",VLOOKUP($A22,NAGE!N$7:T$52,7,0))","v":11},{"$f":"IF($A22=\"\",\"\",VLOOKUP($A22,INSCRITS!$D$4:$W$506,14,0))","v":"X"},{"$f":"IF(ISNA(VLOOKUP($A22,SURFSKI!AC$8:AI$53,6,0)),\"\",VLOOKUP($A22,SURFSKI!AC$8:AI$53,6,0))","v":5},{"$f":"IF(ISNA(VLOOKUP($A22,SURFSKI!AC$8:AI$53,7,0)),\"\",VLOOKUP($A22,SURFSKI!AC$8:AI$53,7,0))","v":13},{"$f":"IF($A22=\"\",\"\",VLOOKUP($A22,INSCRITS!$D$4:$W$506,15,0))","v":"X"},{"$f":"IF(ISNA(VLOOKUP($A22,OCEANMAN!AC$7:AI$52,6,0)),\"\",VLOOKUP($A22,OCEANMAN!AC$7:AI$52,6,0))","v":4},{"$f":"IF(ISNA(VLOOKUP($A22,OCEANMAN!AC$7:AI$52,7,0)),\"\",VLOOKUP($A22,OCEANMAN!AC$7:AI$52,7,0))","v":14},{"$f":"IF($A22=\"\",\"\",VLOOKUP($A22,INSCRITS!$D$4:$W$506,16,0))","v":"X"},{"$f":"IF(ISNA(VLOOKUP($A22,CNC!N$7:AC$52,6,0)),\"\",VLOOKUP($A22,CNC!N$7:AC$52,6,0))","v":6},{"$f":"IF(ISNA(VLOOKUP($A22,CNC!N$7:AC$52,7,0)),\"\",VLOOKUP($A22,CNC!N$7:AC$52,7,0))","v":12},76,{"$f":"IF($A22=\"\",\"\",VLOOKUP($A22,INSCRITS!$D$4:$W$506,16,0))","v":"X"},null,{"$f":"IF(AG22=\"\",\"\",VLOOKUP(AG22,[0]!Relais,2))","v":""},{"$f":"IF($A22=\"\",\"\",VLOOKUP($A22,INSCRITS!$D$4:$W$506,17,0))","v":0},null,{"$f":"IF(AJ22=\"\",\"\",VLOOKUP(AJ22,[0]!Relais,2))","v":""},{"$f":"IF($A22=\"\",\"\",VLOOKUP($A22,INSCRITS!$D$4:$W$506,18,0))","v":0},null,{"$f":"IF(AM22=\"\",\"\",VLOOKUP(AM22,[0]!Relais,2))","v":""},{"$f":"IF($A22=\"\",\"\",VLOOKUP($A22,INSCRITS!$D$4:$W$506,19,0))","v":0},null,{"$f":"IF(AP22=\"\",\"\",VLOOKUP(AP22,[0]!Relais,2))","v":""},0,76]
[139,{"$f":"IF($A23=\"\",\"\",VLOOKUP($A23,INSCRITS!$D$4:$W$501,2,0))","v":0},null,{"$f":"IF($A23=\"\",\"\",VLOOKUP($A23,INSCRITS!$D$4:$W$501,4,0))","v":"H"},{"$f":"IF($A23=\"\",\"\",VLOOKUP($A23,INSCRITS!$D$4:$W$501,5,0))","v":"00:00:00"},{"$f":"IF($A23=\"\",\"\",VLOOKUP($A23,INSCRITS!$D$4:$W$501,6,0))","v":"PUYAU"},{"$f":"IF($A23=\"\",\"\",VLOOKUP($A23,INSCRITS!$D$4:$W$501,7,0))","v":"Pierre"},{"$f":"IF($A23=\"\",\"\",VLOOKUP($A23,INSCRITS!$D$4:$W$501,8,0))","v":"Cadet"},{"$f":"IF($A23=\"\",\"\",VLOOKUP($A23,INSCRITS!$D$4:$W$501,9,0))","v":"Biarritz SC"},{"$f":"IF($A23=\"\",\"\",VLOOKUP($A23,INSCRITS!$D$4:$W$506,10,0))","v":0},{"$f":"IF(ISNA(VLOOKUP($A23,SPRINT!AD$7:AJ$50,6,0)),\"\",VLOOKUP($A23,SPRINT!AD$7:AJ$50,6,0))","v":12},{"$f":"IF(ISNA(VLOOKUP($A23,SPRINT!AD$7:AJ$50,7,0)),\"\",VLOOKUP($A23,SPRINT!AD$7:AJ$50,7,0))","v":5},{"$f":"IF($A23=\"\",\"\",VLOOKUP($A23,INSCRITS!$D$4:$W$506,11,0))","v":"X"},{"$f":"IF(ISNA(VLOOKUP($A23,BATONS!AD$7:AJ$51,6,0)),\"\",VLOOKUP($A23,BATONS!AD$7:AJ$51,6,0))","v":""},{"$f":"IF(ISNA(VLOOKUP($A23,BATONS!AD$7:AJ$51,7,0)),\"\",VLOOKUP($A23,BATONS!AD$7:AJ$51,7,0))","v":""},{"$f":"IF($A23=\"\",\"\",VLOOKUP($A23,INSCRITS!$D$4:$W$506,12,0))","v":"X"},{"$f":"IF(ISNA(VLOOKUP($A23,PLANCHE!AC$7:AI$52,6,0)),\"\",VLOOKUP($A23,PLANCHE!AC$7:AI$52,6,0))","v":13},{"$f":"IF(ISNA(VLOOKUP($A23,PLANCHE!AC$7:AI$52,7,0)),\"\",VLOOKUP($A23,PLANCHE!AC$7:AI$52,7,0))","v":4},{"$f":"IF($A23=\"\",\"\",VLOOKUP($A23,INSCRITS!$D$4:$W$506,13,0))","v":"X"},{"$f":"IF(ISNA(VLOOKUP($A23,NAGE!N$7:T$52,6,0)),\"\",VLOOKUP($A23,NAGE!N$7:T$52,6,0))","v":18},{"$f":"IF(ISNA(VLOOKUP($A23,NAGE!N$7:T$52,7,0)),\"\",VLOOKUP($A23,NAGE!N$7:T$52,7,0))","v":0},{"$f":"IF($A23=\"\",\"\",VLOOKUP($A23,INSCRITS!$D$4:$W$506,14,0))","v":0},{"$f":"IF(ISNA(VLOOKUP($A23,SURFSKI!AC$8:AI$53,6,0)),\"\",VLOOKUP($A23,SURFSKI!AC$8:AI$53,6,0))","v":""},{"$f":"IF(ISNA(VLOOKUP($A23,SURFSKI!AC$8:AI$53,7,0)),\"\",VLOOKUP($A23,SURFSKI!AC$8:AI$53,7,0))","v":""},{"$f":"IF($A23=\"\",\"\",VLOOKUP($A23,INSCRITS!$D$4:$W$506,15,0))","v":0},{"$f":"IF(ISNA(VLOOKUP($A23,OCEANMAN!AC$7:AI$52,6,0)),\"\",VLOOKUP($A23,OCEANMAN!AC$7:AI$52,6,0))","v":""},{"$f":"IF(ISNA(VLOOKUP($A23,OCEANMAN!AC$7:AI$52,7,0)),\"\",VLOOKUP($A23,OCEANMAN!AC$7:AI$52,7,0))","v":""},{"$f":"IF($A23=\"\",\"\",VLOOKUP($A23,INSCRITS!$D$4:$W$506,16,0))","v":"X"},{"$f":"IF(ISNA(VLOOKUP($A23,CNC!N$7:AC$52,6,0)),\"\",VLOOKUP($A23,CNC!N$7:AC$52,6,0))","v":"NC"},{"$f":"IF(ISNA(VLOOKUP($A23,CNC!N$7:AC$52,7,0)),\"\",VLOOKUP($A23,CNC!N$7:AC$52,7,0))","v":0},9,{"$f":"IF($A23=\"\",\"\",VLOOKUP($A23,INSCRITS!$D$4:$W$506,16,0))","v":"X"},null,{"$f":"IF(AG23=\"\",\"\",VLOOKUP(AG23,[0]!Relais,2))","v":""},{"$f":"IF($A23=\"\",\"\",VLOOKUP($A23,INSCRITS!$D$4:$W$506,17,0))","v":0},null,{"$f":"IF(AJ23=\"\",\"\",VLOOKUP(AJ23,[0]!Relais,2))","v":""},{"$f":"IF($A23=\"\",\"\",VLOOKUP($A23,INSCRITS!$D$4:$W$506,18,0))","v":0},null,{"$f":"IF(AM23=\"\",\"\",VLOOKUP(AM23,[0]!Relais,2))","v":""},{"$f":"IF($A23=\"\",\"\",VLOOKUP($A23,INSCRITS!$D$4:$W$506,19,0))","v":0},null,{"$f":"IF(AP23=\"\",\"\",VLOOKUP(AP23,[0]!Relais,2))","v":""},0,9]
[140,{"$f":"IF($A24=\"\",\"\",VLOOKUP($A24,INSCRITS!$D$4:$W$501,2,0))","v":0},null,{"$f":"IF($A24=\"\",\"\",VLOOKUP($A24,INSCRITS!$D$4:$W$501,4,0))","v":"H"},{"$f":"IF($A24=\"\",\"\",VLOOKUP($A24,INSCRITS!$D$4:$W$501,5,0))","v":"00:00:00"},{"$f":"IF($A24=\"\",\"\",VLOOKUP($A24,INSCRITS!$D$4:$W$501,6,0))","v":"YOH"},{"$f":"IF($A24=\"\",\"\",VLOOKUP($A24,INSCRITS!$D$4:$W$501,7,0))","v":"Titouan"},{"$f":"IF($A24=\"\",\"\",VLOOKUP($A24,INSCRITS!$D$4:$W$501,8,0))","v":"Cadet"},{"$f":"IF($A24=\"\",\"\",VLOOKUP($A24,INSCRITS!$D$4:$W$501,9,0))","v":"Biarritz SC"},{"$f":"IF($A24=\"\",\"\",VLOOKUP($A24,INSCRITS!$D$4:$W$506,10,0))","v":"X"},{"$f":"IF(ISNA(VLOOKUP($A24,SPRINT!AD$7:AJ$50,6,0)),\"\",VLOOKUP($A24,SPRINT!AD$7:AJ$50,6,0))","v":2},{"$f":"IF(ISNA(VLOOKUP($A24,SPRINT!AD$7:AJ$50,7,0)),\"\",VLOOKUP($A24,SPRINT!AD$7:AJ$50,7,0))","v":18},{"$f":"IF($A24=\"\",\"\",VLOOKUP($A24,INSCRITS!$D$4:$W$506,11,0))","v":"X"},{"$f":"IF(ISNA(VLOOKUP($A24,BATONS!AD$7:AJ$51,6,0)),\"\",VLOOKUP($A24,BATONS!AD$7:AJ$51,6,0))","v":1},{"$f":"IF(ISNA(VLOOKUP($A24,BATONS!AD$7:AJ$51,7,0)),\"\",VLOOKUP($A24,BATONS!AD$7:AJ$51,7,0))","v":20},{"$f":"IF($A24=\"\",\"\",VLOOKUP($A24,INSCRITS!$D$4:$W$506,12,0))","v":"X"},{"$f":"IF(ISNA(VLOOKUP($A24,PLANCHE!AC$7:AI$52,6,0)),\"\",VLOOKUP($A24,PLANCHE!AC$7:AI$52,6,0))","v":10},{"$f":"IF(ISNA(VLOOKUP($A24,PLANCHE!AC$7:AI$52,7,0)),\"\",VLOOKUP($A24,PLANCHE!AC$7:AI$52,7,0))","v":7},{"$f":"IF($A24=\"\",\"\",VLOOKUP($A24,INSCRITS!$D$4:$W$506,13,0))","v":"X"},{"$f":"IF(ISNA(VLOOKUP($A24,NAGE!N$7:T$52,6,0)),\"\",VLOOKUP($A24,NAGE!N$7:T$52,6,0))","v":""},{"$f":"IF(ISNA(VLOOKUP($A24,NAGE!N$7:T$52,7,0)),\"\",VLOOKUP($A24,NAGE!N$7:T$52,7,0))","v":""},{"$f":"IF($A24=\"\",\"\",VLOOKUP($A24,INSCRITS!$D$4:$W$506,14,0))","v":"X"},{"$f":"IF(ISNA(VLOOKUP($A24,SURFSKI!AC$8:AI$53,6,0)),\"\",VLOOKUP($A24,SURFSKI!AC$8:AI$53,6,0))","v":12},{"$f":"IF(ISNA(VLOOKUP($A24,SURFSKI!AC$8:AI$53,7,0)),\"\",VLOOKUP($A24,SURFSKI!AC$8:AI$53,7,0))","v":5},{"$f":"IF($A24=\"\",\"\",VLOOKUP($A24,INSCRITS!$D$4:$W$506,15,0))","v":"X"},{"$f":"IF(ISNA(VLOOKUP($A24,OCEANMAN!AC$7:AI$52,6,0)),\"\",VLOOKUP($A24,OCEANMAN!AC$7:AI$52,6,0))","v":"Abs"},{"$f":"IF(ISNA(VLOOKUP($A24,OCEANMAN!AC$7:AI$52,7,0)),\"\",VLOOKUP($A24,OCEANMAN!AC$7:AI$52,7,0))","v":0},{"$f":"IF($A24=\"\",\"\",VLOOKUP($A24,INSCRITS!$D$4:$W$506,16,0))","v":"X"},{"$f":"IF(ISNA(VLOOKUP($A24,CNC!N$7:AC$52,6,0)),\"\",VLOOKUP($A24,CNC!N$7:AC$52,6,0))","v":""},{"$f":"IF(ISNA(VLOOKUP($A24,CNC!N$7:AC$52,7,0)),\"\",VLOOKUP($A24,CNC!N$7:AC$52,7,0))","v":""},50,{"$f":"IF($A24=\"\",\"\",VLOOKUP($A24,INSCRITS!$D$4:$W$506,16,0))","v":"X"},null,{"$f":"IF(AG24=\"\",\"\",VLOOKUP(AG24,[0]!Relais,2))","v":""},{"$f":"IF($A24=\"\",\"\",VLOOKUP($A24,INSCRITS!$D$4:$W$506,17,0))","v":0},null,{"$f":"IF(AJ24=\"\",\"\",VLOOKUP(AJ24,[0]!Relais,2))","v":""},{"$f":"IF($A24=\"\",\"\",VLOOKUP($A24,INSCRITS!$D$4:$W$506,18,0))","v":0},null,{"$f":"IF(AM24=\"\",\"\",VLOOKUP(AM24,[0]!Relais,2))","v":""},{"$f":"IF($A24=\"\",\"\",VLOOKUP($A24,INSCRITS!$D$4:$W$506,19,0))","v":0},null,{"$f":"IF(AP24=\"\",\"\",VLOOKUP(AP24,[0]!Relais,2))","v":""},0,50]
[141,{"$f":"IF($A25=\"\",\"\",VLOOKUP($A25,INSCRITS!$D$4:$W$501,2,0))","v":0},null,{"$f":"IF($A25=\"\",\"\",VLOOKUP($A25,INSCRITS!$D$4:$W$501,4,0))","v":"H"},{"$f":"IF($A25=\"\",\"\",VLOOKUP($A25,INSCRITS!$D$4:$W$501,5,0))","v":"00:00:00"},{"$f":"IF($A25=\"\",\"\",VLOOKUP($A25,INSCRITS!$D$4:$W$501,6,0))","v":"LAUBUGE"},{"$f":"IF($A25=\"\",\"\",VLOOKUP($A25,INSCRITS!$D$4:$W$501,7,0))","v":"Nathanael"},{"$f":"IF($A25=\"\",\"\",VLOOKUP($A25,INSCRITS!$D$4:$W$501,8,0))","v":"Cadet"},{"$f":"IF($A25=\"\",\"\",VLOOKUP($A25,INSCRITS!$D$4:$W$501,9,0))","v":"BOSS"},{"$f":"IF($A25=\"\",\"\",VLOOKUP($A25,INSCRITS!$D$4:$W$506,10,0))","v":"X"},{"$f":"IF(ISNA(VLOOKUP($A25,SPRINT!AD$7:AJ$50,6,0)),\"\",VLOOKUP($A25,SPRINT!AD$7:AJ$50,6,0))","v":11},{"$f":"IF(ISNA(VLOOKUP($A25,SPRINT!AD$7:AJ$50,7,0)),\"\",VLOOKUP($A25,SPRINT!AD$7:AJ$50,7,0))","v":6},{"$f":"IF($A25=\"\",\"\",VLOOKUP($A25,INSCRITS!$D$4:$W$506,11,0))","v":"X"},{"$f":"IF(ISNA(VLOOKUP($A25,BATONS!AD$7:AJ$51,6,0)),\"\",VLOOKUP($A25,BATONS!AD$7:AJ$51,6,0))","v":15},{"$f":"IF(ISNA(VLOOKUP($A25,BATONS!AD$7:AJ$51,7,0)),\"\",VLOOKUP($A25,BATONS!AD$7:AJ$51,7,0))","v":2},{"$f":"IF($A25=\"\",\"\",VLOOKUP($A25,INSCRITS!$D$4:$W$506,12,0))","v":"X"},{"$f":"IF(ISNA(VLOOKUP($A25,PLANCHE!AC$7:AI$52,6,0)),\"\",VLOOKUP($A25,PLANCHE!AC$7:AI$52,6,0))","v":9},{"$f":"IF(ISNA(VLOOKUP($A25,PLANCHE!AC$7:AI$52,7,0)),\"\",VLOOKUP($A25,PLANCHE!AC$7:AI$52,7,0))","v":8},{"$f":"IF($A25=\"\",\"\",VLOOKUP($A25,INSCRITS!$D$4:$W$506,13,0))","v":"X"},{"$f":"IF(ISNA(VLOOKUP($A25,NAGE!N$7:T$52,6,0)),\"\",VLOOKUP($A25,NAGE!N$7:T$52,6,0))","v":21},{"$f":"IF(ISNA(VLOOKUP($A25,NAGE!N$7:T$52,7,0)),\"\",VLOOKUP($A25,NAGE!N$7:T$52,7,0))","v":0},{"$f":"IF($A25=\"\",\"\",VLOOKUP($A25,INSCRITS!$D$4:$W$506,14,0))","v":"X"},{"$f":"IF(ISNA(VLOOKUP($A25,SURFSKI!AC$8:AI$53,6,0)),\"\",VLOOKUP($A25,SURFSKI!AC$8:AI$53,6,0))","v":13},{"$f":"IF(ISNA(VLOOKUP($A25,SURFSKI!AC$8:AI$53,7,0)),\"\",VLOOKUP($A25,SURFSKI!AC$8:AI$53,7,0))","v":4},{"$f":"IF($A25=\"\",\"\",VLOOKUP($A25,INSCRITS!$D$4:$W$506,15,0))","v":"X"},{"$f":"IF(ISNA(VLOOKUP($A25,OCEANMAN!AC$7:AI$52,6,0)),\"\",VLOOKUP($A25,OCEANMAN!AC$7:AI$52,6,0))","v":16},{"$f":"IF(ISNA(VLOOKUP($A25,OCEANMAN!AC$7:AI$52,7,0)),\"\",VLOOKUP($A25,OCEANMAN!AC$7:AI$52,7,0))","v":1},{"$f":"IF($A25=\"\",\"\",VLOOKUP($A25,INSCRITS!$D$4:$W$506,16,0))","v":"X"},{"$f":"IF(ISNA(VLOOKUP($A25,CNC!N$7:AC$52,6,0)),\"\",VLOOKUP($A25,CNC!N$7:AC$52,6,0))","v":"NC"},{"$f":"IF(ISNA(VLOOKUP($A25,CNC!N$7:AC$52,7,0)),\"\",VLOOKUP($A25,CNC!N$7:AC$52,7,0))","v":0},21,{"$f":"IF($A25=\"\",\"\",VLOOKUP($A25,INSCRITS!$D$4:$W$506,16,0))","v":"X"},null,{"$f":"IF(AG25=\"\",\"\",VLOOKUP(AG25,[0]!Relais,2))","v":""},{"$f":"IF($A25=\"\",\"\",VLOOKUP($A25,INSCRITS!$D$4:$W$506,17,0))","v":0},null,{"$f":"IF(AJ25=\"\",\"\",VLOOKUP(AJ25,[0]!Relais,2))","v":""},{"$f":"IF($A25=\"\",\"\",VLOOKUP($A25,INSCRITS!$D$4:$W$506,18,0))","v":0},null,{"$f":"IF(AM25=\"\",\"\",VLOOKUP(AM25,[0]!Relais,2))","v":""},{"$f":"IF($A25=\"\",\"\",VLOOKUP($A25,INSCRITS!$D$4:$W$506,19,0))","v":0},null,{"$f":"IF(AP25=\"\",\"\",VLOOKUP(AP25,[0]!Relais,2))","v":""},0,21]
[142,{"$f":"IF($A26=\"\",\"\",VLOOKUP($A26,INSCRITS!$D$4:$W$501,2,0))","v":0},null,{"$f":"IF($A26=\"\",\"\",VLOOKUP($A26,INSCRITS!$D$4:$W$501,4,0))","v":"H"},{"$f":"IF($A26=\"\",\"\",VLOOKUP($A26,INSCRITS!$D$4:$W$501,5,0))","v":"00:00:00"},{"$f":"IF($A26=\"\",\"\",VLOOKUP($A26,INSCRITS!$D$4:$W$501,6,0))","v":"PERRIN"},{"$f":"IF($A26=\"\",\"\",VLOOKUP($A26,INSCRITS!$D$4:$W$501,7,0))","v":"Hugo"},{"$f":"IF($A26=\"\",\"\",VLOOKUP($A26,INSCRITS!$D$4:$W$501,8,0))","v":"Cadet"},{"$f":"IF($A26=\"\",\"\",VLOOKUP($A26,INSCRITS!$D$4:$W$501,9,0))","v":"BOSS"},{"$f":"IF($A26=\"\",\"\",VLOOKUP($A26,INSCRITS!$D$4:$W$506,10,0))","v":"X"},{"$f":"IF(ISNA(VLOOKUP($A26,SPRINT!AD$7:AJ$50,6,0)),\"\",VLOOKUP($A26,SPRINT!AD$7:AJ$50,6,0))","v":""},{"$f":"IF(ISNA(VLOOKUP($A26,SPRINT!AD$7:AJ$50,7,0)),\"\",VLOOKUP($A26,SPRINT!AD$7:AJ$50,7,0))","v":""},{"$f":"IF($A26=\"\",\"\",VLOOKUP($A26,INSCRITS!$D$4:$W$506,11,0))","v":"X"},{"$f":"IF(ISNA(VLOOKUP($A26,BATONS!AD$7:AJ$51,6,0)),\"\",VLOOKUP($A26,BATONS!AD$7:AJ$51,6,0))","v":""},{"$f":"IF(ISNA(VLOOKUP($A26,BATONS!AD$7:AJ$51,7,0)),\"\",VLOOKUP($A26,BATONS!AD$7:AJ$51,7,0))","v":""},{"$f":"IF($A26=\"\",\"\",VLOOKUP($A26,INSCRITS!$D$4:$W$506,12,0))","v":"X"},{"$f":"IF(ISNA(VLOOKUP($A26,PLANCHE!AC$7:AI$52,6,0)),\"\",VLOOKUP($A26,PLANCHE!AC$7:AI$52,6,0))","v":""},{"$f":"IF(ISNA(VLOOKUP($A26,PLANCHE!AC$7:AI$52,7,0)),\"\",VLOOKUP($A26,PLANCHE!AC$7:AI$52,7,0))","v":""},{"$f":"IF($A26=\"\",\"\",VLOOKUP($A26,INSCRITS!$D$4:$W$506,13,0))","v":"X"},{"$f":"IF(ISNA(VLOOKUP($A26,NAGE!N$7:T$52,6,0)),\"\",VLOOKUP($A26,NAGE!N$7:T$52,6,0))","v":"abs"},{"$f":"IF(ISNA(VLOOKUP($A26,NAGE!N$7:T$52,7,0)),\"\",VLOOKUP($A26,NAGE!N$7:T$52,7,0))","v":0},{"$f":"IF($A26=\"\",\"\",VLOOKUP($A26,INSCRITS!$D$4:$W$506,14,0))","v":"X"},{"$f":"IF(ISNA(VLOOKUP($A26,SURFSKI!AC$8:AI$53,6,0)),\"\",VLOOKUP($A26,SURFSKI!AC$8:AI$53,6,0))","v":"abs"},{"$f":"IF(ISNA(VLOOKUP($A26,SURFSKI!AC$8:AI$53,7,0)),\"\",VLOOKUP($A26,SURFSKI!AC$8:AI$53,7,0))","v":0},{"$f":"IF($A26=\"\",\"\",VLOOKUP($A26,INSCRITS!$D$4:$W$506,15,0))","v":"X"},{"$f":"IF(ISNA(VLOOKUP($A26,OCEANMAN!AC$7:AI$52,6,0)),\"\",VLOOKUP($A26,OCEANMAN!AC$7:AI$52,6,0))","v":"Abs"},{"$f":"IF(ISNA(VLOOKUP($A26,OCEANMAN!AC$7:AI$52,7,0)),\"\",VLOOKUP($A26,OCEANMAN!AC$7:AI$52,7,0))","v":0},{"$f":"IF($A26=\"\",\"\",VLOOKUP($A26,INSCRITS!$D$4:$W$506,16,0))","v":"X"},{"$f":"IF(ISNA(VLOOKUP($A26,CNC!N$7:AC$52,6,0)),\"\",VLOOKUP($A26,CNC!N$7:AC$52,6,0))","v":"NC"},{"$f":"IF(ISNA(VLOOKUP($A26,CNC!N$7:AC$52,7,0)),\"\",VLOOKUP($A26,CNC!N$7:AC$52,7,0))","v":0},0,{"$f":"IF($A26=\"\",\"\",VLOOKUP($A26,INSCRITS!$D$4:$W$506,16,0))","v":"X"},null,{"$f":"IF(AG26=\"\",\"\",VLOOKUP(AG26,[0]!Relais,2))","v":""},{"$f":"IF($A26=\"\",\"\",VLOOKUP($A26,INSCRITS!$D$4:$W$506,17,0))","v":0},null,{"$f":"IF(AJ26=\"\",\"\",VLOOKUP(AJ26,[0]!Relais,2))","v":""},{"$f":"IF($A26=\"\",\"\",VLOOKUP($A26,INSCRITS!$D$4:$W$506,18,0))","v":0},null,{"$f":"IF(AM26=\"\",\"\",VLOOKUP(AM26,[0]!Relais,2))","v":""},{"$f":"IF($A26=\"\",\"\",VLOOKUP($A26,INSCRITS!$D$4:$W$506,19,0))","v":0},null,{"$f":"IF(AP26=\"\",\"\",VLOOKUP(AP26,[0]!Relais,2))","v":""},0,0]
[143,{"$f":"IF($A27=\"\",\"\",VLOOKUP($A27,INSCRITS!$D$4:$W$501,2,0))","v":0},null,{"$f":"IF($A27=\"\",\"\",VLOOKUP($A27,INSCRITS!$D$4:$W$501,4,0))","v":"H"},{"$f":"IF($A27=\"\",\"\",VLOOKUP($A27,INSCRITS!$D$4:$W$501,5,0))","v":"00:00:00"},{"$f":"IF($A27=\"\",\"\",VLOOKUP($A27,INSCRITS!$D$4:$W$501,6,0))","v":"LICARI"},{"$f":"IF($A27=\"\",\"\",VLOOKUP($A27,INSCRITS!$D$4:$W$501,7,0))","v":"Antoine"},{"$f":"IF($A27=\"\",\"\",VLOOKUP($A27,INSCRITS!$D$4:$W$501,8,0))","v":"Cadet"},{"$f":"IF($A27=\"\",\"\",VLOOKUP($A27,INSCRITS!$D$4:$W$501,9,0))","v":"Cannes Sauvetage Côtier"},{"$f":"IF($A27=\"\",\"\",VLOOKUP($A27,INSCRITS!$D$4:$W$506,10,0))","v":"X"},{"$f":"IF(ISNA(VLOOKUP($A27,SPRINT!AD$7:AJ$50,6,0)),\"\",VLOOKUP($A27,SPRINT!AD$7:AJ$50,6,0))","v":5},{"$f":"IF(ISNA(VLOOKUP($A27,SPRINT!AD$7:AJ$50,7,0)),\"\",VLOOKUP($A27,SPRINT!AD$7:AJ$50,7,0))","v":13},{"$f":"IF($A27=\"\",\"\",VLOOKUP($A27,INSCRITS!$D$4:$W$506,11,0))","v":"X"},{"$f":"IF(ISNA(VLOOKUP($A27,BATONS!AD$7:AJ$51,6,0)),\"\",VLOOKUP($A27,BATONS!AD$7:AJ$51,6,0))","v":3},{"$f":"IF(ISNA(VLOOKUP($A27,BATONS!AD$7:AJ$51,7,0)),\"\",VLOOKUP($A27,BATONS!AD$7:AJ$51,7,0))","v":16},{"$f":"IF($A27=\"\",\"\",VLOOKUP($A27,INSCRITS!$D$4:$W$506,12,0))","v":0},{"$f":"IF(ISNA(VLOOKUP($A27,PLANCHE!AC$7:AI$52,6,0)),\"\",VLOOKUP($A27,PLANCHE!AC$7:AI$52,6,0))","v":16},{"$f":"IF(ISNA(VLOOKUP($A27,PLANCHE!AC$7:AI$52,7,0)),\"\",VLOOKUP($A27,PLANCHE!AC$7:AI$52,7,0))","v":1},{"$f":"IF($A27=\"\",\"\",VLOOKUP($A27,INSCRITS!$D$4:$W$506,13,0))","v":"X"},{"$f":"IF(ISNA(VLOOKUP($A27,NAGE!N$7:T$52,6,0)),\"\",VLOOKUP($A27,NAGE!N$7:T$52,6,0))","v":""},{"$f":"IF(ISNA(VLOOKUP($A27,NAGE!N$7:T$52,7,0)),\"\",VLOOKUP($A27,NAGE!N$7:T$52,7,0))","v":""},{"$f":"IF($A27=\"\",\"\",VLOOKUP($A27,INSCRITS!$D$4:$W$506,14,0))","v":"X"},{"$f":"IF(ISNA(VLOOKUP($A27,SURFSKI!AC$8:AI$53,6,0)),\"\",VLOOKUP($A27,SURFSKI!AC$8:AI$53,6,0))","v":14},{"$f":"IF(ISNA(VLOOKUP($A27,SURFSKI!AC$8:AI$53,7,0)),\"\",VLOOKUP($A27,SURFSKI!AC$8:AI$53,7,0))","v":3},{"$f":"IF($A27=\"\",\"\",VLOOKUP($A27,INSCRITS!$D$4:$W$506,15,0))","v":"X"},{"$f":"IF(ISNA(VLOOKUP($A27,OCEANMAN!AC$7:AI$52,6,0)),\"\",VLOOKUP($A27,OCEANMAN!AC$7:AI$52,6,0))","v":15},{"$f":"IF(ISNA(VLOOKUP($A27,OCEANMAN!AC$7:AI$52,7,0)),\"\",VLOOKUP($A27,OCEANMAN!AC$7:AI$52,7,0))","v":2},{"$f":"IF($A27=\"\",\"\",VLOOKUP($A27,INSCRITS!$D$4:$W$506,16,0))","v":0},{"$f":"IF(ISNA(VLOOKUP($A27,CNC!N$7:AC$52,6,0)),\"\",VLOOKUP($A27,CNC!N$7:AC$52,6,0))","v":""},{"$f":"IF(ISNA(VLOOKUP($A27,CNC!N$7:AC$52,7,0)),\"\",VLOOKUP($A27,CNC!N$7:AC$52,7,0))","v":""},35,{"$f":"IF($A27=\"\",\"\",VLOOKUP($A27,INSCRITS!$D$4:$W$506,16,0))","v":0},null,{"$f":"IF(AG27=\"\",\"\",VLOOKUP(AG27,[0]!Relais,2))","v":""},{"$f":"IF($A27=\"\",\"\",VLOOKUP($A27,INSCRITS!$D$4:$W$506,17,0))","v":0},null,{"$f":"IF(AJ27=\"\",\"\",VLOOKUP(AJ27,[0]!Relais,2))","v":""},{"$f":"IF($A27=\"\",\"\",VLOOKUP($A27,INSCRITS!$D$4:$W$506,18,0))","v":0},null,{"$f":"IF(AM27=\"\",\"\",VLOOKUP(AM27,[0]!Relais,2))","v":""},{"$f":"IF($A27=\"\",\"\",VLOOKUP($A27,INSCRITS!$D$4:$W$506,19,0))","v":0},null,{"$f":"IF(AP27=\"\",\"\",VLOOKUP(AP27,[0]!Relais,2))","v":""},0,35]
[144,{"$f":"IF($A28=\"\",\"\",VLOOKUP($A28,INSCRITS!$D$4:$W$501,2,0))","v":0},null,{"$f":"IF($A28=\"\",\"\",VLOOKUP($A28,INSCRITS!$D$4:$W$501,4,0))","v":"H"},{"$f":"IF($A28=\"\",\"\",VLOOKUP($A28,INSCRITS!$D$4:$W$501,5,0))","v":"00:00:00"},{"$f":"IF($A28=\"\",\"\",VLOOKUP($A28,INSCRITS!$D$4:$W$501,6,0))","v":"LICARI"},{"$f":"IF($A28=\"\",\"\",VLOOKUP($A28,INSCRITS!$D$4:$W$501,7,0))","v":"Arnaud"},{"$f":"IF($A28=\"\",\"\",VLOOKUP($A28,INSCRITS!$D$4:$W$501,8,0))","v":"Cadet"},{"$f":"IF($A28=\"\",\"\",VLOOKUP($A28,INSCRITS!$D$4:$W$501,9,0))","v":"Cannes Sauvetage Côtier"},{"$f":"IF($A28=\"\",\"\",VLOOKUP($A28,INSCRITS!$D$4:$W$506,10,0))","v":"X"},{"$f":"IF(ISNA(VLOOKUP($A28,SPRINT!AD$7:AJ$50,6,0)),\"\",VLOOKUP($A28,SPRINT!AD$7:AJ$50,6,0))","v":6},{"$f":"IF(ISNA(VLOOKUP($A28,SPRINT!AD$7:AJ$50,7,0)),\"\",VLOOKUP($A28,SPRINT!AD$7:AJ$50,7,0))","v":12},{"$f":"IF($A28=\"\",\"\",VLOOKUP($A28,INSCRITS!$D$4:$W$506,11,0))","v":"X"},{"$f":"IF(ISNA(VLOOKUP($A28,BATONS!AD$7:AJ$51,6,0)),\"\",VLOOKUP($A28,BATONS!AD$7:AJ$51,6,0))","v":9},{"$f":"IF(ISNA(VLOOKUP($A28,BATONS!AD$7:AJ$51,7,0)),\"\",VLOOKUP($A28,BATONS!AD$7:AJ$51,7,0))","v":8},{"$f":"IF($A28=\"\",\"\",VLOOKUP($A28,INSCRITS!$D$4:$W$506,12,0))","v":0},{"$f":"IF(ISNA(VLOOKUP($A28,PLANCHE!AC$7:AI$52,6,0)),\"\",VLOOKUP($A28,PLANCHE!AC$7:AI$52,6,0))","v":17},{"$f":"IF(ISNA(VLOOKUP($A28,PLANCHE!AC$7:AI$52,7,0)),\"\",VLOOKUP($A28,PLANCHE!AC$7:AI$52,7,0))","v":0},{"$f":"IF($A28=\"\",\"\",VLOOKUP($A28,INSCRITS!$D$4:$W$506,13,0))","v":"X"},{"$f":"IF(ISNA(VLOOKUP($A28,NAGE!N$7:T$52,6,0)),\"\",VLOOKUP($A28,NAGE!N$7:T$52,6,0))","v":19},{"$f":"IF(ISNA(VLOOKUP($A28,NAGE!N$7:T$52,7,0)),\"\",VLOOKUP($A28,NAGE!N$7:T$52,7,0))","v":0},{"$f":"IF($A28=\"\",\"\",VLOOKUP($A28,INSCRITS!$D$4:$W$506,14,0))","v":"X"},{"$f":"IF(ISNA(VLOOKUP($A28,SURFSKI!AC$8:AI$53,6,0)),\"\",VLOOKUP($A28,SURFSKI!AC$8:AI$53,6,0))","v":10},{"$f":"IF(ISNA(VLOOKUP($A28,SURFSKI!AC$8:AI$53,7,0)),\"\",VLOOKUP($A28,SURFSKI!AC$8:AI$53,7,0))","v":7},{"$f":"IF($A28=\"\",\"\",VLOOKUP($A28,INSCRITS!$D$4:$W$506,15,0))","v":"X"},{"$f":"IF(ISNA(VLOOKUP($A28,OCEANMAN!AC$7:AI$52,6,0)),\"\",VLOOKUP($A28,OCEANMAN!AC$7:AI$52,6,0))","v":11},{"$f":"IF(ISNA(VLOOKUP($A28,OCEANMAN!AC$7:AI$52,7,0)),\"\",VLOOKUP($A28,OCEANMAN!AC$7:AI$52,7,0))","v":6},{"$f":"IF($A28=\"\",\"\",VLOOKUP($A28,INSCRITS!$D$4:$W$506,16,0))","v":"X"},{"$f":"IF(ISNA(VLOOKUP($A28,CNC!N$7:AC$52,6,0)),\"\",VLOOKUP($A28,CNC!N$7:AC$52,6,0))","v":"NC"},{"$f":"IF(ISNA(VLOOKUP($A28,CNC!N$7:AC$52,7,0)),\"\",VLOOKUP($A28,CNC!N$7:AC$52,7,0))","v":0},33,{"$f":"IF($A28=\"\",\"\",VLOOKUP($A28,INSCRITS!$D$4:$W$506,16,0))","v":"X"},null,{"$f":"IF(AG28=\"\",\"\",VLOOKUP(AG28,[0]!Relais,2))","v":""},{"$f":"IF($A28=\"\",\"\",VLOOKUP($A28,INSCRITS!$D$4:$W$506,17,0))","v":0},null,{"$f":"IF(AJ28=\"\",\"\",VLOOKUP(AJ28,[0]!Relais,2))","v":""},{"$f":"IF($A28=\"\",\"\",VLOOKUP($A28,INSCRITS!$D$4:$W$506,18,0))","v":0},null,{"$f":"IF(AM28=\"\",\"\",VLOOKUP(AM28,[0]!Relais,2))","v":""},{"$f":"IF($A28=\"\",\"\",VLOOKUP($A28,INSCRITS!$D$4:$W$506,19,0))","v":0},null,{"$f":"IF(AP28=\"\",\"\",VLOOKUP(AP28,[0]!Relais,2))","v":""},0,33]
[145,{"$f":"IF($A29=\"\",\"\",VLOOKUP($A29,INSCRITS!$D$4:$W$501,2,0))","v":0},null,{"$f":"IF($A29=\"\",\"\",VLOOKUP($A29,INSCRITS!$D$4:$W$501,4,0))","v":"H"},{"$f":"IF($A29=\"\",\"\",VLOOKUP($A29,INSCRITS!$D$4:$W$501,5,0))","v":"00:00:00"},{"$f":"IF($A29=\"\",\"\",VLOOKUP($A29,INSCRITS!$D$4:$W$501,6,0))","v":"VECCHINI"},{"$f":"IF($A29=\"\",\"\",VLOOKUP($A29,INSCRITS!$D$4:$W$501,7,0))","v":"Thierry"},{"$f":"IF($A29=\"\",\"\",VLOOKUP($A29,INSCRITS!$D$4:$W$501,8,0))","v":"Cadet"},{"$f":"IF($A29=\"\",\"\",VLOOKUP($A29,INSCRITS!$D$4:$W$501,9,0))","v":"Cannes Sauvetage Côtier"},{"$f":"IF($A29=\"\",\"\",VLOOKUP($A29,INSCRITS!$D$4:$W$506,10,0))","v":"X"},{"$f":"IF(ISNA(VLOOKUP($A29,SPRINT!AD$7:AJ$50,6,0)),\"\",VLOOKUP($A29,SPRINT!AD$7:AJ$50,6,0))","v":""},{"$f":"IF(ISNA(VLOOKUP($A29,SPRINT!AD$7:AJ$50,7,0)),\"\",VLOOKUP($A29,SPRINT!AD$7:AJ$50,7,0))","v":""},{"$f":"IF($A29=\"\",\"\",VLOOKUP($A29,INSCRITS!$D$4:$W$506,11,0))","v":"X"},{"$f":"IF(ISNA(VLOOKUP($A29,BATONS!AD$7:AJ$51,6,0)),\"\",VLOOKUP($A29,BATONS!AD$7:AJ$51,6,0))","v":16},{"$f":"IF(ISNA(VLOOKUP($A29,BATONS!AD$7:AJ$51,7,0)),\"\",VLOOKUP($A29,BATONS!AD$7:AJ$51,7,0))","v":1},{"$f":"IF($A29=\"\",\"\",VLOOKUP($A29,INSCRITS!$D$4:$W$506,12,0))","v":0},{"$f":"IF(ISNA(VLOOKUP($A29,PLANCHE!AC$7:AI$52,6,0)),\"\",VLOOKUP($A29,PLANCHE!AC$7:AI$52,6,0))","v":""},{"$f":"IF(ISNA(VLOOKUP($A29,PLANCHE!AC$7:AI$52,7,0)),\"\",VLOOKUP($A29,PLANCHE!AC$7:AI$52,7,0))","v":""},{"$f":"IF($A29=\"\",\"\",VLOOKUP($A29,INSCRITS!$D$4:$W$506,13,0))","v":"X"},{"$f":"IF(ISNA(VLOOKUP($A29,NAGE!N$7:T$52,6,0)),\"\",VLOOKUP($A29,NAGE!N$7:T$52,6,0))","v":""},{"$f":"IF(ISNA(VLOOKUP($A29,NAGE!N$7:T$52,7,0)),\"\",VLOOKUP($A29,NAGE!N$7:T$52,7,0))","v":""},{"$f":"IF($A29=\"\",\"\",VLOOKUP($A29,INSCRITS!$D$4:$W$506,14,0))","v":"X"},{"$f":"IF(ISNA(VLOOKUP($A29,SURFSKI!AC$8:AI$53,6,0)),\"\",VLOOKUP($A29,SURFSKI!AC$8:AI$53,6,0))","v":17},{"$f":"IF(ISNA(VLOOKUP($A29,SURFSKI!AC$8:AI$53,7,0)),\"\",VLOOKUP($A29,SURFSKI!AC$8:AI$53,7,0))","v":0},{"$f":"IF($A29=\"\",\"\",VLOOKUP($A29,INSCRITS!$D$4:$W$506,15,0))","v":0},{"$f":"IF(ISNA(VLOOKUP($A29,OCEANMAN!AC$7:AI$52,6,0)),\"\",VLOOKUP($A29,OCEANMAN!AC$7:AI$52,6,0))","v":""},{"$f":"IF(ISNA(VLOOKUP($A29,OCEANMAN!AC$7:AI$52,7,0)),\"\",VLOOKUP($A29,OCEANMAN!AC$7:AI$52,7,0))","v":""},{"$f":"IF($A29=\"\",\"\",VLOOKUP($A29,INSCRITS!$D$4:$W$506,16,0))","v":"X"},{"$f":"IF(ISNA(VLOOKUP($A29,CNC!N$7:AC$52,6,0)),\"\",VLOOKUP($A29,CNC!N$7:AC$52,6,0))","v":"NC"},{"$f":"IF(ISNA(VLOOKUP($A29,CNC!N$7:AC$52,7,0)),\"\",VLOOKUP($A29,CNC!N$7:AC$52,7,0))","v":0},1,{"$f":"IF($A29=\"\",\"\",VLOOKUP($A29,INSCRITS!$D$4:$W$506,16,0))","v":"X"},null,{"$f":"IF(AG29=\"\",\"\",VLOOKUP(AG29,[0]!Relais,2))","v":""},{"$f":"IF($A29=\"\",\"\",VLOOKUP($A29,INSCRITS!$D$4:$W$506,17,0))","v":0},null,{"$f":"IF(AJ29=\"\",\"\",VLOOKUP(AJ29,[0]!Relais,2))","v":""},{"$f":"IF($A29=\"\",\"\",VLOOKUP($A29,INSCRITS!$D$4:$W$506,18,0))","v":0},null,{"$f":"IF(AM29=\"\",\"\",VLOOKUP(AM29,[0]!Relais,2))","v":""},{"$f":"IF($A29=\"\",\"\",VLOOKUP($A29,INSCRITS!$D$4:$W$506,19,0))","v":0},null,{"$f":"IF(AP29=\"\",\"\",VLOOKUP(AP29,[0]!Relais,2))","v":""},0,1]
[146,{"$f":"IF($A30=\"\",\"\",VLOOKUP($A30,INSCRITS!$D$4:$W$501,2,0))","v":0},null,{"$f":"IF($A30=\"\",\"\",VLOOKUP($A30,INSCRITS!$D$4:$W$501,4,0))","v":"H"},{"$f":"IF($A30=\"\",\"\",VLOOKUP($A30,INSCRITS!$D$4:$W$501,5,0))","v":"00:00:00"},{"$f":"IF($A30=\"\",\"\",VLOOKUP($A30,INSCRITS!$D$4:$W$501,6,0))","v":"DEMBLOCQUE"},{"$f":"IF($A30=\"\",\"\",VLOOKUP($A30,INSCRITS!$D$4:$W$501,7,0))","v":"Théo"},{"$f":"IF($A30=\"\",\"\",VLOOKUP($A30,INSCRITS!$D$4:$W$501,8,0))","v":"Cadet"},{"$f":"IF($A30=\"\",\"\",VLOOKUP($A30,INSCRITS!$D$4:$W$501,9,0))","v":"Capbreton"},{"$f":"IF($A30=\"\",\"\",VLOOKUP($A30,INSCRITS!$D$4:$W$506,10,0))","v":"X"},{"$f":"IF(ISNA(VLOOKUP($A30,SPRINT!AD$7:AJ$50,6,0)),\"\",VLOOKUP($A30,SPRINT!AD$7:AJ$50,6,0))","v":""},{"$f":"IF(ISNA(VLOOKUP($A30,SPRINT!AD$7:AJ$50,7,0)),\"\",VLOOKUP($A30,SPRINT!AD$7:AJ$50,7,0))","v":""},{"$f":"IF($A30=\"\",\"\",VLOOKUP($A30,INSCRITS!$D$4:$W$506,11,0))","v":"X"},{"$f":"IF(ISNA(VLOOKUP($A30,BATONS!AD$7:AJ$51,6,0)),\"\",VLOOKUP($A30,BATONS!AD$7:AJ$51,6,0))","v":""},{"$f":"IF(ISNA(VLOOKUP($A30,BATONS!AD$7:AJ$51,7,0)),\"\",VLOOKUP($A30,BATONS!AD$7:AJ$51,7,0))","v":""},{"$f":"IF($A30=\"\",\"\",VLOOKUP($A30,INSCRITS!$D$4:$W$506,12,0))","v":0},{"$f":"IF(ISNA(VLOOKUP($A30,PLANCHE!AC$7:AI$52,6,0)),\"\",VLOOKUP($A30,PLANCHE!AC$7:AI$52,6,0))","v":""},{"$f":"IF(ISNA(VLOOKUP($A30,PLANCHE!AC$7:AI$52,7,0)),\"\",VLOOKUP($A30,PLANCHE!AC$7:AI$52,7,0))","v":""},{"$f":"IF($A30=\"\",\"\",VLOOKUP($A30,INSCRITS!$D$4:$W$506,13,0))","v":"X"},{"$f":"IF(ISNA(VLOOKUP($A30,NAGE!N$7:T$52,6,0)),\"\",VLOOKUP($A30,NAGE!N$7:T$52,6,0))","v":22},{"$f":"IF(ISNA(VLOOKUP($A30,NAGE!N$7:T$52,7,0)),\"\",VLOOKUP($A30,NAGE!N$7:T$52,7,0))","v":0},{"$f":"IF($A30=\"\",\"\",VLOOKUP($A30,INSCRITS!$D$4:$W$506,14,0))","v":0},{"$f":"IF(ISNA(VLOOKUP($A30,SURFSKI!AC$8:AI$53,6,0)),\"\",VLOOKUP($A30,SURFSKI!AC$8:AI$53,6,0))","v":""},{"$f":"IF(ISNA(VLOOKUP($A30,SURFSKI!AC$8:AI$53,7,0)),\"\",VLOOKUP($A30,SURFSKI!AC$8:AI$53,7,0))","v":""},{"$f":"IF($A30=\"\",\"\",VLOOKUP($A30,INSCRITS!$D$4:$W$506,15,0))","v":0},{"$f":"IF(ISNA(VLOOKUP($A30,OCEANMAN!AC$7:AI$52,6,0)),\"\",VLOOKUP($A30,OCEANMAN!AC$7:AI$52,6,0))","v":""},{"$f":"IF(ISNA(VLOOKUP($A30,OCEANMAN!AC$7:AI$52,7,0)),\"\",VLOOKUP($A30,OCEANMAN!AC$7:AI$52,7,0))","v":""},{"$f":"IF($A30=\"\",\"\",VLOOKUP($A30,INSCRITS!$D$4:$W$506,16,0))","v":"X"},{"$f":"IF(ISNA(VLOOKUP($A30,CNC!N$7:AC$52,6,0)),\"\",VLOOKUP($A30,CNC!N$7:AC$52,6,0))","v":"NC"},{"$f":"IF(ISNA(VLOOKUP($A30,CNC!N$7:AC$52,7,0)),\"\",VLOOKUP($A30,CNC!N$7:AC$52,7,0))","v":0},0,{"$f":"IF($A30=\"\",\"\",VLOOKUP($A30,INSCRITS!$D$4:$W$506,16,0))","v":"X"},null,{"$f":"IF(AG30=\"\",\"\",VLOOKUP(AG30,[0]!Relais,2))","v":""},{"$f":"IF($A30=\"\",\"\",VLOOKUP($A30,INSCRITS!$D$4:$W$506,17,0))","v":0},null,{"$f":"IF(AJ30=\"\",\"\",VLOOKUP(AJ30,[0]!Relais,2))","v":""},{"$f":"IF($A30=\"\",\"\",VLOOKUP($A30,INSCRITS!$D$4:$W$506,18,0))","v":0},null,{"$f":"IF(AM30=\"\",\"\",VLOOKUP(AM30,[0]!Relais,2))","v":""},{"$f":"IF($A30=\"\",\"\",VLOOKUP($A30,INSCRITS!$D$4:$W$506,19,0))","v":0},null,{"$f":"IF(AP30=\"\",\"\",VLOOKUP(AP30,[0]!Relais,2))","v":""},0,0]
[147,{"$f":"IF($A31=\"\",\"\",VLOOKUP($A31,INSCRITS!$D$4:$W$501,2,0))","v":0},null,{"$f":"IF($A31=\"\",\"\",VLOOKUP($A31,INSCRITS!$D$4:$W$501,4,0))","v":"H"},{"$f":"IF($A31=\"\",\"\",VLOOKUP($A31,INSCRITS!$D$4:$W$501,5,0))","v":"00:00:00"},{"$f":"IF($A31=\"\",\"\",VLOOKUP($A31,INSCRITS!$D$4:$W$501,6,0))","v":"WAGNER"},{"$f":"IF($A31=\"\",\"\",VLOOKUP($A31,INSCRITS!$D$4:$W$501,7,0))","v":"Florian"},{"$f":"IF($A31=\"\",\"\",VLOOKUP($A31,INSCRITS!$D$4:$W$501,8,0))","v":"Cadet"},{"$f":"IF($A31=\"\",\"\",VLOOKUP($A31,INSCRITS!$D$4:$W$501,9,0))","v":"COLMAR ACSS"},{"$f":"IF($A31=\"\",\"\",VLOOKUP($A31,INSCRITS!$D$4:$W$506,10,0))","v":"X"},{"$f":"IF(ISNA(VLOOKUP($A31,SPRINT!AD$7:AJ$50,6,0)),\"\",VLOOKUP($A31,SPRINT!AD$7:AJ$50,6,0))","v":14},{"$f":"IF(ISNA(VLOOKUP($A31,SPRINT!AD$7:AJ$50,7,0)),\"\",VLOOKUP($A31,SPRINT!AD$7:AJ$50,7,0))","v":3},{"$f":"IF($A31=\"\",\"\",VLOOKUP($A31,INSCRITS!$D$4:$W$506,11,0))","v":"X"},{"$f":"IF(ISNA(VLOOKUP($A31,BATONS!AD$7:AJ$51,6,0)),\"\",VLOOKUP($A31,BATONS!AD$7:AJ$51,6,0))","v":""},{"$f":"IF(ISNA(VLOOKUP($A31,BATONS!AD$7:AJ$51,7,0)),\"\",VLOOKUP($A31,BATONS!AD$7:AJ$51,7,0))","v":""},{"$f":"IF($A31=\"\",\"\",VLOOKUP($A31,INSCRITS!$D$4:$W$506,12,0))","v":0},{"$f":"IF(ISNA(VLOOKUP($A31,PLANCHE!AC$7:AI$52,6,0)),\"\",VLOOKUP($A31,PLANCHE!AC$7:AI$52,6,0))","v":20},{"$f":"IF(ISNA(VLOOKUP($A31,PLANCHE!AC$7:AI$52,7,0)),\"\",VLOOKUP($A31,PLANCHE!AC$7:AI$52,7,0))","v":0},{"$f":"IF($A31=\"\",\"\",VLOOKUP($A31,INSCRITS!$D$4:$W$506,13,0))","v":"X"},{"$f":"IF(ISNA(VLOOKUP($A31,NAGE!N$7:T$52,6,0)),\"\",VLOOKUP($A31,NAGE!N$7:T$52,6,0))","v":""},{"$f":"IF(ISNA(VLOOKUP($A31,NAGE!N$7:T$52,7,0)),\"\",VLOOKUP($A31,NAGE!N$7:T$52,7,0))","v":""},{"$f":"IF($A31=\"\",\"\",VLOOKUP($A31,INSCRITS!$D$4:$W$506,14,0))","v":"X"},{"$f":"IF(ISNA(VLOOKUP($A31,SURFSKI!AC$8:AI$53,6,0)),\"\",VLOOKUP($A31,SURFSKI!AC$8:AI$53,6,0))","v":16},{"$f":"IF(ISNA(VLOOKUP($A31,SURFSKI!AC$8:AI$53,7,0)),\"\",VLOOKUP($A31,SURFSKI!AC$8:AI$53,7,0))","v":1},{"$f":"IF($A31=\"\",\"\",VLOOKUP($A31,INSCRITS!$D$4:$W$506,15,0))","v":"X"},{"$f":"IF(ISNA(VLOOKUP($A31,OCEANMAN!AC$7:AI$52,6,0)),\"\",VLOOKUP($A31,OCEANMAN!AC$7:AI$52,6,0))","v":12},{"$f":"IF(ISNA(VLOOKUP($A31,OCEANMAN!AC$7:AI$52,7,0)),\"\",VLOOKUP($A31,OCEANMAN!AC$7:AI$52,7,0))","v":5},{"$f":"IF($A31=\"\",\"\",VLOOKUP($A31,INSCRITS!$D$4:$W$506,16,0))","v":"X"},{"$f":"IF(ISNA(VLOOKUP($A31,CNC!N$7:AC$52,6,0)),\"\",VLOOKUP($A31,CNC!N$7:AC$52,6,0))","v":12},{"$f":"IF(ISNA(VLOOKUP($A31,CNC!N$7:AC$52,7,0)),\"\",VLOOKUP($A31,CNC!N$7:AC$52,7,0))","v":5},14,{"$f":"IF($A31=\"\",\"\",VLOOKUP($A31,INSCRITS!$D$4:$W$506,16,0))","v":"X"},null,{"$f":"IF(AG31=\"\",\"\",VLOOKUP(AG31,[0]!Relais,2))","v":""},{"$f":"IF($A31=\"\",\"\",VLOOKUP($A31,INSCRITS!$D$4:$W$506,17,0))","v":0},null,{"$f":"IF(AJ31=\"\",\"\",VLOOKUP(AJ31,[0]!Relais,2))","v":""},{"$f":"IF($A31=\"\",\"\",VLOOKUP($A31,INSCRITS!$D$4:$W$506,18,0))","v":0},null,{"$f":"IF(AM31=\"\",\"\",VLOOKUP(AM31,[0]!Relais,2))","v":""},{"$f":"IF($A31=\"\",\"\",VLOOKUP($A31,INSCRITS!$D$4:$W$506,19,0))","v":0},null,{"$f":"IF(AP31=\"\",\"\",VLOOKUP(AP31,[0]!Relais,2))","v":""},0,14]
[148,{"$f":"IF($A32=\"\",\"\",VLOOKUP($A32,INSCRITS!$D$4:$W$501,2,0))","v":0},null,{"$f":"IF($A32=\"\",\"\",VLOOKUP($A32,INSCRITS!$D$4:$W$501,4,0))","v":"H"},{"$f":"IF($A32=\"\",\"\",VLOOKUP($A32,INSCRITS!$D$4:$W$501,5,0))","v":"00:00:00"},{"$f":"IF($A32=\"\",\"\",VLOOKUP($A32,INSCRITS!$D$4:$W$501,6,0))","v":"CAZAUX"},{"$f":"IF($A32=\"\",\"\",VLOOKUP($A32,INSCRITS!$D$4:$W$501,7,0))","v":"Loïc"},{"$f":"IF($A32=\"\",\"\",VLOOKUP($A32,INSCRITS!$D$4:$W$501,8,0))","v":"Cadet"},{"$f":"IF($A32=\"\",\"\",VLOOKUP($A32,INSCRITS!$D$4:$W$501,9,0))","v":"CSSM"},{"$f":"IF($A32=\"\",\"\",VLOOKUP($A32,INSCRITS!$D$4:$W$506,10,0))","v":"X"},{"$f":"IF(ISNA(VLOOKUP($A32,SPRINT!AD$7:AJ$50,6,0)),\"\",VLOOKUP($A32,SPRINT!AD$7:AJ$50,6,0))","v":""},{"$f":"IF(ISNA(VLOOKUP($A32,SPRINT!AD$7:AJ$50,7,0)),\"\",VLOOKUP($A32,SPRINT!AD$7:AJ$50,7,0))","v":""},{"$f":"IF($A32=\"\",\"\",VLOOKUP($A32,INSCRITS!$D$4:$W$506,11,0))","v":"X"},{"$f":"IF(ISNA(VLOOKUP($A32,BATONS!AD$7:AJ$51,6,0)),\"\",VLOOKUP($A32,BATONS!AD$7:AJ$51,6,0))","v":""},{"$f":"IF(ISNA(VLOOKUP($A32,BATONS!AD$7:AJ$51,7,0)),\"\",VLOOKUP($A32,BATONS!AD$7:AJ$51,7,0))","v":""},{"$f":"IF($A32=\"\",\"\",VLOOKUP($A32,INSCRITS!$D$4:$W$506,12,0))","v":"X"},{"$f":"IF(ISNA(VLOOKUP($A32,PLANCHE!AC$7:AI$52,6,0)),\"\",VLOOKUP($A32,PLANCHE!AC$7:AI$52,6,0))","v":19},{"$f":"IF(ISNA(VLOOKUP($A32,PLANCHE!AC$7:AI$52,7,0)),\"\",VLOOKUP($A32,PLANCHE!AC$7:AI$52,7,0))","v":0},{"$f":"IF($A32=\"\",\"\",VLOOKUP($A32,INSCRITS!$D$4:$W$506,13,0))","v":"X"},{"$f":"IF(ISNA(VLOOKUP($A32,NAGE!N$7:T$52,6,0)),\"\",VLOOKUP($A32,NAGE!N$7:T$52,6,0))","v":12},{"$f":"IF(ISNA(VLOOKUP($A32,NAGE!N$7:T$52,7,0)),\"\",VLOOKUP($A32,NAGE!N$7:T$52,7,0))","v":5},{"$f":"IF($A32=\"\",\"\",VLOOKUP($A32,INSCRITS!$D$4:$W$506,14,0))","v":"X"},{"$f":"IF(ISNA(VLOOKUP($A32,SURFSKI!AC$8:AI$53,6,0)),\"\",VLOOKUP($A32,SURFSKI!AC$8:AI$53,6,0))","v":4},{"$f":"IF(ISNA(VLOOKUP($A32,SURFSKI!AC$8:AI$53,7,0)),\"\",VLOOKUP($A32,SURFSKI!AC$8:AI$53,7,0))","v":14},{"$f":"IF($A32=\"\",\"\",VLOOKUP($A32,INSCRITS!$D$4:$W$506,15,0))","v":"X"},{"$f":"IF(ISNA(VLOOKUP($A32,OCEANMAN!AC$7:AI$52,6,0)),\"\",VLOOKUP($A32,OCEANMAN!AC$7:AI$52,6,0))","v":9},{"$f":"IF(ISNA(VLOOKUP($A32,OCEANMAN!AC$7:AI$52,7,0)),\"\",VLOOKUP($A32,OCEANMAN!AC$7:AI$52,7,0))","v":8},{"$f":"IF($A32=\"\",\"\",VLOOKUP($A32,INSCRITS!$D$4:$W$506,16,0))","v":"X"},{"$f":"IF(ISNA(VLOOKUP($A32,CNC!N$7:AC$52,6,0)),\"\",VLOOKUP($A32,CNC!N$7:AC$52,6,0))","v":"NC"},{"$f":"IF(ISNA(VLOOKUP($A32,CNC!N$7:AC$52,7,0)),\"\",VLOOKUP($A32,CNC!N$7:AC$52,7,0))","v":0},27,{"$f":"IF($A32=\"\",\"\",VLOOKUP($A32,INSCRITS!$D$4:$W$506,16,0))","v":"X"},null,{"$f":"IF(AG32=\"\",\"\",VLOOKUP(AG32,[0]!Relais,2))","v":""},{"$f":"IF($A32=\"\",\"\",VLOOKUP($A32,INSCRITS!$D$4:$W$506,17,0))","v":0},null,{"$f":"IF(AJ32=\"\",\"\",VLOOKUP(AJ32,[0]!Relais,2))","v":""},{"$f":"IF($A32=\"\",\"\",VLOOKUP($A32,INSCRITS!$D$4:$W$506,18,0))","v":0},null,{"$f":"IF(AM32=\"\",\"\",VLOOKUP(AM32,[0]!Relais,2))","v":""},{"$f":"IF($A32=\"\",\"\",VLOOKUP($A32,INSCRITS!$D$4:$W$506,19,0))","v":0},null,{"$f":"IF(AP32=\"\",\"\",VLOOKUP(AP32,[0]!Relais,2))","v":""},0,27]
[149,{"$f":"IF($A33=\"\",\"\",VLOOKUP($A33,INSCRITS!$D$4:$W$501,2,0))","v":0},null,{"$f":"IF($A33=\"\",\"\",VLOOKUP($A33,INSCRITS!$D$4:$W$501,4,0))","v":"H"},{"$f":"IF($A33=\"\",\"\",VLOOKUP($A33,INSCRITS!$D$4:$W$501,5,0))","v":"00:00:00"},{"$f":"IF($A33=\"\",\"\",VLOOKUP($A33,INSCRITS!$D$4:$W$501,6,0))","v":"CABROL"},{"$f":"IF($A33=\"\",\"\",VLOOKUP($A33,INSCRITS!$D$4:$W$501,7,0))","v":"Xavier"},{"$f":"IF($A33=\"\",\"\",VLOOKUP($A33,INSCRITS!$D$4:$W$501,8,0))","v":"Cadet"},{"$f":"IF($A33=\"\",\"\",VLOOKUP($A33,INSCRITS!$D$4:$W$501,9,0))","v":"ENA"},{"$f":"IF($A33=\"\",\"\",VLOOKUP($A33,INSCRITS!$D$4:$W$506,10,0))","v":"X"},{"$f":"IF(ISNA(VLOOKUP($A33,SPRINT!AD$7:AJ$50,6,0)),\"\",VLOOKUP($A33,SPRINT!AD$7:AJ$50,6,0))","v":10},{"$f":"IF(ISNA(VLOOKUP($A33,SPRINT!AD$7:AJ$50,7,0)),\"\",VLOOKUP($A33,SPRINT!AD$7:AJ$50,7,0))","v":7},{"$f":"IF($A33=\"\",\"\",VLOOKUP($A33,INSCRITS!$D$4:$W$506,11,0))","v":"X"},{"$f":"IF(ISNA(VLOOKUP($A33,BATONS!AD$7:AJ$51,6,0)),\"\",VLOOKUP($A33,BATONS!AD$7:AJ$51,6,0))","v":10},{"$f":"IF(ISNA(VLOOKUP($A33,BATONS!AD$7:AJ$51,7,0)),\"\",VLOOKUP($A33,BATONS!AD$7:AJ$51,7,0))","v":7},{"$f":"IF($A33=\"\",\"\",VLOOKUP($A33,INSCRITS!$D$4:$W$506,12,0))","v":0},{"$f":"IF(ISNA(VLOOKUP($A33,PLANCHE!AC$7:AI$52,6,0)),\"\",VLOOKUP($A33,PLANCHE!AC$7:AI$52,6,0))","v":""},{"$f":"IF(ISNA(VLOOKUP($A33,PLANCHE!AC$7:AI$52,7,0)),\"\",VLOOKUP($A33,PLANCHE!AC$7:AI$52,7,0))","v":""},{"$f":"IF($A33=\"\",\"\",VLOOKUP($A33,INSCRITS!$D$4:$W$506,13,0))","v":"X"},{"$f":"IF(ISNA(VLOOKUP($A33,NAGE!N$7:T$52,6,0)),\"\",VLOOKUP($A33,NAGE!N$7:T$52,6,0))","v":4},{"$f":"IF(ISNA(VLOOKUP($A33,NAGE!N$7:T$52,7,0)),\"\",VLOOKUP($A33,NAGE!N$7:T$52,7,0))","v":14},{"$f":"IF($A33=\"\",\"\",VLOOKUP($A33,INSCRITS!$D$4:$W$506,14,0))","v":0},{"$f":"IF(ISNA(VLOOKUP($A33,SURFSKI!AC$8:AI$53,6,0)),\"\",VLOOKUP($A33,SURFSKI!AC$8:AI$53,6,0))","v":""},{"$f":"IF(ISNA(VLOOKUP($A33,SURFSKI!AC$8:AI$53,7,0)),\"\",VLOOKUP($A33,SURFSKI!AC$8:AI$53,7,0))","v":""},{"$f":"IF($A33=\"\",\"\",VLOOKUP($A33,INSCRITS!$D$4:$W$506,15,0))","v":0},{"$f":"IF(ISNA(VLOOKUP($A33,OCEANMAN!AC$7:AI$52,6,0)),\"\",VLOOKUP($A33,OCEANMAN!AC$7:AI$52,6,0))","v":""},{"$f":"IF(ISNA(VLOOKUP($A33,OCEANMAN!AC$7:AI$52,7,0)),\"\",VLOOKUP($A33,OCEANMAN!AC$7:AI$52,7,0))","v":""},{"$f":"IF($A33=\"\",\"\",VLOOKUP($A33,INSCRITS!$D$4:$W$506,16,0))","v":"X"},{"$f":"IF(ISNA(VLOOKUP($A33,CNC!N$7:AC$52,6,0)),\"\",VLOOKUP($A33,CNC!N$7:AC$52,6,0))","v":2},{"$f":"IF(ISNA(VLOOKUP($A33,CNC!N$7:AC$52,7,0)),\"\",VLOOKUP($A33,CNC!N$7:AC$52,7,0))","v":18},46,{"$f":"IF($A33=\"\",\"\",VLOOKUP($A33,INSCRITS!$D$4:$W$506,16,0))","v":"X"},null,{"$f":"IF(AG33=\"\",\"\",VLOOKUP(AG33,[0]!Relais,2))","v":""},{"$f":"IF($A33=\"\",\"\",VLOOKUP($A33,INSCRITS!$D$4:$W$506,17,0))","v":0},null,{"$f":"IF(AJ33=\"\",\"\",VLOOKUP(AJ33,[0]!Relais,2))","v":""},{"$f":"IF($A33=\"\",\"\",VLOOKUP($A33,INSCRITS!$D$4:$W$506,18,0))","v":0},null,{"$f":"IF(AM33=\"\",\"\",VLOOKUP(AM33,[0]!Relais,2))","v":""},{"$f":"IF($A33=\"\",\"\",VLOOKUP($A33,INSCRITS!$D$4:$W$506,19,0))","v":0},null,{"$f":"IF(AP33=\"\",\"\",VLOOKUP(AP33,[0]!Relais,2))","v":""},0,46]
[150,{"$f":"IF($A34=\"\",\"\",VLOOKUP($A34,INSCRITS!$D$4:$W$501,2,0))","v":0},null,{"$f":"IF($A34=\"\",\"\",VLOOKUP($A34,INSCRITS!$D$4:$W$501,4,0))","v":"H"},{"$f":"IF($A34=\"\",\"\",VLOOKUP($A34,INSCRITS!$D$4:$W$501,5,0))","v":"00:00:00"},{"$f":"IF($A34=\"\",\"\",VLOOKUP($A34,INSCRITS!$D$4:$W$501,6,0))","v":"MATHIEU"},{"$f":"IF($A34=\"\",\"\",VLOOKUP($A34,INSCRITS!$D$4:$W$501,7,0))","v":"Simon"},{"$f":"IF($A34=\"\",\"\",VLOOKUP($A34,INSCRITS!$D$4:$W$501,8,0))","v":"Cadet"},{"$f":"IF($A34=\"\",\"\",VLOOKUP($A34,INSCRITS!$D$4:$W$501,9,0))","v":"ENA"},{"$f":"IF($A34=\"\",\"\",VLOOKUP($A34,INSCRITS!$D$4:$W$506,10,0))","v":"X"},{"$f":"IF(ISNA(VLOOKUP($A34,SPRINT!AD$7:AJ$50,6,0)),\"\",VLOOKUP($A34,SPRINT!AD$7:AJ$50,6,0))","v":15},{"$f":"IF(ISNA(VLOOKUP($A34,SPRINT!AD$7:AJ$50,7,0)),\"\",VLOOKUP($A34,SPRINT!AD$7:AJ$50,7,0))","v":2},{"$f":"IF($A34=\"\",\"\",VLOOKUP($A34,INSCRITS!$D$4:$W$506,11,0))","v":"X"},{"$f":"IF(ISNA(VLOOKUP($A34,BATONS!AD$7:AJ$51,6,0)),\"\",VLOOKUP($A34,BATONS!AD$7:AJ$51,6,0))","v":""},{"$f":"IF(ISNA(VLOOKUP($A34,BATONS!AD$7:AJ$51,7,0)),\"\",VLOOKUP($A34,BATONS!AD$7:AJ$51,7,0))","v":""},{"$f":"IF($A34=\"\",\"\",VLOOKUP($A34,INSCRITS!$D$4:$W$506,12,0))","v":0},{"$f":"IF(ISNA(VLOOKUP($A34,PLANCHE!AC$7:AI$52,6,0)),\"\",VLOOKUP($A34,PLANCHE!AC$7:AI$52,6,0))","v":15},{"$f":"IF(ISNA(VLOOKUP($A34,PLANCHE!AC$7:AI$52,7,0)),\"\",VLOOKUP($A34,PLANCHE!AC$7:AI$52,7,0))","v":2},{"$f":"IF($A34=\"\",\"\",VLOOKUP($A34,INSCRITS!$D$4:$W$506,13,0))","v":"X"},{"$f":"IF(ISNA(VLOOKUP($A34,NAGE!N$7:T$52,6,0)),\"\",VLOOKUP($A34,NAGE!N$7:T$52,6,0))","v":3},{"$f":"IF(ISNA(VLOOKUP($A34,NAGE!N$7:T$52,7,0)),\"\",VLOOKUP($A34,NAGE!N$7:T$52,7,0))","v":16},{"$f":"IF($A34=\"\",\"\",VLOOKUP($A34,INSCRITS!$D$4:$W$506,14,0))","v":0},{"$f":"IF(ISNA(VLOOKUP($A34,SURFSKI!AC$8:AI$53,6,0)),\"\",VLOOKUP($A34,SURFSKI!AC$8:AI$53,6,0))","v":""},{"$f":"IF(ISNA(VLOOKUP($A34,SURFSKI!AC$8:AI$53,7,0)),\"\",VLOOKUP($A34,SURFSKI!AC$8:AI$53,7,0))","v":""},{"$f":"IF($A34=\"\",\"\",VLOOKUP($A34,INSCRITS!$D$4:$W$506,15,0))","v":0},{"$f":"IF(ISNA(VLOOKUP($A34,OCEANMAN!AC$7:AI$52,6,0)),\"\",VLOOKUP($A34,OCEANMAN!AC$7:AI$52,6,0))","v":""},{"$f":"IF(ISNA(VLOOKUP($A34,OCEANMAN!AC$7:AI$52,7,0)),\"\",VLOOKUP($A34,OCEANMAN!AC$7:AI$52,7,0))","v":""},{"$f":"IF($A34=\"\",\"\",VLOOKUP($A34,INSCRITS!$D$4:$W$506,16,0))","v":"X"},{"$f":"IF(ISNA(VLOOKUP($A34,CNC!N$7:AC$52,6,0)),\"\",VLOOKUP($A34,CNC!N$7:AC$52,6,0))","v":4},{"$f":"IF(ISNA(VLOOKUP($A34,CNC!N$7:AC$52,7,0)),\"\",VLOOKUP($A34,CNC!N$7:AC$52,7,0))","v":14},34,{"$f":"IF($A34=\"\",\"\",VLOOKUP($A34,INSCRITS!$D$4:$W$506,16,0))","v":"X"},null,{"$f":"IF(AG34=\"\",\"\",VLOOKUP(AG34,[0]!Relais,2))","v":""},{"$f":"IF($A34=\"\",\"\",VLOOKUP($A34,INSCRITS!$D$4:$W$506,17,0))","v":0},null,{"$f":"IF(AJ34=\"\",\"\",VLOOKUP(AJ34,[0]!Relais,2))","v":""},{"$f":"IF($A34=\"\",\"\",VLOOKUP($A34,INSCRITS!$D$4:$W$506,18,0))","v":0},null,{"$f":"IF(AM34=\"\",\"\",VLOOKUP(AM34,[0]!Relais,2))","v":""},{"$f":"IF($A34=\"\",\"\",VLOOKUP($A34,INSCRITS!$D$4:$W$506,19,0))","v":0},null,{"$f":"IF(AP34=\"\",\"\",VLOOKUP(AP34,[0]!Relais,2))","v":""},0,34]
[151,{"$f":"IF($A35=\"\",\"\",VLOOKUP($A35,INSCRITS!$D$4:$W$501,2,0))","v":0},null,{"$f":"IF($A35=\"\",\"\",VLOOKUP($A35,INSCRITS!$D$4:$W$501,4,0))","v":"H"},{"$f":"IF($A35=\"\",\"\",VLOOKUP($A35,INSCRITS!$D$4:$W$501,5,0))","v":"00:00:00"},{"$f":"IF($A35=\"\",\"\",VLOOKUP($A35,INSCRITS!$D$4:$W$501,6,0))","v":"AMAUGER"},{"$f":"IF($A35=\"\",\"\",VLOOKUP($A35,INSCRITS!$D$4:$W$501,7,0))","v":"Valentin"},{"$f":"IF($A35=\"\",\"\",VLOOKUP($A35,INSCRITS!$D$4:$W$501,8,0))","v":"Cadet"},{"$f":"IF($A35=\"\",\"\",VLOOKUP($A35,INSCRITS!$D$4:$W$501,9,0))","v":"HSC"},{"$f":"IF($A35=\"\",\"\",VLOOKUP($A35,INSCRITS!$D$4:$W$506,10,0))","v":"X"},{"$f":"IF(ISNA(VLOOKUP($A35,SPRINT!AD$7:AJ$50,6,0)),\"\",VLOOKUP($A35,SPRINT!AD$7:AJ$50,6,0))","v":""},{"$f":"IF(ISNA(VLOOKUP($A35,SPRINT!AD$7:AJ$50,7,0)),\"\",VLOOKUP($A35,SPRINT!AD$7:AJ$50,7,0))","v":""},{"$f":"IF($A35=\"\",\"\",VLOOKUP($A35,INSCRITS!$D$4:$W$506,11,0))","v":"X"},{"$f":"IF(ISNA(VLOOKUP($A35,BATONS!AD$7:AJ$51,6,0)),\"\",VLOOKUP($A35,BATONS!AD$7:AJ$51,6,0))","v":""},{"$f":"IF(ISNA(VLOOKUP($A35,BATONS!AD$7:AJ$51,7,0)),\"\",VLOOKUP($A35,BATONS!AD$7:AJ$51,7,0))","v":""},{"$f":"IF($A35=\"\",\"\",VLOOKUP($A35,INSCRITS!$D$4:$W$506,12,0))","v":0},{"$f":"IF(ISNA(VLOOKUP($A35,PLANCHE!AC$7:AI$52,6,0)),\"\",VLOOKUP($A35,PLANCHE!AC$7:AI$52,6,0))","v":7},{"$f":"IF(ISNA(VLOOKUP($A35,PLANCHE!AC$7:AI$52,7,0)),\"\",VLOOKUP($A35,PLANCHE!AC$7:AI$52,7,0))","v":11},{"$f":"IF($A35=\"\",\"\",VLOOKUP($A35,INSCRITS!$D$4:$W$506,13,0))","v":"X"},{"$f":"IF(ISNA(VLOOKUP($A35,NAGE!N$7:T$52,6,0)),\"\",VLOOKUP($A35,NAGE!N$7:T$52,6,0))","v":23},{"$f":"IF(ISNA(VLOOKUP($A35,NAGE!N$7:T$52,7,0)),\"\",VLOOKUP($A35,NAGE!N$7:T$52,7,0))","v":0},{"$f":"IF($A35=\"\",\"\",VLOOKUP($A35,INSCRITS!$D$4:$W$506,14,0))","v":"X"},{"$f":"IF(ISNA(VLOOKUP($A35,SURFSKI!AC$8:AI$53,6,0)),\"\",VLOOKUP($A35,SURFSKI!AC$8:AI$53,6,0))","v":7},{"$f":"IF(ISNA(VLOOKUP($A35,SURFSKI!AC$8:AI$53,7,0)),\"\",VLOOKUP($A35,SURFSKI!AC$8:AI$53,7,0))","v":11},{"$f":"IF($A35=\"\",\"\",VLOOKUP($A35,INSCRITS!$D$4:$W$506,15,0))","v":"X"},{"$f":"IF(ISNA(VLOOKUP($A35,OCEANMAN!AC$7:AI$52,6,0)),\"\",VLOOKUP($A35,OCEANMAN!AC$7:AI$52,6,0))","v":13},{"$f":"IF(ISNA(VLOOKUP($A35,OCEANMAN!AC$7:AI$52,7,0)),\"\",VLOOKUP($A35,OCEANMAN!AC$7:AI$52,7,0))","v":4},{"$f":"IF($A35=\"\",\"\",VLOOKUP($A35,INSCRITS!$D$4:$W$506,16,0))","v":"X"},{"$f":"IF(ISNA(VLOOKUP($A35,CNC!N$7:AC$52,6,0)),\"\",VLOOKUP($A35,CNC!N$7:AC$52,6,0))","v":"ABD"},{"$f":"IF(ISNA(VLOOKUP($A35,CNC!N$7:AC$52,7,0)),\"\",VLOOKUP($A35,CNC!N$7:AC$52,7,0))","v":0},26,{"$f":"IF($A35=\"\",\"\",VLOOKUP($A35,INSCRITS!$D$4:$W$506,16,0))","v":"X"},null,{"$f":"IF(AG35=\"\",\"\",VLOOKUP(AG35,[0]!Relais,2))","v":""},{"$f":"IF($A35=\"\",\"\",VLOOKUP($A35,INSCRITS!$D$4:$W$506,17,0))","v":0},null,{"$f":"IF(AJ35=\"\",\"\",VLOOKUP(AJ35,[0]!Relais,2))","v":""},{"$f":"IF($A35=\"\",\"\",VLOOKUP($A35,INSCRITS!$D$4:$W$506,18,0))","v":0},null,{"$f":"IF(AM35=\"\",\"\",VLOOKUP(AM35,[0]!Relais,2))","v":""},{"$f":"IF($A35=\"\",\"\",VLOOKUP($A35,INSCRITS!$D$4:$W$506,19,0))","v":0},null,{"$f":"IF(AP35=\"\",\"\",VLOOKUP(AP35,[0]!Relais,2))","v":""},0,26]
[152,{"$f":"IF($A36=\"\",\"\",VLOOKUP($A36,INSCRITS!$D$4:$W$501,2,0))","v":0},null,{"$f":"IF($A36=\"\",\"\",VLOOKUP($A36,INSCRITS!$D$4:$W$501,4,0))","v":"H"},{"$f":"IF($A36=\"\",\"\",VLOOKUP($A36,INSCRITS!$D$4:$W$501,5,0))","v":"00:00:00"},{"$f":"IF($A36=\"\",\"\",VLOOKUP($A36,INSCRITS!$D$4:$W$501,6,0))","v":"CIER"},{"$f":"IF($A36=\"\",\"\",VLOOKUP($A36,INSCRITS!$D$4:$W$501,7,0))","v":"Jules"},{"$f":"IF($A36=\"\",\"\",VLOOKUP($A36,INSCRITS!$D$4:$W$501,8,0))","v":"Cadet"},{"$f":"IF($A36=\"\",\"\",VLOOKUP($A36,INSCRITS!$D$4:$W$501,9,0))","v":"HSC"},{"$f":"IF($A36=\"\",\"\",VLOOKUP($A36,INSCRITS!$D$4:$W$506,10,0))","v":"X"},{"$f":"IF(ISNA(VLOOKUP($A36,SPRINT!AD$7:AJ$50,6,0)),\"\",VLOOKUP($A36,SPRINT!AD$7:AJ$50,6,0))","v":1},{"$f":"IF(ISNA(VLOOKUP($A36,SPRINT!AD$7:AJ$50,7,0)),\"\",VLOOKUP($A36,SPRINT!AD$7:AJ$50,7,0))","v":20},{"$f":"IF($A36=\"\",\"\",VLOOKUP($A36,INSCRITS!$D$4:$W$506,11,0))","v":"X"},{"$f":"IF(ISNA(VLOOKUP($A36,BATONS!AD$7:AJ$51,6,0)),\"\",VLOOKUP($A36,BATONS!AD$7:AJ$51,6,0))","v":4},{"$f":"IF(ISNA(VLOOKUP($A36,BATONS!AD$7:AJ$51,7,0)),\"\",VLOOKUP($A36,BATONS!AD$7:AJ$51,7,0))","v":14},{"$f":"IF($A36=\"\",\"\",VLOOKUP($A36,INSCRITS!$D$4:$W$506,12,0))","v":0},{"$f":"IF(ISNA(VLOOKUP($A36,PLANCHE!AC$7:AI$52,6,0)),\"\",VLOOKUP($A36,PLANCHE!AC$7:AI$52,6,0))","v":1},{"$f":"IF(ISNA(VLOOKUP($A36,PLANCHE!AC$7:AI$52,7,0)),\"\",VLOOKUP($A36,PLANCHE!AC$7:AI$52,7,0))","v":20},{"$f":"IF($A36=\"\",\"\",VLOOKUP($A36,INSCRITS!$D$4:$W$506,13,0))","v":"X"},{"$f":"IF(ISNA(VLOOKUP($A36,NAGE!N$7:T$52,6,0)),\"\",VLOOKUP($A36,NAGE!N$7:T$52,6,0))","v":9},{"$f":"IF(ISNA(VLOOKUP($A36,NAGE!N$7:T$52,7,0)),\"\",VLOOKUP($A36,NAGE!N$7:T$52,7,0))","v":8},{"$f":"IF($A36=\"\",\"\",VLOOKUP($A36,INSCRITS!$D$4:$W$506,14,0))","v":"X"},{"$f":"IF(ISNA(VLOOKUP($A36,SURFSKI!AC$8:AI$53,6,0)),\"\",VLOOKUP($A36,SURFSKI!AC$8:AI$53,6,0))","v":1},{"$f":"IF(ISNA(VLOOKUP($A36,SURFSKI!AC$8:AI$53,7,0)),\"\",VLOOKUP($A36,SURFSKI!AC$8:AI$53,7,0))","v":20},{"$f":"IF($A36=\"\",\"\",VLOOKUP($A36,INSCRITS!$D$4:$W$506,15,0))","v":"X"},{"$f":"IF(ISNA(VLOOKUP($A36,OCEANMAN!AC$7:AI$52,6,0)),\"\",VLOOKUP($A36,OCEANMAN!AC$7:AI$52,6,0))","v":3},{"$f":"IF(ISNA(VLOOKUP($A36,OCEANMAN!AC$7:AI$52,7,0)),\"\",VLOOKUP($A36,OCEANMAN!AC$7:AI$52,7,0))","v":16},{"$f":"IF($A36=\"\",\"\",VLOOKUP($A36,INSCRITS!$D$4:$W$506,16,0))","v":"X"},{"$f":"IF(ISNA(VLOOKUP($A36,CNC!N$7:AC$52,6,0)),\"\",VLOOKUP($A36,CNC!N$7:AC$52,6,0))","v":7},{"$f":"IF(ISNA(VLOOKUP($A36,CNC!N$7:AC$52,7,0)),\"\",VLOOKUP($A36,CNC!N$7:AC$52,7,0))","v":11},109,{"$f":"IF($A36=\"\",\"\",VLOOKUP($A36,INSCRITS!$D$4:$W$506,16,0))","v":"X"},null,{"$f":"IF(AG36=\"\",\"\",VLOOKUP(AG36,[0]!Relais,2))","v":""},{"$f":"IF($A36=\"\",\"\",VLOOKUP($A36,INSCRITS!$D$4:$W$506,17,0))","v":0},null,{"$f":"IF(AJ36=\"\",\"\",VLOOKUP(AJ36,[0]!Relais,2))","v":""},{"$f":"IF($A36=\"\",\"\",VLOOKUP($A36,INSCRITS!$D$4:$W$506,18,0))","v":0},null,{"$f":"IF(AM36=\"\",\"\",VLOOKUP(AM36,[0]!Relais,2))","v":""},{"$f":"IF($A36=\"\",\"\",VLOOKUP($A36,INSCRITS!$D$4:$W$506,19,0))","v":0},null,{"$f":"IF(AP36=\"\",\"\",VLOOKUP(AP36,[0]!Relais,2))","v":""},0,109]
[153,{"$f":"IF($A37=\"\",\"\",VLOOKUP($A37,INSCRITS!$D$4:$W$501,2,0))","v":0},null,{"$f":"IF($A37=\"\",\"\",VLOOKUP($A37,INSCRITS!$D$4:$W$501,4,0))","v":"H"},{"$f":"IF($A37=\"\",\"\",VLOOKUP($A37,INSCRITS!$D$4:$W$501,5,0))","v":"00:00:00"},{"$f":"IF($A37=\"\",\"\",VLOOKUP($A37,INSCRITS!$D$4:$W$501,6,0))","v":"TISSIER"},{"$f":"IF($A37=\"\",\"\",VLOOKUP($A37,INSCRITS!$D$4:$W$501,7,0))","v":"Mael"},{"$f":"IF($A37=\"\",\"\",VLOOKUP($A37,INSCRITS!$D$4:$W$501,8,0))","v":"Cadet"},{"$f":"IF($A37=\"\",\"\",VLOOKUP($A37,INSCRITS!$D$4:$W$501,9,0))","v":"HSC"},{"$f":"IF($A37=\"\",\"\",VLOOKUP($A37,INSCRITS!$D$4:$W$506,10,0))","v":"X"},{"$f":"IF(ISNA(VLOOKUP($A37,SPRINT!AD$7:AJ$50,6,0)),\"\",VLOOKUP($A37,SPRINT!AD$7:AJ$50,6,0))","v":3},{"$f":"IF(ISNA(VLOOKUP($A37,SPRINT!AD$7:AJ$50,7,0)),\"\",VLOOKUP($A37,SPRINT!AD$7:AJ$50,7,0))","v":16},{"$f":"IF($A37=\"\",\"\",VLOOKUP($A37,INSCRITS!$D$4:$W$506,11,0))","v":"X"},{"$f":"IF(ISNA(VLOOKUP($A37,BATONS!AD$7:AJ$51,6,0)),\"\",VLOOKUP($A37,BATONS!AD$7:AJ$51,6,0))","v":2},{"$f":"IF(ISNA(VLOOKUP($A37,BATONS!AD$7:AJ$51,7,0)),\"\",VLOOKUP($A37,BATONS!AD$7:AJ$51,7,0))","v":18},{"$f":"IF($A37=\"\",\"\",VLOOKUP($A37,INSCRITS!$D$4:$W$506,12,0))","v":0},{"$f":"IF(ISNA(VLOOKUP($A37,PLANCHE!AC$7:AI$52,6,0)),\"\",VLOOKUP($A37,PLANCHE!AC$7:AI$52,6,0))","v":2},{"$f":"IF(ISNA(VLOOKUP($A37,PLANCHE!AC$7:AI$52,7,0)),\"\",VLOOKUP($A37,PLANCHE!AC$7:AI$52,7,0))","v":18},{"$f":"IF($A37=\"\",\"\",VLOOKUP($A37,INSCRITS!$D$4:$W$506,13,0))","v":"X"},{"$f":"IF(ISNA(VLOOKUP($A37,NAGE!N$7:T$52,6,0)),\"\",VLOOKUP($A37,NAGE!N$7:T$52,6,0))","v":16},{"$f":"IF(ISNA(VLOOKUP($A37,NAGE!N$7:T$52,7,0)),\"\",VLOOKUP($A37,NAGE!N$7:T$52,7,0))","v":1},{"$f":"IF($A37=\"\",\"\",VLOOKUP($A37,INSCRITS!$D$4:$W$506,14,0))","v":"X"},{"$f":"IF(ISNA(VLOOKUP($A37,SURFSKI!AC$8:AI$53,6,0)),\"\",VLOOKUP($A37,SURFSKI!AC$8:AI$53,6,0))","v":3},{"$f":"IF(ISNA(VLOOKUP($A37,SURFSKI!AC$8:AI$53,7,0)),\"\",VLOOKUP($A37,SURFSKI!AC$8:AI$53,7,0))","v":16},{"$f":"IF($A37=\"\",\"\",VLOOKUP($A37,INSCRITS!$D$4:$W$506,15,0))","v":"X"},{"$f":"IF(ISNA(VLOOKUP($A37,OCEANMAN!AC$7:AI$52,6,0)),\"\",VLOOKUP($A37,OCEANMAN!AC$7:AI$52,6,0))","v":5},{"$f":"IF(ISNA(VLOOKUP($A37,OCEANMAN!AC$7:AI$52,7,0)),\"\",VLOOKUP($A37,OCEANMAN!AC$7:AI$52,7,0))","v":13},{"$f":"IF($A37=\"\",\"\",VLOOKUP($A37,INSCRITS!$D$4:$W$506,16,0))","v":"X"},{"$f":"IF(ISNA(VLOOKUP($A37,CNC!N$7:AC$52,6,0)),\"\",VLOOKUP($A37,CNC!N$7:AC$52,6,0))","v":10},{"$f":"IF(ISNA(VLOOKUP($A37,CNC!N$7:AC$52,7,0)),\"\",VLOOKUP($A37,CNC!N$7:AC$52,7,0))","v":7},89,{"$f":"IF($A37=\"\",\"\",VLOOKUP($A37,INSCRITS!$D$4:$W$506,16,0))","v":"X"},null,{"$f":"IF(AG37=\"\",\"\",VLOOKUP(AG37,[0]!Relais,2))","v":""},{"$f":"IF($A37=\"\",\"\",VLOOKUP($A37,INSCRITS!$D$4:$W$506,17,0))","v":0},null,{"$f":"IF(AJ37=\"\",\"\",VLOOKUP(AJ37,[0]!Relais,2))","v":""},{"$f":"IF($A37=\"\",\"\",VLOOKUP($A37,INSCRITS!$D$4:$W$506,18,0))","v":0},null,{"$f":"IF(AM37=\"\",\"\",VLOOKUP(AM37,[0]!Relais,2))","v":""},{"$f":"IF($A37=\"\",\"\",VLOOKUP($A37,INSCRITS!$D$4:$W$506,19,0))","v":0},null,{"$f":"IF(AP37=\"\",\"\",VLOOKUP(AP37,[0]!Relais,2))","v":""},0,89]
[154,{"$f":"IF($A38=\"\",\"\",VLOOKUP($A38,INSCRITS!$D$4:$W$501,2,0))","v":0},null,{"$f":"IF($A38=\"\",\"\",VLOOKUP($A38,INSCRITS!$D$4:$W$501,4,0))","v":"H"},{"$f":"IF($A38=\"\",\"\",VLOOKUP($A38,INSCRITS!$D$4:$W$501,5,0))","v":"00:00:00"},{"$f":"IF($A38=\"\",\"\",VLOOKUP($A38,INSCRITS!$D$4:$W$501,6,0))","v":"LAUSSU"},{"$f":"IF($A38=\"\",\"\",VLOOKUP($A38,INSCRITS!$D$4:$W$501,7,0))","v":"Quentin"},{"$f":"IF($A38=\"\",\"\",VLOOKUP($A38,INSCRITS!$D$4:$W$501,8,0))","v":"Cadet"},{"$f":"IF($A38=\"\",\"\",VLOOKUP($A38,INSCRITS!$D$4:$W$501,9,0))","v":"lit et mixe"},{"$f":"IF($A38=\"\",\"\",VLOOKUP($A38,INSCRITS!$D$4:$W$506,10,0))","v":"X"},{"$f":"IF(ISNA(VLOOKUP($A38,SPRINT!AD$7:AJ$50,6,0)),\"\",VLOOKUP($A38,SPRINT!AD$7:AJ$50,6,0))","v":7},{"$f":"IF(ISNA(VLOOKUP($A38,SPRINT!AD$7:AJ$50,7,0)),\"\",VLOOKUP($A38,SPRINT!AD$7:AJ$50,7,0))","v":11},{"$f":"IF($A38=\"\",\"\",VLOOKUP($A38,INSCRITS!$D$4:$W$506,11,0))","v":"X"},{"$f":"IF(ISNA(VLOOKUP($A38,BATONS!AD$7:AJ$51,6,0)),\"\",VLOOKUP($A38,BATONS!AD$7:AJ$51,6,0))","v":5},{"$f":"IF(ISNA(VLOOKUP($A38,BATONS!AD$7:AJ$51,7,0)),\"\",VLOOKUP($A38,BATONS!AD$7:AJ$51,7,0))","v":13},{"$f":"IF($A38=\"\",\"\",VLOOKUP($A38,INSCRITS!$D$4:$W$506,12,0))","v":"X"},{"$f":"IF(ISNA(VLOOKUP($A38,PLANCHE!AC$7:AI$52,6,0)),\"\",VLOOKUP($A38,PLANCHE!AC$7:AI$52,6,0))","v":6},{"$f":"IF(ISNA(VLOOKUP($A38,PLANCHE!AC$7:AI$52,7,0)),\"\",VLOOKUP($A38,PLANCHE!AC$7:AI$52,7,0))","v":12},{"$f":"IF($A38=\"\",\"\",VLOOKUP($A38,INSCRITS!$D$4:$W$506,13,0))","v":"X"},{"$f":"IF(ISNA(VLOOKUP($A38,NAGE!N$7:T$52,6,0)),\"\",VLOOKUP($A38,NAGE!N$7:T$52,6,0))","v":17},{"$f":"IF(ISNA(VLOOKUP($A38,NAGE!N$7:T$52,7,0)),\"\",VLOOKUP($A38,NAGE!N$7:T$52,7,0))","v":0},{"$f":"IF($A38=\"\",\"\",VLOOKUP($A38,INSCRITS!$D$4:$W$506,14,0))","v":"X"},{"$f":"IF(ISNA(VLOOKUP($A38,SURFSKI!AC$8:AI$53,6,0)),\"\",VLOOKUP($A38,SURFSKI!AC$8:AI$53,6,0))","v":11},{"$f":"IF(ISNA(VLOOKUP($A38,SURFSKI!AC$8:AI$53,7,0)),\"\",VLOOKUP($A38,SURFSKI!AC$8:AI$53,7,0))","v":6},{"$f":"IF($A38=\"\",\"\",VLOOKUP($A38,INSCRITS!$D$4:$W$506,15,0))","v":"X"},{"$f":"IF(ISNA(VLOOKUP($A38,OCEANMAN!AC$7:AI$52,6,0)),\"\",VLOOKUP($A38,OCEANMAN!AC$7:AI$52,6,0))","v":10},{"$f":"IF(ISNA(VLOOKUP($A38,OCEANMAN!AC$7:AI$52,7,0)),\"\",VLOOKUP($A38,OCEANMAN!AC$7:AI$52,7,0))","v":7},{"$f":"IF($A38=\"\",\"\",VLOOKUP($A38,INSCRITS!$D$4:$W$506,16,0))","v":"X"},{"$f":"IF(ISNA(VLOOKUP($A38,CNC!N$7:AC$52,6,0)),\"\",VLOOKUP($A38,CNC!N$7:AC$52,6,0))","v":13},{"$f":"IF(ISNA(VLOOKUP($A38,CNC!N$7:AC$52,7,0)),\"\",VLOOKUP($A38,CNC!N$7:AC$52,7,0))","v":4},53,{"$f":"IF($A38=\"\",\"\",VLOOKUP($A38,INSCRITS!$D$4:$W$506,16,0))","v":"X"},null,{"$f":"IF(AG38=\"\",\"\",VLOOKUP(AG38,[0]!Relais,2))","v":""},{"$f":"IF($A38=\"\",\"\",VLOOKUP($A38,INSCRITS!$D$4:$W$506,17,0))","v":0},null,{"$f":"IF(AJ38=\"\",\"\",VLOOKUP(AJ38,[0]!Relais,2))","v":""},{"$f":"IF($A38=\"\",\"\",VLOOKUP($A38,INSCRITS!$D$4:$W$506,18,0))","v":0},null,{"$f":"IF(AM38=\"\",\"\",VLOOKUP(AM38,[0]!Relais,2))","v":""},{"$f":"IF($A38=\"\",\"\",VLOOKUP($A38,INSCRITS!$D$4:$W$506,19,0))","v":0},null,{"$f":"IF(AP38=\"\",\"\",VLOOKUP(AP38,[0]!Relais,2))","v":""},0,53]
[155,{"$f":"IF($A39=\"\",\"\",VLOOKUP($A39,INSCRITS!$D$4:$W$501,2,0))","v":0},null,{"$f":"IF($A39=\"\",\"\",VLOOKUP($A39,INSCRITS!$D$4:$W$501,4,0))","v":"H"},{"$f":"IF($A39=\"\",\"\",VLOOKUP($A39,INSCRITS!$D$4:$W$501,5,0))","v":"00:00:00"},{"$f":"IF($A39=\"\",\"\",VLOOKUP($A39,INSCRITS!$D$4:$W$501,6,0))","v":"BRIGOT"},{"$f":"IF($A39=\"\",\"\",VLOOKUP($A39,INSCRITS!$D$4:$W$501,7,0))","v":"Dorian"},{"$f":"IF($A39=\"\",\"\",VLOOKUP($A39,INSCRITS!$D$4:$W$501,8,0))","v":"Cadet"},{"$f":"IF($A39=\"\",\"\",VLOOKUP($A39,INSCRITS!$D$4:$W$501,9,0))","v":"MIMIZAN SAUVETAGE"},{"$f":"IF($A39=\"\",\"\",VLOOKUP($A39,INSCRITS!$D$4:$W$506,10,0))","v":0},{"$f":"IF(ISNA(VLOOKUP($A39,SPRINT!AD$7:AJ$50,6,0)),\"\",VLOOKUP($A39,SPRINT!AD$7:AJ$50,6,0))","v":""},{"$f":"IF(ISNA(VLOOKUP($A39,SPRINT!AD$7:AJ$50,7,0)),\"\",VLOOKUP($A39,SPRINT!AD$7:AJ$50,7,0))","v":""},{"$f":"IF($A39=\"\",\"\",VLOOKUP($A39,INSCRITS!$D$4:$W$506,11,0))","v":"X"},{"$f":"IF(ISNA(VLOOKUP($A39,BATONS!AD$7:AJ$51,6,0)),\"\",VLOOKUP($A39,BATONS!AD$7:AJ$51,6,0))","v":13},{"$f":"IF(ISNA(VLOOKUP($A39,BATONS!AD$7:AJ$51,7,0)),\"\",VLOOKUP($A39,BATONS!AD$7:AJ$51,7,0))","v":4},{"$f":"IF($A39=\"\",\"\",VLOOKUP($A39,INSCRITS!$D$4:$W$506,12,0))","v":0},{"$f":"IF(ISNA(VLOOKUP($A39,PLANCHE!AC$7:AI$52,6,0)),\"\",VLOOKUP($A39,PLANCHE!AC$7:AI$52,6,0))","v":""},{"$f":"IF(ISNA(VLOOKUP($A39,PLANCHE!AC$7:AI$52,7,0)),\"\",VLOOKUP($A39,PLANCHE!AC$7:AI$52,7,0))","v":""},{"$f":"IF($A39=\"\",\"\",VLOOKUP($A39,INSCRITS!$D$4:$W$506,13,0))","v":"X"},{"$f":"IF(ISNA(VLOOKUP($A39,NAGE!N$7:T$52,6,0)),\"\",VLOOKUP($A39,NAGE!N$7:T$52,6,0))","v":""},{"$f":"IF(ISNA(VLOOKUP($A39,NAGE!N$7:T$52,7,0)),\"\",VLOOKUP($A39,NAGE!N$7:T$52,7,0))","v":""},{"$f":"IF($A39=\"\",\"\",VLOOKUP($A39,INSCRITS!$D$4:$W$506,14,0))","v":0},{"$f":"IF(ISNA(VLOOKUP($A39,SURFSKI!AC$8:AI$53,6,0)),\"\",VLOOKUP($A39,SURFSKI!AC$8:AI$53,6,0))","v":""},{"$f":"IF(ISNA(VLOOKUP($A39,SURFSKI!AC$8:AI$53,7,0)),\"\",VLOOKUP($A39,SURFSKI!AC$8:AI$53,7,0))","v":""},{"$f":"IF($A39=\"\",\"\",VLOOKUP($A39,INSCRITS!$D$4:$W$506,15,0))","v":0},{"$f":"IF(ISNA(VLOOKUP($A39,OCEANMAN!AC$7:AI$52,6,0)),\"\",VLOOKUP($A39,OCEANMAN!AC$7:AI$52,6,0))","v":""},{"$f":"IF(ISNA(VLOOKUP($A39,OCEANMAN!AC$7:AI$52,7,0)),\"\",VLOOKUP($A39,OCEANMAN!AC$7:AI$52,7,0))","v":""},{"$f":"IF($A39=\"\",\"\",VLOOKUP($A39,INSCRITS!$D$4:$W$506,16,0))","v":0},{"$f":"IF(ISNA(VLOOKUP($A39,CNC!N$7:AC$52,6,0)),\"\",VLOOKUP($A39,CNC!N$7:AC$52,6,0))","v":""},{"$f":"IF(ISNA(VLOOKUP($A39,CNC!N$7:AC$52,7,0)),\"\",VLOOKUP($A39,CNC!N$7:AC$52,7,0))","v":""},4,{"$f":"IF($A39=\"\",\"\",VLOOKUP($A39,INSCRITS!$D$4:$W$506,16,0))","v":0},null,{"$f":"IF(AG39=\"\",\"\",VLOOKUP(AG39,[0]!Relais,2))","v":""},{"$f":"IF($A39=\"\",\"\",VLOOKUP($A39,INSCRITS!$D$4:$W$506,17,0))","v":0},null,{"$f":"IF(AJ39=\"\",\"\",VLOOKUP(AJ39,[0]!Relais,2))","v":""},{"$f":"IF($A39=\"\",\"\",VLOOKUP($A39,INSCRITS!$D$4:$W$506,18,0))","v":0},null,{"$f":"IF(AM39=\"\",\"\",VLOOKUP(AM39,[0]!Relais,2))","v":""},{"$f":"IF($A39=\"\",\"\",VLOOKUP($A39,INSCRITS!$D$4:$W$506,19,0))","v":0},null,{"$f":"IF(AP39=\"\",\"\",VLOOKUP(AP39,[0]!Relais,2))","v":""},0,4]
[156,{"$f":"IF($A40=\"\",\"\",VLOOKUP($A40,INSCRITS!$D$4:$W$501,2,0))","v":0},null,{"$f":"IF($A40=\"\",\"\",VLOOKUP($A40,INSCRITS!$D$4:$W$501,4,0))","v":"H"},{"$f":"IF($A40=\"\",\"\",VLOOKUP($A40,INSCRITS!$D$4:$W$501,5,0))","v":"00:00:00"},{"$f":"IF($A40=\"\",\"\",VLOOKUP($A40,INSCRITS!$D$4:$W$501,6,0))","v":"FORSANS"},{"$f":"IF($A40=\"\",\"\",VLOOKUP($A40,INSCRITS!$D$4:$W$501,7,0))","v":"Remy"},{"$f":"IF($A40=\"\",\"\",VLOOKUP($A40,INSCRITS!$D$4:$W$501,8,0))","v":"Cadet"},{"$f":"IF($A40=\"\",\"\",VLOOKUP($A40,INSCRITS!$D$4:$W$501,9,0))","v":"MNSL"},{"$f":"IF($A40=\"\",\"\",VLOOKUP($A40,INSCRITS!$D$4:$W$506,10,0))","v":"X"},{"$f":"IF(ISNA(VLOOKUP($A40,SPRINT!AD$7:AJ$50,6,0)),\"\",VLOOKUP($A40,SPRINT!AD$7:AJ$50,6,0))","v":""},{"$f":"IF(ISNA(VLOOKUP($A40,SPRINT!AD$7:AJ$50,7,0)),\"\",VLOOKUP($A40,SPRINT!AD$7:AJ$50,7,0))","v":""},{"$f":"IF($A40=\"\",\"\",VLOOKUP($A40,INSCRITS!$D$4:$W$506,11,0))","v":"X"},{"$f":"IF(ISNA(VLOOKUP($A40,BATONS!AD$7:AJ$51,6,0)),\"\",VLOOKUP($A40,BATONS!AD$7:AJ$51,6,0))","v":""},{"$f":"IF(ISNA(VLOOKUP($A40,BATONS!AD$7:AJ$51,7,0)),\"\",VLOOKUP($A40,BATONS!AD$7:AJ$51,7,0))","v":""},{"$f":"IF($A40=\"\",\"\",VLOOKUP($A40,INSCRITS!$D$4:$W$506,12,0))","v":0},{"$f":"IF(ISNA(VLOOKUP($A40,PLANCHE!AC$7:AI$52,6,0)),\"\",VLOOKUP($A40,PLANCHE!AC$7:AI$52,6,0))","v":""},{"$f":"IF(ISNA(VLOOKUP($A40,PLANCHE!AC$7:AI$52,7,0)),\"\",VLOOKUP($A40,PLANCHE!AC$7:AI$52,7,0))","v":""},{"$f":"IF($A40=\"\",\"\",VLOOKUP($A40,INSCRITS!$D$4:$W$506,13,0))","v":"X"},{"$f":"IF(ISNA(VLOOKUP($A40,NAGE!N$7:T$52,6,0)),\"\",VLOOKUP($A40,NAGE!N$7:T$52,6,0))","v":14},{"$f":"IF(ISNA(VLOOKUP($A40,NAGE!N$7:T$52,7,0)),\"\",VLOOKUP($A40,NAGE!N$7:T$52,7,0))","v":3},{"$f":"IF($A40=\"\",\"\",VLOOKUP($A40,INSCRITS!$D$4:$W$506,14,0))","v":0},{"$f":"IF(ISNA(VLOOKUP($A40,SURFSKI!AC$8:AI$53,6,0)),\"\",VLOOKUP($A40,SURFSKI!AC$8:AI$53,6,0))","v":""},{"$f":"IF(ISNA(VLOOKUP($A40,SURFSKI!AC$8:AI$53,7,0)),\"\",VLOOKUP($A40,SURFSKI!AC$8:AI$53,7,0))","v":""},{"$f":"IF($A40=\"\",\"\",VLOOKUP($A40,INSCRITS!$D$4:$W$506,15,0))","v":0},{"$f":"IF(ISNA(VLOOKUP($A40,OCEANMAN!AC$7:AI$52,6,0)),\"\",VLOOKUP($A40,OCEANMAN!AC$7:AI$52,6,0))","v":""},{"$f":"IF(ISNA(VLOOKUP($A40,OCEANMAN!AC$7:AI$52,7,0)),\"\",VLOOKUP($A40,OCEANMAN!AC$7:AI$52,7,0))","v":""},{"$f":"IF($A40=\"\",\"\",VLOOKUP($A40,INSCRITS!$D$4:$W$506,16,0))","v":"X"},{"$f":"IF(ISNA(VLOOKUP($A40,CNC!N$7:AC$52,6,0)),\"\",VLOOKUP($A40,CNC!N$7:AC$52,6,0))","v":"NC"},{"$f":"IF(ISNA(VLOOKUP($A40,CNC!N$7:AC$52,7,0)),\"\",VLOOKUP($A40,CNC!N$7:AC$52,7,0))","v":0},3,{"$f":"IF($A40=\"\",\"\",VLOOKUP($A40,INSCRITS!$D$4:$W$506,16,0))","v":"X"},null,{"$f":"IF(AG40=\"\",\"\",VLOOKUP(AG40,[0]!Relais,2))","v":""},{"$f":"IF($A40=\"\",\"\",VLOOKUP($A40,INSCRITS!$D$4:$W$506,17,0))","v":0},null,{"$f":"IF(AJ40=\"\",\"\",VLOOKUP(AJ40,[0]!Relais,2))","v":""},{"$f":"IF($A40=\"\",\"\",VLOOKUP($A40,INSCRITS!$D$4:$W$506,18,0))","v":0},null,{"$f":"IF(AM40=\"\",\"\",VLOOKUP(AM40,[0]!Relais,2))","v":""},{"$f":"IF($A40=\"\",\"\",VLOOKUP($A40,INSCRITS!$D$4:$W$506,19,0))","v":0},null,{"$f":"IF(AP40=\"\",\"\",VLOOKUP(AP40,[0]!Relais,2))","v":""},0,3]
[157,{"$f":"IF($A41=\"\",\"\",VLOOKUP($A41,INSCRITS!$D$4:$W$501,2,0))","v":0},null,{"$f":"IF($A41=\"\",\"\",VLOOKUP($A41,INSCRITS!$D$4:$W$501,4,0))","v":"H"},{"$f":"IF($A41=\"\",\"\",VLOOKUP($A41,INSCRITS!$D$4:$W$501,5,0))","v":"00:00:00"},{"$f":"IF($A41=\"\",\"\",VLOOKUP($A41,INSCRITS!$D$4:$W$501,6,0))","v":"KOZARD"},{"$f":"IF($A41=\"\",\"\",VLOOKUP($A41,INSCRITS!$D$4:$W$501,7,0))","v":"Pierre-Antoine"},{"$f":"IF($A41=\"\",\"\",VLOOKUP($A41,INSCRITS!$D$4:$W$501,8,0))","v":"Cadet"},{"$f":"IF($A41=\"\",\"\",VLOOKUP($A41,INSCRITS!$D$4:$W$501,9,0))","v":"MNSL"},{"$f":"IF($A41=\"\",\"\",VLOOKUP($A41,INSCRITS!$D$4:$W$506,10,0))","v":"X"},{"$f":"IF(ISNA(VLOOKUP($A41,SPRINT!AD$7:AJ$50,6,0)),\"\",VLOOKUP($A41,SPRINT!AD$7:AJ$50,6,0))","v":8},{"$f":"IF(ISNA(VLOOKUP($A41,SPRINT!AD$7:AJ$50,7,0)),\"\",VLOOKUP($A41,SPRINT!AD$7:AJ$50,7,0))","v":10},{"$f":"IF($A41=\"\",\"\",VLOOKUP($A41,INSCRITS!$D$4:$W$506,11,0))","v":"X"},{"$f":"IF(ISNA(VLOOKUP($A41,BATONS!AD$7:AJ$51,6,0)),\"\",VLOOKUP($A41,BATONS!AD$7:AJ$51,6,0))","v":12},{"$f":"IF(ISNA(VLOOKUP($A41,BATONS!AD$7:AJ$51,7,0)),\"\",VLOOKUP($A41,BATONS!AD$7:AJ$51,7,0))","v":5},{"$f":"IF($A41=\"\",\"\",VLOOKUP($A41,INSCRITS!$D$4:$W$506,12,0))","v":0},{"$f":"IF(ISNA(VLOOKUP($A41,PLANCHE!AC$7:AI$52,6,0)),\"\",VLOOKUP($A41,PLANCHE!AC$7:AI$52,6,0))","v":""},{"$f":"IF(ISNA(VLOOKUP($A41,PLANCHE!AC$7:AI$52,7,0)),\"\",VLOOKUP($A41,PLANCHE!AC$7:AI$52,7,0))","v":""},{"$f":"IF($A41=\"\",\"\",VLOOKUP($A41,INSCRITS!$D$4:$W$506,13,0))","v":"X"},{"$f":"IF(ISNA(VLOOKUP($A41,NAGE!N$7:T$52,6,0)),\"\",VLOOKUP($A41,NAGE!N$7:T$52,6,0))","v":""},{"$f":"IF(ISNA(VLOOKUP($A41,NAGE!N$7:T$52,7,0)),\"\",VLOOKUP($A41,NAGE!N$7:T$52,7,0))","v":""},{"$f":"IF($A41=\"\",\"\",VLOOKUP($A41,INSCRITS!$D$4:$W$506,14,0))","v":0},{"$f":"IF(ISNA(VLOOKUP($A41,SURFSKI!AC$8:AI$53,6,0)),\"\",VLOOKUP($A41,SURFSKI!AC$8:AI$53,6,0))","v":""},{"$f":"IF(ISNA(VLOOKUP($A41,SURFSKI!AC$8:AI$53,7,0)),\"\",VLOOKUP($A41,SURFSKI!AC$8:AI$53,7,0))","v":""},{"$f":"IF($A41=\"\",\"\",VLOOKUP($A41,INSCRITS!$D$4:$W$506,15,0))","v":0},{"$f":"IF(ISNA(VLOOKUP($A41,OCEANMAN!AC$7:AI$52,6,0)),\"\",VLOOKUP($A41,OCEANMAN!AC$7:AI$52,6,0))","v":""},{"$f":"IF(ISNA(VLOOKUP($A41,OCEANMAN!AC$7:AI$52,7,0)),\"\",VLOOKUP($A41,OCEANMAN!AC$7:AI$52,7,0))","v":""},{"$f":"IF($A41=\"\",\"\",VLOOKUP($A41,INSCRITS!$D$4:$W$506,16,0))","v":"X"},{"$f":"IF(ISNA(VLOOKUP($A41,CNC!N$7:AC$52,6,0)),\"\",VLOOKUP($A41,CNC!N$7:AC$52,6,0))","v":"NC"},{"$f":"IF(ISNA(VLOOKUP($A41,CNC!N$7:AC$52,7,0)),\"\",VLOOKUP($A41,CNC!N$7:AC$52,7,0))","v":0},15,{"$f":"IF($A41=\"\",\"\",VLOOKUP($A41,INSCRITS!$D$4:$W$506,16,0))","v":"X"},null,{"$f":"IF(AG41=\"\",\"\",VLOOKUP(AG41,[0]!Relais,2))","v":""},{"$f":"IF($A41=\"\",\"\",VLOOKUP($A41,INSCRITS!$D$4:$W$506,17,0))","v":0},null,{"$f":"IF(AJ41=\"\",\"\",VLOOKUP(AJ41,[0]!Relais,2))","v":""},{"$f":"IF($A41=\"\",\"\",VLOOKUP($A41,INSCRITS!$D$4:$W$506,18,0))","v":0},null,{"$f":"IF(AM41=\"\",\"\",VLOOKUP(AM41,[0]!Relais,2))","v":""},{"$f":"IF($A41=\"\",\"\",VLOOKUP($A41,INSCRITS!$D$4:$W$506,19,0))","v":0},null,{"$f":"IF(AP41=\"\",\"\",VLOOKUP(AP41,[0]!Relais,2))","v":""},0,15]
[158,{"$f":"IF($A42=\"\",\"\",VLOOKUP($A42,INSCRITS!$D$4:$W$501,2,0))","v":0},null,{"$f":"IF($A42=\"\",\"\",VLOOKUP($A42,INSCRITS!$D$4:$W$501,4,0))","v":"H"},{"$f":"IF($A42=\"\",\"\",VLOOKUP($A42,INSCRITS!$D$4:$W$501,5,0))","v":"00:00:00"},{"$f":"IF($A42=\"\",\"\",VLOOKUP($A42,INSCRITS!$D$4:$W$501,6,0))","v":"PINTORI"},{"$f":"IF($A42=\"\",\"\",VLOOKUP($A42,INSCRITS!$D$4:$W$501,7,0))","v":"Luc"},{"$f":"IF($A42=\"\",\"\",VLOOKUP($A42,INSCRITS!$D$4:$W$501,8,0))","v":"Cadet"},{"$f":"IF($A42=\"\",\"\",VLOOKUP($A42,INSCRITS!$D$4:$W$501,9,0))","v":"MNSL"},{"$f":"IF($A42=\"\",\"\",VLOOKUP($A42,INSCRITS!$D$4:$W$506,10,0))","v":"X"},{"$f":"IF(ISNA(VLOOKUP($A42,SPRINT!AD$7:AJ$50,6,0)),\"\",VLOOKUP($A42,SPRINT!AD$7:AJ$50,6,0))","v":""},{"$f":"IF(ISNA(VLOOKUP($A42,SPRINT!AD$7:AJ$50,7,0)),\"\",VLOOKUP($A42,SPRINT!AD$7:AJ$50,7,0))","v":""},{"$f":"IF($A42=\"\",\"\",VLOOKUP($A42,INSCRITS!$D$4:$W$506,11,0))","v":"X"},{"$f":"IF(ISNA(VLOOKUP($A42,BATONS!AD$7:AJ$51,6,0)),\"\",VLOOKUP($A42,BATONS!AD$7:AJ$51,6,0))","v":""},{"$f":"IF(ISNA(VLOOKUP($A42,BATONS!AD$7:AJ$51,7,0)),\"\",VLOOKUP($A42,BATONS!AD$7:AJ$51,7,0))","v":""},{"$f":"IF($A42=\"\",\"\",VLOOKUP($A42,INSCRITS!$D$4:$W$506,12,0))","v":0},{"$f":"IF(ISNA(VLOOKUP($A42,PLANCHE!AC$7:AI$52,6,0)),\"\",VLOOKUP($A42,PLANCHE!AC$7:AI$52,6,0))","v":""},{"$f":"IF(ISNA(VLOOKUP($A42,PLANCHE!AC$7:AI$52,7,0)),\"\",VLOOKUP($A42,PLANCHE!AC$7:AI$52,7,0))","v":""},{"$f":"IF($A42=\"\",\"\",VLOOKUP($A42,INSCRITS!$D$4:$W$506,13,0))","v":"X"},{"$f":"IF(ISNA(VLOOKUP($A42,NAGE!N$7:T$52,6,0)),\"\",VLOOKUP($A42,NAGE!N$7:T$52,6,0))","v":""},{"$f":"IF(ISNA(VLOOKUP($A42,NAGE!N$7:T$52,7,0)),\"\",VLOOKUP($A42,NAGE!N$7:T$52,7,0))","v":""},{"$f":"IF($A42=\"\",\"\",VLOOKUP($A42,INSCRITS!$D$4:$W$506,14,0))","v":"X"},{"$f":"IF(ISNA(VLOOKUP($A42,SURFSKI!AC$8:AI$53,6,0)),\"\",VLOOKUP($A42,SURFSKI!AC$8:AI$53,6,0))","v":15},{"$f":"IF(ISNA(VLOOKUP($A42,SURFSKI!AC$8:AI$53,7,0)),\"\",VLOOKUP($A42,SURFSKI!AC$8:AI$53,7,0))","v":2},{"$f":"IF($A42=\"\",\"\",VLOOKUP($A42,INSCRITS!$D$4:$W$506,15,0))","v":"X"},{"$f":"IF(ISNA(VLOOKUP($A42,OCEANMAN!AC$7:AI$52,6,0)),\"\",VLOOKUP($A42,OCEANMAN!AC$7:AI$52,6,0))","v":14},{"$f":"IF(ISNA(VLOOKUP($A42,OCEANMAN!AC$7:AI$52,7,0)),\"\",VLOOKUP($A42,OCEANMAN!AC$7:AI$52,7,0))","v":3},{"$f":"IF($A42=\"\",\"\",VLOOKUP($A42,INSCRITS!$D$4:$W$506,16,0))","v":"X"},{"$f":"IF(ISNA(VLOOKUP($A42,CNC!N$7:AC$52,6,0)),\"\",VLOOKUP($A42,CNC!N$7:AC$52,6,0))","v":16},{"$f":"IF(ISNA(VLOOKUP($A42,CNC!N$7:AC$52,7,0)),\"\",VLOOKUP($A42,CNC!N$7:AC$52,7,0))","v":1},6,{"$f":"IF($A42=\"\",\"\",VLOOKUP($A42,INSCRITS!$D$4:$W$506,16,0))","v":"X"},null,{"$f":"IF(AG42=\"\",\"\",VLOOKUP(AG42,[0]!Relais,2))","v":""},{"$f":"IF($A42=\"\",\"\",VLOOKUP($A42,INSCRITS!$D$4:$W$506,17,0))","v":0},null,{"$f":"IF(AJ42=\"\",\"\",VLOOKUP(AJ42,[0]!Relais,2))","v":""},{"$f":"IF($A42=\"\",\"\",VLOOKUP($A42,INSCRITS!$D$4:$W$506,18,0))","v":0},null,{"$f":"IF(AM42=\"\",\"\",VLOOKUP(AM42,[0]!Relais,2))","v":""},{"$f":"IF($A42=\"\",\"\",VLOOKUP($A42,INSCRITS!$D$4:$W$506,19,0))","v":0},null,{"$f":"IF(AP42=\"\",\"\",VLOOKUP(AP42,[0]!Relais,2))","v":""},0,6]
[159,{"$f":"IF($A43=\"\",\"\",VLOOKUP($A43,INSCRITS!$D$4:$W$501,2,0))","v":0},null,{"$f":"IF($A43=\"\",\"\",VLOOKUP($A43,INSCRITS!$D$4:$W$501,4,0))","v":"H"},{"$f":"IF($A43=\"\",\"\",VLOOKUP($A43,INSCRITS!$D$4:$W$501,5,0))","v":"00:00:00"},{"$f":"IF($A43=\"\",\"\",VLOOKUP($A43,INSCRITS!$D$4:$W$501,6,0))","v":"BRIONGOS"},{"$f":"IF($A43=\"\",\"\",VLOOKUP($A43,INSCRITS!$D$4:$W$501,7,0))","v":"Alexis"},{"$f":"IF($A43=\"\",\"\",VLOOKUP($A43,INSCRITS!$D$4:$W$501,8,0))","v":"Cadet"},{"$f":"IF($A43=\"\",\"\",VLOOKUP($A43,INSCRITS!$D$4:$W$501,9,0))","v":"TOULOUSE CST"},{"$f":"IF($A43=\"\",\"\",VLOOKUP($A43,INSCRITS!$D$4:$W$506,10,0))","v":0},{"$f":"IF(ISNA(VLOOKUP($A43,SPRINT!AD$7:AJ$50,6,0)),\"\",VLOOKUP($A43,SPRINT!AD$7:AJ$50,6,0))","v":""},{"$f":"IF(ISNA(VLOOKUP($A43,SPRINT!AD$7:AJ$50,7,0)),\"\",VLOOKUP($A43,SPRINT!AD$7:AJ$50,7,0))","v":""},{"$f":"IF($A43=\"\",\"\",VLOOKUP($A43,INSCRITS!$D$4:$W$506,11,0))","v":"X"},{"$f":"IF(ISNA(VLOOKUP($A43,BATONS!AD$7:AJ$51,6,0)),\"\",VLOOKUP($A43,BATONS!AD$7:AJ$51,6,0))","v":""},{"$f":"IF(ISNA(VLOOKUP($A43,BATONS!AD$7:AJ$51,7,0)),\"\",VLOOKUP($A43,BATONS!AD$7:AJ$51,7,0))","v":""},{"$f":"IF($A43=\"\",\"\",VLOOKUP($A43,INSCRITS!$D$4:$W$506,12,0))","v":0},{"$f":"IF(ISNA(VLOOKUP($A43,PLANCHE!AC$7:AI$52,6,0)),\"\",VLOOKUP($A43,PLANCHE!AC$7:AI$52,6,0))","v":""},{"$f":"IF(ISNA(VLOOKUP($A43,PLANCHE!AC$7:AI$52,7,0)),\"\",VLOOKUP($A43,PLANCHE!AC$7:AI$52,7,0))","v":""},{"$f":"IF($A43=\"\",\"\",VLOOKUP($A43,INSCRITS!$D$4:$W$506,13,0))","v":"X"},{"$f":"IF(ISNA(VLOOKUP($A43,NAGE!N$7:T$52,6,0)),\"\",VLOOKUP($A43,NAGE!N$7:T$52,6,0))","v":""},{"$f":"IF(ISNA(VLOOKUP($A43,NAGE!N$7:T$52,7,0)),\"\",VLOOKUP($A43,NAGE!N$7:T$52,7,0))","v":""},{"$f":"IF($A43=\"\",\"\",VLOOKUP($A43,INSCRITS!$D$4:$W$506,14,0))","v":0},{"$f":"IF(ISNA(VLOOKUP($A43,SURFSKI!AC$8:AI$53,6,0)),\"\",VLOOKUP($A43,SURFSKI!AC$8:AI$53,6,0))","v":""},{"$f":"IF(ISNA(VLOOKUP($A43,SURFSKI!AC$8:AI$53,7,0)),\"\",VLOOKUP($A43,SURFSKI!AC$8:AI$53,7,0))","v":""},{"$f":"IF($A43=\"\",\"\",VLOOKUP($A43,INSCRITS!$D$4:$W$506,15,0))","v":0},{"$f":"IF(ISNA(VLOOKUP($A43,OCEANMAN!AC$7:AI$52,6,0)),\"\",VLOOKUP($A43,OCEANMAN!AC$7:AI$52,6,0))","v":""},{"$f":"IF(ISNA(VLOOKUP($A43,OCEANMAN!AC$7:AI$52,7,0)),\"\",VLOOKUP($A43,OCEANMAN!AC$7:AI$52,7,0))","v":""},{"$f":"IF($A43=\"\",\"\",VLOOKUP($A43,INSCRITS!$D$4:$W$506,16,0))","v":0},{"$f":"IF(ISNA(VLOOKUP($A43,CNC!N$7:AC$52,6,0)),\"\",VLOOKUP($A43,CNC!N$7:AC$52,6,0))","v":""},{"$f":"IF(ISNA(VLOOKUP($A43,CNC!N$7:AC$52,7,0)),\"\",VLOOKUP($A43,CNC!N$7:AC$52,7,0))","v":""},0,{"$f":"IF($A43=\"\",\"\",VLOOKUP($A43,INSCRITS!$D$4:$W$506,16,0))","v":0},null,{"$f":"IF(AG43=\"\",\"\",VLOOKUP(AG43,[0]!Relais,2))","v":""},{"$f":"IF($A43=\"\",\"\",VLOOKUP($A43,INSCRITS!$D$4:$W$506,17,0))","v":0},null,{"$f":"IF(AJ43=\"\",\"\",VLOOKUP(AJ43,[0]!Relais,2))","v":""},{"$f":"IF($A43=\"\",\"\",VLOOKUP($A43,INSCRITS!$D$4:$W$506,18,0))","v":0},null,{"$f":"IF(AM43=\"\",\"\",VLOOKUP(AM43,[0]!Relais,2))","v":""},{"$f":"IF($A43=\"\",\"\",VLOOKUP($A43,INSCRITS!$D$4:$W$506,19,0))","v":0},null,{"$f":"IF(AP43=\"\",\"\",VLOOKUP(AP43,[0]!Relais,2))","v":""},0,0]
[160,{"$f":"IF($A44=\"\",\"\",VLOOKUP($A44,INSCRITS!$D$4:$W$501,2,0))","v":0},null,{"$f":"IF($A44=\"\",\"\",VLOOKUP($A44,INSCRITS!$D$4:$W$501,4,0))","v":"H"},{"$f":"IF($A44=\"\",\"\",VLOOKUP($A44,INSCRITS!$D$4:$W$501,5,0))","v":"00:00:00"},{"$f":"IF($A44=\"\",\"\",VLOOKUP($A44,INSCRITS!$D$4:$W$501,6,0))","v":"PANIS"},{"$f":"IF($A44=\"\",\"\",VLOOKUP($A44,INSCRITS!$D$4:$W$501,7,0))","v":"Valentin"},{"$f":"IF($A44=\"\",\"\",VLOOKUP($A44,INSCRITS!$D$4:$W$501,8,0))","v":"Cadet"},{"$f":"IF($A44=\"\",\"\",VLOOKUP($A44,INSCRITS!$D$4:$W$501,9,0))","v":"TOULOUSE CST"},{"$f":"IF($A44=\"\",\"\",VLOOKUP($A44,INSCRITS!$D$4:$W$506,10,0))","v":0},{"$f":"IF(ISNA(VLOOKUP($A44,SPRINT!AD$7:AJ$50,6,0)),\"\",VLOOKUP($A44,SPRINT!AD$7:AJ$50,6,0))","v":""},{"$f":"IF(ISNA(VLOOKUP($A44,SPRINT!AD$7:AJ$50,7,0)),\"\",VLOOKUP($A44,SPRINT!AD$7:AJ$50,7,0))","v":""},{"$f":"IF($A44=\"\",\"\",VLOOKUP($A44,INSCRITS!$D$4:$W$506,11,0))","v":0},{"$f":"IF(ISNA(VLOOKUP($A44,BATONS!AD$7:AJ$51,6,0)),\"\",VLOOKUP($A44,BATONS!AD$7:AJ$51,6,0))","v":""},{"$f":"IF(ISNA(VLOOKUP($A44,BATONS!AD$7:AJ$51,7,0)),\"\",VLOOKUP($A44,BATONS!AD$7:AJ$51,7,0))","v":""},{"$f":"IF($A44=\"\",\"\",VLOOKUP($A44,INSCRITS!$D$4:$W$506,12,0))","v":0},{"$f":"IF(ISNA(VLOOKUP($A44,PLANCHE!AC$7:AI$52,6,0)),\"\",VLOOKUP($A44,PLANCHE!AC$7:AI$52,6,0))","v":""},{"$f":"IF(ISNA(VLOOKUP($A44,PLANCHE!AC$7:AI$52,7,0)),\"\",VLOOKUP($A44,PLANCHE!AC$7:AI$52,7,0))","v":""},{"$f":"IF($A44=\"\",\"\",VLOOKUP($A44,INSCRITS!$D$4:$W$506,13,0))","v":"X"},{"$f":"IF(ISNA(VLOOKUP($A44,NAGE!N$7:T$52,6,0)),\"\",VLOOKUP($A44,NAGE!N$7:T$52,6,0))","v":""},{"$f":"IF(ISNA(VLOOKUP($A44,NAGE!N$7:T$52,7,0)),\"\",VLOOKUP($A44,NAGE!N$7:T$52,7,0))","v":""},{"$f":"IF($A44=\"\",\"\",VLOOKUP($A44,INSCRITS!$D$4:$W$506,14,0))","v":0},{"$f":"IF(ISNA(VLOOKUP($A44,SURFSKI!AC$8:AI$53,6,0)),\"\",VLOOKUP($A44,SURFSKI!AC$8:AI$53,6,0))","v":""},{"$f":"IF(ISNA(VLOOKUP($A44,SURFSKI!AC$8:AI$53,7,0)),\"\",VLOOKUP($A44,SURFSKI!AC$8:AI$53,7,0))","v":""},{"$f":"IF($A44=\"\",\"\",VLOOKUP($A44,INSCRITS!$D$4:$W$506,15,0))","v":0},{"$f":"IF(ISNA(VLOOKUP($A44,OCEANMAN!AC$7:AI$52,6,0)),\"\",VLOOKUP($A44,OCEANMAN!AC$7:AI$52,6,0))","v":""},{"$f":"IF(ISNA(VLOOKUP($A44,OCEANMAN!AC$7:AI$52,7,0)),\"\",VLOOKUP($A44,OCEANMAN!AC$7:AI$52,7,0))","v":""},{"$f":"IF($A44=\"\",\"\",VLOOKUP($A44,INSCRITS!$D$4:$W$506,16,0))","v":"X"},{"$f":"IF(ISNA(VLOOKUP($A44,CNC!N$7:AC$52,6,0)),\"\",VLOOKUP($A44,CNC!N$7:AC$52,6,0))","v":14},{"$f":"IF(ISNA(VLOOKUP($A44,CNC!N$7:AC$52,7,0)),\"\",VLOOKUP($A44,CNC!N$7:AC$52,7,0))","v":3},3,{"$f":"IF($A44=\"\",\"\",VLOOKUP($A44,INSCRITS!$D$4:$W$506,16,0))","v":"X"},null,{"$f":"IF(AG44=\"\",\"\",VLOOKUP(AG44,[0]!Relais,2))","v":""},{"$f":"IF($A44=\"\",\"\",VLOOKUP($A44,INSCRITS!$D$4:$W$506,17,0))","v":0},null,{"$f":"IF(AJ44=\"\",\"\",VLOOKUP(AJ44,[0]!Relais,2))","v":""},{"$f":"IF($A44=\"\",\"\",VLOOKUP($A44,INSCRITS!$D$4:$W$506,18,0))","v":0},null,{"$f":"IF(AM44=\"\",\"\",VLOOKUP(AM44,[0]!Relais,2))","v":""},{"$f":"IF($A44=\"\",\"\",VLOOKUP($A44,INSCRITS!$D$4:$W$506,19,0))","v":0},null,{"$f":"IF(AP44=\"\",\"\",VLOOKUP(AP44,[0]!Relais,2))","v":""},0,3]
[null,{"$f":"IF($A45=\"\",\"\",VLOOKUP($A45,INSCRITS!$D$4:$W$501,2,0))","v":""},null,{"$f":"IF($A45=\"\",\"\",VLOOKUP($A45,INSCRITS!$D$4:$W$501,4,0))","v":""},{"$f":"IF($A45=\"\",\"\",VLOOKUP($A45,INSCRITS!$D$4:$W$501,5,0))","v":""},{"$f":"IF($A45=\"\",\"\",VLOOKUP($A45,INSCRITS!$D$4:$W$501,6,0))","v":""},{"$f":"IF($A45=\"\",\"\",VLOOKUP($A45,INSCRITS!$D$4:$W$501,7,0))","v":""},{"$f":"IF($A45=\"\",\"\",VLOOKUP($A45,INSCRITS!$D$4:$W$501,8,0))","v":""},{"$f":"IF($A45=\"\",\"\",VLOOKUP($A45,INSCRITS!$D$4:$W$501,9,0))","v":""},{"$f":"IF($A45=\"\",\"\",VLOOKUP($A45,INSCRITS!$D$4:$W$506,10,0))","v":""},{"$f":"IF(ISNA(VLOOKUP($A45,SPRINT!AD$7:AJ$50,6,0)),\"\",VLOOKUP($A45,SPRINT!AD$7:AJ$50,6,0))","v":""},{"$f":"IF(ISNA(VLOOKUP($A45,SPRINT!AD$7:AJ$50,7,0)),\"\",VLOOKUP($A45,SPRINT!AD$7:AJ$50,7,0))","v":""},{"$f":"IF($A45=\"\",\"\",VLOOKUP($A45,INSCRITS!$D$4:$W$506,11,0))","v":""},{"$f":"IF(ISNA(VLOOKUP($A45,BATONS!AD$7:AJ$51,6,0)),\"\",VLOOKUP($A45,BATONS!AD$7:AJ$51,6,0))","v":""},{"$f":"IF(ISNA(VLOOKUP($A45,BATONS!AD$7:AJ$51,7,0)),\"\",VLOOKUP($A45,BATONS!AD$7:AJ$51,7,0))","v":""},{"$f":"IF($A45=\"\",\"\",VLOOKUP($A45,INSCRITS!$D$4:$W$506,12,0))","v":""},{"$f":"IF(ISNA(VLOOKUP($A45,PLANCHE!AC$7:AI$52,6,0)),\"\",VLOOKUP($A45,PLANCHE!AC$7:AI$52,6,0))","v":""},{"$f":"IF(ISNA(VLOOKUP($A45,PLANCHE!AC$7:AI$52,7,0)),\"\",VLOOKUP($A45,PLANCHE!AC$7:AI$52,7,0))","v":""},{"$f":"IF($A45=\"\",\"\",VLOOKUP($A45,INSCRITS!$D$4:$W$506,13,0))","v":""},{"$f":"IF(ISNA(VLOOKUP($A45,NAGE!N$7:T$52,6,0)),\"\",VLOOKUP($A45,NAGE!N$7:T$52,6,0))","v":""},{"$f":"IF(ISNA(VLOOKUP($A45,NAGE!N$7:T$52,7,0)),\"\",VLOOKUP($A45,NAGE!N$7:T$52,7,0))","v":""},{"$f":"IF($A45=\"\",\"\",VLOOKUP($A45,INSCRITS!$D$4:$W$506,14,0))","v":""},{"$f":"IF(ISNA(VLOOKUP($A45,SURFSKI!AC$8:AI$53,6,0)),\"\",VLOOKUP($A45,SURFSKI!AC$8:AI$53,6,0))","v":""},{"$f":"IF(ISNA(VLOOKUP($A45,SURFSKI!AC$8:AI$53,7,0)),\"\",VLOOKUP($A45,SURFSKI!AC$8:AI$53,7,0))","v":""},{"$f":"IF($A45=\"\",\"\",VLOOKUP($A45,INSCRITS!$D$4:$W$506,15,0))","v":""},{"$f":"IF(ISNA(VLOOKUP($A45,OCEANMAN!AC$7:AI$52,6,0)),\"\",VLOOKUP($A45,OCEANMAN!AC$7:AI$52,6,0))","v":""},{"$f":"IF(ISNA(VLOOKUP($A45,OCEANMAN!AC$7:AI$52,7,0)),\"\",VLOOKUP($A45,OCEANMAN!AC$7:AI$52,7,0))","v":""},{"$f":"IF($A45=\"\",\"\",VLOOKUP($A45,INSCRITS!$D$4:$W$506,16,0))","v":""},{"$f":"IF(ISNA(VLOOKUP($A45,CNC!N$7:AC$52,6,0)),\"\",VLOOKUP($A45,CNC!N$7:AC$52,6,0))","v":""},{"$f":"IF(ISNA(VLOOKUP($A45,CNC!N$7:AC$52,7,0)),\"\",VLOOKUP($A45,CNC!N$7:AC$52,7,0))","v":""},0,{"$f":"IF($A45=\"\",\"\",VLOOKUP($A45,INSCRITS!$D$4:$W$506,16,0))","v":""},null,{"$f":"IF(AG45=\"\",\"\",VLOOKUP(AG45,[0]!Relais,2))","v":""},{"$f":"IF($A45=\"\",\"\",VLOOKUP($A45,INSCRITS!$D$4:$W$506,17,0))","v":""},null,{"$f":"IF(AJ45=\"\",\"\",VLOOKUP(AJ45,[0]!Relais,2))","v":""},{"$f":"IF($A45=\"\",\"\",VLOOKUP($A45,INSCRITS!$D$4:$W$506,18,0))","v":""},null,{"$f":"IF(AM45=\"\",\"\",VLOOKUP(AM45,[0]!Relais,2))","v":""},{"$f":"IF($A45=\"\",\"\",VLOOKUP($A45,INSCRITS!$D$4:$W$506,19,0))","v":""},null,{"$f":"IF(AP45=\"\",\"\",VLOOKUP(AP45,[0]!Relais,2))","v":""},0,0]
[null,{"$f":"IF($A46=\"\",\"\",VLOOKUP($A46,INSCRITS!$D$4:$W$501,2,0))","v":""},null,{"$f":"IF($A46=\"\",\"\",VLOOKUP($A46,INSCRITS!$D$4:$W$501,4,0))","v":""},{"$f":"IF($A46=\"\",\"\",VLOOKUP($A46,INSCRITS!$D$4:$W$501,5,0))","v":""},{"$f":"IF($A46=\"\",\"\",VLOOKUP($A46,INSCRITS!$D$4:$W$501,6,0))","v":""},{"$f":"IF($A46=\"\",\"\",VLOOKUP($A46,INSCRITS!$D$4:$W$501,7,0))","v":""},{"$f":"IF($A46=\"\",\"\",VLOOKUP($A46,INSCRITS!$D$4:$W$501,8,0))","v":""},{"$f":"IF($A46=\"\",\"\",VLOOKUP($A46,INSCRITS!$D$4:$W$501,9,0))","v":""},{"$f":"IF($A46=\"\",\"\",VLOOKUP($A46,INSCRITS!$D$4:$W$506,10,0))","v":""},{"$f":"IF(ISNA(VLOOKUP($A46,SPRINT!AD$7:AJ$50,6,0)),\"\",VLOOKUP($A46,SPRINT!AD$7:AJ$50,6,0))","v":""},{"$f":"IF(ISNA(VLOOKUP($A46,SPRINT!AD$7:AJ$50,7,0)),\"\",VLOOKUP($A46,SPRINT!AD$7:AJ$50,7,0))","v":""},{"$f":"IF($A46=\"\",\"\",VLOOKUP($A46,INSCRITS!$D$4:$W$506,11,0))","v":""},{"$f":"IF(ISNA(VLOOKUP($A46,BATONS!AD$7:AJ$51,6,0)),\"\",VLOOKUP($A46,BATONS!AD$7:AJ$51,6,0))","v":""},{"$f":"IF(ISNA(VLOOKUP($A46,BATONS!AD$7:AJ$51,7,0)),\"\",VLOOKUP($A46,BATONS!AD$7:AJ$51,7,0))","v":""},{"$f":"IF($A46=\"\",\"\",VLOOKUP($A46,INSCRITS!$D$4:$W$506,12,0))","v":""},{"$f":"IF(ISNA(VLOOKUP($A46,PLANCHE!AC$7:AI$52,6,0)),\"\",VLOOKUP($A46,PLANCHE!AC$7:AI$52,6,0))","v":""},{"$f":"IF(ISNA(VLOOKUP($A46,PLANCHE!AC$7:AI$52,7,0)),\"\",VLOOKUP($A46,PLANCHE!AC$7:AI$52,7,0))","v":""},{"$f":"IF($A46=\"\",\"\",VLOOKUP($A46,INSCRITS!$D$4:$W$506,13,0))","v":""},{"$f":"IF(ISNA(VLOOKUP($A46,NAGE!N$7:T$52,6,0)),\"\",VLOOKUP($A46,NAGE!N$7:T$52,6,0))","v":""},{"$f":"IF(ISNA(VLOOKUP($A46,NAGE!N$7:T$52,7,0)),\"\",VLOOKUP($A46,NAGE!N$7:T$52,7,0))","v":""},{"$f":"IF($A46=\"\",\"\",VLOOKUP($A46,INSCRITS!$D$4:$W$506,14,0))","v":""},{"$f":"IF(ISNA(VLOOKUP($A46,SURFSKI!AC$8:AI$53,6,0)),\"\",VLOOKUP($A46,SURFSKI!AC$8:AI$53,6,0))","v":""},{"$f":"IF(ISNA(VLOOKUP($A46,SURFSKI!AC$8:AI$53,7,0)),\"\",VLOOKUP($A46,SURFSKI!AC$8:AI$53,7,0))","v":""},{"$f":"IF($A46=\"\",\"\",VLOOKUP($A46,INSCRITS!$D$4:$W$506,15,0))","v":""},{"$f":"IF(ISNA(VLOOKUP($A46,OCEANMAN!AC$7:AI$52,6,0)),\"\",VLOOKUP($A46,OCEANMAN!AC$7:AI$52,6,0))","v":""},{"$f":"IF(ISNA(VLOOKUP($A46,OCEANMAN!AC$7:AI$52,7,0)),\"\",VLOOKUP($A46,OCEANMAN!AC$7:AI$52,7,0))","v":""},{"$f":"IF($A46=\"\",\"\",VLOOKUP($A46,INSCRITS!$D$4:$W$506,16,0))","v":""},{"$f":"IF(ISNA(VLOOKUP($A46,CNC!N$7:AC$52,6,0)),\"\",VLOOKUP($A46,CNC!N$7:AC$52,6,0))","v":""},{"$f":"IF(ISNA(VLOOKUP($A46,CNC!N$7:AC$52,7,0)),\"\",VLOOKUP($A46,CNC!N$7:AC$52,7,0))","v":""},0,{"$f":"IF($A46=\"\",\"\",VLOOKUP($A46,INSCRITS!$D$4:$W$506,16,0))","v":""},null,{"$f":"IF(AG46=\"\",\"\",VLOOKUP(AG46,[0]!Relais,2))","v":""},{"$f":"IF($A46=\"\",\"\",VLOOKUP($A46,INSCRITS!$D$4:$W$506,17,0))","v":""},null,{"$f":"IF(AJ46=\"\",\"\",VLOOKUP(AJ46,[0]!Relais,2))","v":""},{"$f":"IF($A46=\"\",\"\",VLOOKUP($A46,INSCRITS!$D$4:$W$506,18,0))","v":""},null,{"$f":"IF(AM46=\"\",\"\",VLOOKUP(AM46,[0]!Relais,2))","v":""},{"$f":"IF($A46=\"\",\"\",VLOOKUP($A46,INSCRITS!$D$4:$W$506,19,0))","v":""},null,{"$f":"IF(AP46=\"\",\"\",VLOOKUP(AP46,[0]!Relais,2))","v":""},0,0]
[null,{"$f":"IF($A47=\"\",\"\",VLOOKUP($A47,INSCRITS!$D$4:$W$501,2,0))","v":""},null,{"$f":"IF($A47=\"\",\"\",VLOOKUP($A47,INSCRITS!$D$4:$W$501,4,0))","v":""},{"$f":"IF($A47=\"\",\"\",VLOOKUP($A47,INSCRITS!$D$4:$W$501,5,0))","v":""},{"$f":"IF($A47=\"\",\"\",VLOOKUP($A47,INSCRITS!$D$4:$W$501,6,0))","v":""},{"$f":"IF($A47=\"\",\"\",VLOOKUP($A47,INSCRITS!$D$4:$W$501,7,0))","v":""},{"$f":"IF($A47=\"\",\"\",VLOOKUP($A47,INSCRITS!$D$4:$W$501,8,0))","v":""},{"$f":"IF($A47=\"\",\"\",VLOOKUP($A47,INSCRITS!$D$4:$W$501,9,0))","v":""},{"$f":"IF($A47=\"\",\"\",VLOOKUP($A47,INSCRITS!$D$4:$W$506,10,0))","v":""},{"$f":"IF(ISNA(VLOOKUP($A47,SPRINT!AD$7:AJ$50,6,0)),\"\",VLOOKUP($A47,SPRINT!AD$7:AJ$50,6,0))","v":""},{"$f":"IF(ISNA(VLOOKUP($A47,SPRINT!AD$7:AJ$50,7,0)),\"\",VLOOKUP($A47,SPRINT!AD$7:AJ$50,7,0))","v":""},{"$f":"IF($A47=\"\",\"\",VLOOKUP($A47,INSCRITS!$D$4:$W$506,11,0))","v":""},{"$f":"IF(ISNA(VLOOKUP($A47,BATONS!AD$7:AJ$51,6,0)),\"\",VLOOKUP($A47,BATONS!AD$7:AJ$51,6,0))","v":""},{"$f":"IF(ISNA(VLOOKUP($A47,BATONS!AD$7:AJ$51,7,0)),\"\",VLOOKUP($A47,BATONS!AD$7:AJ$51,7,0))","v":""},{"$f":"IF($A47=\"\",\"\",VLOOKUP($A47,INSCRITS!$D$4:$W$506,12,0))","v":""},{"$f":"IF(ISNA(VLOOKUP($A47,PLANCHE!AC$7:AI$52,6,0)),\"\",VLOOKUP($A47,PLANCHE!AC$7:AI$52,6,0))","v":""},{"$f":"IF(ISNA(VLOOKUP($A47,PLANCHE!AC$7:AI$52,7,0)),\"\",VLOOKUP($A47,PLANCHE!AC$7:AI$52,7,0))","v":""},{"$f":"IF($A47=\"\",\"\",VLOOKUP($A47,INSCRITS!$D$4:$W$506,13,0))","v":""},{"$f":"IF(ISNA(VLOOKUP($A47,NAGE!N$7:T$52,6,0)),\"\",VLOOKUP($A47,NAGE!N$7:T$52,6,0))","v":""},{"$f":"IF(ISNA(VLOOKUP($A47,NAGE!N$7:T$52,7,0)),\"\",VLOOKUP($A47,NAGE!N$7:T$52,7,0))","v":""},{"$f":"IF($A47=\"\",\"\",VLOOKUP($A47,INSCRITS!$D$4:$W$506,14,0))","v":""},{"$f":"IF(ISNA(VLOOKUP($A47,SURFSKI!AC$8:AI$53,6,0)),\"\",VLOOKUP($A47,SURFSKI!AC$8:AI$53,6,0))","v":""},{"$f":"IF(ISNA(VLOOKUP($A47,SURFSKI!AC$8:AI$53,7,0)),\"\",VLOOKUP($A47,SURFSKI!AC$8:AI$53,7,0))","v":""},{"$f":"IF($A47=\"\",\"\",VLOOKUP($A47,INSCRITS!$D$4:$W$506,15,0))","v":""},{"$f":"IF(ISNA(VLOOKUP($A47,OCEANMAN!AC$7:AI$52,6,0)),\"\",VLOOKUP($A47,OCEANMAN!AC$7:AI$52,6,0))","v":""},{"$f":"IF(ISNA(VLOOKUP($A47,OCEANMAN!AC$7:AI$52,7,0)),\"\",VLOOKUP($A47,OCEANMAN!AC$7:AI$52,7,0))","v":""},{"$f":"IF($A47=\"\",\"\",VLOOKUP($A47,INSCRITS!$D$4:$W$506,16,0))","v":""},{"$f":"IF(ISNA(VLOOKUP($A47,CNC!N$7:AC$52,6,0)),\"\",VLOOKUP($A47,CNC!N$7:AC$52,6,0))","v":""},{"$f":"IF(ISNA(VLOOKUP($A47,CNC!N$7:AC$52,7,0)),\"\",VLOOKUP($A47,CNC!N$7:AC$52,7,0))","v":""},0,{"$f":"IF($A47=\"\",\"\",VLOOKUP($A47,INSCRITS!$D$4:$W$506,16,0))","v":""},null,{"$f":"IF(AG47=\"\",\"\",VLOOKUP(AG47,[0]!Relais,2))","v":""},{"$f":"IF($A47=\"\",\"\",VLOOKUP($A47,INSCRITS!$D$4:$W$506,17,0))","v":""},null,{"$f":"IF(AJ47=\"\",\"\",VLOOKUP(AJ47,[0]!Relais,2))","v":""},{"$f":"IF($A47=\"\",\"\",VLOOKUP($A47,INSCRITS!$D$4:$W$506,18,0))","v":""},null,{"$f":"IF(AM47=\"\",\"\",VLOOKUP(AM47,[0]!Relais,2))","v":""},{"$f":"IF($A47=\"\",\"\",VLOOKUP($A47,INSCRITS!$D$4:$W$506,19,0))","v":""},null,{"$f":"IF(AP47=\"\",\"\",VLOOKUP(AP47,[0]!Relais,2))","v":""},0,0]
[null,{"$f":"IF($A48=\"\",\"\",VLOOKUP($A48,INSCRITS!$D$4:$W$501,2,0))","v":""},null,{"$f":"IF($A48=\"\",\"\",VLOOKUP($A48,INSCRITS!$D$4:$W$501,4,0))","v":""},{"$f":"IF($A48=\"\",\"\",VLOOKUP($A48,INSCRITS!$D$4:$W$501,5,0))","v":""},{"$f":"IF($A48=\"\",\"\",VLOOKUP($A48,INSCRITS!$D$4:$W$501,6,0))","v":""},{"$f":"IF($A48=\"\",\"\",VLOOKUP($A48,INSCRITS!$D$4:$W$501,7,0))","v":""},{"$f":"IF($A48=\"\",\"\",VLOOKUP($A48,INSCRITS!$D$4:$W$501,8,0))","v":""},{"$f":"IF($A48=\"\",\"\",VLOOKUP($A48,INSCRITS!$D$4:$W$501,9,0))","v":""},{"$f":"IF($A48=\"\",\"\",VLOOKUP($A48,INSCRITS!$D$4:$W$506,10,0))","v":""},{"$f":"IF(ISNA(VLOOKUP($A48,SPRINT!AD$7:AJ$50,6,0)),\"\",VLOOKUP($A48,SPRINT!AD$7:AJ$50,6,0))","v":""},{"$f":"IF(ISNA(VLOOKUP($A48,SPRINT!AD$7:AJ$50,7,0)),\"\",VLOOKUP($A48,SPRINT!AD$7:AJ$50,7,0))","v":""},{"$f":"IF($A48=\"\",\"\",VLOOKUP($A48,INSCRITS!$D$4:$W$506,11,0))","v":""},{"$f":"IF(ISNA(VLOOKUP($A48,BATONS!AD$7:AJ$51,6,0)),\"\",VLOOKUP($A48,BATONS!AD$7:AJ$51,6,0))","v":""},{"$f":"IF(ISNA(VLOOKUP($A48,BATONS!AD$7:AJ$51,7,0)),\"\",VLOOKUP($A48,BATONS!AD$7:AJ$51,7,0))","v":""},{"$f":"IF($A48=\"\",\"\",VLOOKUP($A48,INSCRITS!$D$4:$W$506,12,0))","v":""},{"$f":"IF(ISNA(VLOOKUP($A48,PLANCHE!AC$7:AI$52,6,0)),\"\",VLOOKUP($A48,PLANCHE!AC$7:AI$52,6,0))","v":""},{"$f":"IF(ISNA(VLOOKUP($A48,PLANCHE!AC$7:AI$52,7,0)),\"\",VLOOKUP($A48,PLANCHE!AC$7:AI$52,7,0))","v":""},{"$f":"IF($A48=\"\",\"\",VLOOKUP($A48,INSCRITS!$D$4:$W$506,13,0))","v":""},{"$f":"IF(ISNA(VLOOKUP($A48,NAGE!N$7:T$52,6,0)),\"\",VLOOKUP($A48,NAGE!N$7:T$52,6,0))","v":""},{"$f":"IF(ISNA(VLOOKUP($A48,NAGE!N$7:T$52,7,0)),\"\",VLOOKUP($A48,NAGE!N$7:T$52,7,0))","v":""},{"$f":"IF($A48=\"\",\"\",VLOOKUP($A48,INSCRITS!$D$4:$W$506,14,0))","v":""},{"$f":"IF(ISNA(VLOOKUP($A48,SURFSKI!AC$8:AI$53,6,0)),\"\",VLOOKUP($A48,SURFSKI!AC$8:AI$53,6,0))","v":""},{"$f":"IF(ISNA(VLOOKUP($A48,SURFSKI!AC$8:AI$53,7,0)),\"\",VLOOKUP($A48,SURFSKI!AC$8:AI$53,7,0))","v":""},{"$f":"IF($A48=\"\",\"\",VLOOKUP($A48,INSCRITS!$D$4:$W$506,15,0))","v":""},{"$f":"IF(ISNA(VLOOKUP($A48,OCEANMAN!AC$7:AI$52,6,0)),\"\",VLOOKUP($A48,OCEANMAN!AC$7:AI$52,6,0))","v":""},{"$f":"IF(ISNA(VLOOKUP($A48,OCEANMAN!AC$7:AI$52,7,0)),\"\",VLOOKUP($A48,OCEANMAN!AC$7:AI$52,7,0))","v":""},{"$f":"IF($A48=\"\",\"\",VLOOKUP($A48,INSCRITS!$D$4:$W$506,16,0))","v":""},{"$f":"IF(ISNA(VLOOKUP($A48,CNC!N$7:AC$52,6,0)),\"\",VLOOKUP($A48,CNC!N$7:AC$52,6,0))","v":""},{"$f":"IF(ISNA(VLOOKUP($A48,CNC!N$7:AC$52,7,0)),\"\",VLOOKUP($A48,CNC!N$7:AC$52,7,0))","v":""},0,{"$f":"IF($A48=\"\",\"\",VLOOKUP($A48,INSCRITS!$D$4:$W$506,16,0))","v":""},null,{"$f":"IF(AG48=\"\",\"\",VLOOKUP(AG48,[0]!Relais,2))","v":""},{"$f":"IF($A48=\"\",\"\",VLOOKUP($A48,INSCRITS!$D$4:$W$506,17,0))","v":""},null,{"$f":"IF(AJ48=\"\",\"\",VLOOKUP(AJ48,[0]!Relais,2))","v":""},{"$f":"IF($A48=\"\",\"\",VLOOKUP($A48,INSCRITS!$D$4:$W$506,18,0))","v":""},null,{"$f":"IF(AM48=\"\",\"\",VLOOKUP(AM48,[0]!Relais,2))","v":""},{"$f":"IF($A48=\"\",\"\",VLOOKUP($A48,INSCRITS!$D$4:$W$506,19,0))","v":""},null,{"$f":"IF(AP48=\"\",\"\",VLOOKUP(AP48,[0]!Relais,2))","v":""},0,0]
[null,{"$f":"IF($A49=\"\",\"\",VLOOKUP($A49,INSCRITS!$D$4:$W$501,2,0))","v":""},null,{"$f":"IF($A49=\"\",\"\",VLOOKUP($A49,INSCRITS!$D$4:$W$501,4,0))","v":""},{"$f":"IF($A49=\"\",\"\",VLOOKUP($A49,INSCRITS!$D$4:$W$501,5,0))","v":""},{"$f":"IF($A49=\"\",\"\",VLOOKUP($A49,INSCRITS!$D$4:$W$501,6,0))","v":""},{"$f":"IF($A49=\"\",\"\",VLOOKUP($A49,INSCRITS!$D$4:$W$501,7,0))","v":""},{"$f":"IF($A49=\"\",\"\",VLOOKUP($A49,INSCRITS!$D$4:$W$501,8,0))","v":""},{"$f":"IF($A49=\"\",\"\",VLOOKUP($A49,INSCRITS!$D$4:$W$501,9,0))","v":""},{"$f":"IF($A49=\"\",\"\",VLOOKUP($A49,INSCRITS!$D$4:$W$506,10,0))","v":""},{"$f":"IF(ISNA(VLOOKUP($A49,SPRINT!AD$7:AJ$50,6,0)),\"\",VLOOKUP($A49,SPRINT!AD$7:AJ$50,6,0))","v":""},{"$f":"IF(ISNA(VLOOKUP($A49,SPRINT!AD$7:AJ$50,7,0)),\"\",VLOOKUP($A49,SPRINT!AD$7:AJ$50,7,0))","v":""},{"$f":"IF($A49=\"\",\"\",VLOOKUP($A49,INSCRITS!$D$4:$W$506,11,0))","v":""},{"$f":"IF(ISNA(VLOOKUP($A49,BATONS!AD$7:AJ$51,6,0)),\"\",VLOOKUP($A49,BATONS!AD$7:AJ$51,6,0))","v":""},{"$f":"IF(ISNA(VLOOKUP($A49,BATONS!AD$7:AJ$51,7,0)),\"\",VLOOKUP($A49,BATONS!AD$7:AJ$51,7,0))","v":""},{"$f":"IF($A49=\"\",\"\",VLOOKUP($A49,INSCRITS!$D$4:$W$506,12,0))","v":""},{"$f":"IF(ISNA(VLOOKUP($A49,PLANCHE!AC$7:AI$52,6,0)),\"\",VLOOKUP($A49,PLANCHE!AC$7:AI$52,6,0))","v":""},{"$f":"IF(ISNA(VLOOKUP($A49,PLANCHE!AC$7:AI$52,7,0)),\"\",VLOOKUP($A49,PLANCHE!AC$7:AI$52,7,0))","v":""},{"$f":"IF($A49=\"\",\"\",VLOOKUP($A49,INSCRITS!$D$4:$W$506,13,0))","v":""},{"$f":"IF(ISNA(VLOOKUP($A49,NAGE!N$7:T$52,6,0)),\"\",VLOOKUP($A49,NAGE!N$7:T$52,6,0))","v":""},{"$f":"IF(ISNA(VLOOKUP($A49,NAGE!N$7:T$52,7,0)),\"\",VLOOKUP($A49,NAGE!N$7:T$52,7,0))","v":""},{"$f":"IF($A49=\"\",\"\",VLOOKUP($A49,INSCRITS!$D$4:$W$506,14,0))","v":""},{"$f":"IF(ISNA(VLOOKUP($A49,SURFSKI!AC$8:AI$53,6,0)),\"\",VLOOKUP($A49,SURFSKI!AC$8:AI$53,6,0))","v":""},{"$f":"IF(ISNA(VLOOKUP($A49,SURFSKI!AC$8:AI$53,7,0)),\"\",VLOOKUP($A49,SURFSKI!AC$8:AI$53,7,0))","v":""},{"$f":"IF($A49=\"\",\"\",VLOOKUP($A49,INSCRITS!$D$4:$W$506,15,0))","v":""},{"$f":"IF(ISNA(VLOOKUP($A49,OCEANMAN!AC$7:AI$52,6,0)),\"\",VLOOKUP($A49,OCEANMAN!AC$7:AI$52,6,0))","v":""},{"$f":"IF(ISNA(VLOOKUP($A49,OCEANMAN!AC$7:AI$52,7,0)),\"\",VLOOKUP($A49,OCEANMAN!AC$7:AI$52,7,0))","v":""},{"$f":"IF($A49=\"\",\"\",VLOOKUP($A49,INSCRITS!$D$4:$W$506,16,0))","v":""},{"$f":"IF(ISNA(VLOOKUP($A49,CNC!N$7:AC$52,6,0)),\"\",VLOOKUP($A49,CNC!N$7:AC$52,6,0))","v":""},{"$f":"IF(ISNA(VLOOKUP($A49,CNC!N$7:AC$52,7,0)),\"\",VLOOKUP($A49,CNC!N$7:AC$52,7,0))","v":""},0,{"$f":"IF($A49=\"\",\"\",VLOOKUP($A49,INSCRITS!$D$4:$W$506,16,0))","v":""},null,{"$f":"IF(AG49=\"\",\"\",VLOOKUP(AG49,[0]!Relais,2))","v":""},{"$f":"IF($A49=\"\",\"\",VLOOKUP($A49,INSCRITS!$D$4:$W$506,17,0))","v":""},null,{"$f":"IF(AJ49=\"\",\"\",VLOOKUP(AJ49,[0]!Relais,2))","v":""},{"$f":"IF($A49=\"\",\"\",VLOOKUP($A49,INSCRITS!$D$4:$W$506,18,0))","v":""},null,{"$f":"IF(AM49=\"\",\"\",VLOOKUP(AM49,[0]!Relais,2))","v":""},{"$f":"IF($A49=\"\",\"\",VLOOKUP($A49,INSCRITS!$D$4:$W$506,19,0))","v":""},null,{"$f":"IF(AP49=\"\",\"\",VLOOKUP(AP49,[0]!Relais,2))","v":""},0,0]
[null,{"$f":"IF($A50=\"\",\"\",VLOOKUP($A50,INSCRITS!$D$4:$W$501,2,0))","v":""},null,{"$f":"IF($A50=\"\",\"\",VLOOKUP($A50,INSCRITS!$D$4:$W$501,4,0))","v":""},{"$f":"IF($A50=\"\",\"\",VLOOKUP($A50,INSCRITS!$D$4:$W$501,5,0))","v":""},{"$f":"IF($A50=\"\",\"\",VLOOKUP($A50,INSCRITS!$D$4:$W$501,6,0))","v":""},{"$f":"IF($A50=\"\",\"\",VLOOKUP($A50,INSCRITS!$D$4:$W$501,7,0))","v":""},{"$f":"IF($A50=\"\",\"\",VLOOKUP($A50,INSCRITS!$D$4:$W$501,8,0))","v":""},{"$f":"IF($A50=\"\",\"\",VLOOKUP($A50,INSCRITS!$D$4:$W$501,9,0))","v":""},{"$f":"IF($A50=\"\",\"\",VLOOKUP($A50,INSCRITS!$D$4:$W$506,10,0))","v":""},{"$f":"IF(ISNA(VLOOKUP($A50,SPRINT!AD$7:AJ$50,6,0)),\"\",VLOOKUP($A50,SPRINT!AD$7:AJ$50,6,0))","v":""},{"$f":"IF(ISNA(VLOOKUP($A50,SPRINT!AD$7:AJ$50,7,0)),\"\",VLOOKUP($A50,SPRINT!AD$7:AJ$50,7,0))","v":""},{"$f":"IF($A50=\"\",\"\",VLOOKUP($A50,INSCRITS!$D$4:$W$506,11,0))","v":""},{"$f":"IF(ISNA(VLOOKUP($A50,BATONS!AD$7:AJ$51,6,0)),\"\",VLOOKUP($A50,BATONS!AD$7:AJ$51,6,0))","v":""},{"$f":"IF(ISNA(VLOOKUP($A50,BATONS!AD$7:AJ$51,7,0)),\"\",VLOOKUP($A50,BATONS!AD$7:AJ$51,7,0))","v":""},{"$f":"IF($A50=\"\",\"\",VLOOKUP($A50,INSCRITS!$D$4:$W$506,12,0))","v":""},{"$f":"IF(ISNA(VLOOKUP($A50,PLANCHE!AC$7:AI$52,6,0)),\"\",VLOOKUP($A50,PLANCHE!AC$7:AI$52,6,0))","v":""},{"$f":"IF(ISNA(VLOOKUP($A50,PLANCHE!AC$7:AI$52,7,0)),\"\",VLOOKUP($A50,PLANCHE!AC$7:AI$52,7,0))","v":""},{"$f":"IF($A50=\"\",\"\",VLOOKUP($A50,INSCRITS!$D$4:$W$506,13,0))","v":""},{"$f":"IF(ISNA(VLOOKUP($A50,NAGE!N$7:T$52,6,0)),\"\",VLOOKUP($A50,NAGE!N$7:T$52,6,0))","v":""},{"$f":"IF(ISNA(VLOOKUP($A50,NAGE!N$7:T$52,7,0)),\"\",VLOOKUP($A50,NAGE!N$7:T$52,7,0))","v":""},{"$f":"IF($A50=\"\",\"\",VLOOKUP($A50,INSCRITS!$D$4:$W$506,14,0))","v":""},{"$f":"IF(ISNA(VLOOKUP($A50,SURFSKI!AC$8:AI$53,6,0)),\"\",VLOOKUP($A50,SURFSKI!AC$8:AI$53,6,0))","v":""},{"$f":"IF(ISNA(VLOOKUP($A50,SURFSKI!AC$8:AI$53,7,0)),\"\",VLOOKUP($A50,SURFSKI!AC$8:AI$53,7,0))","v":""},{"$f":"IF($A50=\"\",\"\",VLOOKUP($A50,INSCRITS!$D$4:$W$506,15,0))","v":""},{"$f":"IF(ISNA(VLOOKUP($A50,OCEANMAN!AC$7:AI$52,6,0)),\"\",VLOOKUP($A50,OCEANMAN!AC$7:AI$52,6,0))","v":""},{"$f":"IF(ISNA(VLOOKUP($A50,OCEANMAN!AC$7:AI$52,7,0)),\"\",VLOOKUP($A50,OCEANMAN!AC$7:AI$52,7,0))","v":""},{"$f":"IF($A50=\"\",\"\",VLOOKUP($A50,INSCRITS!$D$4:$W$506,16,0))","v":""},{"$f":"IF(ISNA(VLOOKUP($A50,CNC!N$7:AC$52,6,0)),\"\",VLOOKUP($A50,CNC!N$7:AC$52,6,0))","v":""},{"$f":"IF(ISNA(VLOOKUP($A50,CNC!N$7:AC$52,7,0)),\"\",VLOOKUP($A50,CNC!N$7:AC$52,7,0))","v":""},0,{"$f":"IF($A50=\"\",\"\",VLOOKUP($A50,INSCRITS!$D$4:$W$506,16,0))","v":""},null,{"$f":"IF(AG50=\"\",\"\",VLOOKUP(AG50,[0]!Relais,2))","v":""},{"$f":"IF($A50=\"\",\"\",VLOOKUP($A50,INSCRITS!$D$4:$W$506,17,0))","v":""},null,{"$f":"IF(AJ50=\"\",\"\",VLOOKUP(AJ50,[0]!Relais,2))","v":""},{"$f":"IF($A50=\"\",\"\",VLOOKUP($A50,INSCRITS!$D$4:$W$506,18,0))","v":""},null,{"$f":"IF(AM50=\"\",\"\",VLOOKUP(AM50,[0]!Relais,2))","v":""},{"$f":"IF($A50=\"\",\"\",VLOOKUP($A50,INSCRITS!$D$4:$W$506,19,0))","v":""},null,{"$f":"IF(AP50=\"\",\"\",VLOOKUP(AP50,[0]!Relais,2))","v":""},0,0]
[null,{"$f":"IF($A51=\"\",\"\",VLOOKUP($A51,INSCRITS!$D$4:$W$501,2,0))","v":""},null,{"$f":"IF($A51=\"\",\"\",VLOOKUP($A51,INSCRITS!$D$4:$W$501,4,0))","v":""},{"$f":"IF($A51=\"\",\"\",VLOOKUP($A51,INSCRITS!$D$4:$W$501,5,0))","v":""},{"$f":"IF($A51=\"\",\"\",VLOOKUP($A51,INSCRITS!$D$4:$W$501,6,0))","v":""},{"$f":"IF($A51=\"\",\"\",VLOOKUP($A51,INSCRITS!$D$4:$W$501,7,0))","v":""},{"$f":"IF($A51=\"\",\"\",VLOOKUP($A51,INSCRITS!$D$4:$W$501,8,0))","v":""},{"$f":"IF($A51=\"\",\"\",VLOOKUP($A51,INSCRITS!$D$4:$W$501,9,0))","v":""},{"$f":"IF($A51=\"\",\"\",VLOOKUP($A51,INSCRITS!$D$4:$W$506,10,0))","v":""},{"$f":"IF(ISNA(VLOOKUP($A51,SPRINT!AD$7:AJ$50,6,0)),\"\",VLOOKUP($A51,SPRINT!AD$7:AJ$50,6,0))","v":""},{"$f":"IF(ISNA(VLOOKUP($A51,SPRINT!AD$7:AJ$50,7,0)),\"\",VLOOKUP($A51,SPRINT!AD$7:AJ$50,7,0))","v":""},{"$f":"IF($A51=\"\",\"\",VLOOKUP($A51,INSCRITS!$D$4:$W$506,11,0))","v":""},{"$f":"IF(ISNA(VLOOKUP($A51,BATONS!AD$7:AJ$51,6,0)),\"\",VLOOKUP($A51,BATONS!AD$7:AJ$51,6,0))","v":""},{"$f":"IF(ISNA(VLOOKUP($A51,BATONS!AD$7:AJ$51,7,0)),\"\",VLOOKUP($A51,BATONS!AD$7:AJ$51,7,0))","v":""},{"$f":"IF($A51=\"\",\"\",VLOOKUP($A51,INSCRITS!$D$4:$W$506,12,0))","v":""},{"$f":"IF(ISNA(VLOOKUP($A51,PLANCHE!AC$7:AI$52,6,0)),\"\",VLOOKUP($A51,PLANCHE!AC$7:AI$52,6,0))","v":""},{"$f":"IF(ISNA(VLOOKUP($A51,PLANCHE!AC$7:AI$52,7,0)),\"\",VLOOKUP($A51,PLANCHE!AC$7:AI$52,7,0))","v":""},{"$f":"IF($A51=\"\",\"\",VLOOKUP($A51,INSCRITS!$D$4:$W$506,13,0))","v":""},{"$f":"IF(ISNA(VLOOKUP($A51,NAGE!N$7:T$52,6,0)),\"\",VLOOKUP($A51,NAGE!N$7:T$52,6,0))","v":""},{"$f":"IF(ISNA(VLOOKUP($A51,NAGE!N$7:T$52,7,0)),\"\",VLOOKUP($A51,NAGE!N$7:T$52,7,0))","v":""},{"$f":"IF($A51=\"\",\"\",VLOOKUP($A51,INSCRITS!$D$4:$W$506,14,0))","v":""},{"$f":"IF(ISNA(VLOOKUP($A51,SURFSKI!AC$8:AI$53,6,0)),\"\",VLOOKUP($A51,SURFSKI!AC$8:AI$53,6,0))","v":""},{"$f":"IF(ISNA(VLOOKUP($A51,SURFSKI!AC$8:AI$53,7,0)),\"\",VLOOKUP($A51,SURFSKI!AC$8:AI$53,7,0))","v":""},{"$f":"IF($A51=\"\",\"\",VLOOKUP($A51,INSCRITS!$D$4:$W$506,15,0))","v":""},{"$f":"IF(ISNA(VLOOKUP($A51,OCEANMAN!AC$7:AI$52,6,0)),\"\",VLOOKUP($A51,OCEANMAN!AC$7:AI$52,6,0))","v":""},{"$f":"IF(ISNA(VLOOKUP($A51,OCEANMAN!AC$7:AI$52,7,0)),\"\",VLOOKUP($A51,OCEANMAN!AC$7:AI$52,7,0))","v":""},{"$f":"IF($A51=\"\",\"\",VLOOKUP($A51,INSCRITS!$D$4:$W$506,16,0))","v":""},{"$f":"IF(ISNA(VLOOKUP($A51,CNC!N$7:AC$52,6,0)),\"\",VLOOKUP($A51,CNC!N$7:AC$52,6,0))","v":""},{"$f":"IF(ISNA(VLOOKUP($A51,CNC!N$7:AC$52,7,0)),\"\",VLOOKUP($A51,CNC!N$7:AC$52,7,0))","v":""},0,{"$f":"IF($A51=\"\",\"\",VLOOKUP($A51,INSCRITS!$D$4:$W$506,16,0))","v":""},null,{"$f":"IF(AG51=\"\",\"\",VLOOKUP(AG51,[0]!Relais,2))","v":""},{"$f":"IF($A51=\"\",\"\",VLOOKUP($A51,INSCRITS!$D$4:$W$506,17,0))","v":""},null,{"$f":"IF(AJ51=\"\",\"\",VLOOKUP(AJ51,[0]!Relais,2))","v":""},{"$f":"IF($A51=\"\",\"\",VLOOKUP($A51,INSCRITS!$D$4:$W$506,18,0))","v":""},null,{"$f":"IF(AM51=\"\",\"\",VLOOKUP(AM51,[0]!Relais,2))","v":""},{"$f":"IF($A51=\"\",\"\",VLOOKUP($A51,INSCRITS!$D$4:$W$506,19,0))","v":""},null,{"$f":"IF(AP51=\"\",\"\",VLOOKUP(AP51,[0]!Relais,2))","v":""},0,0]
[null,{"$f":"IF($A52=\"\",\"\",VLOOKUP($A52,INSCRITS!$D$4:$W$501,2,0))","v":""},null,{"$f":"IF($A52=\"\",\"\",VLOOKUP($A52,INSCRITS!$D$4:$W$501,4,0))","v":""},{"$f":"IF($A52=\"\",\"\",VLOOKUP($A52,INSCRITS!$D$4:$W$501,5,0))","v":""},{"$f":"IF($A52=\"\",\"\",VLOOKUP($A52,INSCRITS!$D$4:$W$501,6,0))","v":""},{"$f":"IF($A52=\"\",\"\",VLOOKUP($A52,INSCRITS!$D$4:$W$501,7,0))","v":""},{"$f":"IF($A52=\"\",\"\",VLOOKUP($A52,INSCRITS!$D$4:$W$501,8,0))","v":""},{"$f":"IF($A52=\"\",\"\",VLOOKUP($A52,INSCRITS!$D$4:$W$501,9,0))","v":""},{"$f":"IF($A52=\"\",\"\",VLOOKUP($A52,INSCRITS!$D$4:$W$506,10,0))","v":""},{"$f":"IF(ISNA(VLOOKUP($A52,SPRINT!AD$7:AJ$50,6,0)),\"\",VLOOKUP($A52,SPRINT!AD$7:AJ$50,6,0))","v":""},{"$f":"IF(ISNA(VLOOKUP($A52,SPRINT!AD$7:AJ$50,7,0)),\"\",VLOOKUP($A52,SPRINT!AD$7:AJ$50,7,0))","v":""},{"$f":"IF($A52=\"\",\"\",VLOOKUP($A52,INSCRITS!$D$4:$W$506,11,0))","v":""},{"$f":"IF(ISNA(VLOOKUP($A52,BATONS!AD$7:AJ$51,6,0)),\"\",VLOOKUP($A52,BATONS!AD$7:AJ$51,6,0))","v":""},{"$f":"IF(ISNA(VLOOKUP($A52,BATONS!AD$7:AJ$51,7,0)),\"\",VLOOKUP($A52,BATONS!AD$7:AJ$51,7,0))","v":""},{"$f":"IF($A52=\"\",\"\",VLOOKUP($A52,INSCRITS!$D$4:$W$506,12,0))","v":""},{"$f":"IF(ISNA(VLOOKUP($A52,PLANCHE!AC$7:AI$52,6,0)),\"\",VLOOKUP($A52,PLANCHE!AC$7:AI$52,6,0))","v":""},{"$f":"IF(ISNA(VLOOKUP($A52,PLANCHE!AC$7:AI$52,7,0)),\"\",VLOOKUP($A52,PLANCHE!AC$7:AI$52,7,0))","v":""},{"$f":"IF($A52=\"\",\"\",VLOOKUP($A52,INSCRITS!$D$4:$W$506,13,0))","v":""},{"$f":"IF(ISNA(VLOOKUP($A52,NAGE!N$7:T$52,6,0)),\"\",VLOOKUP($A52,NAGE!N$7:T$52,6,0))","v":""},{"$f":"IF(ISNA(VLOOKUP($A52,NAGE!N$7:T$52,7,0)),\"\",VLOOKUP($A52,NAGE!N$7:T$52,7,0))","v":""},{"$f":"IF($A52=\"\",\"\",VLOOKUP($A52,INSCRITS!$D$4:$W$506,14,0))","v":""},{"$f":"IF(ISNA(VLOOKUP($A52,SURFSKI!AC$8:AI$53,6,0)),\"\",VLOOKUP($A52,SURFSKI!AC$8:AI$53,6,0))","v":""},{"$f":"IF(ISNA(VLOOKUP($A52,SURFSKI!AC$8:AI$53,7,0)),\"\",VLOOKUP($A52,SURFSKI!AC$8:AI$53,7,0))","v":""},{"$f":"IF($A52=\"\",\"\",VLOOKUP($A52,INSCRITS!$D$4:$W$506,15,0))","v":""},{"$f":"IF(ISNA(VLOOKUP($A52,OCEANMAN!AC$7:AI$52,6,0)),\"\",VLOOKUP($A52,OCEANMAN!AC$7:AI$52,6,0))","v":""},{"$f":"IF(ISNA(VLOOKUP($A52,OCEANMAN!AC$7:AI$52,7,0)),\"\",VLOOKUP($A52,OCEANMAN!AC$7:AI$52,7,0))","v":""},{"$f":"IF($A52=\"\",\"\",VLOOKUP($A52,INSCRITS!$D$4:$W$506,16,0))","v":""},{"$f":"IF(ISNA(VLOOKUP($A52,CNC!N$7:AC$52,6,0)),\"\",VLOOKUP($A52,CNC!N$7:AC$52,6,0))","v":""},{"$f":"IF(ISNA(VLOOKUP($A52,CNC!N$7:AC$52,7,0)),\"\",VLOOKUP($A52,CNC!N$7:AC$52,7,0))","v":""},0,{"$f":"IF($A52=\"\",\"\",VLOOKUP($A52,INSCRITS!$D$4:$W$506,16,0))","v":""},null,{"$f":"IF(AG52=\"\",\"\",VLOOKUP(AG52,[0]!Relais,2))","v":""},{"$f":"IF($A52=\"\",\"\",VLOOKUP($A52,INSCRITS!$D$4:$W$506,17,0))","v":""},null,{"$f":"IF(AJ52=\"\",\"\",VLOOKUP(AJ52,[0]!Relais,2))","v":""},{"$f":"IF($A52=\"\",\"\",VLOOKUP($A52,INSCRITS!$D$4:$W$506,18,0))","v":""},null,{"$f":"IF(AM52=\"\",\"\",VLOOKUP(AM52,[0]!Relais,2))","v":""},{"$f":"IF($A52=\"\",\"\",VLOOKUP($A52,INSCRITS!$D$4:$W$506,19,0))","v":""},null,{"$f":"IF(AP52=\"\",\"\",VLOOKUP(AP52,[0]!Relais,2))","v":""},0,0]
[null,{"$f":"IF($A53=\"\",\"\",VLOOKUP($A53,INSCRITS!$D$4:$W$501,2,0))","v":""},null,{"$f":"IF($A53=\"\",\"\",VLOOKUP($A53,INSCRITS!$D$4:$W$501,4,0))","v":""},{"$f":"IF($A53=\"\",\"\",VLOOKUP($A53,INSCRITS!$D$4:$W$501,5,0))","v":""},{"$f":"IF($A53=\"\",\"\",VLOOKUP($A53,INSCRITS!$D$4:$W$501,6,0))","v":""},{"$f":"IF($A53=\"\",\"\",VLOOKUP($A53,INSCRITS!$D$4:$W$501,7,0))","v":""},{"$f":"IF($A53=\"\",\"\",VLOOKUP($A53,INSCRITS!$D$4:$W$501,8,0))","v":""},{"$f":"IF($A53=\"\",\"\",VLOOKUP($A53,INSCRITS!$D$4:$W$501,9,0))","v":""},{"$f":"IF($A53=\"\",\"\",VLOOKUP($A53,INSCRITS!$D$4:$W$506,10,0))","v":""},{"$f":"IF(ISNA(VLOOKUP($A53,SPRINT!AD$7:AJ$50,6,0)),\"\",VLOOKUP($A53,SPRINT!AD$7:AJ$50,6,0))","v":""},{"$f":"IF(ISNA(VLOOKUP($A53,SPRINT!AD$7:AJ$50,7,0)),\"\",VLOOKUP($A53,SPRINT!AD$7:AJ$50,7,0))","v":""},{"$f":"IF($A53=\"\",\"\",VLOOKUP($A53,INSCRITS!$D$4:$W$506,11,0))","v":""},{"$f":"IF(ISNA(VLOOKUP($A53,BATONS!AD$7:AJ$51,6,0)),\"\",VLOOKUP($A53,BATONS!AD$7:AJ$51,6,0))","v":""},{"$f":"IF(ISNA(VLOOKUP($A53,BATONS!AD$7:AJ$51,7,0)),\"\",VLOOKUP($A53,BATONS!AD$7:AJ$51,7,0))","v":""},{"$f":"IF($A53=\"\",\"\",VLOOKUP($A53,INSCRITS!$D$4:$W$506,12,0))","v":""},{"$f":"IF(ISNA(VLOOKUP($A53,PLANCHE!AC$7:AI$52,6,0)),\"\",VLOOKUP($A53,PLANCHE!AC$7:AI$52,6,0))","v":""},{"$f":"IF(ISNA(VLOOKUP($A53,PLANCHE!AC$7:AI$52,7,0)),\"\",VLOOKUP($A53,PLANCHE!AC$7:AI$52,7,0))","v":""},{"$f":"IF($A53=\"\",\"\",VLOOKUP($A53,INSCRITS!$D$4:$W$506,13,0))","v":""},{"$f":"IF(ISNA(VLOOKUP($A53,NAGE!N$7:T$52,6,0)),\"\",VLOOKUP($A53,NAGE!N$7:T$52,6,0))","v":""},{"$f":"IF(ISNA(VLOOKUP($A53,NAGE!N$7:T$52,7,0)),\"\",VLOOKUP($A53,NAGE!N$7:T$52,7,0))","v":""},{"$f":"IF($A53=\"\",\"\",VLOOKUP($A53,INSCRITS!$D$4:$W$506,14,0))","v":""},{"$f":"IF(ISNA(VLOOKUP($A53,SURFSKI!AC$8:AI$53,6,0)),\"\",VLOOKUP($A53,SURFSKI!AC$8:AI$53,6,0))","v":""},{"$f":"IF(ISNA(VLOOKUP($A53,SURFSKI!AC$8:AI$53,7,0)),\"\",VLOOKUP($A53,SURFSKI!AC$8:AI$53,7,0))","v":""},{"$f":"IF($A53=\"\",\"\",VLOOKUP($A53,INSCRITS!$D$4:$W$506,15,0))","v":""},{"$f":"IF(ISNA(VLOOKUP($A53,OCEANMAN!AC$7:AI$52,6,0)),\"\",VLOOKUP($A53,OCEANMAN!AC$7:AI$52,6,0))","v":""},{"$f":"IF(ISNA(VLOOKUP($A53,OCEANMAN!AC$7:AI$52,7,0)),\"\",VLOOKUP($A53,OCEANMAN!AC$7:AI$52,7,0))","v":""},{"$f":"IF($A53=\"\",\"\",VLOOKUP($A53,INSCRITS!$D$4:$W$506,16,0))","v":""},{"$f":"IF(ISNA(VLOOKUP($A53,CNC!N$7:AC$52,6,0)),\"\",VLOOKUP($A53,CNC!N$7:AC$52,6,0))","v":""},{"$f":"IF(ISNA(VLOOKUP($A53,CNC!N$7:AC$52,7,0)),\"\",VLOOKUP($A53,CNC!N$7:AC$52,7,0))","v":""},0,{"$f":"IF($A53=\"\",\"\",VLOOKUP($A53,INSCRITS!$D$4:$W$506,16,0))","v":""},null,{"$f":"IF(AG53=\"\",\"\",VLOOKUP(AG53,[0]!Relais,2))","v":""},{"$f":"IF($A53=\"\",\"\",VLOOKUP($A53,INSCRITS!$D$4:$W$506,17,0))","v":""},null,{"$f":"IF(AJ53=\"\",\"\",VLOOKUP(AJ53,[0]!Relais,2))","v":""},{"$f":"IF($A53=\"\",\"\",VLOOKUP($A53,INSCRITS!$D$4:$W$506,18,0))","v":""},null,{"$f":"IF(AM53=\"\",\"\",VLOOKUP(AM53,[0]!Relais,2))","v":""},{"$f":"IF($A53=\"\",\"\",VLOOKUP($A53,INSCRITS!$D$4:$W$506,19,0))","v":""},null,{"$f":"IF(AP53=\"\",\"\",VLOOKUP(AP53,[0]!Relais,2))","v":""},0,0]
[null,{"$f":"IF($A54=\"\",\"\",VLOOKUP($A54,INSCRITS!$D$4:$W$501,2,0))","v":""},null,{"$f":"IF($A54=\"\",\"\",VLOOKUP($A54,INSCRITS!$D$4:$W$501,4,0))","v":""},{"$f":"IF($A54=\"\",\"\",VLOOKUP($A54,INSCRITS!$D$4:$W$501,5,0))","v":""},{"$f":"IF($A54=\"\",\"\",VLOOKUP($A54,INSCRITS!$D$4:$W$501,6,0))","v":""},{"$f":"IF($A54=\"\",\"\",VLOOKUP($A54,INSCRITS!$D$4:$W$501,7,0))","v":""},{"$f":"IF($A54=\"\",\"\",VLOOKUP($A54,INSCRITS!$D$4:$W$501,8,0))","v":""},{"$f":"IF($A54=\"\",\"\",VLOOKUP($A54,INSCRITS!$D$4:$W$501,9,0))","v":""},{"$f":"IF($A54=\"\",\"\",VLOOKUP($A54,INSCRITS!$D$4:$W$506,10,0))","v":""},{"$f":"IF(ISNA(VLOOKUP($A54,SPRINT!AD$7:AJ$50,6,0)),\"\",VLOOKUP($A54,SPRINT!AD$7:AJ$50,6,0))","v":""},{"$f":"IF(ISNA(VLOOKUP($A54,SPRINT!AD$7:AJ$50,7,0)),\"\",VLOOKUP($A54,SPRINT!AD$7:AJ$50,7,0))","v":""},{"$f":"IF($A54=\"\",\"\",VLOOKUP($A54,INSCRITS!$D$4:$W$506,11,0))","v":""},{"$f":"IF(ISNA(VLOOKUP($A54,BATONS!AD$7:AJ$51,6,0)),\"\",VLOOKUP($A54,BATONS!AD$7:AJ$51,6,0))","v":""},{"$f":"IF(ISNA(VLOOKUP($A54,BATONS!AD$7:AJ$51,7,0)),\"\",VLOOKUP($A54,BATONS!AD$7:AJ$51,7,0))","v":""},{"$f":"IF($A54=\"\",\"\",VLOOKUP($A54,INSCRITS!$D$4:$W$506,12,0))","v":""},{"$f":"IF(ISNA(VLOOKUP($A54,PLANCHE!AC$7:AI$52,6,0)),\"\",VLOOKUP($A54,PLANCHE!AC$7:AI$52,6,0))","v":""},{"$f":"IF(ISNA(VLOOKUP($A54,PLANCHE!AC$7:AI$52,7,0)),\"\",VLOOKUP($A54,PLANCHE!AC$7:AI$52,7,0))","v":""},{"$f":"IF($A54=\"\",\"\",VLOOKUP($A54,INSCRITS!$D$4:$W$506,13,0))","v":""},{"$f":"IF(ISNA(VLOOKUP($A54,NAGE!N$7:T$52,6,0)),\"\",VLOOKUP($A54,NAGE!N$7:T$52,6,0))","v":""},{"$f":"IF(ISNA(VLOOKUP($A54,NAGE!N$7:T$52,7,0)),\"\",VLOOKUP($A54,NAGE!N$7:T$52,7,0))","v":""},{"$f":"IF($A54=\"\",\"\",VLOOKUP($A54,INSCRITS!$D$4:$W$506,14,0))","v":""},{"$f":"IF(ISNA(VLOOKUP($A54,SURFSKI!AC$8:AI$53,6,0)),\"\",VLOOKUP($A54,SURFSKI!AC$8:AI$53,6,0))","v":""},{"$f":"IF(ISNA(VLOOKUP($A54,SURFSKI!AC$8:AI$53,7,0)),\"\",VLOOKUP($A54,SURFSKI!AC$8:AI$53,7,0))","v":""},{"$f":"IF($A54=\"\",\"\",VLOOKUP($A54,INSCRITS!$D$4:$W$506,15,0))","v":""},{"$f":"IF(ISNA(VLOOKUP($A54,OCEANMAN!AC$7:AI$52,6,0)),\"\",VLOOKUP($A54,OCEANMAN!AC$7:AI$52,6,0))","v":""},{"$f":"IF(ISNA(VLOOKUP($A54,OCEANMAN!AC$7:AI$52,7,0)),\"\",VLOOKUP($A54,OCEANMAN!AC$7:AI$52,7,0))","v":""},{"$f":"IF($A54=\"\",\"\",VLOOKUP($A54,INSCRITS!$D$4:$W$506,16,0))","v":""},{"$f":"IF(ISNA(VLOOKUP($A54,CNC!N$7:AC$52,6,0)),\"\",VLOOKUP($A54,CNC!N$7:AC$52,6,0))","v":""},{"$f":"IF(ISNA(VLOOKUP($A54,CNC!N$7:AC$52,7,0)),\"\",VLOOKUP($A54,CNC!N$7:AC$52,7,0))","v":""},0,{"$f":"IF($A54=\"\",\"\",VLOOKUP($A54,INSCRITS!$D$4:$W$506,16,0))","v":""},null,{"$f":"IF(AG54=\"\",\"\",VLOOKUP(AG54,[0]!Relais,2))","v":""},{"$f":"IF($A54=\"\",\"\",VLOOKUP($A54,INSCRITS!$D$4:$W$506,17,0))","v":""},null,{"$f":"IF(AJ54=\"\",\"\",VLOOKUP(AJ54,[0]!Relais,2))","v":""},{"$f":"IF($A54=\"\",\"\",VLOOKUP($A54,INSCRITS!$D$4:$W$506,18,0))","v":""},null,{"$f":"IF(AM54=\"\",\"\",VLOOKUP(AM54,[0]!Relais,2))","v":""},{"$f":"IF($A54=\"\",\"\",VLOOKUP($A54,INSCRITS!$D$4:$W$506,19,0))","v":""},null,{"$f":"IF(AP54=\"\",\"\",VLOOKUP(AP54,[0]!Relais,2))","v":""},0,0]
[null,{"$f":"IF($A55=\"\",\"\",VLOOKUP($A55,INSCRITS!$D$4:$W$501,2,0))","v":""},null,{"$f":"IF($A55=\"\",\"\",VLOOKUP($A55,INSCRITS!$D$4:$W$501,4,0))","v":""},{"$f":"IF($A55=\"\",\"\",VLOOKUP($A55,INSCRITS!$D$4:$W$501,5,0))","v":""},{"$f":"IF($A55=\"\",\"\",VLOOKUP($A55,INSCRITS!$D$4:$W$501,6,0))","v":""},{"$f":"IF($A55=\"\",\"\",VLOOKUP($A55,INSCRITS!$D$4:$W$501,7,0))","v":""},{"$f":"IF($A55=\"\",\"\",VLOOKUP($A55,INSCRITS!$D$4:$W$501,8,0))","v":""},{"$f":"IF($A55=\"\",\"\",VLOOKUP($A55,INSCRITS!$D$4:$W$501,9,0))","v":""},{"$f":"IF($A55=\"\",\"\",VLOOKUP($A55,INSCRITS!$D$4:$W$506,10,0))","v":""},{"$f":"IF(ISNA(VLOOKUP($A55,SPRINT!AD$7:AJ$50,6,0)),\"\",VLOOKUP($A55,SPRINT!AD$7:AJ$50,6,0))","v":""},{"$f":"IF(ISNA(VLOOKUP($A55,SPRINT!AD$7:AJ$50,7,0)),\"\",VLOOKUP($A55,SPRINT!AD$7:AJ$50,7,0))","v":""},{"$f":"IF($A55=\"\",\"\",VLOOKUP($A55,INSCRITS!$D$4:$W$506,11,0))","v":""},{"$f":"IF(ISNA(VLOOKUP($A55,BATONS!AD$7:AJ$51,6,0)),\"\",VLOOKUP($A55,BATONS!AD$7:AJ$51,6,0))","v":""},{"$f":"IF(ISNA(VLOOKUP($A55,BATONS!AD$7:AJ$51,7,0)),\"\",VLOOKUP($A55,BATONS!AD$7:AJ$51,7,0))","v":""},{"$f":"IF($A55=\"\",\"\",VLOOKUP($A55,INSCRITS!$D$4:$W$506,12,0))","v":""},{"$f":"IF(ISNA(VLOOKUP($A55,PLANCHE!AC$7:AI$52,6,0)),\"\",VLOOKUP($A55,PLANCHE!AC$7:AI$52,6,0))","v":""},{"$f":"IF(ISNA(VLOOKUP($A55,PLANCHE!AC$7:AI$52,7,0)),\"\",VLOOKUP($A55,PLANCHE!AC$7:AI$52,7,0))","v":""},{"$f":"IF($A55=\"\",\"\",VLOOKUP($A55,INSCRITS!$D$4:$W$506,13,0))","v":""},{"$f":"IF(ISNA(VLOOKUP($A55,NAGE!N$7:T$52,6,0)),\"\",VLOOKUP($A55,NAGE!N$7:T$52,6,0))","v":""},{"$f":"IF(ISNA(VLOOKUP($A55,NAGE!N$7:T$52,7,0)),\"\",VLOOKUP($A55,NAGE!N$7:T$52,7,0))","v":""},{"$f":"IF($A55=\"\",\"\",VLOOKUP($A55,INSCRITS!$D$4:$W$506,14,0))","v":""},{"$f":"IF(ISNA(VLOOKUP($A55,SURFSKI!AC$8:AI$53,6,0)),\"\",VLOOKUP($A55,SURFSKI!AC$8:AI$53,6,0))","v":""},{"$f":"IF(ISNA(VLOOKUP($A55,SURFSKI!AC$8:AI$53,7,0)),\"\",VLOOKUP($A55,SURFSKI!AC$8:AI$53,7,0))","v":""},{"$f":"IF($A55=\"\",\"\",VLOOKUP($A55,INSCRITS!$D$4:$W$506,15,0))","v":""},{"$f":"IF(ISNA(VLOOKUP($A55,OCEANMAN!AC$7:AI$52,6,0)),\"\",VLOOKUP($A55,OCEANMAN!AC$7:AI$52,6,0))","v":""},{"$f":"IF(ISNA(VLOOKUP($A55,OCEANMAN!AC$7:AI$52,7,0)),\"\",VLOOKUP($A55,OCEANMAN!AC$7:AI$52,7,0))","v":""},{"$f":"IF($A55=\"\",\"\",VLOOKUP($A55,INSCRITS!$D$4:$W$506,16,0))","v":""},{"$f":"IF(ISNA(VLOOKUP($A55,CNC!N$7:AC$52,6,0)),\"\",VLOOKUP($A55,CNC!N$7:AC$52,6,0))","v":""},{"$f":"IF(ISNA(VLOOKUP($A55,CNC!N$7:AC$52,7,0)),\"\",VLOOKUP($A55,CNC!N$7:AC$52,7,0))","v":""},0,{"$f":"IF($A55=\"\",\"\",VLOOKUP($A55,INSCRITS!$D$4:$W$506,16,0))","v":""},null,{"$f":"IF(AG55=\"\",\"\",VLOOKUP(AG55,[0]!Relais,2))","v":""},{"$f":"IF($A55=\"\",\"\",VLOOKUP($A55,INSCRITS!$D$4:$W$506,17,0))","v":""},null,{"$f":"IF(AJ55=\"\",\"\",VLOOKUP(AJ55,[0]!Relais,2))","v":""},{"$f":"IF($A55=\"\",\"\",VLOOKUP($A55,INSCRITS!$D$4:$W$506,18,0))","v":""},null,{"$f":"IF(AM55=\"\",\"\",VLOOKUP(AM55,[0]!Relais,2))","v":""},{"$f":"IF($A55=\"\",\"\",VLOOKUP($A55,INSCRITS!$D$4:$W$506,19,0))","v":""},null,{"$f":"IF(AP55=\"\",\"\",VLOOKUP(AP55,[0]!Relais,2))","v":""},0,0]
[null,{"$f":"IF($A56=\"\",\"\",VLOOKUP($A56,INSCRITS!$D$4:$W$501,2,0))","v":""},null,{"$f":"IF($A56=\"\",\"\",VLOOKUP($A56,INSCRITS!$D$4:$W$501,4,0))","v":""},{"$f":"IF($A56=\"\",\"\",VLOOKUP($A56,INSCRITS!$D$4:$W$501,5,0))","v":""},{"$f":"IF($A56=\"\",\"\",VLOOKUP($A56,INSCRITS!$D$4:$W$501,6,0))","v":""},{"$f":"IF($A56=\"\",\"\",VLOOKUP($A56,INSCRITS!$D$4:$W$501,7,0))","v":""},{"$f":"IF($A56=\"\",\"\",VLOOKUP($A56,INSCRITS!$D$4:$W$501,8,0))","v":""},{"$f":"IF($A56=\"\",\"\",VLOOKUP($A56,INSCRITS!$D$4:$W$501,9,0))","v":""},{"$f":"IF($A56=\"\",\"\",VLOOKUP($A56,INSCRITS!$D$4:$W$506,10,0))","v":""},{"$f":"IF(ISNA(VLOOKUP($A56,SPRINT!AD$7:AJ$50,6,0)),\"\",VLOOKUP($A56,SPRINT!AD$7:AJ$50,6,0))","v":""},{"$f":"IF(ISNA(VLOOKUP($A56,SPRINT!AD$7:AJ$50,7,0)),\"\",VLOOKUP($A56,SPRINT!AD$7:AJ$50,7,0))","v":""},{"$f":"IF($A56=\"\",\"\",VLOOKUP($A56,INSCRITS!$D$4:$W$506,11,0))","v":""},{"$f":"IF(ISNA(VLOOKUP($A56,BATONS!AD$7:AJ$51,6,0)),\"\",VLOOKUP($A56,BATONS!AD$7:AJ$51,6,0))","v":""},{"$f":"IF(ISNA(VLOOKUP($A56,BATONS!AD$7:AJ$51,7,0)),\"\",VLOOKUP($A56,BATONS!AD$7:AJ$51,7,0))","v":""},{"$f":"IF($A56=\"\",\"\",VLOOKUP($A56,INSCRITS!$D$4:$W$506,12,0))","v":""},{"$f":"IF(ISNA(VLOOKUP($A56,PLANCHE!AC$7:AI$52,6,0)),\"\",VLOOKUP($A56,PLANCHE!AC$7:AI$52,6,0))","v":""},{"$f":"IF(ISNA(VLOOKUP($A56,PLANCHE!AC$7:AI$52,7,0)),\"\",VLOOKUP($A56,PLANCHE!AC$7:AI$52,7,0))","v":""},{"$f":"IF($A56=\"\",\"\",VLOOKUP($A56,INSCRITS!$D$4:$W$506,13,0))","v":""},{"$f":"IF(ISNA(VLOOKUP($A56,NAGE!N$7:T$52,6,0)),\"\",VLOOKUP($A56,NAGE!N$7:T$52,6,0))","v":""},{"$f":"IF(ISNA(VLOOKUP($A56,NAGE!N$7:T$52,7,0)),\"\",VLOOKUP($A56,NAGE!N$7:T$52,7,0))","v":""},{"$f":"IF($A56=\"\",\"\",VLOOKUP($A56,INSCRITS!$D$4:$W$506,14,0))","v":""},{"$f":"IF(ISNA(VLOOKUP($A56,SURFSKI!AC$8:AI$53,6,0)),\"\",VLOOKUP($A56,SURFSKI!AC$8:AI$53,6,0))","v":""},{"$f":"IF(ISNA(VLOOKUP($A56,SURFSKI!AC$8:AI$53,7,0)),\"\",VLOOKUP($A56,SURFSKI!AC$8:AI$53,7,0))","v":""},{"$f":"IF($A56=\"\",\"\",VLOOKUP($A56,INSCRITS!$D$4:$W$506,15,0))","v":""},{"$f":"IF(ISNA(VLOOKUP($A56,OCEANMAN!AC$7:AI$52,6,0)),\"\",VLOOKUP($A56,OCEANMAN!AC$7:AI$52,6,0))","v":""},{"$f":"IF(ISNA(VLOOKUP($A56,OCEANMAN!AC$7:AI$52,7,0)),\"\",VLOOKUP($A56,OCEANMAN!AC$7:AI$52,7,0))","v":""},{"$f":"IF($A56=\"\",\"\",VLOOKUP($A56,INSCRITS!$D$4:$W$506,16,0))","v":""},{"$f":"IF(ISNA(VLOOKUP($A56,CNC!N$7:AC$52,6,0)),\"\",VLOOKUP($A56,CNC!N$7:AC$52,6,0))","v":""},{"$f":"IF(ISNA(VLOOKUP($A56,CNC!N$7:AC$52,7,0)),\"\",VLOOKUP($A56,CNC!N$7:AC$52,7,0))","v":""},0,{"$f":"IF($A56=\"\",\"\",VLOOKUP($A56,INSCRITS!$D$4:$W$506,16,0))","v":""},null,{"$f":"IF(AG56=\"\",\"\",VLOOKUP(AG56,[0]!Relais,2))","v":""},{"$f":"IF($A56=\"\",\"\",VLOOKUP($A56,INSCRITS!$D$4:$W$506,17,0))","v":""},null,{"$f":"IF(AJ56=\"\",\"\",VLOOKUP(AJ56,[0]!Relais,2))","v":""},{"$f":"IF($A56=\"\",\"\",VLOOKUP($A56,INSCRITS!$D$4:$W$506,18,0))","v":""},null,{"$f":"IF(AM56=\"\",\"\",VLOOKUP(AM56,[0]!Relais,2))","v":""},{"$f":"IF($A56=\"\",\"\",VLOOKUP($A56,INSCRITS!$D$4:$W$506,19,0))","v":""},null,{"$f":"IF(AP56=\"\",\"\",VLOOKUP(AP56,[0]!Relais,2))","v":""},0,0]
[null,{"$f":"IF($A57=\"\",\"\",VLOOKUP($A57,INSCRITS!$D$4:$W$501,2,0))","v":""},null,{"$f":"IF($A57=\"\",\"\",VLOOKUP($A57,INSCRITS!$D$4:$W$501,4,0))","v":""},{"$f":"IF($A57=\"\",\"\",VLOOKUP($A57,INSCRITS!$D$4:$W$501,5,0))","v":""},{"$f":"IF($A57=\"\",\"\",VLOOKUP($A57,INSCRITS!$D$4:$W$501,6,0))","v":""},{"$f":"IF($A57=\"\",\"\",VLOOKUP($A57,INSCRITS!$D$4:$W$501,7,0))","v":""},{"$f":"IF($A57=\"\",\"\",VLOOKUP($A57,INSCRITS!$D$4:$W$501,8,0))","v":""},{"$f":"IF($A57=\"\",\"\",VLOOKUP($A57,INSCRITS!$D$4:$W$501,9,0))","v":""},{"$f":"IF($A57=\"\",\"\",VLOOKUP($A57,INSCRITS!$D$4:$W$506,10,0))","v":""},{"$f":"IF(ISNA(VLOOKUP($A57,SPRINT!AD$7:AJ$50,6,0)),\"\",VLOOKUP($A57,SPRINT!AD$7:AJ$50,6,0))","v":""},{"$f":"IF(ISNA(VLOOKUP($A57,SPRINT!AD$7:AJ$50,7,0)),\"\",VLOOKUP($A57,SPRINT!AD$7:AJ$50,7,0))","v":""},{"$f":"IF($A57=\"\",\"\",VLOOKUP($A57,INSCRITS!$D$4:$W$506,11,0))","v":""},{"$f":"IF(ISNA(VLOOKUP($A57,BATONS!AD$7:AJ$51,6,0)),\"\",VLOOKUP($A57,BATONS!AD$7:AJ$51,6,0))","v":""},{"$f":"IF(ISNA(VLOOKUP($A57,BATONS!AD$7:AJ$51,7,0)),\"\",VLOOKUP($A57,BATONS!AD$7:AJ$51,7,0))","v":""},{"$f":"IF($A57=\"\",\"\",VLOOKUP($A57,INSCRITS!$D$4:$W$506,12,0))","v":""},{"$f":"IF(ISNA(VLOOKUP($A57,PLANCHE!AC$7:AI$52,6,0)),\"\",VLOOKUP($A57,PLANCHE!AC$7:AI$52,6,0))","v":""},{"$f":"IF(ISNA(VLOOKUP($A57,PLANCHE!AC$7:AI$52,7,0)),\"\",VLOOKUP($A57,PLANCHE!AC$7:AI$52,7,0))","v":""},{"$f":"IF($A57=\"\",\"\",VLOOKUP($A57,INSCRITS!$D$4:$W$506,13,0))","v":""},{"$f":"IF(ISNA(VLOOKUP($A57,NAGE!N$7:T$52,6,0)),\"\",VLOOKUP($A57,NAGE!N$7:T$52,6,0))","v":""},{"$f":"IF(ISNA(VLOOKUP($A57,NAGE!N$7:T$52,7,0)),\"\",VLOOKUP($A57,NAGE!N$7:T$52,7,0))","v":""},{"$f":"IF($A57=\"\",\"\",VLOOKUP($A57,INSCRITS!$D$4:$W$506,14,0))","v":""},{"$f":"IF(ISNA(VLOOKUP($A57,SURFSKI!AC$8:AI$53,6,0)),\"\",VLOOKUP($A57,SURFSKI!AC$8:AI$53,6,0))","v":""},{"$f":"IF(ISNA(VLOOKUP($A57,SURFSKI!AC$8:AI$53,7,0)),\"\",VLOOKUP($A57,SURFSKI!AC$8:AI$53,7,0))","v":""},{"$f":"IF($A57=\"\",\"\",VLOOKUP($A57,INSCRITS!$D$4:$W$506,15,0))","v":""},{"$f":"IF(ISNA(VLOOKUP($A57,OCEANMAN!AC$7:AI$52,6,0)),\"\",VLOOKUP($A57,OCEANMAN!AC$7:AI$52,6,0))","v":""},{"$f":"IF(ISNA(VLOOKUP($A57,OCEANMAN!AC$7:AI$52,7,0)),\"\",VLOOKUP($A57,OCEANMAN!AC$7:AI$52,7,0))","v":""},{"$f":"IF($A57=\"\",\"\",VLOOKUP($A57,INSCRITS!$D$4:$W$506,16,0))","v":""},{"$f":"IF(ISNA(VLOOKUP($A57,CNC!N$7:AC$52,6,0)),\"\",VLOOKUP($A57,CNC!N$7:AC$52,6,0))","v":""},{"$f":"IF(ISNA(VLOOKUP($A57,CNC!N$7:AC$52,7,0)),\"\",VLOOKUP($A57,CNC!N$7:AC$52,7,0))","v":""},0,{"$f":"IF($A57=\"\",\"\",VLOOKUP($A57,INSCRITS!$D$4:$W$506,16,0))","v":""},null,{"$f":"IF(AG57=\"\",\"\",VLOOKUP(AG57,[0]!Relais,2))","v":""},{"$f":"IF($A57=\"\",\"\",VLOOKUP($A57,INSCRITS!$D$4:$W$506,17,0))","v":""},null,{"$f":"IF(AJ57=\"\",\"\",VLOOKUP(AJ57,[0]!Relais,2))","v":""},{"$f":"IF($A57=\"\",\"\",VLOOKUP($A57,INSCRITS!$D$4:$W$506,18,0))","v":""},null,{"$f":"IF(AM57=\"\",\"\",VLOOKUP(AM57,[0]!Relais,2))","v":""},{"$f":"IF($A57=\"\",\"\",VLOOKUP($A57,INSCRITS!$D$4:$W$506,19,0))","v":""},null,{"$f":"IF(AP57=\"\",\"\",VLOOKUP(AP57,[0]!Relais,2))","v":""},0,0]
[null,{"$f":"IF($A58=\"\",\"\",VLOOKUP($A58,INSCRITS!$D$4:$W$501,2,0))","v":""},null,{"$f":"IF($A58=\"\",\"\",VLOOKUP($A58,INSCRITS!$D$4:$W$501,4,0))","v":""},{"$f":"IF($A58=\"\",\"\",VLOOKUP($A58,INSCRITS!$D$4:$W$501,5,0))","v":""},{"$f":"IF($A58=\"\",\"\",VLOOKUP($A58,INSCRITS!$D$4:$W$501,6,0))","v":""},{"$f":"IF($A58=\"\",\"\",VLOOKUP($A58,INSCRITS!$D$4:$W$501,7,0))","v":""},{"$f":"IF($A58=\"\",\"\",VLOOKUP($A58,INSCRITS!$D$4:$W$501,8,0))","v":""},{"$f":"IF($A58=\"\",\"\",VLOOKUP($A58,INSCRITS!$D$4:$W$501,9,0))","v":""},{"$f":"IF($A58=\"\",\"\",VLOOKUP($A58,INSCRITS!$D$4:$W$506,10,0))","v":""},{"$f":"IF(ISNA(VLOOKUP($A58,SPRINT!AD$7:AJ$50,6,0)),\"\",VLOOKUP($A58,SPRINT!AD$7:AJ$50,6,0))","v":""},{"$f":"IF(ISNA(VLOOKUP($A58,SPRINT!AD$7:AJ$50,7,0)),\"\",VLOOKUP($A58,SPRINT!AD$7:AJ$50,7,0))","v":""},{"$f":"IF($A58=\"\",\"\",VLOOKUP($A58,INSCRITS!$D$4:$W$506,11,0))","v":""},{"$f":"IF(ISNA(VLOOKUP($A58,BATONS!AD$7:AJ$51,6,0)),\"\",VLOOKUP($A58,BATONS!AD$7:AJ$51,6,0))","v":""},{"$f":"IF(ISNA(VLOOKUP($A58,BATONS!AD$7:AJ$51,7,0)),\"\",VLOOKUP($A58,BATONS!AD$7:AJ$51,7,0))","v":""},{"$f":"IF($A58=\"\",\"\",VLOOKUP($A58,INSCRITS!$D$4:$W$506,12,0))","v":""},{"$f":"IF(ISNA(VLOOKUP($A58,PLANCHE!AC$7:AI$52,6,0)),\"\",VLOOKUP($A58,PLANCHE!AC$7:AI$52,6,0))","v":""},{"$f":"IF(ISNA(VLOOKUP($A58,PLANCHE!AC$7:AI$52,7,0)),\"\",VLOOKUP($A58,PLANCHE!AC$7:AI$52,7,0))","v":""},{"$f":"IF($A58=\"\",\"\",VLOOKUP($A58,INSCRITS!$D$4:$W$506,13,0))","v":""},{"$f":"IF(ISNA(VLOOKUP($A58,NAGE!N$7:T$52,6,0)),\"\",VLOOKUP($A58,NAGE!N$7:T$52,6,0))","v":""},{"$f":"IF(ISNA(VLOOKUP($A58,NAGE!N$7:T$52,7,0)),\"\",VLOOKUP($A58,NAGE!N$7:T$52,7,0))","v":""},{"$f":"IF($A58=\"\",\"\",VLOOKUP($A58,INSCRITS!$D$4:$W$506,14,0))","v":""},{"$f":"IF(ISNA(VLOOKUP($A58,SURFSKI!AC$8:AI$53,6,0)),\"\",VLOOKUP($A58,SURFSKI!AC$8:AI$53,6,0))","v":""},{"$f":"IF(ISNA(VLOOKUP($A58,SURFSKI!AC$8:AI$53,7,0)),\"\",VLOOKUP($A58,SURFSKI!AC$8:AI$53,7,0))","v":""},{"$f":"IF($A58=\"\",\"\",VLOOKUP($A58,INSCRITS!$D$4:$W$506,15,0))","v":""},{"$f":"IF(ISNA(VLOOKUP($A58,OCEANMAN!AC$7:AI$52,6,0)),\"\",VLOOKUP($A58,OCEANMAN!AC$7:AI$52,6,0))","v":""},{"$f":"IF(ISNA(VLOOKUP($A58,OCEANMAN!AC$7:AI$52,7,0)),\"\",VLOOKUP($A58,OCEANMAN!AC$7:AI$52,7,0))","v":""},{"$f":"IF($A58=\"\",\"\",VLOOKUP($A58,INSCRITS!$D$4:$W$506,16,0))","v":""},{"$f":"IF(ISNA(VLOOKUP($A58,CNC!N$7:AC$52,6,0)),\"\",VLOOKUP($A58,CNC!N$7:AC$52,6,0))","v":""},{"$f":"IF(ISNA(VLOOKUP($A58,CNC!N$7:AC$52,7,0)),\"\",VLOOKUP($A58,CNC!N$7:AC$52,7,0))","v":""},0,{"$f":"IF($A58=\"\",\"\",VLOOKUP($A58,INSCRITS!$D$4:$W$506,16,0))","v":""},null,{"$f":"IF(AG58=\"\",\"\",VLOOKUP(AG58,[0]!Relais,2))","v":""},{"$f":"IF($A58=\"\",\"\",VLOOKUP($A58,INSCRITS!$D$4:$W$506,17,0))","v":""},null,{"$f":"IF(AJ58=\"\",\"\",VLOOKUP(AJ58,[0]!Relais,2))","v":""},{"$f":"IF($A58=\"\",\"\",VLOOKUP($A58,INSCRITS!$D$4:$W$506,18,0))","v":""},null,{"$f":"IF(AM58=\"\",\"\",VLOOKUP(AM58,[0]!Relais,2))","v":""},{"$f":"IF($A58=\"\",\"\",VLOOKUP($A58,INSCRITS!$D$4:$W$506,19,0))","v":""},null,{"$f":"IF(AP58=\"\",\"\",VLOOKUP(AP58,[0]!Relais,2))","v":""},0,0]
[null,{"$f":"IF($A59=\"\",\"\",VLOOKUP($A59,INSCRITS!$D$4:$W$501,2,0))","v":""},null,{"$f":"IF($A59=\"\",\"\",VLOOKUP($A59,INSCRITS!$D$4:$W$501,4,0))","v":""},{"$f":"IF($A59=\"\",\"\",VLOOKUP($A59,INSCRITS!$D$4:$W$501,5,0))","v":""},{"$f":"IF($A59=\"\",\"\",VLOOKUP($A59,INSCRITS!$D$4:$W$501,6,0))","v":""},{"$f":"IF($A59=\"\",\"\",VLOOKUP($A59,INSCRITS!$D$4:$W$501,7,0))","v":""},{"$f":"IF($A59=\"\",\"\",VLOOKUP($A59,INSCRITS!$D$4:$W$501,8,0))","v":""},{"$f":"IF($A59=\"\",\"\",VLOOKUP($A59,INSCRITS!$D$4:$W$501,9,0))","v":""},{"$f":"IF($A59=\"\",\"\",VLOOKUP($A59,INSCRITS!$D$4:$W$506,10,0))","v":""},{"$f":"IF(ISNA(VLOOKUP($A59,SPRINT!AD$7:AJ$50,6,0)),\"\",VLOOKUP($A59,SPRINT!AD$7:AJ$50,6,0))","v":""},{"$f":"IF(ISNA(VLOOKUP($A59,SPRINT!AD$7:AJ$50,7,0)),\"\",VLOOKUP($A59,SPRINT!AD$7:AJ$50,7,0))","v":""},{"$f":"IF($A59=\"\",\"\",VLOOKUP($A59,INSCRITS!$D$4:$W$506,11,0))","v":""},{"$f":"IF(ISNA(VLOOKUP($A59,BATONS!AD$7:AJ$51,6,0)),\"\",VLOOKUP($A59,BATONS!AD$7:AJ$51,6,0))","v":""},{"$f":"IF(ISNA(VLOOKUP($A59,BATONS!AD$7:AJ$51,7,0)),\"\",VLOOKUP($A59,BATONS!AD$7:AJ$51,7,0))","v":""},{"$f":"IF($A59=\"\",\"\",VLOOKUP($A59,INSCRITS!$D$4:$W$506,12,0))","v":""},{"$f":"IF(ISNA(VLOOKUP($A59,PLANCHE!AC$7:AI$52,6,0)),\"\",VLOOKUP($A59,PLANCHE!AC$7:AI$52,6,0))","v":""},{"$f":"IF(ISNA(VLOOKUP($A59,PLANCHE!AC$7:AI$52,7,0)),\"\",VLOOKUP($A59,PLANCHE!AC$7:AI$52,7,0))","v":""},{"$f":"IF($A59=\"\",\"\",VLOOKUP($A59,INSCRITS!$D$4:$W$506,13,0))","v":""},{"$f":"IF(ISNA(VLOOKUP($A59,NAGE!N$7:T$52,6,0)),\"\",VLOOKUP($A59,NAGE!N$7:T$52,6,0))","v":""},{"$f":"IF(ISNA(VLOOKUP($A59,NAGE!N$7:T$52,7,0)),\"\",VLOOKUP($A59,NAGE!N$7:T$52,7,0))","v":""},{"$f":"IF($A59=\"\",\"\",VLOOKUP($A59,INSCRITS!$D$4:$W$506,14,0))","v":""},{"$f":"IF(ISNA(VLOOKUP($A59,SURFSKI!AC$8:AI$53,6,0)),\"\",VLOOKUP($A59,SURFSKI!AC$8:AI$53,6,0))","v":""},{"$f":"IF(ISNA(VLOOKUP($A59,SURFSKI!AC$8:AI$53,7,0)),\"\",VLOOKUP($A59,SURFSKI!AC$8:AI$53,7,0))","v":""},{"$f":"IF($A59=\"\",\"\",VLOOKUP($A59,INSCRITS!$D$4:$W$506,15,0))","v":""},{"$f":"IF(ISNA(VLOOKUP($A59,OCEANMAN!AC$7:AI$52,6,0)),\"\",VLOOKUP($A59,OCEANMAN!AC$7:AI$52,6,0))","v":""},{"$f":"IF(ISNA(VLOOKUP($A59,OCEANMAN!AC$7:AI$52,7,0)),\"\",VLOOKUP($A59,OCEANMAN!AC$7:AI$52,7,0))","v":""},{"$f":"IF($A59=\"\",\"\",VLOOKUP($A59,INSCRITS!$D$4:$W$506,16,0))","v":""},{"$f":"IF(ISNA(VLOOKUP($A59,CNC!N$7:AC$52,6,0)),\"\",VLOOKUP($A59,CNC!N$7:AC$52,6,0))","v":""},{"$f":"IF(ISNA(VLOOKUP($A59,CNC!N$7:AC$52,7,0)),\"\",VLOOKUP($A59,CNC!N$7:AC$52,7,0))","v":""},0,{"$f":"IF($A59=\"\",\"\",VLOOKUP($A59,INSCRITS!$D$4:$W$506,16,0))","v":""},null,{"$f":"IF(AG59=\"\",\"\",VLOOKUP(AG59,[0]!Relais,2))","v":""},{"$f":"IF($A59=\"\",\"\",VLOOKUP($A59,INSCRITS!$D$4:$W$506,17,0))","v":""},null,{"$f":"IF(AJ59=\"\",\"\",VLOOKUP(AJ59,[0]!Relais,2))","v":""},{"$f":"IF($A59=\"\",\"\",VLOOKUP($A59,INSCRITS!$D$4:$W$506,18,0))","v":""},null,{"$f":"IF(AM59=\"\",\"\",VLOOKUP(AM59,[0]!Relais,2))","v":""},{"$f":"IF($A59=\"\",\"\",VLOOKUP($A59,INSCRITS!$D$4:$W$506,19,0))","v":""},null,{"$f":"IF(AP59=\"\",\"\",VLOOKUP(AP59,[0]!Relais,2))","v":""},0,0]
[null,{"$f":"IF($A60=\"\",\"\",VLOOKUP($A60,INSCRITS!$D$4:$W$501,2,0))","v":""},null,{"$f":"IF($A60=\"\",\"\",VLOOKUP($A60,INSCRITS!$D$4:$W$501,4,0))","v":""},{"$f":"IF($A60=\"\",\"\",VLOOKUP($A60,INSCRITS!$D$4:$W$501,5,0))","v":""},{"$f":"IF($A60=\"\",\"\",VLOOKUP($A60,INSCRITS!$D$4:$W$501,6,0))","v":""},{"$f":"IF($A60=\"\",\"\",VLOOKUP($A60,INSCRITS!$D$4:$W$501,7,0))","v":""},{"$f":"IF($A60=\"\",\"\",VLOOKUP($A60,INSCRITS!$D$4:$W$501,8,0))","v":""},{"$f":"IF($A60=\"\",\"\",VLOOKUP($A60,INSCRITS!$D$4:$W$501,9,0))","v":""},{"$f":"IF($A60=\"\",\"\",VLOOKUP($A60,INSCRITS!$D$4:$W$506,10,0))","v":""},{"$f":"IF(ISNA(VLOOKUP($A60,SPRINT!AD$7:AJ$50,6,0)),\"\",VLOOKUP($A60,SPRINT!AD$7:AJ$50,6,0))","v":""},{"$f":"IF(ISNA(VLOOKUP($A60,SPRINT!AD$7:AJ$50,7,0)),\"\",VLOOKUP($A60,SPRINT!AD$7:AJ$50,7,0))","v":""},{"$f":"IF($A60=\"\",\"\",VLOOKUP($A60,INSCRITS!$D$4:$W$506,11,0))","v":""},{"$f":"IF(ISNA(VLOOKUP($A60,BATONS!AD$7:AJ$51,6,0)),\"\",VLOOKUP($A60,BATONS!AD$7:AJ$51,6,0))","v":""},{"$f":"IF(ISNA(VLOOKUP($A60,BATONS!AD$7:AJ$51,7,0)),\"\",VLOOKUP($A60,BATONS!AD$7:AJ$51,7,0))","v":""},{"$f":"IF($A60=\"\",\"\",VLOOKUP($A60,INSCRITS!$D$4:$W$506,12,0))","v":""},{"$f":"IF(ISNA(VLOOKUP($A60,PLANCHE!AC$7:AI$52,6,0)),\"\",VLOOKUP($A60,PLANCHE!AC$7:AI$52,6,0))","v":""},{"$f":"IF(ISNA(VLOOKUP($A60,PLANCHE!AC$7:AI$52,7,0)),\"\",VLOOKUP($A60,PLANCHE!AC$7:AI$52,7,0))","v":""},{"$f":"IF($A60=\"\",\"\",VLOOKUP($A60,INSCRITS!$D$4:$W$506,13,0))","v":""},{"$f":"IF(ISNA(VLOOKUP($A60,NAGE!N$7:T$52,6,0)),\"\",VLOOKUP($A60,NAGE!N$7:T$52,6,0))","v":""},{"$f":"IF(ISNA(VLOOKUP($A60,NAGE!N$7:T$52,7,0)),\"\",VLOOKUP($A60,NAGE!N$7:T$52,7,0))","v":""},{"$f":"IF($A60=\"\",\"\",VLOOKUP($A60,INSCRITS!$D$4:$W$506,14,0))","v":""},{"$f":"IF(ISNA(VLOOKUP($A60,SURFSKI!AC$8:AI$53,6,0)),\"\",VLOOKUP($A60,SURFSKI!AC$8:AI$53,6,0))","v":""},{"$f":"IF(ISNA(VLOOKUP($A60,SURFSKI!AC$8:AI$53,7,0)),\"\",VLOOKUP($A60,SURFSKI!AC$8:AI$53,7,0))","v":""},{"$f":"IF($A60=\"\",\"\",VLOOKUP($A60,INSCRITS!$D$4:$W$506,15,0))","v":""},{"$f":"IF(ISNA(VLOOKUP($A60,OCEANMAN!AC$7:AI$52,6,0)),\"\",VLOOKUP($A60,OCEANMAN!AC$7:AI$52,6,0))","v":""},{"$f":"IF(ISNA(VLOOKUP($A60,OCEANMAN!AC$7:AI$52,7,0)),\"\",VLOOKUP($A60,OCEANMAN!AC$7:AI$52,7,0))","v":""},{"$f":"IF($A60=\"\",\"\",VLOOKUP($A60,INSCRITS!$D$4:$W$506,16,0))","v":""},{"$f":"IF(ISNA(VLOOKUP($A60,CNC!N$7:AC$52,6,0)),\"\",VLOOKUP($A60,CNC!N$7:AC$52,6,0))","v":""},{"$f":"IF(ISNA(VLOOKUP($A60,CNC!N$7:AC$52,7,0)),\"\",VLOOKUP($A60,CNC!N$7:AC$52,7,0))","v":""},0,{"$f":"IF($A60=\"\",\"\",VLOOKUP($A60,INSCRITS!$D$4:$W$506,16,0))","v":""},null,{"$f":"IF(AG60=\"\",\"\",VLOOKUP(AG60,[0]!Relais,2))","v":""},{"$f":"IF($A60=\"\",\"\",VLOOKUP($A60,INSCRITS!$D$4:$W$506,17,0))","v":""},null,{"$f":"IF(AJ60=\"\",\"\",VLOOKUP(AJ60,[0]!Relais,2))","v":""},{"$f":"IF($A60=\"\",\"\",VLOOKUP($A60,INSCRITS!$D$4:$W$506,18,0))","v":""},null,{"$f":"IF(AM60=\"\",\"\",VLOOKUP(AM60,[0]!Relais,2))","v":""},{"$f":"IF($A60=\"\",\"\",VLOOKUP($A60,INSCRITS!$D$4:$W$506,19,0))","v":""},null,{"$f":"IF(AP60=\"\",\"\",VLOOKUP(AP60,[0]!Relais,2))","v":""},0,0]
[null,{"$f":"IF($A61=\"\",\"\",VLOOKUP($A61,INSCRITS!$D$4:$W$501,2,0))","v":""},null,{"$f":"IF($A61=\"\",\"\",VLOOKUP($A61,INSCRITS!$D$4:$W$501,4,0))","v":""},{"$f":"IF($A61=\"\",\"\",VLOOKUP($A61,INSCRITS!$D$4:$W$501,5,0))","v":""},{"$f":"IF($A61=\"\",\"\",VLOOKUP($A61,INSCRITS!$D$4:$W$501,6,0))","v":""},{"$f":"IF($A61=\"\",\"\",VLOOKUP($A61,INSCRITS!$D$4:$W$501,7,0))","v":""},{"$f":"IF($A61=\"\",\"\",VLOOKUP($A61,INSCRITS!$D$4:$W$501,8,0))","v":""},{"$f":"IF($A61=\"\",\"\",VLOOKUP($A61,INSCRITS!$D$4:$W$501,9,0))","v":""},{"$f":"IF($A61=\"\",\"\",VLOOKUP($A61,INSCRITS!$D$4:$W$506,10,0))","v":""},{"$f":"IF(ISNA(VLOOKUP($A61,SPRINT!AD$7:AJ$50,6,0)),\"\",VLOOKUP($A61,SPRINT!AD$7:AJ$50,6,0))","v":""},{"$f":"IF(ISNA(VLOOKUP($A61,SPRINT!AD$7:AJ$50,7,0)),\"\",VLOOKUP($A61,SPRINT!AD$7:AJ$50,7,0))","v":""},{"$f":"IF($A61=\"\",\"\",VLOOKUP($A61,INSCRITS!$D$4:$W$506,11,0))","v":""},{"$f":"IF(ISNA(VLOOKUP($A61,BATONS!AD$7:AJ$51,6,0)),\"\",VLOOKUP($A61,BATONS!AD$7:AJ$51,6,0))","v":""},{"$f":"IF(ISNA(VLOOKUP($A61,BATONS!AD$7:AJ$51,7,0)),\"\",VLOOKUP($A61,BATONS!AD$7:AJ$51,7,0))","v":""},{"$f":"IF($A61=\"\",\"\",VLOOKUP($A61,INSCRITS!$D$4:$W$506,12,0))","v":""},{"$f":"IF(ISNA(VLOOKUP($A61,PLANCHE!AC$7:AI$52,6,0)),\"\",VLOOKUP($A61,PLANCHE!AC$7:AI$52,6,0))","v":""},{"$f":"IF(ISNA(VLOOKUP($A61,PLANCHE!AC$7:AI$52,7,0)),\"\",VLOOKUP($A61,PLANCHE!AC$7:AI$52,7,0))","v":""},{"$f":"IF($A61=\"\",\"\",VLOOKUP($A61,INSCRITS!$D$4:$W$506,13,0))","v":""},{"$f":"IF(ISNA(VLOOKUP($A61,NAGE!N$7:T$52,6,0)),\"\",VLOOKUP($A61,NAGE!N$7:T$52,6,0))","v":""},{"$f":"IF(ISNA(VLOOKUP($A61,NAGE!N$7:T$52,7,0)),\"\",VLOOKUP($A61,NAGE!N$7:T$52,7,0))","v":""},{"$f":"IF($A61=\"\",\"\",VLOOKUP($A61,INSCRITS!$D$4:$W$506,14,0))","v":""},{"$f":"IF(ISNA(VLOOKUP($A61,SURFSKI!AC$8:AI$53,6,0)),\"\",VLOOKUP($A61,SURFSKI!AC$8:AI$53,6,0))","v":""},{"$f":"IF(ISNA(VLOOKUP($A61,SURFSKI!AC$8:AI$53,7,0)),\"\",VLOOKUP($A61,SURFSKI!AC$8:AI$53,7,0))","v":""},{"$f":"IF($A61=\"\",\"\",VLOOKUP($A61,INSCRITS!$D$4:$W$506,15,0))","v":""},{"$f":"IF(ISNA(VLOOKUP($A61,OCEANMAN!AC$7:AI$52,6,0)),\"\",VLOOKUP($A61,OCEANMAN!AC$7:AI$52,6,0))","v":""},{"$f":"IF(ISNA(VLOOKUP($A61,OCEANMAN!AC$7:AI$52,7,0)),\"\",VLOOKUP($A61,OCEANMAN!AC$7:AI$52,7,0))","v":""},{"$f":"IF($A61=\"\",\"\",VLOOKUP($A61,INSCRITS!$D$4:$W$506,16,0))","v":""},{"$f":"IF(ISNA(VLOOKUP($A61,CNC!N$7:AC$52,6,0)),\"\",VLOOKUP($A61,CNC!N$7:AC$52,6,0))","v":""},{"$f":"IF(ISNA(VLOOKUP($A61,CNC!N$7:AC$52,7,0)),\"\",VLOOKUP($A61,CNC!N$7:AC$52,7,0))","v":""},0,{"$f":"IF($A61=\"\",\"\",VLOOKUP($A61,INSCRITS!$D$4:$W$506,16,0))","v":""},null,{"$f":"IF(AG61=\"\",\"\",VLOOKUP(AG61,[0]!Relais,2))","v":""},{"$f":"IF($A61=\"\",\"\",VLOOKUP($A61,INSCRITS!$D$4:$W$506,17,0))","v":""},null,{"$f":"IF(AJ61=\"\",\"\",VLOOKUP(AJ61,[0]!Relais,2))","v":""},{"$f":"IF($A61=\"\",\"\",VLOOKUP($A61,INSCRITS!$D$4:$W$506,18,0))","v":""},null,{"$f":"IF(AM61=\"\",\"\",VLOOKUP(AM61,[0]!Relais,2))","v":""},{"$f":"IF($A61=\"\",\"\",VLOOKUP($A61,INSCRITS!$D$4:$W$506,19,0))","v":""},null,{"$f":"IF(AP61=\"\",\"\",VLOOKUP(AP61,[0]!Relais,2))","v":""},0,0]
[null,{"$f":"IF($A62=\"\",\"\",VLOOKUP($A62,INSCRITS!$D$4:$W$501,2,0))","v":""},null,{"$f":"IF($A62=\"\",\"\",VLOOKUP($A62,INSCRITS!$D$4:$W$501,4,0))","v":""},{"$f":"IF($A62=\"\",\"\",VLOOKUP($A62,INSCRITS!$D$4:$W$501,5,0))","v":""},{"$f":"IF($A62=\"\",\"\",VLOOKUP($A62,INSCRITS!$D$4:$W$501,6,0))","v":""},{"$f":"IF($A62=\"\",\"\",VLOOKUP($A62,INSCRITS!$D$4:$W$501,7,0))","v":""},{"$f":"IF($A62=\"\",\"\",VLOOKUP($A62,INSCRITS!$D$4:$W$501,8,0))","v":""},{"$f":"IF($A62=\"\",\"\",VLOOKUP($A62,INSCRITS!$D$4:$W$501,9,0))","v":""},{"$f":"IF($A62=\"\",\"\",VLOOKUP($A62,INSCRITS!$D$4:$W$506,10,0))","v":""},{"$f":"IF(ISNA(VLOOKUP($A62,SPRINT!AD$7:AJ$50,6,0)),\"\",VLOOKUP($A62,SPRINT!AD$7:AJ$50,6,0))","v":""},{"$f":"IF(ISNA(VLOOKUP($A62,SPRINT!AD$7:AJ$50,7,0)),\"\",VLOOKUP($A62,SPRINT!AD$7:AJ$50,7,0))","v":""},{"$f":"IF($A62=\"\",\"\",VLOOKUP($A62,INSCRITS!$D$4:$W$506,11,0))","v":""},{"$f":"IF(ISNA(VLOOKUP($A62,BATONS!AD$7:AJ$51,6,0)),\"\",VLOOKUP($A62,BATONS!AD$7:AJ$51,6,0))","v":""},{"$f":"IF(ISNA(VLOOKUP($A62,BATONS!AD$7:AJ$51,7,0)),\"\",VLOOKUP($A62,BATONS!AD$7:AJ$51,7,0))","v":""},{"$f":"IF($A62=\"\",\"\",VLOOKUP($A62,INSCRITS!$D$4:$W$506,12,0))","v":""},{"$f":"IF(ISNA(VLOOKUP($A62,PLANCHE!AC$7:AI$52,6,0)),\"\",VLOOKUP($A62,PLANCHE!AC$7:AI$52,6,0))","v":""},{"$f":"IF(ISNA(VLOOKUP($A62,PLANCHE!AC$7:AI$52,7,0)),\"\",VLOOKUP($A62,PLANCHE!AC$7:AI$52,7,0))","v":""},{"$f":"IF($A62=\"\",\"\",VLOOKUP($A62,INSCRITS!$D$4:$W$506,13,0))","v":""},{"$f":"IF(ISNA(VLOOKUP($A62,NAGE!N$7:T$52,6,0)),\"\",VLOOKUP($A62,NAGE!N$7:T$52,6,0))","v":""},{"$f":"IF(ISNA(VLOOKUP($A62,NAGE!N$7:T$52,7,0)),\"\",VLOOKUP($A62,NAGE!N$7:T$52,7,0))","v":""},{"$f":"IF($A62=\"\",\"\",VLOOKUP($A62,INSCRITS!$D$4:$W$506,14,0))","v":""},{"$f":"IF(ISNA(VLOOKUP($A62,SURFSKI!AC$8:AI$53,6,0)),\"\",VLOOKUP($A62,SURFSKI!AC$8:AI$53,6,0))","v":""},{"$f":"IF(ISNA(VLOOKUP($A62,SURFSKI!AC$8:AI$53,7,0)),\"\",VLOOKUP($A62,SURFSKI!AC$8:AI$53,7,0))","v":""},{"$f":"IF($A62=\"\",\"\",VLOOKUP($A62,INSCRITS!$D$4:$W$506,15,0))","v":""},{"$f":"IF(ISNA(VLOOKUP($A62,OCEANMAN!AC$7:AI$52,6,0)),\"\",VLOOKUP($A62,OCEANMAN!AC$7:AI$52,6,0))","v":""},{"$f":"IF(ISNA(VLOOKUP($A62,OCEANMAN!AC$7:AI$52,7,0)),\"\",VLOOKUP($A62,OCEANMAN!AC$7:AI$52,7,0))","v":""},{"$f":"IF($A62=\"\",\"\",VLOOKUP($A62,INSCRITS!$D$4:$W$506,16,0))","v":""},{"$f":"IF(ISNA(VLOOKUP($A62,CNC!N$7:AC$52,6,0)),\"\",VLOOKUP($A62,CNC!N$7:AC$52,6,0))","v":""},{"$f":"IF(ISNA(VLOOKUP($A62,CNC!N$7:AC$52,7,0)),\"\",VLOOKUP($A62,CNC!N$7:AC$52,7,0))","v":""},0,{"$f":"IF($A62=\"\",\"\",VLOOKUP($A62,INSCRITS!$D$4:$W$506,16,0))","v":""},null,{"$f":"IF(AG62=\"\",\"\",VLOOKUP(AG62,[0]!Relais,2))","v":""},{"$f":"IF($A62=\"\",\"\",VLOOKUP($A62,INSCRITS!$D$4:$W$506,17,0))","v":""},null,{"$f":"IF(AJ62=\"\",\"\",VLOOKUP(AJ62,[0]!Relais,2))","v":""},{"$f":"IF($A62=\"\",\"\",VLOOKUP($A62,INSCRITS!$D$4:$W$506,18,0))","v":""},null,{"$f":"IF(AM62=\"\",\"\",VLOOKUP(AM62,[0]!Relais,2))","v":""},{"$f":"IF($A62=\"\",\"\",VLOOKUP($A62,INSCRITS!$D$4:$W$506,19,0))","v":""},null,{"$f":"IF(AP62=\"\",\"\",VLOOKUP(AP62,[0]!Relais,2))","v":""},0,0]
[null,{"$f":"IF($A63=\"\",\"\",VLOOKUP($A63,INSCRITS!$D$4:$W$501,2,0))","v":""},null,{"$f":"IF($A63=\"\",\"\",VLOOKUP($A63,INSCRITS!$D$4:$W$501,4,0))","v":""},{"$f":"IF($A63=\"\",\"\",VLOOKUP($A63,INSCRITS!$D$4:$W$501,5,0))","v":""},{"$f":"IF($A63=\"\",\"\",VLOOKUP($A63,INSCRITS!$D$4:$W$501,6,0))","v":""},{"$f":"IF($A63=\"\",\"\",VLOOKUP($A63,INSCRITS!$D$4:$W$501,7,0))","v":""},{"$f":"IF($A63=\"\",\"\",VLOOKUP($A63,INSCRITS!$D$4:$W$501,8,0))","v":""},{"$f":"IF($A63=\"\",\"\",VLOOKUP($A63,INSCRITS!$D$4:$W$501,9,0))","v":""},{"$f":"IF($A63=\"\",\"\",VLOOKUP($A63,INSCRITS!$D$4:$W$506,10,0))","v":""},{"$f":"IF(ISNA(VLOOKUP($A63,SPRINT!AD$7:AJ$50,6,0)),\"\",VLOOKUP($A63,SPRINT!AD$7:AJ$50,6,0))","v":""},{"$f":"IF(ISNA(VLOOKUP($A63,SPRINT!AD$7:AJ$50,7,0)),\"\",VLOOKUP($A63,SPRINT!AD$7:AJ$50,7,0))","v":""},{"$f":"IF($A63=\"\",\"\",VLOOKUP($A63,INSCRITS!$D$4:$W$506,11,0))","v":""},{"$f":"IF(ISNA(VLOOKUP($A63,BATONS!AD$7:AJ$51,6,0)),\"\",VLOOKUP($A63,BATONS!AD$7:AJ$51,6,0))","v":""},{"$f":"IF(ISNA(VLOOKUP($A63,BATONS!AD$7:AJ$51,7,0)),\"\",VLOOKUP($A63,BATONS!AD$7:AJ$51,7,0))","v":""},{"$f":"IF($A63=\"\",\"\",VLOOKUP($A63,INSCRITS!$D$4:$W$506,12,0))","v":""},{"$f":"IF(ISNA(VLOOKUP($A63,PLANCHE!AC$7:AI$52,6,0)),\"\",VLOOKUP($A63,PLANCHE!AC$7:AI$52,6,0))","v":""},{"$f":"IF(ISNA(VLOOKUP($A63,PLANCHE!AC$7:AI$52,7,0)),\"\",VLOOKUP($A63,PLANCHE!AC$7:AI$52,7,0))","v":""},{"$f":"IF($A63=\"\",\"\",VLOOKUP($A63,INSCRITS!$D$4:$W$506,13,0))","v":""},{"$f":"IF(ISNA(VLOOKUP($A63,NAGE!N$7:T$52,6,0)),\"\",VLOOKUP($A63,NAGE!N$7:T$52,6,0))","v":""},{"$f":"IF(ISNA(VLOOKUP($A63,NAGE!N$7:T$52,7,0)),\"\",VLOOKUP($A63,NAGE!N$7:T$52,7,0))","v":""},{"$f":"IF($A63=\"\",\"\",VLOOKUP($A63,INSCRITS!$D$4:$W$506,14,0))","v":""},{"$f":"IF(ISNA(VLOOKUP($A63,SURFSKI!AC$8:AI$53,6,0)),\"\",VLOOKUP($A63,SURFSKI!AC$8:AI$53,6,0))","v":""},{"$f":"IF(ISNA(VLOOKUP($A63,SURFSKI!AC$8:AI$53,7,0)),\"\",VLOOKUP($A63,SURFSKI!AC$8:AI$53,7,0))","v":""},{"$f":"IF($A63=\"\",\"\",VLOOKUP($A63,INSCRITS!$D$4:$W$506,15,0))","v":""},{"$f":"IF(ISNA(VLOOKUP($A63,OCEANMAN!AC$7:AI$52,6,0)),\"\",VLOOKUP($A63,OCEANMAN!AC$7:AI$52,6,0))","v":""},{"$f":"IF(ISNA(VLOOKUP($A63,OCEANMAN!AC$7:AI$52,7,0)),\"\",VLOOKUP($A63,OCEANMAN!AC$7:AI$52,7,0))","v":""},{"$f":"IF($A63=\"\",\"\",VLOOKUP($A63,INSCRITS!$D$4:$W$506,16,0))","v":""},{"$f":"IF(ISNA(VLOOKUP($A63,CNC!N$7:AC$52,6,0)),\"\",VLOOKUP($A63,CNC!N$7:AC$52,6,0))","v":""},{"$f":"IF(ISNA(VLOOKUP($A63,CNC!N$7:AC$52,7,0)),\"\",VLOOKUP($A63,CNC!N$7:AC$52,7,0))","v":""},0,{"$f":"IF($A63=\"\",\"\",VLOOKUP($A63,INSCRITS!$D$4:$W$506,16,0))","v":""},null,{"$f":"IF(AG63=\"\",\"\",VLOOKUP(AG63,[0]!Relais,2))","v":""},{"$f":"IF($A63=\"\",\"\",VLOOKUP($A63,INSCRITS!$D$4:$W$506,17,0))","v":""},null,{"$f":"IF(AJ63=\"\",\"\",VLOOKUP(AJ63,[0]!Relais,2))","v":""},{"$f":"IF($A63=\"\",\"\",VLOOKUP($A63,INSCRITS!$D$4:$W$506,18,0))","v":""},null,{"$f":"IF(AM63=\"\",\"\",VLOOKUP(AM63,[0]!Relais,2))","v":""},{"$f":"IF($A63=\"\",\"\",VLOOKUP($A63,INSCRITS!$D$4:$W$506,19,0))","v":""},null,{"$f":"IF(AP63=\"\",\"\",VLOOKUP(AP63,[0]!Relais,2))","v":""},0,0]
[null,{"$f":"IF($A64=\"\",\"\",VLOOKUP($A64,INSCRITS!$D$4:$W$501,2,0))","v":""},null,{"$f":"IF($A64=\"\",\"\",VLOOKUP($A64,INSCRITS!$D$4:$W$501,4,0))","v":""},{"$f":"IF($A64=\"\",\"\",VLOOKUP($A64,INSCRITS!$D$4:$W$501,5,0))","v":""},{"$f":"IF($A64=\"\",\"\",VLOOKUP($A64,INSCRITS!$D$4:$W$501,6,0))","v":""},{"$f":"IF($A64=\"\",\"\",VLOOKUP($A64,INSCRITS!$D$4:$W$501,7,0))","v":""},{"$f":"IF($A64=\"\",\"\",VLOOKUP($A64,INSCRITS!$D$4:$W$501,8,0))","v":""},{"$f":"IF($A64=\"\",\"\",VLOOKUP($A64,INSCRITS!$D$4:$W$501,9,0))","v":""},{"$f":"IF($A64=\"\",\"\",VLOOKUP($A64,INSCRITS!$D$4:$W$506,10,0))","v":""},{"$f":"IF(ISNA(VLOOKUP($A64,SPRINT!AD$7:AJ$50,6,0)),\"\",VLOOKUP($A64,SPRINT!AD$7:AJ$50,6,0))","v":""},{"$f":"IF(ISNA(VLOOKUP($A64,SPRINT!AD$7:AJ$50,7,0)),\"\",VLOOKUP($A64,SPRINT!AD$7:AJ$50,7,0))","v":""},{"$f":"IF($A64=\"\",\"\",VLOOKUP($A64,INSCRITS!$D$4:$W$506,11,0))","v":""},{"$f":"IF(ISNA(VLOOKUP($A64,BATONS!AD$7:AJ$51,6,0)),\"\",VLOOKUP($A64,BATONS!AD$7:AJ$51,6,0))","v":""},{"$f":"IF(ISNA(VLOOKUP($A64,BATONS!AD$7:AJ$51,7,0)),\"\",VLOOKUP($A64,BATONS!AD$7:AJ$51,7,0))","v":""},{"$f":"IF($A64=\"\",\"\",VLOOKUP($A64,INSCRITS!$D$4:$W$506,12,0))","v":""},{"$f":"IF(ISNA(VLOOKUP($A64,PLANCHE!AC$7:AI$52,6,0)),\"\",VLOOKUP($A64,PLANCHE!AC$7:AI$52,6,0))","v":""},{"$f":"IF(ISNA(VLOOKUP($A64,PLANCHE!AC$7:AI$52,7,0)),\"\",VLOOKUP($A64,PLANCHE!AC$7:AI$52,7,0))","v":""},{"$f":"IF($A64=\"\",\"\",VLOOKUP($A64,INSCRITS!$D$4:$W$506,13,0))","v":""},{"$f":"IF(ISNA(VLOOKUP($A64,NAGE!N$7:T$52,6,0)),\"\",VLOOKUP($A64,NAGE!N$7:T$52,6,0))","v":""},{"$f":"IF(ISNA(VLOOKUP($A64,NAGE!N$7:T$52,7,0)),\"\",VLOOKUP($A64,NAGE!N$7:T$52,7,0))","v":""},{"$f":"IF($A64=\"\",\"\",VLOOKUP($A64,INSCRITS!$D$4:$W$506,14,0))","v":""},{"$f":"IF(ISNA(VLOOKUP($A64,SURFSKI!AC$8:AI$53,6,0)),\"\",VLOOKUP($A64,SURFSKI!AC$8:AI$53,6,0))","v":""},{"$f":"IF(ISNA(VLOOKUP($A64,SURFSKI!AC$8:AI$53,7,0)),\"\",VLOOKUP($A64,SURFSKI!AC$8:AI$53,7,0))","v":""},{"$f":"IF($A64=\"\",\"\",VLOOKUP($A64,INSCRITS!$D$4:$W$506,15,0))","v":""},{"$f":"IF(ISNA(VLOOKUP($A64,OCEANMAN!AC$7:AI$52,6,0)),\"\",VLOOKUP($A64,OCEANMAN!AC$7:AI$52,6,0))","v":""},{"$f":"IF(ISNA(VLOOKUP($A64,OCEANMAN!AC$7:AI$52,7,0)),\"\",VLOOKUP($A64,OCEANMAN!AC$7:AI$52,7,0))","v":""},{"$f":"IF($A64=\"\",\"\",VLOOKUP($A64,INSCRITS!$D$4:$W$506,16,0))","v":""},{"$f":"IF(ISNA(VLOOKUP($A64,CNC!N$7:AC$52,6,0)),\"\",VLOOKUP($A64,CNC!N$7:AC$52,6,0))","v":""},{"$f":"IF(ISNA(VLOOKUP($A64,CNC!N$7:AC$52,7,0)),\"\",VLOOKUP($A64,CNC!N$7:AC$52,7,0))","v":""},0,{"$f":"IF($A64=\"\",\"\",VLOOKUP($A64,INSCRITS!$D$4:$W$506,16,0))","v":""},null,{"$f":"IF(AG64=\"\",\"\",VLOOKUP(AG64,[0]!Relais,2))","v":""},{"$f":"IF($A64=\"\",\"\",VLOOKUP($A64,INSCRITS!$D$4:$W$506,17,0))","v":""},null,{"$f":"IF(AJ64=\"\",\"\",VLOOKUP(AJ64,[0]!Relais,2))","v":""},{"$f":"IF($A64=\"\",\"\",VLOOKUP($A64,INSCRITS!$D$4:$W$506,18,0))","v":""},null,{"$f":"IF(AM64=\"\",\"\",VLOOKUP(AM64,[0]!Relais,2))","v":""},{"$f":"IF($A64=\"\",\"\",VLOOKUP($A64,INSCRITS!$D$4:$W$506,19,0))","v":""},null,{"$f":"IF(AP64=\"\",\"\",VLOOKUP(AP64,[0]!Relais,2))","v":""},0,0]
[null,{"$f":"IF($A65=\"\",\"\",VLOOKUP($A65,INSCRITS!$D$4:$W$501,2,0))","v":""},null,{"$f":"IF($A65=\"\",\"\",VLOOKUP($A65,INSCRITS!$D$4:$W$501,4,0))","v":""},{"$f":"IF($A65=\"\",\"\",VLOOKUP($A65,INSCRITS!$D$4:$W$501,5,0))","v":""},{"$f":"IF($A65=\"\",\"\",VLOOKUP($A65,INSCRITS!$D$4:$W$501,6,0))","v":""},{"$f":"IF($A65=\"\",\"\",VLOOKUP($A65,INSCRITS!$D$4:$W$501,7,0))","v":""},{"$f":"IF($A65=\"\",\"\",VLOOKUP($A65,INSCRITS!$D$4:$W$501,8,0))","v":""},{"$f":"IF($A65=\"\",\"\",VLOOKUP($A65,INSCRITS!$D$4:$W$501,9,0))","v":""},{"$f":"IF($A65=\"\",\"\",VLOOKUP($A65,INSCRITS!$D$4:$W$506,10,0))","v":""},{"$f":"IF(ISNA(VLOOKUP($A65,SPRINT!AD$7:AJ$50,6,0)),\"\",VLOOKUP($A65,SPRINT!AD$7:AJ$50,6,0))","v":""},{"$f":"IF(ISNA(VLOOKUP($A65,SPRINT!AD$7:AJ$50,7,0)),\"\",VLOOKUP($A65,SPRINT!AD$7:AJ$50,7,0))","v":""},{"$f":"IF($A65=\"\",\"\",VLOOKUP($A65,INSCRITS!$D$4:$W$506,11,0))","v":""},{"$f":"IF(ISNA(VLOOKUP($A65,BATONS!AD$7:AJ$51,6,0)),\"\",VLOOKUP($A65,BATONS!AD$7:AJ$51,6,0))","v":""},{"$f":"IF(ISNA(VLOOKUP($A65,BATONS!AD$7:AJ$51,7,0)),\"\",VLOOKUP($A65,BATONS!AD$7:AJ$51,7,0))","v":""},{"$f":"IF($A65=\"\",\"\",VLOOKUP($A65,INSCRITS!$D$4:$W$506,12,0))","v":""},{"$f":"IF(ISNA(VLOOKUP($A65,PLANCHE!AC$7:AI$52,6,0)),\"\",VLOOKUP($A65,PLANCHE!AC$7:AI$52,6,0))","v":""},{"$f":"IF(ISNA(VLOOKUP($A65,PLANCHE!AC$7:AI$52,7,0)),\"\",VLOOKUP($A65,PLANCHE!AC$7:AI$52,7,0))","v":""},{"$f":"IF($A65=\"\",\"\",VLOOKUP($A65,INSCRITS!$D$4:$W$506,13,0))","v":""},{"$f":"IF(ISNA(VLOOKUP($A65,NAGE!N$7:T$52,6,0)),\"\",VLOOKUP($A65,NAGE!N$7:T$52,6,0))","v":""},{"$f":"IF(ISNA(VLOOKUP($A65,NAGE!N$7:T$52,7,0)),\"\",VLOOKUP($A65,NAGE!N$7:T$52,7,0))","v":""},{"$f":"IF($A65=\"\",\"\",VLOOKUP($A65,INSCRITS!$D$4:$W$506,14,0))","v":""},{"$f":"IF(ISNA(VLOOKUP($A65,SURFSKI!AC$8:AI$53,6,0)),\"\",VLOOKUP($A65,SURFSKI!AC$8:AI$53,6,0))","v":""},{"$f":"IF(ISNA(VLOOKUP($A65,SURFSKI!AC$8:AI$53,7,0)),\"\",VLOOKUP($A65,SURFSKI!AC$8:AI$53,7,0))","v":""},{"$f":"IF($A65=\"\",\"\",VLOOKUP($A65,INSCRITS!$D$4:$W$506,15,0))","v":""},{"$f":"IF(ISNA(VLOOKUP($A65,OCEANMAN!AC$7:AI$52,6,0)),\"\",VLOOKUP($A65,OCEANMAN!AC$7:AI$52,6,0))","v":""},{"$f":"IF(ISNA(VLOOKUP($A65,OCEANMAN!AC$7:AI$52,7,0)),\"\",VLOOKUP($A65,OCEANMAN!AC$7:AI$52,7,0))","v":""},{"$f":"IF($A65=\"\",\"\",VLOOKUP($A65,INSCRITS!$D$4:$W$506,16,0))","v":""},{"$f":"IF(ISNA(VLOOKUP($A65,CNC!N$7:AC$52,6,0)),\"\",VLOOKUP($A65,CNC!N$7:AC$52,6,0))","v":""},{"$f":"IF(ISNA(VLOOKUP($A65,CNC!N$7:AC$52,7,0)),\"\",VLOOKUP($A65,CNC!N$7:AC$52,7,0))","v":""},0,{"$f":"IF($A65=\"\",\"\",VLOOKUP($A65,INSCRITS!$D$4:$W$506,16,0))","v":""},null,{"$f":"IF(AG65=\"\",\"\",VLOOKUP(AG65,[0]!Relais,2))","v":""},{"$f":"IF($A65=\"\",\"\",VLOOKUP($A65,INSCRITS!$D$4:$W$506,17,0))","v":""},null,{"$f":"IF(AJ65=\"\",\"\",VLOOKUP(AJ65,[0]!Relais,2))","v":""},{"$f":"IF($A65=\"\",\"\",VLOOKUP($A65,INSCRITS!$D$4:$W$506,18,0))","v":""},null,{"$f":"IF(AM65=\"\",\"\",VLOOKUP(AM65,[0]!Relais,2))","v":""},{"$f":"IF($A65=\"\",\"\",VLOOKUP($A65,INSCRITS!$D$4:$W$506,19,0))","v":""},null,{"$f":"IF(AP65=\"\",\"\",VLOOKUP(AP65,[0]!Relais,2))","v":""},0,0]
[null,{"$f":"IF($A66=\"\",\"\",VLOOKUP($A66,INSCRITS!$D$4:$W$501,2,0))","v":""},null,{"$f":"IF($A66=\"\",\"\",VLOOKUP($A66,INSCRITS!$D$4:$W$501,4,0))","v":""},{"$f":"IF($A66=\"\",\"\",VLOOKUP($A66,INSCRITS!$D$4:$W$501,5,0))","v":""},{"$f":"IF($A66=\"\",\"\",VLOOKUP($A66,INSCRITS!$D$4:$W$501,6,0))","v":""},{"$f":"IF($A66=\"\",\"\",VLOOKUP($A66,INSCRITS!$D$4:$W$501,7,0))","v":""},{"$f":"IF($A66=\"\",\"\",VLOOKUP($A66,INSCRITS!$D$4:$W$501,8,0))","v":""},{"$f":"IF($A66=\"\",\"\",VLOOKUP($A66,INSCRITS!$D$4:$W$501,9,0))","v":""},{"$f":"IF($A66=\"\",\"\",VLOOKUP($A66,INSCRITS!$D$4:$W$506,10,0))","v":""},{"$f":"IF(ISNA(VLOOKUP($A66,SPRINT!AD$7:AJ$50,6,0)),\"\",VLOOKUP($A66,SPRINT!AD$7:AJ$50,6,0))","v":""},{"$f":"IF(ISNA(VLOOKUP($A66,SPRINT!AD$7:AJ$50,7,0)),\"\",VLOOKUP($A66,SPRINT!AD$7:AJ$50,7,0))","v":""},{"$f":"IF($A66=\"\",\"\",VLOOKUP($A66,INSCRITS!$D$4:$W$506,11,0))","v":""},{"$f":"IF(ISNA(VLOOKUP($A66,BATONS!AD$7:AJ$51,6,0)),\"\",VLOOKUP($A66,BATONS!AD$7:AJ$51,6,0))","v":""},{"$f":"IF(ISNA(VLOOKUP($A66,BATONS!AD$7:AJ$51,7,0)),\"\",VLOOKUP($A66,BATONS!AD$7:AJ$51,7,0))","v":""},{"$f":"IF($A66=\"\",\"\",VLOOKUP($A66,INSCRITS!$D$4:$W$506,12,0))","v":""},{"$f":"IF(ISNA(VLOOKUP($A66,PLANCHE!AC$7:AI$52,6,0)),\"\",VLOOKUP($A66,PLANCHE!AC$7:AI$52,6,0))","v":""},{"$f":"IF(ISNA(VLOOKUP($A66,PLANCHE!AC$7:AI$52,7,0)),\"\",VLOOKUP($A66,PLANCHE!AC$7:AI$52,7,0))","v":""},{"$f":"IF($A66=\"\",\"\",VLOOKUP($A66,INSCRITS!$D$4:$W$506,13,0))","v":""},{"$f":"IF(ISNA(VLOOKUP($A66,NAGE!N$7:T$52,6,0)),\"\",VLOOKUP($A66,NAGE!N$7:T$52,6,0))","v":""},{"$f":"IF(ISNA(VLOOKUP($A66,NAGE!N$7:T$52,7,0)),\"\",VLOOKUP($A66,NAGE!N$7:T$52,7,0))","v":""},{"$f":"IF($A66=\"\",\"\",VLOOKUP($A66,INSCRITS!$D$4:$W$506,14,0))","v":""},{"$f":"IF(ISNA(VLOOKUP($A66,SURFSKI!AC$8:AI$53,6,0)),\"\",VLOOKUP($A66,SURFSKI!AC$8:AI$53,6,0))","v":""},{"$f":"IF(ISNA(VLOOKUP($A66,SURFSKI!AC$8:AI$53,7,0)),\"\",VLOOKUP($A66,SURFSKI!AC$8:AI$53,7,0))","v":""},{"$f":"IF($A66=\"\",\"\",VLOOKUP($A66,INSCRITS!$D$4:$W$506,15,0))","v":""},{"$f":"IF(ISNA(VLOOKUP($A66,OCEANMAN!AC$7:AI$52,6,0)),\"\",VLOOKUP($A66,OCEANMAN!AC$7:AI$52,6,0))","v":""},{"$f":"IF(ISNA(VLOOKUP($A66,OCEANMAN!AC$7:AI$52,7,0)),\"\",VLOOKUP($A66,OCEANMAN!AC$7:AI$52,7,0))","v":""},{"$f":"IF($A66=\"\",\"\",VLOOKUP($A66,INSCRITS!$D$4:$W$506,16,0))","v":""},{"$f":"IF(ISNA(VLOOKUP($A66,CNC!N$7:AC$52,6,0)),\"\",VLOOKUP($A66,CNC!N$7:AC$52,6,0))","v":""},{"$f":"IF(ISNA(VLOOKUP($A66,CNC!N$7:AC$52,7,0)),\"\",VLOOKUP($A66,CNC!N$7:AC$52,7,0))","v":""},0,{"$f":"IF($A66=\"\",\"\",VLOOKUP($A66,INSCRITS!$D$4:$W$506,16,0))","v":""},null,{"$f":"IF(AG66=\"\",\"\",VLOOKUP(AG66,[0]!Relais,2))","v":""},{"$f":"IF($A66=\"\",\"\",VLOOKUP($A66,INSCRITS!$D$4:$W$506,17,0))","v":""},null,{"$f":"IF(AJ66=\"\",\"\",VLOOKUP(AJ66,[0]!Relais,2))","v":""},{"$f":"IF($A66=\"\",\"\",VLOOKUP($A66,INSCRITS!$D$4:$W$506,18,0))","v":""},null,{"$f":"IF(AM66=\"\",\"\",VLOOKUP(AM66,[0]!Relais,2))","v":""},{"$f":"IF($A66=\"\",\"\",VLOOKUP($A66,INSCRITS!$D$4:$W$506,19,0))","v":""},null,{"$f":"IF(AP66=\"\",\"\",VLOOKUP(AP66,[0]!Relais,2))","v":""},0,0]
[null,{"$f":"IF($A67=\"\",\"\",VLOOKUP($A67,INSCRITS!$D$4:$W$501,2,0))","v":""},null,{"$f":"IF($A67=\"\",\"\",VLOOKUP($A67,INSCRITS!$D$4:$W$501,4,0))","v":""},{"$f":"IF($A67=\"\",\"\",VLOOKUP($A67,INSCRITS!$D$4:$W$501,5,0))","v":""},{"$f":"IF($A67=\"\",\"\",VLOOKUP($A67,INSCRITS!$D$4:$W$501,6,0))","v":""},{"$f":"IF($A67=\"\",\"\",VLOOKUP($A67,INSCRITS!$D$4:$W$501,7,0))","v":""},{"$f":"IF($A67=\"\",\"\",VLOOKUP($A67,INSCRITS!$D$4:$W$501,8,0))","v":""},{"$f":"IF($A67=\"\",\"\",VLOOKUP($A67,INSCRITS!$D$4:$W$501,9,0))","v":""},{"$f":"IF($A67=\"\",\"\",VLOOKUP($A67,INSCRITS!$D$4:$W$506,10,0))","v":""},{"$f":"IF(ISNA(VLOOKUP($A67,SPRINT!AD$7:AJ$50,6,0)),\"\",VLOOKUP($A67,SPRINT!AD$7:AJ$50,6,0))","v":""},{"$f":"IF(ISNA(VLOOKUP($A67,SPRINT!AD$7:AJ$50,7,0)),\"\",VLOOKUP($A67,SPRINT!AD$7:AJ$50,7,0))","v":""},{"$f":"IF($A67=\"\",\"\",VLOOKUP($A67,INSCRITS!$D$4:$W$506,11,0))","v":""},{"$f":"IF(ISNA(VLOOKUP($A67,BATONS!AD$7:AJ$51,6,0)),\"\",VLOOKUP($A67,BATONS!AD$7:AJ$51,6,0))","v":""},{"$f":"IF(ISNA(VLOOKUP($A67,BATONS!AD$7:AJ$51,7,0)),\"\",VLOOKUP($A67,BATONS!AD$7:AJ$51,7,0))","v":""},{"$f":"IF($A67=\"\",\"\",VLOOKUP($A67,INSCRITS!$D$4:$W$506,12,0))","v":""},{"$f":"IF(ISNA(VLOOKUP($A67,PLANCHE!AC$7:AI$52,6,0)),\"\",VLOOKUP($A67,PLANCHE!AC$7:AI$52,6,0))","v":""},{"$f":"IF(ISNA(VLOOKUP($A67,PLANCHE!AC$7:AI$52,7,0)),\"\",VLOOKUP($A67,PLANCHE!AC$7:AI$52,7,0))","v":""},{"$f":"IF($A67=\"\",\"\",VLOOKUP($A67,INSCRITS!$D$4:$W$506,13,0))","v":""},{"$f":"IF(ISNA(VLOOKUP($A67,NAGE!N$7:T$52,6,0)),\"\",VLOOKUP($A67,NAGE!N$7:T$52,6,0))","v":""},{"$f":"IF(ISNA(VLOOKUP($A67,NAGE!N$7:T$52,7,0)),\"\",VLOOKUP($A67,NAGE!N$7:T$52,7,0))","v":""},{"$f":"IF($A67=\"\",\"\",VLOOKUP($A67,INSCRITS!$D$4:$W$506,14,0))","v":""},{"$f":"IF(ISNA(VLOOKUP($A67,SURFSKI!AC$8:AI$53,6,0)),\"\",VLOOKUP($A67,SURFSKI!AC$8:AI$53,6,0))","v":""},{"$f":"IF(ISNA(VLOOKUP($A67,SURFSKI!AC$8:AI$53,7,0)),\"\",VLOOKUP($A67,SURFSKI!AC$8:AI$53,7,0))","v":""},{"$f":"IF($A67=\"\",\"\",VLOOKUP($A67,INSCRITS!$D$4:$W$506,15,0))","v":""},{"$f":"IF(ISNA(VLOOKUP($A67,OCEANMAN!AC$7:AI$52,6,0)),\"\",VLOOKUP($A67,OCEANMAN!AC$7:AI$52,6,0))","v":""},{"$f":"IF(ISNA(VLOOKUP($A67,OCEANMAN!AC$7:AI$52,7,0)),\"\",VLOOKUP($A67,OCEANMAN!AC$7:AI$52,7,0))","v":""},{"$f":"IF($A67=\"\",\"\",VLOOKUP($A67,INSCRITS!$D$4:$W$506,16,0))","v":""},{"$f":"IF(ISNA(VLOOKUP($A67,CNC!N$7:AC$52,6,0)),\"\",VLOOKUP($A67,CNC!N$7:AC$52,6,0))","v":""},{"$f":"IF(ISNA(VLOOKUP($A67,CNC!N$7:AC$52,7,0)),\"\",VLOOKUP($A67,CNC!N$7:AC$52,7,0))","v":""},0,{"$f":"IF($A67=\"\",\"\",VLOOKUP($A67,INSCRITS!$D$4:$W$506,16,0))","v":""},null,{"$f":"IF(AG67=\"\",\"\",VLOOKUP(AG67,[0]!Relais,2))","v":""},{"$f":"IF($A67=\"\",\"\",VLOOKUP($A67,INSCRITS!$D$4:$W$506,17,0))","v":""},null,{"$f":"IF(AJ67=\"\",\"\",VLOOKUP(AJ67,[0]!Relais,2))","v":""},{"$f":"IF($A67=\"\",\"\",VLOOKUP($A67,INSCRITS!$D$4:$W$506,18,0))","v":""},null,{"$f":"IF(AM67=\"\",\"\",VLOOKUP(AM67,[0]!Relais,2))","v":""},{"$f":"IF($A67=\"\",\"\",VLOOKUP($A67,INSCRITS!$D$4:$W$506,19,0))","v":""},null,{"$f":"IF(AP67=\"\",\"\",VLOOKUP(AP67,[0]!Relais,2))","v":""},0,0]
[null,{"$f":"IF($A68=\"\",\"\",VLOOKUP($A68,INSCRITS!$D$4:$W$501,2,0))","v":""},null,{"$f":"IF($A68=\"\",\"\",VLOOKUP($A68,INSCRITS!$D$4:$W$501,4,0))","v":""},{"$f":"IF($A68=\"\",\"\",VLOOKUP($A68,INSCRITS!$D$4:$W$501,5,0))","v":""},{"$f":"IF($A68=\"\",\"\",VLOOKUP($A68,INSCRITS!$D$4:$W$501,6,0))","v":""},{"$f":"IF($A68=\"\",\"\",VLOOKUP($A68,INSCRITS!$D$4:$W$501,7,0))","v":""},{"$f":"IF($A68=\"\",\"\",VLOOKUP($A68,INSCRITS!$D$4:$W$501,8,0))","v":""},{"$f":"IF($A68=\"\",\"\",VLOOKUP($A68,INSCRITS!$D$4:$W$501,9,0))","v":""},{"$f":"IF($A68=\"\",\"\",VLOOKUP($A68,INSCRITS!$D$4:$W$506,10,0))","v":""},{"$f":"IF(ISNA(VLOOKUP($A68,SPRINT!AD$7:AJ$50,6,0)),\"\",VLOOKUP($A68,SPRINT!AD$7:AJ$50,6,0))","v":""},{"$f":"IF(ISNA(VLOOKUP($A68,SPRINT!AD$7:AJ$50,7,0)),\"\",VLOOKUP($A68,SPRINT!AD$7:AJ$50,7,0))","v":""},{"$f":"IF($A68=\"\",\"\",VLOOKUP($A68,INSCRITS!$D$4:$W$506,11,0))","v":""},{"$f":"IF(ISNA(VLOOKUP($A68,BATONS!AD$7:AJ$51,6,0)),\"\",VLOOKUP($A68,BATONS!AD$7:AJ$51,6,0))","v":""},{"$f":"IF(ISNA(VLOOKUP($A68,BATONS!AD$7:AJ$51,7,0)),\"\",VLOOKUP($A68,BATONS!AD$7:AJ$51,7,0))","v":""},{"$f":"IF($A68=\"\",\"\",VLOOKUP($A68,INSCRITS!$D$4:$W$506,12,0))","v":""},{"$f":"IF(ISNA(VLOOKUP($A68,PLANCHE!AC$7:AI$52,6,0)),\"\",VLOOKUP($A68,PLANCHE!AC$7:AI$52,6,0))","v":""},{"$f":"IF(ISNA(VLOOKUP($A68,PLANCHE!AC$7:AI$52,7,0)),\"\",VLOOKUP($A68,PLANCHE!AC$7:AI$52,7,0))","v":""},{"$f":"IF($A68=\"\",\"\",VLOOKUP($A68,INSCRITS!$D$4:$W$506,13,0))","v":""},{"$f":"IF(ISNA(VLOOKUP($A68,NAGE!N$7:T$52,6,0)),\"\",VLOOKUP($A68,NAGE!N$7:T$52,6,0))","v":""},{"$f":"IF(ISNA(VLOOKUP($A68,NAGE!N$7:T$52,7,0)),\"\",VLOOKUP($A68,NAGE!N$7:T$52,7,0))","v":""},{"$f":"IF($A68=\"\",\"\",VLOOKUP($A68,INSCRITS!$D$4:$W$506,14,0))","v":""},{"$f":"IF(ISNA(VLOOKUP($A68,SURFSKI!AC$8:AI$53,6,0)),\"\",VLOOKUP($A68,SURFSKI!AC$8:AI$53,6,0))","v":""},{"$f":"IF(ISNA(VLOOKUP($A68,SURFSKI!AC$8:AI$53,7,0)),\"\",VLOOKUP($A68,SURFSKI!AC$8:AI$53,7,0))","v":""},{"$f":"IF($A68=\"\",\"\",VLOOKUP($A68,INSCRITS!$D$4:$W$506,15,0))","v":""},{"$f":"IF(ISNA(VLOOKUP($A68,OCEANMAN!AC$7:AI$52,6,0)),\"\",VLOOKUP($A68,OCEANMAN!AC$7:AI$52,6,0))","v":""},{"$f":"IF(ISNA(VLOOKUP($A68,OCEANMAN!AC$7:AI$52,7,0)),\"\",VLOOKUP($A68,OCEANMAN!AC$7:AI$52,7,0))","v":""},{"$f":"IF($A68=\"\",\"\",VLOOKUP($A68,INSCRITS!$D$4:$W$506,16,0))","v":""},{"$f":"IF(ISNA(VLOOKUP($A68,CNC!N$7:AC$52,6,0)),\"\",VLOOKUP($A68,CNC!N$7:AC$52,6,0))","v":""},{"$f":"IF(ISNA(VLOOKUP($A68,CNC!N$7:AC$52,7,0)),\"\",VLOOKUP($A68,CNC!N$7:AC$52,7,0))","v":""},0,{"$f":"IF($A68=\"\",\"\",VLOOKUP($A68,INSCRITS!$D$4:$W$506,16,0))","v":""},null,{"$f":"IF(AG68=\"\",\"\",VLOOKUP(AG68,[0]!Relais,2))","v":""},{"$f":"IF($A68=\"\",\"\",VLOOKUP($A68,INSCRITS!$D$4:$W$506,17,0))","v":""},null,{"$f":"IF(AJ68=\"\",\"\",VLOOKUP(AJ68,[0]!Relais,2))","v":""},{"$f":"IF($A68=\"\",\"\",VLOOKUP($A68,INSCRITS!$D$4:$W$506,18,0))","v":""},null,{"$f":"IF(AM68=\"\",\"\",VLOOKUP(AM68,[0]!Relais,2))","v":""},{"$f":"IF($A68=\"\",\"\",VLOOKUP($A68,INSCRITS!$D$4:$W$506,19,0))","v":""},null,{"$f":"IF(AP68=\"\",\"\",VLOOKUP(AP68,[0]!Relais,2))","v":""},0,0]
[null,{"$f":"IF($A69=\"\",\"\",VLOOKUP($A69,INSCRITS!$D$4:$W$501,2,0))","v":""},null,{"$f":"IF($A69=\"\",\"\",VLOOKUP($A69,INSCRITS!$D$4:$W$501,4,0))","v":""},{"$f":"IF($A69=\"\",\"\",VLOOKUP($A69,INSCRITS!$D$4:$W$501,5,0))","v":""},{"$f":"IF($A69=\"\",\"\",VLOOKUP($A69,INSCRITS!$D$4:$W$501,6,0))","v":""},{"$f":"IF($A69=\"\",\"\",VLOOKUP($A69,INSCRITS!$D$4:$W$501,7,0))","v":""},{"$f":"IF($A69=\"\",\"\",VLOOKUP($A69,INSCRITS!$D$4:$W$501,8,0))","v":""},{"$f":"IF($A69=\"\",\"\",VLOOKUP($A69,INSCRITS!$D$4:$W$501,9,0))","v":""},{"$f":"IF($A69=\"\",\"\",VLOOKUP($A69,INSCRITS!$D$4:$W$506,10,0))","v":""},{"$f":"IF(ISNA(VLOOKUP($A69,SPRINT!AD$7:AJ$50,6,0)),\"\",VLOOKUP($A69,SPRINT!AD$7:AJ$50,6,0))","v":""},{"$f":"IF(ISNA(VLOOKUP($A69,SPRINT!AD$7:AJ$50,7,0)),\"\",VLOOKUP($A69,SPRINT!AD$7:AJ$50,7,0))","v":""},{"$f":"IF($A69=\"\",\"\",VLOOKUP($A69,INSCRITS!$D$4:$W$506,11,0))","v":""},{"$f":"IF(ISNA(VLOOKUP($A69,BATONS!AD$7:AJ$51,6,0)),\"\",VLOOKUP($A69,BATONS!AD$7:AJ$51,6,0))","v":""},{"$f":"IF(ISNA(VLOOKUP($A69,BATONS!AD$7:AJ$51,7,0)),\"\",VLOOKUP($A69,BATONS!AD$7:AJ$51,7,0))","v":""},{"$f":"IF($A69=\"\",\"\",VLOOKUP($A69,INSCRITS!$D$4:$W$506,12,0))","v":""},{"$f":"IF(ISNA(VLOOKUP($A69,PLANCHE!AC$7:AI$52,6,0)),\"\",VLOOKUP($A69,PLANCHE!AC$7:AI$52,6,0))","v":""},{"$f":"IF(ISNA(VLOOKUP($A69,PLANCHE!AC$7:AI$52,7,0)),\"\",VLOOKUP($A69,PLANCHE!AC$7:AI$52,7,0))","v":""},{"$f":"IF($A69=\"\",\"\",VLOOKUP($A69,INSCRITS!$D$4:$W$506,13,0))","v":""},{"$f":"IF(ISNA(VLOOKUP($A69,NAGE!N$7:T$52,6,0)),\"\",VLOOKUP($A69,NAGE!N$7:T$52,6,0))","v":""},{"$f":"IF(ISNA(VLOOKUP($A69,NAGE!N$7:T$52,7,0)),\"\",VLOOKUP($A69,NAGE!N$7:T$52,7,0))","v":""},{"$f":"IF($A69=\"\",\"\",VLOOKUP($A69,INSCRITS!$D$4:$W$506,14,0))","v":""},{"$f":"IF(ISNA(VLOOKUP($A69,SURFSKI!AC$8:AI$53,6,0)),\"\",VLOOKUP($A69,SURFSKI!AC$8:AI$53,6,0))","v":""},{"$f":"IF(ISNA(VLOOKUP($A69,SURFSKI!AC$8:AI$53,7,0)),\"\",VLOOKUP($A69,SURFSKI!AC$8:AI$53,7,0))","v":""},{"$f":"IF($A69=\"\",\"\",VLOOKUP($A69,INSCRITS!$D$4:$W$506,15,0))","v":""},{"$f":"IF(ISNA(VLOOKUP($A69,OCEANMAN!AC$7:AI$52,6,0)),\"\",VLOOKUP($A69,OCEANMAN!AC$7:AI$52,6,0))","v":""},{"$f":"IF(ISNA(VLOOKUP($A69,OCEANMAN!AC$7:AI$52,7,0)),\"\",VLOOKUP($A69,OCEANMAN!AC$7:AI$52,7,0))","v":""},{"$f":"IF($A69=\"\",\"\",VLOOKUP($A69,INSCRITS!$D$4:$W$506,16,0))","v":""},{"$f":"IF(ISNA(VLOOKUP($A69,CNC!N$7:AC$52,6,0)),\"\",VLOOKUP($A69,CNC!N$7:AC$52,6,0))","v":""},{"$f":"IF(ISNA(VLOOKUP($A69,CNC!N$7:AC$52,7,0)),\"\",VLOOKUP($A69,CNC!N$7:AC$52,7,0))","v":""},{"$f":"SUM(L69,O69,R69,U69,X69,AA69,AD69)","v":0},{"$f":"IF($A69=\"\",\"\",VLOOKUP($A69,INSCRITS!$D$4:$W$506,16,0))","v":""},null,{"$f":"IF(AG69=\"\",\"\",VLOOKUP(AG69,[0]!Relais,2))","v":""},{"$f":"IF($A69=\"\",\"\",VLOOKUP($A69,INSCRITS!$D$4:$W$506,17,0))","v":""},null,{"$f":"IF(AJ69=\"\",\"\",VLOOKUP(AJ69,[0]!Relais,2))","v":""},{"$f":"IF($A69=\"\",\"\",VLOOKUP($A69,INSCRITS!$D$4:$W$506,18,0))","v":""},null,{"$f":"IF(AM69=\"\",\"\",VLOOKUP(AM69,[0]!Relais,2))","v":""},{"$f":"IF($A69=\"\",\"\",VLOOKUP($A69,INSCRITS!$D$4:$W$506,19,0))","v":""},null,{"$f":"IF(AP69=\"\",\"\",VLOOKUP(AP69,[0]!Relais,2))","v":""},0,0]
[null,{"$f":"IF($A70=\"\",\"\",VLOOKUP($A70,INSCRITS!$D$4:$W$501,2,0))","v":""},null,{"$f":"IF($A70=\"\",\"\",VLOOKUP($A70,INSCRITS!$D$4:$W$501,4,0))","v":""},{"$f":"IF($A70=\"\",\"\",VLOOKUP($A70,INSCRITS!$D$4:$W$501,5,0))","v":""},{"$f":"IF($A70=\"\",\"\",VLOOKUP($A70,INSCRITS!$D$4:$W$501,6,0))","v":""},{"$f":"IF($A70=\"\",\"\",VLOOKUP($A70,INSCRITS!$D$4:$W$501,7,0))","v":""},{"$f":"IF($A70=\"\",\"\",VLOOKUP($A70,INSCRITS!$D$4:$W$501,8,0))","v":""},{"$f":"IF($A70=\"\",\"\",VLOOKUP($A70,INSCRITS!$D$4:$W$501,9,0))","v":""},{"$f":"IF($A70=\"\",\"\",VLOOKUP($A70,INSCRITS!$D$4:$W$506,10,0))","v":""},{"$f":"IF(ISNA(VLOOKUP($A70,SPRINT!AD$7:AJ$50,6,0)),\"\",VLOOKUP($A70,SPRINT!AD$7:AJ$50,6,0))","v":""},{"$f":"IF(ISNA(VLOOKUP($A70,SPRINT!AD$7:AJ$50,7,0)),\"\",VLOOKUP($A70,SPRINT!AD$7:AJ$50,7,0))","v":""},{"$f":"IF($A70=\"\",\"\",VLOOKUP($A70,INSCRITS!$D$4:$W$506,11,0))","v":""},{"$f":"IF(ISNA(VLOOKUP($A70,BATONS!AD$7:AJ$51,6,0)),\"\",VLOOKUP($A70,BATONS!AD$7:AJ$51,6,0))","v":""},{"$f":"IF(ISNA(VLOOKUP($A70,BATONS!AD$7:AJ$51,7,0)),\"\",VLOOKUP($A70,BATONS!AD$7:AJ$51,7,0))","v":""},{"$f":"IF($A70=\"\",\"\",VLOOKUP($A70,INSCRITS!$D$4:$W$506,12,0))","v":""},{"$f":"IF(ISNA(VLOOKUP($A70,PLANCHE!AC$7:AI$52,6,0)),\"\",VLOOKUP($A70,PLANCHE!AC$7:AI$52,6,0))","v":""},{"$f":"IF(ISNA(VLOOKUP($A70,PLANCHE!AC$7:AI$52,7,0)),\"\",VLOOKUP($A70,PLANCHE!AC$7:AI$52,7,0))","v":""},{"$f":"IF($A70=\"\",\"\",VLOOKUP($A70,INSCRITS!$D$4:$W$506,13,0))","v":""},{"$f":"IF(ISNA(VLOOKUP($A70,NAGE!N$7:T$52,6,0)),\"\",VLOOKUP($A70,NAGE!N$7:T$52,6,0))","v":""},{"$f":"IF(ISNA(VLOOKUP($A70,NAGE!N$7:T$52,7,0)),\"\",VLOOKUP($A70,NAGE!N$7:T$52,7,0))","v":""},{"$f":"IF($A70=\"\",\"\",VLOOKUP($A70,INSCRITS!$D$4:$W$506,14,0))","v":""},{"$f":"IF(ISNA(VLOOKUP($A70,SURFSKI!AC$8:AI$53,6,0)),\"\",VLOOKUP($A70,SURFSKI!AC$8:AI$53,6,0))","v":""},{"$f":"IF(ISNA(VLOOKUP($A70,SURFSKI!AC$8:AI$53,7,0)),\"\",VLOOKUP($A70,SURFSKI!AC$8:AI$53,7,0))","v":""},{"$f":"IF($A70=\"\",\"\",VLOOKUP($A70,INSCRITS!$D$4:$W$506,15,0))","v":""},{"$f":"IF(ISNA(VLOOKUP($A70,OCEANMAN!AC$7:AI$52,6,0)),\"\",VLOOKUP($A70,OCEANMAN!AC$7:AI$52,6,0))","v":""},{"$f":"IF(ISNA(VLOOKUP($A70,OCEANMAN!AC$7:AI$52,7,0)),\"\",VLOOKUP($A70,OCEANMAN!AC$7:AI$52,7,0))","v":""},{"$f":"IF($A70=\"\",\"\",VLOOKUP($A70,INSCRITS!$D$4:$W$506,16,0))","v":""},{"$f":"IF(ISNA(VLOOKUP($A70,CNC!N$7:AC$52,6,0)),\"\",VLOOKUP($A70,CNC!N$7:AC$52,6,0))","v":""},{"$f":"IF(ISNA(VLOOKUP($A70,CNC!N$7:AC$52,7,0)),\"\",VLOOKUP($A70,CNC!N$7:AC$52,7,0))","v":""},0,{"$f":"IF($A70=\"\",\"\",VLOOKUP($A70,INSCRITS!$D$4:$W$506,16,0))","v":""},null,{"$f":"IF(AG70=\"\",\"\",VLOOKUP(AG70,[0]!Relais,2))","v":""},{"$f":"IF($A70=\"\",\"\",VLOOKUP($A70,INSCRITS!$D$4:$W$506,17,0))","v":""},null,{"$f":"IF(AJ70=\"\",\"\",VLOOKUP(AJ70,[0]!Relais,2))","v":""},{"$f":"IF($A70=\"\",\"\",VLOOKUP($A70,INSCRITS!$D$4:$W$506,18,0))","v":""},null,{"$f":"IF(AM70=\"\",\"\",VLOOKUP(AM70,[0]!Relais,2))","v":""},{"$f":"IF($A70=\"\",\"\",VLOOKUP($A70,INSCRITS!$D$4:$W$506,19,0))","v":""},null,{"$f":"IF(AP70=\"\",\"\",VLOOKUP(AP70,[0]!Relais,2))","v":""},{"$f":"SUM(AH70,AK70,AN70,AQ70)","v":0},{"$f":"AE70+AR70","v":0}]
[null,{"$f":"IF($A71=\"\",\"\",VLOOKUP($A71,INSCRITS!$D$4:$W$501,2,0))","v":""},null,{"$f":"IF($A71=\"\",\"\",VLOOKUP($A71,INSCRITS!$D$4:$W$501,4,0))","v":""},{"$f":"IF($A71=\"\",\"\",VLOOKUP($A71,INSCRITS!$D$4:$W$501,5,0))","v":""},{"$f":"IF($A71=\"\",\"\",VLOOKUP($A71,INSCRITS!$D$4:$W$501,6,0))","v":""},{"$f":"IF($A71=\"\",\"\",VLOOKUP($A71,INSCRITS!$D$4:$W$501,7,0))","v":""},{"$f":"IF($A71=\"\",\"\",VLOOKUP($A71,INSCRITS!$D$4:$W$501,8,0))","v":""},{"$f":"IF($A71=\"\",\"\",VLOOKUP($A71,INSCRITS!$D$4:$W$501,9,0))","v":""},{"$f":"IF($A71=\"\",\"\",VLOOKUP($A71,INSCRITS!$D$4:$W$506,10,0))","v":""},{"$f":"IF(ISNA(VLOOKUP($A71,SPRINT!AD$7:AJ$50,6,0)),\"\",VLOOKUP($A71,SPRINT!AD$7:AJ$50,6,0))","v":""},{"$f":"IF(ISNA(VLOOKUP($A71,SPRINT!AD$7:AJ$50,7,0)),\"\",VLOOKUP($A71,SPRINT!AD$7:AJ$50,7,0))","v":""},{"$f":"IF($A71=\"\",\"\",VLOOKUP($A71,INSCRITS!$D$4:$W$506,11,0))","v":""},{"$f":"IF(ISNA(VLOOKUP($A71,BATONS!AD$7:AJ$51,6,0)),\"\",VLOOKUP($A71,BATONS!AD$7:AJ$51,6,0))","v":""},{"$f":"IF(ISNA(VLOOKUP($A71,BATONS!AD$7:AJ$51,7,0)),\"\",VLOOKUP($A71,BATONS!AD$7:AJ$51,7,0))","v":""},{"$f":"IF($A71=\"\",\"\",VLOOKUP($A71,INSCRITS!$D$4:$W$506,12,0))","v":""},{"$f":"IF(ISNA(VLOOKUP($A71,PLANCHE!AC$7:AI$52,6,0)),\"\",VLOOKUP($A71,PLANCHE!AC$7:AI$52,6,0))","v":""},{"$f":"IF(ISNA(VLOOKUP($A71,PLANCHE!AC$7:AI$52,7,0)),\"\",VLOOKUP($A71,PLANCHE!AC$7:AI$52,7,0))","v":""},{"$f":"IF($A71=\"\",\"\",VLOOKUP($A71,INSCRITS!$D$4:$W$506,13,0))","v":""},{"$f":"IF(ISNA(VLOOKUP($A71,NAGE!N$7:T$52,6,0)),\"\",VLOOKUP($A71,NAGE!N$7:T$52,6,0))","v":""},{"$f":"IF(ISNA(VLOOKUP($A71,NAGE!N$7:T$52,7,0)),\"\",VLOOKUP($A71,NAGE!N$7:T$52,7,0))","v":""},{"$f":"IF($A71=\"\",\"\",VLOOKUP($A71,INSCRITS!$D$4:$W$506,14,0))","v":""},{"$f":"IF(ISNA(VLOOKUP($A71,SURFSKI!AC$8:AI$53,6,0)),\"\",VLOOKUP($A71,SURFSKI!AC$8:AI$53,6,0))","v":""},{"$f":"IF(ISNA(VLOOKUP($A71,SURFSKI!AC$8:AI$53,7,0)),\"\",VLOOKUP($A71,SURFSKI!AC$8:AI$53,7,0))","v":""},{"$f":"IF($A71=\"\",\"\",VLOOKUP($A71,INSCRITS!$D$4:$W$506,15,0))","v":""},{"$f":"IF(ISNA(VLOOKUP($A71,OCEANMAN!AC$7:AI$52,6,0)),\"\",VLOOKUP($A71,OCEANMAN!AC$7:AI$52,6,0))","v":""},{"$f":"IF(ISNA(VLOOKUP($A71,OCEANMAN!AC$7:AI$52,7,0)),\"\",VLOOKUP($A71,OCEANMAN!AC$7:AI$52,7,0))","v":""},{"$f":"IF($A71=\"\",\"\",VLOOKUP($A71,INSCRITS!$D$4:$W$506,16,0))","v":""},{"$f":"IF(ISNA(VLOOKUP($A71,CNC!N$7:AC$52,6,0)),\"\",VLOOKUP($A71,CNC!N$7:AC$52,6,0))","v":""},{"$f":"IF(ISNA(VLOOKUP($A71,CNC!N$7:AC$52,7,0)),\"\",VLOOKUP($A71,CNC!N$7:AC$52,7,0))","v":""},0,{"$f":"IF($A71=\"\",\"\",VLOOKUP($A71,INSCRITS!$D$4:$W$506,16,0))","v":""},null,{"$f":"IF(AG71=\"\",\"\",VLOOKUP(AG71,[0]!Relais,2))","v":""},{"$f":"IF($A71=\"\",\"\",VLOOKUP($A71,INSCRITS!$D$4:$W$506,17,0))","v":""},null,{"$f":"IF(AJ71=\"\",\"\",VLOOKUP(AJ71,[0]!Relais,2))","v":""},{"$f":"IF($A71=\"\",\"\",VLOOKUP($A71,INSCRITS!$D$4:$W$506,18,0))","v":""},null,{"$f":"IF(AM71=\"\",\"\",VLOOKUP(AM71,[0]!Relais,2))","v":""},{"$f":"IF($A71=\"\",\"\",VLOOKUP($A71,INSCRITS!$D$4:$W$506,19,0))","v":""},null,{"$f":"IF(AP71=\"\",\"\",VLOOKUP(AP71,[0]!Relais,2))","v":""},0,0]
[null,{"$f":"IF($A72=\"\",\"\",VLOOKUP($A72,INSCRITS!$D$4:$W$501,2,0))","v":""},null,{"$f":"IF($A72=\"\",\"\",VLOOKUP($A72,INSCRITS!$D$4:$W$501,4,0))","v":""},{"$f":"IF($A72=\"\",\"\",VLOOKUP($A72,INSCRITS!$D$4:$W$501,5,0))","v":""},{"$f":"IF($A72=\"\",\"\",VLOOKUP($A72,INSCRITS!$D$4:$W$501,6,0))","v":""},{"$f":"IF($A72=\"\",\"\",VLOOKUP($A72,INSCRITS!$D$4:$W$501,7,0))","v":""},{"$f":"IF($A72=\"\",\"\",VLOOKUP($A72,INSCRITS!$D$4:$W$501,8,0))","v":""},{"$f":"IF($A72=\"\",\"\",VLOOKUP($A72,INSCRITS!$D$4:$W$501,9,0))","v":""},{"$f":"IF($A72=\"\",\"\",VLOOKUP($A72,INSCRITS!$D$4:$W$506,10,0))","v":""},{"$f":"IF(ISNA(VLOOKUP($A72,SPRINT!AD$7:AJ$50,6,0)),\"\",VLOOKUP($A72,SPRINT!AD$7:AJ$50,6,0))","v":""},{"$f":"IF(ISNA(VLOOKUP($A72,SPRINT!AD$7:AJ$50,7,0)),\"\",VLOOKUP($A72,SPRINT!AD$7:AJ$50,7,0))","v":""},{"$f":"IF($A72=\"\",\"\",VLOOKUP($A72,INSCRITS!$D$4:$W$506,11,0))","v":""},{"$f":"IF(ISNA(VLOOKUP($A72,BATONS!AD$7:AJ$51,6,0)),\"\",VLOOKUP($A72,BATONS!AD$7:AJ$51,6,0))","v":""},{"$f":"IF(ISNA(VLOOKUP($A72,BATONS!AD$7:AJ$51,7,0)),\"\",VLOOKUP($A72,BATONS!AD$7:AJ$51,7,0))","v":""},{"$f":"IF($A72=\"\",\"\",VLOOKUP($A72,INSCRITS!$D$4:$W$506,12,0))","v":""},{"$f":"IF(ISNA(VLOOKUP($A72,PLANCHE!AC$7:AI$52,6,0)),\"\",VLOOKUP($A72,PLANCHE!AC$7:AI$52,6,0))","v":""},{"$f":"IF(ISNA(VLOOKUP($A72,PLANCHE!AC$7:AI$52,7,0)),\"\",VLOOKUP($A72,PLANCHE!AC$7:AI$52,7,0))","v":""},{"$f":"IF($A72=\"\",\"\",VLOOKUP($A72,INSCRITS!$D$4:$W$506,13,0))","v":""},{"$f":"IF(ISNA(VLOOKUP($A72,NAGE!N$7:T$52,6,0)),\"\",VLOOKUP($A72,NAGE!N$7:T$52,6,0))","v":""},{"$f":"IF(ISNA(VLOOKUP($A72,NAGE!N$7:T$52,7,0)),\"\",VLOOKUP($A72,NAGE!N$7:T$52,7,0))","v":""},{"$f":"IF($A72=\"\",\"\",VLOOKUP($A72,INSCRITS!$D$4:$W$506,14,0))","v":""},{"$f":"IF(ISNA(VLOOKUP($A72,SURFSKI!AC$8:AI$53,6,0)),\"\",VLOOKUP($A72,SURFSKI!AC$8:AI$53,6,0))","v":""},{"$f":"IF(ISNA(VLOOKUP($A72,SURFSKI!AC$8:AI$53,7,0)),\"\",VLOOKUP($A72,SURFSKI!AC$8:AI$53,7,0))","v":""},{"$f":"IF($A72=\"\",\"\",VLOOKUP($A72,INSCRITS!$D$4:$W$506,15,0))","v":""},{"$f":"IF(ISNA(VLOOKUP($A72,OCEANMAN!AC$7:AI$52,6,0)),\"\",VLOOKUP($A72,OCEANMAN!AC$7:AI$52,6,0))","v":""},{"$f":"IF(ISNA(VLOOKUP($A72,OCEANMAN!AC$7:AI$52,7,0)),\"\",VLOOKUP($A72,OCEANMAN!AC$7:AI$52,7,0))","v":""},{"$f":"IF($A72=\"\",\"\",VLOOKUP($A72,INSCRITS!$D$4:$W$506,16,0))","v":""},{"$f":"IF(ISNA(VLOOKUP($A72,CNC!N$7:AC$52,6,0)),\"\",VLOOKUP($A72,CNC!N$7:AC$52,6,0))","v":""},{"$f":"IF(ISNA(VLOOKUP($A72,CNC!N$7:AC$52,7,0)),\"\",VLOOKUP($A72,CNC!N$7:AC$52,7,0))","v":""},0,{"$f":"IF($A72=\"\",\"\",VLOOKUP($A72,INSCRITS!$D$4:$W$506,16,0))","v":""},null,{"$f":"IF(AG72=\"\",\"\",VLOOKUP(AG72,[0]!Relais,2))","v":""},{"$f":"IF($A72=\"\",\"\",VLOOKUP($A72,INSCRITS!$D$4:$W$506,17,0))","v":""},null,{"$f":"IF(AJ72=\"\",\"\",VLOOKUP(AJ72,[0]!Relais,2))","v":""},{"$f":"IF($A72=\"\",\"\",VLOOKUP($A72,INSCRITS!$D$4:$W$506,18,0))","v":""},null,{"$f":"IF(AM72=\"\",\"\",VLOOKUP(AM72,[0]!Relais,2))","v":""},{"$f":"IF($A72=\"\",\"\",VLOOKUP($A72,INSCRITS!$D$4:$W$506,19,0))","v":""},null,{"$f":"IF(AP72=\"\",\"\",VLOOKUP(AP72,[0]!Relais,2))","v":""},0,0]
[null,{"$f":"IF($A73=\"\",\"\",VLOOKUP($A73,INSCRITS!$D$4:$W$501,2,0))","v":""},null,{"$f":"IF($A73=\"\",\"\",VLOOKUP($A73,INSCRITS!$D$4:$W$501,4,0))","v":""},{"$f":"IF($A73=\"\",\"\",VLOOKUP($A73,INSCRITS!$D$4:$W$501,5,0))","v":""},{"$f":"IF($A73=\"\",\"\",VLOOKUP($A73,INSCRITS!$D$4:$W$501,6,0))","v":""},{"$f":"IF($A73=\"\",\"\",VLOOKUP($A73,INSCRITS!$D$4:$W$501,7,0))","v":""},{"$f":"IF($A73=\"\",\"\",VLOOKUP($A73,INSCRITS!$D$4:$W$501,8,0))","v":""},{"$f":"IF($A73=\"\",\"\",VLOOKUP($A73,INSCRITS!$D$4:$W$501,9,0))","v":""},{"$f":"IF($A73=\"\",\"\",VLOOKUP($A73,INSCRITS!$D$4:$W$506,10,0))","v":""},{"$f":"IF(ISNA(VLOOKUP($A73,SPRINT!AD$7:AJ$50,6,0)),\"\",VLOOKUP($A73,SPRINT!AD$7:AJ$50,6,0))","v":""},{"$f":"IF(ISNA(VLOOKUP($A73,SPRINT!AD$7:AJ$50,7,0)),\"\",VLOOKUP($A73,SPRINT!AD$7:AJ$50,7,0))","v":""},{"$f":"IF($A73=\"\",\"\",VLOOKUP($A73,INSCRITS!$D$4:$W$506,11,0))","v":""},{"$f":"IF(ISNA(VLOOKUP($A73,BATONS!AD$7:AJ$51,6,0)),\"\",VLOOKUP($A73,BATONS!AD$7:AJ$51,6,0))","v":""},{"$f":"IF(ISNA(VLOOKUP($A73,BATONS!AD$7:AJ$51,7,0)),\"\",VLOOKUP($A73,BATONS!AD$7:AJ$51,7,0))","v":""},{"$f":"IF($A73=\"\",\"\",VLOOKUP($A73,INSCRITS!$D$4:$W$506,12,0))","v":""},{"$f":"IF(ISNA(VLOOKUP($A73,PLANCHE!AC$7:AI$52,6,0)),\"\",VLOOKUP($A73,PLANCHE!AC$7:AI$52,6,0))","v":""},{"$f":"IF(ISNA(VLOOKUP($A73,PLANCHE!AC$7:AI$52,7,0)),\"\",VLOOKUP($A73,PLANCHE!AC$7:AI$52,7,0))","v":""},{"$f":"IF($A73=\"\",\"\",VLOOKUP($A73,INSCRITS!$D$4:$W$506,13,0))","v":""},{"$f":"IF(ISNA(VLOOKUP($A73,NAGE!N$7:T$52,6,0)),\"\",VLOOKUP($A73,NAGE!N$7:T$52,6,0))","v":""},{"$f":"IF(ISNA(VLOOKUP($A73,NAGE!N$7:T$52,7,0)),\"\",VLOOKUP($A73,NAGE!N$7:T$52,7,0))","v":""},{"$f":"IF($A73=\"\",\"\",VLOOKUP($A73,INSCRITS!$D$4:$W$506,14,0))","v":""},{"$f":"IF(ISNA(VLOOKUP($A73,SURFSKI!AC$8:AI$53,6,0)),\"\",VLOOKUP($A73,SURFSKI!AC$8:AI$53,6,0))","v":""},{"$f":"IF(ISNA(VLOOKUP($A73,SURFSKI!AC$8:AI$53,7,0)),\"\",VLOOKUP($A73,SURFSKI!AC$8:AI$53,7,0))","v":""},{"$f":"IF($A73=\"\",\"\",VLOOKUP($A73,INSCRITS!$D$4:$W$506,15,0))","v":""},{"$f":"IF(ISNA(VLOOKUP($A73,OCEANMAN!AC$7:AI$52,6,0)),\"\",VLOOKUP($A73,OCEANMAN!AC$7:AI$52,6,0))","v":""},{"$f":"IF(ISNA(VLOOKUP($A73,OCEANMAN!AC$7:AI$52,7,0)),\"\",VLOOKUP($A73,OCEANMAN!AC$7:AI$52,7,0))","v":""},{"$f":"IF($A73=\"\",\"\",VLOOKUP($A73,INSCRITS!$D$4:$W$506,16,0))","v":""},{"$f":"IF(ISNA(VLOOKUP($A73,CNC!N$7:AC$52,6,0)),\"\",VLOOKUP($A73,CNC!N$7:AC$52,6,0))","v":""},{"$f":"IF(ISNA(VLOOKUP($A73,CNC!N$7:AC$52,7,0)),\"\",VLOOKUP($A73,CNC!N$7:AC$52,7,0))","v":""},0,{"$f":"IF($A73=\"\",\"\",VLOOKUP($A73,INSCRITS!$D$4:$W$506,16,0))","v":""},null,{"$f":"IF(AG73=\"\",\"\",VLOOKUP(AG73,[0]!Relais,2))","v":""},{"$f":"IF($A73=\"\",\"\",VLOOKUP($A73,INSCRITS!$D$4:$W$506,17,0))","v":""},null,{"$f":"IF(AJ73=\"\",\"\",VLOOKUP(AJ73,[0]!Relais,2))","v":""},{"$f":"IF($A73=\"\",\"\",VLOOKUP($A73,INSCRITS!$D$4:$W$506,18,0))","v":""},null,{"$f":"IF(AM73=\"\",\"\",VLOOKUP(AM73,[0]!Relais,2))","v":""},{"$f":"IF($A73=\"\",\"\",VLOOKUP($A73,INSCRITS!$D$4:$W$506,19,0))","v":""},null,{"$f":"IF(AP73=\"\",\"\",VLOOKUP(AP73,[0]!Relais,2))","v":""},0,0]
[null,{"$f":"IF($A74=\"\",\"\",VLOOKUP($A74,INSCRITS!$D$4:$W$501,2,0))","v":""},null,{"$f":"IF($A74=\"\",\"\",VLOOKUP($A74,INSCRITS!$D$4:$W$501,4,0))","v":""},{"$f":"IF($A74=\"\",\"\",VLOOKUP($A74,INSCRITS!$D$4:$W$501,5,0))","v":""},{"$f":"IF($A74=\"\",\"\",VLOOKUP($A74,INSCRITS!$D$4:$W$501,6,0))","v":""},{"$f":"IF($A74=\"\",\"\",VLOOKUP($A74,INSCRITS!$D$4:$W$501,7,0))","v":""},{"$f":"IF($A74=\"\",\"\",VLOOKUP($A74,INSCRITS!$D$4:$W$501,8,0))","v":""},{"$f":"IF($A74=\"\",\"\",VLOOKUP($A74,INSCRITS!$D$4:$W$501,9,0))","v":""},{"$f":"IF($A74=\"\",\"\",VLOOKUP($A74,INSCRITS!$D$4:$W$506,10,0))","v":""},{"$f":"IF(ISNA(VLOOKUP($A74,SPRINT!AD$7:AJ$50,6,0)),\"\",VLOOKUP($A74,SPRINT!AD$7:AJ$50,6,0))","v":""},{"$f":"IF(ISNA(VLOOKUP($A74,SPRINT!AD$7:AJ$50,7,0)),\"\",VLOOKUP($A74,SPRINT!AD$7:AJ$50,7,0))","v":""},{"$f":"IF($A74=\"\",\"\",VLOOKUP($A74,INSCRITS!$D$4:$W$506,11,0))","v":""},{"$f":"IF(ISNA(VLOOKUP($A74,BATONS!AD$7:AJ$51,6,0)),\"\",VLOOKUP($A74,BATONS!AD$7:AJ$51,6,0))","v":""},{"$f":"IF(ISNA(VLOOKUP($A74,BATONS!AD$7:AJ$51,7,0)),\"\",VLOOKUP($A74,BATONS!AD$7:AJ$51,7,0))","v":""},{"$f":"IF($A74=\"\",\"\",VLOOKUP($A74,INSCRITS!$D$4:$W$506,12,0))","v":""},{"$f":"IF(ISNA(VLOOKUP($A74,PLANCHE!AC$7:AI$52,6,0)),\"\",VLOOKUP($A74,PLANCHE!AC$7:AI$52,6,0))","v":""},{"$f":"IF(ISNA(VLOOKUP($A74,PLANCHE!AC$7:AI$52,7,0)),\"\",VLOOKUP($A74,PLANCHE!AC$7:AI$52,7,0))","v":""},{"$f":"IF($A74=\"\",\"\",VLOOKUP($A74,INSCRITS!$D$4:$W$506,13,0))","v":""},{"$f":"IF(ISNA(VLOOKUP($A74,NAGE!N$7:T$52,6,0)),\"\",VLOOKUP($A74,NAGE!N$7:T$52,6,0))","v":""},{"$f":"IF(ISNA(VLOOKUP($A74,NAGE!N$7:T$52,7,0)),\"\",VLOOKUP($A74,NAGE!N$7:T$52,7,0))","v":""},{"$f":"IF($A74=\"\",\"\",VLOOKUP($A74,INSCRITS!$D$4:$W$506,14,0))","v":""},{"$f":"IF(ISNA(VLOOKUP($A74,SURFSKI!AC$8:AI$53,6,0)),\"\",VLOOKUP($A74,SURFSKI!AC$8:AI$53,6,0))","v":""},{"$f":"IF(ISNA(VLOOKUP($A74,SURFSKI!AC$8:AI$53,7,0)),\"\",VLOOKUP($A74,SURFSKI!AC$8:AI$53,7,0))","v":""},{"$f":"IF($A74=\"\",\"\",VLOOKUP($A74,INSCRITS!$D$4:$W$506,15,0))","v":""},{"$f":"IF(ISNA(VLOOKUP($A74,OCEANMAN!AC$7:AI$52,6,0)),\"\",VLOOKUP($A74,OCEANMAN!AC$7:AI$52,6,0))","v":""},{"$f":"IF(ISNA(VLOOKUP($A74,OCEANMAN!AC$7:AI$52,7,0)),\"\",VLOOKUP($A74,OCEANMAN!AC$7:AI$52,7,0))","v":""},{"$f":"IF($A74=\"\",\"\",VLOOKUP($A74,INSCRITS!$D$4:$W$506,16,0))","v":""},{"$f":"IF(ISNA(VLOOKUP($A74,CNC!N$7:AC$52,6,0)),\"\",VLOOKUP($A74,CNC!N$7:AC$52,6,0))","v":""},{"$f":"IF(ISNA(VLOOKUP($A74,CNC!N$7:AC$52,7,0)),\"\",VLOOKUP($A74,CNC!N$7:AC$52,7,0))","v":""},0,{"$f":"IF($A74=\"\",\"\",VLOOKUP($A74,INSCRITS!$D$4:$W$506,16,0))","v":""},null,{"$f":"IF(AG74=\"\",\"\",VLOOKUP(AG74,[0]!Relais,2))","v":""},{"$f":"IF($A74=\"\",\"\",VLOOKUP($A74,INSCRITS!$D$4:$W$506,17,0))","v":""},null,{"$f":"IF(AJ74=\"\",\"\",VLOOKUP(AJ74,[0]!Relais,2))","v":""},{"$f":"IF($A74=\"\",\"\",VLOOKUP($A74,INSCRITS!$D$4:$W$506,18,0))","v":""},null,{"$f":"IF(AM74=\"\",\"\",VLOOKUP(AM74,[0]!Relais,2))","v":""},{"$f":"IF($A74=\"\",\"\",VLOOKUP($A74,INSCRITS!$D$4:$W$506,19,0))","v":""},null,{"$f":"IF(AP74=\"\",\"\",VLOOKUP(AP74,[0]!Relais,2))","v":""},0,0]
[null,{"$f":"IF($A75=\"\",\"\",VLOOKUP($A75,INSCRITS!$D$4:$W$501,2,0))","v":""},null,{"$f":"IF($A75=\"\",\"\",VLOOKUP($A75,INSCRITS!$D$4:$W$501,4,0))","v":""},{"$f":"IF($A75=\"\",\"\",VLOOKUP($A75,INSCRITS!$D$4:$W$501,5,0))","v":""},{"$f":"IF($A75=\"\",\"\",VLOOKUP($A75,INSCRITS!$D$4:$W$501,6,0))","v":""},{"$f":"IF($A75=\"\",\"\",VLOOKUP($A75,INSCRITS!$D$4:$W$501,7,0))","v":""},{"$f":"IF($A75=\"\",\"\",VLOOKUP($A75,INSCRITS!$D$4:$W$501,8,0))","v":""},{"$f":"IF($A75=\"\",\"\",VLOOKUP($A75,INSCRITS!$D$4:$W$501,9,0))","v":""},{"$f":"IF($A75=\"\",\"\",VLOOKUP($A75,INSCRITS!$D$4:$W$506,10,0))","v":""},{"$f":"IF(ISNA(VLOOKUP($A75,SPRINT!AD$7:AJ$50,6,0)),\"\",VLOOKUP($A75,SPRINT!AD$7:AJ$50,6,0))","v":""},{"$f":"IF(ISNA(VLOOKUP($A75,SPRINT!AD$7:AJ$50,7,0)),\"\",VLOOKUP($A75,SPRINT!AD$7:AJ$50,7,0))","v":""},{"$f":"IF($A75=\"\",\"\",VLOOKUP($A75,INSCRITS!$D$4:$W$506,11,0))","v":""},{"$f":"IF(ISNA(VLOOKUP($A75,BATONS!AD$7:AJ$51,6,0)),\"\",VLOOKUP($A75,BATONS!AD$7:AJ$51,6,0))","v":""},{"$f":"IF(ISNA(VLOOKUP($A75,BATONS!AD$7:AJ$51,7,0)),\"\",VLOOKUP($A75,BATONS!AD$7:AJ$51,7,0))","v":""},{"$f":"IF($A75=\"\",\"\",VLOOKUP($A75,INSCRITS!$D$4:$W$506,12,0))","v":""},{"$f":"IF(ISNA(VLOOKUP($A75,PLANCHE!AC$7:AI$52,6,0)),\"\",VLOOKUP($A75,PLANCHE!AC$7:AI$52,6,0))","v":""},{"$f":"IF(ISNA(VLOOKUP($A75,PLANCHE!AC$7:AI$52,7,0)),\"\",VLOOKUP($A75,PLANCHE!AC$7:AI$52,7,0))","v":""},{"$f":"IF($A75=\"\",\"\",VLOOKUP($A75,INSCRITS!$D$4:$W$506,13,0))","v":""},{"$f":"IF(ISNA(VLOOKUP($A75,NAGE!N$7:T$52,6,0)),\"\",VLOOKUP($A75,NAGE!N$7:T$52,6,0))","v":""},{"$f":"IF(ISNA(VLOOKUP($A75,NAGE!N$7:T$52,7,0)),\"\",VLOOKUP($A75,NAGE!N$7:T$52,7,0))","v":""},{"$f":"IF($A75=\"\",\"\",VLOOKUP($A75,INSCRITS!$D$4:$W$506,14,0))","v":""},{"$f":"IF(ISNA(VLOOKUP($A75,SURFSKI!AC$8:AI$53,6,0)),\"\",VLOOKUP($A75,SURFSKI!AC$8:AI$53,6,0))","v":""},{"$f":"IF(ISNA(VLOOKUP($A75,SURFSKI!AC$8:AI$53,7,0)),\"\",VLOOKUP($A75,SURFSKI!AC$8:AI$53,7,0))","v":""},{"$f":"IF($A75=\"\",\"\",VLOOKUP($A75,INSCRITS!$D$4:$W$506,15,0))","v":""},{"$f":"IF(ISNA(VLOOKUP($A75,OCEANMAN!AC$7:AI$52,6,0)),\"\",VLOOKUP($A75,OCEANMAN!AC$7:AI$52,6,0))","v":""},{"$f":"IF(ISNA(VLOOKUP($A75,OCEANMAN!AC$7:AI$52,7,0)),\"\",VLOOKUP($A75,OCEANMAN!AC$7:AI$52,7,0))","v":""},{"$f":"IF($A75=\"\",\"\",VLOOKUP($A75,INSCRITS!$D$4:$W$506,16,0))","v":""},{"$f":"IF(ISNA(VLOOKUP($A75,CNC!N$7:AC$52,6,0)),\"\",VLOOKUP($A75,CNC!N$7:AC$52,6,0))","v":""},{"$f":"IF(ISNA(VLOOKUP($A75,CNC!N$7:AC$52,7,0)),\"\",VLOOKUP($A75,CNC!N$7:AC$52,7,0))","v":""},0,{"$f":"IF($A75=\"\",\"\",VLOOKUP($A75,INSCRITS!$D$4:$W$506,16,0))","v":""},null,{"$f":"IF(AG75=\"\",\"\",VLOOKUP(AG75,[0]!Relais,2))","v":""},{"$f":"IF($A75=\"\",\"\",VLOOKUP($A75,INSCRITS!$D$4:$W$506,17,0))","v":""},null,{"$f":"IF(AJ75=\"\",\"\",VLOOKUP(AJ75,[0]!Relais,2))","v":""},{"$f":"IF($A75=\"\",\"\",VLOOKUP($A75,INSCRITS!$D$4:$W$506,18,0))","v":""},null,{"$f":"IF(AM75=\"\",\"\",VLOOKUP(AM75,[0]!Relais,2))","v":""},{"$f":"IF($A75=\"\",\"\",VLOOKUP($A75,INSCRITS!$D$4:$W$506,19,0))","v":""},null,{"$f":"IF(AP75=\"\",\"\",VLOOKUP(AP75,[0]!Relais,2))","v":""},0,0]
[null,{"$f":"IF($A76=\"\",\"\",VLOOKUP($A76,INSCRITS!$D$4:$W$501,2,0))","v":""},null,{"$f":"IF($A76=\"\",\"\",VLOOKUP($A76,INSCRITS!$D$4:$W$501,4,0))","v":""},{"$f":"IF($A76=\"\",\"\",VLOOKUP($A76,INSCRITS!$D$4:$W$501,5,0))","v":""},{"$f":"IF($A76=\"\",\"\",VLOOKUP($A76,INSCRITS!$D$4:$W$501,6,0))","v":""},{"$f":"IF($A76=\"\",\"\",VLOOKUP($A76,INSCRITS!$D$4:$W$501,7,0))","v":""},{"$f":"IF($A76=\"\",\"\",VLOOKUP($A76,INSCRITS!$D$4:$W$501,8,0))","v":""},{"$f":"IF($A76=\"\",\"\",VLOOKUP($A76,INSCRITS!$D$4:$W$501,9,0))","v":""},{"$f":"IF($A76=\"\",\"\",VLOOKUP($A76,INSCRITS!$D$4:$W$506,10,0))","v":""},{"$f":"IF(ISNA(VLOOKUP($A76,SPRINT!AD$7:AJ$50,6,0)),\"\",VLOOKUP($A76,SPRINT!AD$7:AJ$50,6,0))","v":""},{"$f":"IF(ISNA(VLOOKUP($A76,SPRINT!AD$7:AJ$50,7,0)),\"\",VLOOKUP($A76,SPRINT!AD$7:AJ$50,7,0))","v":""},{"$f":"IF($A76=\"\",\"\",VLOOKUP($A76,INSCRITS!$D$4:$W$506,11,0))","v":""},{"$f":"IF(ISNA(VLOOKUP($A76,BATONS!AD$7:AJ$51,6,0)),\"\",VLOOKUP($A76,BATONS!AD$7:AJ$51,6,0))","v":""},{"$f":"IF(ISNA(VLOOKUP($A76,BATONS!AD$7:AJ$51,7,0)),\"\",VLOOKUP($A76,BATONS!AD$7:AJ$51,7,0))","v":""},{"$f":"IF($A76=\"\",\"\",VLOOKUP($A76,INSCRITS!$D$4:$W$506,12,0))","v":""},{"$f":"IF(ISNA(VLOOKUP($A76,PLANCHE!AC$7:AI$52,6,0)),\"\",VLOOKUP($A76,PLANCHE!AC$7:AI$52,6,0))","v":""},{"$f":"IF(ISNA(VLOOKUP($A76,PLANCHE!AC$7:AI$52,7,0)),\"\",VLOOKUP($A76,PLANCHE!AC$7:AI$52,7,0))","v":""},{"$f":"IF($A76=\"\",\"\",VLOOKUP($A76,INSCRITS!$D$4:$W$506,13,0))","v":""},{"$f":"IF(ISNA(VLOOKUP($A76,NAGE!N$7:T$52,6,0)),\"\",VLOOKUP($A76,NAGE!N$7:T$52,6,0))","v":""},{"$f":"IF(ISNA(VLOOKUP($A76,NAGE!N$7:T$52,7,0)),\"\",VLOOKUP($A76,NAGE!N$7:T$52,7,0))","v":""},{"$f":"IF($A76=\"\",\"\",VLOOKUP($A76,INSCRITS!$D$4:$W$506,14,0))","v":""},{"$f":"IF(ISNA(VLOOKUP($A76,SURFSKI!AC$8:AI$53,6,0)),\"\",VLOOKUP($A76,SURFSKI!AC$8:AI$53,6,0))","v":""},{"$f":"IF(ISNA(VLOOKUP($A76,SURFSKI!AC$8:AI$53,7,0)),\"\",VLOOKUP($A76,SURFSKI!AC$8:AI$53,7,0))","v":""},{"$f":"IF($A76=\"\",\"\",VLOOKUP($A76,INSCRITS!$D$4:$W$506,15,0))","v":""},{"$f":"IF(ISNA(VLOOKUP($A76,OCEANMAN!AC$7:AI$52,6,0)),\"\",VLOOKUP($A76,OCEANMAN!AC$7:AI$52,6,0))","v":""},{"$f":"IF(ISNA(VLOOKUP($A76,OCEANMAN!AC$7:AI$52,7,0)),\"\",VLOOKUP($A76,OCEANMAN!AC$7:AI$52,7,0))","v":""},{"$f":"IF($A76=\"\",\"\",VLOOKUP($A76,INSCRITS!$D$4:$W$506,16,0))","v":""},{"$f":"IF(ISNA(VLOOKUP($A76,CNC!N$7:AC$52,6,0)),\"\",VLOOKUP($A76,CNC!N$7:AC$52,6,0))","v":""},{"$f":"IF(ISNA(VLOOKUP($A76,CNC!N$7:AC$52,7,0)),\"\",VLOOKUP($A76,CNC!N$7:AC$52,7,0))","v":""},0,{"$f":"IF($A76=\"\",\"\",VLOOKUP($A76,INSCRITS!$D$4:$W$506,16,0))","v":""},null,{"$f":"IF(AG76=\"\",\"\",VLOOKUP(AG76,[0]!Relais,2))","v":""},{"$f":"IF($A76=\"\",\"\",VLOOKUP($A76,INSCRITS!$D$4:$W$506,17,0))","v":""},null,{"$f":"IF(AJ76=\"\",\"\",VLOOKUP(AJ76,[0]!Relais,2))","v":""},{"$f":"IF($A76=\"\",\"\",VLOOKUP($A76,INSCRITS!$D$4:$W$506,18,0))","v":""},null,{"$f":"IF(AM76=\"\",\"\",VLOOKUP(AM76,[0]!Relais,2))","v":""},{"$f":"IF($A76=\"\",\"\",VLOOKUP($A76,INSCRITS!$D$4:$W$506,19,0))","v":""},null,{"$f":"IF(AP76=\"\",\"\",VLOOKUP(AP76,[0]!Relais,2))","v":""},0,0]
[null,{"$f":"IF($A77=\"\",\"\",VLOOKUP($A77,INSCRITS!$D$4:$W$501,2,0))","v":""},null,{"$f":"IF($A77=\"\",\"\",VLOOKUP($A77,INSCRITS!$D$4:$W$501,4,0))","v":""},{"$f":"IF($A77=\"\",\"\",VLOOKUP($A77,INSCRITS!$D$4:$W$501,5,0))","v":""},{"$f":"IF($A77=\"\",\"\",VLOOKUP($A77,INSCRITS!$D$4:$W$501,6,0))","v":""},{"$f":"IF($A77=\"\",\"\",VLOOKUP($A77,INSCRITS!$D$4:$W$501,7,0))","v":""},{"$f":"IF($A77=\"\",\"\",VLOOKUP($A77,INSCRITS!$D$4:$W$501,8,0))","v":""},{"$f":"IF($A77=\"\",\"\",VLOOKUP($A77,INSCRITS!$D$4:$W$501,9,0))","v":""},{"$f":"IF($A77=\"\",\"\",VLOOKUP($A77,INSCRITS!$D$4:$W$506,10,0))","v":""},{"$f":"IF(ISNA(VLOOKUP($A77,SPRINT!AD$7:AJ$50,6,0)),\"\",VLOOKUP($A77,SPRINT!AD$7:AJ$50,6,0))","v":""},{"$f":"IF(ISNA(VLOOKUP($A77,SPRINT!AD$7:AJ$50,7,0)),\"\",VLOOKUP($A77,SPRINT!AD$7:AJ$50,7,0))","v":""},{"$f":"IF($A77=\"\",\"\",VLOOKUP($A77,INSCRITS!$D$4:$W$506,11,0))","v":""},{"$f":"IF(ISNA(VLOOKUP($A77,BATONS!AD$7:AJ$51,6,0)),\"\",VLOOKUP($A77,BATONS!AD$7:AJ$51,6,0))","v":""},{"$f":"IF(ISNA(VLOOKUP($A77,BATONS!AD$7:AJ$51,7,0)),\"\",VLOOKUP($A77,BATONS!AD$7:AJ$51,7,0))","v":""},{"$f":"IF($A77=\"\",\"\",VLOOKUP($A77,INSCRITS!$D$4:$W$506,12,0))","v":""},{"$f":"IF(ISNA(VLOOKUP($A77,PLANCHE!AC$7:AI$52,6,0)),\"\",VLOOKUP($A77,PLANCHE!AC$7:AI$52,6,0))","v":""},{"$f":"IF(ISNA(VLOOKUP($A77,PLANCHE!AC$7:AI$52,7,0)),\"\",VLOOKUP($A77,PLANCHE!AC$7:AI$52,7,0))","v":""},{"$f":"IF($A77=\"\",\"\",VLOOKUP($A77,INSCRITS!$D$4:$W$506,13,0))","v":""},{"$f":"IF(ISNA(VLOOKUP($A77,NAGE!N$7:T$52,6,0)),\"\",VLOOKUP($A77,NAGE!N$7:T$52,6,0))","v":""},{"$f":"IF(ISNA(VLOOKUP($A77,NAGE!N$7:T$52,7,0)),\"\",VLOOKUP($A77,NAGE!N$7:T$52,7,0))","v":""},{"$f":"IF($A77=\"\",\"\",VLOOKUP($A77,INSCRITS!$D$4:$W$506,14,0))","v":""},{"$f":"IF(ISNA(VLOOKUP($A77,SURFSKI!AC$8:AI$53,6,0)),\"\",VLOOKUP($A77,SURFSKI!AC$8:AI$53,6,0))","v":""},{"$f":"IF(ISNA(VLOOKUP($A77,SURFSKI!AC$8:AI$53,7,0)),\"\",VLOOKUP($A77,SURFSKI!AC$8:AI$53,7,0))","v":""},{"$f":"IF($A77=\"\",\"\",VLOOKUP($A77,INSCRITS!$D$4:$W$506,15,0))","v":""},{"$f":"IF(ISNA(VLOOKUP($A77,OCEANMAN!AC$7:AI$52,6,0)),\"\",VLOOKUP($A77,OCEANMAN!AC$7:AI$52,6,0))","v":""},{"$f":"IF(ISNA(VLOOKUP($A77,OCEANMAN!AC$7:AI$52,7,0)),\"\",VLOOKUP($A77,OCEANMAN!AC$7:AI$52,7,0))","v":""},{"$f":"IF($A77=\"\",\"\",VLOOKUP($A77,INSCRITS!$D$4:$W$506,16,0))","v":""},{"$f":"IF(ISNA(VLOOKUP($A77,CNC!N$7:AC$52,6,0)),\"\",VLOOKUP($A77,CNC!N$7:AC$52,6,0))","v":""},{"$f":"IF(ISNA(VLOOKUP($A77,CNC!N$7:AC$52,7,0)),\"\",VLOOKUP($A77,CNC!N$7:AC$52,7,0))","v":""},0,{"$f":"IF($A77=\"\",\"\",VLOOKUP($A77,INSCRITS!$D$4:$W$506,16,0))","v":""},null,{"$f":"IF(AG77=\"\",\"\",VLOOKUP(AG77,[0]!Relais,2))","v":""},{"$f":"IF($A77=\"\",\"\",VLOOKUP($A77,INSCRITS!$D$4:$W$506,17,0))","v":""},null,{"$f":"IF(AJ77=\"\",\"\",VLOOKUP(AJ77,[0]!Relais,2))","v":""},{"$f":"IF($A77=\"\",\"\",VLOOKUP($A77,INSCRITS!$D$4:$W$506,18,0))","v":""},null,{"$f":"IF(AM77=\"\",\"\",VLOOKUP(AM77,[0]!Relais,2))","v":""},{"$f":"IF($A77=\"\",\"\",VLOOKUP($A77,INSCRITS!$D$4:$W$506,19,0))","v":""},null,{"$f":"IF(AP77=\"\",\"\",VLOOKUP(AP77,[0]!Relais,2))","v":""},0,0]
[null,{"$f":"IF($A78=\"\",\"\",VLOOKUP($A78,INSCRITS!$D$4:$W$501,2,0))","v":""},null,{"$f":"IF($A78=\"\",\"\",VLOOKUP($A78,INSCRITS!$D$4:$W$501,4,0))","v":""},{"$f":"IF($A78=\"\",\"\",VLOOKUP($A78,INSCRITS!$D$4:$W$501,5,0))","v":""},{"$f":"IF($A78=\"\",\"\",VLOOKUP($A78,INSCRITS!$D$4:$W$501,6,0))","v":""},{"$f":"IF($A78=\"\",\"\",VLOOKUP($A78,INSCRITS!$D$4:$W$501,7,0))","v":""},{"$f":"IF($A78=\"\",\"\",VLOOKUP($A78,INSCRITS!$D$4:$W$501,8,0))","v":""},{"$f":"IF($A78=\"\",\"\",VLOOKUP($A78,INSCRITS!$D$4:$W$501,9,0))","v":""},{"$f":"IF($A78=\"\",\"\",VLOOKUP($A78,INSCRITS!$D$4:$W$506,10,0))","v":""},{"$f":"IF(ISNA(VLOOKUP($A78,SPRINT!AD$7:AJ$50,6,0)),\"\",VLOOKUP($A78,SPRINT!AD$7:AJ$50,6,0))","v":""},{"$f":"IF(ISNA(VLOOKUP($A78,SPRINT!AD$7:AJ$50,7,0)),\"\",VLOOKUP($A78,SPRINT!AD$7:AJ$50,7,0))","v":""},{"$f":"IF($A78=\"\",\"\",VLOOKUP($A78,INSCRITS!$D$4:$W$506,11,0))","v":""},{"$f":"IF(ISNA(VLOOKUP($A78,BATONS!AD$7:AJ$51,6,0)),\"\",VLOOKUP($A78,BATONS!AD$7:AJ$51,6,0))","v":""},{"$f":"IF(ISNA(VLOOKUP($A78,BATONS!AD$7:AJ$51,7,0)),\"\",VLOOKUP($A78,BATONS!AD$7:AJ$51,7,0))","v":""},{"$f":"IF($A78=\"\",\"\",VLOOKUP($A78,INSCRITS!$D$4:$W$506,12,0))","v":""},{"$f":"IF(ISNA(VLOOKUP($A78,PLANCHE!AC$7:AI$52,6,0)),\"\",VLOOKUP($A78,PLANCHE!AC$7:AI$52,6,0))","v":""},{"$f":"IF(ISNA(VLOOKUP($A78,PLANCHE!AC$7:AI$52,7,0)),\"\",VLOOKUP($A78,PLANCHE!AC$7:AI$52,7,0))","v":""},{"$f":"IF($A78=\"\",\"\",VLOOKUP($A78,INSCRITS!$D$4:$W$506,13,0))","v":""},{"$f":"IF(ISNA(VLOOKUP($A78,NAGE!N$7:T$52,6,0)),\"\",VLOOKUP($A78,NAGE!N$7:T$52,6,0))","v":""},{"$f":"IF(ISNA(VLOOKUP($A78,NAGE!N$7:T$52,7,0)),\"\",VLOOKUP($A78,NAGE!N$7:T$52,7,0))","v":""},{"$f":"IF($A78=\"\",\"\",VLOOKUP($A78,INSCRITS!$D$4:$W$506,14,0))","v":""},{"$f":"IF(ISNA(VLOOKUP($A78,SURFSKI!AC$8:AI$53,6,0)),\"\",VLOOKUP($A78,SURFSKI!AC$8:AI$53,6,0))","v":""},{"$f":"IF(ISNA(VLOOKUP($A78,SURFSKI!AC$8:AI$53,7,0)),\"\",VLOOKUP($A78,SURFSKI!AC$8:AI$53,7,0))","v":""},{"$f":"IF($A78=\"\",\"\",VLOOKUP($A78,INSCRITS!$D$4:$W$506,15,0))","v":""},{"$f":"IF(ISNA(VLOOKUP($A78,OCEANMAN!AC$7:AI$52,6,0)),\"\",VLOOKUP($A78,OCEANMAN!AC$7:AI$52,6,0))","v":""},{"$f":"IF(ISNA(VLOOKUP($A78,OCEANMAN!AC$7:AI$52,7,0)),\"\",VLOOKUP($A78,OCEANMAN!AC$7:AI$52,7,0))","v":""},{"$f":"IF($A78=\"\",\"\",VLOOKUP($A78,INSCRITS!$D$4:$W$506,16,0))","v":""},{"$f":"IF(ISNA(VLOOKUP($A78,CNC!N$7:AC$52,6,0)),\"\",VLOOKUP($A78,CNC!N$7:AC$52,6,0))","v":""},{"$f":"IF(ISNA(VLOOKUP($A78,CNC!N$7:AC$52,7,0)),\"\",VLOOKUP($A78,CNC!N$7:AC$52,7,0))","v":""},0,{"$f":"IF($A78=\"\",\"\",VLOOKUP($A78,INSCRITS!$D$4:$W$506,16,0))","v":""},null,{"$f":"IF(AG78=\"\",\"\",VLOOKUP(AG78,[0]!Relais,2))","v":""},{"$f":"IF($A78=\"\",\"\",VLOOKUP($A78,INSCRITS!$D$4:$W$506,17,0))","v":""},null,{"$f":"IF(AJ78=\"\",\"\",VLOOKUP(AJ78,[0]!Relais,2))","v":""},{"$f":"IF($A78=\"\",\"\",VLOOKUP($A78,INSCRITS!$D$4:$W$506,18,0))","v":""},null,{"$f":"IF(AM78=\"\",\"\",VLOOKUP(AM78,[0]!Relais,2))","v":""},{"$f":"IF($A78=\"\",\"\",VLOOKUP($A78,INSCRITS!$D$4:$W$506,19,0))","v":""},null,{"$f":"IF(AP78=\"\",\"\",VLOOKUP(AP78,[0]!Relais,2))","v":""},0,0]
[null,{"$f":"IF($A79=\"\",\"\",VLOOKUP($A79,INSCRITS!$D$4:$W$501,2,0))","v":""},null,{"$f":"IF($A79=\"\",\"\",VLOOKUP($A79,INSCRITS!$D$4:$W$501,4,0))","v":""},{"$f":"IF($A79=\"\",\"\",VLOOKUP($A79,INSCRITS!$D$4:$W$501,5,0))","v":""},{"$f":"IF($A79=\"\",\"\",VLOOKUP($A79,INSCRITS!$D$4:$W$501,6,0))","v":""},{"$f":"IF($A79=\"\",\"\",VLOOKUP($A79,INSCRITS!$D$4:$W$501,7,0))","v":""},{"$f":"IF($A79=\"\",\"\",VLOOKUP($A79,INSCRITS!$D$4:$W$501,8,0))","v":""},{"$f":"IF($A79=\"\",\"\",VLOOKUP($A79,INSCRITS!$D$4:$W$501,9,0))","v":""},{"$f":"IF($A79=\"\",\"\",VLOOKUP($A79,INSCRITS!$D$4:$W$506,10,0))","v":""},{"$f":"IF(ISNA(VLOOKUP($A79,SPRINT!AD$7:AJ$50,6,0)),\"\",VLOOKUP($A79,SPRINT!AD$7:AJ$50,6,0))","v":""},{"$f":"IF(ISNA(VLOOKUP($A79,SPRINT!AD$7:AJ$50,7,0)),\"\",VLOOKUP($A79,SPRINT!AD$7:AJ$50,7,0))","v":""},{"$f":"IF($A79=\"\",\"\",VLOOKUP($A79,INSCRITS!$D$4:$W$506,11,0))","v":""},{"$f":"IF(ISNA(VLOOKUP($A79,BATONS!AD$7:AJ$51,6,0)),\"\",VLOOKUP($A79,BATONS!AD$7:AJ$51,6,0))","v":""},{"$f":"IF(ISNA(VLOOKUP($A79,BATONS!AD$7:AJ$51,7,0)),\"\",VLOOKUP($A79,BATONS!AD$7:AJ$51,7,0))","v":""},{"$f":"IF($A79=\"\",\"\",VLOOKUP($A79,INSCRITS!$D$4:$W$506,12,0))","v":""},{"$f":"IF(ISNA(VLOOKUP($A79,PLANCHE!AC$7:AI$52,6,0)),\"\",VLOOKUP($A79,PLANCHE!AC$7:AI$52,6,0))","v":""},{"$f":"IF(ISNA(VLOOKUP($A79,PLANCHE!AC$7:AI$52,7,0)),\"\",VLOOKUP($A79,PLANCHE!AC$7:AI$52,7,0))","v":""},{"$f":"IF($A79=\"\",\"\",VLOOKUP($A79,INSCRITS!$D$4:$W$506,13,0))","v":""},{"$f":"IF(ISNA(VLOOKUP($A79,NAGE!N$7:T$52,6,0)),\"\",VLOOKUP($A79,NAGE!N$7:T$52,6,0))","v":""},{"$f":"IF(ISNA(VLOOKUP($A79,NAGE!N$7:T$52,7,0)),\"\",VLOOKUP($A79,NAGE!N$7:T$52,7,0))","v":""},{"$f":"IF($A79=\"\",\"\",VLOOKUP($A79,INSCRITS!$D$4:$W$506,14,0))","v":""},{"$f":"IF(ISNA(VLOOKUP($A79,SURFSKI!AC$8:AI$53,6,0)),\"\",VLOOKUP($A79,SURFSKI!AC$8:AI$53,6,0))","v":""},{"$f":"IF(ISNA(VLOOKUP($A79,SURFSKI!AC$8:AI$53,7,0)),\"\",VLOOKUP($A79,SURFSKI!AC$8:AI$53,7,0))","v":""},{"$f":"IF($A79=\"\",\"\",VLOOKUP($A79,INSCRITS!$D$4:$W$506,15,0))","v":""},{"$f":"IF(ISNA(VLOOKUP($A79,OCEANMAN!AC$7:AI$52,6,0)),\"\",VLOOKUP($A79,OCEANMAN!AC$7:AI$52,6,0))","v":""},{"$f":"IF(ISNA(VLOOKUP($A79,OCEANMAN!AC$7:AI$52,7,0)),\"\",VLOOKUP($A79,OCEANMAN!AC$7:AI$52,7,0))","v":""},{"$f":"IF($A79=\"\",\"\",VLOOKUP($A79,INSCRITS!$D$4:$W$506,16,0))","v":""},{"$f":"IF(ISNA(VLOOKUP($A79,CNC!N$7:AC$52,6,0)),\"\",VLOOKUP($A79,CNC!N$7:AC$52,6,0))","v":""},{"$f":"IF(ISNA(VLOOKUP($A79,CNC!N$7:AC$52,7,0)),\"\",VLOOKUP($A79,CNC!N$7:AC$52,7,0))","v":""},0,{"$f":"IF($A79=\"\",\"\",VLOOKUP($A79,INSCRITS!$D$4:$W$506,16,0))","v":""},null,{"$f":"IF(AG79=\"\",\"\",VLOOKUP(AG79,[0]!Relais,2))","v":""},{"$f":"IF($A79=\"\",\"\",VLOOKUP($A79,INSCRITS!$D$4:$W$506,17,0))","v":""},null,{"$f":"IF(AJ79=\"\",\"\",VLOOKUP(AJ79,[0]!Relais,2))","v":""},{"$f":"IF($A79=\"\",\"\",VLOOKUP($A79,INSCRITS!$D$4:$W$506,18,0))","v":""},null,{"$f":"IF(AM79=\"\",\"\",VLOOKUP(AM79,[0]!Relais,2))","v":""},{"$f":"IF($A79=\"\",\"\",VLOOKUP($A79,INSCRITS!$D$4:$W$506,19,0))","v":""},null,{"$f":"IF(AP79=\"\",\"\",VLOOKUP(AP79,[0]!Relais,2))","v":""},0,0]
[null,{"$f":"IF($A80=\"\",\"\",VLOOKUP($A80,INSCRITS!$D$4:$W$501,2,0))","v":""},null,{"$f":"IF($A80=\"\",\"\",VLOOKUP($A80,INSCRITS!$D$4:$W$501,4,0))","v":""},{"$f":"IF($A80=\"\",\"\",VLOOKUP($A80,INSCRITS!$D$4:$W$501,5,0))","v":""},{"$f":"IF($A80=\"\",\"\",VLOOKUP($A80,INSCRITS!$D$4:$W$501,6,0))","v":""},{"$f":"IF($A80=\"\",\"\",VLOOKUP($A80,INSCRITS!$D$4:$W$501,7,0))","v":""},{"$f":"IF($A80=\"\",\"\",VLOOKUP($A80,INSCRITS!$D$4:$W$501,8,0))","v":""},{"$f":"IF($A80=\"\",\"\",VLOOKUP($A80,INSCRITS!$D$4:$W$501,9,0))","v":""},{"$f":"IF($A80=\"\",\"\",VLOOKUP($A80,INSCRITS!$D$4:$W$506,10,0))","v":""},{"$f":"IF(ISNA(VLOOKUP($A80,SPRINT!AD$7:AJ$50,6,0)),\"\",VLOOKUP($A80,SPRINT!AD$7:AJ$50,6,0))","v":""},{"$f":"IF(ISNA(VLOOKUP($A80,SPRINT!AD$7:AJ$50,7,0)),\"\",VLOOKUP($A80,SPRINT!AD$7:AJ$50,7,0))","v":""},{"$f":"IF($A80=\"\",\"\",VLOOKUP($A80,INSCRITS!$D$4:$W$506,11,0))","v":""},{"$f":"IF(ISNA(VLOOKUP($A80,BATONS!AD$7:AJ$51,6,0)),\"\",VLOOKUP($A80,BATONS!AD$7:AJ$51,6,0))","v":""},{"$f":"IF(ISNA(VLOOKUP($A80,BATONS!AD$7:AJ$51,7,0)),\"\",VLOOKUP($A80,BATONS!AD$7:AJ$51,7,0))","v":""},{"$f":"IF($A80=\"\",\"\",VLOOKUP($A80,INSCRITS!$D$4:$W$506,12,0))","v":""},{"$f":"IF(ISNA(VLOOKUP($A80,PLANCHE!AC$7:AI$52,6,0)),\"\",VLOOKUP($A80,PLANCHE!AC$7:AI$52,6,0))","v":""},{"$f":"IF(ISNA(VLOOKUP($A80,PLANCHE!AC$7:AI$52,7,0)),\"\",VLOOKUP($A80,PLANCHE!AC$7:AI$52,7,0))","v":""},{"$f":"IF($A80=\"\",\"\",VLOOKUP($A80,INSCRITS!$D$4:$W$506,13,0))","v":""},{"$f":"IF(ISNA(VLOOKUP($A80,NAGE!N$7:T$52,6,0)),\"\",VLOOKUP($A80,NAGE!N$7:T$52,6,0))","v":""},{"$f":"IF(ISNA(VLOOKUP($A80,NAGE!N$7:T$52,7,0)),\"\",VLOOKUP($A80,NAGE!N$7:T$52,7,0))","v":""},{"$f":"IF($A80=\"\",\"\",VLOOKUP($A80,INSCRITS!$D$4:$W$506,14,0))","v":""},{"$f":"IF(ISNA(VLOOKUP($A80,SURFSKI!AC$8:AI$53,6,0)),\"\",VLOOKUP($A80,SURFSKI!AC$8:AI$53,6,0))","v":""},{"$f":"IF(ISNA(VLOOKUP($A80,SURFSKI!AC$8:AI$53,7,0)),\"\",VLOOKUP($A80,SURFSKI!AC$8:AI$53,7,0))","v":""},{"$f":"IF($A80=\"\",\"\",VLOOKUP($A80,INSCRITS!$D$4:$W$506,15,0))","v":""},{"$f":"IF(ISNA(VLOOKUP($A80,OCEANMAN!AC$7:AI$52,6,0)),\"\",VLOOKUP($A80,OCEANMAN!AC$7:AI$52,6,0))","v":""},{"$f":"IF(ISNA(VLOOKUP($A80,OCEANMAN!AC$7:AI$52,7,0)),\"\",VLOOKUP($A80,OCEANMAN!AC$7:AI$52,7,0))","v":""},{"$f":"IF($A80=\"\",\"\",VLOOKUP($A80,INSCRITS!$D$4:$W$506,16,0))","v":""},{"$f":"IF(ISNA(VLOOKUP($A80,CNC!N$7:AC$52,6,0)),\"\",VLOOKUP($A80,CNC!N$7:AC$52,6,0))","v":""},{"$f":"IF(ISNA(VLOOKUP($A80,CNC!N$7:AC$52,7,0)),\"\",VLOOKUP($A80,CNC!N$7:AC$52,7,0))","v":""},0,{"$f":"IF($A80=\"\",\"\",VLOOKUP($A80,INSCRITS!$D$4:$W$506,16,0))","v":""},null,{"$f":"IF(AG80=\"\",\"\",VLOOKUP(AG80,[0]!Relais,2))","v":""},{"$f":"IF($A80=\"\",\"\",VLOOKUP($A80,INSCRITS!$D$4:$W$506,17,0))","v":""},null,{"$f":"IF(AJ80=\"\",\"\",VLOOKUP(AJ80,[0]!Relais,2))","v":""},{"$f":"IF($A80=\"\",\"\",VLOOKUP($A80,INSCRITS!$D$4:$W$506,18,0))","v":""},null,{"$f":"IF(AM80=\"\",\"\",VLOOKUP(AM80,[0]!Relais,2))","v":""},{"$f":"IF($A80=\"\",\"\",VLOOKUP($A80,INSCRITS!$D$4:$W$506,19,0))","v":""},null,{"$f":"IF(AP80=\"\",\"\",VLOOKUP(AP80,[0]!Relais,2))","v":""},0,0]
[null,{"$f":"IF($A81=\"\",\"\",VLOOKUP($A81,INSCRITS!$D$4:$W$501,2,0))","v":""},null,{"$f":"IF($A81=\"\",\"\",VLOOKUP($A81,INSCRITS!$D$4:$W$501,4,0))","v":""},{"$f":"IF($A81=\"\",\"\",VLOOKUP($A81,INSCRITS!$D$4:$W$501,5,0))","v":""},{"$f":"IF($A81=\"\",\"\",VLOOKUP($A81,INSCRITS!$D$4:$W$501,6,0))","v":""},{"$f":"IF($A81=\"\",\"\",VLOOKUP($A81,INSCRITS!$D$4:$W$501,7,0))","v":""},{"$f":"IF($A81=\"\",\"\",VLOOKUP($A81,INSCRITS!$D$4:$W$501,8,0))","v":""},{"$f":"IF($A81=\"\",\"\",VLOOKUP($A81,INSCRITS!$D$4:$W$501,9,0))","v":""},{"$f":"IF($A81=\"\",\"\",VLOOKUP($A81,INSCRITS!$D$4:$W$506,10,0))","v":""},{"$f":"IF(ISNA(VLOOKUP($A81,SPRINT!AD$7:AJ$50,6,0)),\"\",VLOOKUP($A81,SPRINT!AD$7:AJ$50,6,0))","v":""},{"$f":"IF(ISNA(VLOOKUP($A81,SPRINT!AD$7:AJ$50,7,0)),\"\",VLOOKUP($A81,SPRINT!AD$7:AJ$50,7,0))","v":""},{"$f":"IF($A81=\"\",\"\",VLOOKUP($A81,INSCRITS!$D$4:$W$506,11,0))","v":""},{"$f":"IF(ISNA(VLOOKUP($A81,BATONS!AD$7:AJ$51,6,0)),\"\",VLOOKUP($A81,BATONS!AD$7:AJ$51,6,0))","v":""},{"$f":"IF(ISNA(VLOOKUP($A81,BATONS!AD$7:AJ$51,7,0)),\"\",VLOOKUP($A81,BATONS!AD$7:AJ$51,7,0))","v":""},{"$f":"IF($A81=\"\",\"\",VLOOKUP($A81,INSCRITS!$D$4:$W$506,12,0))","v":""},{"$f":"IF(ISNA(VLOOKUP($A81,PLANCHE!AC$7:AI$52,6,0)),\"\",VLOOKUP($A81,PLANCHE!AC$7:AI$52,6,0))","v":""},{"$f":"IF(ISNA(VLOOKUP($A81,PLANCHE!AC$7:AI$52,7,0)),\"\",VLOOKUP($A81,PLANCHE!AC$7:AI$52,7,0))","v":""},{"$f":"IF($A81=\"\",\"\",VLOOKUP($A81,INSCRITS!$D$4:$W$506,13,0))","v":""},{"$f":"IF(ISNA(VLOOKUP($A81,NAGE!N$7:T$52,6,0)),\"\",VLOOKUP($A81,NAGE!N$7:T$52,6,0))","v":""},{"$f":"IF(ISNA(VLOOKUP($A81,NAGE!N$7:T$52,7,0)),\"\",VLOOKUP($A81,NAGE!N$7:T$52,7,0))","v":""},{"$f":"IF($A81=\"\",\"\",VLOOKUP($A81,INSCRITS!$D$4:$W$506,14,0))","v":""},{"$f":"IF(ISNA(VLOOKUP($A81,SURFSKI!AC$8:AI$53,6,0)),\"\",VLOOKUP($A81,SURFSKI!AC$8:AI$53,6,0))","v":""},{"$f":"IF(ISNA(VLOOKUP($A81,SURFSKI!AC$8:AI$53,7,0)),\"\",VLOOKUP($A81,SURFSKI!AC$8:AI$53,7,0))","v":""},{"$f":"IF($A81=\"\",\"\",VLOOKUP($A81,INSCRITS!$D$4:$W$506,15,0))","v":""},{"$f":"IF(ISNA(VLOOKUP($A81,OCEANMAN!AC$7:AI$52,6,0)),\"\",VLOOKUP($A81,OCEANMAN!AC$7:AI$52,6,0))","v":""},{"$f":"IF(ISNA(VLOOKUP($A81,OCEANMAN!AC$7:AI$52,7,0)),\"\",VLOOKUP($A81,OCEANMAN!AC$7:AI$52,7,0))","v":""},{"$f":"IF($A81=\"\",\"\",VLOOKUP($A81,INSCRITS!$D$4:$W$506,16,0))","v":""},{"$f":"IF(ISNA(VLOOKUP($A81,CNC!N$7:AC$52,6,0)),\"\",VLOOKUP($A81,CNC!N$7:AC$52,6,0))","v":""},{"$f":"IF(ISNA(VLOOKUP($A81,CNC!N$7:AC$52,7,0)),\"\",VLOOKUP($A81,CNC!N$7:AC$52,7,0))","v":""},0,{"$f":"IF($A81=\"\",\"\",VLOOKUP($A81,INSCRITS!$D$4:$W$506,16,0))","v":""},null,{"$f":"IF(AG81=\"\",\"\",VLOOKUP(AG81,[0]!Relais,2))","v":""},{"$f":"IF($A81=\"\",\"\",VLOOKUP($A81,INSCRITS!$D$4:$W$506,17,0))","v":""},null,{"$f":"IF(AJ81=\"\",\"\",VLOOKUP(AJ81,[0]!Relais,2))","v":""},{"$f":"IF($A81=\"\",\"\",VLOOKUP($A81,INSCRITS!$D$4:$W$506,18,0))","v":""},null,{"$f":"IF(AM81=\"\",\"\",VLOOKUP(AM81,[0]!Relais,2))","v":""},{"$f":"IF($A81=\"\",\"\",VLOOKUP($A81,INSCRITS!$D$4:$W$506,19,0))","v":""},null,{"$f":"IF(AP81=\"\",\"\",VLOOKUP(AP81,[0]!Relais,2))","v":""},0,0]
[null,{"$f":"IF($A82=\"\",\"\",VLOOKUP($A82,INSCRITS!$D$4:$W$501,2,0))","v":""},null,{"$f":"IF($A82=\"\",\"\",VLOOKUP($A82,INSCRITS!$D$4:$W$501,4,0))","v":""},{"$f":"IF($A82=\"\",\"\",VLOOKUP($A82,INSCRITS!$D$4:$W$501,5,0))","v":""},{"$f":"IF($A82=\"\",\"\",VLOOKUP($A82,INSCRITS!$D$4:$W$501,6,0))","v":""},{"$f":"IF($A82=\"\",\"\",VLOOKUP($A82,INSCRITS!$D$4:$W$501,7,0))","v":""},{"$f":"IF($A82=\"\",\"\",VLOOKUP($A82,INSCRITS!$D$4:$W$501,8,0))","v":""},{"$f":"IF($A82=\"\",\"\",VLOOKUP($A82,INSCRITS!$D$4:$W$501,9,0))","v":""},{"$f":"IF($A82=\"\",\"\",VLOOKUP($A82,INSCRITS!$D$4:$W$506,10,0))","v":""},{"$f":"IF(ISNA(VLOOKUP($A82,SPRINT!AD$7:AJ$50,6,0)),\"\",VLOOKUP($A82,SPRINT!AD$7:AJ$50,6,0))","v":""},{"$f":"IF(ISNA(VLOOKUP($A82,SPRINT!AD$7:AJ$50,7,0)),\"\",VLOOKUP($A82,SPRINT!AD$7:AJ$50,7,0))","v":""},{"$f":"IF($A82=\"\",\"\",VLOOKUP($A82,INSCRITS!$D$4:$W$506,11,0))","v":""},{"$f":"IF(ISNA(VLOOKUP($A82,BATONS!AD$7:AJ$51,6,0)),\"\",VLOOKUP($A82,BATONS!AD$7:AJ$51,6,0))","v":""},{"$f":"IF(ISNA(VLOOKUP($A82,BATONS!AD$7:AJ$51,7,0)),\"\",VLOOKUP($A82,BATONS!AD$7:AJ$51,7,0))","v":""},{"$f":"IF($A82=\"\",\"\",VLOOKUP($A82,INSCRITS!$D$4:$W$506,12,0))","v":""},{"$f":"IF(ISNA(VLOOKUP($A82,PLANCHE!AC$7:AI$52,6,0)),\"\",VLOOKUP($A82,PLANCHE!AC$7:AI$52,6,0))","v":""},{"$f":"IF(ISNA(VLOOKUP($A82,PLANCHE!AC$7:AI$52,7,0)),\"\",VLOOKUP($A82,PLANCHE!AC$7:AI$52,7,0))","v":""},{"$f":"IF($A82=\"\",\"\",VLOOKUP($A82,INSCRITS!$D$4:$W$506,13,0))","v":""},{"$f":"IF(ISNA(VLOOKUP($A82,NAGE!N$7:T$52,6,0)),\"\",VLOOKUP($A82,NAGE!N$7:T$52,6,0))","v":""},{"$f":"IF(ISNA(VLOOKUP($A82,NAGE!N$7:T$52,7,0)),\"\",VLOOKUP($A82,NAGE!N$7:T$52,7,0))","v":""},{"$f":"IF($A82=\"\",\"\",VLOOKUP($A82,INSCRITS!$D$4:$W$506,14,0))","v":""},{"$f":"IF(ISNA(VLOOKUP($A82,SURFSKI!AC$8:AI$53,6,0)),\"\",VLOOKUP($A82,SURFSKI!AC$8:AI$53,6,0))","v":""},{"$f":"IF(ISNA(VLOOKUP($A82,SURFSKI!AC$8:AI$53,7,0)),\"\",VLOOKUP($A82,SURFSKI!AC$8:AI$53,7,0))","v":""},{"$f":"IF($A82=\"\",\"\",VLOOKUP($A82,INSCRITS!$D$4:$W$506,15,0))","v":""},{"$f":"IF(ISNA(VLOOKUP($A82,OCEANMAN!AC$7:AI$52,6,0)),\"\",VLOOKUP($A82,OCEANMAN!AC$7:AI$52,6,0))","v":""},{"$f":"IF(ISNA(VLOOKUP($A82,OCEANMAN!AC$7:AI$52,7,0)),\"\",VLOOKUP($A82,OCEANMAN!AC$7:AI$52,7,0))","v":""},{"$f":"IF($A82=\"\",\"\",VLOOKUP($A82,INSCRITS!$D$4:$W$506,16,0))","v":""},{"$f":"IF(ISNA(VLOOKUP($A82,CNC!N$7:AC$52,6,0)),\"\",VLOOKUP($A82,CNC!N$7:AC$52,6,0))","v":""},{"$f":"IF(ISNA(VLOOKUP($A82,CNC!N$7:AC$52,7,0)),\"\",VLOOKUP($A82,CNC!N$7:AC$52,7,0))","v":""},0,{"$f":"IF($A82=\"\",\"\",VLOOKUP($A82,INSCRITS!$D$4:$W$506,16,0))","v":""},null,{"$f":"IF(AG82=\"\",\"\",VLOOKUP(AG82,[0]!Relais,2))","v":""},{"$f":"IF($A82=\"\",\"\",VLOOKUP($A82,INSCRITS!$D$4:$W$506,17,0))","v":""},null,{"$f":"IF(AJ82=\"\",\"\",VLOOKUP(AJ82,[0]!Relais,2))","v":""},{"$f":"IF($A82=\"\",\"\",VLOOKUP($A82,INSCRITS!$D$4:$W$506,18,0))","v":""},null,{"$f":"IF(AM82=\"\",\"\",VLOOKUP(AM82,[0]!Relais,2))","v":""},{"$f":"IF($A82=\"\",\"\",VLOOKUP($A82,INSCRITS!$D$4:$W$506,19,0))","v":""},null,{"$f":"IF(AP82=\"\",\"\",VLOOKUP(AP82,[0]!Relais,2))","v":""},0,0]
[null,{"$f":"IF($A83=\"\",\"\",VLOOKUP($A83,INSCRITS!$D$4:$W$501,2,0))","v":""},null,{"$f":"IF($A83=\"\",\"\",VLOOKUP($A83,INSCRITS!$D$4:$W$501,4,0))","v":""},{"$f":"IF($A83=\"\",\"\",VLOOKUP($A83,INSCRITS!$D$4:$W$501,5,0))","v":""},{"$f":"IF($A83=\"\",\"\",VLOOKUP($A83,INSCRITS!$D$4:$W$501,6,0))","v":""},{"$f":"IF($A83=\"\",\"\",VLOOKUP($A83,INSCRITS!$D$4:$W$501,7,0))","v":""},{"$f":"IF($A83=\"\",\"\",VLOOKUP($A83,INSCRITS!$D$4:$W$501,8,0))","v":""},{"$f":"IF($A83=\"\",\"\",VLOOKUP($A83,INSCRITS!$D$4:$W$501,9,0))","v":""},{"$f":"IF($A83=\"\",\"\",VLOOKUP($A83,INSCRITS!$D$4:$W$506,10,0))","v":""},{"$f":"IF(ISNA(VLOOKUP($A83,SPRINT!AD$7:AJ$50,6,0)),\"\",VLOOKUP($A83,SPRINT!AD$7:AJ$50,6,0))","v":""},{"$f":"IF(ISNA(VLOOKUP($A83,SPRINT!AD$7:AJ$50,7,0)),\"\",VLOOKUP($A83,SPRINT!AD$7:AJ$50,7,0))","v":""},{"$f":"IF($A83=\"\",\"\",VLOOKUP($A83,INSCRITS!$D$4:$W$506,11,0))","v":""},{"$f":"IF(ISNA(VLOOKUP($A83,BATONS!AD$7:AJ$51,6,0)),\"\",VLOOKUP($A83,BATONS!AD$7:AJ$51,6,0))","v":""},{"$f":"IF(ISNA(VLOOKUP($A83,BATONS!AD$7:AJ$51,7,0)),\"\",VLOOKUP($A83,BATONS!AD$7:AJ$51,7,0))","v":""},{"$f":"IF($A83=\"\",\"\",VLOOKUP($A83,INSCRITS!$D$4:$W$506,12,0))","v":""},{"$f":"IF(ISNA(VLOOKUP($A83,PLANCHE!AC$7:AI$52,6,0)),\"\",VLOOKUP($A83,PLANCHE!AC$7:AI$52,6,0))","v":""},{"$f":"IF(ISNA(VLOOKUP($A83,PLANCHE!AC$7:AI$52,7,0)),\"\",VLOOKUP($A83,PLANCHE!AC$7:AI$52,7,0))","v":""},{"$f":"IF($A83=\"\",\"\",VLOOKUP($A83,INSCRITS!$D$4:$W$506,13,0))","v":""},{"$f":"IF(ISNA(VLOOKUP($A83,NAGE!N$7:T$52,6,0)),\"\",VLOOKUP($A83,NAGE!N$7:T$52,6,0))","v":""},{"$f":"IF(ISNA(VLOOKUP($A83,NAGE!N$7:T$52,7,0)),\"\",VLOOKUP($A83,NAGE!N$7:T$52,7,0))","v":""},{"$f":"IF($A83=\"\",\"\",VLOOKUP($A83,INSCRITS!$D$4:$W$506,14,0))","v":""},{"$f":"IF(ISNA(VLOOKUP($A83,SURFSKI!AC$8:AI$53,6,0)),\"\",VLOOKUP($A83,SURFSKI!AC$8:AI$53,6,0))","v":""},{"$f":"IF(ISNA(VLOOKUP($A83,SURFSKI!AC$8:AI$53,7,0)),\"\",VLOOKUP($A83,SURFSKI!AC$8:AI$53,7,0))","v":""},{"$f":"IF($A83=\"\",\"\",VLOOKUP($A83,INSCRITS!$D$4:$W$506,15,0))","v":""},{"$f":"IF(ISNA(VLOOKUP($A83,OCEANMAN!AC$7:AI$52,6,0)),\"\",VLOOKUP($A83,OCEANMAN!AC$7:AI$52,6,0))","v":""},{"$f":"IF(ISNA(VLOOKUP($A83,OCEANMAN!AC$7:AI$52,7,0)),\"\",VLOOKUP($A83,OCEANMAN!AC$7:AI$52,7,0))","v":""},{"$f":"IF($A83=\"\",\"\",VLOOKUP($A83,INSCRITS!$D$4:$W$506,16,0))","v":""},{"$f":"IF(ISNA(VLOOKUP($A83,CNC!N$7:AC$52,6,0)),\"\",VLOOKUP($A83,CNC!N$7:AC$52,6,0))","v":""},{"$f":"IF(ISNA(VLOOKUP($A83,CNC!N$7:AC$52,7,0)),\"\",VLOOKUP($A83,CNC!N$7:AC$52,7,0))","v":""},0,{"$f":"IF($A83=\"\",\"\",VLOOKUP($A83,INSCRITS!$D$4:$W$506,16,0))","v":""},null,{"$f":"IF(AG83=\"\",\"\",VLOOKUP(AG83,[0]!Relais,2))","v":""},{"$f":"IF($A83=\"\",\"\",VLOOKUP($A83,INSCRITS!$D$4:$W$506,17,0))","v":""},null,{"$f":"IF(AJ83=\"\",\"\",VLOOKUP(AJ83,[0]!Relais,2))","v":""},{"$f":"IF($A83=\"\",\"\",VLOOKUP($A83,INSCRITS!$D$4:$W$506,18,0))","v":""},null,{"$f":"IF(AM83=\"\",\"\",VLOOKUP(AM83,[0]!Relais,2))","v":""},{"$f":"IF($A83=\"\",\"\",VLOOKUP($A83,INSCRITS!$D$4:$W$506,19,0))","v":""},null,{"$f":"IF(AP83=\"\",\"\",VLOOKUP(AP83,[0]!Relais,2))","v":""},0,0]
[null,{"$f":"IF($A84=\"\",\"\",VLOOKUP($A84,INSCRITS!$D$4:$W$501,2,0))","v":""},null,{"$f":"IF($A84=\"\",\"\",VLOOKUP($A84,INSCRITS!$D$4:$W$501,4,0))","v":""},{"$f":"IF($A84=\"\",\"\",VLOOKUP($A84,INSCRITS!$D$4:$W$501,5,0))","v":""},{"$f":"IF($A84=\"\",\"\",VLOOKUP($A84,INSCRITS!$D$4:$W$501,6,0))","v":""},{"$f":"IF($A84=\"\",\"\",VLOOKUP($A84,INSCRITS!$D$4:$W$501,7,0))","v":""},{"$f":"IF($A84=\"\",\"\",VLOOKUP($A84,INSCRITS!$D$4:$W$501,8,0))","v":""},{"$f":"IF($A84=\"\",\"\",VLOOKUP($A84,INSCRITS!$D$4:$W$501,9,0))","v":""},{"$f":"IF($A84=\"\",\"\",VLOOKUP($A84,INSCRITS!$D$4:$W$506,10,0))","v":""},{"$f":"IF(ISNA(VLOOKUP($A84,SPRINT!AD$7:AJ$50,6,0)),\"\",VLOOKUP($A84,SPRINT!AD$7:AJ$50,6,0))","v":""},{"$f":"IF(ISNA(VLOOKUP($A84,SPRINT!AD$7:AJ$50,7,0)),\"\",VLOOKUP($A84,SPRINT!AD$7:AJ$50,7,0))","v":""},{"$f":"IF($A84=\"\",\"\",VLOOKUP($A84,INSCRITS!$D$4:$W$506,11,0))","v":""},{"$f":"IF(ISNA(VLOOKUP($A84,BATONS!AD$7:AJ$51,6,0)),\"\",VLOOKUP($A84,BATONS!AD$7:AJ$51,6,0))","v":""},{"$f":"IF(ISNA(VLOOKUP($A84,BATONS!AD$7:AJ$51,7,0)),\"\",VLOOKUP($A84,BATONS!AD$7:AJ$51,7,0))","v":""},{"$f":"IF($A84=\"\",\"\",VLOOKUP($A84,INSCRITS!$D$4:$W$506,12,0))","v":""},{"$f":"IF(ISNA(VLOOKUP($A84,PLANCHE!AC$7:AI$52,6,0)),\"\",VLOOKUP($A84,PLANCHE!AC$7:AI$52,6,0))","v":""},{"$f":"IF(ISNA(VLOOKUP($A84,PLANCHE!AC$7:AI$52,7,0)),\"\",VLOOKUP($A84,PLANCHE!AC$7:AI$52,7,0))","v":""},{"$f":"IF($A84=\"\",\"\",VLOOKUP($A84,INSCRITS!$D$4:$W$506,13,0))","v":""},{"$f":"IF(ISNA(VLOOKUP($A84,NAGE!N$7:T$52,6,0)),\"\",VLOOKUP($A84,NAGE!N$7:T$52,6,0))","v":""},{"$f":"IF(ISNA(VLOOKUP($A84,NAGE!N$7:T$52,7,0)),\"\",VLOOKUP($A84,NAGE!N$7:T$52,7,0))","v":""},{"$f":"IF($A84=\"\",\"\",VLOOKUP($A84,INSCRITS!$D$4:$W$506,14,0))","v":""},{"$f":"IF(ISNA(VLOOKUP($A84,SURFSKI!AC$8:AI$53,6,0)),\"\",VLOOKUP($A84,SURFSKI!AC$8:AI$53,6,0))","v":""},{"$f":"IF(ISNA(VLOOKUP($A84,SURFSKI!AC$8:AI$53,7,0)),\"\",VLOOKUP($A84,SURFSKI!AC$8:AI$53,7,0))","v":""},{"$f":"IF($A84=\"\",\"\",VLOOKUP($A84,INSCRITS!$D$4:$W$506,15,0))","v":""},{"$f":"IF(ISNA(VLOOKUP($A84,OCEANMAN!AC$7:AI$52,6,0)),\"\",VLOOKUP($A84,OCEANMAN!AC$7:AI$52,6,0))","v":""},{"$f":"IF(ISNA(VLOOKUP($A84,OCEANMAN!AC$7:AI$52,7,0)),\"\",VLOOKUP($A84,OCEANMAN!AC$7:AI$52,7,0))","v":""},{"$f":"IF($A84=\"\",\"\",VLOOKUP($A84,INSCRITS!$D$4:$W$506,16,0))","v":""},{"$f":"IF(ISNA(VLOOKUP($A84,CNC!N$7:AC$52,6,0)),\"\",VLOOKUP($A84,CNC!N$7:AC$52,6,0))","v":""},{"$f":"IF(ISNA(VLOOKUP($A84,CNC!N$7:AC$52,7,0)),\"\",VLOOKUP($A84,CNC!N$7:AC$52,7,0))","v":""},0,{"$f":"IF($A84=\"\",\"\",VLOOKUP($A84,INSCRITS!$D$4:$W$506,16,0))","v":""},null,{"$f":"IF(AG84=\"\",\"\",VLOOKUP(AG84,[0]!Relais,2))","v":""},{"$f":"IF($A84=\"\",\"\",VLOOKUP($A84,INSCRITS!$D$4:$W$506,17,0))","v":""},null,{"$f":"IF(AJ84=\"\",\"\",VLOOKUP(AJ84,[0]!Relais,2))","v":""},{"$f":"IF($A84=\"\",\"\",VLOOKUP($A84,INSCRITS!$D$4:$W$506,18,0))","v":""},null,{"$f":"IF(AM84=\"\",\"\",VLOOKUP(AM84,[0]!Relais,2))","v":""},{"$f":"IF($A84=\"\",\"\",VLOOKUP($A84,INSCRITS!$D$4:$W$506,19,0))","v":""},null,{"$f":"IF(AP84=\"\",\"\",VLOOKUP(AP84,[0]!Relais,2))","v":""},0,0]
[null,{"$f":"IF($A85=\"\",\"\",VLOOKUP($A85,INSCRITS!$D$4:$W$501,2,0))","v":""},null,{"$f":"IF($A85=\"\",\"\",VLOOKUP($A85,INSCRITS!$D$4:$W$501,4,0))","v":""},{"$f":"IF($A85=\"\",\"\",VLOOKUP($A85,INSCRITS!$D$4:$W$501,5,0))","v":""},{"$f":"IF($A85=\"\",\"\",VLOOKUP($A85,INSCRITS!$D$4:$W$501,6,0))","v":""},{"$f":"IF($A85=\"\",\"\",VLOOKUP($A85,INSCRITS!$D$4:$W$501,7,0))","v":""},{"$f":"IF($A85=\"\",\"\",VLOOKUP($A85,INSCRITS!$D$4:$W$501,8,0))","v":""},{"$f":"IF($A85=\"\",\"\",VLOOKUP($A85,INSCRITS!$D$4:$W$501,9,0))","v":""},{"$f":"IF($A85=\"\",\"\",VLOOKUP($A85,INSCRITS!$D$4:$W$506,10,0))","v":""},{"$f":"IF(ISNA(VLOOKUP($A85,SPRINT!AD$7:AJ$50,6,0)),\"\",VLOOKUP($A85,SPRINT!AD$7:AJ$50,6,0))","v":""},{"$f":"IF(ISNA(VLOOKUP($A85,SPRINT!AD$7:AJ$50,7,0)),\"\",VLOOKUP($A85,SPRINT!AD$7:AJ$50,7,0))","v":""},{"$f":"IF($A85=\"\",\"\",VLOOKUP($A85,INSCRITS!$D$4:$W$506,11,0))","v":""},{"$f":"IF(ISNA(VLOOKUP($A85,BATONS!AD$7:AJ$51,6,0)),\"\",VLOOKUP($A85,BATONS!AD$7:AJ$51,6,0))","v":""},{"$f":"IF(ISNA(VLOOKUP($A85,BATONS!AD$7:AJ$51,7,0)),\"\",VLOOKUP($A85,BATONS!AD$7:AJ$51,7,0))","v":""},{"$f":"IF($A85=\"\",\"\",VLOOKUP($A85,INSCRITS!$D$4:$W$506,12,0))","v":""},{"$f":"IF(ISNA(VLOOKUP($A85,PLANCHE!AC$7:AI$52,6,0)),\"\",VLOOKUP($A85,PLANCHE!AC$7:AI$52,6,0))","v":""},{"$f":"IF(ISNA(VLOOKUP($A85,PLANCHE!AC$7:AI$52,7,0)),\"\",VLOOKUP($A85,PLANCHE!AC$7:AI$52,7,0))","v":""},{"$f":"IF($A85=\"\",\"\",VLOOKUP($A85,INSCRITS!$D$4:$W$506,13,0))","v":""},{"$f":"IF(ISNA(VLOOKUP($A85,NAGE!N$7:T$52,6,0)),\"\",VLOOKUP($A85,NAGE!N$7:T$52,6,0))","v":""},{"$f":"IF(ISNA(VLOOKUP($A85,NAGE!N$7:T$52,7,0)),\"\",VLOOKUP($A85,NAGE!N$7:T$52,7,0))","v":""},{"$f":"IF($A85=\"\",\"\",VLOOKUP($A85,INSCRITS!$D$4:$W$506,14,0))","v":""},{"$f":"IF(ISNA(VLOOKUP($A85,SURFSKI!AC$8:AI$53,6,0)),\"\",VLOOKUP($A85,SURFSKI!AC$8:AI$53,6,0))","v":""},{"$f":"IF(ISNA(VLOOKUP($A85,SURFSKI!AC$8:AI$53,7,0)),\"\",VLOOKUP($A85,SURFSKI!AC$8:AI$53,7,0))","v":""},{"$f":"IF($A85=\"\",\"\",VLOOKUP($A85,INSCRITS!$D$4:$W$506,15,0))","v":""},{"$f":"IF(ISNA(VLOOKUP($A85,OCEANMAN!AC$7:AI$52,6,0)),\"\",VLOOKUP($A85,OCEANMAN!AC$7:AI$52,6,0))","v":""},{"$f":"IF(ISNA(VLOOKUP($A85,OCEANMAN!AC$7:AI$52,7,0)),\"\",VLOOKUP($A85,OCEANMAN!AC$7:AI$52,7,0))","v":""},{"$f":"IF($A85=\"\",\"\",VLOOKUP($A85,INSCRITS!$D$4:$W$506,16,0))","v":""},{"$f":"IF(ISNA(VLOOKUP($A85,CNC!N$7:AC$52,6,0)),\"\",VLOOKUP($A85,CNC!N$7:AC$52,6,0))","v":""},{"$f":"IF(ISNA(VLOOKUP($A85,CNC!N$7:AC$52,7,0)),\"\",VLOOKUP($A85,CNC!N$7:AC$52,7,0))","v":""},0,{"$f":"IF($A85=\"\",\"\",VLOOKUP($A85,INSCRITS!$D$4:$W$506,16,0))","v":""},null,{"$f":"IF(AG85=\"\",\"\",VLOOKUP(AG85,[0]!Relais,2))","v":""},{"$f":"IF($A85=\"\",\"\",VLOOKUP($A85,INSCRITS!$D$4:$W$506,17,0))","v":""},null,{"$f":"IF(AJ85=\"\",\"\",VLOOKUP(AJ85,[0]!Relais,2))","v":""},{"$f":"IF($A85=\"\",\"\",VLOOKUP($A85,INSCRITS!$D$4:$W$506,18,0))","v":""},null,{"$f":"IF(AM85=\"\",\"\",VLOOKUP(AM85,[0]!Relais,2))","v":""},{"$f":"IF($A85=\"\",\"\",VLOOKUP($A85,INSCRITS!$D$4:$W$506,19,0))","v":""},null,{"$f":"IF(AP85=\"\",\"\",VLOOKUP(AP85,[0]!Relais,2))","v":""},0,0]
[null,{"$f":"IF($A86=\"\",\"\",VLOOKUP($A86,INSCRITS!$D$4:$W$501,2,0))","v":""},null,{"$f":"IF($A86=\"\",\"\",VLOOKUP($A86,INSCRITS!$D$4:$W$501,4,0))","v":""},{"$f":"IF($A86=\"\",\"\",VLOOKUP($A86,INSCRITS!$D$4:$W$501,5,0))","v":""},{"$f":"IF($A86=\"\",\"\",VLOOKUP($A86,INSCRITS!$D$4:$W$501,6,0))","v":""},{"$f":"IF($A86=\"\",\"\",VLOOKUP($A86,INSCRITS!$D$4:$W$501,7,0))","v":""},{"$f":"IF($A86=\"\",\"\",VLOOKUP($A86,INSCRITS!$D$4:$W$501,8,0))","v":""},{"$f":"IF($A86=\"\",\"\",VLOOKUP($A86,INSCRITS!$D$4:$W$501,9,0))","v":""},{"$f":"IF($A86=\"\",\"\",VLOOKUP($A86,INSCRITS!$D$4:$W$506,10,0))","v":""},{"$f":"IF(ISNA(VLOOKUP($A86,SPRINT!AD$7:AJ$50,6,0)),\"\",VLOOKUP($A86,SPRINT!AD$7:AJ$50,6,0))","v":""},{"$f":"IF(ISNA(VLOOKUP($A86,SPRINT!AD$7:AJ$50,7,0)),\"\",VLOOKUP($A86,SPRINT!AD$7:AJ$50,7,0))","v":""},{"$f":"IF($A86=\"\",\"\",VLOOKUP($A86,INSCRITS!$D$4:$W$506,11,0))","v":""},{"$f":"IF(ISNA(VLOOKUP($A86,BATONS!AD$7:AJ$51,6,0)),\"\",VLOOKUP($A86,BATONS!AD$7:AJ$51,6,0))","v":""},{"$f":"IF(ISNA(VLOOKUP($A86,BATONS!AD$7:AJ$51,7,0)),\"\",VLOOKUP($A86,BATONS!AD$7:AJ$51,7,0))","v":""},{"$f":"IF($A86=\"\",\"\",VLOOKUP($A86,INSCRITS!$D$4:$W$506,12,0))","v":""},{"$f":"IF(ISNA(VLOOKUP($A86,PLANCHE!AC$7:AI$52,6,0)),\"\",VLOOKUP($A86,PLANCHE!AC$7:AI$52,6,0))","v":""},{"$f":"IF(ISNA(VLOOKUP($A86,PLANCHE!AC$7:AI$52,7,0)),\"\",VLOOKUP($A86,PLANCHE!AC$7:AI$52,7,0))","v":""},{"$f":"IF($A86=\"\",\"\",VLOOKUP($A86,INSCRITS!$D$4:$W$506,13,0))","v":""},{"$f":"IF(ISNA(VLOOKUP($A86,NAGE!N$7:T$52,6,0)),\"\",VLOOKUP($A86,NAGE!N$7:T$52,6,0))","v":""},{"$f":"IF(ISNA(VLOOKUP($A86,NAGE!N$7:T$52,7,0)),\"\",VLOOKUP($A86,NAGE!N$7:T$52,7,0))","v":""},{"$f":"IF($A86=\"\",\"\",VLOOKUP($A86,INSCRITS!$D$4:$W$506,14,0))","v":""},{"$f":"IF(ISNA(VLOOKUP($A86,SURFSKI!AC$8:AI$53,6,0)),\"\",VLOOKUP($A86,SURFSKI!AC$8:AI$53,6,0))","v":""},{"$f":"IF(ISNA(VLOOKUP($A86,SURFSKI!AC$8:AI$53,7,0)),\"\",VLOOKUP($A86,SURFSKI!AC$8:AI$53,7,0))","v":""},{"$f":"IF($A86=\"\",\"\",VLOOKUP($A86,INSCRITS!$D$4:$W$506,15,0))","v":""},{"$f":"IF(ISNA(VLOOKUP($A86,OCEANMAN!AC$7:AI$52,6,0)),\"\",VLOOKUP($A86,OCEANMAN!AC$7:AI$52,6,0))","v":""},{"$f":"IF(ISNA(VLOOKUP($A86,OCEANMAN!AC$7:AI$52,7,0)),\"\",VLOOKUP($A86,OCEANMAN!AC$7:AI$52,7,0))","v":""},{"$f":"IF($A86=\"\",\"\",VLOOKUP($A86,INSCRITS!$D$4:$W$506,16,0))","v":""},{"$f":"IF(ISNA(VLOOKUP($A86,CNC!N$7:AC$52,6,0)),\"\",VLOOKUP($A86,CNC!N$7:AC$52,6,0))","v":""},{"$f":"IF(ISNA(VLOOKUP($A86,CNC!N$7:AC$52,7,0)),\"\",VLOOKUP($A86,CNC!N$7:AC$52,7,0))","v":""},0,{"$f":"IF($A86=\"\",\"\",VLOOKUP($A86,INSCRITS!$D$4:$W$506,16,0))","v":""},null,{"$f":"IF(AG86=\"\",\"\",VLOOKUP(AG86,[0]!Relais,2))","v":""},{"$f":"IF($A86=\"\",\"\",VLOOKUP($A86,INSCRITS!$D$4:$W$506,17,0))","v":""},null,{"$f":"IF(AJ86=\"\",\"\",VLOOKUP(AJ86,[0]!Relais,2))","v":""},{"$f":"IF($A86=\"\",\"\",VLOOKUP($A86,INSCRITS!$D$4:$W$506,18,0))","v":""},null,{"$f":"IF(AM86=\"\",\"\",VLOOKUP(AM86,[0]!Relais,2))","v":""},{"$f":"IF($A86=\"\",\"\",VLOOKUP($A86,INSCRITS!$D$4:$W$506,19,0))","v":""},null,{"$f":"IF(AP86=\"\",\"\",VLOOKUP(AP86,[0]!Relais,2))","v":""},0,0]
[null,{"$f":"IF($A87=\"\",\"\",VLOOKUP($A87,INSCRITS!$D$4:$W$501,2,0))","v":""},null,{"$f":"IF($A87=\"\",\"\",VLOOKUP($A87,INSCRITS!$D$4:$W$501,4,0))","v":""},{"$f":"IF($A87=\"\",\"\",VLOOKUP($A87,INSCRITS!$D$4:$W$501,5,0))","v":""},{"$f":"IF($A87=\"\",\"\",VLOOKUP($A87,INSCRITS!$D$4:$W$501,6,0))","v":""},{"$f":"IF($A87=\"\",\"\",VLOOKUP($A87,INSCRITS!$D$4:$W$501,7,0))","v":""},{"$f":"IF($A87=\"\",\"\",VLOOKUP($A87,INSCRITS!$D$4:$W$501,8,0))","v":""},{"$f":"IF($A87=\"\",\"\",VLOOKUP($A87,INSCRITS!$D$4:$W$501,9,0))","v":""},{"$f":"IF($A87=\"\",\"\",VLOOKUP($A87,INSCRITS!$D$4:$W$506,10,0))","v":""},{"$f":"IF(ISNA(VLOOKUP($A87,SPRINT!AD$7:AJ$50,6,0)),\"\",VLOOKUP($A87,SPRINT!AD$7:AJ$50,6,0))","v":""},{"$f":"IF(ISNA(VLOOKUP($A87,SPRINT!AD$7:AJ$50,7,0)),\"\",VLOOKUP($A87,SPRINT!AD$7:AJ$50,7,0))","v":""},{"$f":"IF($A87=\"\",\"\",VLOOKUP($A87,INSCRITS!$D$4:$W$506,11,0))","v":""},{"$f":"IF(ISNA(VLOOKUP($A87,BATONS!AD$7:AJ$51,6,0)),\"\",VLOOKUP($A87,BATONS!AD$7:AJ$51,6,0))","v":""},{"$f":"IF(ISNA(VLOOKUP($A87,BATONS!AD$7:AJ$51,7,0)),\"\",VLOOKUP($A87,BATONS!AD$7:AJ$51,7,0))","v":""},{"$f":"IF($A87=\"\",\"\",VLOOKUP($A87,INSCRITS!$D$4:$W$506,12,0))","v":""},{"$f":"IF(ISNA(VLOOKUP($A87,PLANCHE!AC$7:AI$52,6,0)),\"\",VLOOKUP($A87,PLANCHE!AC$7:AI$52,6,0))","v":""},{"$f":"IF(ISNA(VLOOKUP($A87,PLANCHE!AC$7:AI$52,7,0)),\"\",VLOOKUP($A87,PLANCHE!AC$7:AI$52,7,0))","v":""},{"$f":"IF($A87=\"\",\"\",VLOOKUP($A87,INSCRITS!$D$4:$W$506,13,0))","v":""},{"$f":"IF(ISNA(VLOOKUP($A87,NAGE!N$7:T$52,6,0)),\"\",VLOOKUP($A87,NAGE!N$7:T$52,6,0))","v":""},{"$f":"IF(ISNA(VLOOKUP($A87,NAGE!N$7:T$52,7,0)),\"\",VLOOKUP($A87,NAGE!N$7:T$52,7,0))","v":""},{"$f":"IF($A87=\"\",\"\",VLOOKUP($A87,INSCRITS!$D$4:$W$506,14,0))","v":""},{"$f":"IF(ISNA(VLOOKUP($A87,SURFSKI!AC$8:AI$53,6,0)),\"\",VLOOKUP($A87,SURFSKI!AC$8:AI$53,6,0))","v":""},{"$f":"IF(ISNA(VLOOKUP($A87,SURFSKI!AC$8:AI$53,7,0)),\"\",VLOOKUP($A87,SURFSKI!AC$8:AI$53,7,0))","v":""},{"$f":"IF($A87=\"\",\"\",VLOOKUP($A87,INSCRITS!$D$4:$W$506,15,0))","v":""},{"$f":"IF(ISNA(VLOOKUP($A87,OCEANMAN!AC$7:AI$52,6,0)),\"\",VLOOKUP($A87,OCEANMAN!AC$7:AI$52,6,0))","v":""},{"$f":"IF(ISNA(VLOOKUP($A87,OCEANMAN!AC$7:AI$52,7,0)),\"\",VLOOKUP($A87,OCEANMAN!AC$7:AI$52,7,0))","v":""},{"$f":"IF($A87=\"\",\"\",VLOOKUP($A87,INSCRITS!$D$4:$W$506,16,0))","v":""},{"$f":"IF(ISNA(VLOOKUP($A87,CNC!N$7:AC$52,6,0)),\"\",VLOOKUP($A87,CNC!N$7:AC$52,6,0))","v":""},{"$f":"IF(ISNA(VLOOKUP($A87,CNC!N$7:AC$52,7,0)),\"\",VLOOKUP($A87,CNC!N$7:AC$52,7,0))","v":""},0,{"$f":"IF($A87=\"\",\"\",VLOOKUP($A87,INSCRITS!$D$4:$W$506,16,0))","v":""},null,{"$f":"IF(AG87=\"\",\"\",VLOOKUP(AG87,[0]!Relais,2))","v":""},{"$f":"IF($A87=\"\",\"\",VLOOKUP($A87,INSCRITS!$D$4:$W$506,17,0))","v":""},null,{"$f":"IF(AJ87=\"\",\"\",VLOOKUP(AJ87,[0]!Relais,2))","v":""},{"$f":"IF($A87=\"\",\"\",VLOOKUP($A87,INSCRITS!$D$4:$W$506,18,0))","v":""},null,{"$f":"IF(AM87=\"\",\"\",VLOOKUP(AM87,[0]!Relais,2))","v":""},{"$f":"IF($A87=\"\",\"\",VLOOKUP($A87,INSCRITS!$D$4:$W$506,19,0))","v":""},null,{"$f":"IF(AP87=\"\",\"\",VLOOKUP(AP87,[0]!Relais,2))","v":""},0,0]
[null,{"$f":"IF($A88=\"\",\"\",VLOOKUP($A88,INSCRITS!$D$4:$W$501,2,0))","v":""},null,{"$f":"IF($A88=\"\",\"\",VLOOKUP($A88,INSCRITS!$D$4:$W$501,4,0))","v":""},{"$f":"IF($A88=\"\",\"\",VLOOKUP($A88,INSCRITS!$D$4:$W$501,5,0))","v":""},{"$f":"IF($A88=\"\",\"\",VLOOKUP($A88,INSCRITS!$D$4:$W$501,6,0))","v":""},{"$f":"IF($A88=\"\",\"\",VLOOKUP($A88,INSCRITS!$D$4:$W$501,7,0))","v":""},{"$f":"IF($A88=\"\",\"\",VLOOKUP($A88,INSCRITS!$D$4:$W$501,8,0))","v":""},{"$f":"IF($A88=\"\",\"\",VLOOKUP($A88,INSCRITS!$D$4:$W$501,9,0))","v":""},{"$f":"IF($A88=\"\",\"\",VLOOKUP($A88,INSCRITS!$D$4:$W$506,10,0))","v":""},{"$f":"IF(ISNA(VLOOKUP($A88,SPRINT!AD$7:AJ$50,6,0)),\"\",VLOOKUP($A88,SPRINT!AD$7:AJ$50,6,0))","v":""},{"$f":"IF(ISNA(VLOOKUP($A88,SPRINT!AD$7:AJ$50,7,0)),\"\",VLOOKUP($A88,SPRINT!AD$7:AJ$50,7,0))","v":""},{"$f":"IF($A88=\"\",\"\",VLOOKUP($A88,INSCRITS!$D$4:$W$506,11,0))","v":""},{"$f":"IF(ISNA(VLOOKUP($A88,BATONS!AD$7:AJ$51,6,0)),\"\",VLOOKUP($A88,BATONS!AD$7:AJ$51,6,0))","v":""},{"$f":"IF(ISNA(VLOOKUP($A88,BATONS!AD$7:AJ$51,7,0)),\"\",VLOOKUP($A88,BATONS!AD$7:AJ$51,7,0))","v":""},{"$f":"IF($A88=\"\",\"\",VLOOKUP($A88,INSCRITS!$D$4:$W$506,12,0))","v":""},{"$f":"IF(ISNA(VLOOKUP($A88,PLANCHE!AC$7:AI$52,6,0)),\"\",VLOOKUP($A88,PLANCHE!AC$7:AI$52,6,0))","v":""},{"$f":"IF(ISNA(VLOOKUP($A88,PLANCHE!AC$7:AI$52,7,0)),\"\",VLOOKUP($A88,PLANCHE!AC$7:AI$52,7,0))","v":""},{"$f":"IF($A88=\"\",\"\",VLOOKUP($A88,INSCRITS!$D$4:$W$506,13,0))","v":""},{"$f":"IF(ISNA(VLOOKUP($A88,NAGE!N$7:T$52,6,0)),\"\",VLOOKUP($A88,NAGE!N$7:T$52,6,0))","v":""},{"$f":"IF(ISNA(VLOOKUP($A88,NAGE!N$7:T$52,7,0)),\"\",VLOOKUP($A88,NAGE!N$7:T$52,7,0))","v":""},{"$f":"IF($A88=\"\",\"\",VLOOKUP($A88,INSCRITS!$D$4:$W$506,14,0))","v":""},{"$f":"IF(ISNA(VLOOKUP($A88,SURFSKI!AC$8:AI$53,6,0)),\"\",VLOOKUP($A88,SURFSKI!AC$8:AI$53,6,0))","v":""},{"$f":"IF(ISNA(VLOOKUP($A88,SURFSKI!AC$8:AI$53,7,0)),\"\",VLOOKUP($A88,SURFSKI!AC$8:AI$53,7,0))","v":""},{"$f":"IF($A88=\"\",\"\",VLOOKUP($A88,INSCRITS!$D$4:$W$506,15,0))","v":""},{"$f":"IF(ISNA(VLOOKUP($A88,OCEANMAN!AC$7:AI$52,6,0)),\"\",VLOOKUP($A88,OCEANMAN!AC$7:AI$52,6,0))","v":""},{"$f":"IF(ISNA(VLOOKUP($A88,OCEANMAN!AC$7:AI$52,7,0)),\"\",VLOOKUP($A88,OCEANMAN!AC$7:AI$52,7,0))","v":""},{"$f":"IF($A88=\"\",\"\",VLOOKUP($A88,INSCRITS!$D$4:$W$506,16,0))","v":""},{"$f":"IF(ISNA(VLOOKUP($A88,CNC!N$7:AC$52,6,0)),\"\",VLOOKUP($A88,CNC!N$7:AC$52,6,0))","v":""},{"$f":"IF(ISNA(VLOOKUP($A88,CNC!N$7:AC$52,7,0)),\"\",VLOOKUP($A88,CNC!N$7:AC$52,7,0))","v":""},0,{"$f":"IF($A88=\"\",\"\",VLOOKUP($A88,INSCRITS!$D$4:$W$506,16,0))","v":""},null,{"$f":"IF(AG88=\"\",\"\",VLOOKUP(AG88,[0]!Relais,2))","v":""},{"$f":"IF($A88=\"\",\"\",VLOOKUP($A88,INSCRITS!$D$4:$W$506,17,0))","v":""},null,{"$f":"IF(AJ88=\"\",\"\",VLOOKUP(AJ88,[0]!Relais,2))","v":""},{"$f":"IF($A88=\"\",\"\",VLOOKUP($A88,INSCRITS!$D$4:$W$506,18,0))","v":""},null,{"$f":"IF(AM88=\"\",\"\",VLOOKUP(AM88,[0]!Relais,2))","v":""},{"$f":"IF($A88=\"\",\"\",VLOOKUP($A88,INSCRITS!$D$4:$W$506,19,0))","v":""},null,{"$f":"IF(AP88=\"\",\"\",VLOOKUP(AP88,[0]!Relais,2))","v":""},0,0]
[null,{"$f":"IF($A89=\"\",\"\",VLOOKUP($A89,INSCRITS!$D$4:$W$501,2,0))","v":""},null,{"$f":"IF($A89=\"\",\"\",VLOOKUP($A89,INSCRITS!$D$4:$W$501,4,0))","v":""},{"$f":"IF($A89=\"\",\"\",VLOOKUP($A89,INSCRITS!$D$4:$W$501,5,0))","v":""},{"$f":"IF($A89=\"\",\"\",VLOOKUP($A89,INSCRITS!$D$4:$W$501,6,0))","v":""},{"$f":"IF($A89=\"\",\"\",VLOOKUP($A89,INSCRITS!$D$4:$W$501,7,0))","v":""},{"$f":"IF($A89=\"\",\"\",VLOOKUP($A89,INSCRITS!$D$4:$W$501,8,0))","v":""},{"$f":"IF($A89=\"\",\"\",VLOOKUP($A89,INSCRITS!$D$4:$W$501,9,0))","v":""},{"$f":"IF($A89=\"\",\"\",VLOOKUP($A89,INSCRITS!$D$4:$W$506,10,0))","v":""},{"$f":"IF(ISNA(VLOOKUP($A89,SPRINT!AD$7:AJ$50,6,0)),\"\",VLOOKUP($A89,SPRINT!AD$7:AJ$50,6,0))","v":""},{"$f":"IF(ISNA(VLOOKUP($A89,SPRINT!AD$7:AJ$50,7,0)),\"\",VLOOKUP($A89,SPRINT!AD$7:AJ$50,7,0))","v":""},{"$f":"IF($A89=\"\",\"\",VLOOKUP($A89,INSCRITS!$D$4:$W$506,11,0))","v":""},{"$f":"IF(ISNA(VLOOKUP($A89,BATONS!AD$7:AJ$51,6,0)),\"\",VLOOKUP($A89,BATONS!AD$7:AJ$51,6,0))","v":""},{"$f":"IF(ISNA(VLOOKUP($A89,BATONS!AD$7:AJ$51,7,0)),\"\",VLOOKUP($A89,BATONS!AD$7:AJ$51,7,0))","v":""},{"$f":"IF($A89=\"\",\"\",VLOOKUP($A89,INSCRITS!$D$4:$W$506,12,0))","v":""},{"$f":"IF(ISNA(VLOOKUP($A89,PLANCHE!AC$7:AI$52,6,0)),\"\",VLOOKUP($A89,PLANCHE!AC$7:AI$52,6,0))","v":""},{"$f":"IF(ISNA(VLOOKUP($A89,PLANCHE!AC$7:AI$52,7,0)),\"\",VLOOKUP($A89,PLANCHE!AC$7:AI$52,7,0))","v":""},{"$f":"IF($A89=\"\",\"\",VLOOKUP($A89,INSCRITS!$D$4:$W$506,13,0))","v":""},{"$f":"IF(ISNA(VLOOKUP($A89,NAGE!N$7:T$52,6,0)),\"\",VLOOKUP($A89,NAGE!N$7:T$52,6,0))","v":""},{"$f":"IF(ISNA(VLOOKUP($A89,NAGE!N$7:T$52,7,0)),\"\",VLOOKUP($A89,NAGE!N$7:T$52,7,0))","v":""},{"$f":"IF($A89=\"\",\"\",VLOOKUP($A89,INSCRITS!$D$4:$W$506,14,0))","v":""},{"$f":"IF(ISNA(VLOOKUP($A89,SURFSKI!AC$8:AI$53,6,0)),\"\",VLOOKUP($A89,SURFSKI!AC$8:AI$53,6,0))","v":""},{"$f":"IF(ISNA(VLOOKUP($A89,SURFSKI!AC$8:AI$53,7,0)),\"\",VLOOKUP($A89,SURFSKI!AC$8:AI$53,7,0))","v":""},{"$f":"IF($A89=\"\",\"\",VLOOKUP($A89,INSCRITS!$D$4:$W$506,15,0))","v":""},{"$f":"IF(ISNA(VLOOKUP($A89,OCEANMAN!AC$7:AI$52,6,0)),\"\",VLOOKUP($A89,OCEANMAN!AC$7:AI$52,6,0))","v":""},{"$f":"IF(ISNA(VLOOKUP($A89,OCEANMAN!AC$7:AI$52,7,0)),\"\",VLOOKUP($A89,OCEANMAN!AC$7:AI$52,7,0))","v":""},{"$f":"IF($A89=\"\",\"\",VLOOKUP($A89,INSCRITS!$D$4:$W$506,16,0))","v":""},{"$f":"IF(ISNA(VLOOKUP($A89,CNC!N$7:AC$52,6,0)),\"\",VLOOKUP($A89,CNC!N$7:AC$52,6,0))","v":""},{"$f":"IF(ISNA(VLOOKUP($A89,CNC!N$7:AC$52,7,0)),\"\",VLOOKUP($A89,CNC!N$7:AC$52,7,0))","v":""},0,{"$f":"IF($A89=\"\",\"\",VLOOKUP($A89,INSCRITS!$D$4:$W$506,16,0))","v":""},null,{"$f":"IF(AG89=\"\",\"\",VLOOKUP(AG89,[0]!Relais,2))","v":""},{"$f":"IF($A89=\"\",\"\",VLOOKUP($A89,INSCRITS!$D$4:$W$506,17,0))","v":""},null,{"$f":"IF(AJ89=\"\",\"\",VLOOKUP(AJ89,[0]!Relais,2))","v":""},{"$f":"IF($A89=\"\",\"\",VLOOKUP($A89,INSCRITS!$D$4:$W$506,18,0))","v":""},null,{"$f":"IF(AM89=\"\",\"\",VLOOKUP(AM89,[0]!Relais,2))","v":""},{"$f":"IF($A89=\"\",\"\",VLOOKUP($A89,INSCRITS!$D$4:$W$506,19,0))","v":""},null,{"$f":"IF(AP89=\"\",\"\",VLOOKUP(AP89,[0]!Relais,2))","v":""},0,0]
[null,{"$f":"IF($A90=\"\",\"\",VLOOKUP($A90,INSCRITS!$D$4:$W$501,2,0))","v":""},null,{"$f":"IF($A90=\"\",\"\",VLOOKUP($A90,INSCRITS!$D$4:$W$501,4,0))","v":""},{"$f":"IF($A90=\"\",\"\",VLOOKUP($A90,INSCRITS!$D$4:$W$501,5,0))","v":""},{"$f":"IF($A90=\"\",\"\",VLOOKUP($A90,INSCRITS!$D$4:$W$501,6,0))","v":""},{"$f":"IF($A90=\"\",\"\",VLOOKUP($A90,INSCRITS!$D$4:$W$501,7,0))","v":""},{"$f":"IF($A90=\"\",\"\",VLOOKUP($A90,INSCRITS!$D$4:$W$501,8,0))","v":""},{"$f":"IF($A90=\"\",\"\",VLOOKUP($A90,INSCRITS!$D$4:$W$501,9,0))","v":""},{"$f":"IF($A90=\"\",\"\",VLOOKUP($A90,INSCRITS!$D$4:$W$506,10,0))","v":""},{"$f":"IF(ISNA(VLOOKUP($A90,SPRINT!AD$7:AJ$50,6,0)),\"\",VLOOKUP($A90,SPRINT!AD$7:AJ$50,6,0))","v":""},{"$f":"IF(ISNA(VLOOKUP($A90,SPRINT!AD$7:AJ$50,7,0)),\"\",VLOOKUP($A90,SPRINT!AD$7:AJ$50,7,0))","v":""},{"$f":"IF($A90=\"\",\"\",VLOOKUP($A90,INSCRITS!$D$4:$W$506,11,0))","v":""},{"$f":"IF(ISNA(VLOOKUP($A90,BATONS!AD$7:AJ$51,6,0)),\"\",VLOOKUP($A90,BATONS!AD$7:AJ$51,6,0))","v":""},{"$f":"IF(ISNA(VLOOKUP($A90,BATONS!AD$7:AJ$51,7,0)),\"\",VLOOKUP($A90,BATONS!AD$7:AJ$51,7,0))","v":""},{"$f":"IF($A90=\"\",\"\",VLOOKUP($A90,INSCRITS!$D$4:$W$506,12,0))","v":""},{"$f":"IF(ISNA(VLOOKUP($A90,PLANCHE!AC$7:AI$52,6,0)),\"\",VLOOKUP($A90,PLANCHE!AC$7:AI$52,6,0))","v":""},{"$f":"IF(ISNA(VLOOKUP($A90,PLANCHE!AC$7:AI$52,7,0)),\"\",VLOOKUP($A90,PLANCHE!AC$7:AI$52,7,0))","v":""},{"$f":"IF($A90=\"\",\"\",VLOOKUP($A90,INSCRITS!$D$4:$W$506,13,0))","v":""},{"$f":"IF(ISNA(VLOOKUP($A90,NAGE!N$7:T$52,6,0)),\"\",VLOOKUP($A90,NAGE!N$7:T$52,6,0))","v":""},{"$f":"IF(ISNA(VLOOKUP($A90,NAGE!N$7:T$52,7,0)),\"\",VLOOKUP($A90,NAGE!N$7:T$52,7,0))","v":""},{"$f":"IF($A90=\"\",\"\",VLOOKUP($A90,INSCRITS!$D$4:$W$506,14,0))","v":""},{"$f":"IF(ISNA(VLOOKUP($A90,SURFSKI!AC$8:AI$53,6,0)),\"\",VLOOKUP($A90,SURFSKI!AC$8:AI$53,6,0))","v":""},{"$f":"IF(ISNA(VLOOKUP($A90,SURFSKI!AC$8:AI$53,7,0)),\"\",VLOOKUP($A90,SURFSKI!AC$8:AI$53,7,0))","v":""},{"$f":"IF($A90=\"\",\"\",VLOOKUP($A90,INSCRITS!$D$4:$W$506,15,0))","v":""},{"$f":"IF(ISNA(VLOOKUP($A90,OCEANMAN!AC$7:AI$52,6,0)),\"\",VLOOKUP($A90,OCEANMAN!AC$7:AI$52,6,0))","v":""},{"$f":"IF(ISNA(VLOOKUP($A90,OCEANMAN!AC$7:AI$52,7,0)),\"\",VLOOKUP($A90,OCEANMAN!AC$7:AI$52,7,0))","v":""},{"$f":"IF($A90=\"\",\"\",VLOOKUP($A90,INSCRITS!$D$4:$W$506,16,0))","v":""},{"$f":"IF(ISNA(VLOOKUP($A90,CNC!N$7:AC$52,6,0)),\"\",VLOOKUP($A90,CNC!N$7:AC$52,6,0))","v":""},{"$f":"IF(ISNA(VLOOKUP($A90,CNC!N$7:AC$52,7,0)),\"\",VLOOKUP($A90,CNC!N$7:AC$52,7,0))","v":""},0,{"$f":"IF($A90=\"\",\"\",VLOOKUP($A90,INSCRITS!$D$4:$W$506,16,0))","v":""},null,{"$f":"IF(AG90=\"\",\"\",VLOOKUP(AG90,[0]!Relais,2))","v":""},{"$f":"IF($A90=\"\",\"\",VLOOKUP($A90,INSCRITS!$D$4:$W$506,17,0))","v":""},null,{"$f":"IF(AJ90=\"\",\"\",VLOOKUP(AJ90,[0]!Relais,2))","v":""},{"$f":"IF($A90=\"\",\"\",VLOOKUP($A90,INSCRITS!$D$4:$W$506,18,0))","v":""},null,{"$f":"IF(AM90=\"\",\"\",VLOOKUP(AM90,[0]!Relais,2))","v":""},{"$f":"IF($A90=\"\",\"\",VLOOKUP($A90,INSCRITS!$D$4:$W$506,19,0))","v":""},null,{"$f":"IF(AP90=\"\",\"\",VLOOKUP(AP90,[0]!Relais,2))","v":""},0,0]
[null,{"$f":"IF($A91=\"\",\"\",VLOOKUP($A91,INSCRITS!$D$4:$W$501,2,0))","v":""},null,{"$f":"IF($A91=\"\",\"\",VLOOKUP($A91,INSCRITS!$D$4:$W$501,4,0))","v":""},{"$f":"IF($A91=\"\",\"\",VLOOKUP($A91,INSCRITS!$D$4:$W$501,5,0))","v":""},{"$f":"IF($A91=\"\",\"\",VLOOKUP($A91,INSCRITS!$D$4:$W$501,6,0))","v":""},{"$f":"IF($A91=\"\",\"\",VLOOKUP($A91,INSCRITS!$D$4:$W$501,7,0))","v":""},{"$f":"IF($A91=\"\",\"\",VLOOKUP($A91,INSCRITS!$D$4:$W$501,8,0))","v":""},{"$f":"IF($A91=\"\",\"\",VLOOKUP($A91,INSCRITS!$D$4:$W$501,9,0))","v":""},{"$f":"IF($A91=\"\",\"\",VLOOKUP($A91,INSCRITS!$D$4:$W$506,10,0))","v":""},{"$f":"IF(ISNA(VLOOKUP($A91,SPRINT!AD$7:AJ$50,6,0)),\"\",VLOOKUP($A91,SPRINT!AD$7:AJ$50,6,0))","v":""},{"$f":"IF(ISNA(VLOOKUP($A91,SPRINT!AD$7:AJ$50,7,0)),\"\",VLOOKUP($A91,SPRINT!AD$7:AJ$50,7,0))","v":""},{"$f":"IF($A91=\"\",\"\",VLOOKUP($A91,INSCRITS!$D$4:$W$506,11,0))","v":""},{"$f":"IF(ISNA(VLOOKUP($A91,BATONS!AD$7:AJ$51,6,0)),\"\",VLOOKUP($A91,BATONS!AD$7:AJ$51,6,0))","v":""},{"$f":"IF(ISNA(VLOOKUP($A91,BATONS!AD$7:AJ$51,7,0)),\"\",VLOOKUP($A91,BATONS!AD$7:AJ$51,7,0))","v":""},{"$f":"IF($A91=\"\",\"\",VLOOKUP($A91,INSCRITS!$D$4:$W$506,12,0))","v":""},{"$f":"IF(ISNA(VLOOKUP($A91,PLANCHE!AC$7:AI$52,6,0)),\"\",VLOOKUP($A91,PLANCHE!AC$7:AI$52,6,0))","v":""},{"$f":"IF(ISNA(VLOOKUP($A91,PLANCHE!AC$7:AI$52,7,0)),\"\",VLOOKUP($A91,PLANCHE!AC$7:AI$52,7,0))","v":""},{"$f":"IF($A91=\"\",\"\",VLOOKUP($A91,INSCRITS!$D$4:$W$506,13,0))","v":""},{"$f":"IF(ISNA(VLOOKUP($A91,NAGE!N$7:T$52,6,0)),\"\",VLOOKUP($A91,NAGE!N$7:T$52,6,0))","v":""},{"$f":"IF(ISNA(VLOOKUP($A91,NAGE!N$7:T$52,7,0)),\"\",VLOOKUP($A91,NAGE!N$7:T$52,7,0))","v":""},{"$f":"IF($A91=\"\",\"\",VLOOKUP($A91,INSCRITS!$D$4:$W$506,14,0))","v":""},{"$f":"IF(ISNA(VLOOKUP($A91,SURFSKI!AC$8:AI$53,6,0)),\"\",VLOOKUP($A91,SURFSKI!AC$8:AI$53,6,0))","v":""},{"$f":"IF(ISNA(VLOOKUP($A91,SURFSKI!AC$8:AI$53,7,0)),\"\",VLOOKUP($A91,SURFSKI!AC$8:AI$53,7,0))","v":""},{"$f":"IF($A91=\"\",\"\",VLOOKUP($A91,INSCRITS!$D$4:$W$506,15,0))","v":""},{"$f":"IF(ISNA(VLOOKUP($A91,OCEANMAN!AC$7:AI$52,6,0)),\"\",VLOOKUP($A91,OCEANMAN!AC$7:AI$52,6,0))","v":""},{"$f":"IF(ISNA(VLOOKUP($A91,OCEANMAN!AC$7:AI$52,7,0)),\"\",VLOOKUP($A91,OCEANMAN!AC$7:AI$52,7,0))","v":""},{"$f":"IF($A91=\"\",\"\",VLOOKUP($A91,INSCRITS!$D$4:$W$506,16,0))","v":""},{"$f":"IF(ISNA(VLOOKUP($A91,CNC!N$7:AC$52,6,0)),\"\",VLOOKUP($A91,CNC!N$7:AC$52,6,0))","v":""},{"$f":"IF(ISNA(VLOOKUP($A91,CNC!N$7:AC$52,7,0)),\"\",VLOOKUP($A91,CNC!N$7:AC$52,7,0))","v":""},0,{"$f":"IF($A91=\"\",\"\",VLOOKUP($A91,INSCRITS!$D$4:$W$506,16,0))","v":""},null,{"$f":"IF(AG91=\"\",\"\",VLOOKUP(AG91,[0]!Relais,2))","v":""},{"$f":"IF($A91=\"\",\"\",VLOOKUP($A91,INSCRITS!$D$4:$W$506,17,0))","v":""},null,{"$f":"IF(AJ91=\"\",\"\",VLOOKUP(AJ91,[0]!Relais,2))","v":""},{"$f":"IF($A91=\"\",\"\",VLOOKUP($A91,INSCRITS!$D$4:$W$506,18,0))","v":""},null,{"$f":"IF(AM91=\"\",\"\",VLOOKUP(AM91,[0]!Relais,2))","v":""},{"$f":"IF($A91=\"\",\"\",VLOOKUP($A91,INSCRITS!$D$4:$W$506,19,0))","v":""},null,{"$f":"IF(AP91=\"\",\"\",VLOOKUP(AP91,[0]!Relais,2))","v":""},0,0]
[null,{"$f":"IF($A92=\"\",\"\",VLOOKUP($A92,INSCRITS!$D$4:$W$501,2,0))","v":""},null,{"$f":"IF($A92=\"\",\"\",VLOOKUP($A92,INSCRITS!$D$4:$W$501,4,0))","v":""},{"$f":"IF($A92=\"\",\"\",VLOOKUP($A92,INSCRITS!$D$4:$W$501,5,0))","v":""},{"$f":"IF($A92=\"\",\"\",VLOOKUP($A92,INSCRITS!$D$4:$W$501,6,0))","v":""},{"$f":"IF($A92=\"\",\"\",VLOOKUP($A92,INSCRITS!$D$4:$W$501,7,0))","v":""},{"$f":"IF($A92=\"\",\"\",VLOOKUP($A92,INSCRITS!$D$4:$W$501,8,0))","v":""},{"$f":"IF($A92=\"\",\"\",VLOOKUP($A92,INSCRITS!$D$4:$W$501,9,0))","v":""},{"$f":"IF($A92=\"\",\"\",VLOOKUP($A92,INSCRITS!$D$4:$W$506,10,0))","v":""},{"$f":"IF(ISNA(VLOOKUP($A92,SPRINT!AD$7:AJ$50,6,0)),\"\",VLOOKUP($A92,SPRINT!AD$7:AJ$50,6,0))","v":""},{"$f":"IF(ISNA(VLOOKUP($A92,SPRINT!AD$7:AJ$50,7,0)),\"\",VLOOKUP($A92,SPRINT!AD$7:AJ$50,7,0))","v":""},{"$f":"IF($A92=\"\",\"\",VLOOKUP($A92,INSCRITS!$D$4:$W$506,11,0))","v":""},{"$f":"IF(ISNA(VLOOKUP($A92,BATONS!AD$7:AJ$51,6,0)),\"\",VLOOKUP($A92,BATONS!AD$7:AJ$51,6,0))","v":""},{"$f":"IF(ISNA(VLOOKUP($A92,BATONS!AD$7:AJ$51,7,0)),\"\",VLOOKUP($A92,BATONS!AD$7:AJ$51,7,0))","v":""},{"$f":"IF($A92=\"\",\"\",VLOOKUP($A92,INSCRITS!$D$4:$W$506,12,0))","v":""},{"$f":"IF(ISNA(VLOOKUP($A92,PLANCHE!AC$7:AI$52,6,0)),\"\",VLOOKUP($A92,PLANCHE!AC$7:AI$52,6,0))","v":""},{"$f":"IF(ISNA(VLOOKUP($A92,PLANCHE!AC$7:AI$52,7,0)),\"\",VLOOKUP($A92,PLANCHE!AC$7:AI$52,7,0))","v":""},{"$f":"IF($A92=\"\",\"\",VLOOKUP($A92,INSCRITS!$D$4:$W$506,13,0))","v":""},{"$f":"IF(ISNA(VLOOKUP($A92,NAGE!N$7:T$52,6,0)),\"\",VLOOKUP($A92,NAGE!N$7:T$52,6,0))","v":""},{"$f":"IF(ISNA(VLOOKUP($A92,NAGE!N$7:T$52,7,0)),\"\",VLOOKUP($A92,NAGE!N$7:T$52,7,0))","v":""},{"$f":"IF($A92=\"\",\"\",VLOOKUP($A92,INSCRITS!$D$4:$W$506,14,0))","v":""},{"$f":"IF(ISNA(VLOOKUP($A92,SURFSKI!AC$8:AI$53,6,0)),\"\",VLOOKUP($A92,SURFSKI!AC$8:AI$53,6,0))","v":""},{"$f":"IF(ISNA(VLOOKUP($A92,SURFSKI!AC$8:AI$53,7,0)),\"\",VLOOKUP($A92,SURFSKI!AC$8:AI$53,7,0))","v":""},{"$f":"IF($A92=\"\",\"\",VLOOKUP($A92,INSCRITS!$D$4:$W$506,15,0))","v":""},{"$f":"IF(ISNA(VLOOKUP($A92,OCEANMAN!AC$7:AI$52,6,0)),\"\",VLOOKUP($A92,OCEANMAN!AC$7:AI$52,6,0))","v":""},{"$f":"IF(ISNA(VLOOKUP($A92,OCEANMAN!AC$7:AI$52,7,0)),\"\",VLOOKUP($A92,OCEANMAN!AC$7:AI$52,7,0))","v":""},{"$f":"IF($A92=\"\",\"\",VLOOKUP($A92,INSCRITS!$D$4:$W$506,16,0))","v":""},{"$f":"IF(ISNA(VLOOKUP($A92,CNC!N$7:AC$52,6,0)),\"\",VLOOKUP($A92,CNC!N$7:AC$52,6,0))","v":""},{"$f":"IF(ISNA(VLOOKUP($A92,CNC!N$7:AC$52,7,0)),\"\",VLOOKUP($A92,CNC!N$7:AC$52,7,0))","v":""},0,{"$f":"IF($A92=\"\",\"\",VLOOKUP($A92,INSCRITS!$D$4:$W$506,16,0))","v":""},null,{"$f":"IF(AG92=\"\",\"\",VLOOKUP(AG92,[0]!Relais,2))","v":""},{"$f":"IF($A92=\"\",\"\",VLOOKUP($A92,INSCRITS!$D$4:$W$506,17,0))","v":""},null,{"$f":"IF(AJ92=\"\",\"\",VLOOKUP(AJ92,[0]!Relais,2))","v":""},{"$f":"IF($A92=\"\",\"\",VLOOKUP($A92,INSCRITS!$D$4:$W$506,18,0))","v":""},null,{"$f":"IF(AM92=\"\",\"\",VLOOKUP(AM92,[0]!Relais,2))","v":""},{"$f":"IF($A92=\"\",\"\",VLOOKUP($A92,INSCRITS!$D$4:$W$506,19,0))","v":""},null,{"$f":"IF(AP92=\"\",\"\",VLOOKUP(AP92,[0]!Relais,2))","v":""},0,0]
[null,{"$f":"IF($A93=\"\",\"\",VLOOKUP($A93,INSCRITS!$D$4:$W$501,2,0))","v":""},null,{"$f":"IF($A93=\"\",\"\",VLOOKUP($A93,INSCRITS!$D$4:$W$501,4,0))","v":""},{"$f":"IF($A93=\"\",\"\",VLOOKUP($A93,INSCRITS!$D$4:$W$501,5,0))","v":""},{"$f":"IF($A93=\"\",\"\",VLOOKUP($A93,INSCRITS!$D$4:$W$501,6,0))","v":""},{"$f":"IF($A93=\"\",\"\",VLOOKUP($A93,INSCRITS!$D$4:$W$501,7,0))","v":""},{"$f":"IF($A93=\"\",\"\",VLOOKUP($A93,INSCRITS!$D$4:$W$501,8,0))","v":""},{"$f":"IF($A93=\"\",\"\",VLOOKUP($A93,INSCRITS!$D$4:$W$501,9,0))","v":""},{"$f":"IF($A93=\"\",\"\",VLOOKUP($A93,INSCRITS!$D$4:$W$506,10,0))","v":""},{"$f":"IF(ISNA(VLOOKUP($A93,SPRINT!AD$7:AJ$50,6,0)),\"\",VLOOKUP($A93,SPRINT!AD$7:AJ$50,6,0))","v":""},{"$f":"IF(ISNA(VLOOKUP($A93,SPRINT!AD$7:AJ$50,7,0)),\"\",VLOOKUP($A93,SPRINT!AD$7:AJ$50,7,0))","v":""},{"$f":"IF($A93=\"\",\"\",VLOOKUP($A93,INSCRITS!$D$4:$W$506,11,0))","v":""},{"$f":"IF(ISNA(VLOOKUP($A93,BATONS!AD$7:AJ$51,6,0)),\"\",VLOOKUP($A93,BATONS!AD$7:AJ$51,6,0))","v":""},{"$f":"IF(ISNA(VLOOKUP($A93,BATONS!AD$7:AJ$51,7,0)),\"\",VLOOKUP($A93,BATONS!AD$7:AJ$51,7,0))","v":""},{"$f":"IF($A93=\"\",\"\",VLOOKUP($A93,INSCRITS!$D$4:$W$506,12,0))","v":""},{"$f":"IF(ISNA(VLOOKUP($A93,PLANCHE!AC$7:AI$52,6,0)),\"\",VLOOKUP($A93,PLANCHE!AC$7:AI$52,6,0))","v":""},{"$f":"IF(ISNA(VLOOKUP($A93,PLANCHE!AC$7:AI$52,7,0)),\"\",VLOOKUP($A93,PLANCHE!AC$7:AI$52,7,0))","v":""},{"$f":"IF($A93=\"\",\"\",VLOOKUP($A93,INSCRITS!$D$4:$W$506,13,0))","v":""},{"$f":"IF(ISNA(VLOOKUP($A93,NAGE!N$7:T$52,6,0)),\"\",VLOOKUP($A93,NAGE!N$7:T$52,6,0))","v":""},{"$f":"IF(ISNA(VLOOKUP($A93,NAGE!N$7:T$52,7,0)),\"\",VLOOKUP($A93,NAGE!N$7:T$52,7,0))","v":""},{"$f":"IF($A93=\"\",\"\",VLOOKUP($A93,INSCRITS!$D$4:$W$506,14,0))","v":""},{"$f":"IF(ISNA(VLOOKUP($A93,SURFSKI!AC$8:AI$53,6,0)),\"\",VLOOKUP($A93,SURFSKI!AC$8:AI$53,6,0))","v":""},{"$f":"IF(ISNA(VLOOKUP($A93,SURFSKI!AC$8:AI$53,7,0)),\"\",VLOOKUP($A93,SURFSKI!AC$8:AI$53,7,0))","v":""},{"$f":"IF($A93=\"\",\"\",VLOOKUP($A93,INSCRITS!$D$4:$W$506,15,0))","v":""},{"$f":"IF(ISNA(VLOOKUP($A93,OCEANMAN!AC$7:AI$52,6,0)),\"\",VLOOKUP($A93,OCEANMAN!AC$7:AI$52,6,0))","v":""},{"$f":"IF(ISNA(VLOOKUP($A93,OCEANMAN!AC$7:AI$52,7,0)),\"\",VLOOKUP($A93,OCEANMAN!AC$7:AI$52,7,0))","v":""},{"$f":"IF($A93=\"\",\"\",VLOOKUP($A93,INSCRITS!$D$4:$W$506,16,0))","v":""},{"$f":"IF(ISNA(VLOOKUP($A93,CNC!N$7:AC$52,6,0)),\"\",VLOOKUP($A93,CNC!N$7:AC$52,6,0))","v":""},{"$f":"IF(ISNA(VLOOKUP($A93,CNC!N$7:AC$52,7,0)),\"\",VLOOKUP($A93,CNC!N$7:AC$52,7,0))","v":""},0,{"$f":"IF($A93=\"\",\"\",VLOOKUP($A93,INSCRITS!$D$4:$W$506,16,0))","v":""},null,{"$f":"IF(AG93=\"\",\"\",VLOOKUP(AG93,[0]!Relais,2))","v":""},{"$f":"IF($A93=\"\",\"\",VLOOKUP($A93,INSCRITS!$D$4:$W$506,17,0))","v":""},null,{"$f":"IF(AJ93=\"\",\"\",VLOOKUP(AJ93,[0]!Relais,2))","v":""},{"$f":"IF($A93=\"\",\"\",VLOOKUP($A93,INSCRITS!$D$4:$W$506,18,0))","v":""},null,{"$f":"IF(AM93=\"\",\"\",VLOOKUP(AM93,[0]!Relais,2))","v":""},{"$f":"IF($A93=\"\",\"\",VLOOKUP($A93,INSCRITS!$D$4:$W$506,19,0))","v":""},null,{"$f":"IF(AP93=\"\",\"\",VLOOKUP(AP93,[0]!Relais,2))","v":""},0,0]
[null,{"$f":"IF($A94=\"\",\"\",VLOOKUP($A94,INSCRITS!$D$4:$W$501,2,0))","v":""},null,{"$f":"IF($A94=\"\",\"\",VLOOKUP($A94,INSCRITS!$D$4:$W$501,4,0))","v":""},{"$f":"IF($A94=\"\",\"\",VLOOKUP($A94,INSCRITS!$D$4:$W$501,5,0))","v":""},{"$f":"IF($A94=\"\",\"\",VLOOKUP($A94,INSCRITS!$D$4:$W$501,6,0))","v":""},{"$f":"IF($A94=\"\",\"\",VLOOKUP($A94,INSCRITS!$D$4:$W$501,7,0))","v":""},{"$f":"IF($A94=\"\",\"\",VLOOKUP($A94,INSCRITS!$D$4:$W$501,8,0))","v":""},{"$f":"IF($A94=\"\",\"\",VLOOKUP($A94,INSCRITS!$D$4:$W$501,9,0))","v":""},{"$f":"IF($A94=\"\",\"\",VLOOKUP($A94,INSCRITS!$D$4:$W$506,10,0))","v":""},{"$f":"IF(ISNA(VLOOKUP($A94,SPRINT!AD$7:AJ$50,6,0)),\"\",VLOOKUP($A94,SPRINT!AD$7:AJ$50,6,0))","v":""},{"$f":"IF(ISNA(VLOOKUP($A94,SPRINT!AD$7:AJ$50,7,0)),\"\",VLOOKUP($A94,SPRINT!AD$7:AJ$50,7,0))","v":""},{"$f":"IF($A94=\"\",\"\",VLOOKUP($A94,INSCRITS!$D$4:$W$506,11,0))","v":""},{"$f":"IF(ISNA(VLOOKUP($A94,BATONS!AD$7:AJ$51,6,0)),\"\",VLOOKUP($A94,BATONS!AD$7:AJ$51,6,0))","v":""},{"$f":"IF(ISNA(VLOOKUP($A94,BATONS!AD$7:AJ$51,7,0)),\"\",VLOOKUP($A94,BATONS!AD$7:AJ$51,7,0))","v":""},{"$f":"IF($A94=\"\",\"\",VLOOKUP($A94,INSCRITS!$D$4:$W$506,12,0))","v":""},{"$f":"IF(ISNA(VLOOKUP($A94,PLANCHE!AC$7:AI$52,6,0)),\"\",VLOOKUP($A94,PLANCHE!AC$7:AI$52,6,0))","v":""},{"$f":"IF(ISNA(VLOOKUP($A94,PLANCHE!AC$7:AI$52,7,0)),\"\",VLOOKUP($A94,PLANCHE!AC$7:AI$52,7,0))","v":""},{"$f":"IF($A94=\"\",\"\",VLOOKUP($A94,INSCRITS!$D$4:$W$506,13,0))","v":""},{"$f":"IF(ISNA(VLOOKUP($A94,NAGE!N$7:T$52,6,0)),\"\",VLOOKUP($A94,NAGE!N$7:T$52,6,0))","v":""},{"$f":"IF(ISNA(VLOOKUP($A94,NAGE!N$7:T$52,7,0)),\"\",VLOOKUP($A94,NAGE!N$7:T$52,7,0))","v":""},{"$f":"IF($A94=\"\",\"\",VLOOKUP($A94,INSCRITS!$D$4:$W$506,14,0))","v":""},{"$f":"IF(ISNA(VLOOKUP($A94,SURFSKI!AC$8:AI$53,6,0)),\"\",VLOOKUP($A94,SURFSKI!AC$8:AI$53,6,0))","v":""},{"$f":"IF(ISNA(VLOOKUP($A94,SURFSKI!AC$8:AI$53,7,0)),\"\",VLOOKUP($A94,SURFSKI!AC$8:AI$53,7,0))","v":""},{"$f":"IF($A94=\"\",\"\",VLOOKUP($A94,INSCRITS!$D$4:$W$506,15,0))","v":""},{"$f":"IF(ISNA(VLOOKUP($A94,OCEANMAN!AC$7:AI$52,6,0)),\"\",VLOOKUP($A94,OCEANMAN!AC$7:AI$52,6,0))","v":""},{"$f":"IF(ISNA(VLOOKUP($A94,OCEANMAN!AC$7:AI$52,7,0)),\"\",VLOOKUP($A94,OCEANMAN!AC$7:AI$52,7,0))","v":""},{"$f":"IF($A94=\"\",\"\",VLOOKUP($A94,INSCRITS!$D$4:$W$506,16,0))","v":""},{"$f":"IF(ISNA(VLOOKUP($A94,CNC!N$7:AC$52,6,0)),\"\",VLOOKUP($A94,CNC!N$7:AC$52,6,0))","v":""},{"$f":"IF(ISNA(VLOOKUP($A94,CNC!N$7:AC$52,7,0)),\"\",VLOOKUP($A94,CNC!N$7:AC$52,7,0))","v":""},0,{"$f":"IF($A94=\"\",\"\",VLOOKUP($A94,INSCRITS!$D$4:$W$506,16,0))","v":""},null,{"$f":"IF(AG94=\"\",\"\",VLOOKUP(AG94,[0]!Relais,2))","v":""},{"$f":"IF($A94=\"\",\"\",VLOOKUP($A94,INSCRITS!$D$4:$W$506,17,0))","v":""},null,{"$f":"IF(AJ94=\"\",\"\",VLOOKUP(AJ94,[0]!Relais,2))","v":""},{"$f":"IF($A94=\"\",\"\",VLOOKUP($A94,INSCRITS!$D$4:$W$506,18,0))","v":""},null,{"$f":"IF(AM94=\"\",\"\",VLOOKUP(AM94,[0]!Relais,2))","v":""},{"$f":"IF($A94=\"\",\"\",VLOOKUP($A94,INSCRITS!$D$4:$W$506,19,0))","v":""},null,{"$f":"IF(AP94=\"\",\"\",VLOOKUP(AP94,[0]!Relais,2))","v":""},0,0]
[null,{"$f":"IF($A95=\"\",\"\",VLOOKUP($A95,INSCRITS!$D$4:$W$501,2,0))","v":""},null,{"$f":"IF($A95=\"\",\"\",VLOOKUP($A95,INSCRITS!$D$4:$W$501,4,0))","v":""},{"$f":"IF($A95=\"\",\"\",VLOOKUP($A95,INSCRITS!$D$4:$W$501,5,0))","v":""},{"$f":"IF($A95=\"\",\"\",VLOOKUP($A95,INSCRITS!$D$4:$W$501,6,0))","v":""},{"$f":"IF($A95=\"\",\"\",VLOOKUP($A95,INSCRITS!$D$4:$W$501,7,0))","v":""},{"$f":"IF($A95=\"\",\"\",VLOOKUP($A95,INSCRITS!$D$4:$W$501,8,0))","v":""},{"$f":"IF($A95=\"\",\"\",VLOOKUP($A95,INSCRITS!$D$4:$W$501,9,0))","v":""},{"$f":"IF($A95=\"\",\"\",VLOOKUP($A95,INSCRITS!$D$4:$W$506,10,0))","v":""},{"$f":"IF(ISNA(VLOOKUP($A95,SPRINT!AD$7:AJ$50,6,0)),\"\",VLOOKUP($A95,SPRINT!AD$7:AJ$50,6,0))","v":""},{"$f":"IF(ISNA(VLOOKUP($A95,SPRINT!AD$7:AJ$50,7,0)),\"\",VLOOKUP($A95,SPRINT!AD$7:AJ$50,7,0))","v":""},{"$f":"IF($A95=\"\",\"\",VLOOKUP($A95,INSCRITS!$D$4:$W$506,11,0))","v":""},{"$f":"IF(ISNA(VLOOKUP($A95,BATONS!AD$7:AJ$51,6,0)),\"\",VLOOKUP($A95,BATONS!AD$7:AJ$51,6,0))","v":""},{"$f":"IF(ISNA(VLOOKUP($A95,BATONS!AD$7:AJ$51,7,0)),\"\",VLOOKUP($A95,BATONS!AD$7:AJ$51,7,0))","v":""},{"$f":"IF($A95=\"\",\"\",VLOOKUP($A95,INSCRITS!$D$4:$W$506,12,0))","v":""},{"$f":"IF(ISNA(VLOOKUP($A95,PLANCHE!AC$7:AI$52,6,0)),\"\",VLOOKUP($A95,PLANCHE!AC$7:AI$52,6,0))","v":""},{"$f":"IF(ISNA(VLOOKUP($A95,PLANCHE!AC$7:AI$52,7,0)),\"\",VLOOKUP($A95,PLANCHE!AC$7:AI$52,7,0))","v":""},{"$f":"IF($A95=\"\",\"\",VLOOKUP($A95,INSCRITS!$D$4:$W$506,13,0))","v":""},{"$f":"IF(ISNA(VLOOKUP($A95,NAGE!N$7:T$52,6,0)),\"\",VLOOKUP($A95,NAGE!N$7:T$52,6,0))","v":""},{"$f":"IF(ISNA(VLOOKUP($A95,NAGE!N$7:T$52,7,0)),\"\",VLOOKUP($A95,NAGE!N$7:T$52,7,0))","v":""},{"$f":"IF($A95=\"\",\"\",VLOOKUP($A95,INSCRITS!$D$4:$W$506,14,0))","v":""},{"$f":"IF(ISNA(VLOOKUP($A95,SURFSKI!AC$8:AI$53,6,0)),\"\",VLOOKUP($A95,SURFSKI!AC$8:AI$53,6,0))","v":""},{"$f":"IF(ISNA(VLOOKUP($A95,SURFSKI!AC$8:AI$53,7,0)),\"\",VLOOKUP($A95,SURFSKI!AC$8:AI$53,7,0))","v":""},{"$f":"IF($A95=\"\",\"\",VLOOKUP($A95,INSCRITS!$D$4:$W$506,15,0))","v":""},{"$f":"IF(ISNA(VLOOKUP($A95,OCEANMAN!AC$7:AI$52,6,0)),\"\",VLOOKUP($A95,OCEANMAN!AC$7:AI$52,6,0))","v":""},{"$f":"IF(ISNA(VLOOKUP($A95,OCEANMAN!AC$7:AI$52,7,0)),\"\",VLOOKUP($A95,OCEANMAN!AC$7:AI$52,7,0))","v":""},{"$f":"IF($A95=\"\",\"\",VLOOKUP($A95,INSCRITS!$D$4:$W$506,16,0))","v":""},{"$f":"IF(ISNA(VLOOKUP($A95,CNC!N$7:AC$52,6,0)),\"\",VLOOKUP($A95,CNC!N$7:AC$52,6,0))","v":""},{"$f":"IF(ISNA(VLOOKUP($A95,CNC!N$7:AC$52,7,0)),\"\",VLOOKUP($A95,CNC!N$7:AC$52,7,0))","v":""},0,{"$f":"IF($A95=\"\",\"\",VLOOKUP($A95,INSCRITS!$D$4:$W$506,16,0))","v":""},null,{"$f":"IF(AG95=\"\",\"\",VLOOKUP(AG95,[0]!Relais,2))","v":""},{"$f":"IF($A95=\"\",\"\",VLOOKUP($A95,INSCRITS!$D$4:$W$506,17,0))","v":""},null,{"$f":"IF(AJ95=\"\",\"\",VLOOKUP(AJ95,[0]!Relais,2))","v":""},{"$f":"IF($A95=\"\",\"\",VLOOKUP($A95,INSCRITS!$D$4:$W$506,18,0))","v":""},null,{"$f":"IF(AM95=\"\",\"\",VLOOKUP(AM95,[0]!Relais,2))","v":""},{"$f":"IF($A95=\"\",\"\",VLOOKUP($A95,INSCRITS!$D$4:$W$506,19,0))","v":""},null,{"$f":"IF(AP95=\"\",\"\",VLOOKUP(AP95,[0]!Relais,2))","v":""},0,0]
[null,{"$f":"IF($A96=\"\",\"\",VLOOKUP($A96,INSCRITS!$D$4:$W$501,2,0))","v":""},null,{"$f":"IF($A96=\"\",\"\",VLOOKUP($A96,INSCRITS!$D$4:$W$501,4,0))","v":""},{"$f":"IF($A96=\"\",\"\",VLOOKUP($A96,INSCRITS!$D$4:$W$501,5,0))","v":""},{"$f":"IF($A96=\"\",\"\",VLOOKUP($A96,INSCRITS!$D$4:$W$501,6,0))","v":""},{"$f":"IF($A96=\"\",\"\",VLOOKUP($A96,INSCRITS!$D$4:$W$501,7,0))","v":""},{"$f":"IF($A96=\"\",\"\",VLOOKUP($A96,INSCRITS!$D$4:$W$501,8,0))","v":""},{"$f":"IF($A96=\"\",\"\",VLOOKUP($A96,INSCRITS!$D$4:$W$501,9,0))","v":""},{"$f":"IF($A96=\"\",\"\",VLOOKUP($A96,INSCRITS!$D$4:$W$506,10,0))","v":""},{"$f":"IF(ISNA(VLOOKUP($A96,SPRINT!AD$7:AJ$50,6,0)),\"\",VLOOKUP($A96,SPRINT!AD$7:AJ$50,6,0))","v":""},{"$f":"IF(ISNA(VLOOKUP($A96,SPRINT!AD$7:AJ$50,7,0)),\"\",VLOOKUP($A96,SPRINT!AD$7:AJ$50,7,0))","v":""},{"$f":"IF($A96=\"\",\"\",VLOOKUP($A96,INSCRITS!$D$4:$W$506,11,0))","v":""},{"$f":"IF(ISNA(VLOOKUP($A96,BATONS!AD$7:AJ$51,6,0)),\"\",VLOOKUP($A96,BATONS!AD$7:AJ$51,6,0))","v":""},{"$f":"IF(ISNA(VLOOKUP($A96,BATONS!AD$7:AJ$51,7,0)),\"\",VLOOKUP($A96,BATONS!AD$7:AJ$51,7,0))","v":""},{"$f":"IF($A96=\"\",\"\",VLOOKUP($A96,INSCRITS!$D$4:$W$506,12,0))","v":""},{"$f":"IF(ISNA(VLOOKUP($A96,PLANCHE!AC$7:AI$52,6,0)),\"\",VLOOKUP($A96,PLANCHE!AC$7:AI$52,6,0))","v":""},{"$f":"IF(ISNA(VLOOKUP($A96,PLANCHE!AC$7:AI$52,7,0)),\"\",VLOOKUP($A96,PLANCHE!AC$7:AI$52,7,0))","v":""},{"$f":"IF($A96=\"\",\"\",VLOOKUP($A96,INSCRITS!$D$4:$W$506,13,0))","v":""},{"$f":"IF(ISNA(VLOOKUP($A96,NAGE!N$7:T$52,6,0)),\"\",VLOOKUP($A96,NAGE!N$7:T$52,6,0))","v":""},{"$f":"IF(ISNA(VLOOKUP($A96,NAGE!N$7:T$52,7,0)),\"\",VLOOKUP($A96,NAGE!N$7:T$52,7,0))","v":""},{"$f":"IF($A96=\"\",\"\",VLOOKUP($A96,INSCRITS!$D$4:$W$506,14,0))","v":""},{"$f":"IF(ISNA(VLOOKUP($A96,SURFSKI!AC$8:AI$53,6,0)),\"\",VLOOKUP($A96,SURFSKI!AC$8:AI$53,6,0))","v":""},{"$f":"IF(ISNA(VLOOKUP($A96,SURFSKI!AC$8:AI$53,7,0)),\"\",VLOOKUP($A96,SURFSKI!AC$8:AI$53,7,0))","v":""},{"$f":"IF($A96=\"\",\"\",VLOOKUP($A96,INSCRITS!$D$4:$W$506,15,0))","v":""},{"$f":"IF(ISNA(VLOOKUP($A96,OCEANMAN!AC$7:AI$52,6,0)),\"\",VLOOKUP($A96,OCEANMAN!AC$7:AI$52,6,0))","v":""},{"$f":"IF(ISNA(VLOOKUP($A96,OCEANMAN!AC$7:AI$52,7,0)),\"\",VLOOKUP($A96,OCEANMAN!AC$7:AI$52,7,0))","v":""},{"$f":"IF($A96=\"\",\"\",VLOOKUP($A96,INSCRITS!$D$4:$W$506,16,0))","v":""},{"$f":"IF(ISNA(VLOOKUP($A96,CNC!N$7:AC$52,6,0)),\"\",VLOOKUP($A96,CNC!N$7:AC$52,6,0))","v":""},{"$f":"IF(ISNA(VLOOKUP($A96,CNC!N$7:AC$52,7,0)),\"\",VLOOKUP($A96,CNC!N$7:AC$52,7,0))","v":""},0,{"$f":"IF($A96=\"\",\"\",VLOOKUP($A96,INSCRITS!$D$4:$W$506,16,0))","v":""},null,{"$f":"IF(AG96=\"\",\"\",VLOOKUP(AG96,[0]!Relais,2))","v":""},{"$f":"IF($A96=\"\",\"\",VLOOKUP($A96,INSCRITS!$D$4:$W$506,17,0))","v":""},null,{"$f":"IF(AJ96=\"\",\"\",VLOOKUP(AJ96,[0]!Relais,2))","v":""},{"$f":"IF($A96=\"\",\"\",VLOOKUP($A96,INSCRITS!$D$4:$W$506,18,0))","v":""},null,{"$f":"IF(AM96=\"\",\"\",VLOOKUP(AM96,[0]!Relais,2))","v":""},{"$f":"IF($A96=\"\",\"\",VLOOKUP($A96,INSCRITS!$D$4:$W$506,19,0))","v":""},null,{"$f":"IF(AP96=\"\",\"\",VLOOKUP(AP96,[0]!Relais,2))","v":""},0,0]
[null,{"$f":"IF($A97=\"\",\"\",VLOOKUP($A97,INSCRITS!$D$4:$W$501,2,0))","v":""},null,{"$f":"IF($A97=\"\",\"\",VLOOKUP($A97,INSCRITS!$D$4:$W$501,4,0))","v":""},{"$f":"IF($A97=\"\",\"\",VLOOKUP($A97,INSCRITS!$D$4:$W$501,5,0))","v":""},{"$f":"IF($A97=\"\",\"\",VLOOKUP($A97,INSCRITS!$D$4:$W$501,6,0))","v":""},{"$f":"IF($A97=\"\",\"\",VLOOKUP($A97,INSCRITS!$D$4:$W$501,7,0))","v":""},{"$f":"IF($A97=\"\",\"\",VLOOKUP($A97,INSCRITS!$D$4:$W$501,8,0))","v":""},{"$f":"IF($A97=\"\",\"\",VLOOKUP($A97,INSCRITS!$D$4:$W$501,9,0))","v":""},{"$f":"IF($A97=\"\",\"\",VLOOKUP($A97,INSCRITS!$D$4:$W$506,10,0))","v":""},{"$f":"IF(ISNA(VLOOKUP($A97,SPRINT!AD$7:AJ$50,6,0)),\"\",VLOOKUP($A97,SPRINT!AD$7:AJ$50,6,0))","v":""},{"$f":"IF(ISNA(VLOOKUP($A97,SPRINT!AD$7:AJ$50,7,0)),\"\",VLOOKUP($A97,SPRINT!AD$7:AJ$50,7,0))","v":""},{"$f":"IF($A97=\"\",\"\",VLOOKUP($A97,INSCRITS!$D$4:$W$506,11,0))","v":""},{"$f":"IF(ISNA(VLOOKUP($A97,BATONS!AD$7:AJ$51,6,0)),\"\",VLOOKUP($A97,BATONS!AD$7:AJ$51,6,0))","v":""},{"$f":"IF(ISNA(VLOOKUP($A97,BATONS!AD$7:AJ$51,7,0)),\"\",VLOOKUP($A97,BATONS!AD$7:AJ$51,7,0))","v":""},{"$f":"IF($A97=\"\",\"\",VLOOKUP($A97,INSCRITS!$D$4:$W$506,12,0))","v":""},{"$f":"IF(ISNA(VLOOKUP($A97,PLANCHE!AC$7:AI$52,6,0)),\"\",VLOOKUP($A97,PLANCHE!AC$7:AI$52,6,0))","v":""},{"$f":"IF(ISNA(VLOOKUP($A97,PLANCHE!AC$7:AI$52,7,0)),\"\",VLOOKUP($A97,PLANCHE!AC$7:AI$52,7,0))","v":""},{"$f":"IF($A97=\"\",\"\",VLOOKUP($A97,INSCRITS!$D$4:$W$506,13,0))","v":""},{"$f":"IF(ISNA(VLOOKUP($A97,NAGE!N$7:T$52,6,0)),\"\",VLOOKUP($A97,NAGE!N$7:T$52,6,0))","v":""},{"$f":"IF(ISNA(VLOOKUP($A97,NAGE!N$7:T$52,7,0)),\"\",VLOOKUP($A97,NAGE!N$7:T$52,7,0))","v":""},{"$f":"IF($A97=\"\",\"\",VLOOKUP($A97,INSCRITS!$D$4:$W$506,14,0))","v":""},{"$f":"IF(ISNA(VLOOKUP($A97,SURFSKI!AC$8:AI$53,6,0)),\"\",VLOOKUP($A97,SURFSKI!AC$8:AI$53,6,0))","v":""},{"$f":"IF(ISNA(VLOOKUP($A97,SURFSKI!AC$8:AI$53,7,0)),\"\",VLOOKUP($A97,SURFSKI!AC$8:AI$53,7,0))","v":""},{"$f":"IF($A97=\"\",\"\",VLOOKUP($A97,INSCRITS!$D$4:$W$506,15,0))","v":""},{"$f":"IF(ISNA(VLOOKUP($A97,OCEANMAN!AC$7:AI$52,6,0)),\"\",VLOOKUP($A97,OCEANMAN!AC$7:AI$52,6,0))","v":""},{"$f":"IF(ISNA(VLOOKUP($A97,OCEANMAN!AC$7:AI$52,7,0)),\"\",VLOOKUP($A97,OCEANMAN!AC$7:AI$52,7,0))","v":""},{"$f":"IF($A97=\"\",\"\",VLOOKUP($A97,INSCRITS!$D$4:$W$506,16,0))","v":""},{"$f":"IF(ISNA(VLOOKUP($A97,CNC!N$7:AC$52,6,0)),\"\",VLOOKUP($A97,CNC!N$7:AC$52,6,0))","v":""},{"$f":"IF(ISNA(VLOOKUP($A97,CNC!N$7:AC$52,7,0)),\"\",VLOOKUP($A97,CNC!N$7:AC$52,7,0))","v":""},0,{"$f":"IF($A97=\"\",\"\",VLOOKUP($A97,INSCRITS!$D$4:$W$506,16,0))","v":""},null,{"$f":"IF(AG97=\"\",\"\",VLOOKUP(AG97,[0]!Relais,2))","v":""},{"$f":"IF($A97=\"\",\"\",VLOOKUP($A97,INSCRITS!$D$4:$W$506,17,0))","v":""},null,{"$f":"IF(AJ97=\"\",\"\",VLOOKUP(AJ97,[0]!Relais,2))","v":""},{"$f":"IF($A97=\"\",\"\",VLOOKUP($A97,INSCRITS!$D$4:$W$506,18,0))","v":""},null,{"$f":"IF(AM97=\"\",\"\",VLOOKUP(AM97,[0]!Relais,2))","v":""},{"$f":"IF($A97=\"\",\"\",VLOOKUP($A97,INSCRITS!$D$4:$W$506,19,0))","v":""},null,{"$f":"IF(AP97=\"\",\"\",VLOOKUP(AP97,[0]!Relais,2))","v":""},0,0]
[null,{"$f":"IF($A98=\"\",\"\",VLOOKUP($A98,INSCRITS!$D$4:$W$501,2,0))","v":""},null,{"$f":"IF($A98=\"\",\"\",VLOOKUP($A98,INSCRITS!$D$4:$W$501,4,0))","v":""},{"$f":"IF($A98=\"\",\"\",VLOOKUP($A98,INSCRITS!$D$4:$W$501,5,0))","v":""},{"$f":"IF($A98=\"\",\"\",VLOOKUP($A98,INSCRITS!$D$4:$W$501,6,0))","v":""},{"$f":"IF($A98=\"\",\"\",VLOOKUP($A98,INSCRITS!$D$4:$W$501,7,0))","v":""},{"$f":"IF($A98=\"\",\"\",VLOOKUP($A98,INSCRITS!$D$4:$W$501,8,0))","v":""},{"$f":"IF($A98=\"\",\"\",VLOOKUP($A98,INSCRITS!$D$4:$W$501,9,0))","v":""},{"$f":"IF($A98=\"\",\"\",VLOOKUP($A98,INSCRITS!$D$4:$W$506,10,0))","v":""},{"$f":"IF(ISNA(VLOOKUP($A98,SPRINT!AD$7:AJ$50,6,0)),\"\",VLOOKUP($A98,SPRINT!AD$7:AJ$50,6,0))","v":""},{"$f":"IF(ISNA(VLOOKUP($A98,SPRINT!AD$7:AJ$50,7,0)),\"\",VLOOKUP($A98,SPRINT!AD$7:AJ$50,7,0))","v":""},{"$f":"IF($A98=\"\",\"\",VLOOKUP($A98,INSCRITS!$D$4:$W$506,11,0))","v":""},{"$f":"IF(ISNA(VLOOKUP($A98,BATONS!AD$7:AJ$51,6,0)),\"\",VLOOKUP($A98,BATONS!AD$7:AJ$51,6,0))","v":""},{"$f":"IF(ISNA(VLOOKUP($A98,BATONS!AD$7:AJ$51,7,0)),\"\",VLOOKUP($A98,BATONS!AD$7:AJ$51,7,0))","v":""},{"$f":"IF($A98=\"\",\"\",VLOOKUP($A98,INSCRITS!$D$4:$W$506,12,0))","v":""},{"$f":"IF(ISNA(VLOOKUP($A98,PLANCHE!AC$7:AI$52,6,0)),\"\",VLOOKUP($A98,PLANCHE!AC$7:AI$52,6,0))","v":""},{"$f":"IF(ISNA(VLOOKUP($A98,PLANCHE!AC$7:AI$52,7,0)),\"\",VLOOKUP($A98,PLANCHE!AC$7:AI$52,7,0))","v":""},{"$f":"IF($A98=\"\",\"\",VLOOKUP($A98,INSCRITS!$D$4:$W$506,13,0))","v":""},{"$f":"IF(ISNA(VLOOKUP($A98,NAGE!N$7:T$52,6,0)),\"\",VLOOKUP($A98,NAGE!N$7:T$52,6,0))","v":""},{"$f":"IF(ISNA(VLOOKUP($A98,NAGE!N$7:T$52,7,0)),\"\",VLOOKUP($A98,NAGE!N$7:T$52,7,0))","v":""},{"$f":"IF($A98=\"\",\"\",VLOOKUP($A98,INSCRITS!$D$4:$W$506,14,0))","v":""},{"$f":"IF(ISNA(VLOOKUP($A98,SURFSKI!AC$8:AI$53,6,0)),\"\",VLOOKUP($A98,SURFSKI!AC$8:AI$53,6,0))","v":""},{"$f":"IF(ISNA(VLOOKUP($A98,SURFSKI!AC$8:AI$53,7,0)),\"\",VLOOKUP($A98,SURFSKI!AC$8:AI$53,7,0))","v":""},{"$f":"IF($A98=\"\",\"\",VLOOKUP($A98,INSCRITS!$D$4:$W$506,15,0))","v":""},{"$f":"IF(ISNA(VLOOKUP($A98,OCEANMAN!AC$7:AI$52,6,0)),\"\",VLOOKUP($A98,OCEANMAN!AC$7:AI$52,6,0))","v":""},{"$f":"IF(ISNA(VLOOKUP($A98,OCEANMAN!AC$7:AI$52,7,0)),\"\",VLOOKUP($A98,OCEANMAN!AC$7:AI$52,7,0))","v":""},{"$f":"IF($A98=\"\",\"\",VLOOKUP($A98,INSCRITS!$D$4:$W$506,16,0))","v":""},{"$f":"IF(ISNA(VLOOKUP($A98,CNC!N$7:AC$52,6,0)),\"\",VLOOKUP($A98,CNC!N$7:AC$52,6,0))","v":""},{"$f":"IF(ISNA(VLOOKUP($A98,CNC!N$7:AC$52,7,0)),\"\",VLOOKUP($A98,CNC!N$7:AC$52,7,0))","v":""},0,{"$f":"IF($A98=\"\",\"\",VLOOKUP($A98,INSCRITS!$D$4:$W$506,16,0))","v":""},null,{"$f":"IF(AG98=\"\",\"\",VLOOKUP(AG98,[0]!Relais,2))","v":""},{"$f":"IF($A98=\"\",\"\",VLOOKUP($A98,INSCRITS!$D$4:$W$506,17,0))","v":""},null,{"$f":"IF(AJ98=\"\",\"\",VLOOKUP(AJ98,[0]!Relais,2))","v":""},{"$f":"IF($A98=\"\",\"\",VLOOKUP($A98,INSCRITS!$D$4:$W$506,18,0))","v":""},null,{"$f":"IF(AM98=\"\",\"\",VLOOKUP(AM98,[0]!Relais,2))","v":""},{"$f":"IF($A98=\"\",\"\",VLOOKUP($A98,INSCRITS!$D$4:$W$506,19,0))","v":""},null,{"$f":"IF(AP98=\"\",\"\",VLOOKUP(AP98,[0]!Relais,2))","v":""},0,0]
[null,{"$f":"IF($A99=\"\",\"\",VLOOKUP($A99,INSCRITS!$D$4:$W$501,2,0))","v":""},null,{"$f":"IF($A99=\"\",\"\",VLOOKUP($A99,INSCRITS!$D$4:$W$501,4,0))","v":""},{"$f":"IF($A99=\"\",\"\",VLOOKUP($A99,INSCRITS!$D$4:$W$501,5,0))","v":""},{"$f":"IF($A99=\"\",\"\",VLOOKUP($A99,INSCRITS!$D$4:$W$501,6,0))","v":""},{"$f":"IF($A99=\"\",\"\",VLOOKUP($A99,INSCRITS!$D$4:$W$501,7,0))","v":""},{"$f":"IF($A99=\"\",\"\",VLOOKUP($A99,INSCRITS!$D$4:$W$501,8,0))","v":""},{"$f":"IF($A99=\"\",\"\",VLOOKUP($A99,INSCRITS!$D$4:$W$501,9,0))","v":""},{"$f":"IF($A99=\"\",\"\",VLOOKUP($A99,INSCRITS!$D$4:$W$506,10,0))","v":""},{"$f":"IF(ISNA(VLOOKUP($A99,SPRINT!AD$7:AJ$50,6,0)),\"\",VLOOKUP($A99,SPRINT!AD$7:AJ$50,6,0))","v":""},{"$f":"IF(ISNA(VLOOKUP($A99,SPRINT!AD$7:AJ$50,7,0)),\"\",VLOOKUP($A99,SPRINT!AD$7:AJ$50,7,0))","v":""},{"$f":"IF($A99=\"\",\"\",VLOOKUP($A99,INSCRITS!$D$4:$W$506,11,0))","v":""},{"$f":"IF(ISNA(VLOOKUP($A99,BATONS!AD$7:AJ$51,6,0)),\"\",VLOOKUP($A99,BATONS!AD$7:AJ$51,6,0))","v":""},{"$f":"IF(ISNA(VLOOKUP($A99,BATONS!AD$7:AJ$51,7,0)),\"\",VLOOKUP($A99,BATONS!AD$7:AJ$51,7,0))","v":""},{"$f":"IF($A99=\"\",\"\",VLOOKUP($A99,INSCRITS!$D$4:$W$506,12,0))","v":""},{"$f":"IF(ISNA(VLOOKUP($A99,PLANCHE!AC$7:AI$52,6,0)),\"\",VLOOKUP($A99,PLANCHE!AC$7:AI$52,6,0))","v":""},{"$f":"IF(ISNA(VLOOKUP($A99,PLANCHE!AC$7:AI$52,7,0)),\"\",VLOOKUP($A99,PLANCHE!AC$7:AI$52,7,0))","v":""},{"$f":"IF($A99=\"\",\"\",VLOOKUP($A99,INSCRITS!$D$4:$W$506,13,0))","v":""},{"$f":"IF(ISNA(VLOOKUP($A99,NAGE!N$7:T$52,6,0)),\"\",VLOOKUP($A99,NAGE!N$7:T$52,6,0))","v":""},{"$f":"IF(ISNA(VLOOKUP($A99,NAGE!N$7:T$52,7,0)),\"\",VLOOKUP($A99,NAGE!N$7:T$52,7,0))","v":""},{"$f":"IF($A99=\"\",\"\",VLOOKUP($A99,INSCRITS!$D$4:$W$506,14,0))","v":""},{"$f":"IF(ISNA(VLOOKUP($A99,SURFSKI!AC$8:AI$53,6,0)),\"\",VLOOKUP($A99,SURFSKI!AC$8:AI$53,6,0))","v":""},{"$f":"IF(ISNA(VLOOKUP($A99,SURFSKI!AC$8:AI$53,7,0)),\"\",VLOOKUP($A99,SURFSKI!AC$8:AI$53,7,0))","v":""},{"$f":"IF($A99=\"\",\"\",VLOOKUP($A99,INSCRITS!$D$4:$W$506,15,0))","v":""},{"$f":"IF(ISNA(VLOOKUP($A99,OCEANMAN!AC$7:AI$52,6,0)),\"\",VLOOKUP($A99,OCEANMAN!AC$7:AI$52,6,0))","v":""},{"$f":"IF(ISNA(VLOOKUP($A99,OCEANMAN!AC$7:AI$52,7,0)),\"\",VLOOKUP($A99,OCEANMAN!AC$7:AI$52,7,0))","v":""},{"$f":"IF($A99=\"\",\"\",VLOOKUP($A99,INSCRITS!$D$4:$W$506,16,0))","v":""},{"$f":"IF(ISNA(VLOOKUP($A99,CNC!N$7:AC$52,6,0)),\"\",VLOOKUP($A99,CNC!N$7:AC$52,6,0))","v":""},{"$f":"IF(ISNA(VLOOKUP($A99,CNC!N$7:AC$52,7,0)),\"\",VLOOKUP($A99,CNC!N$7:AC$52,7,0))","v":""},0,{"$f":"IF($A99=\"\",\"\",VLOOKUP($A99,INSCRITS!$D$4:$W$506,16,0))","v":""},null,{"$f":"IF(AG99=\"\",\"\",VLOOKUP(AG99,[0]!Relais,2))","v":""},{"$f":"IF($A99=\"\",\"\",VLOOKUP($A99,INSCRITS!$D$4:$W$506,17,0))","v":""},null,{"$f":"IF(AJ99=\"\",\"\",VLOOKUP(AJ99,[0]!Relais,2))","v":""},{"$f":"IF($A99=\"\",\"\",VLOOKUP($A99,INSCRITS!$D$4:$W$506,18,0))","v":""},null,{"$f":"IF(AM99=\"\",\"\",VLOOKUP(AM99,[0]!Relais,2))","v":""},{"$f":"IF($A99=\"\",\"\",VLOOKUP($A99,INSCRITS!$D$4:$W$506,19,0))","v":""},null,{"$f":"IF(AP99=\"\",\"\",VLOOKUP(AP99,[0]!Relais,2))","v":""},0,0]
[null,{"$f":"IF($A100=\"\",\"\",VLOOKUP($A100,INSCRITS!$D$4:$W$501,2,0))","v":""},null,{"$f":"IF($A100=\"\",\"\",VLOOKUP($A100,INSCRITS!$D$4:$W$501,4,0))","v":""},{"$f":"IF($A100=\"\",\"\",VLOOKUP($A100,INSCRITS!$D$4:$W$501,5,0))","v":""},{"$f":"IF($A100=\"\",\"\",VLOOKUP($A100,INSCRITS!$D$4:$W$501,6,0))","v":""},{"$f":"IF($A100=\"\",\"\",VLOOKUP($A100,INSCRITS!$D$4:$W$501,7,0))","v":""},{"$f":"IF($A100=\"\",\"\",VLOOKUP($A100,INSCRITS!$D$4:$W$501,8,0))","v":""},{"$f":"IF($A100=\"\",\"\",VLOOKUP($A100,INSCRITS!$D$4:$W$501,9,0))","v":""},{"$f":"IF($A100=\"\",\"\",VLOOKUP($A100,INSCRITS!$D$4:$W$506,10,0))","v":""},{"$f":"IF(ISNA(VLOOKUP($A100,SPRINT!AD$7:AJ$50,6,0)),\"\",VLOOKUP($A100,SPRINT!AD$7:AJ$50,6,0))","v":""},{"$f":"IF(ISNA(VLOOKUP($A100,SPRINT!AD$7:AJ$50,7,0)),\"\",VLOOKUP($A100,SPRINT!AD$7:AJ$50,7,0))","v":""},{"$f":"IF($A100=\"\",\"\",VLOOKUP($A100,INSCRITS!$D$4:$W$506,11,0))","v":""},{"$f":"IF(ISNA(VLOOKUP($A100,BATONS!AD$7:AJ$51,6,0)),\"\",VLOOKUP($A100,BATONS!AD$7:AJ$51,6,0))","v":""},{"$f":"IF(ISNA(VLOOKUP($A100,BATONS!AD$7:AJ$51,7,0)),\"\",VLOOKUP($A100,BATONS!AD$7:AJ$51,7,0))","v":""},{"$f":"IF($A100=\"\",\"\",VLOOKUP($A100,INSCRITS!$D$4:$W$506,12,0))","v":""},{"$f":"IF(ISNA(VLOOKUP($A100,PLANCHE!AC$7:AI$52,6,0)),\"\",VLOOKUP($A100,PLANCHE!AC$7:AI$52,6,0))","v":""},{"$f":"IF(ISNA(VLOOKUP($A100,PLANCHE!AC$7:AI$52,7,0)),\"\",VLOOKUP($A100,PLANCHE!AC$7:AI$52,7,0))","v":""},{"$f":"IF($A100=\"\",\"\",VLOOKUP($A100,INSCRITS!$D$4:$W$506,13,0))","v":""},{"$f":"IF(ISNA(VLOOKUP($A100,NAGE!N$7:T$52,6,0)),\"\",VLOOKUP($A100,NAGE!N$7:T$52,6,0))","v":""},{"$f":"IF(ISNA(VLOOKUP($A100,NAGE!N$7:T$52,7,0)),\"\",VLOOKUP($A100,NAGE!N$7:T$52,7,0))","v":""},{"$f":"IF($A100=\"\",\"\",VLOOKUP($A100,INSCRITS!$D$4:$W$506,14,0))","v":""},{"$f":"IF(ISNA(VLOOKUP($A100,SURFSKI!AC$8:AI$53,6,0)),\"\",VLOOKUP($A100,SURFSKI!AC$8:AI$53,6,0))","v":""},{"$f":"IF(ISNA(VLOOKUP($A100,SURFSKI!AC$8:AI$53,7,0)),\"\",VLOOKUP($A100,SURFSKI!AC$8:AI$53,7,0))","v":""},{"$f":"IF($A100=\"\",\"\",VLOOKUP($A100,INSCRITS!$D$4:$W$506,15,0))","v":""},{"$f":"IF(ISNA(VLOOKUP($A100,OCEANMAN!AC$7:AI$52,6,0)),\"\",VLOOKUP($A100,OCEANMAN!AC$7:AI$52,6,0))","v":""},{"$f":"IF(ISNA(VLOOKUP($A100,OCEANMAN!AC$7:AI$52,7,0)),\"\",VLOOKUP($A100,OCEANMAN!AC$7:AI$52,7,0))","v":""},{"$f":"IF($A100=\"\",\"\",VLOOKUP($A100,INSCRITS!$D$4:$W$506,16,0))","v":""},{"$f":"IF(ISNA(VLOOKUP($A100,CNC!N$7:AC$52,6,0)),\"\",VLOOKUP($A100,CNC!N$7:AC$52,6,0))","v":""},{"$f":"IF(ISNA(VLOOKUP($A100,CNC!N$7:AC$52,7,0)),\"\",VLOOKUP($A100,CNC!N$7:AC$52,7,0))","v":""},0,{"$f":"IF($A100=\"\",\"\",VLOOKUP($A100,INSCRITS!$D$4:$W$506,16,0))","v":""},null,{"$f":"IF(AG100=\"\",\"\",VLOOKUP(AG100,[0]!Relais,2))","v":""},{"$f":"IF($A100=\"\",\"\",VLOOKUP($A100,INSCRITS!$D$4:$W$506,17,0))","v":""},null,{"$f":"IF(AJ100=\"\",\"\",VLOOKUP(AJ100,[0]!Relais,2))","v":""},{"$f":"IF($A100=\"\",\"\",VLOOKUP($A100,INSCRITS!$D$4:$W$506,18,0))","v":""},null,{"$f":"IF(AM100=\"\",\"\",VLOOKUP(AM100,[0]!Relais,2))","v":""},{"$f":"IF($A100=\"\",\"\",VLOOKUP($A100,INSCRITS!$D$4:$W$506,19,0))","v":""},null,{"$f":"IF(AP100=\"\",\"\",VLOOKUP(AP100,[0]!Relais,2))","v":""},0,0]
[null,{"$f":"IF($A101=\"\",\"\",VLOOKUP($A101,INSCRITS!$D$4:$W$501,2,0))","v":""},null,{"$f":"IF($A101=\"\",\"\",VLOOKUP($A101,INSCRITS!$D$4:$W$501,4,0))","v":""},{"$f":"IF($A101=\"\",\"\",VLOOKUP($A101,INSCRITS!$D$4:$W$501,5,0))","v":""},{"$f":"IF($A101=\"\",\"\",VLOOKUP($A101,INSCRITS!$D$4:$W$501,6,0))","v":""},{"$f":"IF($A101=\"\",\"\",VLOOKUP($A101,INSCRITS!$D$4:$W$501,7,0))","v":""},{"$f":"IF($A101=\"\",\"\",VLOOKUP($A101,INSCRITS!$D$4:$W$501,8,0))","v":""},{"$f":"IF($A101=\"\",\"\",VLOOKUP($A101,INSCRITS!$D$4:$W$501,9,0))","v":""},{"$f":"IF($A101=\"\",\"\",VLOOKUP($A101,INSCRITS!$D$4:$W$506,10,0))","v":""},{"$f":"IF(ISNA(VLOOKUP($A101,SPRINT!AD$7:AJ$50,6,0)),\"\",VLOOKUP($A101,SPRINT!AD$7:AJ$50,6,0))","v":""},{"$f":"IF(ISNA(VLOOKUP($A101,SPRINT!AD$7:AJ$50,7,0)),\"\",VLOOKUP($A101,SPRINT!AD$7:AJ$50,7,0))","v":""},{"$f":"IF($A101=\"\",\"\",VLOOKUP($A101,INSCRITS!$D$4:$W$506,11,0))","v":""},{"$f":"IF(ISNA(VLOOKUP($A101,BATONS!AD$7:AJ$51,6,0)),\"\",VLOOKUP($A101,BATONS!AD$7:AJ$51,6,0))","v":""},{"$f":"IF(ISNA(VLOOKUP($A101,BATONS!AD$7:AJ$51,7,0)),\"\",VLOOKUP($A101,BATONS!AD$7:AJ$51,7,0))","v":""},{"$f":"IF($A101=\"\",\"\",VLOOKUP($A101,INSCRITS!$D$4:$W$506,12,0))","v":""},{"$f":"IF(ISNA(VLOOKUP($A101,PLANCHE!AC$7:AI$52,6,0)),\"\",VLOOKUP($A101,PLANCHE!AC$7:AI$52,6,0))","v":""},{"$f":"IF(ISNA(VLOOKUP($A101,PLANCHE!AC$7:AI$52,7,0)),\"\",VLOOKUP($A101,PLANCHE!AC$7:AI$52,7,0))","v":""},{"$f":"IF($A101=\"\",\"\",VLOOKUP($A101,INSCRITS!$D$4:$W$506,13,0))","v":""},{"$f":"IF(ISNA(VLOOKUP($A101,NAGE!N$7:T$52,6,0)),\"\",VLOOKUP($A101,NAGE!N$7:T$52,6,0))","v":""},{"$f":"IF(ISNA(VLOOKUP($A101,NAGE!N$7:T$52,7,0)),\"\",VLOOKUP($A101,NAGE!N$7:T$52,7,0))","v":""},{"$f":"IF($A101=\"\",\"\",VLOOKUP($A101,INSCRITS!$D$4:$W$506,14,0))","v":""},{"$f":"IF(ISNA(VLOOKUP($A101,SURFSKI!AC$8:AI$53,6,0)),\"\",VLOOKUP($A101,SURFSKI!AC$8:AI$53,6,0))","v":""},{"$f":"IF(ISNA(VLOOKUP($A101,SURFSKI!AC$8:AI$53,7,0)),\"\",VLOOKUP($A101,SURFSKI!AC$8:AI$53,7,0))","v":""},{"$f":"IF($A101=\"\",\"\",VLOOKUP($A101,INSCRITS!$D$4:$W$506,15,0))","v":""},{"$f":"IF(ISNA(VLOOKUP($A101,OCEANMAN!AC$7:AI$52,6,0)),\"\",VLOOKUP($A101,OCEANMAN!AC$7:AI$52,6,0))","v":""},{"$f":"IF(ISNA(VLOOKUP($A101,OCEANMAN!AC$7:AI$52,7,0)),\"\",VLOOKUP($A101,OCEANMAN!AC$7:AI$52,7,0))","v":""},{"$f":"IF($A101=\"\",\"\",VLOOKUP($A101,INSCRITS!$D$4:$W$506,16,0))","v":""},{"$f":"IF(ISNA(VLOOKUP($A101,CNC!N$7:AC$52,6,0)),\"\",VLOOKUP($A101,CNC!N$7:AC$52,6,0))","v":""},{"$f":"IF(ISNA(VLOOKUP($A101,CNC!N$7:AC$52,7,0)),\"\",VLOOKUP($A101,CNC!N$7:AC$52,7,0))","v":""},0,{"$f":"IF($A101=\"\",\"\",VLOOKUP($A101,INSCRITS!$D$4:$W$506,16,0))","v":""},null,{"$f":"IF(AG101=\"\",\"\",VLOOKUP(AG101,[0]!Relais,2))","v":""},{"$f":"IF($A101=\"\",\"\",VLOOKUP($A101,INSCRITS!$D$4:$W$506,17,0))","v":""},null,{"$f":"IF(AJ101=\"\",\"\",VLOOKUP(AJ101,[0]!Relais,2))","v":""},{"$f":"IF($A101=\"\",\"\",VLOOKUP($A101,INSCRITS!$D$4:$W$506,18,0))","v":""},null,{"$f":"IF(AM101=\"\",\"\",VLOOKUP(AM101,[0]!Relais,2))","v":""},{"$f":"IF($A101=\"\",\"\",VLOOKUP($A101,INSCRITS!$D$4:$W$506,19,0))","v":""},null,{"$f":"IF(AP101=\"\",\"\",VLOOKUP(AP101,[0]!Relais,2))","v":""},0,0]
[null,{"$f":"IF($A102=\"\",\"\",VLOOKUP($A102,INSCRITS!$D$4:$W$501,2,0))","v":""},null,{"$f":"IF($A102=\"\",\"\",VLOOKUP($A102,INSCRITS!$D$4:$W$501,4,0))","v":""},{"$f":"IF($A102=\"\",\"\",VLOOKUP($A102,INSCRITS!$D$4:$W$501,5,0))","v":""},{"$f":"IF($A102=\"\",\"\",VLOOKUP($A102,INSCRITS!$D$4:$W$501,6,0))","v":""},{"$f":"IF($A102=\"\",\"\",VLOOKUP($A102,INSCRITS!$D$4:$W$501,7,0))","v":""},{"$f":"IF($A102=\"\",\"\",VLOOKUP($A102,INSCRITS!$D$4:$W$501,8,0))","v":""},{"$f":"IF($A102=\"\",\"\",VLOOKUP($A102,INSCRITS!$D$4:$W$501,9,0))","v":""},{"$f":"IF($A102=\"\",\"\",VLOOKUP($A102,INSCRITS!$D$4:$W$506,10,0))","v":""},{"$f":"IF(ISNA(VLOOKUP($A102,SPRINT!AD$7:AJ$50,6,0)),\"\",VLOOKUP($A102,SPRINT!AD$7:AJ$50,6,0))","v":""},{"$f":"IF(ISNA(VLOOKUP($A102,SPRINT!AD$7:AJ$50,7,0)),\"\",VLOOKUP($A102,SPRINT!AD$7:AJ$50,7,0))","v":""},{"$f":"IF($A102=\"\",\"\",VLOOKUP($A102,INSCRITS!$D$4:$W$506,11,0))","v":""},{"$f":"IF(ISNA(VLOOKUP($A102,BATONS!AD$7:AJ$51,6,0)),\"\",VLOOKUP($A102,BATONS!AD$7:AJ$51,6,0))","v":""},{"$f":"IF(ISNA(VLOOKUP($A102,BATONS!AD$7:AJ$51,7,0)),\"\",VLOOKUP($A102,BATONS!AD$7:AJ$51,7,0))","v":""},{"$f":"IF($A102=\"\",\"\",VLOOKUP($A102,INSCRITS!$D$4:$W$506,12,0))","v":""},{"$f":"IF(ISNA(VLOOKUP($A102,PLANCHE!AC$7:AI$52,6,0)),\"\",VLOOKUP($A102,PLANCHE!AC$7:AI$52,6,0))","v":""},{"$f":"IF(ISNA(VLOOKUP($A102,PLANCHE!AC$7:AI$52,7,0)),\"\",VLOOKUP($A102,PLANCHE!AC$7:AI$52,7,0))","v":""},{"$f":"IF($A102=\"\",\"\",VLOOKUP($A102,INSCRITS!$D$4:$W$506,13,0))","v":""},{"$f":"IF(ISNA(VLOOKUP($A102,NAGE!N$7:T$52,6,0)),\"\",VLOOKUP($A102,NAGE!N$7:T$52,6,0))","v":""},{"$f":"IF(ISNA(VLOOKUP($A102,NAGE!N$7:T$52,7,0)),\"\",VLOOKUP($A102,NAGE!N$7:T$52,7,0))","v":""},{"$f":"IF($A102=\"\",\"\",VLOOKUP($A102,INSCRITS!$D$4:$W$506,14,0))","v":""},{"$f":"IF(ISNA(VLOOKUP($A102,SURFSKI!AC$8:AI$53,6,0)),\"\",VLOOKUP($A102,SURFSKI!AC$8:AI$53,6,0))","v":""},{"$f":"IF(ISNA(VLOOKUP($A102,SURFSKI!AC$8:AI$53,7,0)),\"\",VLOOKUP($A102,SURFSKI!AC$8:AI$53,7,0))","v":""},{"$f":"IF($A102=\"\",\"\",VLOOKUP($A102,INSCRITS!$D$4:$W$506,15,0))","v":""},{"$f":"IF(ISNA(VLOOKUP($A102,OCEANMAN!AC$7:AI$52,6,0)),\"\",VLOOKUP($A102,OCEANMAN!AC$7:AI$52,6,0))","v":""},{"$f":"IF(ISNA(VLOOKUP($A102,OCEANMAN!AC$7:AI$52,7,0)),\"\",VLOOKUP($A102,OCEANMAN!AC$7:AI$52,7,0))","v":""},{"$f":"IF($A102=\"\",\"\",VLOOKUP($A102,INSCRITS!$D$4:$W$506,16,0))","v":""},{"$f":"IF(ISNA(VLOOKUP($A102,CNC!N$7:AC$52,6,0)),\"\",VLOOKUP($A102,CNC!N$7:AC$52,6,0))","v":""},{"$f":"IF(ISNA(VLOOKUP($A102,CNC!N$7:AC$52,7,0)),\"\",VLOOKUP($A102,CNC!N$7:AC$52,7,0))","v":""},0,{"$f":"IF($A102=\"\",\"\",VLOOKUP($A102,INSCRITS!$D$4:$W$506,16,0))","v":""},null,{"$f":"IF(AG102=\"\",\"\",VLOOKUP(AG102,[0]!Relais,2))","v":""},{"$f":"IF($A102=\"\",\"\",VLOOKUP($A102,INSCRITS!$D$4:$W$506,17,0))","v":""},null,{"$f":"IF(AJ102=\"\",\"\",VLOOKUP(AJ102,[0]!Relais,2))","v":""},{"$f":"IF($A102=\"\",\"\",VLOOKUP($A102,INSCRITS!$D$4:$W$506,18,0))","v":""},null,{"$f":"IF(AM102=\"\",\"\",VLOOKUP(AM102,[0]!Relais,2))","v":""},{"$f":"IF($A102=\"\",\"\",VLOOKUP($A102,INSCRITS!$D$4:$W$506,19,0))","v":""},null,{"$f":"IF(AP102=\"\",\"\",VLOOKUP(AP102,[0]!Relais,2))","v":""},0,0]
[null,{"$f":"IF($A103=\"\",\"\",VLOOKUP($A103,INSCRITS!$D$4:$W$501,2,0))","v":""},null,{"$f":"IF($A103=\"\",\"\",VLOOKUP($A103,INSCRITS!$D$4:$W$501,4,0))","v":""},{"$f":"IF($A103=\"\",\"\",VLOOKUP($A103,INSCRITS!$D$4:$W$501,5,0))","v":""},{"$f":"IF($A103=\"\",\"\",VLOOKUP($A103,INSCRITS!$D$4:$W$501,6,0))","v":""},{"$f":"IF($A103=\"\",\"\",VLOOKUP($A103,INSCRITS!$D$4:$W$501,7,0))","v":""},{"$f":"IF($A103=\"\",\"\",VLOOKUP($A103,INSCRITS!$D$4:$W$501,8,0))","v":""},{"$f":"IF($A103=\"\",\"\",VLOOKUP($A103,INSCRITS!$D$4:$W$501,9,0))","v":""},{"$f":"IF($A103=\"\",\"\",VLOOKUP($A103,INSCRITS!$D$4:$W$506,10,0))","v":""},{"$f":"IF(ISNA(VLOOKUP($A103,SPRINT!AD$7:AJ$50,6,0)),\"\",VLOOKUP($A103,SPRINT!AD$7:AJ$50,6,0))","v":""},{"$f":"IF(ISNA(VLOOKUP($A103,SPRINT!AD$7:AJ$50,7,0)),\"\",VLOOKUP($A103,SPRINT!AD$7:AJ$50,7,0))","v":""},{"$f":"IF($A103=\"\",\"\",VLOOKUP($A103,INSCRITS!$D$4:$W$506,11,0))","v":""},{"$f":"IF(ISNA(VLOOKUP($A103,BATONS!AD$7:AJ$51,6,0)),\"\",VLOOKUP($A103,BATONS!AD$7:AJ$51,6,0))","v":""},{"$f":"IF(ISNA(VLOOKUP($A103,BATONS!AD$7:AJ$51,7,0)),\"\",VLOOKUP($A103,BATONS!AD$7:AJ$51,7,0))","v":""},{"$f":"IF($A103=\"\",\"\",VLOOKUP($A103,INSCRITS!$D$4:$W$506,12,0))","v":""},{"$f":"IF(ISNA(VLOOKUP($A103,PLANCHE!AC$7:AI$52,6,0)),\"\",VLOOKUP($A103,PLANCHE!AC$7:AI$52,6,0))","v":""},{"$f":"IF(ISNA(VLOOKUP($A103,PLANCHE!AC$7:AI$52,7,0)),\"\",VLOOKUP($A103,PLANCHE!AC$7:AI$52,7,0))","v":""},{"$f":"IF($A103=\"\",\"\",VLOOKUP($A103,INSCRITS!$D$4:$W$506,13,0))","v":""},{"$f":"IF(ISNA(VLOOKUP($A103,NAGE!N$7:T$52,6,0)),\"\",VLOOKUP($A103,NAGE!N$7:T$52,6,0))","v":""},{"$f":"IF(ISNA(VLOOKUP($A103,NAGE!N$7:T$52,7,0)),\"\",VLOOKUP($A103,NAGE!N$7:T$52,7,0))","v":""},{"$f":"IF($A103=\"\",\"\",VLOOKUP($A103,INSCRITS!$D$4:$W$506,14,0))","v":""},{"$f":"IF(ISNA(VLOOKUP($A103,SURFSKI!AC$8:AI$53,6,0)),\"\",VLOOKUP($A103,SURFSKI!AC$8:AI$53,6,0))","v":""},{"$f":"IF(ISNA(VLOOKUP($A103,SURFSKI!AC$8:AI$53,7,0)),\"\",VLOOKUP($A103,SURFSKI!AC$8:AI$53,7,0))","v":""},{"$f":"IF($A103=\"\",\"\",VLOOKUP($A103,INSCRITS!$D$4:$W$506,15,0))","v":""},{"$f":"IF(ISNA(VLOOKUP($A103,OCEANMAN!AC$7:AI$52,6,0)),\"\",VLOOKUP($A103,OCEANMAN!AC$7:AI$52,6,0))","v":""},{"$f":"IF(ISNA(VLOOKUP($A103,OCEANMAN!AC$7:AI$52,7,0)),\"\",VLOOKUP($A103,OCEANMAN!AC$7:AI$52,7,0))","v":""},{"$f":"IF($A103=\"\",\"\",VLOOKUP($A103,INSCRITS!$D$4:$W$506,16,0))","v":""},{"$f":"IF(ISNA(VLOOKUP($A103,CNC!N$7:AC$52,6,0)),\"\",VLOOKUP($A103,CNC!N$7:AC$52,6,0))","v":""},{"$f":"IF(ISNA(VLOOKUP($A103,CNC!N$7:AC$52,7,0)),\"\",VLOOKUP($A103,CNC!N$7:AC$52,7,0))","v":""},0,{"$f":"IF($A103=\"\",\"\",VLOOKUP($A103,INSCRITS!$D$4:$W$506,16,0))","v":""},null,{"$f":"IF(AG103=\"\",\"\",VLOOKUP(AG103,[0]!Relais,2))","v":""},{"$f":"IF($A103=\"\",\"\",VLOOKUP($A103,INSCRITS!$D$4:$W$506,17,0))","v":""},null,{"$f":"IF(AJ103=\"\",\"\",VLOOKUP(AJ103,[0]!Relais,2))","v":""},{"$f":"IF($A103=\"\",\"\",VLOOKUP($A103,INSCRITS!$D$4:$W$506,18,0))","v":""},null,{"$f":"IF(AM103=\"\",\"\",VLOOKUP(AM103,[0]!Relais,2))","v":""},{"$f":"IF($A103=\"\",\"\",VLOOKUP($A103,INSCRITS!$D$4:$W$506,19,0))","v":""},null,{"$f":"IF(AP103=\"\",\"\",VLOOKUP(AP103,[0]!Relais,2))","v":""},0,0]
[null,{"$f":"IF($A104=\"\",\"\",VLOOKUP($A104,INSCRITS!$D$4:$W$501,2,0))","v":""},null,{"$f":"IF($A104=\"\",\"\",VLOOKUP($A104,INSCRITS!$D$4:$W$501,4,0))","v":""},{"$f":"IF($A104=\"\",\"\",VLOOKUP($A104,INSCRITS!$D$4:$W$501,5,0))","v":""},{"$f":"IF($A104=\"\",\"\",VLOOKUP($A104,INSCRITS!$D$4:$W$501,6,0))","v":""},{"$f":"IF($A104=\"\",\"\",VLOOKUP($A104,INSCRITS!$D$4:$W$501,7,0))","v":""},{"$f":"IF($A104=\"\",\"\",VLOOKUP($A104,INSCRITS!$D$4:$W$501,8,0))","v":""},{"$f":"IF($A104=\"\",\"\",VLOOKUP($A104,INSCRITS!$D$4:$W$501,9,0))","v":""},{"$f":"IF($A104=\"\",\"\",VLOOKUP($A104,INSCRITS!$D$4:$W$506,10,0))","v":""},{"$f":"IF(ISNA(VLOOKUP($A104,SPRINT!AD$7:AJ$50,6,0)),\"\",VLOOKUP($A104,SPRINT!AD$7:AJ$50,6,0))","v":""},{"$f":"IF(ISNA(VLOOKUP($A104,SPRINT!AD$7:AJ$50,7,0)),\"\",VLOOKUP($A104,SPRINT!AD$7:AJ$50,7,0))","v":""},{"$f":"IF($A104=\"\",\"\",VLOOKUP($A104,INSCRITS!$D$4:$W$506,11,0))","v":""},{"$f":"IF(ISNA(VLOOKUP($A104,BATONS!AD$7:AJ$51,6,0)),\"\",VLOOKUP($A104,BATONS!AD$7:AJ$51,6,0))","v":""},{"$f":"IF(ISNA(VLOOKUP($A104,BATONS!AD$7:AJ$51,7,0)),\"\",VLOOKUP($A104,BATONS!AD$7:AJ$51,7,0))","v":""},{"$f":"IF($A104=\"\",\"\",VLOOKUP($A104,INSCRITS!$D$4:$W$506,12,0))","v":""},{"$f":"IF(ISNA(VLOOKUP($A104,PLANCHE!AC$7:AI$52,6,0)),\"\",VLOOKUP($A104,PLANCHE!AC$7:AI$52,6,0))","v":""},{"$f":"IF(ISNA(VLOOKUP($A104,PLANCHE!AC$7:AI$52,7,0)),\"\",VLOOKUP($A104,PLANCHE!AC$7:AI$52,7,0))","v":""},{"$f":"IF($A104=\"\",\"\",VLOOKUP($A104,INSCRITS!$D$4:$W$506,13,0))","v":""},{"$f":"IF(ISNA(VLOOKUP($A104,NAGE!N$7:T$52,6,0)),\"\",VLOOKUP($A104,NAGE!N$7:T$52,6,0))","v":""},{"$f":"IF(ISNA(VLOOKUP($A104,NAGE!N$7:T$52,7,0)),\"\",VLOOKUP($A104,NAGE!N$7:T$52,7,0))","v":""},{"$f":"IF($A104=\"\",\"\",VLOOKUP($A104,INSCRITS!$D$4:$W$506,14,0))","v":""},{"$f":"IF(ISNA(VLOOKUP($A104,SURFSKI!AC$8:AI$53,6,0)),\"\",VLOOKUP($A104,SURFSKI!AC$8:AI$53,6,0))","v":""},{"$f":"IF(ISNA(VLOOKUP($A104,SURFSKI!AC$8:AI$53,7,0)),\"\",VLOOKUP($A104,SURFSKI!AC$8:AI$53,7,0))","v":""},{"$f":"IF($A104=\"\",\"\",VLOOKUP($A104,INSCRITS!$D$4:$W$506,15,0))","v":""},{"$f":"IF(ISNA(VLOOKUP($A104,OCEANMAN!AC$7:AI$52,6,0)),\"\",VLOOKUP($A104,OCEANMAN!AC$7:AI$52,6,0))","v":""},{"$f":"IF(ISNA(VLOOKUP($A104,OCEANMAN!AC$7:AI$52,7,0)),\"\",VLOOKUP($A104,OCEANMAN!AC$7:AI$52,7,0))","v":""},{"$f":"IF($A104=\"\",\"\",VLOOKUP($A104,INSCRITS!$D$4:$W$506,16,0))","v":""},{"$f":"IF(ISNA(VLOOKUP($A104,CNC!N$7:AC$52,6,0)),\"\",VLOOKUP($A104,CNC!N$7:AC$52,6,0))","v":""},{"$f":"IF(ISNA(VLOOKUP($A104,CNC!N$7:AC$52,7,0)),\"\",VLOOKUP($A104,CNC!N$7:AC$52,7,0))","v":""},0,{"$f":"IF($A104=\"\",\"\",VLOOKUP($A104,INSCRITS!$D$4:$W$506,16,0))","v":""},null,{"$f":"IF(AG104=\"\",\"\",VLOOKUP(AG104,[0]!Relais,2))","v":""},{"$f":"IF($A104=\"\",\"\",VLOOKUP($A104,INSCRITS!$D$4:$W$506,17,0))","v":""},null,{"$f":"IF(AJ104=\"\",\"\",VLOOKUP(AJ104,[0]!Relais,2))","v":""},{"$f":"IF($A104=\"\",\"\",VLOOKUP($A104,INSCRITS!$D$4:$W$506,18,0))","v":""},null,{"$f":"IF(AM104=\"\",\"\",VLOOKUP(AM104,[0]!Relais,2))","v":""},{"$f":"IF($A104=\"\",\"\",VLOOKUP($A104,INSCRITS!$D$4:$W$506,19,0))","v":""},null,{"$f":"IF(AP104=\"\",\"\",VLOOKUP(AP104,[0]!Relais,2))","v":""},0,0]
[null,{"$f":"IF($A105=\"\",\"\",VLOOKUP($A105,INSCRITS!$D$4:$W$501,2,0))","v":""},null,{"$f":"IF($A105=\"\",\"\",VLOOKUP($A105,INSCRITS!$D$4:$W$501,4,0))","v":""},{"$f":"IF($A105=\"\",\"\",VLOOKUP($A105,INSCRITS!$D$4:$W$501,5,0))","v":""},{"$f":"IF($A105=\"\",\"\",VLOOKUP($A105,INSCRITS!$D$4:$W$501,6,0))","v":""},{"$f":"IF($A105=\"\",\"\",VLOOKUP($A105,INSCRITS!$D$4:$W$501,7,0))","v":""},{"$f":"IF($A105=\"\",\"\",VLOOKUP($A105,INSCRITS!$D$4:$W$501,8,0))","v":""},{"$f":"IF($A105=\"\",\"\",VLOOKUP($A105,INSCRITS!$D$4:$W$501,9,0))","v":""},{"$f":"IF($A105=\"\",\"\",VLOOKUP($A105,INSCRITS!$D$4:$W$506,10,0))","v":""},{"$f":"IF(ISNA(VLOOKUP($A105,SPRINT!AD$7:AJ$50,6,0)),\"\",VLOOKUP($A105,SPRINT!AD$7:AJ$50,6,0))","v":""},{"$f":"IF(ISNA(VLOOKUP($A105,SPRINT!AD$7:AJ$50,7,0)),\"\",VLOOKUP($A105,SPRINT!AD$7:AJ$50,7,0))","v":""},{"$f":"IF($A105=\"\",\"\",VLOOKUP($A105,INSCRITS!$D$4:$W$506,11,0))","v":""},{"$f":"IF(ISNA(VLOOKUP($A105,BATONS!AD$7:AJ$51,6,0)),\"\",VLOOKUP($A105,BATONS!AD$7:AJ$51,6,0))","v":""},{"$f":"IF(ISNA(VLOOKUP($A105,BATONS!AD$7:AJ$51,7,0)),\"\",VLOOKUP($A105,BATONS!AD$7:AJ$51,7,0))","v":""},{"$f":"IF($A105=\"\",\"\",VLOOKUP($A105,INSCRITS!$D$4:$W$506,12,0))","v":""},{"$f":"IF(ISNA(VLOOKUP($A105,PLANCHE!AC$7:AI$52,6,0)),\"\",VLOOKUP($A105,PLANCHE!AC$7:AI$52,6,0))","v":""},{"$f":"IF(ISNA(VLOOKUP($A105,PLANCHE!AC$7:AI$52,7,0)),\"\",VLOOKUP($A105,PLANCHE!AC$7:AI$52,7,0))","v":""},{"$f":"IF($A105=\"\",\"\",VLOOKUP($A105,INSCRITS!$D$4:$W$506,13,0))","v":""},{"$f":"IF(ISNA(VLOOKUP($A105,NAGE!N$7:T$52,6,0)),\"\",VLOOKUP($A105,NAGE!N$7:T$52,6,0))","v":""},{"$f":"IF(ISNA(VLOOKUP($A105,NAGE!N$7:T$52,7,0)),\"\",VLOOKUP($A105,NAGE!N$7:T$52,7,0))","v":""},{"$f":"IF($A105=\"\",\"\",VLOOKUP($A105,INSCRITS!$D$4:$W$506,14,0))","v":""},{"$f":"IF(ISNA(VLOOKUP($A105,SURFSKI!AC$8:AI$53,6,0)),\"\",VLOOKUP($A105,SURFSKI!AC$8:AI$53,6,0))","v":""},{"$f":"IF(ISNA(VLOOKUP($A105,SURFSKI!AC$8:AI$53,7,0)),\"\",VLOOKUP($A105,SURFSKI!AC$8:AI$53,7,0))","v":""},{"$f":"IF($A105=\"\",\"\",VLOOKUP($A105,INSCRITS!$D$4:$W$506,15,0))","v":""},{"$f":"IF(ISNA(VLOOKUP($A105,OCEANMAN!AC$7:AI$52,6,0)),\"\",VLOOKUP($A105,OCEANMAN!AC$7:AI$52,6,0))","v":""},{"$f":"IF(ISNA(VLOOKUP($A105,OCEANMAN!AC$7:AI$52,7,0)),\"\",VLOOKUP($A105,OCEANMAN!AC$7:AI$52,7,0))","v":""},{"$f":"IF($A105=\"\",\"\",VLOOKUP($A105,INSCRITS!$D$4:$W$506,16,0))","v":""},{"$f":"IF(ISNA(VLOOKUP($A105,CNC!N$7:AC$52,6,0)),\"\",VLOOKUP($A105,CNC!N$7:AC$52,6,0))","v":""},{"$f":"IF(ISNA(VLOOKUP($A105,CNC!N$7:AC$52,7,0)),\"\",VLOOKUP($A105,CNC!N$7:AC$52,7,0))","v":""},0,{"$f":"IF($A105=\"\",\"\",VLOOKUP($A105,INSCRITS!$D$4:$W$506,16,0))","v":""},null,{"$f":"IF(AG105=\"\",\"\",VLOOKUP(AG105,[0]!Relais,2))","v":""},{"$f":"IF($A105=\"\",\"\",VLOOKUP($A105,INSCRITS!$D$4:$W$506,17,0))","v":""},null,{"$f":"IF(AJ105=\"\",\"\",VLOOKUP(AJ105,[0]!Relais,2))","v":""},{"$f":"IF($A105=\"\",\"\",VLOOKUP($A105,INSCRITS!$D$4:$W$506,18,0))","v":""},null,{"$f":"IF(AM105=\"\",\"\",VLOOKUP(AM105,[0]!Relais,2))","v":""},{"$f":"IF($A105=\"\",\"\",VLOOKUP($A105,INSCRITS!$D$4:$W$506,19,0))","v":""},null,{"$f":"IF(AP105=\"\",\"\",VLOOKUP(AP105,[0]!Relais,2))","v":""},0,0]
[null,{"$f":"IF($A106=\"\",\"\",VLOOKUP($A106,INSCRITS!$D$4:$W$501,2,0))","v":""},null,{"$f":"IF($A106=\"\",\"\",VLOOKUP($A106,INSCRITS!$D$4:$W$501,4,0))","v":""},{"$f":"IF($A106=\"\",\"\",VLOOKUP($A106,INSCRITS!$D$4:$W$501,5,0))","v":""},{"$f":"IF($A106=\"\",\"\",VLOOKUP($A106,INSCRITS!$D$4:$W$501,6,0))","v":""},{"$f":"IF($A106=\"\",\"\",VLOOKUP($A106,INSCRITS!$D$4:$W$501,7,0))","v":""},{"$f":"IF($A106=\"\",\"\",VLOOKUP($A106,INSCRITS!$D$4:$W$501,8,0))","v":""},{"$f":"IF($A106=\"\",\"\",VLOOKUP($A106,INSCRITS!$D$4:$W$501,9,0))","v":""},{"$f":"IF($A106=\"\",\"\",VLOOKUP($A106,INSCRITS!$D$4:$W$506,10,0))","v":""},{"$f":"IF(ISNA(VLOOKUP($A106,SPRINT!AD$7:AJ$50,6,0)),\"\",VLOOKUP($A106,SPRINT!AD$7:AJ$50,6,0))","v":""},{"$f":"IF(ISNA(VLOOKUP($A106,SPRINT!AD$7:AJ$50,7,0)),\"\",VLOOKUP($A106,SPRINT!AD$7:AJ$50,7,0))","v":""},{"$f":"IF($A106=\"\",\"\",VLOOKUP($A106,INSCRITS!$D$4:$W$506,11,0))","v":""},{"$f":"IF(ISNA(VLOOKUP($A106,BATONS!AD$7:AJ$51,6,0)),\"\",VLOOKUP($A106,BATONS!AD$7:AJ$51,6,0))","v":""},{"$f":"IF(ISNA(VLOOKUP($A106,BATONS!AD$7:AJ$51,7,0)),\"\",VLOOKUP($A106,BATONS!AD$7:AJ$51,7,0))","v":""},{"$f":"IF($A106=\"\",\"\",VLOOKUP($A106,INSCRITS!$D$4:$W$506,12,0))","v":""},{"$f":"IF(ISNA(VLOOKUP($A106,PLANCHE!AC$7:AI$52,6,0)),\"\",VLOOKUP($A106,PLANCHE!AC$7:AI$52,6,0))","v":""},{"$f":"IF(ISNA(VLOOKUP($A106,PLANCHE!AC$7:AI$52,7,0)),\"\",VLOOKUP($A106,PLANCHE!AC$7:AI$52,7,0))","v":""},{"$f":"IF($A106=\"\",\"\",VLOOKUP($A106,INSCRITS!$D$4:$W$506,13,0))","v":""},{"$f":"IF(ISNA(VLOOKUP($A106,NAGE!N$7:T$52,6,0)),\"\",VLOOKUP($A106,NAGE!N$7:T$52,6,0))","v":""},{"$f":"IF(ISNA(VLOOKUP($A106,NAGE!N$7:T$52,7,0)),\"\",VLOOKUP($A106,NAGE!N$7:T$52,7,0))","v":""},{"$f":"IF($A106=\"\",\"\",VLOOKUP($A106,INSCRITS!$D$4:$W$506,14,0))","v":""},{"$f":"IF(ISNA(VLOOKUP($A106,SURFSKI!AC$8:AI$53,6,0)),\"\",VLOOKUP($A106,SURFSKI!AC$8:AI$53,6,0))","v":""},{"$f":"IF(ISNA(VLOOKUP($A106,SURFSKI!AC$8:AI$53,7,0)),\"\",VLOOKUP($A106,SURFSKI!AC$8:AI$53,7,0))","v":""},{"$f":"IF($A106=\"\",\"\",VLOOKUP($A106,INSCRITS!$D$4:$W$506,15,0))","v":""},{"$f":"IF(ISNA(VLOOKUP($A106,OCEANMAN!AC$7:AI$52,6,0)),\"\",VLOOKUP($A106,OCEANMAN!AC$7:AI$52,6,0))","v":""},{"$f":"IF(ISNA(VLOOKUP($A106,OCEANMAN!AC$7:AI$52,7,0)),\"\",VLOOKUP($A106,OCEANMAN!AC$7:AI$52,7,0))","v":""},{"$f":"IF($A106=\"\",\"\",VLOOKUP($A106,INSCRITS!$D$4:$W$506,16,0))","v":""},{"$f":"IF(ISNA(VLOOKUP($A106,CNC!N$7:AC$52,6,0)),\"\",VLOOKUP($A106,CNC!N$7:AC$52,6,0))","v":""},{"$f":"IF(ISNA(VLOOKUP($A106,CNC!N$7:AC$52,7,0)),\"\",VLOOKUP($A106,CNC!N$7:AC$52,7,0))","v":""},0,{"$f":"IF($A106=\"\",\"\",VLOOKUP($A106,INSCRITS!$D$4:$W$506,16,0))","v":""},null,{"$f":"IF(AG106=\"\",\"\",VLOOKUP(AG106,[0]!Relais,2))","v":""},{"$f":"IF($A106=\"\",\"\",VLOOKUP($A106,INSCRITS!$D$4:$W$506,17,0))","v":""},null,{"$f":"IF(AJ106=\"\",\"\",VLOOKUP(AJ106,[0]!Relais,2))","v":""},{"$f":"IF($A106=\"\",\"\",VLOOKUP($A106,INSCRITS!$D$4:$W$506,18,0))","v":""},null,{"$f":"IF(AM106=\"\",\"\",VLOOKUP(AM106,[0]!Relais,2))","v":""},{"$f":"IF($A106=\"\",\"\",VLOOKUP($A106,INSCRITS!$D$4:$W$506,19,0))","v":""},null,{"$f":"IF(AP106=\"\",\"\",VLOOKUP(AP106,[0]!Relais,2))","v":""},0,0]
[null,{"$f":"IF($A107=\"\",\"\",VLOOKUP($A107,INSCRITS!$D$4:$W$501,2,0))","v":""},null,{"$f":"IF($A107=\"\",\"\",VLOOKUP($A107,INSCRITS!$D$4:$W$501,4,0))","v":""},{"$f":"IF($A107=\"\",\"\",VLOOKUP($A107,INSCRITS!$D$4:$W$501,5,0))","v":""},{"$f":"IF($A107=\"\",\"\",VLOOKUP($A107,INSCRITS!$D$4:$W$501,6,0))","v":""},{"$f":"IF($A107=\"\",\"\",VLOOKUP($A107,INSCRITS!$D$4:$W$501,7,0))","v":""},{"$f":"IF($A107=\"\",\"\",VLOOKUP($A107,INSCRITS!$D$4:$W$501,8,0))","v":""},{"$f":"IF($A107=\"\",\"\",VLOOKUP($A107,INSCRITS!$D$4:$W$501,9,0))","v":""},{"$f":"IF($A107=\"\",\"\",VLOOKUP($A107,INSCRITS!$D$4:$W$506,10,0))","v":""},{"$f":"IF(ISNA(VLOOKUP($A107,SPRINT!AD$7:AJ$50,6,0)),\"\",VLOOKUP($A107,SPRINT!AD$7:AJ$50,6,0))","v":""},{"$f":"IF(ISNA(VLOOKUP($A107,SPRINT!AD$7:AJ$50,7,0)),\"\",VLOOKUP($A107,SPRINT!AD$7:AJ$50,7,0))","v":""},{"$f":"IF($A107=\"\",\"\",VLOOKUP($A107,INSCRITS!$D$4:$W$506,11,0))","v":""},{"$f":"IF(ISNA(VLOOKUP($A107,BATONS!AD$7:AJ$51,6,0)),\"\",VLOOKUP($A107,BATONS!AD$7:AJ$51,6,0))","v":""},{"$f":"IF(ISNA(VLOOKUP($A107,BATONS!AD$7:AJ$51,7,0)),\"\",VLOOKUP($A107,BATONS!AD$7:AJ$51,7,0))","v":""},{"$f":"IF($A107=\"\",\"\",VLOOKUP($A107,INSCRITS!$D$4:$W$506,12,0))","v":""},{"$f":"IF(ISNA(VLOOKUP($A107,PLANCHE!AC$7:AI$52,6,0)),\"\",VLOOKUP($A107,PLANCHE!AC$7:AI$52,6,0))","v":""},{"$f":"IF(ISNA(VLOOKUP($A107,PLANCHE!AC$7:AI$52,7,0)),\"\",VLOOKUP($A107,PLANCHE!AC$7:AI$52,7,0))","v":""},{"$f":"IF($A107=\"\",\"\",VLOOKUP($A107,INSCRITS!$D$4:$W$506,13,0))","v":""},{"$f":"IF(ISNA(VLOOKUP($A107,NAGE!N$7:T$52,6,0)),\"\",VLOOKUP($A107,NAGE!N$7:T$52,6,0))","v":""},{"$f":"IF(ISNA(VLOOKUP($A107,NAGE!N$7:T$52,7,0)),\"\",VLOOKUP($A107,NAGE!N$7:T$52,7,0))","v":""},{"$f":"IF($A107=\"\",\"\",VLOOKUP($A107,INSCRITS!$D$4:$W$506,14,0))","v":""},{"$f":"IF(ISNA(VLOOKUP($A107,SURFSKI!AC$8:AI$53,6,0)),\"\",VLOOKUP($A107,SURFSKI!AC$8:AI$53,6,0))","v":""},{"$f":"IF(ISNA(VLOOKUP($A107,SURFSKI!AC$8:AI$53,7,0)),\"\",VLOOKUP($A107,SURFSKI!AC$8:AI$53,7,0))","v":""},{"$f":"IF($A107=\"\",\"\",VLOOKUP($A107,INSCRITS!$D$4:$W$506,15,0))","v":""},{"$f":"IF(ISNA(VLOOKUP($A107,OCEANMAN!AC$7:AI$52,6,0)),\"\",VLOOKUP($A107,OCEANMAN!AC$7:AI$52,6,0))","v":""},{"$f":"IF(ISNA(VLOOKUP($A107,OCEANMAN!AC$7:AI$52,7,0)),\"\",VLOOKUP($A107,OCEANMAN!AC$7:AI$52,7,0))","v":""},{"$f":"IF($A107=\"\",\"\",VLOOKUP($A107,INSCRITS!$D$4:$W$506,16,0))","v":""},{"$f":"IF(ISNA(VLOOKUP($A107,CNC!N$7:AC$52,6,0)),\"\",VLOOKUP($A107,CNC!N$7:AC$52,6,0))","v":""},{"$f":"IF(ISNA(VLOOKUP($A107,CNC!N$7:AC$52,7,0)),\"\",VLOOKUP($A107,CNC!N$7:AC$52,7,0))","v":""},0,{"$f":"IF($A107=\"\",\"\",VLOOKUP($A107,INSCRITS!$D$4:$W$506,16,0))","v":""},null,{"$f":"IF(AG107=\"\",\"\",VLOOKUP(AG107,[0]!Relais,2))","v":""},{"$f":"IF($A107=\"\",\"\",VLOOKUP($A107,INSCRITS!$D$4:$W$506,17,0))","v":""},null,{"$f":"IF(AJ107=\"\",\"\",VLOOKUP(AJ107,[0]!Relais,2))","v":""},{"$f":"IF($A107=\"\",\"\",VLOOKUP($A107,INSCRITS!$D$4:$W$506,18,0))","v":""},null,{"$f":"IF(AM107=\"\",\"\",VLOOKUP(AM107,[0]!Relais,2))","v":""},{"$f":"IF($A107=\"\",\"\",VLOOKUP($A107,INSCRITS!$D$4:$W$506,19,0))","v":""},null,{"$f":"IF(AP107=\"\",\"\",VLOOKUP(AP107,[0]!Relais,2))","v":""},0,0]
[null,{"$f":"IF($A108=\"\",\"\",VLOOKUP($A108,INSCRITS!$D$4:$W$501,2,0))","v":""},{"$f":"IF($A108=\"\",\"\",VLOOKUP($A108,INSCRITS!$D$4:$W$501,3,0))","v":""},{"$f":"IF($A108=\"\",\"\",VLOOKUP($A108,INSCRITS!$D$4:$W$501,4,0))","v":""},{"$f":"IF($A108=\"\",\"\",VLOOKUP($A108,INSCRITS!$D$4:$W$501,5,0))","v":""},{"$f":"IF($A108=\"\",\"\",VLOOKUP($A108,INSCRITS!$D$4:$W$501,6,0))","v":""},{"$f":"IF($A108=\"\",\"\",VLOOKUP($A108,INSCRITS!$D$4:$W$501,7,0))","v":""},{"$f":"IF($A108=\"\",\"\",VLOOKUP($A108,INSCRITS!$D$4:$W$501,8,0))","v":""},{"$f":"IF($A108=\"\",\"\",VLOOKUP($A108,INSCRITS!$D$4:$W$501,9,0))","v":""},{"$f":"IF($A108=\"\",\"\",VLOOKUP($A108,INSCRITS!$D$4:$W$506,10,0))","v":""},{"$f":"IF(ISNA(VLOOKUP($A108,SPRINT!AD$7:AJ$50,6,0)),\"\",VLOOKUP($A108,SPRINT!AD$7:AJ$50,6,0))","v":""},{"$f":"IF(ISNA(VLOOKUP($A108,SPRINT!AD$7:AJ$50,7,0)),\"\",VLOOKUP($A108,SPRINT!AD$7:AJ$50,7,0))","v":""},{"$f":"IF($A108=\"\",\"\",VLOOKUP($A108,INSCRITS!$D$4:$W$506,11,0))","v":""},{"$f":"IF(ISNA(VLOOKUP($A108,BATONS!AD$7:AJ$51,6,0)),\"\",VLOOKUP($A108,BATONS!AD$7:AJ$51,6,0))","v":""},{"$f":"IF(ISNA(VLOOKUP($A108,BATONS!AD$7:AJ$51,7,0)),\"\",VLOOKUP($A108,BATONS!AD$7:AJ$51,7,0))","v":""},{"$f":"IF($A108=\"\",\"\",VLOOKUP($A108,INSCRITS!$D$4:$W$506,12,0))","v":""},{"$f":"IF(ISNA(VLOOKUP($A108,PLANCHE!AC$7:AI$52,6,0)),\"\",VLOOKUP($A108,PLANCHE!AC$7:AI$52,6,0))","v":""},{"$f":"IF(ISNA(VLOOKUP($A108,PLANCHE!AC$7:AI$52,7,0)),\"\",VLOOKUP($A108,PLANCHE!AC$7:AI$52,7,0))","v":""},{"$f":"IF($A108=\"\",\"\",VLOOKUP($A108,INSCRITS!$D$4:$W$506,13,0))","v":""},{"$f":"IF(ISNA(VLOOKUP($A108,NAGE!N$7:T$52,6,0)),\"\",VLOOKUP($A108,NAGE!N$7:T$52,6,0))","v":""},{"$f":"IF(ISNA(VLOOKUP($A108,NAGE!N$7:T$52,7,0)),\"\",VLOOKUP($A108,NAGE!N$7:T$52,7,0))","v":""},{"$f":"IF($A108=\"\",\"\",VLOOKUP($A108,INSCRITS!$D$4:$W$506,14,0))","v":""},{"$f":"IF(ISNA(VLOOKUP($A108,SURFSKI!AC$8:AI$53,6,0)),\"\",VLOOKUP($A108,SURFSKI!AC$8:AI$53,6,0))","v":""},{"$f":"IF(ISNA(VLOOKUP($A108,SURFSKI!AC$8:AI$53,7,0)),\"\",VLOOKUP($A108,SURFSKI!AC$8:AI$53,7,0))","v":""},{"$f":"IF($A108=\"\",\"\",VLOOKUP($A108,INSCRITS!$D$4:$W$506,15,0))","v":""},{"$f":"IF(ISNA(VLOOKUP($A108,OCEANMAN!AC$7:AI$52,6,0)),\"\",VLOOKUP($A108,OCEANMAN!AC$7:AI$52,6,0))","v":""},{"$f":"IF(ISNA(VLOOKUP($A108,OCEANMAN!AC$7:AI$52,7,0)),\"\",VLOOKUP($A108,OCEANMAN!AC$7:AI$52,7,0))","v":""},{"$f":"IF($A108=\"\",\"\",VLOOKUP($A108,INSCRITS!$D$4:$W$506,16,0))","v":""},{"$f":"IF(ISNA(VLOOKUP($A108,CNC!N$7:AC$52,6,0)),\"\",VLOOKUP($A108,CNC!N$7:AC$52,6,0))","v":""},{"$f":"IF(ISNA(VLOOKUP($A108,CNC!N$7:AC$52,7,0)),\"\",VLOOKUP($A108,CNC!N$7:AC$52,7,0))","v":""},0,{"$f":"IF($A108=\"\",\"\",VLOOKUP($A108,INSCRITS!$D$4:$W$506,16,0))","v":""},null,{"$f":"IF(AG108=\"\",\"\",VLOOKUP(AG108,[0]!Relais,2))","v":""},{"$f":"IF($A108=\"\",\"\",VLOOKUP($A108,INSCRITS!$D$4:$W$506,17,0))","v":""},null,{"$f":"IF(AJ108=\"\",\"\",VLOOKUP(AJ108,[0]!Relais,2))","v":""},{"$f":"IF($A108=\"\",\"\",VLOOKUP($A108,INSCRITS!$D$4:$W$506,18,0))","v":""},null,{"$f":"IF(AM108=\"\",\"\",VLOOKUP(AM108,[0]!Relais,2))","v":""},{"$f":"IF($A108=\"\",\"\",VLOOKUP($A108,INSCRITS!$D$4:$W$506,19,0))","v":""},null,{"$f":"IF(AP108=\"\",\"\",VLOOKUP(AP108,[0]!Relais,2))","v":""},0,0]
[null,{"$f":"IF($A109=\"\",\"\",VLOOKUP($A109,INSCRITS!$D$4:$W$501,2,0))","v":""},{"$f":"IF($A109=\"\",\"\",VLOOKUP($A109,INSCRITS!$D$4:$W$501,3,0))","v":""},{"$f":"IF($A109=\"\",\"\",VLOOKUP($A109,INSCRITS!$D$4:$W$501,4,0))","v":""},{"$f":"IF($A109=\"\",\"\",VLOOKUP($A109,INSCRITS!$D$4:$W$501,5,0))","v":""},{"$f":"IF($A109=\"\",\"\",VLOOKUP($A109,INSCRITS!$D$4:$W$501,6,0))","v":""},{"$f":"IF($A109=\"\",\"\",VLOOKUP($A109,INSCRITS!$D$4:$W$501,7,0))","v":""},{"$f":"IF($A109=\"\",\"\",VLOOKUP($A109,INSCRITS!$D$4:$W$501,8,0))","v":""},{"$f":"IF($A109=\"\",\"\",VLOOKUP($A109,INSCRITS!$D$4:$W$501,9,0))","v":""},{"$f":"IF($A109=\"\",\"\",VLOOKUP($A109,INSCRITS!$D$4:$W$506,10,0))","v":""},{"$f":"IF(ISNA(VLOOKUP($A109,SPRINT!AD$7:AJ$50,6,0)),\"\",VLOOKUP($A109,SPRINT!AD$7:AJ$50,6,0))","v":""},{"$f":"IF(ISNA(VLOOKUP($A109,SPRINT!AD$7:AJ$50,7,0)),\"\",VLOOKUP($A109,SPRINT!AD$7:AJ$50,7,0))","v":""},{"$f":"IF($A109=\"\",\"\",VLOOKUP($A109,INSCRITS!$D$4:$W$506,11,0))","v":""},{"$f":"IF(ISNA(VLOOKUP($A109,BATONS!AD$7:AJ$51,6,0)),\"\",VLOOKUP($A109,BATONS!AD$7:AJ$51,6,0))","v":""},{"$f":"IF(ISNA(VLOOKUP($A109,BATONS!AD$7:AJ$51,7,0)),\"\",VLOOKUP($A109,BATONS!AD$7:AJ$51,7,0))","v":""},{"$f":"IF($A109=\"\",\"\",VLOOKUP($A109,INSCRITS!$D$4:$W$506,12,0))","v":""},{"$f":"IF(ISNA(VLOOKUP($A109,PLANCHE!AC$7:AI$52,6,0)),\"\",VLOOKUP($A109,PLANCHE!AC$7:AI$52,6,0))","v":""},{"$f":"IF(ISNA(VLOOKUP($A109,PLANCHE!AC$7:AI$52,7,0)),\"\",VLOOKUP($A109,PLANCHE!AC$7:AI$52,7,0))","v":""},{"$f":"IF($A109=\"\",\"\",VLOOKUP($A109,INSCRITS!$D$4:$W$506,13,0))","v":""},{"$f":"IF(ISNA(VLOOKUP($A109,NAGE!N$7:T$52,6,0)),\"\",VLOOKUP($A109,NAGE!N$7:T$52,6,0))","v":""},{"$f":"IF(ISNA(VLOOKUP($A109,NAGE!N$7:T$52,7,0)),\"\",VLOOKUP($A109,NAGE!N$7:T$52,7,0))","v":""},{"$f":"IF($A109=\"\",\"\",VLOOKUP($A109,INSCRITS!$D$4:$W$506,14,0))","v":""},{"$f":"IF(ISNA(VLOOKUP($A109,SURFSKI!AC$8:AI$53,6,0)),\"\",VLOOKUP($A109,SURFSKI!AC$8:AI$53,6,0))","v":""},{"$f":"IF(ISNA(VLOOKUP($A109,SURFSKI!AC$8:AI$53,7,0)),\"\",VLOOKUP($A109,SURFSKI!AC$8:AI$53,7,0))","v":""},{"$f":"IF($A109=\"\",\"\",VLOOKUP($A109,INSCRITS!$D$4:$W$506,15,0))","v":""},{"$f":"IF(ISNA(VLOOKUP($A109,OCEANMAN!AC$7:AI$52,6,0)),\"\",VLOOKUP($A109,OCEANMAN!AC$7:AI$52,6,0))","v":""},{"$f":"IF(ISNA(VLOOKUP($A109,OCEANMAN!AC$7:AI$52,7,0)),\"\",VLOOKUP($A109,OCEANMAN!AC$7:AI$52,7,0))","v":""},{"$f":"IF($A109=\"\",\"\",VLOOKUP($A109,INSCRITS!$D$4:$W$506,16,0))","v":""},{"$f":"IF(ISNA(VLOOKUP($A109,CNC!N$7:AC$52,6,0)),\"\",VLOOKUP($A109,CNC!N$7:AC$52,6,0))","v":""},{"$f":"IF(ISNA(VLOOKUP($A109,CNC!N$7:AC$52,7,0)),\"\",VLOOKUP($A109,CNC!N$7:AC$52,7,0))","v":""},0,{"$f":"IF($A109=\"\",\"\",VLOOKUP($A109,INSCRITS!$D$4:$W$506,16,0))","v":""},null,{"$f":"IF(AG109=\"\",\"\",VLOOKUP(AG109,[0]!Relais,2))","v":""},{"$f":"IF($A109=\"\",\"\",VLOOKUP($A109,INSCRITS!$D$4:$W$506,17,0))","v":""},null,{"$f":"IF(AJ109=\"\",\"\",VLOOKUP(AJ109,[0]!Relais,2))","v":""},{"$f":"IF($A109=\"\",\"\",VLOOKUP($A109,INSCRITS!$D$4:$W$506,18,0))","v":""},null,{"$f":"IF(AM109=\"\",\"\",VLOOKUP(AM109,[0]!Relais,2))","v":""},{"$f":"IF($A109=\"\",\"\",VLOOKUP($A109,INSCRITS!$D$4:$W$506,19,0))","v":""},null,{"$f":"IF(AP109=\"\",\"\",VLOOKUP(AP109,[0]!Relais,2))","v":""},0,0]
[null,{"$f":"IF($A110=\"\",\"\",VLOOKUP($A110,INSCRITS!$D$4:$W$501,2,0))","v":""},{"$f":"IF($A110=\"\",\"\",VLOOKUP($A110,INSCRITS!$D$4:$W$501,3,0))","v":""},{"$f":"IF($A110=\"\",\"\",VLOOKUP($A110,INSCRITS!$D$4:$W$501,4,0))","v":""},{"$f":"IF($A110=\"\",\"\",VLOOKUP($A110,INSCRITS!$D$4:$W$501,5,0))","v":""},{"$f":"IF($A110=\"\",\"\",VLOOKUP($A110,INSCRITS!$D$4:$W$501,6,0))","v":""},{"$f":"IF($A110=\"\",\"\",VLOOKUP($A110,INSCRITS!$D$4:$W$501,7,0))","v":""},{"$f":"IF($A110=\"\",\"\",VLOOKUP($A110,INSCRITS!$D$4:$W$501,8,0))","v":""},{"$f":"IF($A110=\"\",\"\",VLOOKUP($A110,INSCRITS!$D$4:$W$501,9,0))","v":""},{"$f":"IF($A110=\"\",\"\",VLOOKUP($A110,INSCRITS!$D$4:$W$506,10,0))","v":""},{"$f":"IF(ISNA(VLOOKUP($A110,SPRINT!AD$7:AJ$50,6,0)),\"\",VLOOKUP($A110,SPRINT!AD$7:AJ$50,6,0))","v":""},{"$f":"IF(ISNA(VLOOKUP($A110,SPRINT!AD$7:AJ$50,7,0)),\"\",VLOOKUP($A110,SPRINT!AD$7:AJ$50,7,0))","v":""},{"$f":"IF($A110=\"\",\"\",VLOOKUP($A110,INSCRITS!$D$4:$W$506,11,0))","v":""},{"$f":"IF(ISNA(VLOOKUP($A110,BATONS!AD$7:AJ$51,6,0)),\"\",VLOOKUP($A110,BATONS!AD$7:AJ$51,6,0))","v":""},{"$f":"IF(ISNA(VLOOKUP($A110,BATONS!AD$7:AJ$51,7,0)),\"\",VLOOKUP($A110,BATONS!AD$7:AJ$51,7,0))","v":""},{"$f":"IF($A110=\"\",\"\",VLOOKUP($A110,INSCRITS!$D$4:$W$506,12,0))","v":""},{"$f":"IF(ISNA(VLOOKUP($A110,PLANCHE!AC$7:AI$52,6,0)),\"\",VLOOKUP($A110,PLANCHE!AC$7:AI$52,6,0))","v":""},{"$f":"IF(ISNA(VLOOKUP($A110,PLANCHE!AC$7:AI$52,7,0)),\"\",VLOOKUP($A110,PLANCHE!AC$7:AI$52,7,0))","v":""},{"$f":"IF($A110=\"\",\"\",VLOOKUP($A110,INSCRITS!$D$4:$W$506,13,0))","v":""},{"$f":"IF(ISNA(VLOOKUP($A110,NAGE!N$7:T$52,6,0)),\"\",VLOOKUP($A110,NAGE!N$7:T$52,6,0))","v":""},{"$f":"IF(ISNA(VLOOKUP($A110,NAGE!N$7:T$52,7,0)),\"\",VLOOKUP($A110,NAGE!N$7:T$52,7,0))","v":""},{"$f":"IF($A110=\"\",\"\",VLOOKUP($A110,INSCRITS!$D$4:$W$506,14,0))","v":""},{"$f":"IF(ISNA(VLOOKUP($A110,SURFSKI!AC$8:AI$53,6,0)),\"\",VLOOKUP($A110,SURFSKI!AC$8:AI$53,6,0))","v":""},{"$f":"IF(ISNA(VLOOKUP($A110,SURFSKI!AC$8:AI$53,7,0)),\"\",VLOOKUP($A110,SURFSKI!AC$8:AI$53,7,0))","v":""},{"$f":"IF($A110=\"\",\"\",VLOOKUP($A110,INSCRITS!$D$4:$W$506,15,0))","v":""},{"$f":"IF(ISNA(VLOOKUP($A110,OCEANMAN!AC$7:AI$52,6,0)),\"\",VLOOKUP($A110,OCEANMAN!AC$7:AI$52,6,0))","v":""},{"$f":"IF(ISNA(VLOOKUP($A110,OCEANMAN!AC$7:AI$52,7,0)),\"\",VLOOKUP($A110,OCEANMAN!AC$7:AI$52,7,0))","v":""},{"$f":"IF($A110=\"\",\"\",VLOOKUP($A110,INSCRITS!$D$4:$W$506,16,0))","v":""},{"$f":"IF(ISNA(VLOOKUP($A110,CNC!N$7:AC$52,6,0)),\"\",VLOOKUP($A110,CNC!N$7:AC$52,6,0))","v":""},{"$f":"IF(ISNA(VLOOKUP($A110,CNC!N$7:AC$52,7,0)),\"\",VLOOKUP($A110,CNC!N$7:AC$52,7,0))","v":""},0,{"$f":"IF($A110=\"\",\"\",VLOOKUP($A110,INSCRITS!$D$4:$W$506,16,0))","v":""},null,{"$f":"IF(AG110=\"\",\"\",VLOOKUP(AG110,[0]!Relais,2))","v":""},{"$f":"IF($A110=\"\",\"\",VLOOKUP($A110,INSCRITS!$D$4:$W$506,17,0))","v":""},null,{"$f":"IF(AJ110=\"\",\"\",VLOOKUP(AJ110,[0]!Relais,2))","v":""},{"$f":"IF($A110=\"\",\"\",VLOOKUP($A110,INSCRITS!$D$4:$W$506,18,0))","v":""},null,{"$f":"IF(AM110=\"\",\"\",VLOOKUP(AM110,[0]!Relais,2))","v":""},{"$f":"IF($A110=\"\",\"\",VLOOKUP($A110,INSCRITS!$D$4:$W$506,19,0))","v":""},null,{"$f":"IF(AP110=\"\",\"\",VLOOKUP(AP110,[0]!Relais,2))","v":""},0,0]
[null,{"$f":"IF($A111=\"\",\"\",VLOOKUP($A111,INSCRITS!$D$4:$W$501,2,0))","v":""},{"$f":"IF($A111=\"\",\"\",VLOOKUP($A111,INSCRITS!$D$4:$W$501,3,0))","v":""},{"$f":"IF($A111=\"\",\"\",VLOOKUP($A111,INSCRITS!$D$4:$W$501,4,0))","v":""},{"$f":"IF($A111=\"\",\"\",VLOOKUP($A111,INSCRITS!$D$4:$W$501,5,0))","v":""},{"$f":"IF($A111=\"\",\"\",VLOOKUP($A111,INSCRITS!$D$4:$W$501,6,0))","v":""},{"$f":"IF($A111=\"\",\"\",VLOOKUP($A111,INSCRITS!$D$4:$W$501,7,0))","v":""},{"$f":"IF($A111=\"\",\"\",VLOOKUP($A111,INSCRITS!$D$4:$W$501,8,0))","v":""},{"$f":"IF($A111=\"\",\"\",VLOOKUP($A111,INSCRITS!$D$4:$W$501,9,0))","v":""},{"$f":"IF($A111=\"\",\"\",VLOOKUP($A111,INSCRITS!$D$4:$W$506,10,0))","v":""},{"$f":"IF(ISNA(VLOOKUP($A111,SPRINT!AD$7:AJ$50,6,0)),\"\",VLOOKUP($A111,SPRINT!AD$7:AJ$50,6,0))","v":""},{"$f":"IF(ISNA(VLOOKUP($A111,SPRINT!AD$7:AJ$50,7,0)),\"\",VLOOKUP($A111,SPRINT!AD$7:AJ$50,7,0))","v":""},{"$f":"IF($A111=\"\",\"\",VLOOKUP($A111,INSCRITS!$D$4:$W$506,11,0))","v":""},{"$f":"IF(ISNA(VLOOKUP($A111,BATONS!AD$7:AJ$51,6,0)),\"\",VLOOKUP($A111,BATONS!AD$7:AJ$51,6,0))","v":""},{"$f":"IF(ISNA(VLOOKUP($A111,BATONS!AD$7:AJ$51,7,0)),\"\",VLOOKUP($A111,BATONS!AD$7:AJ$51,7,0))","v":""},{"$f":"IF($A111=\"\",\"\",VLOOKUP($A111,INSCRITS!$D$4:$W$506,12,0))","v":""},{"$f":"IF(ISNA(VLOOKUP($A111,PLANCHE!AC$7:AI$52,6,0)),\"\",VLOOKUP($A111,PLANCHE!AC$7:AI$52,6,0))","v":""},{"$f":"IF(ISNA(VLOOKUP($A111,PLANCHE!AC$7:AI$52,7,0)),\"\",VLOOKUP($A111,PLANCHE!AC$7:AI$52,7,0))","v":""},{"$f":"IF($A111=\"\",\"\",VLOOKUP($A111,INSCRITS!$D$4:$W$506,13,0))","v":""},{"$f":"IF(ISNA(VLOOKUP($A111,NAGE!N$7:T$52,6,0)),\"\",VLOOKUP($A111,NAGE!N$7:T$52,6,0))","v":""},{"$f":"IF(ISNA(VLOOKUP($A111,NAGE!N$7:T$52,7,0)),\"\",VLOOKUP($A111,NAGE!N$7:T$52,7,0))","v":""},{"$f":"IF($A111=\"\",\"\",VLOOKUP($A111,INSCRITS!$D$4:$W$506,14,0))","v":""},{"$f":"IF(ISNA(VLOOKUP($A111,SURFSKI!AC$8:AI$53,6,0)),\"\",VLOOKUP($A111,SURFSKI!AC$8:AI$53,6,0))","v":""},{"$f":"IF(ISNA(VLOOKUP($A111,SURFSKI!AC$8:AI$53,7,0)),\"\",VLOOKUP($A111,SURFSKI!AC$8:AI$53,7,0))","v":""},{"$f":"IF($A111=\"\",\"\",VLOOKUP($A111,INSCRITS!$D$4:$W$506,15,0))","v":""},{"$f":"IF(ISNA(VLOOKUP($A111,OCEANMAN!AC$7:AI$52,6,0)),\"\",VLOOKUP($A111,OCEANMAN!AC$7:AI$52,6,0))","v":""},{"$f":"IF(ISNA(VLOOKUP($A111,OCEANMAN!AC$7:AI$52,7,0)),\"\",VLOOKUP($A111,OCEANMAN!AC$7:AI$52,7,0))","v":""},{"$f":"IF($A111=\"\",\"\",VLOOKUP($A111,INSCRITS!$D$4:$W$506,16,0))","v":""},{"$f":"IF(ISNA(VLOOKUP($A111,CNC!N$7:AC$52,6,0)),\"\",VLOOKUP($A111,CNC!N$7:AC$52,6,0))","v":""},{"$f":"IF(ISNA(VLOOKUP($A111,CNC!N$7:AC$52,7,0)),\"\",VLOOKUP($A111,CNC!N$7:AC$52,7,0))","v":""},0,{"$f":"IF($A111=\"\",\"\",VLOOKUP($A111,INSCRITS!$D$4:$W$506,16,0))","v":""},null,{"$f":"IF(AG111=\"\",\"\",VLOOKUP(AG111,[0]!Relais,2))","v":""},{"$f":"IF($A111=\"\",\"\",VLOOKUP($A111,INSCRITS!$D$4:$W$506,17,0))","v":""},null,{"$f":"IF(AJ111=\"\",\"\",VLOOKUP(AJ111,[0]!Relais,2))","v":""},{"$f":"IF($A111=\"\",\"\",VLOOKUP($A111,INSCRITS!$D$4:$W$506,18,0))","v":""},null,{"$f":"IF(AM111=\"\",\"\",VLOOKUP(AM111,[0]!Relais,2))","v":""},{"$f":"IF($A111=\"\",\"\",VLOOKUP($A111,INSCRITS!$D$4:$W$506,19,0))","v":""},null,{"$f":"IF(AP111=\"\",\"\",VLOOKUP(AP111,[0]!Relais,2))","v":""},0,0]
[null,{"$f":"IF($A112=\"\",\"\",VLOOKUP($A112,INSCRITS!$D$4:$W$501,2,0))","v":""},{"$f":"IF($A112=\"\",\"\",VLOOKUP($A112,INSCRITS!$D$4:$W$501,3,0))","v":""},{"$f":"IF($A112=\"\",\"\",VLOOKUP($A112,INSCRITS!$D$4:$W$501,4,0))","v":""},{"$f":"IF($A112=\"\",\"\",VLOOKUP($A112,INSCRITS!$D$4:$W$501,5,0))","v":""},{"$f":"IF($A112=\"\",\"\",VLOOKUP($A112,INSCRITS!$D$4:$W$501,6,0))","v":""},{"$f":"IF($A112=\"\",\"\",VLOOKUP($A112,INSCRITS!$D$4:$W$501,7,0))","v":""},{"$f":"IF($A112=\"\",\"\",VLOOKUP($A112,INSCRITS!$D$4:$W$501,8,0))","v":""},{"$f":"IF($A112=\"\",\"\",VLOOKUP($A112,INSCRITS!$D$4:$W$501,9,0))","v":""},{"$f":"IF($A112=\"\",\"\",VLOOKUP($A112,INSCRITS!$D$4:$W$506,10,0))","v":""},{"$f":"IF(ISNA(VLOOKUP($A112,SPRINT!AD$7:AJ$50,6,0)),\"\",VLOOKUP($A112,SPRINT!AD$7:AJ$50,6,0))","v":""},{"$f":"IF(ISNA(VLOOKUP($A112,SPRINT!AD$7:AJ$50,7,0)),\"\",VLOOKUP($A112,SPRINT!AD$7:AJ$50,7,0))","v":""},{"$f":"IF($A112=\"\",\"\",VLOOKUP($A112,INSCRITS!$D$4:$W$506,11,0))","v":""},{"$f":"IF(ISNA(VLOOKUP($A112,BATONS!AD$7:AJ$51,6,0)),\"\",VLOOKUP($A112,BATONS!AD$7:AJ$51,6,0))","v":""},{"$f":"IF(ISNA(VLOOKUP($A112,BATONS!AD$7:AJ$51,7,0)),\"\",VLOOKUP($A112,BATONS!AD$7:AJ$51,7,0))","v":""},{"$f":"IF($A112=\"\",\"\",VLOOKUP($A112,INSCRITS!$D$4:$W$506,12,0))","v":""},{"$f":"IF(ISNA(VLOOKUP($A112,PLANCHE!AC$7:AI$52,6,0)),\"\",VLOOKUP($A112,PLANCHE!AC$7:AI$52,6,0))","v":""},{"$f":"IF(ISNA(VLOOKUP($A112,PLANCHE!AC$7:AI$52,7,0)),\"\",VLOOKUP($A112,PLANCHE!AC$7:AI$52,7,0))","v":""},{"$f":"IF($A112=\"\",\"\",VLOOKUP($A112,INSCRITS!$D$4:$W$506,13,0))","v":""},{"$f":"IF(ISNA(VLOOKUP($A112,NAGE!N$7:T$52,6,0)),\"\",VLOOKUP($A112,NAGE!N$7:T$52,6,0))","v":""},{"$f":"IF(ISNA(VLOOKUP($A112,NAGE!N$7:T$52,7,0)),\"\",VLOOKUP($A112,NAGE!N$7:T$52,7,0))","v":""},{"$f":"IF($A112=\"\",\"\",VLOOKUP($A112,INSCRITS!$D$4:$W$506,14,0))","v":""},{"$f":"IF(ISNA(VLOOKUP($A112,SURFSKI!AC$8:AI$53,6,0)),\"\",VLOOKUP($A112,SURFSKI!AC$8:AI$53,6,0))","v":""},{"$f":"IF(ISNA(VLOOKUP($A112,SURFSKI!AC$8:AI$53,7,0)),\"\",VLOOKUP($A112,SURFSKI!AC$8:AI$53,7,0))","v":""},{"$f":"IF($A112=\"\",\"\",VLOOKUP($A112,INSCRITS!$D$4:$W$506,15,0))","v":""},{"$f":"IF(ISNA(VLOOKUP($A112,OCEANMAN!AC$7:AI$52,6,0)),\"\",VLOOKUP($A112,OCEANMAN!AC$7:AI$52,6,0))","v":""},{"$f":"IF(ISNA(VLOOKUP($A112,OCEANMAN!AC$7:AI$52,7,0)),\"\",VLOOKUP($A112,OCEANMAN!AC$7:AI$52,7,0))","v":""},{"$f":"IF($A112=\"\",\"\",VLOOKUP($A112,INSCRITS!$D$4:$W$506,16,0))","v":""},{"$f":"IF(ISNA(VLOOKUP($A112,CNC!N$7:AC$52,6,0)),\"\",VLOOKUP($A112,CNC!N$7:AC$52,6,0))","v":""},{"$f":"IF(ISNA(VLOOKUP($A112,CNC!N$7:AC$52,7,0)),\"\",VLOOKUP($A112,CNC!N$7:AC$52,7,0))","v":""},0,{"$f":"IF($A112=\"\",\"\",VLOOKUP($A112,INSCRITS!$D$4:$W$506,16,0))","v":""},null,{"$f":"IF(AG112=\"\",\"\",VLOOKUP(AG112,[0]!Relais,2))","v":""},{"$f":"IF($A112=\"\",\"\",VLOOKUP($A112,INSCRITS!$D$4:$W$506,17,0))","v":""},null,{"$f":"IF(AJ112=\"\",\"\",VLOOKUP(AJ112,[0]!Relais,2))","v":""},{"$f":"IF($A112=\"\",\"\",VLOOKUP($A112,INSCRITS!$D$4:$W$506,18,0))","v":""},null,{"$f":"IF(AM112=\"\",\"\",VLOOKUP(AM112,[0]!Relais,2))","v":""},{"$f":"IF($A112=\"\",\"\",VLOOKUP($A112,INSCRITS!$D$4:$W$506,19,0))","v":""},null,{"$f":"IF(AP112=\"\",\"\",VLOOKUP(AP112,[0]!Relais,2))","v":""},0,0]
[null,{"$f":"IF($A113=\"\",\"\",VLOOKUP($A113,INSCRITS!$D$4:$W$501,2,0))","v":""},{"$f":"IF($A113=\"\",\"\",VLOOKUP($A113,INSCRITS!$D$4:$W$501,3,0))","v":""},{"$f":"IF($A113=\"\",\"\",VLOOKUP($A113,INSCRITS!$D$4:$W$501,4,0))","v":""},{"$f":"IF($A113=\"\",\"\",VLOOKUP($A113,INSCRITS!$D$4:$W$501,5,0))","v":""},{"$f":"IF($A113=\"\",\"\",VLOOKUP($A113,INSCRITS!$D$4:$W$501,6,0))","v":""},{"$f":"IF($A113=\"\",\"\",VLOOKUP($A113,INSCRITS!$D$4:$W$501,7,0))","v":""},{"$f":"IF($A113=\"\",\"\",VLOOKUP($A113,INSCRITS!$D$4:$W$501,8,0))","v":""},{"$f":"IF($A113=\"\",\"\",VLOOKUP($A113,INSCRITS!$D$4:$W$501,9,0))","v":""},{"$f":"IF($A113=\"\",\"\",VLOOKUP($A113,INSCRITS!$D$4:$W$506,10,0))","v":""},{"$f":"IF(ISNA(VLOOKUP($A113,SPRINT!AD$7:AJ$50,6,0)),\"\",VLOOKUP($A113,SPRINT!AD$7:AJ$50,6,0))","v":""},{"$f":"IF(ISNA(VLOOKUP($A113,SPRINT!AD$7:AJ$50,7,0)),\"\",VLOOKUP($A113,SPRINT!AD$7:AJ$50,7,0))","v":""},{"$f":"IF($A113=\"\",\"\",VLOOKUP($A113,INSCRITS!$D$4:$W$506,11,0))","v":""},{"$f":"IF(ISNA(VLOOKUP($A113,BATONS!AD$7:AJ$51,6,0)),\"\",VLOOKUP($A113,BATONS!AD$7:AJ$51,6,0))","v":""},{"$f":"IF(ISNA(VLOOKUP($A113,BATONS!AD$7:AJ$51,7,0)),\"\",VLOOKUP($A113,BATONS!AD$7:AJ$51,7,0))","v":""},{"$f":"IF($A113=\"\",\"\",VLOOKUP($A113,INSCRITS!$D$4:$W$506,12,0))","v":""},{"$f":"IF(ISNA(VLOOKUP($A113,PLANCHE!AC$7:AI$52,6,0)),\"\",VLOOKUP($A113,PLANCHE!AC$7:AI$52,6,0))","v":""},{"$f":"IF(ISNA(VLOOKUP($A113,PLANCHE!AC$7:AI$52,7,0)),\"\",VLOOKUP($A113,PLANCHE!AC$7:AI$52,7,0))","v":""},{"$f":"IF($A113=\"\",\"\",VLOOKUP($A113,INSCRITS!$D$4:$W$506,13,0))","v":""},{"$f":"IF(ISNA(VLOOKUP($A113,NAGE!N$7:T$52,6,0)),\"\",VLOOKUP($A113,NAGE!N$7:T$52,6,0))","v":""},{"$f":"IF(ISNA(VLOOKUP($A113,NAGE!N$7:T$52,7,0)),\"\",VLOOKUP($A113,NAGE!N$7:T$52,7,0))","v":""},{"$f":"IF($A113=\"\",\"\",VLOOKUP($A113,INSCRITS!$D$4:$W$506,14,0))","v":""},{"$f":"IF(ISNA(VLOOKUP($A113,SURFSKI!AC$8:AI$53,6,0)),\"\",VLOOKUP($A113,SURFSKI!AC$8:AI$53,6,0))","v":""},{"$f":"IF(ISNA(VLOOKUP($A113,SURFSKI!AC$8:AI$53,7,0)),\"\",VLOOKUP($A113,SURFSKI!AC$8:AI$53,7,0))","v":""},{"$f":"IF($A113=\"\",\"\",VLOOKUP($A113,INSCRITS!$D$4:$W$506,15,0))","v":""},{"$f":"IF(ISNA(VLOOKUP($A113,OCEANMAN!AC$7:AI$52,6,0)),\"\",VLOOKUP($A113,OCEANMAN!AC$7:AI$52,6,0))","v":""},{"$f":"IF(ISNA(VLOOKUP($A113,OCEANMAN!AC$7:AI$52,7,0)),\"\",VLOOKUP($A113,OCEANMAN!AC$7:AI$52,7,0))","v":""},{"$f":"IF($A113=\"\",\"\",VLOOKUP($A113,INSCRITS!$D$4:$W$506,16,0))","v":""},{"$f":"IF(ISNA(VLOOKUP($A113,CNC!N$7:AC$52,6,0)),\"\",VLOOKUP($A113,CNC!N$7:AC$52,6,0))","v":""},{"$f":"IF(ISNA(VLOOKUP($A113,CNC!N$7:AC$52,7,0)),\"\",VLOOKUP($A113,CNC!N$7:AC$52,7,0))","v":""},0,{"$f":"IF($A113=\"\",\"\",VLOOKUP($A113,INSCRITS!$D$4:$W$506,16,0))","v":""},null,{"$f":"IF(AG113=\"\",\"\",VLOOKUP(AG113,[0]!Relais,2))","v":""},{"$f":"IF($A113=\"\",\"\",VLOOKUP($A113,INSCRITS!$D$4:$W$506,17,0))","v":""},null,{"$f":"IF(AJ113=\"\",\"\",VLOOKUP(AJ113,[0]!Relais,2))","v":""},{"$f":"IF($A113=\"\",\"\",VLOOKUP($A113,INSCRITS!$D$4:$W$506,18,0))","v":""},null,{"$f":"IF(AM113=\"\",\"\",VLOOKUP(AM113,[0]!Relais,2))","v":""},{"$f":"IF($A113=\"\",\"\",VLOOKUP($A113,INSCRITS!$D$4:$W$506,19,0))","v":""},null,{"$f":"IF(AP113=\"\",\"\",VLOOKUP(AP113,[0]!Relais,2))","v":""},0,0]
[null,{"$f":"IF($A114=\"\",\"\",VLOOKUP($A114,INSCRITS!$D$4:$W$501,2,0))","v":""},{"$f":"IF($A114=\"\",\"\",VLOOKUP($A114,INSCRITS!$D$4:$W$501,3,0))","v":""},{"$f":"IF($A114=\"\",\"\",VLOOKUP($A114,INSCRITS!$D$4:$W$501,4,0))","v":""},{"$f":"IF($A114=\"\",\"\",VLOOKUP($A114,INSCRITS!$D$4:$W$501,5,0))","v":""},{"$f":"IF($A114=\"\",\"\",VLOOKUP($A114,INSCRITS!$D$4:$W$501,6,0))","v":""},{"$f":"IF($A114=\"\",\"\",VLOOKUP($A114,INSCRITS!$D$4:$W$501,7,0))","v":""},{"$f":"IF($A114=\"\",\"\",VLOOKUP($A114,INSCRITS!$D$4:$W$501,8,0))","v":""},{"$f":"IF($A114=\"\",\"\",VLOOKUP($A114,INSCRITS!$D$4:$W$501,9,0))","v":""},{"$f":"IF($A114=\"\",\"\",VLOOKUP($A114,INSCRITS!$D$4:$W$506,10,0))","v":""},{"$f":"IF(ISNA(VLOOKUP($A114,SPRINT!AD$7:AJ$50,6,0)),\"\",VLOOKUP($A114,SPRINT!AD$7:AJ$50,6,0))","v":""},{"$f":"IF(ISNA(VLOOKUP($A114,SPRINT!AD$7:AJ$50,7,0)),\"\",VLOOKUP($A114,SPRINT!AD$7:AJ$50,7,0))","v":""},{"$f":"IF($A114=\"\",\"\",VLOOKUP($A114,INSCRITS!$D$4:$W$506,11,0))","v":""},{"$f":"IF(ISNA(VLOOKUP($A114,BATONS!AD$7:AJ$51,6,0)),\"\",VLOOKUP($A114,BATONS!AD$7:AJ$51,6,0))","v":""},{"$f":"IF(ISNA(VLOOKUP($A114,BATONS!AD$7:AJ$51,7,0)),\"\",VLOOKUP($A114,BATONS!AD$7:AJ$51,7,0))","v":""},{"$f":"IF($A114=\"\",\"\",VLOOKUP($A114,INSCRITS!$D$4:$W$506,12,0))","v":""},{"$f":"IF(ISNA(VLOOKUP($A114,PLANCHE!AC$7:AI$52,6,0)),\"\",VLOOKUP($A114,PLANCHE!AC$7:AI$52,6,0))","v":""},{"$f":"IF(ISNA(VLOOKUP($A114,PLANCHE!AC$7:AI$52,7,0)),\"\",VLOOKUP($A114,PLANCHE!AC$7:AI$52,7,0))","v":""},{"$f":"IF($A114=\"\",\"\",VLOOKUP($A114,INSCRITS!$D$4:$W$506,13,0))","v":""},{"$f":"IF(ISNA(VLOOKUP($A114,NAGE!N$7:T$52,6,0)),\"\",VLOOKUP($A114,NAGE!N$7:T$52,6,0))","v":""},{"$f":"IF(ISNA(VLOOKUP($A114,NAGE!N$7:T$52,7,0)),\"\",VLOOKUP($A114,NAGE!N$7:T$52,7,0))","v":""},{"$f":"IF($A114=\"\",\"\",VLOOKUP($A114,INSCRITS!$D$4:$W$506,14,0))","v":""},{"$f":"IF(ISNA(VLOOKUP($A114,SURFSKI!AC$8:AI$53,6,0)),\"\",VLOOKUP($A114,SURFSKI!AC$8:AI$53,6,0))","v":""},{"$f":"IF(ISNA(VLOOKUP($A114,SURFSKI!AC$8:AI$53,7,0)),\"\",VLOOKUP($A114,SURFSKI!AC$8:AI$53,7,0))","v":""},{"$f":"IF($A114=\"\",\"\",VLOOKUP($A114,INSCRITS!$D$4:$W$506,15,0))","v":""},{"$f":"IF(ISNA(VLOOKUP($A114,OCEANMAN!AC$7:AI$52,6,0)),\"\",VLOOKUP($A114,OCEANMAN!AC$7:AI$52,6,0))","v":""},{"$f":"IF(ISNA(VLOOKUP($A114,OCEANMAN!AC$7:AI$52,7,0)),\"\",VLOOKUP($A114,OCEANMAN!AC$7:AI$52,7,0))","v":""},{"$f":"IF($A114=\"\",\"\",VLOOKUP($A114,INSCRITS!$D$4:$W$506,16,0))","v":""},{"$f":"IF(ISNA(VLOOKUP($A114,CNC!N$7:AC$52,6,0)),\"\",VLOOKUP($A114,CNC!N$7:AC$52,6,0))","v":""},{"$f":"IF(ISNA(VLOOKUP($A114,CNC!N$7:AC$52,7,0)),\"\",VLOOKUP($A114,CNC!N$7:AC$52,7,0))","v":""},0,{"$f":"IF($A114=\"\",\"\",VLOOKUP($A114,INSCRITS!$D$4:$W$506,16,0))","v":""},null,{"$f":"IF(AG114=\"\",\"\",VLOOKUP(AG114,[0]!Relais,2))","v":""},{"$f":"IF($A114=\"\",\"\",VLOOKUP($A114,INSCRITS!$D$4:$W$506,17,0))","v":""},null,{"$f":"IF(AJ114=\"\",\"\",VLOOKUP(AJ114,[0]!Relais,2))","v":""},{"$f":"IF($A114=\"\",\"\",VLOOKUP($A114,INSCRITS!$D$4:$W$506,18,0))","v":""},null,{"$f":"IF(AM114=\"\",\"\",VLOOKUP(AM114,[0]!Relais,2))","v":""},{"$f":"IF($A114=\"\",\"\",VLOOKUP($A114,INSCRITS!$D$4:$W$506,19,0))","v":""},null,{"$f":"IF(AP114=\"\",\"\",VLOOKUP(AP114,[0]!Relais,2))","v":""},0,0]
[null,{"$f":"IF($A115=\"\",\"\",VLOOKUP($A115,INSCRITS!$D$4:$W$501,2,0))","v":""},{"$f":"IF($A115=\"\",\"\",VLOOKUP($A115,INSCRITS!$D$4:$W$501,3,0))","v":""},{"$f":"IF($A115=\"\",\"\",VLOOKUP($A115,INSCRITS!$D$4:$W$501,4,0))","v":""},{"$f":"IF($A115=\"\",\"\",VLOOKUP($A115,INSCRITS!$D$4:$W$501,5,0))","v":""},{"$f":"IF($A115=\"\",\"\",VLOOKUP($A115,INSCRITS!$D$4:$W$501,6,0))","v":""},{"$f":"IF($A115=\"\",\"\",VLOOKUP($A115,INSCRITS!$D$4:$W$501,7,0))","v":""},{"$f":"IF($A115=\"\",\"\",VLOOKUP($A115,INSCRITS!$D$4:$W$501,8,0))","v":""},{"$f":"IF($A115=\"\",\"\",VLOOKUP($A115,INSCRITS!$D$4:$W$501,9,0))","v":""},{"$f":"IF($A115=\"\",\"\",VLOOKUP($A115,INSCRITS!$D$4:$W$506,10,0))","v":""},{"$f":"IF(ISNA(VLOOKUP($A115,SPRINT!AD$7:AJ$50,6,0)),\"\",VLOOKUP($A115,SPRINT!AD$7:AJ$50,6,0))","v":""},{"$f":"IF(ISNA(VLOOKUP($A115,SPRINT!AD$7:AJ$50,7,0)),\"\",VLOOKUP($A115,SPRINT!AD$7:AJ$50,7,0))","v":""},{"$f":"IF($A115=\"\",\"\",VLOOKUP($A115,INSCRITS!$D$4:$W$506,11,0))","v":""},{"$f":"IF(ISNA(VLOOKUP($A115,BATONS!AD$7:AJ$51,6,0)),\"\",VLOOKUP($A115,BATONS!AD$7:AJ$51,6,0))","v":""},{"$f":"IF(ISNA(VLOOKUP($A115,BATONS!AD$7:AJ$51,7,0)),\"\",VLOOKUP($A115,BATONS!AD$7:AJ$51,7,0))","v":""},{"$f":"IF($A115=\"\",\"\",VLOOKUP($A115,INSCRITS!$D$4:$W$506,12,0))","v":""},{"$f":"IF(ISNA(VLOOKUP($A115,PLANCHE!AC$7:AI$52,6,0)),\"\",VLOOKUP($A115,PLANCHE!AC$7:AI$52,6,0))","v":""},{"$f":"IF(ISNA(VLOOKUP($A115,PLANCHE!AC$7:AI$52,7,0)),\"\",VLOOKUP($A115,PLANCHE!AC$7:AI$52,7,0))","v":""},{"$f":"IF($A115=\"\",\"\",VLOOKUP($A115,INSCRITS!$D$4:$W$506,13,0))","v":""},{"$f":"IF(ISNA(VLOOKUP($A115,NAGE!N$7:T$52,6,0)),\"\",VLOOKUP($A115,NAGE!N$7:T$52,6,0))","v":""},{"$f":"IF(ISNA(VLOOKUP($A115,NAGE!N$7:T$52,7,0)),\"\",VLOOKUP($A115,NAGE!N$7:T$52,7,0))","v":""},{"$f":"IF($A115=\"\",\"\",VLOOKUP($A115,INSCRITS!$D$4:$W$506,14,0))","v":""},{"$f":"IF(ISNA(VLOOKUP($A115,SURFSKI!AC$8:AI$53,6,0)),\"\",VLOOKUP($A115,SURFSKI!AC$8:AI$53,6,0))","v":""},{"$f":"IF(ISNA(VLOOKUP($A115,SURFSKI!AC$8:AI$53,7,0)),\"\",VLOOKUP($A115,SURFSKI!AC$8:AI$53,7,0))","v":""},{"$f":"IF($A115=\"\",\"\",VLOOKUP($A115,INSCRITS!$D$4:$W$506,15,0))","v":""},{"$f":"IF(ISNA(VLOOKUP($A115,OCEANMAN!AC$7:AI$52,6,0)),\"\",VLOOKUP($A115,OCEANMAN!AC$7:AI$52,6,0))","v":""},{"$f":"IF(ISNA(VLOOKUP($A115,OCEANMAN!AC$7:AI$52,7,0)),\"\",VLOOKUP($A115,OCEANMAN!AC$7:AI$52,7,0))","v":""},{"$f":"IF($A115=\"\",\"\",VLOOKUP($A115,INSCRITS!$D$4:$W$506,16,0))","v":""},{"$f":"IF(ISNA(VLOOKUP($A115,CNC!N$7:AC$52,6,0)),\"\",VLOOKUP($A115,CNC!N$7:AC$52,6,0))","v":""},{"$f":"IF(ISNA(VLOOKUP($A115,CNC!N$7:AC$52,7,0)),\"\",VLOOKUP($A115,CNC!N$7:AC$52,7,0))","v":""},0,{"$f":"IF($A115=\"\",\"\",VLOOKUP($A115,INSCRITS!$D$4:$W$506,16,0))","v":""},null,{"$f":"IF(AG115=\"\",\"\",VLOOKUP(AG115,[0]!Relais,2))","v":""},{"$f":"IF($A115=\"\",\"\",VLOOKUP($A115,INSCRITS!$D$4:$W$506,17,0))","v":""},null,{"$f":"IF(AJ115=\"\",\"\",VLOOKUP(AJ115,[0]!Relais,2))","v":""},{"$f":"IF($A115=\"\",\"\",VLOOKUP($A115,INSCRITS!$D$4:$W$506,18,0))","v":""},null,{"$f":"IF(AM115=\"\",\"\",VLOOKUP(AM115,[0]!Relais,2))","v":""},{"$f":"IF($A115=\"\",\"\",VLOOKUP($A115,INSCRITS!$D$4:$W$506,19,0))","v":""},null,{"$f":"IF(AP115=\"\",\"\",VLOOKUP(AP115,[0]!Relais,2))","v":""},0,0]
[null,{"$f":"IF($A116=\"\",\"\",VLOOKUP($A116,INSCRITS!$D$4:$W$501,2,0))","v":""},{"$f":"IF($A116=\"\",\"\",VLOOKUP($A116,INSCRITS!$D$4:$W$501,3,0))","v":""},{"$f":"IF($A116=\"\",\"\",VLOOKUP($A116,INSCRITS!$D$4:$W$501,4,0))","v":""},{"$f":"IF($A116=\"\",\"\",VLOOKUP($A116,INSCRITS!$D$4:$W$501,5,0))","v":""},{"$f":"IF($A116=\"\",\"\",VLOOKUP($A116,INSCRITS!$D$4:$W$501,6,0))","v":""},{"$f":"IF($A116=\"\",\"\",VLOOKUP($A116,INSCRITS!$D$4:$W$501,7,0))","v":""},{"$f":"IF($A116=\"\",\"\",VLOOKUP($A116,INSCRITS!$D$4:$W$501,8,0))","v":""},{"$f":"IF($A116=\"\",\"\",VLOOKUP($A116,INSCRITS!$D$4:$W$501,9,0))","v":""},{"$f":"IF($A116=\"\",\"\",VLOOKUP($A116,INSCRITS!$D$4:$W$506,10,0))","v":""},{"$f":"IF(ISNA(VLOOKUP($A116,SPRINT!AD$7:AJ$50,6,0)),\"\",VLOOKUP($A116,SPRINT!AD$7:AJ$50,6,0))","v":""},{"$f":"IF(ISNA(VLOOKUP($A116,SPRINT!AD$7:AJ$50,7,0)),\"\",VLOOKUP($A116,SPRINT!AD$7:AJ$50,7,0))","v":""},{"$f":"IF($A116=\"\",\"\",VLOOKUP($A116,INSCRITS!$D$4:$W$506,11,0))","v":""},{"$f":"IF(ISNA(VLOOKUP($A116,BATONS!AD$7:AJ$51,6,0)),\"\",VLOOKUP($A116,BATONS!AD$7:AJ$51,6,0))","v":""},{"$f":"IF(ISNA(VLOOKUP($A116,BATONS!AD$7:AJ$51,7,0)),\"\",VLOOKUP($A116,BATONS!AD$7:AJ$51,7,0))","v":""},{"$f":"IF($A116=\"\",\"\",VLOOKUP($A116,INSCRITS!$D$4:$W$506,12,0))","v":""},{"$f":"IF(ISNA(VLOOKUP($A116,PLANCHE!AC$7:AI$52,6,0)),\"\",VLOOKUP($A116,PLANCHE!AC$7:AI$52,6,0))","v":""},{"$f":"IF(ISNA(VLOOKUP($A116,PLANCHE!AC$7:AI$52,7,0)),\"\",VLOOKUP($A116,PLANCHE!AC$7:AI$52,7,0))","v":""},{"$f":"IF($A116=\"\",\"\",VLOOKUP($A116,INSCRITS!$D$4:$W$506,13,0))","v":""},{"$f":"IF(ISNA(VLOOKUP($A116,NAGE!N$7:T$52,6,0)),\"\",VLOOKUP($A116,NAGE!N$7:T$52,6,0))","v":""},{"$f":"IF(ISNA(VLOOKUP($A116,NAGE!N$7:T$52,7,0)),\"\",VLOOKUP($A116,NAGE!N$7:T$52,7,0))","v":""},{"$f":"IF($A116=\"\",\"\",VLOOKUP($A116,INSCRITS!$D$4:$W$506,14,0))","v":""},{"$f":"IF(ISNA(VLOOKUP($A116,SURFSKI!AC$8:AI$53,6,0)),\"\",VLOOKUP($A116,SURFSKI!AC$8:AI$53,6,0))","v":""},{"$f":"IF(ISNA(VLOOKUP($A116,SURFSKI!AC$8:AI$53,7,0)),\"\",VLOOKUP($A116,SURFSKI!AC$8:AI$53,7,0))","v":""},{"$f":"IF($A116=\"\",\"\",VLOOKUP($A116,INSCRITS!$D$4:$W$506,15,0))","v":""},{"$f":"IF(ISNA(VLOOKUP($A116,OCEANMAN!AC$7:AI$52,6,0)),\"\",VLOOKUP($A116,OCEANMAN!AC$7:AI$52,6,0))","v":""},{"$f":"IF(ISNA(VLOOKUP($A116,OCEANMAN!AC$7:AI$52,7,0)),\"\",VLOOKUP($A116,OCEANMAN!AC$7:AI$52,7,0))","v":""},{"$f":"IF($A116=\"\",\"\",VLOOKUP($A116,INSCRITS!$D$4:$W$506,16,0))","v":""},{"$f":"IF(ISNA(VLOOKUP($A116,CNC!N$7:AC$52,6,0)),\"\",VLOOKUP($A116,CNC!N$7:AC$52,6,0))","v":""},{"$f":"IF(ISNA(VLOOKUP($A116,CNC!N$7:AC$52,7,0)),\"\",VLOOKUP($A116,CNC!N$7:AC$52,7,0))","v":""},0,{"$f":"IF($A116=\"\",\"\",VLOOKUP($A116,INSCRITS!$D$4:$W$506,16,0))","v":""},null,{"$f":"IF(AG116=\"\",\"\",VLOOKUP(AG116,[0]!Relais,2))","v":""},{"$f":"IF($A116=\"\",\"\",VLOOKUP($A116,INSCRITS!$D$4:$W$506,17,0))","v":""},null,{"$f":"IF(AJ116=\"\",\"\",VLOOKUP(AJ116,[0]!Relais,2))","v":""},{"$f":"IF($A116=\"\",\"\",VLOOKUP($A116,INSCRITS!$D$4:$W$506,18,0))","v":""},null,{"$f":"IF(AM116=\"\",\"\",VLOOKUP(AM116,[0]!Relais,2))","v":""},{"$f":"IF($A116=\"\",\"\",VLOOKUP($A116,INSCRITS!$D$4:$W$506,19,0))","v":""},null,{"$f":"IF(AP116=\"\",\"\",VLOOKUP(AP116,[0]!Relais,2))","v":""},0,0]
[null,{"$f":"IF($A117=\"\",\"\",VLOOKUP($A117,INSCRITS!$D$4:$W$501,2,0))","v":""},{"$f":"IF($A117=\"\",\"\",VLOOKUP($A117,INSCRITS!$D$4:$W$501,3,0))","v":""},{"$f":"IF($A117=\"\",\"\",VLOOKUP($A117,INSCRITS!$D$4:$W$501,4,0))","v":""},{"$f":"IF($A117=\"\",\"\",VLOOKUP($A117,INSCRITS!$D$4:$W$501,5,0))","v":""},{"$f":"IF($A117=\"\",\"\",VLOOKUP($A117,INSCRITS!$D$4:$W$501,6,0))","v":""},{"$f":"IF($A117=\"\",\"\",VLOOKUP($A117,INSCRITS!$D$4:$W$501,7,0))","v":""},{"$f":"IF($A117=\"\",\"\",VLOOKUP($A117,INSCRITS!$D$4:$W$501,8,0))","v":""},{"$f":"IF($A117=\"\",\"\",VLOOKUP($A117,INSCRITS!$D$4:$W$501,9,0))","v":""},{"$f":"IF($A117=\"\",\"\",VLOOKUP($A117,INSCRITS!$D$4:$W$506,10,0))","v":""},{"$f":"IF(ISNA(VLOOKUP($A117,SPRINT!AD$7:AJ$50,6,0)),\"\",VLOOKUP($A117,SPRINT!AD$7:AJ$50,6,0))","v":""},{"$f":"IF(ISNA(VLOOKUP($A117,SPRINT!AD$7:AJ$50,7,0)),\"\",VLOOKUP($A117,SPRINT!AD$7:AJ$50,7,0))","v":""},{"$f":"IF($A117=\"\",\"\",VLOOKUP($A117,INSCRITS!$D$4:$W$506,11,0))","v":""},{"$f":"IF(ISNA(VLOOKUP($A117,BATONS!AD$7:AJ$51,6,0)),\"\",VLOOKUP($A117,BATONS!AD$7:AJ$51,6,0))","v":""},{"$f":"IF(ISNA(VLOOKUP($A117,BATONS!AD$7:AJ$51,7,0)),\"\",VLOOKUP($A117,BATONS!AD$7:AJ$51,7,0))","v":""},{"$f":"IF($A117=\"\",\"\",VLOOKUP($A117,INSCRITS!$D$4:$W$506,12,0))","v":""},{"$f":"IF(ISNA(VLOOKUP($A117,PLANCHE!AC$7:AI$52,6,0)),\"\",VLOOKUP($A117,PLANCHE!AC$7:AI$52,6,0))","v":""},{"$f":"IF(ISNA(VLOOKUP($A117,PLANCHE!AC$7:AI$52,7,0)),\"\",VLOOKUP($A117,PLANCHE!AC$7:AI$52,7,0))","v":""},{"$f":"IF($A117=\"\",\"\",VLOOKUP($A117,INSCRITS!$D$4:$W$506,13,0))","v":""},{"$f":"IF(ISNA(VLOOKUP($A117,NAGE!N$7:T$52,6,0)),\"\",VLOOKUP($A117,NAGE!N$7:T$52,6,0))","v":""},{"$f":"IF(ISNA(VLOOKUP($A117,NAGE!N$7:T$52,7,0)),\"\",VLOOKUP($A117,NAGE!N$7:T$52,7,0))","v":""},{"$f":"IF($A117=\"\",\"\",VLOOKUP($A117,INSCRITS!$D$4:$W$506,14,0))","v":""},{"$f":"IF(ISNA(VLOOKUP($A117,SURFSKI!AC$8:AI$53,6,0)),\"\",VLOOKUP($A117,SURFSKI!AC$8:AI$53,6,0))","v":""},{"$f":"IF(ISNA(VLOOKUP($A117,SURFSKI!AC$8:AI$53,7,0)),\"\",VLOOKUP($A117,SURFSKI!AC$8:AI$53,7,0))","v":""},{"$f":"IF($A117=\"\",\"\",VLOOKUP($A117,INSCRITS!$D$4:$W$506,15,0))","v":""},{"$f":"IF(ISNA(VLOOKUP($A117,OCEANMAN!AC$7:AI$52,6,0)),\"\",VLOOKUP($A117,OCEANMAN!AC$7:AI$52,6,0))","v":""},{"$f":"IF(ISNA(VLOOKUP($A117,OCEANMAN!AC$7:AI$52,7,0)),\"\",VLOOKUP($A117,OCEANMAN!AC$7:AI$52,7,0))","v":""},{"$f":"IF($A117=\"\",\"\",VLOOKUP($A117,INSCRITS!$D$4:$W$506,16,0))","v":""},{"$f":"IF(ISNA(VLOOKUP($A117,CNC!N$7:AC$52,6,0)),\"\",VLOOKUP($A117,CNC!N$7:AC$52,6,0))","v":""},{"$f":"IF(ISNA(VLOOKUP($A117,CNC!N$7:AC$52,7,0)),\"\",VLOOKUP($A117,CNC!N$7:AC$52,7,0))","v":""},0,{"$f":"IF($A117=\"\",\"\",VLOOKUP($A117,INSCRITS!$D$4:$W$506,16,0))","v":""},null,{"$f":"IF(AG117=\"\",\"\",VLOOKUP(AG117,[0]!Relais,2))","v":""},{"$f":"IF($A117=\"\",\"\",VLOOKUP($A117,INSCRITS!$D$4:$W$506,17,0))","v":""},null,{"$f":"IF(AJ117=\"\",\"\",VLOOKUP(AJ117,[0]!Relais,2))","v":""},{"$f":"IF($A117=\"\",\"\",VLOOKUP($A117,INSCRITS!$D$4:$W$506,18,0))","v":""},null,{"$f":"IF(AM117=\"\",\"\",VLOOKUP(AM117,[0]!Relais,2))","v":""},{"$f":"IF($A117=\"\",\"\",VLOOKUP($A117,INSCRITS!$D$4:$W$506,19,0))","v":""},null,{"$f":"IF(AP117=\"\",\"\",VLOOKUP(AP117,[0]!Relais,2))","v":""},0,0]
[null,{"$f":"IF($A118=\"\",\"\",VLOOKUP($A118,INSCRITS!$D$4:$W$501,2,0))","v":""},{"$f":"IF($A118=\"\",\"\",VLOOKUP($A118,INSCRITS!$D$4:$W$501,3,0))","v":""},{"$f":"IF($A118=\"\",\"\",VLOOKUP($A118,INSCRITS!$D$4:$W$501,4,0))","v":""},{"$f":"IF($A118=\"\",\"\",VLOOKUP($A118,INSCRITS!$D$4:$W$501,5,0))","v":""},{"$f":"IF($A118=\"\",\"\",VLOOKUP($A118,INSCRITS!$D$4:$W$501,6,0))","v":""},{"$f":"IF($A118=\"\",\"\",VLOOKUP($A118,INSCRITS!$D$4:$W$501,7,0))","v":""},{"$f":"IF($A118=\"\",\"\",VLOOKUP($A118,INSCRITS!$D$4:$W$501,8,0))","v":""},{"$f":"IF($A118=\"\",\"\",VLOOKUP($A118,INSCRITS!$D$4:$W$501,9,0))","v":""},{"$f":"IF($A118=\"\",\"\",VLOOKUP($A118,INSCRITS!$D$4:$W$506,10,0))","v":""},{"$f":"IF(ISNA(VLOOKUP($A118,SPRINT!AD$7:AJ$50,6,0)),\"\",VLOOKUP($A118,SPRINT!AD$7:AJ$50,6,0))","v":""},{"$f":"IF(ISNA(VLOOKUP($A118,SPRINT!AD$7:AJ$50,7,0)),\"\",VLOOKUP($A118,SPRINT!AD$7:AJ$50,7,0))","v":""},{"$f":"IF($A118=\"\",\"\",VLOOKUP($A118,INSCRITS!$D$4:$W$506,11,0))","v":""},{"$f":"IF(ISNA(VLOOKUP($A118,BATONS!AD$7:AJ$51,6,0)),\"\",VLOOKUP($A118,BATONS!AD$7:AJ$51,6,0))","v":""},{"$f":"IF(ISNA(VLOOKUP($A118,BATONS!AD$7:AJ$51,7,0)),\"\",VLOOKUP($A118,BATONS!AD$7:AJ$51,7,0))","v":""},{"$f":"IF($A118=\"\",\"\",VLOOKUP($A118,INSCRITS!$D$4:$W$506,12,0))","v":""},{"$f":"IF(ISNA(VLOOKUP($A118,PLANCHE!AC$7:AI$52,6,0)),\"\",VLOOKUP($A118,PLANCHE!AC$7:AI$52,6,0))","v":""},{"$f":"IF(ISNA(VLOOKUP($A118,PLANCHE!AC$7:AI$52,7,0)),\"\",VLOOKUP($A118,PLANCHE!AC$7:AI$52,7,0))","v":""},{"$f":"IF($A118=\"\",\"\",VLOOKUP($A118,INSCRITS!$D$4:$W$506,13,0))","v":""},{"$f":"IF(ISNA(VLOOKUP($A118,NAGE!N$7:T$52,6,0)),\"\",VLOOKUP($A118,NAGE!N$7:T$52,6,0))","v":""},{"$f":"IF(ISNA(VLOOKUP($A118,NAGE!N$7:T$52,7,0)),\"\",VLOOKUP($A118,NAGE!N$7:T$52,7,0))","v":""},{"$f":"IF($A118=\"\",\"\",VLOOKUP($A118,INSCRITS!$D$4:$W$506,14,0))","v":""},{"$f":"IF(ISNA(VLOOKUP($A118,SURFSKI!AC$8:AI$53,6,0)),\"\",VLOOKUP($A118,SURFSKI!AC$8:AI$53,6,0))","v":""},{"$f":"IF(ISNA(VLOOKUP($A118,SURFSKI!AC$8:AI$53,7,0)),\"\",VLOOKUP($A118,SURFSKI!AC$8:AI$53,7,0))","v":""},{"$f":"IF($A118=\"\",\"\",VLOOKUP($A118,INSCRITS!$D$4:$W$506,15,0))","v":""},{"$f":"IF(ISNA(VLOOKUP($A118,OCEANMAN!AC$7:AI$52,6,0)),\"\",VLOOKUP($A118,OCEANMAN!AC$7:AI$52,6,0))","v":""},{"$f":"IF(ISNA(VLOOKUP($A118,OCEANMAN!AC$7:AI$52,7,0)),\"\",VLOOKUP($A118,OCEANMAN!AC$7:AI$52,7,0))","v":""},{"$f":"IF($A118=\"\",\"\",VLOOKUP($A118,INSCRITS!$D$4:$W$506,16,0))","v":""},{"$f":"IF(ISNA(VLOOKUP($A118,CNC!N$7:AC$52,6,0)),\"\",VLOOKUP($A118,CNC!N$7:AC$52,6,0))","v":""},{"$f":"IF(ISNA(VLOOKUP($A118,CNC!N$7:AC$52,7,0)),\"\",VLOOKUP($A118,CNC!N$7:AC$52,7,0))","v":""},0,{"$f":"IF($A118=\"\",\"\",VLOOKUP($A118,INSCRITS!$D$4:$W$506,16,0))","v":""},null,{"$f":"IF(AG118=\"\",\"\",VLOOKUP(AG118,[0]!Relais,2))","v":""},{"$f":"IF($A118=\"\",\"\",VLOOKUP($A118,INSCRITS!$D$4:$W$506,17,0))","v":""},null,{"$f":"IF(AJ118=\"\",\"\",VLOOKUP(AJ118,[0]!Relais,2))","v":""},{"$f":"IF($A118=\"\",\"\",VLOOKUP($A118,INSCRITS!$D$4:$W$506,18,0))","v":""},null,{"$f":"IF(AM118=\"\",\"\",VLOOKUP(AM118,[0]!Relais,2))","v":""},{"$f":"IF($A118=\"\",\"\",VLOOKUP($A118,INSCRITS!$D$4:$W$506,19,0))","v":""},null,{"$f":"IF(AP118=\"\",\"\",VLOOKUP(AP118,[0]!Relais,2))","v":""},0,0]
[null,{"$f":"IF($A119=\"\",\"\",VLOOKUP($A119,INSCRITS!$D$4:$W$501,2,0))","v":""},{"$f":"IF($A119=\"\",\"\",VLOOKUP($A119,INSCRITS!$D$4:$W$501,3,0))","v":""},{"$f":"IF($A119=\"\",\"\",VLOOKUP($A119,INSCRITS!$D$4:$W$501,4,0))","v":""},{"$f":"IF($A119=\"\",\"\",VLOOKUP($A119,INSCRITS!$D$4:$W$501,5,0))","v":""},{"$f":"IF($A119=\"\",\"\",VLOOKUP($A119,INSCRITS!$D$4:$W$501,6,0))","v":""},{"$f":"IF($A119=\"\",\"\",VLOOKUP($A119,INSCRITS!$D$4:$W$501,7,0))","v":""},{"$f":"IF($A119=\"\",\"\",VLOOKUP($A119,INSCRITS!$D$4:$W$501,8,0))","v":""},{"$f":"IF($A119=\"\",\"\",VLOOKUP($A119,INSCRITS!$D$4:$W$501,9,0))","v":""},{"$f":"IF($A119=\"\",\"\",VLOOKUP($A119,INSCRITS!$D$4:$W$506,10,0))","v":""},{"$f":"IF(ISNA(VLOOKUP($A119,SPRINT!AD$7:AJ$50,6,0)),\"\",VLOOKUP($A119,SPRINT!AD$7:AJ$50,6,0))","v":""},{"$f":"IF(ISNA(VLOOKUP($A119,SPRINT!AD$7:AJ$50,7,0)),\"\",VLOOKUP($A119,SPRINT!AD$7:AJ$50,7,0))","v":""},{"$f":"IF($A119=\"\",\"\",VLOOKUP($A119,INSCRITS!$D$4:$W$506,11,0))","v":""},{"$f":"IF(ISNA(VLOOKUP($A119,BATONS!AD$7:AJ$51,6,0)),\"\",VLOOKUP($A119,BATONS!AD$7:AJ$51,6,0))","v":""},{"$f":"IF(ISNA(VLOOKUP($A119,BATONS!AD$7:AJ$51,7,0)),\"\",VLOOKUP($A119,BATONS!AD$7:AJ$51,7,0))","v":""},{"$f":"IF($A119=\"\",\"\",VLOOKUP($A119,INSCRITS!$D$4:$W$506,12,0))","v":""},{"$f":"IF(ISNA(VLOOKUP($A119,PLANCHE!AC$7:AI$52,6,0)),\"\",VLOOKUP($A119,PLANCHE!AC$7:AI$52,6,0))","v":""},{"$f":"IF(ISNA(VLOOKUP($A119,PLANCHE!AC$7:AI$52,7,0)),\"\",VLOOKUP($A119,PLANCHE!AC$7:AI$52,7,0))","v":""},{"$f":"IF($A119=\"\",\"\",VLOOKUP($A119,INSCRITS!$D$4:$W$506,13,0))","v":""},{"$f":"IF(ISNA(VLOOKUP($A119,NAGE!N$7:T$52,6,0)),\"\",VLOOKUP($A119,NAGE!N$7:T$52,6,0))","v":""},{"$f":"IF(ISNA(VLOOKUP($A119,NAGE!N$7:T$52,7,0)),\"\",VLOOKUP($A119,NAGE!N$7:T$52,7,0))","v":""},{"$f":"IF($A119=\"\",\"\",VLOOKUP($A119,INSCRITS!$D$4:$W$506,14,0))","v":""},{"$f":"IF(ISNA(VLOOKUP($A119,SURFSKI!AC$8:AI$53,6,0)),\"\",VLOOKUP($A119,SURFSKI!AC$8:AI$53,6,0))","v":""},{"$f":"IF(ISNA(VLOOKUP($A119,SURFSKI!AC$8:AI$53,7,0)),\"\",VLOOKUP($A119,SURFSKI!AC$8:AI$53,7,0))","v":""},{"$f":"IF($A119=\"\",\"\",VLOOKUP($A119,INSCRITS!$D$4:$W$506,15,0))","v":""},{"$f":"IF(ISNA(VLOOKUP($A119,OCEANMAN!AC$7:AI$52,6,0)),\"\",VLOOKUP($A119,OCEANMAN!AC$7:AI$52,6,0))","v":""},{"$f":"IF(ISNA(VLOOKUP($A119,OCEANMAN!AC$7:AI$52,7,0)),\"\",VLOOKUP($A119,OCEANMAN!AC$7:AI$52,7,0))","v":""},{"$f":"IF($A119=\"\",\"\",VLOOKUP($A119,INSCRITS!$D$4:$W$506,16,0))","v":""},{"$f":"IF(ISNA(VLOOKUP($A119,CNC!N$7:AC$52,6,0)),\"\",VLOOKUP($A119,CNC!N$7:AC$52,6,0))","v":""},{"$f":"IF(ISNA(VLOOKUP($A119,CNC!N$7:AC$52,7,0)),\"\",VLOOKUP($A119,CNC!N$7:AC$52,7,0))","v":""},0,{"$f":"IF($A119=\"\",\"\",VLOOKUP($A119,INSCRITS!$D$4:$W$506,16,0))","v":""},null,{"$f":"IF(AG119=\"\",\"\",VLOOKUP(AG119,[0]!Relais,2))","v":""},{"$f":"IF($A119=\"\",\"\",VLOOKUP($A119,INSCRITS!$D$4:$W$506,17,0))","v":""},null,{"$f":"IF(AJ119=\"\",\"\",VLOOKUP(AJ119,[0]!Relais,2))","v":""},{"$f":"IF($A119=\"\",\"\",VLOOKUP($A119,INSCRITS!$D$4:$W$506,18,0))","v":""},null,{"$f":"IF(AM119=\"\",\"\",VLOOKUP(AM119,[0]!Relais,2))","v":""},{"$f":"IF($A119=\"\",\"\",VLOOKUP($A119,INSCRITS!$D$4:$W$506,19,0))","v":""},null,{"$f":"IF(AP119=\"\",\"\",VLOOKUP(AP119,[0]!Relais,2))","v":""},0,0]
[null,{"$f":"IF($A120=\"\",\"\",VLOOKUP($A120,INSCRITS!$D$4:$W$501,2,0))","v":""},{"$f":"IF($A120=\"\",\"\",VLOOKUP($A120,INSCRITS!$D$4:$W$501,3,0))","v":""},{"$f":"IF($A120=\"\",\"\",VLOOKUP($A120,INSCRITS!$D$4:$W$501,4,0))","v":""},{"$f":"IF($A120=\"\",\"\",VLOOKUP($A120,INSCRITS!$D$4:$W$501,5,0))","v":""},{"$f":"IF($A120=\"\",\"\",VLOOKUP($A120,INSCRITS!$D$4:$W$501,6,0))","v":""},{"$f":"IF($A120=\"\",\"\",VLOOKUP($A120,INSCRITS!$D$4:$W$501,7,0))","v":""},{"$f":"IF($A120=\"\",\"\",VLOOKUP($A120,INSCRITS!$D$4:$W$501,8,0))","v":""},{"$f":"IF($A120=\"\",\"\",VLOOKUP($A120,INSCRITS!$D$4:$W$501,9,0))","v":""},{"$f":"IF($A120=\"\",\"\",VLOOKUP($A120,INSCRITS!$D$4:$W$506,10,0))","v":""},{"$f":"IF(ISNA(VLOOKUP($A120,SPRINT!AD$7:AJ$50,6,0)),\"\",VLOOKUP($A120,SPRINT!AD$7:AJ$50,6,0))","v":""},{"$f":"IF(ISNA(VLOOKUP($A120,SPRINT!AD$7:AJ$50,7,0)),\"\",VLOOKUP($A120,SPRINT!AD$7:AJ$50,7,0))","v":""},{"$f":"IF($A120=\"\",\"\",VLOOKUP($A120,INSCRITS!$D$4:$W$506,11,0))","v":""},{"$f":"IF(ISNA(VLOOKUP($A120,BATONS!AD$7:AJ$51,6,0)),\"\",VLOOKUP($A120,BATONS!AD$7:AJ$51,6,0))","v":""},{"$f":"IF(ISNA(VLOOKUP($A120,BATONS!AD$7:AJ$51,7,0)),\"\",VLOOKUP($A120,BATONS!AD$7:AJ$51,7,0))","v":""},{"$f":"IF($A120=\"\",\"\",VLOOKUP($A120,INSCRITS!$D$4:$W$506,12,0))","v":""},{"$f":"IF(ISNA(VLOOKUP($A120,PLANCHE!AC$7:AI$52,6,0)),\"\",VLOOKUP($A120,PLANCHE!AC$7:AI$52,6,0))","v":""},{"$f":"IF(ISNA(VLOOKUP($A120,PLANCHE!AC$7:AI$52,7,0)),\"\",VLOOKUP($A120,PLANCHE!AC$7:AI$52,7,0))","v":""},{"$f":"IF($A120=\"\",\"\",VLOOKUP($A120,INSCRITS!$D$4:$W$506,13,0))","v":""},{"$f":"IF(ISNA(VLOOKUP($A120,NAGE!N$7:T$52,6,0)),\"\",VLOOKUP($A120,NAGE!N$7:T$52,6,0))","v":""},{"$f":"IF(ISNA(VLOOKUP($A120,NAGE!N$7:T$52,7,0)),\"\",VLOOKUP($A120,NAGE!N$7:T$52,7,0))","v":""},{"$f":"IF($A120=\"\",\"\",VLOOKUP($A120,INSCRITS!$D$4:$W$506,14,0))","v":""},{"$f":"IF(ISNA(VLOOKUP($A120,SURFSKI!AC$8:AI$53,6,0)),\"\",VLOOKUP($A120,SURFSKI!AC$8:AI$53,6,0))","v":""},{"$f":"IF(ISNA(VLOOKUP($A120,SURFSKI!AC$8:AI$53,7,0)),\"\",VLOOKUP($A120,SURFSKI!AC$8:AI$53,7,0))","v":""},{"$f":"IF($A120=\"\",\"\",VLOOKUP($A120,INSCRITS!$D$4:$W$506,15,0))","v":""},{"$f":"IF(ISNA(VLOOKUP($A120,OCEANMAN!AC$7:AI$52,6,0)),\"\",VLOOKUP($A120,OCEANMAN!AC$7:AI$52,6,0))","v":""},{"$f":"IF(ISNA(VLOOKUP($A120,OCEANMAN!AC$7:AI$52,7,0)),\"\",VLOOKUP($A120,OCEANMAN!AC$7:AI$52,7,0))","v":""},{"$f":"IF($A120=\"\",\"\",VLOOKUP($A120,INSCRITS!$D$4:$W$506,16,0))","v":""},{"$f":"IF(ISNA(VLOOKUP($A120,CNC!N$7:AC$52,6,0)),\"\",VLOOKUP($A120,CNC!N$7:AC$52,6,0))","v":""},{"$f":"IF(ISNA(VLOOKUP($A120,CNC!N$7:AC$52,7,0)),\"\",VLOOKUP($A120,CNC!N$7:AC$52,7,0))","v":""},0,{"$f":"IF($A120=\"\",\"\",VLOOKUP($A120,INSCRITS!$D$4:$W$506,16,0))","v":""},null,{"$f":"IF(AG120=\"\",\"\",VLOOKUP(AG120,[0]!Relais,2))","v":""},{"$f":"IF($A120=\"\",\"\",VLOOKUP($A120,INSCRITS!$D$4:$W$506,17,0))","v":""},null,{"$f":"IF(AJ120=\"\",\"\",VLOOKUP(AJ120,[0]!Relais,2))","v":""},{"$f":"IF($A120=\"\",\"\",VLOOKUP($A120,INSCRITS!$D$4:$W$506,18,0))","v":""},null,{"$f":"IF(AM120=\"\",\"\",VLOOKUP(AM120,[0]!Relais,2))","v":""},{"$f":"IF($A120=\"\",\"\",VLOOKUP($A120,INSCRITS!$D$4:$W$506,19,0))","v":""},null,{"$f":"IF(AP120=\"\",\"\",VLOOKUP(AP120,[0]!Relais,2))","v":""},0,0]
[null,{"$f":"IF($A121=\"\",\"\",VLOOKUP($A121,INSCRITS!$D$4:$W$501,2,0))","v":""},{"$f":"IF($A121=\"\",\"\",VLOOKUP($A121,INSCRITS!$D$4:$W$501,3,0))","v":""},{"$f":"IF($A121=\"\",\"\",VLOOKUP($A121,INSCRITS!$D$4:$W$501,4,0))","v":""},{"$f":"IF($A121=\"\",\"\",VLOOKUP($A121,INSCRITS!$D$4:$W$501,5,0))","v":""},{"$f":"IF($A121=\"\",\"\",VLOOKUP($A121,INSCRITS!$D$4:$W$501,6,0))","v":""},{"$f":"IF($A121=\"\",\"\",VLOOKUP($A121,INSCRITS!$D$4:$W$501,7,0))","v":""},{"$f":"IF($A121=\"\",\"\",VLOOKUP($A121,INSCRITS!$D$4:$W$501,8,0))","v":""},{"$f":"IF($A121=\"\",\"\",VLOOKUP($A121,INSCRITS!$D$4:$W$501,9,0))","v":""},{"$f":"IF($A121=\"\",\"\",VLOOKUP($A121,INSCRITS!$D$4:$W$506,10,0))","v":""},{"$f":"IF(ISNA(VLOOKUP($A121,SPRINT!AD$7:AJ$50,6,0)),\"\",VLOOKUP($A121,SPRINT!AD$7:AJ$50,6,0))","v":""},{"$f":"IF(ISNA(VLOOKUP($A121,SPRINT!AD$7:AJ$50,7,0)),\"\",VLOOKUP($A121,SPRINT!AD$7:AJ$50,7,0))","v":""},{"$f":"IF($A121=\"\",\"\",VLOOKUP($A121,INSCRITS!$D$4:$W$506,11,0))","v":""},{"$f":"IF(ISNA(VLOOKUP($A121,BATONS!AD$7:AJ$51,6,0)),\"\",VLOOKUP($A121,BATONS!AD$7:AJ$51,6,0))","v":""},{"$f":"IF(ISNA(VLOOKUP($A121,BATONS!AD$7:AJ$51,7,0)),\"\",VLOOKUP($A121,BATONS!AD$7:AJ$51,7,0))","v":""},{"$f":"IF($A121=\"\",\"\",VLOOKUP($A121,INSCRITS!$D$4:$W$506,12,0))","v":""},{"$f":"IF(ISNA(VLOOKUP($A121,PLANCHE!AC$7:AI$52,6,0)),\"\",VLOOKUP($A121,PLANCHE!AC$7:AI$52,6,0))","v":""},{"$f":"IF(ISNA(VLOOKUP($A121,PLANCHE!AC$7:AI$52,7,0)),\"\",VLOOKUP($A121,PLANCHE!AC$7:AI$52,7,0))","v":""},{"$f":"IF($A121=\"\",\"\",VLOOKUP($A121,INSCRITS!$D$4:$W$506,13,0))","v":""},{"$f":"IF(ISNA(VLOOKUP($A121,NAGE!N$7:T$52,6,0)),\"\",VLOOKUP($A121,NAGE!N$7:T$52,6,0))","v":""},{"$f":"IF(ISNA(VLOOKUP($A121,NAGE!N$7:T$52,7,0)),\"\",VLOOKUP($A121,NAGE!N$7:T$52,7,0))","v":""},{"$f":"IF($A121=\"\",\"\",VLOOKUP($A121,INSCRITS!$D$4:$W$506,14,0))","v":""},{"$f":"IF(ISNA(VLOOKUP($A121,SURFSKI!AC$8:AI$53,6,0)),\"\",VLOOKUP($A121,SURFSKI!AC$8:AI$53,6,0))","v":""},{"$f":"IF(ISNA(VLOOKUP($A121,SURFSKI!AC$8:AI$53,7,0)),\"\",VLOOKUP($A121,SURFSKI!AC$8:AI$53,7,0))","v":""},{"$f":"IF($A121=\"\",\"\",VLOOKUP($A121,INSCRITS!$D$4:$W$506,15,0))","v":""},{"$f":"IF(ISNA(VLOOKUP($A121,OCEANMAN!AC$7:AI$52,6,0)),\"\",VLOOKUP($A121,OCEANMAN!AC$7:AI$52,6,0))","v":""},{"$f":"IF(ISNA(VLOOKUP($A121,OCEANMAN!AC$7:AI$52,7,0)),\"\",VLOOKUP($A121,OCEANMAN!AC$7:AI$52,7,0))","v":""},{"$f":"IF($A121=\"\",\"\",VLOOKUP($A121,INSCRITS!$D$4:$W$506,16,0))","v":""},{"$f":"IF(ISNA(VLOOKUP($A121,CNC!N$7:AC$52,6,0)),\"\",VLOOKUP($A121,CNC!N$7:AC$52,6,0))","v":""},{"$f":"IF(ISNA(VLOOKUP($A121,CNC!N$7:AC$52,7,0)),\"\",VLOOKUP($A121,CNC!N$7:AC$52,7,0))","v":""},{"$f":"SUM(L121,O121,R121,U121,X121,AA121)","v":0},{"$f":"IF($A121=\"\",\"\",VLOOKUP($A121,INSCRITS!$D$4:$W$506,16,0))","v":""},null,{"$f":"IF(AG121=\"\",\"\",VLOOKUP(AG121,[0]!Relais,2))","v":""},{"$f":"IF($A121=\"\",\"\",VLOOKUP($A121,INSCRITS!$D$4:$W$506,17,0))","v":""},null,{"$f":"IF(AJ121=\"\",\"\",VLOOKUP(AJ121,[0]!Relais,2))","v":""},{"$f":"IF($A121=\"\",\"\",VLOOKUP($A121,INSCRITS!$D$4:$W$506,18,0))","v":""},null,{"$f":"IF(AM121=\"\",\"\",VLOOKUP(AM121,[0]!Relais,2))","v":""},{"$f":"IF($A121=\"\",\"\",VLOOKUP($A121,INSCRITS!$D$4:$W$506,19,0))","v":""},null,{"$f":"IF(AP121=\"\",\"\",VLOOKUP(AP121,[0]!Relais,2))","v":""},0,0]
[null,{"$f":"IF($A122=\"\",\"\",VLOOKUP($A122,INSCRITS!$D$4:$W$501,2,0))","v":""},{"$f":"IF($A122=\"\",\"\",VLOOKUP($A122,INSCRITS!$D$4:$W$501,3,0))","v":""},{"$f":"IF($A122=\"\",\"\",VLOOKUP($A122,INSCRITS!$D$4:$W$501,4,0))","v":""},{"$f":"IF($A122=\"\",\"\",VLOOKUP($A122,INSCRITS!$D$4:$W$501,5,0))","v":""},{"$f":"IF($A122=\"\",\"\",VLOOKUP($A122,INSCRITS!$D$4:$W$501,6,0))","v":""},{"$f":"IF($A122=\"\",\"\",VLOOKUP($A122,INSCRITS!$D$4:$W$501,7,0))","v":""},{"$f":"IF($A122=\"\",\"\",VLOOKUP($A122,INSCRITS!$D$4:$W$501,8,0))","v":""},{"$f":"IF($A122=\"\",\"\",VLOOKUP($A122,INSCRITS!$D$4:$W$501,9,0))","v":""},{"$f":"IF($A122=\"\",\"\",VLOOKUP($A122,INSCRITS!$D$4:$W$506,10,0))","v":""},{"$f":"IF(ISNA(VLOOKUP($A122,SPRINT!AD$7:AJ$50,6,0)),\"\",VLOOKUP($A122,SPRINT!AD$7:AJ$50,6,0))","v":""},{"$f":"IF(ISNA(VLOOKUP($A122,SPRINT!AD$7:AJ$50,7,0)),\"\",VLOOKUP($A122,SPRINT!AD$7:AJ$50,7,0))","v":""},{"$f":"IF($A122=\"\",\"\",VLOOKUP($A122,INSCRITS!$D$4:$W$506,11,0))","v":""},{"$f":"IF(ISNA(VLOOKUP($A122,BATONS!AD$7:AJ$51,6,0)),\"\",VLOOKUP($A122,BATONS!AD$7:AJ$51,6,0))","v":""},{"$f":"IF(ISNA(VLOOKUP($A122,BATONS!AD$7:AJ$51,7,0)),\"\",VLOOKUP($A122,BATONS!AD$7:AJ$51,7,0))","v":""},{"$f":"IF($A122=\"\",\"\",VLOOKUP($A122,INSCRITS!$D$4:$W$506,12,0))","v":""},{"$f":"IF(ISNA(VLOOKUP($A122,PLANCHE!AC$7:AI$52,6,0)),\"\",VLOOKUP($A122,PLANCHE!AC$7:AI$52,6,0))","v":""},{"$f":"IF(ISNA(VLOOKUP($A122,PLANCHE!AC$7:AI$52,7,0)),\"\",VLOOKUP($A122,PLANCHE!AC$7:AI$52,7,0))","v":""},{"$f":"IF($A122=\"\",\"\",VLOOKUP($A122,INSCRITS!$D$4:$W$506,13,0))","v":""},{"$f":"IF(ISNA(VLOOKUP($A122,NAGE!N$7:T$52,6,0)),\"\",VLOOKUP($A122,NAGE!N$7:T$52,6,0))","v":""},{"$f":"IF(ISNA(VLOOKUP($A122,NAGE!N$7:T$52,7,0)),\"\",VLOOKUP($A122,NAGE!N$7:T$52,7,0))","v":""},{"$f":"IF($A122=\"\",\"\",VLOOKUP($A122,INSCRITS!$D$4:$W$506,14,0))","v":""},{"$f":"IF(ISNA(VLOOKUP($A122,SURFSKI!AC$8:AI$53,6,0)),\"\",VLOOKUP($A122,SURFSKI!AC$8:AI$53,6,0))","v":""},{"$f":"IF(ISNA(VLOOKUP($A122,SURFSKI!AC$8:AI$53,7,0)),\"\",VLOOKUP($A122,SURFSKI!AC$8:AI$53,7,0))","v":""},{"$f":"IF($A122=\"\",\"\",VLOOKUP($A122,INSCRITS!$D$4:$W$506,15,0))","v":""},{"$f":"IF(ISNA(VLOOKUP($A122,OCEANMAN!AC$7:AI$52,6,0)),\"\",VLOOKUP($A122,OCEANMAN!AC$7:AI$52,6,0))","v":""},{"$f":"IF(ISNA(VLOOKUP($A122,OCEANMAN!AC$7:AI$52,7,0)),\"\",VLOOKUP($A122,OCEANMAN!AC$7:AI$52,7,0))","v":""},{"$f":"IF($A122=\"\",\"\",VLOOKUP($A122,INSCRITS!$D$4:$W$506,16,0))","v":""},{"$f":"IF(ISNA(VLOOKUP($A122,CNC!N$7:AC$52,6,0)),\"\",VLOOKUP($A122,CNC!N$7:AC$52,6,0))","v":""},{"$f":"IF(ISNA(VLOOKUP($A122,CNC!N$7:AC$52,7,0)),\"\",VLOOKUP($A122,CNC!N$7:AC$52,7,0))","v":""},0,{"$f":"IF($A122=\"\",\"\",VLOOKUP($A122,INSCRITS!$D$4:$W$506,16,0))","v":""},null,{"$f":"IF(AG122=\"\",\"\",VLOOKUP(AG122,[0]!Relais,2))","v":""},{"$f":"IF($A122=\"\",\"\",VLOOKUP($A122,INSCRITS!$D$4:$W$506,17,0))","v":""},null,{"$f":"IF(AJ122=\"\",\"\",VLOOKUP(AJ122,[0]!Relais,2))","v":""},{"$f":"IF($A122=\"\",\"\",VLOOKUP($A122,INSCRITS!$D$4:$W$506,18,0))","v":""},null,{"$f":"IF(AM122=\"\",\"\",VLOOKUP(AM122,[0]!Relais,2))","v":""},{"$f":"IF($A122=\"\",\"\",VLOOKUP($A122,INSCRITS!$D$4:$W$506,19,0))","v":""},null,{"$f":"IF(AP122=\"\",\"\",VLOOKUP(AP122,[0]!Relais,2))","v":""},0,0]
[null,{"$f":"IF($A123=\"\",\"\",VLOOKUP($A123,INSCRITS!$D$4:$W$501,2,0))","v":""},{"$f":"IF($A123=\"\",\"\",VLOOKUP($A123,INSCRITS!$D$4:$W$501,3,0))","v":""},{"$f":"IF($A123=\"\",\"\",VLOOKUP($A123,INSCRITS!$D$4:$W$501,4,0))","v":""},{"$f":"IF($A123=\"\",\"\",VLOOKUP($A123,INSCRITS!$D$4:$W$501,5,0))","v":""},{"$f":"IF($A123=\"\",\"\",VLOOKUP($A123,INSCRITS!$D$4:$W$501,6,0))","v":""},{"$f":"IF($A123=\"\",\"\",VLOOKUP($A123,INSCRITS!$D$4:$W$501,7,0))","v":""},{"$f":"IF($A123=\"\",\"\",VLOOKUP($A123,INSCRITS!$D$4:$W$501,8,0))","v":""},{"$f":"IF($A123=\"\",\"\",VLOOKUP($A123,INSCRITS!$D$4:$W$501,9,0))","v":""},{"$f":"IF($A123=\"\",\"\",VLOOKUP($A123,INSCRITS!$D$4:$W$506,10,0))","v":""},{"$f":"IF(ISNA(VLOOKUP($A123,SPRINT!AD$7:AJ$50,6,0)),\"\",VLOOKUP($A123,SPRINT!AD$7:AJ$50,6,0))","v":""},{"$f":"IF(ISNA(VLOOKUP($A123,SPRINT!AD$7:AJ$50,7,0)),\"\",VLOOKUP($A123,SPRINT!AD$7:AJ$50,7,0))","v":""},{"$f":"IF($A123=\"\",\"\",VLOOKUP($A123,INSCRITS!$D$4:$W$506,11,0))","v":""},{"$f":"IF(ISNA(VLOOKUP($A123,BATONS!AD$7:AJ$51,6,0)),\"\",VLOOKUP($A123,BATONS!AD$7:AJ$51,6,0))","v":""},{"$f":"IF(ISNA(VLOOKUP($A123,BATONS!AD$7:AJ$51,7,0)),\"\",VLOOKUP($A123,BATONS!AD$7:AJ$51,7,0))","v":""},{"$f":"IF($A123=\"\",\"\",VLOOKUP($A123,INSCRITS!$D$4:$W$506,12,0))","v":""},{"$f":"IF(ISNA(VLOOKUP($A123,PLANCHE!AC$7:AI$52,6,0)),\"\",VLOOKUP($A123,PLANCHE!AC$7:AI$52,6,0))","v":""},{"$f":"IF(ISNA(VLOOKUP($A123,PLANCHE!AC$7:AI$52,7,0)),\"\",VLOOKUP($A123,PLANCHE!AC$7:AI$52,7,0))","v":""},{"$f":"IF($A123=\"\",\"\",VLOOKUP($A123,INSCRITS!$D$4:$W$506,13,0))","v":""},{"$f":"IF(ISNA(VLOOKUP($A123,NAGE!N$7:T$52,6,0)),\"\",VLOOKUP($A123,NAGE!N$7:T$52,6,0))","v":""},{"$f":"IF(ISNA(VLOOKUP($A123,NAGE!N$7:T$52,7,0)),\"\",VLOOKUP($A123,NAGE!N$7:T$52,7,0))","v":""},{"$f":"IF($A123=\"\",\"\",VLOOKUP($A123,INSCRITS!$D$4:$W$506,14,0))","v":""},{"$f":"IF(ISNA(VLOOKUP($A123,SURFSKI!AC$8:AI$53,6,0)),\"\",VLOOKUP($A123,SURFSKI!AC$8:AI$53,6,0))","v":""},{"$f":"IF(ISNA(VLOOKUP($A123,SURFSKI!AC$8:AI$53,7,0)),\"\",VLOOKUP($A123,SURFSKI!AC$8:AI$53,7,0))","v":""},{"$f":"IF($A123=\"\",\"\",VLOOKUP($A123,INSCRITS!$D$4:$W$506,15,0))","v":""},{"$f":"IF(ISNA(VLOOKUP($A123,OCEANMAN!AC$7:AI$52,6,0)),\"\",VLOOKUP($A123,OCEANMAN!AC$7:AI$52,6,0))","v":""},{"$f":"IF(ISNA(VLOOKUP($A123,OCEANMAN!AC$7:AI$52,7,0)),\"\",VLOOKUP($A123,OCEANMAN!AC$7:AI$52,7,0))","v":""},{"$f":"IF($A123=\"\",\"\",VLOOKUP($A123,INSCRITS!$D$4:$W$506,16,0))","v":""},{"$f":"IF(ISNA(VLOOKUP($A123,CNC!N$7:AC$52,6,0)),\"\",VLOOKUP($A123,CNC!N$7:AC$52,6,0))","v":""},{"$f":"IF(ISNA(VLOOKUP($A123,CNC!N$7:AC$52,7,0)),\"\",VLOOKUP($A123,CNC!N$7:AC$52,7,0))","v":""},0,{"$f":"IF($A123=\"\",\"\",VLOOKUP($A123,INSCRITS!$D$4:$W$506,16,0))","v":""},null,{"$f":"IF(AG123=\"\",\"\",VLOOKUP(AG123,[0]!Relais,2))","v":""},{"$f":"IF($A123=\"\",\"\",VLOOKUP($A123,INSCRITS!$D$4:$W$506,17,0))","v":""},null,{"$f":"IF(AJ123=\"\",\"\",VLOOKUP(AJ123,[0]!Relais,2))","v":""},{"$f":"IF($A123=\"\",\"\",VLOOKUP($A123,INSCRITS!$D$4:$W$506,18,0))","v":""},null,{"$f":"IF(AM123=\"\",\"\",VLOOKUP(AM123,[0]!Relais,2))","v":""},{"$f":"IF($A123=\"\",\"\",VLOOKUP($A123,INSCRITS!$D$4:$W$506,19,0))","v":""},null,{"$f":"IF(AP123=\"\",\"\",VLOOKUP(AP123,[0]!Relais,2))","v":""},0,0]
[null,{"$f":"IF($A124=\"\",\"\",VLOOKUP($A124,INSCRITS!$D$4:$W$501,2,0))","v":""},{"$f":"IF($A124=\"\",\"\",VLOOKUP($A124,INSCRITS!$D$4:$W$501,3,0))","v":""},{"$f":"IF($A124=\"\",\"\",VLOOKUP($A124,INSCRITS!$D$4:$W$501,4,0))","v":""},{"$f":"IF($A124=\"\",\"\",VLOOKUP($A124,INSCRITS!$D$4:$W$501,5,0))","v":""},{"$f":"IF($A124=\"\",\"\",VLOOKUP($A124,INSCRITS!$D$4:$W$501,6,0))","v":""},{"$f":"IF($A124=\"\",\"\",VLOOKUP($A124,INSCRITS!$D$4:$W$501,7,0))","v":""},{"$f":"IF($A124=\"\",\"\",VLOOKUP($A124,INSCRITS!$D$4:$W$501,8,0))","v":""},{"$f":"IF($A124=\"\",\"\",VLOOKUP($A124,INSCRITS!$D$4:$W$501,9,0))","v":""},{"$f":"IF($A124=\"\",\"\",VLOOKUP($A124,INSCRITS!$D$4:$W$506,10,0))","v":""},{"$f":"IF(ISNA(VLOOKUP($A124,SPRINT!AD$7:AJ$50,6,0)),\"\",VLOOKUP($A124,SPRINT!AD$7:AJ$50,6,0))","v":""},{"$f":"IF(ISNA(VLOOKUP($A124,SPRINT!AD$7:AJ$50,7,0)),\"\",VLOOKUP($A124,SPRINT!AD$7:AJ$50,7,0))","v":""},{"$f":"IF($A124=\"\",\"\",VLOOKUP($A124,INSCRITS!$D$4:$W$506,11,0))","v":""},{"$f":"IF(ISNA(VLOOKUP($A124,BATONS!AD$7:AJ$51,6,0)),\"\",VLOOKUP($A124,BATONS!AD$7:AJ$51,6,0))","v":""},{"$f":"IF(ISNA(VLOOKUP($A124,BATONS!AD$7:AJ$51,7,0)),\"\",VLOOKUP($A124,BATONS!AD$7:AJ$51,7,0))","v":""},{"$f":"IF($A124=\"\",\"\",VLOOKUP($A124,INSCRITS!$D$4:$W$506,12,0))","v":""},{"$f":"IF(ISNA(VLOOKUP($A124,PLANCHE!AC$7:AI$52,6,0)),\"\",VLOOKUP($A124,PLANCHE!AC$7:AI$52,6,0))","v":""},{"$f":"IF(ISNA(VLOOKUP($A124,PLANCHE!AC$7:AI$52,7,0)),\"\",VLOOKUP($A124,PLANCHE!AC$7:AI$52,7,0))","v":""},{"$f":"IF($A124=\"\",\"\",VLOOKUP($A124,INSCRITS!$D$4:$W$506,13,0))","v":""},{"$f":"IF(ISNA(VLOOKUP($A124,NAGE!N$7:T$52,6,0)),\"\",VLOOKUP($A124,NAGE!N$7:T$52,6,0))","v":""},{"$f":"IF(ISNA(VLOOKUP($A124,NAGE!N$7:T$52,7,0)),\"\",VLOOKUP($A124,NAGE!N$7:T$52,7,0))","v":""},{"$f":"IF($A124=\"\",\"\",VLOOKUP($A124,INSCRITS!$D$4:$W$506,14,0))","v":""},{"$f":"IF(ISNA(VLOOKUP($A124,SURFSKI!AC$8:AI$53,6,0)),\"\",VLOOKUP($A124,SURFSKI!AC$8:AI$53,6,0))","v":""},{"$f":"IF(ISNA(VLOOKUP($A124,SURFSKI!AC$8:AI$53,7,0)),\"\",VLOOKUP($A124,SURFSKI!AC$8:AI$53,7,0))","v":""},{"$f":"IF($A124=\"\",\"\",VLOOKUP($A124,INSCRITS!$D$4:$W$506,15,0))","v":""},{"$f":"IF(ISNA(VLOOKUP($A124,OCEANMAN!AC$7:AI$52,6,0)),\"\",VLOOKUP($A124,OCEANMAN!AC$7:AI$52,6,0))","v":""},{"$f":"IF(ISNA(VLOOKUP($A124,OCEANMAN!AC$7:AI$52,7,0)),\"\",VLOOKUP($A124,OCEANMAN!AC$7:AI$52,7,0))","v":""},{"$f":"IF($A124=\"\",\"\",VLOOKUP($A124,INSCRITS!$D$4:$W$506,16,0))","v":""},{"$f":"IF(ISNA(VLOOKUP($A124,CNC!N$7:AC$52,6,0)),\"\",VLOOKUP($A124,CNC!N$7:AC$52,6,0))","v":""},{"$f":"IF(ISNA(VLOOKUP($A124,CNC!N$7:AC$52,7,0)),\"\",VLOOKUP($A124,CNC!N$7:AC$52,7,0))","v":""},0,{"$f":"IF($A124=\"\",\"\",VLOOKUP($A124,INSCRITS!$D$4:$W$506,16,0))","v":""},null,{"$f":"IF(AG124=\"\",\"\",VLOOKUP(AG124,[0]!Relais,2))","v":""},{"$f":"IF($A124=\"\",\"\",VLOOKUP($A124,INSCRITS!$D$4:$W$506,17,0))","v":""},null,{"$f":"IF(AJ124=\"\",\"\",VLOOKUP(AJ124,[0]!Relais,2))","v":""},{"$f":"IF($A124=\"\",\"\",VLOOKUP($A124,INSCRITS!$D$4:$W$506,18,0))","v":""},null,{"$f":"IF(AM124=\"\",\"\",VLOOKUP(AM124,[0]!Relais,2))","v":""},{"$f":"IF($A124=\"\",\"\",VLOOKUP($A124,INSCRITS!$D$4:$W$506,19,0))","v":""},null,{"$f":"IF(AP124=\"\",\"\",VLOOKUP(AP124,[0]!Relais,2))","v":""},0,0]
[null,{"$f":"IF($A125=\"\",\"\",VLOOKUP($A125,INSCRITS!$D$4:$W$501,2,0))","v":""},{"$f":"IF($A125=\"\",\"\",VLOOKUP($A125,INSCRITS!$D$4:$W$501,3,0))","v":""},{"$f":"IF($A125=\"\",\"\",VLOOKUP($A125,INSCRITS!$D$4:$W$501,4,0))","v":""},{"$f":"IF($A125=\"\",\"\",VLOOKUP($A125,INSCRITS!$D$4:$W$501,5,0))","v":""},{"$f":"IF($A125=\"\",\"\",VLOOKUP($A125,INSCRITS!$D$4:$W$501,6,0))","v":""},{"$f":"IF($A125=\"\",\"\",VLOOKUP($A125,INSCRITS!$D$4:$W$501,7,0))","v":""},{"$f":"IF($A125=\"\",\"\",VLOOKUP($A125,INSCRITS!$D$4:$W$501,8,0))","v":""},{"$f":"IF($A125=\"\",\"\",VLOOKUP($A125,INSCRITS!$D$4:$W$501,9,0))","v":""},{"$f":"IF($A125=\"\",\"\",VLOOKUP($A125,INSCRITS!$D$4:$W$506,10,0))","v":""},{"$f":"IF(ISNA(VLOOKUP($A125,SPRINT!AD$7:AJ$50,6,0)),\"\",VLOOKUP($A125,SPRINT!AD$7:AJ$50,6,0))","v":""},{"$f":"IF(ISNA(VLOOKUP($A125,SPRINT!AD$7:AJ$50,7,0)),\"\",VLOOKUP($A125,SPRINT!AD$7:AJ$50,7,0))","v":""},{"$f":"IF($A125=\"\",\"\",VLOOKUP($A125,INSCRITS!$D$4:$W$506,11,0))","v":""},{"$f":"IF(ISNA(VLOOKUP($A125,BATONS!AD$7:AJ$51,6,0)),\"\",VLOOKUP($A125,BATONS!AD$7:AJ$51,6,0))","v":""},{"$f":"IF(ISNA(VLOOKUP($A125,BATONS!AD$7:AJ$51,7,0)),\"\",VLOOKUP($A125,BATONS!AD$7:AJ$51,7,0))","v":""},{"$f":"IF($A125=\"\",\"\",VLOOKUP($A125,INSCRITS!$D$4:$W$506,12,0))","v":""},{"$f":"IF(ISNA(VLOOKUP($A125,PLANCHE!AC$7:AI$52,6,0)),\"\",VLOOKUP($A125,PLANCHE!AC$7:AI$52,6,0))","v":""},{"$f":"IF(ISNA(VLOOKUP($A125,PLANCHE!AC$7:AI$52,7,0)),\"\",VLOOKUP($A125,PLANCHE!AC$7:AI$52,7,0))","v":""},{"$f":"IF($A125=\"\",\"\",VLOOKUP($A125,INSCRITS!$D$4:$W$506,13,0))","v":""},{"$f":"IF(ISNA(VLOOKUP($A125,NAGE!N$7:T$52,6,0)),\"\",VLOOKUP($A125,NAGE!N$7:T$52,6,0))","v":""},{"$f":"IF(ISNA(VLOOKUP($A125,NAGE!N$7:T$52,7,0)),\"\",VLOOKUP($A125,NAGE!N$7:T$52,7,0))","v":""},{"$f":"IF($A125=\"\",\"\",VLOOKUP($A125,INSCRITS!$D$4:$W$506,14,0))","v":""},{"$f":"IF(ISNA(VLOOKUP($A125,SURFSKI!AC$8:AI$53,6,0)),\"\",VLOOKUP($A125,SURFSKI!AC$8:AI$53,6,0))","v":""},{"$f":"IF(ISNA(VLOOKUP($A125,SURFSKI!AC$8:AI$53,7,0)),\"\",VLOOKUP($A125,SURFSKI!AC$8:AI$53,7,0))","v":""},{"$f":"IF($A125=\"\",\"\",VLOOKUP($A125,INSCRITS!$D$4:$W$506,15,0))","v":""},{"$f":"IF(ISNA(VLOOKUP($A125,OCEANMAN!AC$7:AI$52,6,0)),\"\",VLOOKUP($A125,OCEANMAN!AC$7:AI$52,6,0))","v":""},{"$f":"IF(ISNA(VLOOKUP($A125,OCEANMAN!AC$7:AI$52,7,0)),\"\",VLOOKUP($A125,OCEANMAN!AC$7:AI$52,7,0))","v":""},{"$f":"IF($A125=\"\",\"\",VLOOKUP($A125,INSCRITS!$D$4:$W$506,16,0))","v":""},{"$f":"IF(ISNA(VLOOKUP($A125,CNC!N$7:AC$52,6,0)),\"\",VLOOKUP($A125,CNC!N$7:AC$52,6,0))","v":""},{"$f":"IF(ISNA(VLOOKUP($A125,CNC!N$7:AC$52,7,0)),\"\",VLOOKUP($A125,CNC!N$7:AC$52,7,0))","v":""},0,{"$f":"IF($A125=\"\",\"\",VLOOKUP($A125,INSCRITS!$D$4:$W$506,16,0))","v":""},null,{"$f":"IF(AG125=\"\",\"\",VLOOKUP(AG125,[0]!Relais,2))","v":""},{"$f":"IF($A125=\"\",\"\",VLOOKUP($A125,INSCRITS!$D$4:$W$506,17,0))","v":""},null,{"$f":"IF(AJ125=\"\",\"\",VLOOKUP(AJ125,[0]!Relais,2))","v":""},{"$f":"IF($A125=\"\",\"\",VLOOKUP($A125,INSCRITS!$D$4:$W$506,18,0))","v":""},null,{"$f":"IF(AM125=\"\",\"\",VLOOKUP(AM125,[0]!Relais,2))","v":""},{"$f":"IF($A125=\"\",\"\",VLOOKUP($A125,INSCRITS!$D$4:$W$506,19,0))","v":""},null,{"$f":"IF(AP125=\"\",\"\",VLOOKUP(AP125,[0]!Relais,2))","v":""},0,0]
[null,{"$f":"IF($A126=\"\",\"\",VLOOKUP($A126,INSCRITS!$D$4:$W$501,2,0))","v":""},{"$f":"IF($A126=\"\",\"\",VLOOKUP($A126,INSCRITS!$D$4:$W$501,3,0))","v":""},{"$f":"IF($A126=\"\",\"\",VLOOKUP($A126,INSCRITS!$D$4:$W$501,4,0))","v":""},{"$f":"IF($A126=\"\",\"\",VLOOKUP($A126,INSCRITS!$D$4:$W$501,5,0))","v":""},{"$f":"IF($A126=\"\",\"\",VLOOKUP($A126,INSCRITS!$D$4:$W$501,6,0))","v":""},{"$f":"IF($A126=\"\",\"\",VLOOKUP($A126,INSCRITS!$D$4:$W$501,7,0))","v":""},{"$f":"IF($A126=\"\",\"\",VLOOKUP($A126,INSCRITS!$D$4:$W$501,8,0))","v":""},{"$f":"IF($A126=\"\",\"\",VLOOKUP($A126,INSCRITS!$D$4:$W$501,9,0))","v":""},{"$f":"IF($A126=\"\",\"\",VLOOKUP($A126,INSCRITS!$D$4:$W$506,10,0))","v":""},{"$f":"IF(ISNA(VLOOKUP($A126,SPRINT!AD$7:AJ$50,6,0)),\"\",VLOOKUP($A126,SPRINT!AD$7:AJ$50,6,0))","v":""},{"$f":"IF(ISNA(VLOOKUP($A126,SPRINT!AD$7:AJ$50,7,0)),\"\",VLOOKUP($A126,SPRINT!AD$7:AJ$50,7,0))","v":""},{"$f":"IF($A126=\"\",\"\",VLOOKUP($A126,INSCRITS!$D$4:$W$506,11,0))","v":""},{"$f":"IF(ISNA(VLOOKUP($A126,BATONS!AD$7:AJ$51,6,0)),\"\",VLOOKUP($A126,BATONS!AD$7:AJ$51,6,0))","v":""},{"$f":"IF(ISNA(VLOOKUP($A126,BATONS!AD$7:AJ$51,7,0)),\"\",VLOOKUP($A126,BATONS!AD$7:AJ$51,7,0))","v":""},{"$f":"IF($A126=\"\",\"\",VLOOKUP($A126,INSCRITS!$D$4:$W$506,12,0))","v":""},{"$f":"IF(ISNA(VLOOKUP($A126,PLANCHE!AC$7:AI$52,6,0)),\"\",VLOOKUP($A126,PLANCHE!AC$7:AI$52,6,0))","v":""},{"$f":"IF(ISNA(VLOOKUP($A126,PLANCHE!AC$7:AI$52,7,0)),\"\",VLOOKUP($A126,PLANCHE!AC$7:AI$52,7,0))","v":""},{"$f":"IF($A126=\"\",\"\",VLOOKUP($A126,INSCRITS!$D$4:$W$506,13,0))","v":""},{"$f":"IF(ISNA(VLOOKUP($A126,NAGE!N$7:T$52,6,0)),\"\",VLOOKUP($A126,NAGE!N$7:T$52,6,0))","v":""},{"$f":"IF(ISNA(VLOOKUP($A126,NAGE!N$7:T$52,7,0)),\"\",VLOOKUP($A126,NAGE!N$7:T$52,7,0))","v":""},{"$f":"IF($A126=\"\",\"\",VLOOKUP($A126,INSCRITS!$D$4:$W$506,14,0))","v":""},{"$f":"IF(ISNA(VLOOKUP($A126,SURFSKI!AC$8:AI$53,6,0)),\"\",VLOOKUP($A126,SURFSKI!AC$8:AI$53,6,0))","v":""},{"$f":"IF(ISNA(VLOOKUP($A126,SURFSKI!AC$8:AI$53,7,0)),\"\",VLOOKUP($A126,SURFSKI!AC$8:AI$53,7,0))","v":""},{"$f":"IF($A126=\"\",\"\",VLOOKUP($A126,INSCRITS!$D$4:$W$506,15,0))","v":""},{"$f":"IF(ISNA(VLOOKUP($A126,OCEANMAN!AC$7:AI$52,6,0)),\"\",VLOOKUP($A126,OCEANMAN!AC$7:AI$52,6,0))","v":""},{"$f":"IF(ISNA(VLOOKUP($A126,OCEANMAN!AC$7:AI$52,7,0)),\"\",VLOOKUP($A126,OCEANMAN!AC$7:AI$52,7,0))","v":""},{"$f":"IF($A126=\"\",\"\",VLOOKUP($A126,INSCRITS!$D$4:$W$506,16,0))","v":""},{"$f":"IF(ISNA(VLOOKUP($A126,CNC!N$7:AC$52,6,0)),\"\",VLOOKUP($A126,CNC!N$7:AC$52,6,0))","v":""},{"$f":"IF(ISNA(VLOOKUP($A126,CNC!N$7:AC$52,7,0)),\"\",VLOOKUP($A126,CNC!N$7:AC$52,7,0))","v":""},0,{"$f":"IF($A126=\"\",\"\",VLOOKUP($A126,INSCRITS!$D$4:$W$506,16,0))","v":""},null,{"$f":"IF(AG126=\"\",\"\",VLOOKUP(AG126,[0]!Relais,2))","v":""},{"$f":"IF($A126=\"\",\"\",VLOOKUP($A126,INSCRITS!$D$4:$W$506,17,0))","v":""},null,{"$f":"IF(AJ126=\"\",\"\",VLOOKUP(AJ126,[0]!Relais,2))","v":""},{"$f":"IF($A126=\"\",\"\",VLOOKUP($A126,INSCRITS!$D$4:$W$506,18,0))","v":""},null,{"$f":"IF(AM126=\"\",\"\",VLOOKUP(AM126,[0]!Relais,2))","v":""},{"$f":"IF($A126=\"\",\"\",VLOOKUP($A126,INSCRITS!$D$4:$W$506,19,0))","v":""},null,{"$f":"IF(AP126=\"\",\"\",VLOOKUP(AP126,[0]!Relais,2))","v":""},0,0]
[null,{"$f":"IF($A127=\"\",\"\",VLOOKUP($A127,INSCRITS!$D$4:$W$501,2,0))","v":""},{"$f":"IF($A127=\"\",\"\",VLOOKUP($A127,INSCRITS!$D$4:$W$501,3,0))","v":""},{"$f":"IF($A127=\"\",\"\",VLOOKUP($A127,INSCRITS!$D$4:$W$501,4,0))","v":""},{"$f":"IF($A127=\"\",\"\",VLOOKUP($A127,INSCRITS!$D$4:$W$501,5,0))","v":""},{"$f":"IF($A127=\"\",\"\",VLOOKUP($A127,INSCRITS!$D$4:$W$501,6,0))","v":""},{"$f":"IF($A127=\"\",\"\",VLOOKUP($A127,INSCRITS!$D$4:$W$501,7,0))","v":""},{"$f":"IF($A127=\"\",\"\",VLOOKUP($A127,INSCRITS!$D$4:$W$501,8,0))","v":""},{"$f":"IF($A127=\"\",\"\",VLOOKUP($A127,INSCRITS!$D$4:$W$501,9,0))","v":""},{"$f":"IF($A127=\"\",\"\",VLOOKUP($A127,INSCRITS!$D$4:$W$506,10,0))","v":""},{"$f":"IF(ISNA(VLOOKUP($A127,SPRINT!AD$7:AJ$50,6,0)),\"\",VLOOKUP($A127,SPRINT!AD$7:AJ$50,6,0))","v":""},{"$f":"IF(ISNA(VLOOKUP($A127,SPRINT!AD$7:AJ$50,7,0)),\"\",VLOOKUP($A127,SPRINT!AD$7:AJ$50,7,0))","v":""},{"$f":"IF($A127=\"\",\"\",VLOOKUP($A127,INSCRITS!$D$4:$W$506,11,0))","v":""},{"$f":"IF(ISNA(VLOOKUP($A127,BATONS!AD$7:AJ$51,6,0)),\"\",VLOOKUP($A127,BATONS!AD$7:AJ$51,6,0))","v":""},{"$f":"IF(ISNA(VLOOKUP($A127,BATONS!AD$7:AJ$51,7,0)),\"\",VLOOKUP($A127,BATONS!AD$7:AJ$51,7,0))","v":""},{"$f":"IF($A127=\"\",\"\",VLOOKUP($A127,INSCRITS!$D$4:$W$506,12,0))","v":""},{"$f":"IF(ISNA(VLOOKUP($A127,PLANCHE!AC$7:AI$52,6,0)),\"\",VLOOKUP($A127,PLANCHE!AC$7:AI$52,6,0))","v":""},{"$f":"IF(ISNA(VLOOKUP($A127,PLANCHE!AC$7:AI$52,7,0)),\"\",VLOOKUP($A127,PLANCHE!AC$7:AI$52,7,0))","v":""},{"$f":"IF($A127=\"\",\"\",VLOOKUP($A127,INSCRITS!$D$4:$W$506,13,0))","v":""},{"$f":"IF(ISNA(VLOOKUP($A127,NAGE!N$7:T$52,6,0)),\"\",VLOOKUP($A127,NAGE!N$7:T$52,6,0))","v":""},{"$f":"IF(ISNA(VLOOKUP($A127,NAGE!N$7:T$52,7,0)),\"\",VLOOKUP($A127,NAGE!N$7:T$52,7,0))","v":""},{"$f":"IF($A127=\"\",\"\",VLOOKUP($A127,INSCRITS!$D$4:$W$506,14,0))","v":""},{"$f":"IF(ISNA(VLOOKUP($A127,SURFSKI!AC$8:AI$53,6,0)),\"\",VLOOKUP($A127,SURFSKI!AC$8:AI$53,6,0))","v":""},{"$f":"IF(ISNA(VLOOKUP($A127,SURFSKI!AC$8:AI$53,7,0)),\"\",VLOOKUP($A127,SURFSKI!AC$8:AI$53,7,0))","v":""},{"$f":"IF($A127=\"\",\"\",VLOOKUP($A127,INSCRITS!$D$4:$W$506,15,0))","v":""},{"$f":"IF(ISNA(VLOOKUP($A127,OCEANMAN!AC$7:AI$52,6,0)),\"\",VLOOKUP($A127,OCEANMAN!AC$7:AI$52,6,0))","v":""},{"$f":"IF(ISNA(VLOOKUP($A127,OCEANMAN!AC$7:AI$52,7,0)),\"\",VLOOKUP($A127,OCEANMAN!AC$7:AI$52,7,0))","v":""},{"$f":"IF($A127=\"\",\"\",VLOOKUP($A127,INSCRITS!$D$4:$W$506,16,0))","v":""},{"$f":"IF(ISNA(VLOOKUP($A127,CNC!N$7:AC$52,6,0)),\"\",VLOOKUP($A127,CNC!N$7:AC$52,6,0))","v":""},{"$f":"IF(ISNA(VLOOKUP($A127,CNC!N$7:AC$52,7,0)),\"\",VLOOKUP($A127,CNC!N$7:AC$52,7,0))","v":""},0,{"$f":"IF($A127=\"\",\"\",VLOOKUP($A127,INSCRITS!$D$4:$W$506,16,0))","v":""},null,{"$f":"IF(AG127=\"\",\"\",VLOOKUP(AG127,[0]!Relais,2))","v":""},{"$f":"IF($A127=\"\",\"\",VLOOKUP($A127,INSCRITS!$D$4:$W$506,17,0))","v":""},null,{"$f":"IF(AJ127=\"\",\"\",VLOOKUP(AJ127,[0]!Relais,2))","v":""},{"$f":"IF($A127=\"\",\"\",VLOOKUP($A127,INSCRITS!$D$4:$W$506,18,0))","v":""},null,{"$f":"IF(AM127=\"\",\"\",VLOOKUP(AM127,[0]!Relais,2))","v":""},{"$f":"IF($A127=\"\",\"\",VLOOKUP($A127,INSCRITS!$D$4:$W$506,19,0))","v":""},null,{"$f":"IF(AP127=\"\",\"\",VLOOKUP(AP127,[0]!Relais,2))","v":""},0,0]
[null,{"$f":"IF($A128=\"\",\"\",VLOOKUP($A128,INSCRITS!$D$4:$W$501,2,0))","v":""},{"$f":"IF($A128=\"\",\"\",VLOOKUP($A128,INSCRITS!$D$4:$W$501,3,0))","v":""},{"$f":"IF($A128=\"\",\"\",VLOOKUP($A128,INSCRITS!$D$4:$W$501,4,0))","v":""},{"$f":"IF($A128=\"\",\"\",VLOOKUP($A128,INSCRITS!$D$4:$W$501,5,0))","v":""},{"$f":"IF($A128=\"\",\"\",VLOOKUP($A128,INSCRITS!$D$4:$W$501,6,0))","v":""},{"$f":"IF($A128=\"\",\"\",VLOOKUP($A128,INSCRITS!$D$4:$W$501,7,0))","v":""},{"$f":"IF($A128=\"\",\"\",VLOOKUP($A128,INSCRITS!$D$4:$W$501,8,0))","v":""},{"$f":"IF($A128=\"\",\"\",VLOOKUP($A128,INSCRITS!$D$4:$W$501,9,0))","v":""},{"$f":"IF($A128=\"\",\"\",VLOOKUP($A128,INSCRITS!$D$4:$W$506,10,0))","v":""},{"$f":"IF(ISNA(VLOOKUP($A128,SPRINT!AD$7:AJ$50,6,0)),\"\",VLOOKUP($A128,SPRINT!AD$7:AJ$50,6,0))","v":""},{"$f":"IF(ISNA(VLOOKUP($A128,SPRINT!AD$7:AJ$50,7,0)),\"\",VLOOKUP($A128,SPRINT!AD$7:AJ$50,7,0))","v":""},{"$f":"IF($A128=\"\",\"\",VLOOKUP($A128,INSCRITS!$D$4:$W$506,11,0))","v":""},{"$f":"IF(ISNA(VLOOKUP($A128,BATONS!AD$7:AJ$51,6,0)),\"\",VLOOKUP($A128,BATONS!AD$7:AJ$51,6,0))","v":""},{"$f":"IF(ISNA(VLOOKUP($A128,BATONS!AD$7:AJ$51,7,0)),\"\",VLOOKUP($A128,BATONS!AD$7:AJ$51,7,0))","v":""},{"$f":"IF($A128=\"\",\"\",VLOOKUP($A128,INSCRITS!$D$4:$W$506,12,0))","v":""},{"$f":"IF(ISNA(VLOOKUP($A128,PLANCHE!AC$7:AI$52,6,0)),\"\",VLOOKUP($A128,PLANCHE!AC$7:AI$52,6,0))","v":""},{"$f":"IF(ISNA(VLOOKUP($A128,PLANCHE!AC$7:AI$52,7,0)),\"\",VLOOKUP($A128,PLANCHE!AC$7:AI$52,7,0))","v":""},{"$f":"IF($A128=\"\",\"\",VLOOKUP($A128,INSCRITS!$D$4:$W$506,13,0))","v":""},{"$f":"IF(ISNA(VLOOKUP($A128,NAGE!N$7:T$52,6,0)),\"\",VLOOKUP($A128,NAGE!N$7:T$52,6,0))","v":""},{"$f":"IF(ISNA(VLOOKUP($A128,NAGE!N$7:T$52,7,0)),\"\",VLOOKUP($A128,NAGE!N$7:T$52,7,0))","v":""},{"$f":"IF($A128=\"\",\"\",VLOOKUP($A128,INSCRITS!$D$4:$W$506,14,0))","v":""},{"$f":"IF(ISNA(VLOOKUP($A128,SURFSKI!AC$8:AI$53,6,0)),\"\",VLOOKUP($A128,SURFSKI!AC$8:AI$53,6,0))","v":""},{"$f":"IF(ISNA(VLOOKUP($A128,SURFSKI!AC$8:AI$53,7,0)),\"\",VLOOKUP($A128,SURFSKI!AC$8:AI$53,7,0))","v":""},{"$f":"IF($A128=\"\",\"\",VLOOKUP($A128,INSCRITS!$D$4:$W$506,15,0))","v":""},{"$f":"IF(ISNA(VLOOKUP($A128,OCEANMAN!AC$7:AI$52,6,0)),\"\",VLOOKUP($A128,OCEANMAN!AC$7:AI$52,6,0))","v":""},{"$f":"IF(ISNA(VLOOKUP($A128,OCEANMAN!AC$7:AI$52,7,0)),\"\",VLOOKUP($A128,OCEANMAN!AC$7:AI$52,7,0))","v":""},{"$f":"IF($A128=\"\",\"\",VLOOKUP($A128,INSCRITS!$D$4:$W$506,16,0))","v":""},{"$f":"IF(ISNA(VLOOKUP($A128,CNC!N$7:AC$52,6,0)),\"\",VLOOKUP($A128,CNC!N$7:AC$52,6,0))","v":""},{"$f":"IF(ISNA(VLOOKUP($A128,CNC!N$7:AC$52,7,0)),\"\",VLOOKUP($A128,CNC!N$7:AC$52,7,0))","v":""},0,{"$f":"IF($A128=\"\",\"\",VLOOKUP($A128,INSCRITS!$D$4:$W$506,16,0))","v":""},null,{"$f":"IF(AG128=\"\",\"\",VLOOKUP(AG128,[0]!Relais,2))","v":""},{"$f":"IF($A128=\"\",\"\",VLOOKUP($A128,INSCRITS!$D$4:$W$506,17,0))","v":""},null,{"$f":"IF(AJ128=\"\",\"\",VLOOKUP(AJ128,[0]!Relais,2))","v":""},{"$f":"IF($A128=\"\",\"\",VLOOKUP($A128,INSCRITS!$D$4:$W$506,18,0))","v":""},null,{"$f":"IF(AM128=\"\",\"\",VLOOKUP(AM128,[0]!Relais,2))","v":""},{"$f":"IF($A128=\"\",\"\",VLOOKUP($A128,INSCRITS!$D$4:$W$506,19,0))","v":""},null,{"$f":"IF(AP128=\"\",\"\",VLOOKUP(AP128,[0]!Relais,2))","v":""},0,0]
[null,{"$f":"IF($A129=\"\",\"\",VLOOKUP($A129,INSCRITS!$D$4:$W$501,2,0))","v":""},{"$f":"IF($A129=\"\",\"\",VLOOKUP($A129,INSCRITS!$D$4:$W$501,3,0))","v":""},{"$f":"IF($A129=\"\",\"\",VLOOKUP($A129,INSCRITS!$D$4:$W$501,4,0))","v":""},{"$f":"IF($A129=\"\",\"\",VLOOKUP($A129,INSCRITS!$D$4:$W$501,5,0))","v":""},{"$f":"IF($A129=\"\",\"\",VLOOKUP($A129,INSCRITS!$D$4:$W$501,6,0))","v":""},{"$f":"IF($A129=\"\",\"\",VLOOKUP($A129,INSCRITS!$D$4:$W$501,7,0))","v":""},{"$f":"IF($A129=\"\",\"\",VLOOKUP($A129,INSCRITS!$D$4:$W$501,8,0))","v":""},{"$f":"IF($A129=\"\",\"\",VLOOKUP($A129,INSCRITS!$D$4:$W$501,9,0))","v":""},{"$f":"IF($A129=\"\",\"\",VLOOKUP($A129,INSCRITS!$D$4:$W$506,10,0))","v":""},{"$f":"IF(ISNA(VLOOKUP($A129,SPRINT!AD$7:AJ$50,6,0)),\"\",VLOOKUP($A129,SPRINT!AD$7:AJ$50,6,0))","v":""},{"$f":"IF(ISNA(VLOOKUP($A129,SPRINT!AD$7:AJ$50,7,0)),\"\",VLOOKUP($A129,SPRINT!AD$7:AJ$50,7,0))","v":""},{"$f":"IF($A129=\"\",\"\",VLOOKUP($A129,INSCRITS!$D$4:$W$506,11,0))","v":""},{"$f":"IF(ISNA(VLOOKUP($A129,BATONS!AD$7:AJ$51,6,0)),\"\",VLOOKUP($A129,BATONS!AD$7:AJ$51,6,0))","v":""},{"$f":"IF(ISNA(VLOOKUP($A129,BATONS!AD$7:AJ$51,7,0)),\"\",VLOOKUP($A129,BATONS!AD$7:AJ$51,7,0))","v":""},{"$f":"IF($A129=\"\",\"\",VLOOKUP($A129,INSCRITS!$D$4:$W$506,12,0))","v":""},{"$f":"IF(ISNA(VLOOKUP($A129,PLANCHE!AC$7:AI$52,6,0)),\"\",VLOOKUP($A129,PLANCHE!AC$7:AI$52,6,0))","v":""},{"$f":"IF(ISNA(VLOOKUP($A129,PLANCHE!AC$7:AI$52,7,0)),\"\",VLOOKUP($A129,PLANCHE!AC$7:AI$52,7,0))","v":""},{"$f":"IF($A129=\"\",\"\",VLOOKUP($A129,INSCRITS!$D$4:$W$506,13,0))","v":""},{"$f":"IF(ISNA(VLOOKUP($A129,NAGE!N$7:T$52,6,0)),\"\",VLOOKUP($A129,NAGE!N$7:T$52,6,0))","v":""},{"$f":"IF(ISNA(VLOOKUP($A129,NAGE!N$7:T$52,7,0)),\"\",VLOOKUP($A129,NAGE!N$7:T$52,7,0))","v":""},{"$f":"IF($A129=\"\",\"\",VLOOKUP($A129,INSCRITS!$D$4:$W$506,14,0))","v":""},{"$f":"IF(ISNA(VLOOKUP($A129,SURFSKI!AC$8:AI$53,6,0)),\"\",VLOOKUP($A129,SURFSKI!AC$8:AI$53,6,0))","v":""},{"$f":"IF(ISNA(VLOOKUP($A129,SURFSKI!AC$8:AI$53,7,0)),\"\",VLOOKUP($A129,SURFSKI!AC$8:AI$53,7,0))","v":""},{"$f":"IF($A129=\"\",\"\",VLOOKUP($A129,INSCRITS!$D$4:$W$506,15,0))","v":""},{"$f":"IF(ISNA(VLOOKUP($A129,OCEANMAN!AC$7:AI$52,6,0)),\"\",VLOOKUP($A129,OCEANMAN!AC$7:AI$52,6,0))","v":""},{"$f":"IF(ISNA(VLOOKUP($A129,OCEANMAN!AC$7:AI$52,7,0)),\"\",VLOOKUP($A129,OCEANMAN!AC$7:AI$52,7,0))","v":""},{"$f":"IF($A129=\"\",\"\",VLOOKUP($A129,INSCRITS!$D$4:$W$506,16,0))","v":""},{"$f":"IF(ISNA(VLOOKUP($A129,CNC!N$7:AC$52,6,0)),\"\",VLOOKUP($A129,CNC!N$7:AC$52,6,0))","v":""},{"$f":"IF(ISNA(VLOOKUP($A129,CNC!N$7:AC$52,7,0)),\"\",VLOOKUP($A129,CNC!N$7:AC$52,7,0))","v":""},0,{"$f":"IF($A129=\"\",\"\",VLOOKUP($A129,INSCRITS!$D$4:$W$506,16,0))","v":""},null,{"$f":"IF(AG129=\"\",\"\",VLOOKUP(AG129,[0]!Relais,2))","v":""},{"$f":"IF($A129=\"\",\"\",VLOOKUP($A129,INSCRITS!$D$4:$W$506,17,0))","v":""},null,{"$f":"IF(AJ129=\"\",\"\",VLOOKUP(AJ129,[0]!Relais,2))","v":""},{"$f":"IF($A129=\"\",\"\",VLOOKUP($A129,INSCRITS!$D$4:$W$506,18,0))","v":""},null,{"$f":"IF(AM129=\"\",\"\",VLOOKUP(AM129,[0]!Relais,2))","v":""},{"$f":"IF($A129=\"\",\"\",VLOOKUP($A129,INSCRITS!$D$4:$W$506,19,0))","v":""},null,{"$f":"IF(AP129=\"\",\"\",VLOOKUP(AP129,[0]!Relais,2))","v":""},0,0]
[null,{"$f":"IF($A130=\"\",\"\",VLOOKUP($A130,INSCRITS!$D$4:$W$501,2,0))","v":""},{"$f":"IF($A130=\"\",\"\",VLOOKUP($A130,INSCRITS!$D$4:$W$501,3,0))","v":""},{"$f":"IF($A130=\"\",\"\",VLOOKUP($A130,INSCRITS!$D$4:$W$501,4,0))","v":""},{"$f":"IF($A130=\"\",\"\",VLOOKUP($A130,INSCRITS!$D$4:$W$501,5,0))","v":""},{"$f":"IF($A130=\"\",\"\",VLOOKUP($A130,INSCRITS!$D$4:$W$501,6,0))","v":""},{"$f":"IF($A130=\"\",\"\",VLOOKUP($A130,INSCRITS!$D$4:$W$501,7,0))","v":""},{"$f":"IF($A130=\"\",\"\",VLOOKUP($A130,INSCRITS!$D$4:$W$501,8,0))","v":""},{"$f":"IF($A130=\"\",\"\",VLOOKUP($A130,INSCRITS!$D$4:$W$501,9,0))","v":""},{"$f":"IF($A130=\"\",\"\",VLOOKUP($A130,INSCRITS!$D$4:$W$506,10,0))","v":""},{"$f":"IF(ISNA(VLOOKUP($A130,SPRINT!AD$7:AJ$50,6,0)),\"\",VLOOKUP($A130,SPRINT!AD$7:AJ$50,6,0))","v":""},{"$f":"IF(ISNA(VLOOKUP($A130,SPRINT!AD$7:AJ$50,7,0)),\"\",VLOOKUP($A130,SPRINT!AD$7:AJ$50,7,0))","v":""},{"$f":"IF($A130=\"\",\"\",VLOOKUP($A130,INSCRITS!$D$4:$W$506,11,0))","v":""},{"$f":"IF(ISNA(VLOOKUP($A130,BATONS!AD$7:AJ$51,6,0)),\"\",VLOOKUP($A130,BATONS!AD$7:AJ$51,6,0))","v":""},{"$f":"IF(ISNA(VLOOKUP($A130,BATONS!AD$7:AJ$51,7,0)),\"\",VLOOKUP($A130,BATONS!AD$7:AJ$51,7,0))","v":""},{"$f":"IF($A130=\"\",\"\",VLOOKUP($A130,INSCRITS!$D$4:$W$506,12,0))","v":""},{"$f":"IF(ISNA(VLOOKUP($A130,PLANCHE!AC$7:AI$52,6,0)),\"\",VLOOKUP($A130,PLANCHE!AC$7:AI$52,6,0))","v":""},{"$f":"IF(ISNA(VLOOKUP($A130,PLANCHE!AC$7:AI$52,7,0)),\"\",VLOOKUP($A130,PLANCHE!AC$7:AI$52,7,0))","v":""},{"$f":"IF($A130=\"\",\"\",VLOOKUP($A130,INSCRITS!$D$4:$W$506,13,0))","v":""},{"$f":"IF(ISNA(VLOOKUP($A130,NAGE!N$7:T$52,6,0)),\"\",VLOOKUP($A130,NAGE!N$7:T$52,6,0))","v":""},{"$f":"IF(ISNA(VLOOKUP($A130,NAGE!N$7:T$52,7,0)),\"\",VLOOKUP($A130,NAGE!N$7:T$52,7,0))","v":""},{"$f":"IF($A130=\"\",\"\",VLOOKUP($A130,INSCRITS!$D$4:$W$506,14,0))","v":""},{"$f":"IF(ISNA(VLOOKUP($A130,SURFSKI!AC$8:AI$53,6,0)),\"\",VLOOKUP($A130,SURFSKI!AC$8:AI$53,6,0))","v":""},{"$f":"IF(ISNA(VLOOKUP($A130,SURFSKI!AC$8:AI$53,7,0)),\"\",VLOOKUP($A130,SURFSKI!AC$8:AI$53,7,0))","v":""},{"$f":"IF($A130=\"\",\"\",VLOOKUP($A130,INSCRITS!$D$4:$W$506,15,0))","v":""},{"$f":"IF(ISNA(VLOOKUP($A130,OCEANMAN!AC$7:AI$52,6,0)),\"\",VLOOKUP($A130,OCEANMAN!AC$7:AI$52,6,0))","v":""},{"$f":"IF(ISNA(VLOOKUP($A130,OCEANMAN!AC$7:AI$52,7,0)),\"\",VLOOKUP($A130,OCEANMAN!AC$7:AI$52,7,0))","v":""},{"$f":"IF($A130=\"\",\"\",VLOOKUP($A130,INSCRITS!$D$4:$W$506,16,0))","v":""},{"$f":"IF(ISNA(VLOOKUP($A130,CNC!N$7:AC$52,6,0)),\"\",VLOOKUP($A130,CNC!N$7:AC$52,6,0))","v":""},{"$f":"IF(ISNA(VLOOKUP($A130,CNC!N$7:AC$52,7,0)),\"\",VLOOKUP($A130,CNC!N$7:AC$52,7,0))","v":""},0,{"$f":"IF($A130=\"\",\"\",VLOOKUP($A130,INSCRITS!$D$4:$W$506,16,0))","v":""},null,{"$f":"IF(AG130=\"\",\"\",VLOOKUP(AG130,[0]!Relais,2))","v":""},{"$f":"IF($A130=\"\",\"\",VLOOKUP($A130,INSCRITS!$D$4:$W$506,17,0))","v":""},null,{"$f":"IF(AJ130=\"\",\"\",VLOOKUP(AJ130,[0]!Relais,2))","v":""},{"$f":"IF($A130=\"\",\"\",VLOOKUP($A130,INSCRITS!$D$4:$W$506,18,0))","v":""},null,{"$f":"IF(AM130=\"\",\"\",VLOOKUP(AM130,[0]!Relais,2))","v":""},{"$f":"IF($A130=\"\",\"\",VLOOKUP($A130,INSCRITS!$D$4:$W$506,19,0))","v":""},null,{"$f":"IF(AP130=\"\",\"\",VLOOKUP(AP130,[0]!Relais,2))","v":""},0,0]
[null,{"$f":"IF($A131=\"\",\"\",VLOOKUP($A131,INSCRITS!$D$4:$W$501,2,0))","v":""},{"$f":"IF($A131=\"\",\"\",VLOOKUP($A131,INSCRITS!$D$4:$W$501,3,0))","v":""},{"$f":"IF($A131=\"\",\"\",VLOOKUP($A131,INSCRITS!$D$4:$W$501,4,0))","v":""},{"$f":"IF($A131=\"\",\"\",VLOOKUP($A131,INSCRITS!$D$4:$W$501,5,0))","v":""},{"$f":"IF($A131=\"\",\"\",VLOOKUP($A131,INSCRITS!$D$4:$W$501,6,0))","v":""},{"$f":"IF($A131=\"\",\"\",VLOOKUP($A131,INSCRITS!$D$4:$W$501,7,0))","v":""},{"$f":"IF($A131=\"\",\"\",VLOOKUP($A131,INSCRITS!$D$4:$W$501,8,0))","v":""},{"$f":"IF($A131=\"\",\"\",VLOOKUP($A131,INSCRITS!$D$4:$W$501,9,0))","v":""},{"$f":"IF($A131=\"\",\"\",VLOOKUP($A131,INSCRITS!$D$4:$W$506,10,0))","v":""},{"$f":"IF(ISNA(VLOOKUP($A131,SPRINT!AD$7:AJ$50,6,0)),\"\",VLOOKUP($A131,SPRINT!AD$7:AJ$50,6,0))","v":""},{"$f":"IF(ISNA(VLOOKUP($A131,SPRINT!AD$7:AJ$50,7,0)),\"\",VLOOKUP($A131,SPRINT!AD$7:AJ$50,7,0))","v":""},{"$f":"IF($A131=\"\",\"\",VLOOKUP($A131,INSCRITS!$D$4:$W$506,11,0))","v":""},{"$f":"IF(ISNA(VLOOKUP($A131,BATONS!AD$7:AJ$51,6,0)),\"\",VLOOKUP($A131,BATONS!AD$7:AJ$51,6,0))","v":""},{"$f":"IF(ISNA(VLOOKUP($A131,BATONS!AD$7:AJ$51,7,0)),\"\",VLOOKUP($A131,BATONS!AD$7:AJ$51,7,0))","v":""},{"$f":"IF($A131=\"\",\"\",VLOOKUP($A131,INSCRITS!$D$4:$W$506,12,0))","v":""},{"$f":"IF(ISNA(VLOOKUP($A131,PLANCHE!AC$7:AI$52,6,0)),\"\",VLOOKUP($A131,PLANCHE!AC$7:AI$52,6,0))","v":""},{"$f":"IF(ISNA(VLOOKUP($A131,PLANCHE!AC$7:AI$52,7,0)),\"\",VLOOKUP($A131,PLANCHE!AC$7:AI$52,7,0))","v":""},{"$f":"IF($A131=\"\",\"\",VLOOKUP($A131,INSCRITS!$D$4:$W$506,13,0))","v":""},{"$f":"IF(ISNA(VLOOKUP($A131,NAGE!N$7:T$52,6,0)),\"\",VLOOKUP($A131,NAGE!N$7:T$52,6,0))","v":""},{"$f":"IF(ISNA(VLOOKUP($A131,NAGE!N$7:T$52,7,0)),\"\",VLOOKUP($A131,NAGE!N$7:T$52,7,0))","v":""},{"$f":"IF($A131=\"\",\"\",VLOOKUP($A131,INSCRITS!$D$4:$W$506,14,0))","v":""},{"$f":"IF(ISNA(VLOOKUP($A131,SURFSKI!AC$8:AI$53,6,0)),\"\",VLOOKUP($A131,SURFSKI!AC$8:AI$53,6,0))","v":""},{"$f":"IF(ISNA(VLOOKUP($A131,SURFSKI!AC$8:AI$53,7,0)),\"\",VLOOKUP($A131,SURFSKI!AC$8:AI$53,7,0))","v":""},{"$f":"IF($A131=\"\",\"\",VLOOKUP($A131,INSCRITS!$D$4:$W$506,15,0))","v":""},{"$f":"IF(ISNA(VLOOKUP($A131,OCEANMAN!AC$7:AI$52,6,0)),\"\",VLOOKUP($A131,OCEANMAN!AC$7:AI$52,6,0))","v":""},{"$f":"IF(ISNA(VLOOKUP($A131,OCEANMAN!AC$7:AI$52,7,0)),\"\",VLOOKUP($A131,OCEANMAN!AC$7:AI$52,7,0))","v":""},{"$f":"IF($A131=\"\",\"\",VLOOKUP($A131,INSCRITS!$D$4:$W$506,16,0))","v":""},{"$f":"IF(ISNA(VLOOKUP($A131,CNC!N$7:AC$52,6,0)),\"\",VLOOKUP($A131,CNC!N$7:AC$52,6,0))","v":""},{"$f":"IF(ISNA(VLOOKUP($A131,CNC!N$7:AC$52,7,0)),\"\",VLOOKUP($A131,CNC!N$7:AC$52,7,0))","v":""},0,{"$f":"IF($A131=\"\",\"\",VLOOKUP($A131,INSCRITS!$D$4:$W$506,16,0))","v":""},null,{"$f":"IF(AG131=\"\",\"\",VLOOKUP(AG131,[0]!Relais,2))","v":""},{"$f":"IF($A131=\"\",\"\",VLOOKUP($A131,INSCRITS!$D$4:$W$506,17,0))","v":""},null,{"$f":"IF(AJ131=\"\",\"\",VLOOKUP(AJ131,[0]!Relais,2))","v":""},{"$f":"IF($A131=\"\",\"\",VLOOKUP($A131,INSCRITS!$D$4:$W$506,18,0))","v":""},null,{"$f":"IF(AM131=\"\",\"\",VLOOKUP(AM131,[0]!Relais,2))","v":""},{"$f":"IF($A131=\"\",\"\",VLOOKUP($A131,INSCRITS!$D$4:$W$506,19,0))","v":""},null,{"$f":"IF(AP131=\"\",\"\",VLOOKUP(AP131,[0]!Relais,2))","v":""},0,0]
[null,{"$f":"IF($A132=\"\",\"\",VLOOKUP($A132,INSCRITS!$D$4:$W$501,2,0))","v":""},{"$f":"IF($A132=\"\",\"\",VLOOKUP($A132,INSCRITS!$D$4:$W$501,3,0))","v":""},{"$f":"IF($A132=\"\",\"\",VLOOKUP($A132,INSCRITS!$D$4:$W$501,4,0))","v":""},{"$f":"IF($A132=\"\",\"\",VLOOKUP($A132,INSCRITS!$D$4:$W$501,5,0))","v":""},{"$f":"IF($A132=\"\",\"\",VLOOKUP($A132,INSCRITS!$D$4:$W$501,6,0))","v":""},{"$f":"IF($A132=\"\",\"\",VLOOKUP($A132,INSCRITS!$D$4:$W$501,7,0))","v":""},{"$f":"IF($A132=\"\",\"\",VLOOKUP($A132,INSCRITS!$D$4:$W$501,8,0))","v":""},{"$f":"IF($A132=\"\",\"\",VLOOKUP($A132,INSCRITS!$D$4:$W$501,9,0))","v":""},{"$f":"IF($A132=\"\",\"\",VLOOKUP($A132,INSCRITS!$D$4:$W$506,10,0))","v":""},{"$f":"IF(ISNA(VLOOKUP($A132,SPRINT!AD$7:AJ$50,6,0)),\"\",VLOOKUP($A132,SPRINT!AD$7:AJ$50,6,0))","v":""},{"$f":"IF(ISNA(VLOOKUP($A132,SPRINT!AD$7:AJ$50,7,0)),\"\",VLOOKUP($A132,SPRINT!AD$7:AJ$50,7,0))","v":""},{"$f":"IF($A132=\"\",\"\",VLOOKUP($A132,INSCRITS!$D$4:$W$506,11,0))","v":""},{"$f":"IF(ISNA(VLOOKUP($A132,BATONS!AD$7:AJ$51,6,0)),\"\",VLOOKUP($A132,BATONS!AD$7:AJ$51,6,0))","v":""},{"$f":"IF(ISNA(VLOOKUP($A132,BATONS!AD$7:AJ$51,7,0)),\"\",VLOOKUP($A132,BATONS!AD$7:AJ$51,7,0))","v":""},{"$f":"IF($A132=\"\",\"\",VLOOKUP($A132,INSCRITS!$D$4:$W$506,12,0))","v":""},{"$f":"IF(ISNA(VLOOKUP($A132,PLANCHE!AC$7:AI$52,6,0)),\"\",VLOOKUP($A132,PLANCHE!AC$7:AI$52,6,0))","v":""},{"$f":"IF(ISNA(VLOOKUP($A132,PLANCHE!AC$7:AI$52,7,0)),\"\",VLOOKUP($A132,PLANCHE!AC$7:AI$52,7,0))","v":""},{"$f":"IF($A132=\"\",\"\",VLOOKUP($A132,INSCRITS!$D$4:$W$506,13,0))","v":""},{"$f":"IF(ISNA(VLOOKUP($A132,NAGE!N$7:T$52,6,0)),\"\",VLOOKUP($A132,NAGE!N$7:T$52,6,0))","v":""},{"$f":"IF(ISNA(VLOOKUP($A132,NAGE!N$7:T$52,7,0)),\"\",VLOOKUP($A132,NAGE!N$7:T$52,7,0))","v":""},{"$f":"IF($A132=\"\",\"\",VLOOKUP($A132,INSCRITS!$D$4:$W$506,14,0))","v":""},{"$f":"IF(ISNA(VLOOKUP($A132,SURFSKI!AC$8:AI$53,6,0)),\"\",VLOOKUP($A132,SURFSKI!AC$8:AI$53,6,0))","v":""},{"$f":"IF(ISNA(VLOOKUP($A132,SURFSKI!AC$8:AI$53,7,0)),\"\",VLOOKUP($A132,SURFSKI!AC$8:AI$53,7,0))","v":""},{"$f":"IF($A132=\"\",\"\",VLOOKUP($A132,INSCRITS!$D$4:$W$506,15,0))","v":""},{"$f":"IF(ISNA(VLOOKUP($A132,OCEANMAN!AC$7:AI$52,6,0)),\"\",VLOOKUP($A132,OCEANMAN!AC$7:AI$52,6,0))","v":""},{"$f":"IF(ISNA(VLOOKUP($A132,OCEANMAN!AC$7:AI$52,7,0)),\"\",VLOOKUP($A132,OCEANMAN!AC$7:AI$52,7,0))","v":""},{"$f":"IF($A132=\"\",\"\",VLOOKUP($A132,INSCRITS!$D$4:$W$506,16,0))","v":""},{"$f":"IF(ISNA(VLOOKUP($A132,CNC!N$7:AC$52,6,0)),\"\",VLOOKUP($A132,CNC!N$7:AC$52,6,0))","v":""},{"$f":"IF(ISNA(VLOOKUP($A132,CNC!N$7:AC$52,7,0)),\"\",VLOOKUP($A132,CNC!N$7:AC$52,7,0))","v":""},0,{"$f":"IF($A132=\"\",\"\",VLOOKUP($A132,INSCRITS!$D$4:$W$506,16,0))","v":""},null,{"$f":"IF(AG132=\"\",\"\",VLOOKUP(AG132,[0]!Relais,2))","v":""},{"$f":"IF($A132=\"\",\"\",VLOOKUP($A132,INSCRITS!$D$4:$W$506,17,0))","v":""},null,{"$f":"IF(AJ132=\"\",\"\",VLOOKUP(AJ132,[0]!Relais,2))","v":""},{"$f":"IF($A132=\"\",\"\",VLOOKUP($A132,INSCRITS!$D$4:$W$506,18,0))","v":""},null,{"$f":"IF(AM132=\"\",\"\",VLOOKUP(AM132,[0]!Relais,2))","v":""},{"$f":"IF($A132=\"\",\"\",VLOOKUP($A132,INSCRITS!$D$4:$W$506,19,0))","v":""},null,{"$f":"IF(AP132=\"\",\"\",VLOOKUP(AP132,[0]!Relais,2))","v":""},0,0]
[null,{"$f":"IF($A133=\"\",\"\",VLOOKUP($A133,INSCRITS!$D$4:$W$501,2,0))","v":""},{"$f":"IF($A133=\"\",\"\",VLOOKUP($A133,INSCRITS!$D$4:$W$501,3,0))","v":""},{"$f":"IF($A133=\"\",\"\",VLOOKUP($A133,INSCRITS!$D$4:$W$501,4,0))","v":""},{"$f":"IF($A133=\"\",\"\",VLOOKUP($A133,INSCRITS!$D$4:$W$501,5,0))","v":""},{"$f":"IF($A133=\"\",\"\",VLOOKUP($A133,INSCRITS!$D$4:$W$501,6,0))","v":""},{"$f":"IF($A133=\"\",\"\",VLOOKUP($A133,INSCRITS!$D$4:$W$501,7,0))","v":""},{"$f":"IF($A133=\"\",\"\",VLOOKUP($A133,INSCRITS!$D$4:$W$501,8,0))","v":""},{"$f":"IF($A133=\"\",\"\",VLOOKUP($A133,INSCRITS!$D$4:$W$501,9,0))","v":""},{"$f":"IF($A133=\"\",\"\",VLOOKUP($A133,INSCRITS!$D$4:$W$506,10,0))","v":""},{"$f":"IF(ISNA(VLOOKUP($A133,SPRINT!AD$7:AJ$50,6,0)),\"\",VLOOKUP($A133,SPRINT!AD$7:AJ$50,6,0))","v":""},{"$f":"IF(ISNA(VLOOKUP($A133,SPRINT!AD$7:AJ$50,7,0)),\"\",VLOOKUP($A133,SPRINT!AD$7:AJ$50,7,0))","v":""},{"$f":"IF($A133=\"\",\"\",VLOOKUP($A133,INSCRITS!$D$4:$W$506,11,0))","v":""},{"$f":"IF(ISNA(VLOOKUP($A133,BATONS!AD$7:AJ$51,6,0)),\"\",VLOOKUP($A133,BATONS!AD$7:AJ$51,6,0))","v":""},{"$f":"IF(ISNA(VLOOKUP($A133,BATONS!AD$7:AJ$51,7,0)),\"\",VLOOKUP($A133,BATONS!AD$7:AJ$51,7,0))","v":""},{"$f":"IF($A133=\"\",\"\",VLOOKUP($A133,INSCRITS!$D$4:$W$506,12,0))","v":""},{"$f":"IF(ISNA(VLOOKUP($A133,PLANCHE!AC$7:AI$52,6,0)),\"\",VLOOKUP($A133,PLANCHE!AC$7:AI$52,6,0))","v":""},{"$f":"IF(ISNA(VLOOKUP($A133,PLANCHE!AC$7:AI$52,7,0)),\"\",VLOOKUP($A133,PLANCHE!AC$7:AI$52,7,0))","v":""},{"$f":"IF($A133=\"\",\"\",VLOOKUP($A133,INSCRITS!$D$4:$W$506,13,0))","v":""},{"$f":"IF(ISNA(VLOOKUP($A133,NAGE!N$7:T$52,6,0)),\"\",VLOOKUP($A133,NAGE!N$7:T$52,6,0))","v":""},{"$f":"IF(ISNA(VLOOKUP($A133,NAGE!N$7:T$52,7,0)),\"\",VLOOKUP($A133,NAGE!N$7:T$52,7,0))","v":""},{"$f":"IF($A133=\"\",\"\",VLOOKUP($A133,INSCRITS!$D$4:$W$506,14,0))","v":""},{"$f":"IF(ISNA(VLOOKUP($A133,SURFSKI!AC$8:AI$53,6,0)),\"\",VLOOKUP($A133,SURFSKI!AC$8:AI$53,6,0))","v":""},{"$f":"IF(ISNA(VLOOKUP($A133,SURFSKI!AC$8:AI$53,7,0)),\"\",VLOOKUP($A133,SURFSKI!AC$8:AI$53,7,0))","v":""},{"$f":"IF($A133=\"\",\"\",VLOOKUP($A133,INSCRITS!$D$4:$W$506,15,0))","v":""},{"$f":"IF(ISNA(VLOOKUP($A133,OCEANMAN!AC$7:AI$52,6,0)),\"\",VLOOKUP($A133,OCEANMAN!AC$7:AI$52,6,0))","v":""},{"$f":"IF(ISNA(VLOOKUP($A133,OCEANMAN!AC$7:AI$52,7,0)),\"\",VLOOKUP($A133,OCEANMAN!AC$7:AI$52,7,0))","v":""},{"$f":"IF($A133=\"\",\"\",VLOOKUP($A133,INSCRITS!$D$4:$W$506,16,0))","v":""},{"$f":"IF(ISNA(VLOOKUP($A133,CNC!N$7:AC$52,6,0)),\"\",VLOOKUP($A133,CNC!N$7:AC$52,6,0))","v":""},{"$f":"IF(ISNA(VLOOKUP($A133,CNC!N$7:AC$52,7,0)),\"\",VLOOKUP($A133,CNC!N$7:AC$52,7,0))","v":""},0,{"$f":"IF($A133=\"\",\"\",VLOOKUP($A133,INSCRITS!$D$4:$W$506,16,0))","v":""},null,{"$f":"IF(AG133=\"\",\"\",VLOOKUP(AG133,[0]!Relais,2))","v":""},{"$f":"IF($A133=\"\",\"\",VLOOKUP($A133,INSCRITS!$D$4:$W$506,17,0))","v":""},null,{"$f":"IF(AJ133=\"\",\"\",VLOOKUP(AJ133,[0]!Relais,2))","v":""},{"$f":"IF($A133=\"\",\"\",VLOOKUP($A133,INSCRITS!$D$4:$W$506,18,0))","v":""},null,{"$f":"IF(AM133=\"\",\"\",VLOOKUP(AM133,[0]!Relais,2))","v":""},{"$f":"IF($A133=\"\",\"\",VLOOKUP($A133,INSCRITS!$D$4:$W$506,19,0))","v":""},null,{"$f":"IF(AP133=\"\",\"\",VLOOKUP(AP133,[0]!Relais,2))","v":""},0,0]

{"sheet":"INSCRITS","index":1,"n_rows":71,"n_cols":23,"rows_kept":71,"cut":false,"hidden":true,"merged":[[1,12,1,19],[2,12,2,18],[2,19,2,23]]}
[]
[" "]
[null,null,null,null,null,null,null,null,null,null,null,null,11,null,null,null,null,null,null,"RELAIS"]
[null,null,null,"N°","n° Licence","Année","Sexe  M. ou F.","Date de Naissance","NOM","Prénom","Catégorie","Club","SPRINT","BATONS","Nage","PLANCHE","SURF SKI","OCEANMAN","CNC","RELAIS SPRINT","RELAIS TUBE","SAUVETAGE PLANCHE","RELAIS COMBINE"]
[null,null,null,121,null,1996,"H",null,"COSSART","Théo","Cadet","Amiens sauvetage","X","X","X","X",null,null,"X"]
["place","points",null,122,null,1996,"H",null,"LAVALLARD","Logan","Cadet","Amiens sauvetage","X","X","X","X",null,null,"X"]
["x",0,null,123,null,1995,"H",null,"VANDENBERGHE","Sébastien","Cadet","ANV","X","X","X","X","X","X","X"]
[1,20,null,124,null,1995,"H",null,"ALARCON","Benjamin","Cadet","AQUALOVE","X","X",null,"X","X","X","X"]
[2,18,null,125,null,1995,"H",null,"EL KHATIR","Younes","Cadet","AQUALOVE","X","X",null,"X","X","X","X"]
[3,16,null,126,null,1995,"H",null,"PLESSIS","Quentin","Cadet","AQUALOVE","X","X",null,"X","X","X","X"]
[4,14,null,127,null,1996,"H",null,"CADOT","François","Cadet","ASCE DINARD","X","X","X","X","X","X","X"]
["4*",0,null,128,null,1995,"H",null,"CORBEL","Yann","Cadet","ASCE DINARD","X","X","X","X","X","X","X"]
[5,13,null,129,null,1996,"H",null,"LEBRET","Samuel","Cadet","ASCE DINARD ","X","X","X","X","X","X","X"]
["5*",0,null,130,null,1996,"H",null,"DUFFAUD","Simon","Cadet","BEGLES","X","X",null,"X",null,"X","X"]
[6,12,null,131,null,1995,"H",null,"FOS","Dorian","Cadet","BEGLES","X","X"]
["6*",0,null,132,null,1995,"H",null,"ARTOLA","Bixente","Cadet","BELHARRA WC","X","X","X","X",null,null,"X"]
[7,11,null,133,null,1996,"H",null,"SOLABERRIETA","Jean","Cadet","BELHARRA WC","X","X","X","X",null,"X","X"]
["7*",0,null,134,null,1995,"H",null,"CAMGRAND","Jérémie","Cadet","Biarritz SC",null,"X","X","X","X","X","X"]
[8,10,null,135,null,1995,"H",null,"DE SAINT BLANQUAT","Thomas","Cadet","Biarritz SC","X","X","X","X",null,null,"X"]
["8*",0,null,136,null,1996,"H",null,"DUCOUDRET","Arnaud","Cadet","Biarritz SC","X","X","X","X",null,null,"X"]
[9,8,null,137,null,1995,"H",null,"GAUDIN","Arnaud","Cadet","Biarritz SC","X","X","X","X",null,null,"X"]
["9*",0,null,138,null,1996,"H",null,"LABAT","Maxime","Cadet","Biarritz SC","X","X","X","X","X","X","X"]
[10,7,null,139,null,1995,"H",null,"PUYAU","Pierre","Cadet","Biarritz SC",null,"X","X","X",null,null,"X"]
["10*",0,null,140,null,1996,"H",null,"YOH","Titouan","Cadet","Biarritz SC","X","X","X","X","X","X","X"]
[11,6,null,141,null,1996,"H",null,"LAUBUGE","Nathanael","Cadet","BOSS","X","X","X","X","X","X","X"]
["11*",0,null,142,null,1995,"H",null,"PERRIN","Hugo","Cadet","BOSS","X","X","X","X","X","X","X"]
[12,5,null,143,null,1995,"H",null,"LICARI","Antoine","Cadet","Cannes Sauvetage Côtier","X","X",null,"X","X","X"]
["12*",0,null,144,null,1995,"H",null,"LICARI","Arnaud","Cadet","Cannes Sauvetage Côtier","X","X",null,"X","X","X","X"]
[13,4,null,145,null,1996,"H",null,"VECCHINI","Thierry","Cadet","Cannes Sauvetage Côtier","X","X",null,"X","X",null,"X"]
["13*",0,null,146,null,1996,"H",null,"DEMBLOCQUE","Théo","Cadet","Capbreton","X","X",null,"X",null,null,"X"]
[14,3,null,147,null,1996,"H",null,"WAGNER","Florian","Cadet","COLMAR ACSS","X","X",null,"X","X","X","X"]
["14*",0,null,148,null,1995,"H",null,"CAZAUX","Loïc","Cadet","CSSM","X","X","X","X","X","X","X"]
[15,2,null,149,null,1995,"H",null,"CABROL","Xavier","Cadet","ENA","X","X",null,"X",null,null,"X"]
["15*",0,null,150,null,1996,"H",null,"MATHIEU","Simon","Cadet","ENA","X","X",null,"X",null,null,"X"]
[16,1,null,151,null,1996,"H",null,"AMAUGER","Valentin","Cadet","HSC","X","X",null,"X","X","X","X"]
["16*",0,null,152,null,1995,"H",null,"CIER","Jules","Cadet","HSC","X","X",null,"X","X","X","X"]
[17,0,null,153,null,1996,"H",null,"TISSIER","Mael","Cadet","HSC","X","X",null,"X","X","X","X"]
["Forfait",0,null,154,null,1996,"H",null,"LAUSSU","Quentin","Cadet","lit et mixe","X","X","X","X","X","X","X"]
["Abandon",0,null,155,null,1996,"H",null,"BRIGOT","Dorian","Cadet","MIMIZAN SAUVETAGE",null,"X",null,"X"]
["Disqualifie",0,null,156,null,1995,"H",null,"FORSANS","Remy","Cadet","MNSL","X","X",null,"X",null,null,"X"]
[null,null,null,157,null,1995,"H",null,"KOZARD","Pierre-Antoine","Cadet","MNSL","X","X",null,"X",null,null,"X"]
[null,null,null,158,null,1996,"H",null,"PINTORI","Luc","Cadet","MNSL","X","X",null,"X","X","X","X"]
[null,null,null,159,null,1996,"H",null,"BRIONGOS","Alexis","Cadet","TOULOUSE CST",null,"X",null,"X"]
[null,"ordre",null,160,null,1996,"H",null,"PANIS","Valentin","Cadet","TOULOUSE CST",null,null,null,"X",null,null,"X"]
[]
[]
[]
[]
[]
["place","points"]
["x",0]
[1,40]
[2,36]
[3,32]
[4,28]
[5,26]
[6,24]
[7,22]
[8,20]
[9,16]
[10,14]
[11,12]
[12,10]
[13,8]
[14,6]
[15,4]
[16,2]
[17,0]
["Forfait",0]
["Abandon",0]
["Disqualifie",0]

{"sheet":"SPRINT","index":2,"n_rows":127,"n_cols":36,"rows_kept":127,"cut":false,"hidden":false,"merged":[[14,20,21,20],[46,12,53,12],[60,1,69,1],[1,29,1,35],[54,12,61,12],[62,12,69,12],[6,1,14,1],[15,1,23,1],[6,28,13,28],[15,28,22,28],[6,20,13,20],[24,28,31,28],[33,28,40,28],[126,1,133,1],[6,12,13,12],[14,12,21,12],[94,1,101,1],[102,1,109,1],[118,1,125,1],[110,1,117,1],[86,1,93,1],[42,1,50,1],[51,1,59,1],[24,1,32,1],[33,1,41,1],[22,12,29,12],[30,12,37,12],[38,12,45,12],[70,1,79,1]]}
[]
[]
[null,null,null,null,null,null,null,null,null,null,null,null,null,"QUART SPRINT",null,null,null,null,null,null,null,"DEMI-FINALES",null,null,null,null,null,null,null,"FINALES Sprint"]
[null,"SERIES SPRINT",null,null,null,null,null,null,null,null,null,null,null,null,null,null,null,null,null,null,null,"Messieurs",null,null,null,null,null,null,"Cadet","Messieurs"]
[null,"Messieurs",null,null,null,null,null,null,null,null,null,null,"Messieurs",null,null,null,null,null,null,null,null,"N°","NOM","Prénom","CLUB","PLACE",null,null,null,"N°","NOM","Prénom","CLUB",null,"PLACE","PTS"]
[]
[null,"SERIE 1",143,{"$f":"IF($C7=\"\",\"\",VLOOKUP($C7,INSCRITS!$D$4:$W$501,6,0))","v":"LICARI"},{"$f":"IF($C7=\"\",\"\",VLOOKUP($C7,INSCRITS!$D$4:$W$501,7,0))","v":"Antoine"},{"$f":"IF($C7=\"\",\"\",VLOOKUP($C7,INSCRITS!$D$4:$W$501,9,0))","v":"Cannes Sauvetage Côtier"},null,null,null,null,null,null,"SERIE 1",null,{"$f":"IF($N7=\"\",\"\",VLOOKUP($N7,INSCRITS!$D$4:$W$501,6,0))","v":""},{"$f":"IF($N7=\"\",\"\",VLOOKUP($N7,INSCRITS!$D$4:$W$501,7,0))","v":""},{"$f":"IF($N7=\"\",\"\",VLOOKUP($N7,INSCRITS!$D$4:$W$501,9,0))","v":""},null,null,null,"SERIE 1",null,{"$f":"IF($V7=\"\",\"\",VLOOKUP($V7,INSCRITS!$D$4:$W$501,6,0))","v":""},{"$f":"IF($V7=\"\",\"\",VLOOKUP($V7,INSCRITS!$D$4:$W$501,7,0))","v":""},{"$f":"IF($V7=\"\",\"\",VLOOKUP($V7,INSCRITS!$D$4:$W$501,9,0))","v":""},null,null,null,"FINALE A",152,{"$f":"IF($AD7=\"\",\"\",VLOOKUP($AD7,INSCRITS!$D$4:$W$501,6,0))","v":"CIER"},{"$f":"IF($AD7=\"\",\"\",VLOOKUP($AD7,INSCRITS!$D$4:$W$501,7,0))","v":"Jules"},{"$f":"IF($AD7=\"\",\"\",VLOOKUP($AD7,INSCRITS!$D$4:$W$501,9,0))","v":"HSC"},null,1,{"$f":"IF(AI7=\"\",\"\",VLOOKUP(AI7,points,2))","v":20}]
[null,null,121,{"$f":"IF($C8=\"\",\"\",VLOOKUP($C8,INSCRITS!$D$4:$W$501,6,0))","v":"COSSART"},{"$f":"IF($C8=\"\",\"\",VLOOKUP($C8,INSCRITS!$D$4:$W$501,7,0))","v":"Théo"},{"$f":"IF($C8=\"\",\"\",VLOOKUP($C8,INSCRITS!$D$4:$W$501,9,0))","v":"Amiens sauvetage"},null,null,null,null,null,null,null,null,{"$f":"IF($N8=\"\",\"\",VLOOKUP($N8,INSCRITS!$D$4:$W$501,6,0))","v":""},{"$f":"IF($N8=\"\",\"\",VLOOKUP($N8,INSCRITS!$D$4:$W$501,7,0))","v":""},{"$f":"IF($N8=\"\",\"\",VLOOKUP($N8,INSCRITS!$D$4:$W$501,9,0))","v":""},null,null,null,null,null,{"$f":"IF($V8=\"\",\"\",VLOOKUP($V8,INSCRITS!$D$4:$W$501,6,0))","v":""},{"$f":"IF($V8=\"\",\"\",VLOOKUP($V8,INSCRITS!$D$4:$W$501,7,0))","v":""},{"$f":"IF($V8=\"\",\"\",VLOOKUP($V8,INSCRITS!$D$4:$W$501,9,0))","v":""},null,null,null,null,140,{"$f":"IF($AD8=\"\",\"\",VLOOKUP($AD8,INSCRITS!$D$4:$W$501,6,0))","v":"YOH"},{"$f":"IF($AD8=\"\",\"\",VLOOKUP($AD8,INSCRITS!$D$4:$W$501,7,0))","v":"Titouan"},{"$f":"IF($AD8=\"\",\"\",VLOOKUP($AD8,INSCRITS!$D$4:$W$501,9,0))","v":"Biarritz SC"},null,2,18]
[null,null,148,{"$f":"IF($C9=\"\",\"\",VLOOKUP($C9,INSCRITS!$D$4:$W$501,6,0))","v":"CAZAUX"},{"$f":"IF($C9=\"\",\"\",VLOOKUP($C9,INSCRITS!$D$4:$W$501,7,0))","v":"Loïc"},{"$f":"IF($C9=\"\",\"\",VLOOKUP($C9,INSCRITS!$D$4:$W$501,9,0))","v":"CSSM"},null,null,null,null,null,null,null,null,{"$f":"IF($N9=\"\",\"\",VLOOKUP($N9,INSCRITS!$D$4:$W$501,6,0))","v":""},{"$f":"IF($N9=\"\",\"\",VLOOKUP($N9,INSCRITS!$D$4:$W$501,7,0))","v":""},{"$f":"IF($N9=\"\",\"\",VLOOKUP($N9,INSCRITS!$D$4:$W$501,9,0))","v":""},null,null,null,null,null,{"$f":"IF($V9=\"\",\"\",VLOOKUP($V9,INSCRITS!$D$4:$W$501,6,0))","v":""},{"$f":"IF($V9=\"\",\"\",VLOOKUP($V9,INSCRITS!$D$4:$W$501,7,0))","v":""},{"$f":"IF($V9=\"\",\"\",VLOOKUP($V9,INSCRITS!$D$4:$W$501,9,0))","v":""},null,null,null,null,153,{"$f":"IF($AD9=\"\",\"\",VLOOKUP($AD9,INSCRITS!$D$4:$W$501,6,0))","v":"TISSIER"},{"$f":"IF($AD9=\"\",\"\",VLOOKUP($AD9,INSCRITS!$D$4:$W$501,7,0))","v":"Mael"},{"$f":"IF($AD9=\"\",\"\",VLOOKUP($AD9,INSCRITS!$D$4:$W$501,9,0))","v":"HSC"},null,3,16]
[null,null,144,{"$f":"IF($C10=\"\",\"\",VLOOKUP($C10,INSCRITS!$D$4:$W$501,6,0))","v":"LICARI"},{"$f":"IF($C10=\"\",\"\",VLOOKUP($C10,INSCRITS!$D$4:$W$501,7,0))","v":"Arnaud"},{"$f":"IF($C10=\"\",\"\",VLOOKUP($C10,INSCRITS!$D$4:$W$501,9,0))","v":"Cannes Sauvetage Côtier"},null,null,null,null,null,null,null,null,{"$f":"IF($N10=\"\",\"\",VLOOKUP($N10,INSCRITS!$D$4:$W$501,6,0))","v":""},{"$f":"IF($N10=\"\",\"\",VLOOKUP($N10,INSCRITS!$D$4:$W$501,7,0))","v":""},{"$f":"IF($N10=\"\",\"\",VLOOKUP($N10,INSCRITS!$D$4:$W$501,9,0))","v":""},null,null,null,null,null,{"$f":"IF($V10=\"\",\"\",VLOOKUP($V10,INSCRITS!$D$4:$W$501,6,0))","v":""},{"$f":"IF($V10=\"\",\"\",VLOOKUP($V10,INSCRITS!$D$4:$W$501,7,0))","v":""},{"$f":"IF($V10=\"\",\"\",VLOOKUP($V10,INSCRITS!$D$4:$W$501,9,0))","v":""},null,null,null,null,132,{"$f":"IF($AD10=\"\",\"\",VLOOKUP($AD10,INSCRITS!$D$4:$W$501,6,0))","v":"ARTOLA"},{"$f":"IF($AD10=\"\",\"\",VLOOKUP($AD10,INSCRITS!$D$4:$W$501,7,0))","v":"Bixente"},{"$f":"IF($AD10=\"\",\"\",VLOOKUP($AD10,INSCRITS!$D$4:$W$501,9,0))","v":"BELHARRA WC"},null,4,14]
[null,null,125,{"$f":"IF($C11=\"\",\"\",VLOOKUP($C11,INSCRITS!$D$4:$W$501,6,0))","v":"EL KHATIR"},{"$f":"IF($C11=\"\",\"\",VLOOKUP($C11,INSCRITS!$D$4:$W$501,7,0))","v":"Younes"},{"$f":"IF($C11=\"\",\"\",VLOOKUP($C11,INSCRITS!$D$4:$W$501,9,0))","v":"AQUALOVE"},null,null,null,null,null,null,null,null,{"$f":"IF($N11=\"\",\"\",VLOOKUP($N11,INSCRITS!$D$4:$W$501,6,0))","v":""},{"$f":"IF($N11=\"\",\"\",VLOOKUP($N11,INSCRITS!$D$4:$W$501,7,0))","v":""},{"$f":"IF($N11=\"\",\"\",VLOOKUP($N11,INSCRITS!$D$4:$W$501,9,0))","v":""},null,null,null,null,null,{"$f":"IF($V11=\"\",\"\",VLOOKUP($V11,INSCRITS!$D$4:$W$501,6,0))","v":""},{"$f":"IF($V11=\"\",\"\",VLOOKUP($V11,INSCRITS!$D$4:$W$501,7,0))","v":""},{"$f":"IF($V11=\"\",\"\",VLOOKUP($V11,INSCRITS!$D$4:$W$501,9,0))","v":""},null,null,null,null,143,{"$f":"IF($AD11=\"\",\"\",VLOOKUP($AD11,INSCRITS!$D$4:$W$501,6,0))","v":"LICARI"},{"$f":"IF($AD11=\"\",\"\",VLOOKUP($AD11,INSCRITS!$D$4:$W$501,7,0))","v":"Antoine"},{"$f":"IF($AD11=\"\",\"\",VLOOKUP($AD11,INSCRITS!$D$4:$W$501,9,0))","v":"Cannes Sauvetage Côtier"},null,5,13]
[null,null,149,{"$f":"IF($C12=\"\",\"\",VLOOKUP($C12,INSCRITS!$D$4:$W$501,6,0))","v":"CABROL"},{"$f":"IF($C12=\"\",\"\",VLOOKUP($C12,INSCRITS!$D$4:$W$501,7,0))","v":"Xavier"},{"$f":"IF($C12=\"\",\"\",VLOOKUP($C12,INSCRITS!$D$4:$W$501,9,0))","v":"ENA"},null,null,null,null,null,null,null,null,{"$f":"IF($N12=\"\",\"\",VLOOKUP($N12,INSCRITS!$D$4:$W$501,6,0))","v":""},{"$f":"IF($N12=\"\",\"\",VLOOKUP($N12,INSCRITS!$D$4:$W$501,7,0))","v":""},{"$f":"IF($N12=\"\",\"\",VLOOKUP($N12,INSCRITS!$D$4:$W$501,9,0))","v":""},null,null,null,null,null,{"$f":"IF($V12=\"\",\"\",VLOOKUP($V12,INSCRITS!$D$4:$W$501,6,0))","v":""},{"$f":"IF($V12=\"\",\"\",VLOOKUP($V12,INSCRITS!$D$4:$W$501,7,0))","v":""},{"$f":"IF($V12=\"\",\"\",VLOOKUP($V12,INSCRITS!$D$4:$W$501,9,0))","v":""},null,null,null,null,144,{"$f":"IF($AD12=\"\",\"\",VLOOKUP($AD12,INSCRITS!$D$4:$W$501,6,0))","v":"LICARI"},{"$f":"IF($AD12=\"\",\"\",VLOOKUP($AD12,INSCRITS!$D$4:$W$501,7,0))","v":"Arnaud"},{"$f":"IF($AD12=\"\",\"\",VLOOKUP($AD12,INSCRITS!$D$4:$W$501,9,0))","v":"Cannes Sauvetage Côtier"},null,6,12]
[null,null,130,{"$f":"IF($C13=\"\",\"\",VLOOKUP($C13,INSCRITS!$D$4:$W$501,6,0))","v":"DUFFAUD"},{"$f":"IF($C13=\"\",\"\",VLOOKUP($C13,INSCRITS!$D$4:$W$501,7,0))","v":"Simon"},{"$f":"IF($C13=\"\",\"\",VLOOKUP($C13,INSCRITS!$D$4:$W$501,9,0))","v":"BEGLES"},null,null,null,null,null,null,null,null,{"$f":"IF($N13=\"\",\"\",VLOOKUP($N13,INSCRITS!$D$4:$W$501,6,0))","v":""},{"$f":"IF($N13=\"\",\"\",VLOOKUP($N13,INSCRITS!$D$4:$W$501,7,0))","v":""},{"$f":"IF($N13=\"\",\"\",VLOOKUP($N13,INSCRITS!$D$4:$W$501,9,0))","v":""},null,null,null,null,null,{"$f":"IF($V13=\"\",\"\",VLOOKUP($V13,INSCRITS!$D$4:$W$501,6,0))","v":""},{"$f":"IF($V13=\"\",\"\",VLOOKUP($V13,INSCRITS!$D$4:$W$501,7,0))","v":""},{"$f":"IF($V13=\"\",\"\",VLOOKUP($V13,INSCRITS!$D$4:$W$501,9,0))","v":""},null,null,null,null,154,{"$f":"IF($AD13=\"\",\"\",VLOOKUP($AD13,INSCRITS!$D$4:$W$501,6,0))","v":"LAUSSU"},{"$f":"IF($AD13=\"\",\"\",VLOOKUP($AD13,INSCRITS!$D$4:$W$501,7,0))","v":"Quentin"},{"$f":"IF($AD13=\"\",\"\",VLOOKUP($AD13,INSCRITS!$D$4:$W$501,9,0))","v":"lit et mixe"},null,7,11]
[null,null,153,{"$f":"IF($C14=\"\",\"\",VLOOKUP($C14,INSCRITS!$D$4:$W$501,6,0))","v":"TISSIER"},{"$f":"IF($C14=\"\",\"\",VLOOKUP($C14,INSCRITS!$D$4:$W$501,7,0))","v":"Mael"},{"$f":"IF($C14=\"\",\"\",VLOOKUP($C14,INSCRITS!$D$4:$W$501,9,0))","v":"HSC"},null,null,null,null,null,null,null,null,{"$f":"IF($N14=\"\",\"\",VLOOKUP($N14,INSCRITS!$D$4:$W$501,6,0))","v":""},{"$f":"IF($N14=\"\",\"\",VLOOKUP($N14,INSCRITS!$D$4:$W$501,7,0))","v":""},{"$f":"IF($N14=\"\",\"\",VLOOKUP($N14,INSCRITS!$D$4:$W$501,9,0))","v":""},null,null,null,null,null,{"$f":"IF($V14=\"\",\"\",VLOOKUP($V14,INSCRITS!$D$4:$W$501,6,0))","v":""},{"$f":"IF($V14=\"\",\"\",VLOOKUP($V14,INSCRITS!$D$4:$W$501,7,0))","v":""},{"$f":"IF($V14=\"\",\"\",VLOOKUP($V14,INSCRITS!$D$4:$W$501,9,0))","v":""},null,null,null,null,157,{"$f":"IF($AD14=\"\",\"\",VLOOKUP($AD14,INSCRITS!$D$4:$W$501,6,0))","v":"KOZARD"},{"$f":"IF($AD14=\"\",\"\",VLOOKUP($AD14,INSCRITS!$D$4:$W$501,7,0))","v":"Pierre-Antoine"},{"$f":"IF($AD14=\"\",\"\",VLOOKUP($AD14,INSCRITS!$D$4:$W$501,9,0))","v":"MNSL"},null,8,10]
[null,null,null,{"$f":"IF($C15=\"\",\"\",VLOOKUP($C15,INSCRITS!$D$4:$W$501,6,0))","v":""},{"$f":"IF($C15=\"\",\"\",VLOOKUP($C15,INSCRITS!$D$4:$W$501,7,0))","v":""},{"$f":"IF($C15=\"\",\"\",VLOOKUP($C15,INSCRITS!$D$4:$W$501,9,0))","v":""},null,null,null,null,null,null,"SERIE 2",null,{"$f":"IF($N15=\"\",\"\",VLOOKUP($N15,INSCRITS!$D$4:$W$501,6,0))","v":""},{"$f":"IF($N15=\"\",\"\",VLOOKUP($N15,INSCRITS!$D$4:$W$501,7,0))","v":""},{"$f":"IF($N15=\"\",\"\",VLOOKUP($N15,INSCRITS!$D$4:$W$501,9,0))","v":""},null,null,null,"SERIE 2",null,{"$f":"IF($V15=\"\",\"\",VLOOKUP($V15,INSCRITS!$D$4:$W$501,6,0))","v":""},{"$f":"IF($V15=\"\",\"\",VLOOKUP($V15,INSCRITS!$D$4:$W$501,7,0))","v":""},{"$f":"IF($V15=\"\",\"\",VLOOKUP($V15,INSCRITS!$D$4:$W$501,9,0))","v":""}]
[null,"SERIE 2",138,{"$f":"IF($C16=\"\",\"\",VLOOKUP($C16,INSCRITS!$D$4:$W$501,6,0))","v":"LABAT"},{"$f":"IF($C16=\"\",\"\",VLOOKUP($C16,INSCRITS!$D$4:$W$501,7,0))","v":"Maxime"},{"$f":"IF($C16=\"\",\"\",VLOOKUP($C16,INSCRITS!$D$4:$W$501,9,0))","v":"Biarritz SC"},null,null,null,null,null,null,null,null,{"$f":"IF($N16=\"\",\"\",VLOOKUP($N16,INSCRITS!$D$4:$W$501,6,0))","v":""},{"$f":"IF($N16=\"\",\"\",VLOOKUP($N16,INSCRITS!$D$4:$W$501,7,0))","v":""},{"$f":"IF($N16=\"\",\"\",VLOOKUP($N16,INSCRITS!$D$4:$W$501,9,0))","v":""},null,null,null,null,null,{"$f":"IF($V16=\"\",\"\",VLOOKUP($V16,INSCRITS!$D$4:$W$501,6,0))","v":""},{"$f":"IF($V16=\"\",\"\",VLOOKUP($V16,INSCRITS!$D$4:$W$501,7,0))","v":""},{"$f":"IF($V16=\"\",\"\",VLOOKUP($V16,INSCRITS!$D$4:$W$501,9,0))","v":""},null,null,null,"FINALE B",126,{"$f":"IF($AD16=\"\",\"\",VLOOKUP($AD16,INSCRITS!$D$4:$W$501,6,0))","v":"PLESSIS"},{"$f":"IF($AD16=\"\",\"\",VLOOKUP($AD16,INSCRITS!$D$4:$W$501,7,0))","v":"Quentin"},{"$f":"IF($AD16=\"\",\"\",VLOOKUP($AD16,INSCRITS!$D$4:$W$501,9,0))","v":"AQUALOVE"},null,9,{"$f":"IF(AI16=\"\",\"\",VLOOKUP(AI16,points,2))","v":8}]
[null,null,147,{"$f":"IF($C17=\"\",\"\",VLOOKUP($C17,INSCRITS!$D$4:$W$501,6,0))","v":"WAGNER"},{"$f":"IF($C17=\"\",\"\",VLOOKUP($C17,INSCRITS!$D$4:$W$501,7,0))","v":"Florian"},{"$f":"IF($C17=\"\",\"\",VLOOKUP($C17,INSCRITS!$D$4:$W$501,9,0))","v":"COLMAR ACSS"},null,null,null,null,null,null,null,null,{"$f":"IF($N17=\"\",\"\",VLOOKUP($N17,INSCRITS!$D$4:$W$501,6,0))","v":""},{"$f":"IF($N17=\"\",\"\",VLOOKUP($N17,INSCRITS!$D$4:$W$501,7,0))","v":""},{"$f":"IF($N17=\"\",\"\",VLOOKUP($N17,INSCRITS!$D$4:$W$501,9,0))","v":""},null,null,null,null,null,{"$f":"IF($V17=\"\",\"\",VLOOKUP($V17,INSCRITS!$D$4:$W$501,6,0))","v":""},{"$f":"IF($V17=\"\",\"\",VLOOKUP($V17,INSCRITS!$D$4:$W$501,7,0))","v":""},{"$f":"IF($V17=\"\",\"\",VLOOKUP($V17,INSCRITS!$D$4:$W$501,9,0))","v":""},null,null,null,null,149,{"$f":"IF($AD17=\"\",\"\",VLOOKUP($AD17,INSCRITS!$D$4:$W$501,6,0))","v":"CABROL"},{"$f":"IF($AD17=\"\",\"\",VLOOKUP($AD17,INSCRITS!$D$4:$W$501,7,0))","v":"Xavier"},{"$f":"IF($AD17=\"\",\"\",VLOOKUP($AD17,INSCRITS!$D$4:$W$501,9,0))","v":"ENA"},null,10,7]
[null,null,146,{"$f":"IF($C18=\"\",\"\",VLOOKUP($C18,INSCRITS!$D$4:$W$501,6,0))","v":"DEMBLOCQUE"},{"$f":"IF($C18=\"\",\"\",VLOOKUP($C18,INSCRITS!$D$4:$W$501,7,0))","v":"Théo"},{"$f":"IF($C18=\"\",\"\",VLOOKUP($C18,INSCRITS!$D$4:$W$501,9,0))","v":"Capbreton"},null,null,null,null,null,null,null,null,{"$f":"IF($N18=\"\",\"\",VLOOKUP($N18,INSCRITS!$D$4:$W$501,6,0))","v":""},{"$f":"IF($N18=\"\",\"\",VLOOKUP($N18,INSCRITS!$D$4:$W$501,7,0))","v":""},{"$f":"IF($N18=\"\",\"\",VLOOKUP($N18,INSCRITS!$D$4:$W$501,9,0))","v":""},null,null,null,null,null,{"$f":"IF($V18=\"\",\"\",VLOOKUP($V18,INSCRITS!$D$4:$W$501,6,0))","v":""},{"$f":"IF($V18=\"\",\"\",VLOOKUP($V18,INSCRITS!$D$4:$W$501,7,0))","v":""},{"$f":"IF($V18=\"\",\"\",VLOOKUP($V18,INSCRITS!$D$4:$W$501,9,0))","v":""},null,null,null,null,141,{"$f":"IF($AD18=\"\",\"\",VLOOKUP($AD18,INSCRITS!$D$4:$W$501,6,0))","v":"LAUBUGE"},{"$f":"IF($AD18=\"\",\"\",VLOOKUP($AD18,INSCRITS!$D$4:$W$501,7,0))","v":"Nathanael"},{"$f":"IF($AD18=\"\",\"\",VLOOKUP($AD18,INSCRITS!$D$4:$W$501,9,0))","v":"BOSS"},null,11,6]
[null,null,131,{"$f":"IF($C19=\"\",\"\",VLOOKUP($C19,INSCRITS!$D$4:$W$501,6,0))","v":"FOS"},{"$f":"IF($C19=\"\",\"\",VLOOKUP($C19,INSCRITS!$D$4:$W$501,7,0))","v":"Dorian"},{"$f":"IF($C19=\"\",\"\",VLOOKUP($C19,INSCRITS!$D$4:$W$501,9,0))","v":"BEGLES"},null,null,null,null,null,null,null,null,{"$f":"IF($N19=\"\",\"\",VLOOKUP($N19,INSCRITS!$D$4:$W$501,6,0))","v":""},{"$f":"IF($N19=\"\",\"\",VLOOKUP($N19,INSCRITS!$D$4:$W$501,7,0))","v":""},{"$f":"IF($N19=\"\",\"\",VLOOKUP($N19,INSCRITS!$D$4:$W$501,9,0))","v":""},null,null,null,null,null,{"$f":"IF($V19=\"\",\"\",VLOOKUP($V19,INSCRITS!$D$4:$W$501,6,0))","v":""},{"$f":"IF($V19=\"\",\"\",VLOOKUP($V19,INSCRITS!$D$4:$W$501,7,0))","v":""},{"$f":"IF($V19=\"\",\"\",VLOOKUP($V19,INSCRITS!$D$4:$W$501,9,0))","v":""},null,null,null,null,139,{"$f":"IF($AD19=\"\",\"\",VLOOKUP($AD19,INSCRITS!$D$4:$W$501,6,0))","v":"PUYAU"},{"$f":"IF($AD19=\"\",\"\",VLOOKUP($AD19,INSCRITS!$D$4:$W$501,7,0))","v":"Pierre"},{"$f":"IF($AD19=\"\",\"\",VLOOKUP($AD19,INSCRITS!$D$4:$W$501,9,0))","v":"Biarritz SC"},null,12,5]
[null,null,142,{"$f":"IF($C20=\"\",\"\",VLOOKUP($C20,INSCRITS!$D$4:$W$501,6,0))","v":"PERRIN"},{"$f":"IF($C20=\"\",\"\",VLOOKUP($C20,INSCRITS!$D$4:$W$501,7,0))","v":"Hugo"},{"$f":"IF($C20=\"\",\"\",VLOOKUP($C20,INSCRITS!$D$4:$W$501,9,0))","v":"BOSS"},null,null,null,null,null,null,null,null,{"$f":"IF($N20=\"\",\"\",VLOOKUP($N20,INSCRITS!$D$4:$W$501,6,0))","v":""},{"$f":"IF($N20=\"\",\"\",VLOOKUP($N20,INSCRITS!$D$4:$W$501,7,0))","v":""},{"$f":"IF($N20=\"\",\"\",VLOOKUP($N20,INSCRITS!$D$4:$W$501,9,0))","v":""},null,null,null,null,null,{"$f":"IF($V20=\"\",\"\",VLOOKUP($V20,INSCRITS!$D$4:$W$501,6,0))","v":""},{"$f":"IF($V20=\"\",\"\",VLOOKUP($V20,INSCRITS!$D$4:$W$501,7,0))","v":""},{"$f":"IF($V20=\"\",\"\",VLOOKUP($V20,INSCRITS!$D$4:$W$501,9,0))","v":""},null,null,null,null,136,{"$f":"IF($AD20=\"\",\"\",VLOOKUP($AD20,INSCRITS!$D$4:$W$501,6,0))","v":"DUCOUDRET"},{"$f":"IF($AD20=\"\",\"\",VLOOKUP($AD20,INSCRITS!$D$4:$W$501,7,0))","v":"Arnaud"},{"$f":"IF($AD20=\"\",\"\",VLOOKUP($AD20,INSCRITS!$D$4:$W$501,9,0))","v":"Biarritz SC"},null,13,4]
[null,null,158,{"$f":"IF($C21=\"\",\"\",VLOOKUP($C21,INSCRITS!$D$4:$W$501,6,0))","v":"PINTORI"},{"$f":"IF($C21=\"\",\"\",VLOOKUP($C21,INSCRITS!$D$4:$W$501,7,0))","v":"Luc"},{"$f":"IF($C21=\"\",\"\",VLOOKUP($C21,INSCRITS!$D$4:$W$501,9,0))","v":"MNSL"},null,null,null,null,null,null,null,null,{"$f":"IF($N21=\"\",\"\",VLOOKUP($N21,INSCRITS!$D$4:$W$501,6,0))","v":""},{"$f":"IF($N21=\"\",\"\",VLOOKUP($N21,INSCRITS!$D$4:$W$501,7,0))","v":""},{"$f":"IF($N21=\"\",\"\",VLOOKUP($N21,INSCRITS!$D$4:$W$501,9,0))","v":""},null,null,null,null,null,{"$f":"IF($V21=\"\",\"\",VLOOKUP($V21,INSCRITS!$D$4:$W$501,6,0))","v":""},{"$f":"IF($V21=\"\",\"\",VLOOKUP($V21,INSCRITS!$D$4:$W$501,7,0))","v":""},{"$f":"IF($V21=\"\",\"\",VLOOKUP($V21,INSCRITS!$D$4:$W$501,9,0))","v":""},null,null,null,null,147,{"$f":"IF($AD21=\"\",\"\",VLOOKUP($AD21,INSCRITS!$D$4:$W$501,6,0))","v":"WAGNER"},{"$f":"IF($AD21=\"\",\"\",VLOOKUP($AD21,INSCRITS!$D$4:$W$501,7,0))","v":"Florian"},{"$f":"IF($AD21=\"\",\"\",VLOOKUP($AD21,INSCRITS!$D$4:$W$501,9,0))","v":"COLMAR ACSS"},null,14,3]
[null,null,154,{"$f":"IF($C22=\"\",\"\",VLOOKUP($C22,INSCRITS!$D$4:$W$501,6,0))","v":"LAUSSU"},{"$f":"IF($C22=\"\",\"\",VLOOKUP($C22,INSCRITS!$D$4:$W$501,7,0))","v":"Quentin"},{"$f":"IF($C22=\"\",\"\",VLOOKUP($C22,INSCRITS!$D$4:$W$501,9,0))","v":"lit et mixe"},null,null,null,null,null,null,null,null,{"$f":"IF($N22=\"\",\"\",VLOOKUP($N22,INSCRITS!$D$4:$W$501,6,0))","v":""},{"$f":"IF($N22=\"\",\"\",VLOOKUP($N22,INSCRITS!$D$4:$W$501,7,0))","v":""},{"$f":"IF($N22=\"\",\"\",VLOOKUP($N22,INSCRITS!$D$4:$W$501,9,0))","v":""},null,null,null,null,null,{"$f":"IF($V22=\"\",\"\",VLOOKUP($V22,INSCRITS!$D$4:$W$501,6,0))","v":""},{"$f":"IF($V22=\"\",\"\",VLOOKUP($V22,INSCRITS!$D$4:$W$501,7,0))","v":""},{"$f":"IF($V22=\"\",\"\",VLOOKUP($V22,INSCRITS!$D$4:$W$501,9,0))","v":""},null,null,null,null,150,{"$f":"IF($AD22=\"\",\"\",VLOOKUP($AD22,INSCRITS!$D$4:$W$501,6,0))","v":"MATHIEU"},{"$f":"IF($AD22=\"\",\"\",VLOOKUP($AD22,INSCRITS!$D$4:$W$501,7,0))","v":"Simon"},{"$f":"IF($AD22=\"\",\"\",VLOOKUP($AD22,INSCRITS!$D$4:$W$501,9,0))","v":"ENA"},null,15,2]
[null,null,122,{"$f":"IF($C23=\"\",\"\",VLOOKUP($C23,INSCRITS!$D$4:$W$501,6,0))","v":"LAVALLARD"},{"$f":"IF($C23=\"\",\"\",VLOOKUP($C23,INSCRITS!$D$4:$W$501,7,0))","v":"Logan"},{"$f":"IF($C23=\"\",\"\",VLOOKUP($C23,INSCRITS!$D$4:$W$501,9,0))","v":"Amiens sauvetage"},null,null,null,null,null,null,"SERIE 3",null,{"$f":"IF($N23=\"\",\"\",VLOOKUP($N23,INSCRITS!$D$4:$W$501,6,0))","v":""},{"$f":"IF($N23=\"\",\"\",VLOOKUP($N23,INSCRITS!$D$4:$W$501,7,0))","v":""},{"$f":"IF($N23=\"\",\"\",VLOOKUP($N23,INSCRITS!$D$4:$W$501,9,0))","v":""},null,null,null,null,null,null,null,null,null,null,null,null,null,{"$f":"IF($AD23=\"\",\"\",VLOOKUP($AD23,INSCRITS!$D$4:$W$501,6,0))","v":""},{"$f":"IF($AD23=\"\",\"\",VLOOKUP($AD23,INSCRITS!$D$4:$W$501,7,0))","v":""},{"$f":"IF($AD23=\"\",\"\",VLOOKUP($AD23,INSCRITS!$D$4:$W$501,9,0))","v":""},null,null,""]
[null,null,123,{"$f":"IF($C24=\"\",\"\",VLOOKUP($C24,INSCRITS!$D$4:$W$501,6,0))","v":"VANDENBERGHE"},{"$f":"IF($C24=\"\",\"\",VLOOKUP($C24,INSCRITS!$D$4:$W$501,7,0))","v":"Sébastien"},{"$f":"IF($C24=\"\",\"\",VLOOKUP($C24,INSCRITS!$D$4:$W$501,9,0))","v":"ANV"},null,null,null,null,null,null,null,null,{"$f":"IF($N24=\"\",\"\",VLOOKUP($N24,INSCRITS!$D$4:$W$501,6,0))","v":""},{"$f":"IF($N24=\"\",\"\",VLOOKUP($N24,INSCRITS!$D$4:$W$501,7,0))","v":""},{"$f":"IF($N24=\"\",\"\",VLOOKUP($N24,INSCRITS!$D$4:$W$501,9,0))","v":""}]
[null,"SERIE 3",null,{"$f":"IF($C25=\"\",\"\",VLOOKUP($C25,INSCRITS!$D$4:$W$501,6,0))","v":""},{"$f":"IF($C25=\"\",\"\",VLOOKUP($C25,INSCRITS!$D$4:$W$501,7,0))","v":""},{"$f":"IF($C25=\"\",\"\",VLOOKUP($C25,INSCRITS!$D$4:$W$501,9,0))","v":""},null,null,null,null,null,null,null,null,{"$f":"IF($N25=\"\",\"\",VLOOKUP($N25,INSCRITS!$D$4:$W$501,6,0))","v":""},{"$f":"IF($N25=\"\",\"\",VLOOKUP($N25,INSCRITS!$D$4:$W$501,7,0))","v":""},{"$f":"IF($N25=\"\",\"\",VLOOKUP($N25,INSCRITS!$D$4:$W$501,9,0))","v":""},null,null,null,null,null,null,null,null,null,null,null,"FINALE C",null,{"$f":"IF($AD25=\"\",\"\",VLOOKUP($AD25,INSCRITS!$D$4:$W$501,6,0))","v":""},{"$f":"IF($AD25=\"\",\"\",VLOOKUP($AD25,INSCRITS!$D$4:$W$501,7,0))","v":""},{"$f":"IF($AD25=\"\",\"\",VLOOKUP($AD25,INSCRITS!$D$4:$W$501,9,0))","v":""},null,1]
[null,null,157,{"$f":"IF($C26=\"\",\"\",VLOOKUP($C26,INSCRITS!$D$4:$W$501,6,0))","v":"KOZARD"},{"$f":"IF($C26=\"\",\"\",VLOOKUP($C26,INSCRITS!$D$4:$W$501,7,0))","v":"Pierre-Antoine"},{"$f":"IF($C26=\"\",\"\",VLOOKUP($C26,INSCRITS!$D$4:$W$501,9,0))","v":"MNSL"},null,null,null,null,null,null,null,null,{"$f":"IF($N26=\"\",\"\",VLOOKUP($N26,INSCRITS!$D$4:$W$501,6,0))","v":""},{"$f":"IF($N26=\"\",\"\",VLOOKUP($N26,INSCRITS!$D$4:$W$501,7,0))","v":""},{"$f":"IF($N26=\"\",\"\",VLOOKUP($N26,INSCRITS!$D$4:$W$501,9,0))","v":""},null,null,null,null,null,null,null,null,null,null,null,null,null,{"$f":"IF($AD26=\"\",\"\",VLOOKUP($AD26,INSCRITS!$D$4:$W$501,6,0))","v":""},{"$f":"IF($AD26=\"\",\"\",VLOOKUP($AD26,INSCRITS!$D$4:$W$501,7,0))","v":""},{"$f":"IF($AD26=\"\",\"\",VLOOKUP($AD26,INSCRITS!$D$4:$W$501,9,0))","v":""},null,2]
[null,null,141,{"$f":"IF($C27=\"\",\"\",VLOOKUP($C27,INSCRITS!$D$4:$W$501,6,0))","v":"LAUBUGE"},{"$f":"IF($C27=\"\",\"\",VLOOKUP($C27,INSCRITS!$D$4:$W$501,7,0))","v":"Nathanael"},{"$f":"IF($C27=\"\",\"\",VLOOKUP($C27,INSCRITS!$D$4:$W$501,9,0))","v":"BOSS"},null,null,null,null,null,null,null,null,{"$f":"IF($N27=\"\",\"\",VLOOKUP($N27,INSCRITS!$D$4:$W$501,6,0))","v":""},{"$f":"IF($N27=\"\",\"\",VLOOKUP($N27,INSCRITS!$D$4:$W$501,7,0))","v":""},{"$f":"IF($N27=\"\",\"\",VLOOKUP($N27,INSCRITS!$D$4:$W$501,9,0))","v":""},null,null,null,null,null,null,null,null,null,null,null,null,null,{"$f":"IF($AD27=\"\",\"\",VLOOKUP($AD27,INSCRITS!$D$4:$W$501,6,0))","v":""},{"$f":"IF($AD27=\"\",\"\",VLOOKUP($AD27,INSCRITS!$D$4:$W$501,7,0))","v":""},{"$f":"IF($AD27=\"\",\"\",VLOOKUP($AD27,INSCRITS!$D$4:$W$501,9,0))","v":""},null,3]
[null,null,135,{"$f":"IF($C28=\"\",\"\",VLOOKUP($C28,INSCRITS!$D$4:$W$501,6,0))","v":"DE SAINT BLANQUAT"},{"$f":"IF($C28=\"\",\"\",VLOOKUP($C28,INSCRITS!$D$4:$W$501,7,0))","v":"Thomas"},{"$f":"IF($C28=\"\",\"\",VLOOKUP($C28,INSCRITS!$D$4:$W$501,9,0))","v":"Biarritz SC"},null,null,null,null,null,null,null,null,{"$f":"IF($N28=\"\",\"\",VLOOKUP($N28,INSCRITS!$D$4:$W$501,6,0))","v":""},{"$f":"IF($N28=\"\",\"\",VLOOKUP($N28,INSCRITS!$D$4:$W$501,7,0))","v":""},{"$f":"IF($N28=\"\",\"\",VLOOKUP($N28,INSCRITS!$D$4:$W$501,9,0))","v":""},null,null,null,null,null,null,null,null,null,null,null,null,null,{"$f":"IF($AD28=\"\",\"\",VLOOKUP($AD28,INSCRITS!$D$4:$W$501,6,0))","v":""},{"$f":"IF($AD28=\"\",\"\",VLOOKUP($AD28,INSCRITS!$D$4:$W$501,7,0))","v":""},{"$f":"IF($AD28=\"\",\"\",VLOOKUP($AD28,INSCRITS!$D$4:$W$501,9,0))","v":""},null,4]
[null,null,140,{"$f":"IF($C29=\"\",\"\",VLOOKUP($C29,INSCRITS!$D$4:$W$501,6,0))","v":"YOH"},{"$f":"IF($C29=\"\",\"\",VLOOKUP($C29,INSCRITS!$D$4:$W$501,7,0))","v":"Titouan"},{"$f":"IF($C29=\"\",\"\",VLOOKUP($C29,INSCRITS!$D$4:$W$501,9,0))","v":"Biarritz SC"},null,null,null,null,null,null,null,null,{"$f":"IF($N29=\"\",\"\",VLOOKUP($N29,INSCRITS!$D$4:$W$501,6,0))","v":""},{"$f":"IF($N29=\"\",\"\",VLOOKUP($N29,INSCRITS!$D$4:$W$501,7,0))","v":""},{"$f":"IF($N29=\"\",\"\",VLOOKUP($N29,INSCRITS!$D$4:$W$501,9,0))","v":""},null,null,null,null,null,null,null,null,null,null,null,null,null,{"$f":"IF($AD29=\"\",\"\",VLOOKUP($AD29,INSCRITS!$D$4:$W$501,6,0))","v":""},{"$f":"IF($AD29=\"\",\"\",VLOOKUP($AD29,INSCRITS!$D$4:$W$501,7,0))","v":""},{"$f":"IF($AD29=\"\",\"\",VLOOKUP($AD29,INSCRITS!$D$4:$W$501,9,0))","v":""},null,5]
[null,null,124,{"$f":"IF($C30=\"\",\"\",VLOOKUP($C30,INSCRITS!$D$4:$W$501,6,0))","v":"ALARCON"},{"$f":"IF($C30=\"\",\"\",VLOOKUP($C30,INSCRITS!$D$4:$W$501,7,0))","v":"Benjamin"},{"$f":"IF($C30=\"\",\"\",VLOOKUP($C30,INSCRITS!$D$4:$W$501,9,0))","v":"AQUALOVE"},null,null,null,null,null,null,null,null,{"$f":"IF($N30=\"\",\"\",VLOOKUP($N30,INSCRITS!$D$4:$W$501,6,0))","v":""},{"$f":"IF($N30=\"\",\"\",VLOOKUP($N30,INSCRITS!$D$4:$W$501,7,0))","v":""},{"$f":"IF($N30=\"\",\"\",VLOOKUP($N30,INSCRITS!$D$4:$W$501,9,0))","v":""},null,null,null,null,null,null,null,null,null,null,null,null,null,{"$f":"IF($AD30=\"\",\"\",VLOOKUP($AD30,INSCRITS!$D$4:$W$501,6,0))","v":""},{"$f":"IF($AD30=\"\",\"\",VLOOKUP($AD30,INSCRITS!$D$4:$W$501,7,0))","v":""},{"$f":"IF($AD30=\"\",\"\",VLOOKUP($AD30,INSCRITS!$D$4:$W$501,9,0))","v":""},null,6]
[null,null,145,{"$f":"IF($C31=\"\",\"\",VLOOKUP($C31,INSCRITS!$D$4:$W$501,6,0))","v":"VECCHINI"},{"$f":"IF($C31=\"\",\"\",VLOOKUP($C31,INSCRITS!$D$4:$W$501,7,0))","v":"Thierry"},{"$f":"IF($C31=\"\",\"\",VLOOKUP($C31,INSCRITS!$D$4:$W$501,9,0))","v":"Cannes Sauvetage Côtier"},null,null,null,null,null,null,"SERIE 4",null,{"$f":"IF($N31=\"\",\"\",VLOOKUP($N31,INSCRITS!$D$4:$W$501,6,0))","v":""},{"$f":"IF($N31=\"\",\"\",VLOOKUP($N31,INSCRITS!$D$4:$W$501,7,0))","v":""},{"$f":"IF($N31=\"\",\"\",VLOOKUP($N31,INSCRITS!$D$4:$W$501,9,0))","v":""},null,null,null,null,null,null,null,null,null,null,null,null,null,{"$f":"IF($AD31=\"\",\"\",VLOOKUP($AD31,INSCRITS!$D$4:$W$501,6,0))","v":""},{"$f":"IF($AD31=\"\",\"\",VLOOKUP($AD31,INSCRITS!$D$4:$W$501,7,0))","v":""},{"$f":"IF($AD31=\"\",\"\",VLOOKUP($AD31,INSCRITS!$D$4:$W$501,9,0))","v":""},null,7]
[null,null,132,{"$f":"IF($C32=\"\",\"\",VLOOKUP($C32,INSCRITS!$D$4:$W$501,6,0))","v":"ARTOLA"},{"$f":"IF($C32=\"\",\"\",VLOOKUP($C32,INSCRITS!$D$4:$W$501,7,0))","v":"Bixente"},{"$f":"IF($C32=\"\",\"\",VLOOKUP($C32,INSCRITS!$D$4:$W$501,9,0))","v":"BELHARRA WC"},null,null,null,null,null,null,null,null,{"$f":"IF($N32=\"\",\"\",VLOOKUP($N32,INSCRITS!$D$4:$W$501,6,0))","v":""},{"$f":"IF($N32=\"\",\"\",VLOOKUP($N32,INSCRITS!$D$4:$W$501,7,0))","v":""},{"$f":"IF($N32=\"\",\"\",VLOOKUP($N32,INSCRITS!$D$4:$W$501,9,0))","v":""},null,null,null,null,null,null,null,null,null,null,null,null,null,{"$f":"IF($AD32=\"\",\"\",VLOOKUP($AD32,INSCRITS!$D$4:$W$501,6,0))","v":""},{"$f":"IF($AD32=\"\",\"\",VLOOKUP($AD32,INSCRITS!$D$4:$W$501,7,0))","v":""},{"$f":"IF($AD32=\"\",\"\",VLOOKUP($AD32,INSCRITS!$D$4:$W$501,9,0))","v":""},null,8]
[null,null,null,{"$f":"IF($C33=\"\",\"\",VLOOKUP($C33,INSCRITS!$D$4:$W$501,6,0))","v":""},{"$f":"IF($C33=\"\",\"\",VLOOKUP($C33,INSCRITS!$D$4:$W$501,7,0))","v":""},{"$f":"IF($C33=\"\",\"\",VLOOKUP($C33,INSCRITS!$D$4:$W$501,9,0))","v":""},null,null,null,null,null,null,null,null,{"$f":"IF($N33=\"\",\"\",VLOOKUP($N33,INSCRITS!$D$4:$W$501,6,0))","v":""},{"$f":"IF($N33=\"\",\"\",VLOOKUP($N33,INSCRITS!$D$4:$W$501,7,0))","v":""},{"$f":"IF($N33=\"\",\"\",VLOOKUP($N33,INSCRITS!$D$4:$W$501,9,0))","v":""}]
[null,"SERIE 4",156,{"$f":"IF($C34=\"\",\"\",VLOOKUP($C34,INSCRITS!$D$4:$W$501,6,0))","v":"FORSANS"},{"$f":"IF($C34=\"\",\"\",VLOOKUP($C34,INSCRITS!$D$4:$W$501,7,0))","v":"Remy"},{"$f":"IF($C34=\"\",\"\",VLOOKUP($C34,INSCRITS!$D$4:$W$501,9,0))","v":"MNSL"},null,null,null,null,null,null,null,null,{"$f":"IF($N34=\"\",\"\",VLOOKUP($N34,INSCRITS!$D$4:$W$501,6,0))","v":""},{"$f":"IF($N34=\"\",\"\",VLOOKUP($N34,INSCRITS!$D$4:$W$501,7,0))","v":""},{"$f":"IF($N34=\"\",\"\",VLOOKUP($N34,INSCRITS!$D$4:$W$501,9,0))","v":""},null,null,null,null,null,null,null,null,null,null,null,"FINALE D",null,{"$f":"IF($AD34=\"\",\"\",VLOOKUP($AD34,INSCRITS!$D$4:$W$501,6,0))","v":""},{"$f":"IF($AD34=\"\",\"\",VLOOKUP($AD34,INSCRITS!$D$4:$W$501,7,0))","v":""},{"$f":"IF($AD34=\"\",\"\",VLOOKUP($AD34,INSCRITS!$D$4:$W$501,9,0))","v":""},null,1]
[null,null,137,{"$f":"IF($C35=\"\",\"\",VLOOKUP($C35,INSCRITS!$D$4:$W$501,6,0))","v":"GAUDIN"},{"$f":"IF($C35=\"\",\"\",VLOOKUP($C35,INSCRITS!$D$4:$W$501,7,0))","v":"Arnaud"},{"$f":"IF($C35=\"\",\"\",VLOOKUP($C35,INSCRITS!$D$4:$W$501,9,0))","v":"Biarritz SC"},null,null,null,null,null,null,null,null,{"$f":"IF($N35=\"\",\"\",VLOOKUP($N35,INSCRITS!$D$4:$W$501,6,0))","v":""},{"$f":"IF($N35=\"\",\"\",VLOOKUP($N35,INSCRITS!$D$4:$W$501,7,0))","v":""},{"$f":"IF($N35=\"\",\"\",VLOOKUP($N35,INSCRITS!$D$4:$W$501,9,0))","v":""},null,null,null,null,null,null,null,null,null,null,null,null,null,{"$f":"IF($AD35=\"\",\"\",VLOOKUP($AD35,INSCRITS!$D$4:$W$501,6,0))","v":""},{"$f":"IF($AD35=\"\",\"\",VLOOKUP($AD35,INSCRITS!$D$4:$W$501,7,0))","v":""},{"$f":"IF($AD35=\"\",\"\",VLOOKUP($AD35,INSCRITS!$D$4:$W$501,9,0))","v":""},null,2]
[null,null,152,{"$f":"IF($C36=\"\",\"\",VLOOKUP($C36,INSCRITS!$D$4:$W$501,6,0))","v":"CIER"},{"$f":"IF($C36=\"\",\"\",VLOOKUP($C36,INSCRITS!$D$4:$W$501,7,0))","v":"Jules"},{"$f":"IF($C36=\"\",\"\",VLOOKUP($C36,INSCRITS!$D$4:$W$501,9,0))","v":"HSC"},null,null,null,null,null,null,null,null,{"$f":"IF($N36=\"\",\"\",VLOOKUP($N36,INSCRITS!$D$4:$W$501,6,0))","v":""},{"$f":"IF($N36=\"\",\"\",VLOOKUP($N36,INSCRITS!$D$4:$W$501,7,0))","v":""},{"$f":"IF($N36=\"\",\"\",VLOOKUP($N36,INSCRITS!$D$4:$W$501,9,0))","v":""},null,null,null,null,null,null,null,null,null,null,null,null,null,{"$f":"IF($AD36=\"\",\"\",VLOOKUP($AD36,INSCRITS!$D$4:$W$501,6,0))","v":""},{"$f":"IF($AD36=\"\",\"\",VLOOKUP($AD36,INSCRITS!$D$4:$W$501,7,0))","v":""},{"$f":"IF($AD36=\"\",\"\",VLOOKUP($AD36,INSCRITS!$D$4:$W$501,9,0))","v":""},null,3]
[null,null,126,{"$f":"IF($C37=\"\",\"\",VLOOKUP($C37,INSCRITS!$D$4:$W$501,6,0))","v":"PLESSIS"},{"$f":"IF($C37=\"\",\"\",VLOOKUP($C37,INSCRITS!$D$4:$W$501,7,0))","v":"Quentin"},{"$f":"IF($C37=\"\",\"\",VLOOKUP($C37,INSCRITS!$D$4:$W$501,9,0))","v":"AQUALOVE"},null,null,null,null,null,null,null,null,{"$f":"IF($N37=\"\",\"\",VLOOKUP($N37,INSCRITS!$D$4:$W$501,6,0))","v":""},{"$f":"IF($N37=\"\",\"\",VLOOKUP($N37,INSCRITS!$D$4:$W$501,7,0))","v":""},{"$f":"IF($N37=\"\",\"\",VLOOKUP($N37,INSCRITS!$D$4:$W$501,9,0))","v":""},null,null,null,null,null,null,null,null,null,null,null,null,null,{"$f":"IF($AD37=\"\",\"\",VLOOKUP($AD37,INSCRITS!$D$4:$W$501,6,0))","v":""},{"$f":"IF($AD37=\"\",\"\",VLOOKUP($AD37,INSCRITS!$D$4:$W$501,7,0))","v":""},{"$f":"IF($AD37=\"\",\"\",VLOOKUP($AD37,INSCRITS!$D$4:$W$501,9,0))","v":""},null,4]
[null,null,136,{"$f":"IF($C38=\"\",\"\",VLOOKUP($C38,INSCRITS!$D$4:$W$501,6,0))","v":"DUCOUDRET"},{"$f":"IF($C38=\"\",\"\",VLOOKUP($C38,INSCRITS!$D$4:$W$501,7,0))","v":"Arnaud"},{"$f":"IF($C38=\"\",\"\",VLOOKUP($C38,INSCRITS!$D$4:$W$501,9,0))","v":"Biarritz SC"},null,null,null,null,null,null,null,null,{"$f":"IF($N38=\"\",\"\",VLOOKUP($N38,INSCRITS!$D$4:$W$501,6,0))","v":""},{"$f":"IF($N38=\"\",\"\",VLOOKUP($N38,INSCRITS!$D$4:$W$501,7,0))","v":""},{"$f":"IF($N38=\"\",\"\",VLOOKUP($N38,INSCRITS!$D$4:$W$501,9,0))","v":""},null,null,null,null,null,null,null,null,null,null,null,null,null,{"$f":"IF($AD38=\"\",\"\",VLOOKUP($AD38,INSCRITS!$D$4:$W$501,6,0))","v":""},{"$f":"IF($AD38=\"\",\"\",VLOOKUP($AD38,INSCRITS!$D$4:$W$501,7,0))","v":""},{"$f":"IF($AD38=\"\",\"\",VLOOKUP($AD38,INSCRITS!$D$4:$W$501,9,0))","v":""},null,5]
[null,null,150,{"$f":"IF($C39=\"\",\"\",VLOOKUP($C39,INSCRITS!$D$4:$W$501,6,0))","v":"MATHIEU"},{"$f":"IF($C39=\"\",\"\",VLOOKUP($C39,INSCRITS!$D$4:$W$501,7,0))","v":"Simon"},{"$f":"IF($C39=\"\",\"\",VLOOKUP($C39,INSCRITS!$D$4:$W$501,9,0))","v":"ENA"},null,null,null,null,null,null,"SERIE 5",null,{"$f":"IF($N39=\"\",\"\",VLOOKUP($N39,INSCRITS!$D$4:$W$501,6,0))","v":""},{"$f":"IF($N39=\"\",\"\",VLOOKUP($N39,INSCRITS!$D$4:$W$501,7,0))","v":""},{"$f":"IF($N39=\"\",\"\",VLOOKUP($N39,INSCRITS!$D$4:$W$501,9,0))","v":""},null,null,null,null,null,null,null,null,null,null,null,null,null,{"$f":"IF($AD39=\"\",\"\",VLOOKUP($AD39,INSCRITS!$D$4:$W$501,6,0))","v":""},{"$f":"IF($AD39=\"\",\"\",VLOOKUP($AD39,INSCRITS!$D$4:$W$501,7,0))","v":""},{"$f":"IF($AD39=\"\",\"\",VLOOKUP($AD39,INSCRITS!$D$4:$W$501,9,0))","v":""}]
[null,null,127,{"$f":"IF($C40=\"\",\"\",VLOOKUP($C40,INSCRITS!$D$4:$W$501,6,0))","v":"CADOT"},{"$f":"IF($C40=\"\",\"\",VLOOKUP($C40,INSCRITS!$D$4:$W$501,7,0))","v":"François"},{"$f":"IF($C40=\"\",\"\",VLOOKUP($C40,INSCRITS!$D$4:$W$501,9,0))","v":"ASCE DINARD"},null,null,null,null,null,null,null,null,{"$f":"IF($N40=\"\",\"\",VLOOKUP($N40,INSCRITS!$D$4:$W$501,6,0))","v":""},{"$f":"IF($N40=\"\",\"\",VLOOKUP($N40,INSCRITS!$D$4:$W$501,7,0))","v":""},{"$f":"IF($N40=\"\",\"\",VLOOKUP($N40,INSCRITS!$D$4:$W$501,9,0))","v":""},null,null,null,null,null,null,null,null,null,null,null,null,null,{"$f":"IF($AD40=\"\",\"\",VLOOKUP($AD40,INSCRITS!$D$4:$W$501,6,0))","v":""},{"$f":"IF($AD40=\"\",\"\",VLOOKUP($AD40,INSCRITS!$D$4:$W$501,7,0))","v":""},{"$f":"IF($AD40=\"\",\"\",VLOOKUP($AD40,INSCRITS!$D$4:$W$501,9,0))","v":""}]
[null,null,133,{"$f":"IF($C41=\"\",\"\",VLOOKUP($C41,INSCRITS!$D$4:$W$501,6,0))","v":"SOLABERRIETA"},{"$f":"IF($C41=\"\",\"\",VLOOKUP($C41,INSCRITS!$D$4:$W$501,7,0))","v":"Jean"},{"$f":"IF($C41=\"\",\"\",VLOOKUP($C41,INSCRITS!$D$4:$W$501,9,0))","v":"BELHARRA WC"},null,null,null,null,null,null,null,null,{"$f":"IF($N41=\"\",\"\",VLOOKUP($N41,INSCRITS!$D$4:$W$501,6,0))","v":""},{"$f":"IF($N41=\"\",\"\",VLOOKUP($N41,INSCRITS!$D$4:$W$501,7,0))","v":""},{"$f":"IF($N41=\"\",\"\",VLOOKUP($N41,INSCRITS!$D$4:$W$501,9,0))","v":""},null,null,null,null,null,null,null,null,null,null,null,null,null,{"$f":"IF($AD41=\"\",\"\",VLOOKUP($AD41,INSCRITS!$D$4:$W$501,6,0))","v":""},{"$f":"IF($AD41=\"\",\"\",VLOOKUP($AD41,INSCRITS!$D$4:$W$501,7,0))","v":""},{"$f":"IF($AD41=\"\",\"\",VLOOKUP($AD41,INSCRITS!$D$4:$W$501,9,0))","v":""}]
[null,null,null,{"$f":"IF($C42=\"\",\"\",VLOOKUP($C42,INSCRITS!$D$4:$W$501,6,0))","v":""},{"$f":"IF($C42=\"\",\"\",VLOOKUP($C42,INSCRITS!$D$4:$W$501,7,0))","v":""},{"$f":"IF($C42=\"\",\"\",VLOOKUP($C42,INSCRITS!$D$4:$W$501,9,0))","v":""},null,null,null,null,null,null,null,null,{"$f":"IF($N42=\"\",\"\",VLOOKUP($N42,INSCRITS!$D$4:$W$501,6,0))","v":""},{"$f":"IF($N42=\"\",\"\",VLOOKUP($N42,INSCRITS!$D$4:$W$501,7,0))","v":""},{"$f":"IF($N42=\"\",\"\",VLOOKUP($N42,INSCRITS!$D$4:$W$501,9,0))","v":""}]
[null,"SERIE 5",null,{"$f":"IF($C43=\"\",\"\",VLOOKUP($C43,INSCRITS!$D$4:$W$501,6,0))","v":""},{"$f":"IF($C43=\"\",\"\",VLOOKUP($C43,INSCRITS!$D$4:$W$501,7,0))","v":""},{"$f":"IF($C43=\"\",\"\",VLOOKUP($C43,INSCRITS!$D$4:$W$501,9,0))","v":""},null,null,null,null,null,null,null,null,{"$f":"IF($N43=\"\",\"\",VLOOKUP($N43,INSCRITS!$D$4:$W$501,6,0))","v":""},{"$f":"IF($N43=\"\",\"\",VLOOKUP($N43,INSCRITS!$D$4:$W$501,7,0))","v":""},{"$f":"IF($N43=\"\",\"\",VLOOKUP($N43,INSCRITS!$D$4:$W$501,9,0))","v":""}]
[null,null,null,{"$f":"IF($C44=\"\",\"\",VLOOKUP($C44,INSCRITS!$D$4:$W$501,6,0))","v":""},{"$f":"IF($C44=\"\",\"\",VLOOKUP($C44,INSCRITS!$D$4:$W$501,7,0))","v":""},{"$f":"IF($C44=\"\",\"\",VLOOKUP($C44,INSCRITS!$D$4:$W$501,9,0))","v":""},null,null,null,null,null,null,null,null,{"$f":"IF($N44=\"\",\"\",VLOOKUP($N44,INSCRITS!$D$4:$W$501,6,0))","v":""},{"$f":"IF($N44=\"\",\"\",VLOOKUP($N44,INSCRITS!$D$4:$W$501,7,0))","v":""},{"$f":"IF($N44=\"\",\"\",VLOOKUP($N44,INSCRITS!$D$4:$W$501,9,0))","v":""}]
[null,null,null,{"$f":"IF($C45=\"\",\"\",VLOOKUP($C45,INSCRITS!$D$4:$W$501,6,0))","v":""},{"$f":"IF($C45=\"\",\"\",VLOOKUP($C45,INSCRITS!$D$4:$W$501,7,0))","v":""},{"$f":"IF($C45=\"\",\"\",VLOOKUP($C45,INSCRITS!$D$4:$W$501,9,0))","v":""},null,null,null,null,null,null,null,null,{"$f":"IF($N45=\"\",\"\",VLOOKUP($N45,INSCRITS!$D$4:$W$501,6,0))","v":""},{"$f":"IF($N45=\"\",\"\",VLOOKUP($N45,INSCRITS!$D$4:$W$501,7,0))","v":""},{"$f":"IF($N45=\"\",\"\",VLOOKUP($N45,INSCRITS!$D$4:$W$501,9,0))","v":""}]
[null,null,null,{"$f":"IF($C46=\"\",\"\",VLOOKUP($C46,INSCRITS!$D$4:$W$501,6,0))","v":""},{"$f":"IF($C46=\"\",\"\",VLOOKUP($C46,INSCRITS!$D$4:$W$501,7,0))","v":""},{"$f":"IF($C46=\"\",\"\",VLOOKUP($C46,INSCRITS!$D$4:$W$501,9,0))","v":""},null,null,null,null,null,null,null,null,{"$f":"IF($N46=\"\",\"\",VLOOKUP($N46,INSCRITS!$D$4:$W$501,6,0))","v":""},{"$f":"IF($N46=\"\",\"\",VLOOKUP($N46,INSCRITS!$D$4:$W$501,7,0))","v":""},{"$f":"IF($N46=\"\",\"\",VLOOKUP($N46,INSCRITS!$D$4:$W$501,9,0))","v":""}]
[null,null,null,{"$f":"IF($C47=\"\",\"\",VLOOKUP($C47,INSCRITS!$D$4:$W$501,6,0))","v":""},{"$f":"IF($C47=\"\",\"\",VLOOKUP($C47,INSCRITS!$D$4:$W$501,7,0))","v":""},{"$f":"IF($C47=\"\",\"\",VLOOKUP($C47,INSCRITS!$D$4:$W$501,9,0))","v":""},null,null,null,null,null,null,"SERIE 6",null,{"$f":"IF($N47=\"\",\"\",VLOOKUP($N47,INSCRITS!$D$4:$W$501,6,0))","v":""},{"$f":"IF($N47=\"\",\"\",VLOOKUP($N47,INSCRITS!$D$4:$W$501,7,0))","v":""},{"$f":"IF($N47=\"\",\"\",VLOOKUP($N47,INSCRITS!$D$4:$W$501,9,0))","v":""}]
[null,null,null,{"$f":"IF($C48=\"\",\"\",VLOOKUP($C48,INSCRITS!$D$4:$W$501,6,0))","v":""},{"$f":"IF($C48=\"\",\"\",VLOOKUP($C48,INSCRITS!$D$4:$W$501,7,0))","v":""},{"$f":"IF($C48=\"\",\"\",VLOOKUP($C48,INSCRITS!$D$4:$W$501,9,0))","v":""},null,null,null,null,null,null,null,null,{"$f":"IF($N48=\"\",\"\",VLOOKUP($N48,INSCRITS!$D$4:$W$501,6,0))","v":""},{"$f":"IF($N48=\"\",\"\",VLOOKUP($N48,INSCRITS!$D$4:$W$501,7,0))","v":""},{"$f":"IF($N48=\"\",\"\",VLOOKUP($N48,INSCRITS!$D$4:$W$501,9,0))","v":""}]
[null,null,null,{"$f":"IF($C49=\"\",\"\",VLOOKUP($C49,INSCRITS!$D$4:$W$501,6,0))","v":""},{"$f":"IF($C49=\"\",\"\",VLOOKUP($C49,INSCRITS!$D$4:$W$501,7,0))","v":""},{"$f":"IF($C49=\"\",\"\",VLOOKUP($C49,INSCRITS!$D$4:$W$501,9,0))","v":""},null,null,null,null,null,null,null,null,{"$f":"IF($N49=\"\",\"\",VLOOKUP($N49,INSCRITS!$D$4:$W$501,6,0))","v":""},{"$f":"IF($N49=\"\",\"\",VLOOKUP($N49,INSCRITS!$D$4:$W$501,7,0))","v":""},{"$f":"IF($N49=\"\",\"\",VLOOKUP($N49,INSCRITS!$D$4:$W$501,9,0))","v":""}]
[null,null,null,{"$f":"IF($C50=\"\",\"\",VLOOKUP($C50,INSCRITS!$D$4:$W$501,6,0))","v":""},{"$f":"IF($C50=\"\",\"\",VLOOKUP($C50,INSCRITS!$D$4:$W$501,7,0))","v":""},{"$f":"IF($C50=\"\",\"\",VLOOKUP($C50,INSCRITS!$D$4:$W$501,9,0))","v":""},null,null,null,null,null,null,null,null,{"$f":"IF($N50=\"\",\"\",VLOOKUP($N50,INSCRITS!$D$4:$W$501,6,0))","v":""},{"$f":"IF($N50=\"\",\"\",VLOOKUP($N50,INSCRITS!$D$4:$W$501,7,0))","v":""},{"$f":"IF($N50=\"\",\"\",VLOOKUP($N50,INSCRITS!$D$4:$W$501,9,0))","v":""}]
[null,null,null,{"$f":"IF($C51=\"\",\"\",VLOOKUP($C51,INSCRITS!$D$4:$W$501,6,0))","v":""},{"$f":"IF($C51=\"\",\"\",VLOOKUP($C51,INSCRITS!$D$4:$W$501,7,0))","v":""},{"$f":"IF($C51=\"\",\"\",VLOOKUP($C51,INSCRITS!$D$4:$W$501,9,0))","v":""},null,null,null,null,null,null,null,null,{"$f":"IF($N51=\"\",\"\",VLOOKUP($N51,INSCRITS!$D$4:$W$501,6,0))","v":""},{"$f":"IF($N51=\"\",\"\",VLOOKUP($N51,INSCRITS!$D$4:$W$501,7,0))","v":""},{"$f":"IF($N51=\"\",\"\",VLOOKUP($N51,INSCRITS!$D$4:$W$501,9,0))","v":""}]
[null,"SERIE 6",null,{"$f":"IF($C52=\"\",\"\",VLOOKUP($C52,INSCRITS!$D$4:$W$501,6,0))","v":""},{"$f":"IF($C52=\"\",\"\",VLOOKUP($C52,INSCRITS!$D$4:$W$501,7,0))","v":""},{"$f":"IF($C52=\"\",\"\",VLOOKUP($C52,INSCRITS!$D$4:$W$501,9,0))","v":""},null,null,null,null,null,null,null,null,{"$f":"IF($N52=\"\",\"\",VLOOKUP($N52,INSCRITS!$D$4:$W$501,6,0))","v":""},{"$f":"IF($N52=\"\",\"\",VLOOKUP($N52,INSCRITS!$D$4:$W$501,7,0))","v":""},{"$f":"IF($N52=\"\",\"\",VLOOKUP($N52,INSCRITS!$D$4:$W$501,9,0))","v":""}]
[null,null,null,{"$f":"IF($C53=\"\",\"\",VLOOKUP($C53,INSCRITS!$D$4:$W$501,6,0))","v":""},{"$f":"IF($C53=\"\",\"\",VLOOKUP($C53,INSCRITS!$D$4:$W$501,7,0))","v":""},{"$f":"IF($C53=\"\",\"\",VLOOKUP($C53,INSCRITS!$D$4:$W$501,9,0))","v":""},null,null,null,null,null,null,null,null,{"$f":"IF($N53=\"\",\"\",VLOOKUP($N53,INSCRITS!$D$4:$W$501,6,0))","v":""},{"$f":"IF($N53=\"\",\"\",VLOOKUP($N53,INSCRITS!$D$4:$W$501,7,0))","v":""},{"$f":"IF($N53=\"\",\"\",VLOOKUP($N53,INSCRITS!$D$4:$W$501,9,0))","v":""}]
[null,null,null,{"$f":"IF($C54=\"\",\"\",VLOOKUP($C54,INSCRITS!$D$4:$W$501,6,0))","v":""},{"$f":"IF($C54=\"\",\"\",VLOOKUP($C54,INSCRITS!$D$4:$W$501,7,0))","v":""},{"$f":"IF($C54=\"\",\"\",VLOOKUP($C54,INSCRITS!$D$4:$W$501,9,0))","v":""},null,null,null,null,null,null,null,null,{"$f":"IF($N54=\"\",\"\",VLOOKUP($N54,INSCRITS!$D$4:$W$501,6,0))","v":""},{"$f":"IF($N54=\"\",\"\",VLOOKUP($N54,INSCRITS!$D$4:$W$501,7,0))","v":""},{"$f":"IF($N54=\"\",\"\",VLOOKUP($N54,INSCRITS!$D$4:$W$501,9,0))","v":""}]
[null,null,null,{"$f":"IF($C55=\"\",\"\",VLOOKUP($C55,INSCRITS!$D$4:$W$501,6,0))","v":""},{"$f":"IF($C55=\"\",\"\",VLOOKUP($C55,INSCRITS!$D$4:$W$501,7,0))","v":""},{"$f":"IF($C55=\"\",\"\",VLOOKUP($C55,INSCRITS!$D$4:$W$501,9,0))","v":""},null,null,null,null,null,null,"SERIE 7",null,{"$f":"IF($N55=\"\",\"\",VLOOKUP($N55,INSCRITS!$D$4:$W$501,6,0))","v":""},{"$f":"IF($N55=\"\",\"\",VLOOKUP($N55,INSCRITS!$D$4:$W$501,7,0))","v":""},{"$f":"IF($N55=\"\",\"\",VLOOKUP($N55,INSCRITS!$D$4:$W$501,9,0))","v":""}]
[null,null,null,{"$f":"IF($C56=\"\",\"\",VLOOKUP($C56,INSCRITS!$D$4:$W$501,6,0))","v":""},{"$f":"IF($C56=\"\",\"\",VLOOKUP($C56,INSCRITS!$D$4:$W$501,7,0))","v":""},{"$f":"IF($C56=\"\",\"\",VLOOKUP($C56,INSCRITS!$D$4:$W$501,9,0))","v":""},null,null,null,null,null,null,null,null,{"$f":"IF($N56=\"\",\"\",VLOOKUP($N56,INSCRITS!$D$4:$W$501,6,0))","v":""},{"$f":"IF($N56=\"\",\"\",VLOOKUP($N56,INSCRITS!$D$4:$W$501,7,0))","v":""},{"$f":"IF($N56=\"\",\"\",VLOOKUP($N56,INSCRITS!$D$4:$W$501,9,0))","v":""}]
[null,null,null,{"$f":"IF($C57=\"\",\"\",VLOOKUP($C57,INSCRITS!$D$4:$W$501,6,0))","v":""},{"$f":"IF($C57=\"\",\"\",VLOOKUP($C57,INSCRITS!$D$4:$W$501,7,0))","v":""},{"$f":"IF($C57=\"\",\"\",VLOOKUP($C57,INSCRITS!$D$4:$W$501,9,0))","v":""},null,null,null,null,null,null,null,null,{"$f":"IF($N57=\"\",\"\",VLOOKUP($N57,INSCRITS!$D$4:$W$501,6,0))","v":""},{"$f":"IF($N57=\"\",\"\",VLOOKUP($N57,INSCRITS!$D$4:$W$501,7,0))","v":""},{"$f":"IF($N57=\"\",\"\",VLOOKUP($N57,INSCRITS!$D$4:$W$501,9,0))","v":""}]
[null,null,null,{"$f":"IF($C58=\"\",\"\",VLOOKUP($C58,INSCRITS!$D$4:$W$501,6,0))","v":""},{"$f":"IF($C58=\"\",\"\",VLOOKUP($C58,INSCRITS!$D$4:$W$501,7,0))","v":""},{"$f":"IF($C58=\"\",\"\",VLOOKUP($C58,INSCRITS!$D$4:$W$501,9,0))","v":""},null,null,null,null,null,null,null,null,{"$f":"IF($N58=\"\",\"\",VLOOKUP($N58,INSCRITS!$D$4:$W$501,6,0))","v":""},{"$f":"IF($N58=\"\",\"\",VLOOKUP($N58,INSCRITS!$D$4:$W$501,7,0))","v":""},{"$f":"IF($N58=\"\",\"\",VLOOKUP($N58,INSCRITS!$D$4:$W$501,9,0))","v":""}]
[null,null,null,{"$f":"IF($C59=\"\",\"\",VLOOKUP($C59,INSCRITS!$D$4:$W$501,6,0))","v":""},{"$f":"IF($C59=\"\",\"\",VLOOKUP($C59,INSCRITS!$D$4:$W$501,7,0))","v":""},{"$f":"IF($C59=\"\",\"\",VLOOKUP($C59,INSCRITS!$D$4:$W$501,9,0))","v":""},null,null,null,null,null,null,null,null,{"$f":"IF($N59=\"\",\"\",VLOOKUP($N59,INSCRITS!$D$4:$W$501,6,0))","v":""},{"$f":"IF($N59=\"\",\"\",VLOOKUP($N59,INSCRITS!$D$4:$W$501,7,0))","v":""},{"$f":"IF($N59=\"\",\"\",VLOOKUP($N59,INSCRITS!$D$4:$W$501,9,0))","v":""}]
[null,null,null,{"$f":"IF($C60=\"\",\"\",VLOOKUP($C60,INSCRITS!$D$4:$W$501,6,0))","v":""},{"$f":"IF($C60=\"\",\"\",VLOOKUP($C60,INSCRITS!$D$4:$W$501,7,0))","v":""},{"$f":"IF($C60=\"\",\"\",VLOOKUP($C60,INSCRITS!$D$4:$W$501,9,0))","v":""},null,null,null,null,null,null,null,null,{"$f":"IF($N60=\"\",\"\",VLOOKUP($N60,INSCRITS!$D$4:$W$501,6,0))","v":""},{"$f":"IF($N60=\"\",\"\",VLOOKUP($N60,INSCRITS!$D$4:$W$501,7,0))","v":""},{"$f":"IF($N60=\"\",\"\",VLOOKUP($N60,INSCRITS!$D$4:$W$501,9,0))","v":""}]
[null,"SERIE 7",null,{"$f":"IF($C61=\"\",\"\",VLOOKUP($C61,INSCRITS!$D$4:$W$501,6,0))","v":""},{"$f":"IF($C61=\"\",\"\",VLOOKUP($C61,INSCRITS!$D$4:$W$501,7,0))","v":""},{"$f":"IF($C61=\"\",\"\",VLOOKUP($C61,INSCRITS!$D$4:$W$501,9,0))","v":""},null,null,null,null,null,null,null,null,{"$f":"IF($N61=\"\",\"\",VLOOKUP($N61,INSCRITS!$D$4:$W$501,6,0))","v":""},{"$f":"IF($N61=\"\",\"\",VLOOKUP($N61,INSCRITS!$D$4:$W$501,7,0))","v":""},{"$f":"IF($N61=\"\",\"\",VLOOKUP($N61,INSCRITS!$D$4:$W$501,9,0))","v":""}]
[null,null,null,{"$f":"IF($C62=\"\",\"\",VLOOKUP($C62,INSCRITS!$D$4:$W$501,6,0))","v":""},{"$f":"IF($C62=\"\",\"\",VLOOKUP($C62,INSCRITS!$D$4:$W$501,7,0))","v":""},{"$f":"IF($C62=\"\",\"\",VLOOKUP($C62,INSCRITS!$D$4:$W$501,9,0))","v":""},null,null,null,null,null,null,null,null,{"$f":"IF($N62=\"\",\"\",VLOOKUP($N62,INSCRITS!$D$4:$W$501,6,0))","v":""},{"$f":"IF($N62=\"\",\"\",VLOOKUP($N62,INSCRITS!$D$4:$W$501,7,0))","v":""},{"$f":"IF($N62=\"\",\"\",VLOOKUP($N62,INSCRITS!$D$4:$W$501,9,0))","v":""}]
[null,null,null,{"$f":"IF($C63=\"\",\"\",VLOOKUP($C63,INSCRITS!$D$4:$W$501,6,0))","v":""},{"$f":"IF($C63=\"\",\"\",VLOOKUP($C63,INSCRITS!$D$4:$W$501,7,0))","v":""},{"$f":"IF($C63=\"\",\"\",VLOOKUP($C63,INSCRITS!$D$4:$W$501,9,0))","v":""},null,null,null,null,null,null,"SERIE 8",null,{"$f":"IF($N63=\"\",\"\",VLOOKUP($N63,INSCRITS!$D$4:$W$501,6,0))","v":""},{"$f":"IF($N63=\"\",\"\",VLOOKUP($N63,INSCRITS!$D$4:$W$501,7,0))","v":""},{"$f":"IF($N63=\"\",\"\",VLOOKUP($N63,INSCRITS!$D$4:$W$501,9,0))","v":""}]
[null,null,null,{"$f":"IF($C64=\"\",\"\",VLOOKUP($C64,INSCRITS!$D$4:$W$501,6,0))","v":""},{"$f":"IF($C64=\"\",\"\",VLOOKUP($C64,INSCRITS!$D$4:$W$501,7,0))","v":""},{"$f":"IF($C64=\"\",\"\",VLOOKUP($C64,INSCRITS!$D$4:$W$501,9,0))","v":""},null,null,null,null,null,null,null,null,{"$f":"IF($N64=\"\",\"\",VLOOKUP($N64,INSCRITS!$D$4:$W$501,6,0))","v":""},{"$f":"IF($N64=\"\",\"\",VLOOKUP($N64,INSCRITS!$D$4:$W$501,7,0))","v":""},{"$f":"IF($N64=\"\",\"\",VLOOKUP($N64,INSCRITS!$D$4:$W$501,9,0))","v":""}]
[null,null,null,{"$f":"IF($C65=\"\",\"\",VLOOKUP($C65,INSCRITS!$D$4:$W$501,6,0))","v":""},{"$f":"IF($C65=\"\",\"\",VLOOKUP($C65,INSCRITS!$D$4:$W$501,7,0))","v":""},{"$f":"IF($C65=\"\",\"\",VLOOKUP($C65,INSCRITS!$D$4:$W$501,9,0))","v":""},null,null,null,null,null,null,null,null,{"$f":"IF($N65=\"\",\"\",VLOOKUP($N65,INSCRITS!$D$4:$W$501,6,0))","v":""},{"$f":"IF($N65=\"\",\"\",VLOOKUP($N65,INSCRITS!$D$4:$W$501,7,0))","v":""},{"$f":"IF($N65=\"\",\"\",VLOOKUP($N65,INSCRITS!$D$4:$W$501,9,0))","v":""}]
[null,null,null,{"$f":"IF($C66=\"\",\"\",VLOOKUP($C66,INSCRITS!$D$4:$W$501,6,0))","v":""},{"$f":"IF($C66=\"\",\"\",VLOOKUP($C66,INSCRITS!$D$4:$W$501,7,0))","v":""},{"$f":"IF($C66=\"\",\"\",VLOOKUP($C66,INSCRITS!$D$4:$W$501,9,0))","v":""},null,null,null,null,null,null,null,null,{"$f":"IF($N66=\"\",\"\",VLOOKUP($N66,INSCRITS!$D$4:$W$501,6,0))","v":""},{"$f":"IF($N66=\"\",\"\",VLOOKUP($N66,INSCRITS!$D$4:$W$501,7,0))","v":""},{"$f":"IF($N66=\"\",\"\",VLOOKUP($N66,INSCRITS!$D$4:$W$501,9,0))","v":""}]
[null,null,null,{"$f":"IF($C67=\"\",\"\",VLOOKUP($C67,INSCRITS!$D$4:$W$501,6,0))","v":""},{"$f":"IF($C67=\"\",\"\",VLOOKUP($C67,INSCRITS!$D$4:$W$501,7,0))","v":""},{"$f":"IF($C67=\"\",\"\",VLOOKUP($C67,INSCRITS!$D$4:$W$501,9,0))","v":""},null,null,null,null,null,null,null,null,{"$f":"IF($N67=\"\",\"\",VLOOKUP($N67,INSCRITS!$D$4:$W$501,6,0))","v":""},{"$f":"IF($N67=\"\",\"\",VLOOKUP($N67,INSCRITS!$D$4:$W$501,7,0))","v":""},{"$f":"IF($N67=\"\",\"\",VLOOKUP($N67,INSCRITS!$D$4:$W$501,9,0))","v":""}]
[null,null,null,{"$f":"IF($C68=\"\",\"\",VLOOKUP($C68,INSCRITS!$D$4:$W$501,6,0))","v":""},{"$f":"IF($C68=\"\",\"\",VLOOKUP($C68,INSCRITS!$D$4:$W$501,7,0))","v":""},{"$f":"IF($C68=\"\",\"\",VLOOKUP($C68,INSCRITS!$D$4:$W$501,9,0))","v":""},null,null,null,null,null,null,null,null,{"$f":"IF($N68=\"\",\"\",VLOOKUP($N68,INSCRITS!$D$4:$W$501,6,0))","v":""},{"$f":"IF($N68=\"\",\"\",VLOOKUP($N68,INSCRITS!$D$4:$W$501,7,0))","v":""},{"$f":"IF($N68=\"\",\"\",VLOOKUP($N68,INSCRITS!$D$4:$W$501,9,0))","v":""}]
[null,null,null,{"$f":"IF($C69=\"\",\"\",VLOOKUP($C69,INSCRITS!$D$4:$W$501,6,0))","v":""},{"$f":"IF($C69=\"\",\"\",VLOOKUP($C69,INSCRITS!$D$4:$W$501,7,0))","v":""},{"$f":"IF($C69=\"\",\"\",VLOOKUP($C69,INSCRITS!$D$4:$W$501,9,0))","v":""},null,null,null,null,null,null,null,null,{"$f":"IF($N69=\"\",\"\",VLOOKUP($N69,INSCRITS!$D$4:$W$501,6,0))","v":""},{"$f":"IF($N69=\"\",\"\",VLOOKUP($N69,INSCRITS!$D$4:$W$501,7,0))","v":""},{"$f":"IF($N69=\"\",\"\",VLOOKUP($N69,INSCRITS!$D$4:$W$501,9,0))","v":""}]
[null,null,null,{"$f":"IF($C70=\"\",\"\",VLOOKUP($C70,INSCRITS!$D$4:$W$501,6,0))","v":""},{"$f":"IF($C70=\"\",\"\",VLOOKUP($C70,INSCRITS!$D$4:$W$501,7,0))","v":""},{"$f":"IF($C70=\"\",\"\",VLOOKUP($C70,INSCRITS!$D$4:$W$501,9,0))","v":""},null,null,null,null,null,null,null,null,{"$f":"IF($N70=\"\",\"\",VLOOKUP($N70,INSCRITS!$D$4:$W$501,6,0))","v":""},{"$f":"IF($N70=\"\",\"\",VLOOKUP($N70,INSCRITS!$D$4:$W$501,7,0))","v":""},{"$f":"IF($N70=\"\",\"\",VLOOKUP($N70,INSCRITS!$D$4:$W$501,9,0))","v":""}]
[null,"SERIE 8",null,{"$f":"IF($C71=\"\",\"\",VLOOKUP($C71,INSCRITS!$D$4:$W$501,6,0))","v":""},{"$f":"IF($C71=\"\",\"\",VLOOKUP($C71,INSCRITS!$D$4:$W$501,7,0))","v":""},{"$f":"IF($C71=\"\",\"\",VLOOKUP($C71,INSCRITS!$D$4:$W$501,9,0))","v":""}]
[null,null,null,{"$f":"IF($C72=\"\",\"\",VLOOKUP($C72,INSCRITS!$D$4:$W$501,6,0))","v":""},{"$f":"IF($C72=\"\",\"\",VLOOKUP($C72,INSCRITS!$D$4:$W$501,7,0))","v":""},{"$f":"IF($C72=\"\",\"\",VLOOKUP($C72,INSCRITS!$D$4:$W$501,9,0))","v":""}]
[null,null,null,{"$f":"IF($C73=\"\",\"\",VLOOKUP($C73,INSCRITS!$D$4:$W$501,6,0))","v":""},{"$f":"IF($C73=\"\",\"\",VLOOKUP($C73,INSCRITS!$D$4:$W$501,7,0))","v":""},{"$f":"IF($C73=\"\",\"\",VLOOKUP($C73,INSCRITS!$D$4:$W$501,9,0))","v":""}]
[null,null,null,{"$f":"IF($C74=\"\",\"\",VLOOKUP($C74,INSCRITS!$D$4:$W$501,6,0))","v":""},{"$f":"IF($C74=\"\",\"\",VLOOKUP($C74,INSCRITS!$D$4:$W$501,7,0))","v":""},{"$f":"IF($C74=\"\",\"\",VLOOKUP($C74,INSCRITS!$D$4:$W$501,9,0))","v":""}]
[null,null,null,{"$f":"IF($C75=\"\",\"\",VLOOKUP($C75,INSCRITS!$D$4:$W$501,6,0))","v":""},{"$f":"IF($C75=\"\",\"\",VLOOKUP($C75,INSCRITS!$D$4:$W$501,7,0))","v":""},{"$f":"IF($C75=\"\",\"\",VLOOKUP($C75,INSCRITS!$D$4:$W$501,9,0))","v":""}]
[null,null,null,{"$f":"IF($C76=\"\",\"\",VLOOKUP($C76,INSCRITS!$D$4:$W$501,6,0))","v":""},{"$f":"IF($C76=\"\",\"\",VLOOKUP($C76,INSCRITS!$D$4:$W$501,7,0))","v":""},{"$f":"IF($C76=\"\",\"\",VLOOKUP($C76,INSCRITS!$D$4:$W$501,9,0))","v":""}]
[null,null,null,{"$f":"IF($C77=\"\",\"\",VLOOKUP($C77,INSCRITS!$D$4:$W$501,6,0))","v":""},{"$f":"IF($C77=\"\",\"\",VLOOKUP($C77,INSCRITS!$D$4:$W$501,7,0))","v":""},{"$f":"IF($C77=\"\",\"\",VLOOKUP($C77,INSCRITS!$D$4:$W$501,9,0))","v":""}]
[null,null,null,{"$f":"IF($C78=\"\",\"\",VLOOKUP($C78,INSCRITS!$D$4:$W$501,6,0))","v":""},{"$f":"IF($C78=\"\",\"\",VLOOKUP($C78,INSCRITS!$D$4:$W$501,7,0))","v":""},{"$f":"IF($C78=\"\",\"\",VLOOKUP($C78,INSCRITS!$D$4:$W$501,9,0))","v":""}]
[null,null,null,{"$f":"IF($C79=\"\",\"\",VLOOKUP($C79,INSCRITS!$D$4:$W$501,6,0))","v":""},{"$f":"IF($C79=\"\",\"\",VLOOKUP($C79,INSCRITS!$D$4:$W$501,7,0))","v":""},{"$f":"IF($C79=\"\",\"\",VLOOKUP($C79,INSCRITS!$D$4:$W$501,9,0))","v":""}]
[null,null,null,{"$f":"IF($C80=\"\",\"\",VLOOKUP($C80,INSCRITS!$D$4:$W$501,6,0))","v":""},{"$f":"IF($C80=\"\",\"\",VLOOKUP($C80,INSCRITS!$D$4:$W$501,7,0))","v":""},{"$f":"IF($C80=\"\",\"\",VLOOKUP($C80,INSCRITS!$D$4:$W$501,9,0))","v":""}]
[null,null,null,{"$f":"IF($C81=\"\",\"\",VLOOKUP($C81,INSCRITS!$D$4:$W$501,6,0))","v":""},{"$f":"IF($C81=\"\",\"\",VLOOKUP($C81,INSCRITS!$D$4:$W$501,7,0))","v":""},{"$f":"IF($C81=\"\",\"\",VLOOKUP($C81,INSCRITS!$D$4:$W$501,9,0))","v":""}]
[null,null,null,{"$f":"IF($C82=\"\",\"\",VLOOKUP($C82,INSCRITS!$D$4:$W$501,6,0))","v":""},{"$f":"IF($C82=\"\",\"\",VLOOKUP($C82,INSCRITS!$D$4:$W$501,7,0))","v":""},{"$f":"IF($C82=\"\",\"\",VLOOKUP($C82,INSCRITS!$D$4:$W$501,9,0))","v":""}]
[null,null,null,{"$f":"IF($C83=\"\",\"\",VLOOKUP($C83,INSCRITS!$D$4:$W$501,6,0))","v":""},{"$f":"IF($C83=\"\",\"\",VLOOKUP($C83,INSCRITS!$D$4:$W$501,7,0))","v":""},{"$f":"IF($C83=\"\",\"\",VLOOKUP($C83,INSCRITS!$D$4:$W$501,9,0))","v":""}]
[null,null,null,{"$f":"IF($C84=\"\",\"\",VLOOKUP($C84,INSCRITS!$D$4:$W$501,6,0))","v":""},{"$f":"IF($C84=\"\",\"\",VLOOKUP($C84,INSCRITS!$D$4:$W$501,7,0))","v":""},{"$f":"IF($C84=\"\",\"\",VLOOKUP($C84,INSCRITS!$D$4:$W$501,9,0))","v":""}]
[null,null,null,{"$f":"IF($C85=\"\",\"\",VLOOKUP($C85,INSCRITS!$D$4:$W$501,6,0))","v":""},{"$f":"IF($C85=\"\",\"\",VLOOKUP($C85,INSCRITS!$D$4:$W$501,7,0))","v":""},{"$f":"IF($C85=\"\",\"\",VLOOKUP($C85,INSCRITS!$D$4:$W$501,9,0))","v":""}]
[null,null,null,{"$f":"IF($C86=\"\",\"\",VLOOKUP($C86,INSCRITS!$D$4:$W$501,6,0))","v":""},{"$f":"IF($C86=\"\",\"\",VLOOKUP($C86,INSCRITS!$D$4:$W$501,7,0))","v":""},{"$f":"IF($C86=\"\",\"\",VLOOKUP($C86,INSCRITS!$D$4:$W$501,9,0))","v":""}]
[null,"SERIE 11",null,{"$f":"IF($C87=\"\",\"\",VLOOKUP($C87,INSCRITS!$D$4:$W$501,6,0))","v":""},{"$f":"IF($C87=\"\",\"\",VLOOKUP($C87,INSCRITS!$D$4:$W$501,7,0))","v":""},{"$f":"IF($C87=\"\",\"\",VLOOKUP($C87,INSCRITS!$D$4:$W$501,9,0))","v":""}]
[null,null,null,{"$f":"IF($C88=\"\",\"\",VLOOKUP($C88,INSCRITS!$D$4:$W$501,6,0))","v":""},{"$f":"IF($C88=\"\",\"\",VLOOKUP($C88,INSCRITS!$D$4:$W$501,7,0))","v":""},{"$f":"IF($C88=\"\",\"\",VLOOKUP($C88,INSCRITS!$D$4:$W$501,9,0))","v":""}]
[null,null,null,{"$f":"IF($C89=\"\",\"\",VLOOKUP($C89,INSCRITS!$D$4:$W$501,6,0))","v":""},{"$f":"IF($C89=\"\",\"\",VLOOKUP($C89,INSCRITS!$D$4:$W$501,7,0))","v":""},{"$f":"IF($C89=\"\",\"\",VLOOKUP($C89,INSCRITS!$D$4:$W$501,9,0))","v":""}]
[null,null,null,{"$f":"IF($C90=\"\",\"\",VLOOKUP($C90,INSCRITS!$D$4:$W$501,6,0))","v":""},{"$f":"IF($C90=\"\",\"\",VLOOKUP($C90,INSCRITS!$D$4:$W$501,7,0))","v":""},{"$f":"IF($C90=\"\",\"\",VLOOKUP($C90,INSCRITS!$D$4:$W$501,9,0))","v":""}]
[null,null,null,{"$f":"IF($C91=\"\",\"\",VLOOKUP($C91,INSCRITS!$D$4:$W$501,6,0))","v":""},{"$f":"IF($C91=\"\",\"\",VLOOKUP($C91,INSCRITS!$D$4:$W$501,7,0))","v":""},{"$f":"IF($C91=\"\",\"\",VLOOKUP($C91,INSCRITS!$D$4:$W$501,9,0))","v":""}]
[null,null,null,{"$f":"IF($C92=\"\",\"\",VLOOKUP($C92,INSCRITS!$D$4:$W$501,6,0))","v":""},{"$f":"IF($C92=\"\",\"\",VLOOKUP($C92,INSCRITS!$D$4:$W$501,7,0))","v":""},{"$f":"IF($C92=\"\",\"\",VLOOKUP($C92,INSCRITS!$D$4:$W$501,9,0))","v":""}]
[null,null,null,{"$f":"IF($C93=\"\",\"\",VLOOKUP($C93,INSCRITS!$D$4:$W$501,6,0))","v":""},{"$f":"IF($C93=\"\",\"\",VLOOKUP($C93,INSCRITS!$D$4:$W$501,7,0))","v":""},{"$f":"IF($C93=\"\",\"\",VLOOKUP($C93,INSCRITS!$D$4:$W$501,9,0))","v":""}]
[null,null,null,{"$f":"IF($C94=\"\",\"\",VLOOKUP($C94,INSCRITS!$D$4:$W$501,6,0))","v":""},{"$f":"IF($C94=\"\",\"\",VLOOKUP($C94,INSCRITS!$D$4:$W$501,7,0))","v":""},{"$f":"IF($C94=\"\",\"\",VLOOKUP($C94,INSCRITS!$D$4:$W$501,9,0))","v":""}]
[null,"SERIE 12",null,{"$f":"IF($C95=\"\",\"\",VLOOKUP($C95,INSCRITS!$D$4:$W$501,6,0))","v":""},{"$f":"IF($C95=\"\",\"\",VLOOKUP($C95,INSCRITS!$D$4:$W$501,7,0))","v":""},{"$f":"IF($C95=\"\",\"\",VLOOKUP($C95,INSCRITS!$D$4:$W$501,9,0))","v":""}]
[null,null,null,{"$f":"IF($C96=\"\",\"\",VLOOKUP($C96,INSCRITS!$D$4:$W$501,6,0))","v":""},{"$f":"IF($C96=\"\",\"\",VLOOKUP($C96,INSCRITS!$D$4:$W$501,7,0))","v":""},{"$f":"IF($C96=\"\",\"\",VLOOKUP($C96,INSCRITS!$D$4:$W$501,9,0))","v":""}]
[null,null,null,{"$f":"IF($C97=\"\",\"\",VLOOKUP($C97,INSCRITS!$D$4:$W$501,6,0))","v":""},{"$f":"IF($C97=\"\",\"\",VLOOKUP($C97,INSCRITS!$D$4:$W$501,7,0))","v":""},{"$f":"IF($C97=\"\",\"\",VLOOKUP($C97,INSCRITS!$D$4:$W$501,9,0))","v":""}]
[null,null,null,{"$f":"IF($C98=\"\",\"\",VLOOKUP($C98,INSCRITS!$D$4:$W$501,6,0))","v":""},{"$f":"IF($C98=\"\",\"\",VLOOKUP($C98,INSCRITS!$D$4:$W$501,7,0))","v":""},{"$f":"IF($C98=\"\",\"\",VLOOKUP($C98,INSCRITS!$D$4:$W$501,9,0))","v":""}]
[null,null,null,{"$f":"IF($C99=\"\",\"\",VLOOKUP($C99,INSCRITS!$D$4:$W$501,6,0))","v":""},{"$f":"IF($C99=\"\",\"\",VLOOKUP($C99,INSCRITS!$D$4:$W$501,7,0))","v":""},{"$f":"IF($C99=\"\",\"\",VLOOKUP($C99,INSCRITS!$D$4:$W$501,9,0))","v":""}]
[null,null,null,{"$f":"IF($C100=\"\",\"\",VLOOKUP($C100,INSCRITS!$D$4:$W$501,6,0))","v":""},{"$f":"IF($C100=\"\",\"\",VLOOKUP($C100,INSCRITS!$D$4:$W$501,7,0))","v":""},{"$f":"IF($C100=\"\",\"\",VLOOKUP($C100,INSCRITS!$D$4:$W$501,9,0))","v":""}]
[null,null,null,{"$f":"IF($C101=\"\",\"\",VLOOKUP($C101,INSCRITS!$D$4:$W$501,6,0))","v":""},{"$f":"IF($C101=\"\",\"\",VLOOKUP($C101,INSCRITS!$D$4:$W$501,7,0))","v":""},{"$f":"IF($C101=\"\",\"\",VLOOKUP($C101,INSCRITS!$D$4:$W$501,9,0))","v":""}]
[null,null,null,{"$f":"IF($C102=\"\",\"\",VLOOKUP($C102,INSCRITS!$D$4:$W$501,6,0))","v":""},{"$f":"IF($C102=\"\",\"\",VLOOKUP($C102,INSCRITS!$D$4:$W$501,7,0))","v":""},{"$f":"IF($C102=\"\",\"\",VLOOKUP($C102,INSCRITS!$D$4:$W$501,9,0))","v":""}]
[null,"SERIE 13",null,{"$f":"IF($C103=\"\",\"\",VLOOKUP($C103,INSCRITS!$D$4:$W$501,6,0))","v":""},{"$f":"IF($C103=\"\",\"\",VLOOKUP($C103,INSCRITS!$D$4:$W$501,7,0))","v":""},{"$f":"IF($C103=\"\",\"\",VLOOKUP($C103,INSCRITS!$D$4:$W$501,9,0))","v":""}]
[null,null,null,{"$f":"IF($C104=\"\",\"\",VLOOKUP($C104,INSCRITS!$D$4:$W$501,6,0))","v":""},{"$f":"IF($C104=\"\",\"\",VLOOKUP($C104,INSCRITS!$D$4:$W$501,7,0))","v":""},{"$f":"IF($C104=\"\",\"\",VLOOKUP($C104,INSCRITS!$D$4:$W$501,9,0))","v":""}]
[null,null,null,{"$f":"IF($C105=\"\",\"\",VLOOKUP($C105,INSCRITS!$D$4:$W$501,6,0))","v":""},{"$f":"IF($C105=\"\",\"\",VLOOKUP($C105,INSCRITS!$D$4:$W$501,7,0))","v":""},{"$f":"IF($C105=\"\",\"\",VLOOKUP($C105,INSCRITS!$D$4:$W$501,9,0))","v":""}]
[null,null,null,{"$f":"IF($C106=\"\",\"\",VLOOKUP($C106,INSCRITS!$D$4:$W$501,6,0))","v":""},{"$f":"IF($C106=\"\",\"\",VLOOKUP($C106,INSCRITS!$D$4:$W$501,7,0))","v":""},{"$f":"IF($C106=\"\",\"\",VLOOKUP($C106,INSCRITS!$D$4:$W$501,9,0))","v":""}]
[null,null,null,{"$f":"IF($C107=\"\",\"\",VLOOKUP($C107,INSCRITS!$D$4:$W$501,6,0))","v":""},{"$f":"IF($C107=\"\",\"\",VLOOKUP($C107,INSCRITS!$D$4:$W$501,7,0))","v":""},{"$f":"IF($C107=\"\",\"\",VLOOKUP($C107,INSCRITS!$D$4:$W$501,9,0))","v":""}]
[null,null,null,{"$f":"IF($C108=\"\",\"\",VLOOKUP($C108,INSCRITS!$D$4:$W$501,6,0))","v":""},{"$f":"IF($C108=\"\",\"\",VLOOKUP($C108,INSCRITS!$D$4:$W$501,7,0))","v":""},{"$f":"IF($C108=\"\",\"\",VLOOKUP($C108,INSCRITS!$D$4:$W$501,9,0))","v":""}]
[null,null,null,{"$f":"IF($C109=\"\",\"\",VLOOKUP($C109,INSCRITS!$D$4:$W$501,6,0))","v":""},{"$f":"IF($C109=\"\",\"\",VLOOKUP($C109,INSCRITS!$D$4:$W$501,7,0))","v":""},{"$f":"IF($C109=\"\",\"\",VLOOKUP($C109,INSCRITS!$D$4:$W$501,9,0))","v":""}]
[null,null,null,{"$f":"IF($C110=\"\",\"\",VLOOKUP($C110,INSCRITS!$D$4:$W$501,6,0))","v":""},{"$f":"IF($C110=\"\",\"\",VLOOKUP($C110,INSCRITS!$D$4:$W$501,7,0))","v":""},{"$f":"IF($C110=\"\",\"\",VLOOKUP($C110,INSCRITS!$D$4:$W$501,9,0))","v":""}]
[null,"SERIE 14",null,{"$f":"IF($C111=\"\",\"\",VLOOKUP($C111,INSCRITS!$D$4:$W$501,6,0))","v":""},{"$f":"IF($C111=\"\",\"\",VLOOKUP($C111,INSCRITS!$D$4:$W$501,7,0))","v":""},{"$f":"IF($C111=\"\",\"\",VLOOKUP($C111,INSCRITS!$D$4:$W$501,9,0))","v":""}]
[null,null,null,{"$f":"IF($C112=\"\",\"\",VLOOKUP($C112,INSCRITS!$D$4:$W$501,6,0))","v":""},{"$f":"IF($C112=\"\",\"\",VLOOKUP($C112,INSCRITS!$D$4:$W$501,7,0))","v":""},{"$f":"IF($C112=\"\",\"\",VLOOKUP($C112,INSCRITS!$D$4:$W$501,9,0))","v":""}]
[null,null,null,{"$f":"IF($C113=\"\",\"\",VLOOKUP($C113,INSCRITS!$D$4:$W$501,6,0))","v":""},{"$f":"IF($C113=\"\",\"\",VLOOKUP($C113,INSCRITS!$D$4:$W$501,7,0))","v":""},{"$f":"IF($C113=\"\",\"\",VLOOKUP($C113,INSCRITS!$D$4:$W$501,9,0))","v":""}]
[null,null,null,{"$f":"IF($C114=\"\",\"\",VLOOKUP($C114,INSCRITS!$D$4:$W$501,6,0))","v":""},{"$f":"IF($C114=\"\",\"\",VLOOKUP($C114,INSCRITS!$D$4:$W$501,7,0))","v":""},{"$f":"IF($C114=\"\",\"\",VLOOKUP($C114,INSCRITS!$D$4:$W$501,9,0))","v":""}]
[null,null,null,{"$f":"IF($C115=\"\",\"\",VLOOKUP($C115,INSCRITS!$D$4:$W$501,6,0))","v":""},{"$f":"IF($C115=\"\",\"\",VLOOKUP($C115,INSCRITS!$D$4:$W$501,7,0))","v":""},{"$f":"IF($C115=\"\",\"\",VLOOKUP($C115,INSCRITS!$D$4:$W$501,9,0))","v":""}]
[null,null,null,{"$f":"IF($C116=\"\",\"\",VLOOKUP($C116,INSCRITS!$D$4:$W$501,6,0))","v":""},{"$f":"IF($C116=\"\",\"\",VLOOKUP($C116,INSCRITS!$D$4:$W$501,7,0))","v":""},{"$f":"IF($C116=\"\",\"\",VLOOKUP($C116,INSCRITS!$D$4:$W$501,9,0))","v":""}]
[null,null,null,{"$f":"IF($C117=\"\",\"\",VLOOKUP($C117,INSCRITS!$D$4:$W$501,6,0))","v":""},{"$f":"IF($C117=\"\",\"\",VLOOKUP($C117,INSCRITS!$D$4:$W$501,7,0))","v":""},{"$f":"IF($C117=\"\",\"\",VLOOKUP($C117,INSCRITS!$D$4:$W$501,9,0))","v":""}]
[null,null,null,{"$f":"IF($C118=\"\",\"\",VLOOKUP($C118,INSCRITS!$D$4:$W$501,6,0))","v":""},{"$f":"IF($C118=\"\",\"\",VLOOKUP($C118,INSCRITS!$D$4:$W$501,7,0))","v":""},{"$f":"IF($C118=\"\",\"\",VLOOKUP($C118,INSCRITS!$D$4:$W$501,9,0))","v":""}]
[null,"SERIE 15",null,{"$f":"IF($C119=\"\",\"\",VLOOKUP($C119,INSCRITS!$D$4:$W$501,6,0))","v":""},{"$f":"IF($C119=\"\",\"\",VLOOKUP($C119,INSCRITS!$D$4:$W$501,7,0))","v":""},{"$f":"IF($C119=\"\",\"\",VLOOKUP($C119,INSCRITS!$D$4:$W$501,9,0))","v":""}]
[null,null,null,{"$f":"IF($C120=\"\",\"\",VLOOKUP($C120,INSCRITS!$D$4:$W$501,6,0))","v":""},{"$f":"IF($C120=\"\",\"\",VLOOKUP($C120,INSCRITS!$D$4:$W$501,7,0))","v":""},{"$f":"IF($C120=\"\",\"\",VLOOKUP($C120,INSCRITS!$D$4:$W$501,9,0))","v":""}]
[null,null,null,{"$f":"IF($C121=\"\",\"\",VLOOKUP($C121,INSCRITS!$D$4:$W$501,6,0))","v":""},{"$f":"IF($C121=\"\",\"\",VLOOKUP($C121,INSCRITS!$D$4:$W$501,7,0))","v":""},{"$f":"IF($C121=\"\",\"\",VLOOKUP($C121,INSCRITS!$D$4:$W$501,9,0))","v":""}]
[null,null,null,{"$f":"IF($C122=\"\",\"\",VLOOKUP($C122,INSCRITS!$D$4:$W$501,6,0))","v":""},{"$f":"IF($C122=\"\",\"\",VLOOKUP($C122,INSCRITS!$D$4:$W$501,7,0))","v":""},{"$f":"IF($C122=\"\",\"\",VLOOKUP($C122,INSCRITS!$D$4:$W$501,9,0))","v":""}]
[null,null,null,{"$f":"IF($C123=\"\",\"\",VLOOKUP($C123,INSCRITS!$D$4:$W$501,6,0))","v":""},{"$f":"IF($C123=\"\",\"\",VLOOKUP($C123,INSCRITS!$D$4:$W$501,7,0))","v":""},{"$f":"IF($C123=\"\",\"\",VLOOKUP($C123,INSCRITS!$D$4:$W$501,9,0))","v":""}]
[null,null,null,{"$f":"IF($C124=\"\",\"\",VLOOKUP($C124,INSCRITS!$D$4:$W$501,6,0))","v":""},{"$f":"IF($C124=\"\",\"\",VLOOKUP($C124,INSCRITS!$D$4:$W$501,7,0))","v":""},{"$f":"IF($C124=\"\",\"\",VLOOKUP($C124,INSCRITS!$D$4:$W$501,9,0))","v":""}]
[null,null,null,{"$f":"IF($C125=\"\",\"\",VLOOKUP($C125,INSCRITS!$D$4:$W$501,6,0))","v":""},{"$f":"IF($C125=\"\",\"\",VLOOKUP($C125,INSCRITS!$D$4:$W$501,7,0))","v":""},{"$f":"IF($C125=\"\",\"\",VLOOKUP($C125,INSCRITS!$D$4:$W$501,9,0))","v":""}]
[null,null,null,{"$f":"IF($C126=\"\",\"\",VLOOKUP($C126,INSCRITS!$D$4:$W$501,6,0))","v":""},{"$f":"IF($C126=\"\",\"\",VLOOKUP($C126,INSCRITS!$D$4:$W$501,7,0))","v":""},{"$f":"IF($C126=\"\",\"\",VLOOKUP($C126,INSCRITS!$D$4:$W$501,9,0))","v":""}]
[null,"SERIE 16"]

{"sheet":"BATONS","index":3,"n_rows":121,"n_cols":36,"rows_kept":121,"cut":false,"hidden":false,"merged":[[56,1,65,1],[66,1,75,1],[76,1,85,1],[6,1,15,1],[16,1,25,1],[26,1,35,1],[36,1,45,1],[46,1,55,1],[2,29,2,32],[6,28,21,28],[14,20,21,20],[38,12,53,12],[54,12,69,12],[6,12,21,12],[6,20,13,20],[22,12,37,12],[24,28,39,28]]}
[]
[]
[null,null,null,null,null,null,null,null,null,null,null,null,null,"QUART BATONS",null,null,null,null,null,null,null,"DEMI-FINALES",null,null,null,null,null,null,null,"FINALES Batons "]
[null,"BATONS ",null,null,null,null,null,null,null,null,null,null,null,"Messieurs",null,null,null,null,null,null,null,null,null,null,null,null,null,null,null,null,"Messieurs","Cadet"]
[null,"Messieurs",null,null,null,null,null,null,null,null,null,null,null,null,null,null,null,null,null,null,null,"N°","NOM","Prénom","CLUB","PLACE",null,null,null,"N°","NOM","Prénom","CLUB",null,"PLACE","PTS"]
[null,"Cadet"]
[null,"SERIE 1",135,{"$f":"IF($C7=\"\",\"\",VLOOKUP($C7,INSCRITS!$D$4:$W$501,6,0))","v":"DE SAINT BLANQUAT"},{"$f":"IF($C7=\"\",\"\",VLOOKUP($C7,INSCRITS!$D$4:$W$501,7,0))","v":"Thomas"},{"$f":"IF($C7=\"\",\"\",VLOOKUP($C7,INSCRITS!$D$4:$W$501,9,0))","v":"Biarritz SC"},1,null,null,null,null,null,"SERIE 1",null,{"$f":"IF($N7=\"\",\"\",VLOOKUP($N7,INSCRITS!$D$4:$W$501,6,0))","v":""},{"$f":"IF($N7=\"\",\"\",VLOOKUP($N7,INSCRITS!$D$4:$W$501,7,0))","v":""},{"$f":"IF($N7=\"\",\"\",VLOOKUP($N7,INSCRITS!$D$4:$W$501,9,0))","v":""},null,null,null,"SERIE 1",null,{"$f":"IF($V7=\"\",\"\",VLOOKUP($V7,INSCRITS!$D$4:$W$501,6,0))","v":""},{"$f":"IF($V7=\"\",\"\",VLOOKUP($V7,INSCRITS!$D$4:$W$501,7,0))","v":""},{"$f":"IF($V7=\"\",\"\",VLOOKUP($V7,INSCRITS!$D$4:$W$501,9,0))","v":""},null,null,null,"FINALE A",140,{"$f":"IF($AD7=\"\",\"\",VLOOKUP($AD7,INSCRITS!$D$4:$W$501,6,0))","v":"YOH"},{"$f":"IF($AD7=\"\",\"\",VLOOKUP($AD7,INSCRITS!$D$4:$W$501,7,0))","v":"Titouan"},{"$f":"IF($AD7=\"\",\"\",VLOOKUP($AD7,INSCRITS!$D$4:$W$501,9,0))","v":"Biarritz SC"},null,1,{"$f":"IF(AI7=\"\",\"\",VLOOKUP(AI7,points,2))","v":20}]
[null,null,156,{"$f":"IF($C8=\"\",\"\",VLOOKUP($C8,INSCRITS!$D$4:$W$501,6,0))","v":"FORSANS"},{"$f":"IF($C8=\"\",\"\",VLOOKUP($C8,INSCRITS!$D$4:$W$501,7,0))","v":"Remy"},{"$f":"IF($C8=\"\",\"\",VLOOKUP($C8,INSCRITS!$D$4:$W$501,9,0))","v":"MNSL"},null,null,null,null,null,null,null,null,{"$f":"IF($N8=\"\",\"\",VLOOKUP($N8,INSCRITS!$D$4:$W$501,6,0))","v":""},{"$f":"IF($N8=\"\",\"\",VLOOKUP($N8,INSCRITS!$D$4:$W$501,7,0))","v":""},{"$f":"IF($N8=\"\",\"\",VLOOKUP($N8,INSCRITS!$D$4:$W$501,9,0))","v":""},null,null,null,null,null,{"$f":"IF($V8=\"\",\"\",VLOOKUP($V8,INSCRITS!$D$4:$W$501,6,0))","v":""},{"$f":"IF($V8=\"\",\"\",VLOOKUP($V8,INSCRITS!$D$4:$W$501,7,0))","v":""},{"$f":"IF($V8=\"\",\"\",VLOOKUP($V8,INSCRITS!$D$4:$W$501,9,0))","v":""},null,null,null,null,153,{"$f":"IF($AD8=\"\",\"\",VLOOKUP($AD8,INSCRITS!$D$4:$W$501,6,0))","v":"TISSIER"},{"$f":"IF($AD8=\"\",\"\",VLOOKUP($AD8,INSCRITS!$D$4:$W$501,7,0))","v":"Mael"},{"$f":"IF($AD8=\"\",\"\",VLOOKUP($AD8,INSCRITS!$D$4:$W$501,9,0))","v":"HSC"},null,2,18]
[null,null,137,{"$f":"IF($C9=\"\",\"\",VLOOKUP($C9,INSCRITS!$D$4:$W$501,6,0))","v":"GAUDIN"},{"$f":"IF($C9=\"\",\"\",VLOOKUP($C9,INSCRITS!$D$4:$W$501,7,0))","v":"Arnaud"},{"$f":"IF($C9=\"\",\"\",VLOOKUP($C9,INSCRITS!$D$4:$W$501,9,0))","v":"Biarritz SC"},null,null,null,null,null,null,null,null,{"$f":"IF($N9=\"\",\"\",VLOOKUP($N9,INSCRITS!$D$4:$W$501,6,0))","v":""},{"$f":"IF($N9=\"\",\"\",VLOOKUP($N9,INSCRITS!$D$4:$W$501,7,0))","v":""},{"$f":"IF($N9=\"\",\"\",VLOOKUP($N9,INSCRITS!$D$4:$W$501,9,0))","v":""},null,null,null,null,null,{"$f":"IF($V9=\"\",\"\",VLOOKUP($V9,INSCRITS!$D$4:$W$501,6,0))","v":""},{"$f":"IF($V9=\"\",\"\",VLOOKUP($V9,INSCRITS!$D$4:$W$501,7,0))","v":""},{"$f":"IF($V9=\"\",\"\",VLOOKUP($V9,INSCRITS!$D$4:$W$501,9,0))","v":""},null,null,null,null,143,{"$f":"IF($AD9=\"\",\"\",VLOOKUP($AD9,INSCRITS!$D$4:$W$501,6,0))","v":"LICARI"},{"$f":"IF($AD9=\"\",\"\",VLOOKUP($AD9,INSCRITS!$D$4:$W$501,7,0))","v":"Antoine"},{"$f":"IF($AD9=\"\",\"\",VLOOKUP($AD9,INSCRITS!$D$4:$W$501,9,0))","v":"Cannes Sauvetage Côtier"},null,3,16]
[null,null,155,{"$f":"IF($C10=\"\",\"\",VLOOKUP($C10,INSCRITS!$D$4:$W$501,6,0))","v":"BRIGOT"},{"$f":"IF($C10=\"\",\"\",VLOOKUP($C10,INSCRITS!$D$4:$W$501,7,0))","v":"Dorian"},{"$f":"IF($C10=\"\",\"\",VLOOKUP($C10,INSCRITS!$D$4:$W$501,9,0))","v":"MIMIZAN SAUVETAGE"},null,null,null,null,null,null,null,null,{"$f":"IF($N10=\"\",\"\",VLOOKUP($N10,INSCRITS!$D$4:$W$501,6,0))","v":""},{"$f":"IF($N10=\"\",\"\",VLOOKUP($N10,INSCRITS!$D$4:$W$501,7,0))","v":""},{"$f":"IF($N10=\"\",\"\",VLOOKUP($N10,INSCRITS!$D$4:$W$501,9,0))","v":""},null,null,null,null,null,{"$f":"IF($V10=\"\",\"\",VLOOKUP($V10,INSCRITS!$D$4:$W$501,6,0))","v":""},{"$f":"IF($V10=\"\",\"\",VLOOKUP($V10,INSCRITS!$D$4:$W$501,7,0))","v":""},{"$f":"IF($V10=\"\",\"\",VLOOKUP($V10,INSCRITS!$D$4:$W$501,9,0))","v":""},null,null,null,null,152,{"$f":"IF($AD10=\"\",\"\",VLOOKUP($AD10,INSCRITS!$D$4:$W$501,6,0))","v":"CIER"},{"$f":"IF($AD10=\"\",\"\",VLOOKUP($AD10,INSCRITS!$D$4:$W$501,7,0))","v":"Jules"},{"$f":"IF($AD10=\"\",\"\",VLOOKUP($AD10,INSCRITS!$D$4:$W$501,9,0))","v":"HSC"},null,4,14]
[null,null,134,{"$f":"IF($C11=\"\",\"\",VLOOKUP($C11,INSCRITS!$D$4:$W$501,6,0))","v":"CAMGRAND"},{"$f":"IF($C11=\"\",\"\",VLOOKUP($C11,INSCRITS!$D$4:$W$501,7,0))","v":"Jérémie"},{"$f":"IF($C11=\"\",\"\",VLOOKUP($C11,INSCRITS!$D$4:$W$501,9,0))","v":"Biarritz SC"},null,null,null,null,null,null,null,null,{"$f":"IF($N11=\"\",\"\",VLOOKUP($N11,INSCRITS!$D$4:$W$501,6,0))","v":""},{"$f":"IF($N11=\"\",\"\",VLOOKUP($N11,INSCRITS!$D$4:$W$501,7,0))","v":""},{"$f":"IF($N11=\"\",\"\",VLOOKUP($N11,INSCRITS!$D$4:$W$501,9,0))","v":""},null,null,null,null,null,{"$f":"IF($V11=\"\",\"\",VLOOKUP($V11,INSCRITS!$D$4:$W$501,6,0))","v":""},{"$f":"IF($V11=\"\",\"\",VLOOKUP($V11,INSCRITS!$D$4:$W$501,7,0))","v":""},{"$f":"IF($V11=\"\",\"\",VLOOKUP($V11,INSCRITS!$D$4:$W$501,9,0))","v":""},null,null,null,null,154,{"$f":"IF($AD11=\"\",\"\",VLOOKUP($AD11,INSCRITS!$D$4:$W$501,6,0))","v":"LAUSSU"},{"$f":"IF($AD11=\"\",\"\",VLOOKUP($AD11,INSCRITS!$D$4:$W$501,7,0))","v":"Quentin"},{"$f":"IF($AD11=\"\",\"\",VLOOKUP($AD11,INSCRITS!$D$4:$W$501,9,0))","v":"lit et mixe"},null,5,13]
[null,null,158,{"$f":"IF($C12=\"\",\"\",VLOOKUP($C12,INSCRITS!$D$4:$W$501,6,0))","v":"PINTORI"},{"$f":"IF($C12=\"\",\"\",VLOOKUP($C12,INSCRITS!$D$4:$W$501,7,0))","v":"Luc"},{"$f":"IF($C12=\"\",\"\",VLOOKUP($C12,INSCRITS!$D$4:$W$501,9,0))","v":"MNSL"},null,null,null,null,null,null,null,null,{"$f":"IF($N12=\"\",\"\",VLOOKUP($N12,INSCRITS!$D$4:$W$501,6,0))","v":""},{"$f":"IF($N12=\"\",\"\",VLOOKUP($N12,INSCRITS!$D$4:$W$501,7,0))","v":""},{"$f":"IF($N12=\"\",\"\",VLOOKUP($N12,INSCRITS!$D$4:$W$501,9,0))","v":""},null,null,null,null,null,{"$f":"IF($V12=\"\",\"\",VLOOKUP($V12,INSCRITS!$D$4:$W$501,6,0))","v":""},{"$f":"IF($V12=\"\",\"\",VLOOKUP($V12,INSCRITS!$D$4:$W$501,7,0))","v":""},{"$f":"IF($V12=\"\",\"\",VLOOKUP($V12,INSCRITS!$D$4:$W$501,9,0))","v":""},null,null,null,null,138,{"$f":"IF($AD12=\"\",\"\",VLOOKUP($AD12,INSCRITS!$D$4:$W$501,6,0))","v":"LABAT"},{"$f":"IF($AD12=\"\",\"\",VLOOKUP($AD12,INSCRITS!$D$4:$W$501,7,0))","v":"Maxime"},{"$f":"IF($AD12=\"\",\"\",VLOOKUP($AD12,INSCRITS!$D$4:$W$501,9,0))","v":"Biarritz SC"},null,6,12]
[null,null,126,{"$f":"IF($C13=\"\",\"\",VLOOKUP($C13,INSCRITS!$D$4:$W$501,6,0))","v":"PLESSIS"},{"$f":"IF($C13=\"\",\"\",VLOOKUP($C13,INSCRITS!$D$4:$W$501,7,0))","v":"Quentin"},{"$f":"IF($C13=\"\",\"\",VLOOKUP($C13,INSCRITS!$D$4:$W$501,9,0))","v":"AQUALOVE"},null,null,null,null,null,null,null,null,{"$f":"IF($N13=\"\",\"\",VLOOKUP($N13,INSCRITS!$D$4:$W$501,6,0))","v":""},{"$f":"IF($N13=\"\",\"\",VLOOKUP($N13,INSCRITS!$D$4:$W$501,7,0))","v":""},{"$f":"IF($N13=\"\",\"\",VLOOKUP($N13,INSCRITS!$D$4:$W$501,9,0))","v":""},null,null,null,null,null,{"$f":"IF($V13=\"\",\"\",VLOOKUP($V13,INSCRITS!$D$4:$W$501,6,0))","v":""},{"$f":"IF($V13=\"\",\"\",VLOOKUP($V13,INSCRITS!$D$4:$W$501,7,0))","v":""},{"$f":"IF($V13=\"\",\"\",VLOOKUP($V13,INSCRITS!$D$4:$W$501,9,0))","v":""},null,null,null,null,126,{"$f":"IF($AD13=\"\",\"\",VLOOKUP($AD13,INSCRITS!$D$4:$W$501,6,0))","v":"PLESSIS"},{"$f":"IF($AD13=\"\",\"\",VLOOKUP($AD13,INSCRITS!$D$4:$W$501,7,0))","v":"Quentin"},{"$f":"IF($AD13=\"\",\"\",VLOOKUP($AD13,INSCRITS!$D$4:$W$501,9,0))","v":"AQUALOVE"},null,7,11]
[null,null,125,{"$f":"IF($C14=\"\",\"\",VLOOKUP($C14,INSCRITS!$D$4:$W$501,6,0))","v":"EL KHATIR"},{"$f":"IF($C14=\"\",\"\",VLOOKUP($C14,INSCRITS!$D$4:$W$501,7,0))","v":"Younes"},{"$f":"IF($C14=\"\",\"\",VLOOKUP($C14,INSCRITS!$D$4:$W$501,9,0))","v":"AQUALOVE"},null,null,null,null,null,null,null,null,{"$f":"IF($N14=\"\",\"\",VLOOKUP($N14,INSCRITS!$D$4:$W$501,6,0))","v":""},{"$f":"IF($N14=\"\",\"\",VLOOKUP($N14,INSCRITS!$D$4:$W$501,7,0))","v":""},{"$f":"IF($N14=\"\",\"\",VLOOKUP($N14,INSCRITS!$D$4:$W$501,9,0))","v":""},null,null,null,null,null,{"$f":"IF($V14=\"\",\"\",VLOOKUP($V14,INSCRITS!$D$4:$W$501,6,0))","v":""},{"$f":"IF($V14=\"\",\"\",VLOOKUP($V14,INSCRITS!$D$4:$W$501,7,0))","v":""},{"$f":"IF($V14=\"\",\"\",VLOOKUP($V14,INSCRITS!$D$4:$W$501,9,0))","v":""},null,null,null,null,134,{"$f":"IF($AD14=\"\",\"\",VLOOKUP($AD14,INSCRITS!$D$4:$W$501,6,0))","v":"CAMGRAND"},{"$f":"IF($AD14=\"\",\"\",VLOOKUP($AD14,INSCRITS!$D$4:$W$501,7,0))","v":"Jérémie"},{"$f":"IF($AD14=\"\",\"\",VLOOKUP($AD14,INSCRITS!$D$4:$W$501,9,0))","v":"Biarritz SC"},null,8,10]
[null,null,141,{"$f":"IF($C15=\"\",\"\",VLOOKUP($C15,INSCRITS!$D$4:$W$501,6,0))","v":"LAUBUGE"},{"$f":"IF($C15=\"\",\"\",VLOOKUP($C15,INSCRITS!$D$4:$W$501,7,0))","v":"Nathanael"},{"$f":"IF($C15=\"\",\"\",VLOOKUP($C15,INSCRITS!$D$4:$W$501,9,0))","v":"BOSS"},null,null,null,null,null,null,null,null,{"$f":"IF($N15=\"\",\"\",VLOOKUP($N15,INSCRITS!$D$4:$W$501,6,0))","v":""},{"$f":"IF($N15=\"\",\"\",VLOOKUP($N15,INSCRITS!$D$4:$W$501,7,0))","v":""},{"$f":"IF($N15=\"\",\"\",VLOOKUP($N15,INSCRITS!$D$4:$W$501,9,0))","v":""},null,null,null,"SERIE 2",null,{"$f":"IF($V15=\"\",\"\",VLOOKUP($V15,INSCRITS!$D$4:$W$501,6,0))","v":""},{"$f":"IF($V15=\"\",\"\",VLOOKUP($V15,INSCRITS!$D$4:$W$501,7,0))","v":""},{"$f":"IF($V15=\"\",\"\",VLOOKUP($V15,INSCRITS!$D$4:$W$501,9,0))","v":""},null,null,null,null,144,{"$f":"IF($AD15=\"\",\"\",VLOOKUP($AD15,INSCRITS!$D$4:$W$501,6,0))","v":"LICARI"},{"$f":"IF($AD15=\"\",\"\",VLOOKUP($AD15,INSCRITS!$D$4:$W$501,7,0))","v":"Arnaud"},{"$f":"IF($AD15=\"\",\"\",VLOOKUP($AD15,INSCRITS!$D$4:$W$501,9,0))","v":"Cannes Sauvetage Côtier"},null,9,8]
[null,null,null,{"$f":"IF($C16=\"\",\"\",VLOOKUP($C16,INSCRITS!$D$4:$W$501,6,0))","v":""},{"$f":"IF($C16=\"\",\"\",VLOOKUP($C16,INSCRITS!$D$4:$W$501,7,0))","v":""},{"$f":"IF($C16=\"\",\"\",VLOOKUP($C16,INSCRITS!$D$4:$W$501,9,0))","v":""},null,null,null,null,null,null,null,null,{"$f":"IF($N16=\"\",\"\",VLOOKUP($N16,INSCRITS!$D$4:$W$501,6,0))","v":""},{"$f":"IF($N16=\"\",\"\",VLOOKUP($N16,INSCRITS!$D$4:$W$501,7,0))","v":""},{"$f":"IF($N16=\"\",\"\",VLOOKUP($N16,INSCRITS!$D$4:$W$501,9,0))","v":""},null,null,null,null,null,{"$f":"IF($V16=\"\",\"\",VLOOKUP($V16,INSCRITS!$D$4:$W$501,6,0))","v":""},{"$f":"IF($V16=\"\",\"\",VLOOKUP($V16,INSCRITS!$D$4:$W$501,7,0))","v":""},{"$f":"IF($V16=\"\",\"\",VLOOKUP($V16,INSCRITS!$D$4:$W$501,9,0))","v":""},null,null,null,null,149,{"$f":"IF($AD16=\"\",\"\",VLOOKUP($AD16,INSCRITS!$D$4:$W$501,6,0))","v":"CABROL"},{"$f":"IF($AD16=\"\",\"\",VLOOKUP($AD16,INSCRITS!$D$4:$W$501,7,0))","v":"Xavier"},{"$f":"IF($AD16=\"\",\"\",VLOOKUP($AD16,INSCRITS!$D$4:$W$501,9,0))","v":"ENA"},null,10,7]
[null,"SERIE 2",null,{"$f":"IF($C17=\"\",\"\",VLOOKUP($C17,INSCRITS!$D$4:$W$501,6,0))","v":""},{"$f":"IF($C17=\"\",\"\",VLOOKUP($C17,INSCRITS!$D$4:$W$501,7,0))","v":""},{"$f":"IF($C17=\"\",\"\",VLOOKUP($C17,INSCRITS!$D$4:$W$501,9,0))","v":""},null,null,null,null,null,null,null,null,{"$f":"IF($N17=\"\",\"\",VLOOKUP($N17,INSCRITS!$D$4:$W$501,6,0))","v":""},{"$f":"IF($N17=\"\",\"\",VLOOKUP($N17,INSCRITS!$D$4:$W$501,7,0))","v":""},{"$f":"IF($N17=\"\",\"\",VLOOKUP($N17,INSCRITS!$D$4:$W$501,9,0))","v":""},null,null,null,null,null,{"$f":"IF($V17=\"\",\"\",VLOOKUP($V17,INSCRITS!$D$4:$W$501,6,0))","v":""},{"$f":"IF($V17=\"\",\"\",VLOOKUP($V17,INSCRITS!$D$4:$W$501,7,0))","v":""},{"$f":"IF($V17=\"\",\"\",VLOOKUP($V17,INSCRITS!$D$4:$W$501,9,0))","v":""},null,null,null,null,131,{"$f":"IF($AD17=\"\",\"\",VLOOKUP($AD17,INSCRITS!$D$4:$W$501,6,0))","v":"FOS"},{"$f":"IF($AD17=\"\",\"\",VLOOKUP($AD17,INSCRITS!$D$4:$W$501,7,0))","v":"Dorian"},{"$f":"IF($AD17=\"\",\"\",VLOOKUP($AD17,INSCRITS!$D$4:$W$501,9,0))","v":"BEGLES"},null,11,6]
[null,null,132,{"$f":"IF($C18=\"\",\"\",VLOOKUP($C18,INSCRITS!$D$4:$W$501,6,0))","v":"ARTOLA"},{"$f":"IF($C18=\"\",\"\",VLOOKUP($C18,INSCRITS!$D$4:$W$501,7,0))","v":"Bixente"},{"$f":"IF($C18=\"\",\"\",VLOOKUP($C18,INSCRITS!$D$4:$W$501,9,0))","v":"BELHARRA WC"},null,null,null,null,null,null,null,null,{"$f":"IF($N18=\"\",\"\",VLOOKUP($N18,INSCRITS!$D$4:$W$501,6,0))","v":""},{"$f":"IF($N18=\"\",\"\",VLOOKUP($N18,INSCRITS!$D$4:$W$501,7,0))","v":""},{"$f":"IF($N18=\"\",\"\",VLOOKUP($N18,INSCRITS!$D$4:$W$501,9,0))","v":""},null,null,null,null,null,{"$f":"IF($V18=\"\",\"\",VLOOKUP($V18,INSCRITS!$D$4:$W$501,6,0))","v":""},{"$f":"IF($V18=\"\",\"\",VLOOKUP($V18,INSCRITS!$D$4:$W$501,7,0))","v":""},{"$f":"IF($V18=\"\",\"\",VLOOKUP($V18,INSCRITS!$D$4:$W$501,9,0))","v":""},null,null,null,null,157,{"$f":"IF($AD18=\"\",\"\",VLOOKUP($AD18,INSCRITS!$D$4:$W$501,6,0))","v":"KOZARD"},{"$f":"IF($AD18=\"\",\"\",VLOOKUP($AD18,INSCRITS!$D$4:$W$501,7,0))","v":"Pierre-Antoine"},{"$f":"IF($AD18=\"\",\"\",VLOOKUP($AD18,INSCRITS!$D$4:$W$501,9,0))","v":"MNSL"},null,12,5]
[null,null,127,{"$f":"IF($C19=\"\",\"\",VLOOKUP($C19,INSCRITS!$D$4:$W$501,6,0))","v":"CADOT"},{"$f":"IF($C19=\"\",\"\",VLOOKUP($C19,INSCRITS!$D$4:$W$501,7,0))","v":"François"},{"$f":"IF($C19=\"\",\"\",VLOOKUP($C19,INSCRITS!$D$4:$W$501,9,0))","v":"ASCE DINARD"},null,null,null,null,null,null,null,null,{"$f":"IF($N19=\"\",\"\",VLOOKUP($N19,INSCRITS!$D$4:$W$501,6,0))","v":""},{"$f":"IF($N19=\"\",\"\",VLOOKUP($N19,INSCRITS!$D$4:$W$501,7,0))","v":""},{"$f":"IF($N19=\"\",\"\",VLOOKUP($N19,INSCRITS!$D$4:$W$501,9,0))","v":""},null,null,null,null,null,{"$f":"IF($V19=\"\",\"\",VLOOKUP($V19,INSCRITS!$D$4:$W$501,6,0))","v":""},{"$f":"IF($V19=\"\",\"\",VLOOKUP($V19,INSCRITS!$D$4:$W$501,7,0))","v":""},{"$f":"IF($V19=\"\",\"\",VLOOKUP($V19,INSCRITS!$D$4:$W$501,9,0))","v":""},null,null,null,null,155,{"$f":"IF($AD19=\"\",\"\",VLOOKUP($AD19,INSCRITS!$D$4:$W$501,6,0))","v":"BRIGOT"},{"$f":"IF($AD19=\"\",\"\",VLOOKUP($AD19,INSCRITS!$D$4:$W$501,7,0))","v":"Dorian"},{"$f":"IF($AD19=\"\",\"\",VLOOKUP($AD19,INSCRITS!$D$4:$W$501,9,0))","v":"MIMIZAN SAUVETAGE"},null,13,4]
[null,null,138,{"$f":"IF($C20=\"\",\"\",VLOOKUP($C20,INSCRITS!$D$4:$W$501,6,0))","v":"LABAT"},{"$f":"IF($C20=\"\",\"\",VLOOKUP($C20,INSCRITS!$D$4:$W$501,7,0))","v":"Maxime"},{"$f":"IF($C20=\"\",\"\",VLOOKUP($C20,INSCRITS!$D$4:$W$501,9,0))","v":"Biarritz SC"},null,null,null,null,null,null,null,null,{"$f":"IF($N20=\"\",\"\",VLOOKUP($N20,INSCRITS!$D$4:$W$501,6,0))","v":""},{"$f":"IF($N20=\"\",\"\",VLOOKUP($N20,INSCRITS!$D$4:$W$501,7,0))","v":""},{"$f":"IF($N20=\"\",\"\",VLOOKUP($N20,INSCRITS!$D$4:$W$501,9,0))","v":""},null,null,null,null,null,{"$f":"IF($V20=\"\",\"\",VLOOKUP($V20,INSCRITS!$D$4:$W$501,6,0))","v":""},{"$f":"IF($V20=\"\",\"\",VLOOKUP($V20,INSCRITS!$D$4:$W$501,7,0))","v":""},{"$f":"IF($V20=\"\",\"\",VLOOKUP($V20,INSCRITS!$D$4:$W$501,9,0))","v":""},null,null,null,null,130,{"$f":"IF($AD20=\"\",\"\",VLOOKUP($AD20,INSCRITS!$D$4:$W$501,6,0))","v":"DUFFAUD"},{"$f":"IF($AD20=\"\",\"\",VLOOKUP($AD20,INSCRITS!$D$4:$W$501,7,0))","v":"Simon"},{"$f":"IF($AD20=\"\",\"\",VLOOKUP($AD20,INSCRITS!$D$4:$W$501,9,0))","v":"BEGLES"},null,14,3]
[null,null,130,{"$f":"IF($C21=\"\",\"\",VLOOKUP($C21,INSCRITS!$D$4:$W$501,6,0))","v":"DUFFAUD"},{"$f":"IF($C21=\"\",\"\",VLOOKUP($C21,INSCRITS!$D$4:$W$501,7,0))","v":"Simon"},{"$f":"IF($C21=\"\",\"\",VLOOKUP($C21,INSCRITS!$D$4:$W$501,9,0))","v":"BEGLES"},null,null,null,null,null,null,null,null,{"$f":"IF($N21=\"\",\"\",VLOOKUP($N21,INSCRITS!$D$4:$W$501,6,0))","v":""},{"$f":"IF($N21=\"\",\"\",VLOOKUP($N21,INSCRITS!$D$4:$W$501,7,0))","v":""},{"$f":"IF($N21=\"\",\"\",VLOOKUP($N21,INSCRITS!$D$4:$W$501,9,0))","v":""},null,null,null,null,null,{"$f":"IF($V21=\"\",\"\",VLOOKUP($V21,INSCRITS!$D$4:$W$501,6,0))","v":""},{"$f":"IF($V21=\"\",\"\",VLOOKUP($V21,INSCRITS!$D$4:$W$501,7,0))","v":""},{"$f":"IF($V21=\"\",\"\",VLOOKUP($V21,INSCRITS!$D$4:$W$501,9,0))","v":""},null,null,null,null,141,{"$f":"IF($AD21=\"\",\"\",VLOOKUP($AD21,INSCRITS!$D$4:$W$501,6,0))","v":"LAUBUGE"},{"$f":"IF($AD21=\"\",\"\",VLOOKUP($AD21,INSCRITS!$D$4:$W$501,7,0))","v":"Nathanael"},{"$f":"IF($AD21=\"\",\"\",VLOOKUP($AD21,INSCRITS!$D$4:$W$501,9,0))","v":"BOSS"},null,15,2]
[null,null,142,{"$f":"IF($C22=\"\",\"\",VLOOKUP($C22,INSCRITS!$D$4:$W$501,6,0))","v":"PERRIN"},{"$f":"IF($C22=\"\",\"\",VLOOKUP($C22,INSCRITS!$D$4:$W$501,7,0))","v":"Hugo"},{"$f":"IF($C22=\"\",\"\",VLOOKUP($C22,INSCRITS!$D$4:$W$501,9,0))","v":"BOSS"},null,null,null,null,null,null,null,null,{"$f":"IF($N22=\"\",\"\",VLOOKUP($N22,INSCRITS!$D$4:$W$501,6,0))","v":""},{"$f":"IF($N22=\"\",\"\",VLOOKUP($N22,INSCRITS!$D$4:$W$501,7,0))","v":""},{"$f":"IF($N22=\"\",\"\",VLOOKUP($N22,INSCRITS!$D$4:$W$501,9,0))","v":""},null,null,null,null,null,{"$f":"IF($V22=\"\",\"\",VLOOKUP($V22,INSCRITS!$D$4:$W$501,6,0))","v":""},{"$f":"IF($V22=\"\",\"\",VLOOKUP($V22,INSCRITS!$D$4:$W$501,7,0))","v":""},{"$f":"IF($V22=\"\",\"\",VLOOKUP($V22,INSCRITS!$D$4:$W$501,9,0))","v":""},null,null,null,null,145,{"$f":"IF($AD22=\"\",\"\",VLOOKUP($AD22,INSCRITS!$D$4:$W$501,6,0))","v":"VECCHINI"},{"$f":"IF($AD22=\"\",\"\",VLOOKUP($AD22,INSCRITS!$D$4:$W$501,7,0))","v":"Thierry"},{"$f":"IF($AD22=\"\",\"\",VLOOKUP($AD22,INSCRITS!$D$4:$W$501,9,0))","v":"Cannes Sauvetage Côtier"},null,16,1]
[null,null,122,{"$f":"IF($C23=\"\",\"\",VLOOKUP($C23,INSCRITS!$D$4:$W$501,6,0))","v":"LAVALLARD"},{"$f":"IF($C23=\"\",\"\",VLOOKUP($C23,INSCRITS!$D$4:$W$501,7,0))","v":"Logan"},{"$f":"IF($C23=\"\",\"\",VLOOKUP($C23,INSCRITS!$D$4:$W$501,9,0))","v":"Amiens sauvetage"},null,null,null,null,null,null,"SERIE 2",null,{"$f":"IF($N23=\"\",\"\",VLOOKUP($N23,INSCRITS!$D$4:$W$501,6,0))","v":""},{"$f":"IF($N23=\"\",\"\",VLOOKUP($N23,INSCRITS!$D$4:$W$501,7,0))","v":""},{"$f":"IF($N23=\"\",\"\",VLOOKUP($N23,INSCRITS!$D$4:$W$501,9,0))","v":""}]
[null,null,143,{"$f":"IF($C24=\"\",\"\",VLOOKUP($C24,INSCRITS!$D$4:$W$501,6,0))","v":"LICARI"},{"$f":"IF($C24=\"\",\"\",VLOOKUP($C24,INSCRITS!$D$4:$W$501,7,0))","v":"Antoine"},{"$f":"IF($C24=\"\",\"\",VLOOKUP($C24,INSCRITS!$D$4:$W$501,9,0))","v":"Cannes Sauvetage Côtier"},null,null,null,null,null,null,null,null,{"$f":"IF($N24=\"\",\"\",VLOOKUP($N24,INSCRITS!$D$4:$W$501,6,0))","v":""},{"$f":"IF($N24=\"\",\"\",VLOOKUP($N24,INSCRITS!$D$4:$W$501,7,0))","v":""},{"$f":"IF($N24=\"\",\"\",VLOOKUP($N24,INSCRITS!$D$4:$W$501,9,0))","v":""}]
[null,null,149,{"$f":"IF($C25=\"\",\"\",VLOOKUP($C25,INSCRITS!$D$4:$W$501,6,0))","v":"CABROL"},{"$f":"IF($C25=\"\",\"\",VLOOKUP($C25,INSCRITS!$D$4:$W$501,7,0))","v":"Xavier"},{"$f":"IF($C25=\"\",\"\",VLOOKUP($C25,INSCRITS!$D$4:$W$501,9,0))","v":"ENA"},null,null,null,null,null,null,null,null,{"$f":"IF($N25=\"\",\"\",VLOOKUP($N25,INSCRITS!$D$4:$W$501,6,0))","v":""},{"$f":"IF($N25=\"\",\"\",VLOOKUP($N25,INSCRITS!$D$4:$W$501,7,0))","v":""},{"$f":"IF($N25=\"\",\"\",VLOOKUP($N25,INSCRITS!$D$4:$W$501,9,0))","v":""},null,null,null,null,null,null,null,null,null,null,null,"FINALE B",null,{"$f":"IF($AD25=\"\",\"\",VLOOKUP($AD25,INSCRITS!$D$4:$W$501,6,0))","v":""},{"$f":"IF($AD25=\"\",\"\",VLOOKUP($AD25,INSCRITS!$D$4:$W$501,7,0))","v":""},{"$f":"IF($AD25=\"\",\"\",VLOOKUP($AD25,INSCRITS!$D$4:$W$501,9,0))","v":""},null,1]
[null,null,136,{"$f":"IF($C26=\"\",\"\",VLOOKUP($C26,INSCRITS!$D$4:$W$501,6,0))","v":"DUCOUDRET"},{"$f":"IF($C26=\"\",\"\",VLOOKUP($C26,INSCRITS!$D$4:$W$501,7,0))","v":"Arnaud"},{"$f":"IF($C26=\"\",\"\",VLOOKUP($C26,INSCRITS!$D$4:$W$501,9,0))","v":"Biarritz SC"},null,null,null,null,null,null,null,null,{"$f":"IF($N26=\"\",\"\",VLOOKUP($N26,INSCRITS!$D$4:$W$501,6,0))","v":""},{"$f":"IF($N26=\"\",\"\",VLOOKUP($N26,INSCRITS!$D$4:$W$501,7,0))","v":""},{"$f":"IF($N26=\"\",\"\",VLOOKUP($N26,INSCRITS!$D$4:$W$501,9,0))","v":""},null,null,null,null,null,null,null,null,null,null,null,null,null,{"$f":"IF($AD26=\"\",\"\",VLOOKUP($AD26,INSCRITS!$D$4:$W$501,6,0))","v":""},{"$f":"IF($AD26=\"\",\"\",VLOOKUP($AD26,INSCRITS!$D$4:$W$501,7,0))","v":""},{"$f":"IF($AD26=\"\",\"\",VLOOKUP($AD26,INSCRITS!$D$4:$W$501,9,0))","v":""},null,2]
[null,"SERIE 3",133,{"$f":"IF($C27=\"\",\"\",VLOOKUP($C27,INSCRITS!$D$4:$W$501,6,0))","v":"SOLABERRIETA"},{"$f":"IF($C27=\"\",\"\",VLOOKUP($C27,INSCRITS!$D$4:$W$501,7,0))","v":"Jean"},{"$f":"IF($C27=\"\",\"\",VLOOKUP($C27,INSCRITS!$D$4:$W$501,9,0))","v":"BELHARRA WC"},null,null,null,null,null,null,null,null,{"$f":"IF($N27=\"\",\"\",VLOOKUP($N27,INSCRITS!$D$4:$W$501,6,0))","v":""},{"$f":"IF($N27=\"\",\"\",VLOOKUP($N27,INSCRITS!$D$4:$W$501,7,0))","v":""},{"$f":"IF($N27=\"\",\"\",VLOOKUP($N27,INSCRITS!$D$4:$W$501,9,0))","v":""},null,null,null,null,null,null,null,null,null,null,null,null,null,{"$f":"IF($AD27=\"\",\"\",VLOOKUP($AD27,INSCRITS!$D$4:$W$501,6,0))","v":""},{"$f":"IF($AD27=\"\",\"\",VLOOKUP($AD27,INSCRITS!$D$4:$W$501,7,0))","v":""},{"$f":"IF($AD27=\"\",\"\",VLOOKUP($AD27,INSCRITS!$D$4:$W$501,9,0))","v":""},null,3]
[null,null,121,{"$f":"IF($C28=\"\",\"\",VLOOKUP($C28,INSCRITS!$D$4:$W$501,6,0))","v":"COSSART"},{"$f":"IF($C28=\"\",\"\",VLOOKUP($C28,INSCRITS!$D$4:$W$501,7,0))","v":"Théo"},{"$f":"IF($C28=\"\",\"\",VLOOKUP($C28,INSCRITS!$D$4:$W$501,9,0))","v":"Amiens sauvetage"},null,null,null,null,null,null,null,null,{"$f":"IF($N28=\"\",\"\",VLOOKUP($N28,INSCRITS!$D$4:$W$501,6,0))","v":""},{"$f":"IF($N28=\"\",\"\",VLOOKUP($N28,INSCRITS!$D$4:$W$501,7,0))","v":""},{"$f":"IF($N28=\"\",\"\",VLOOKUP($N28,INSCRITS!$D$4:$W$501,9,0))","v":""},null,null,null,null,null,null,null,null,null,null,null,null,null,{"$f":"IF($AD28=\"\",\"\",VLOOKUP($AD28,INSCRITS!$D$4:$W$501,6,0))","v":""},{"$f":"IF($AD28=\"\",\"\",VLOOKUP($AD28,INSCRITS!$D$4:$W$501,7,0))","v":""},{"$f":"IF($AD28=\"\",\"\",VLOOKUP($AD28,INSCRITS!$D$4:$W$501,9,0))","v":""},null,4]
[null,null,144,{"$f":"IF($C29=\"\",\"\",VLOOKUP($C29,INSCRITS!$D$4:$W$501,6,0))","v":"LICARI"},{"$f":"IF($C29=\"\",\"\",VLOOKUP($C29,INSCRITS!$D$4:$W$501,7,0))","v":"Arnaud"},{"$f":"IF($C29=\"\",\"\",VLOOKUP($C29,INSCRITS!$D$4:$W$501,9,0))","v":"Cannes Sauvetage Côtier"},null,null,null,null,null,null,null,null,{"$f":"IF($N29=\"\",\"\",VLOOKUP($N29,INSCRITS!$D$4:$W$501,6,0))","v":""},{"$f":"IF($N29=\"\",\"\",VLOOKUP($N29,INSCRITS!$D$4:$W$501,7,0))","v":""},{"$f":"IF($N29=\"\",\"\",VLOOKUP($N29,INSCRITS!$D$4:$W$501,9,0))","v":""},null,null,null,null,null,null,null,null,null,null,null,null,null,{"$f":"IF($AD29=\"\",\"\",VLOOKUP($AD29,INSCRITS!$D$4:$W$501,6,0))","v":""},{"$f":"IF($AD29=\"\",\"\",VLOOKUP($AD29,INSCRITS!$D$4:$W$501,7,0))","v":""},{"$f":"IF($AD29=\"\",\"\",VLOOKUP($AD29,INSCRITS!$D$4:$W$501,9,0))","v":""},null,5]
[null,null,148,{"$f":"IF($C30=\"\",\"\",VLOOKUP($C30,INSCRITS!$D$4:$W$501,6,0))","v":"CAZAUX"},{"$f":"IF($C30=\"\",\"\",VLOOKUP($C30,INSCRITS!$D$4:$W$501,7,0))","v":"Loïc"},{"$f":"IF($C30=\"\",\"\",VLOOKUP($C30,INSCRITS!$D$4:$W$501,9,0))","v":"CSSM"},null,null,null,null,null,null,null,null,{"$f":"IF($N30=\"\",\"\",VLOOKUP($N30,INSCRITS!$D$4:$W$501,6,0))","v":""},{"$f":"IF($N30=\"\",\"\",VLOOKUP($N30,INSCRITS!$D$4:$W$501,7,0))","v":""},{"$f":"IF($N30=\"\",\"\",VLOOKUP($N30,INSCRITS!$D$4:$W$501,9,0))","v":""},null,null,null,null,null,null,null,null,null,null,null,null,null,{"$f":"IF($AD30=\"\",\"\",VLOOKUP($AD30,INSCRITS!$D$4:$W$501,6,0))","v":""},{"$f":"IF($AD30=\"\",\"\",VLOOKUP($AD30,INSCRITS!$D$4:$W$501,7,0))","v":""},{"$f":"IF($AD30=\"\",\"\",VLOOKUP($AD30,INSCRITS!$D$4:$W$501,9,0))","v":""},null,6]
[null,null,159,{"$f":"IF($C31=\"\",\"\",VLOOKUP($C31,INSCRITS!$D$4:$W$501,6,0))","v":"BRIONGOS"},{"$f":"IF($C31=\"\",\"\",VLOOKUP($C31,INSCRITS!$D$4:$W$501,7,0))","v":"Alexis"},{"$f":"IF($C31=\"\",\"\",VLOOKUP($C31,INSCRITS!$D$4:$W$501,9,0))","v":"TOULOUSE CST"},null,null,null,null,null,null,null,null,{"$f":"IF($N31=\"\",\"\",VLOOKUP($N31,INSCRITS!$D$4:$W$501,6,0))","v":""},{"$f":"IF($N31=\"\",\"\",VLOOKUP($N31,INSCRITS!$D$4:$W$501,7,0))","v":""},{"$f":"IF($N31=\"\",\"\",VLOOKUP($N31,INSCRITS!$D$4:$W$501,9,0))","v":""},null,null,null,null,null,null,null,null,null,null,null,null,null,{"$f":"IF($AD31=\"\",\"\",VLOOKUP($AD31,INSCRITS!$D$4:$W$501,6,0))","v":""},{"$f":"IF($AD31=\"\",\"\",VLOOKUP($AD31,INSCRITS!$D$4:$W$501,7,0))","v":""},{"$f":"IF($AD31=\"\",\"\",VLOOKUP($AD31,INSCRITS!$D$4:$W$501,9,0))","v":""},null,7]
[null,null,152,{"$f":"IF($C32=\"\",\"\",VLOOKUP($C32,INSCRITS!$D$4:$W$501,6,0))","v":"CIER"},{"$f":"IF($C32=\"\",\"\",VLOOKUP($C32,INSCRITS!$D$4:$W$501,7,0))","v":"Jules"},{"$f":"IF($C32=\"\",\"\",VLOOKUP($C32,INSCRITS!$D$4:$W$501,9,0))","v":"HSC"},null,null,null,null,null,null,null,null,{"$f":"IF($N32=\"\",\"\",VLOOKUP($N32,INSCRITS!$D$4:$W$501,6,0))","v":""},{"$f":"IF($N32=\"\",\"\",VLOOKUP($N32,INSCRITS!$D$4:$W$501,7,0))","v":""},{"$f":"IF($N32=\"\",\"\",VLOOKUP($N32,INSCRITS!$D$4:$W$501,9,0))","v":""},null,null,null,null,null,null,null,null,null,null,null,null,null,{"$f":"IF($AD32=\"\",\"\",VLOOKUP($AD32,INSCRITS!$D$4:$W$501,6,0))","v":""},{"$f":"IF($AD32=\"\",\"\",VLOOKUP($AD32,INSCRITS!$D$4:$W$501,7,0))","v":""},{"$f":"IF($AD32=\"\",\"\",VLOOKUP($AD32,INSCRITS!$D$4:$W$501,9,0))","v":""},null,8]
[null,null,131,{"$f":"IF($C33=\"\",\"\",VLOOKUP($C33,INSCRITS!$D$4:$W$501,6,0))","v":"FOS"},{"$f":"IF($C33=\"\",\"\",VLOOKUP($C33,INSCRITS!$D$4:$W$501,7,0))","v":"Dorian"},{"$f":"IF($C33=\"\",\"\",VLOOKUP($C33,INSCRITS!$D$4:$W$501,9,0))","v":"BEGLES"},null,null,null,null,null,null,null,null,{"$f":"IF($N33=\"\",\"\",VLOOKUP($N33,INSCRITS!$D$4:$W$501,6,0))","v":""},{"$f":"IF($N33=\"\",\"\",VLOOKUP($N33,INSCRITS!$D$4:$W$501,7,0))","v":""},{"$f":"IF($N33=\"\",\"\",VLOOKUP($N33,INSCRITS!$D$4:$W$501,9,0))","v":""},null,null,null,null,null,null,null,null,null,null,null,null,null,{"$f":"IF($AD33=\"\",\"\",VLOOKUP($AD33,INSCRITS!$D$4:$W$501,6,0))","v":""},{"$f":"IF($AD33=\"\",\"\",VLOOKUP($AD33,INSCRITS!$D$4:$W$501,7,0))","v":""},{"$f":"IF($AD33=\"\",\"\",VLOOKUP($AD33,INSCRITS!$D$4:$W$501,9,0))","v":""},null,9]
[null,null,147,{"$f":"IF($C34=\"\",\"\",VLOOKUP($C34,INSCRITS!$D$4:$W$501,6,0))","v":"WAGNER"},{"$f":"IF($C34=\"\",\"\",VLOOKUP($C34,INSCRITS!$D$4:$W$501,7,0))","v":"Florian"},{"$f":"IF($C34=\"\",\"\",VLOOKUP($C34,INSCRITS!$D$4:$W$501,9,0))","v":"COLMAR ACSS"},null,null,null,null,null,null,null,null,{"$f":"IF($N34=\"\",\"\",VLOOKUP($N34,INSCRITS!$D$4:$W$501,6,0))","v":""},{"$f":"IF($N34=\"\",\"\",VLOOKUP($N34,INSCRITS!$D$4:$W$501,7,0))","v":""},{"$f":"IF($N34=\"\",\"\",VLOOKUP($N34,INSCRITS!$D$4:$W$501,9,0))","v":""},null,null,null,null,null,null,null,null,null,null,null,null,null,{"$f":"IF($AD34=\"\",\"\",VLOOKUP($AD34,INSCRITS!$D$4:$W$501,6,0))","v":""},{"$f":"IF($AD34=\"\",\"\",VLOOKUP($AD34,INSCRITS!$D$4:$W$501,7,0))","v":""},{"$f":"IF($AD34=\"\",\"\",VLOOKUP($AD34,INSCRITS!$D$4:$W$501,9,0))","v":""},null,10]
[null,null,null,{"$f":"IF($C35=\"\",\"\",VLOOKUP($C35,INSCRITS!$D$4:$W$501,6,0))","v":""},{"$f":"IF($C35=\"\",\"\",VLOOKUP($C35,INSCRITS!$D$4:$W$501,7,0))","v":""},{"$f":"IF($C35=\"\",\"\",VLOOKUP($C35,INSCRITS!$D$4:$W$501,9,0))","v":""},null,null,null,null,null,null,null,null,{"$f":"IF($N35=\"\",\"\",VLOOKUP($N35,INSCRITS!$D$4:$W$501,6,0))","v":""},{"$f":"IF($N35=\"\",\"\",VLOOKUP($N35,INSCRITS!$D$4:$W$501,7,0))","v":""},{"$f":"IF($N35=\"\",\"\",VLOOKUP($N35,INSCRITS!$D$4:$W$501,9,0))","v":""},null,null,null,null,null,null,null,null,null,null,null,null,null,{"$f":"IF($AD35=\"\",\"\",VLOOKUP($AD35,INSCRITS!$D$4:$W$501,6,0))","v":""},{"$f":"IF($AD35=\"\",\"\",VLOOKUP($AD35,INSCRITS!$D$4:$W$501,7,0))","v":""},{"$f":"IF($AD35=\"\",\"\",VLOOKUP($AD35,INSCRITS!$D$4:$W$501,9,0))","v":""},null,11]
[null,null,153,{"$f":"IF($C36=\"\",\"\",VLOOKUP($C36,INSCRITS!$D$4:$W$501,6,0))","v":"TISSIER"},{"$f":"IF($C36=\"\",\"\",VLOOKUP($C36,INSCRITS!$D$4:$W$501,7,0))","v":"Mael"},{"$f":"IF($C36=\"\",\"\",VLOOKUP($C36,INSCRITS!$D$4:$W$501,9,0))","v":"HSC"},null,null,null,null,null,null,null,null,{"$f":"IF($N36=\"\",\"\",VLOOKUP($N36,INSCRITS!$D$4:$W$501,6,0))","v":""},{"$f":"IF($N36=\"\",\"\",VLOOKUP($N36,INSCRITS!$D$4:$W$501,7,0))","v":""},{"$f":"IF($N36=\"\",\"\",VLOOKUP($N36,INSCRITS!$D$4:$W$501,9,0))","v":""},null,null,null,null,null,null,null,null,null,null,null,null,null,{"$f":"IF($AD36=\"\",\"\",VLOOKUP($AD36,INSCRITS!$D$4:$W$501,6,0))","v":""},{"$f":"IF($AD36=\"\",\"\",VLOOKUP($AD36,INSCRITS!$D$4:$W$501,7,0))","v":""},{"$f":"IF($AD36=\"\",\"\",VLOOKUP($AD36,INSCRITS!$D$4:$W$501,9,0))","v":""},null,12]
[null,"SERIE 4",140,{"$f":"IF($C37=\"\",\"\",VLOOKUP($C37,INSCRITS!$D$4:$W$501,6,0))","v":"YOH"},{"$f":"IF($C37=\"\",\"\",VLOOKUP($C37,INSCRITS!$D$4:$W$501,7,0))","v":"Titouan"},{"$f":"IF($C37=\"\",\"\",VLOOKUP($C37,INSCRITS!$D$4:$W$501,9,0))","v":"Biarritz SC"},null,null,null,null,null,null,null,null,{"$f":"IF($N37=\"\",\"\",VLOOKUP($N37,INSCRITS!$D$4:$W$501,6,0))","v":""},{"$f":"IF($N37=\"\",\"\",VLOOKUP($N37,INSCRITS!$D$4:$W$501,7,0))","v":""},{"$f":"IF($N37=\"\",\"\",VLOOKUP($N37,INSCRITS!$D$4:$W$501,9,0))","v":""},null,null,null,null,null,null,null,null,null,null,null,null,null,{"$f":"IF($AD37=\"\",\"\",VLOOKUP($AD37,INSCRITS!$D$4:$W$501,6,0))","v":""},{"$f":"IF($AD37=\"\",\"\",VLOOKUP($AD37,INSCRITS!$D$4:$W$501,7,0))","v":""},{"$f":"IF($AD37=\"\",\"\",VLOOKUP($AD37,INSCRITS!$D$4:$W$501,9,0))","v":""},null,13]
[null,null,146,{"$f":"IF($C38=\"\",\"\",VLOOKUP($C38,INSCRITS!$D$4:$W$501,6,0))","v":"DEMBLOCQUE"},{"$f":"IF($C38=\"\",\"\",VLOOKUP($C38,INSCRITS!$D$4:$W$501,7,0))","v":"Théo"},{"$f":"IF($C38=\"\",\"\",VLOOKUP($C38,INSCRITS!$D$4:$W$501,9,0))","v":"Capbreton"},null,null,null,null,null,null,null,null,{"$f":"IF($N38=\"\",\"\",VLOOKUP($N38,INSCRITS!$D$4:$W$501,6,0))","v":""},{"$f":"IF($N38=\"\",\"\",VLOOKUP($N38,INSCRITS!$D$4:$W$501,7,0))","v":""},{"$f":"IF($N38=\"\",\"\",VLOOKUP($N38,INSCRITS!$D$4:$W$501,9,0))","v":""},null,null,null,null,null,null,null,null,null,null,null,null,null,{"$f":"IF($AD38=\"\",\"\",VLOOKUP($AD38,INSCRITS!$D$4:$W$501,6,0))","v":""},{"$f":"IF($AD38=\"\",\"\",VLOOKUP($AD38,INSCRITS!$D$4:$W$501,7,0))","v":""},{"$f":"IF($AD38=\"\",\"\",VLOOKUP($AD38,INSCRITS!$D$4:$W$501,9,0))","v":""},null,14]
[null,null,154,{"$f":"IF($C39=\"\",\"\",VLOOKUP($C39,INSCRITS!$D$4:$W$501,6,0))","v":"LAUSSU"},{"$f":"IF($C39=\"\",\"\",VLOOKUP($C39,INSCRITS!$D$4:$W$501,7,0))","v":"Quentin"},{"$f":"IF($C39=\"\",\"\",VLOOKUP($C39,INSCRITS!$D$4:$W$501,9,0))","v":"lit et mixe"},null,null,null,null,null,null,"SERIE 3",null,{"$f":"IF($N39=\"\",\"\",VLOOKUP($N39,INSCRITS!$D$4:$W$501,6,0))","v":""},{"$f":"IF($N39=\"\",\"\",VLOOKUP($N39,INSCRITS!$D$4:$W$501,7,0))","v":""},{"$f":"IF($N39=\"\",\"\",VLOOKUP($N39,INSCRITS!$D$4:$W$501,9,0))","v":""},null,null,null,null,null,null,null,null,null,null,null,null,null,{"$f":"IF($AD39=\"\",\"\",VLOOKUP($AD39,INSCRITS!$D$4:$W$501,6,0))","v":""},{"$f":"IF($AD39=\"\",\"\",VLOOKUP($AD39,INSCRITS!$D$4:$W$501,7,0))","v":""},{"$f":"IF($AD39=\"\",\"\",VLOOKUP($AD39,INSCRITS!$D$4:$W$501,9,0))","v":""}]
[null,null,139,{"$f":"IF($C40=\"\",\"\",VLOOKUP($C40,INSCRITS!$D$4:$W$501,6,0))","v":"PUYAU"},{"$f":"IF($C40=\"\",\"\",VLOOKUP($C40,INSCRITS!$D$4:$W$501,7,0))","v":"Pierre"},{"$f":"IF($C40=\"\",\"\",VLOOKUP($C40,INSCRITS!$D$4:$W$501,9,0))","v":"Biarritz SC"},null,null,null,null,null,null,null,null,{"$f":"IF($N40=\"\",\"\",VLOOKUP($N40,INSCRITS!$D$4:$W$501,6,0))","v":""},{"$f":"IF($N40=\"\",\"\",VLOOKUP($N40,INSCRITS!$D$4:$W$501,7,0))","v":""},{"$f":"IF($N40=\"\",\"\",VLOOKUP($N40,INSCRITS!$D$4:$W$501,9,0))","v":""},null,null,null,null,null,null,null,null,null,null,null,null,null,{"$f":"IF($AD40=\"\",\"\",VLOOKUP($AD40,INSCRITS!$D$4:$W$501,6,0))","v":""},{"$f":"IF($AD40=\"\",\"\",VLOOKUP($AD40,INSCRITS!$D$4:$W$501,7,0))","v":""},{"$f":"IF($AD40=\"\",\"\",VLOOKUP($AD40,INSCRITS!$D$4:$W$501,9,0))","v":""}]
[null,null,145,{"$f":"IF($C41=\"\",\"\",VLOOKUP($C41,INSCRITS!$D$4:$W$501,6,0))","v":"VECCHINI"},{"$f":"IF($C41=\"\",\"\",VLOOKUP($C41,INSCRITS!$D$4:$W$501,7,0))","v":"Thierry"},{"$f":"IF($C41=\"\",\"\",VLOOKUP($C41,INSCRITS!$D$4:$W$501,9,0))","v":"Cannes Sauvetage Côtier"},null,null,null,null,null,null,null,null,{"$f":"IF($N41=\"\",\"\",VLOOKUP($N41,INSCRITS!$D$4:$W$501,6,0))","v":""},{"$f":"IF($N41=\"\",\"\",VLOOKUP($N41,INSCRITS!$D$4:$W$501,7,0))","v":""},{"$f":"IF($N41=\"\",\"\",VLOOKUP($N41,INSCRITS!$D$4:$W$501,9,0))","v":""}]
[null,null,124,{"$f":"IF($C42=\"\",\"\",VLOOKUP($C42,INSCRITS!$D$4:$W$501,6,0))","v":"ALARCON"},{"$f":"IF($C42=\"\",\"\",VLOOKUP($C42,INSCRITS!$D$4:$W$501,7,0))","v":"Benjamin"},{"$f":"IF($C42=\"\",\"\",VLOOKUP($C42,INSCRITS!$D$4:$W$501,9,0))","v":"AQUALOVE"},null,null,null,null,null,null,null,null,{"$f":"IF($N42=\"\",\"\",VLOOKUP($N42,INSCRITS!$D$4:$W$501,6,0))","v":""},{"$f":"IF($N42=\"\",\"\",VLOOKUP($N42,INSCRITS!$D$4:$W$501,7,0))","v":""},{"$f":"IF($N42=\"\",\"\",VLOOKUP($N42,INSCRITS!$D$4:$W$501,9,0))","v":""}]
[null,null,123,{"$f":"IF($C43=\"\",\"\",VLOOKUP($C43,INSCRITS!$D$4:$W$501,6,0))","v":"VANDENBERGHE"},{"$f":"IF($C43=\"\",\"\",VLOOKUP($C43,INSCRITS!$D$4:$W$501,7,0))","v":"Sébastien"},{"$f":"IF($C43=\"\",\"\",VLOOKUP($C43,INSCRITS!$D$4:$W$501,9,0))","v":"ANV"},null,null,null,null,null,null,null,null,{"$f":"IF($N43=\"\",\"\",VLOOKUP($N43,INSCRITS!$D$4:$W$501,6,0))","v":""},{"$f":"IF($N43=\"\",\"\",VLOOKUP($N43,INSCRITS!$D$4:$W$501,7,0))","v":""},{"$f":"IF($N43=\"\",\"\",VLOOKUP($N43,INSCRITS!$D$4:$W$501,9,0))","v":""}]
[null,null,150,{"$f":"IF($C44=\"\",\"\",VLOOKUP($C44,INSCRITS!$D$4:$W$501,6,0))","v":"MATHIEU"},{"$f":"IF($C44=\"\",\"\",VLOOKUP($C44,INSCRITS!$D$4:$W$501,7,0))","v":"Simon"},{"$f":"IF($C44=\"\",\"\",VLOOKUP($C44,INSCRITS!$D$4:$W$501,9,0))","v":"ENA"},null,null,null,null,null,null,null,null,{"$f":"IF($N44=\"\",\"\",VLOOKUP($N44,INSCRITS!$D$4:$W$501,6,0))","v":""},{"$f":"IF($N44=\"\",\"\",VLOOKUP($N44,INSCRITS!$D$4:$W$501,7,0))","v":""},{"$f":"IF($N44=\"\",\"\",VLOOKUP($N44,INSCRITS!$D$4:$W$501,9,0))","v":""}]
[null,null,157,{"$f":"IF($C45=\"\",\"\",VLOOKUP($C45,INSCRITS!$D$4:$W$501,6,0))","v":"KOZARD"},{"$f":"IF($C45=\"\",\"\",VLOOKUP($C45,INSCRITS!$D$4:$W$501,7,0))","v":"Pierre-Antoine"},{"$f":"IF($C45=\"\",\"\",VLOOKUP($C45,INSCRITS!$D$4:$W$501,9,0))","v":"MNSL"},null,null,null,null,null,null,null,null,{"$f":"IF($N45=\"\",\"\",VLOOKUP($N45,INSCRITS!$D$4:$W$501,6,0))","v":""},{"$f":"IF($N45=\"\",\"\",VLOOKUP($N45,INSCRITS!$D$4:$W$501,7,0))","v":""},{"$f":"IF($N45=\"\",\"\",VLOOKUP($N45,INSCRITS!$D$4:$W$501,9,0))","v":""}]
[null,null,null,{"$f":"IF($C46=\"\",\"\",VLOOKUP($C46,INSCRITS!$D$4:$W$501,6,0))","v":""},{"$f":"IF($C46=\"\",\"\",VLOOKUP($C46,INSCRITS!$D$4:$W$501,7,0))","v":""},{"$f":"IF($C46=\"\",\"\",VLOOKUP($C46,INSCRITS!$D$4:$W$501,9,0))","v":""},null,null,null,null,null,null,null,null,{"$f":"IF($N46=\"\",\"\",VLOOKUP($N46,INSCRITS!$D$4:$W$501,6,0))","v":""},{"$f":"IF($N46=\"\",\"\",VLOOKUP($N46,INSCRITS!$D$4:$W$501,7,0))","v":""},{"$f":"IF($N46=\"\",\"\",VLOOKUP($N46,INSCRITS!$D$4:$W$501,9,0))","v":""}]
[null,"SERIE 5",null,{"$f":"IF($C47=\"\",\"\",VLOOKUP($C47,INSCRITS!$D$4:$W$501,6,0))","v":""},{"$f":"IF($C47=\"\",\"\",VLOOKUP($C47,INSCRITS!$D$4:$W$501,7,0))","v":""},{"$f":"IF($C47=\"\",\"\",VLOOKUP($C47,INSCRITS!$D$4:$W$501,9,0))","v":""},null,null,null,null,null,null,null,null,{"$f":"IF($N47=\"\",\"\",VLOOKUP($N47,INSCRITS!$D$4:$W$501,6,0))","v":""},{"$f":"IF($N47=\"\",\"\",VLOOKUP($N47,INSCRITS!$D$4:$W$501,7,0))","v":""},{"$f":"IF($N47=\"\",\"\",VLOOKUP($N47,INSCRITS!$D$4:$W$501,9,0))","v":""}]
[null,null,null,{"$f":"IF($C48=\"\",\"\",VLOOKUP($C48,INSCRITS!$D$4:$W$501,6,0))","v":""},{"$f":"IF($C48=\"\",\"\",VLOOKUP($C48,INSCRITS!$D$4:$W$501,7,0))","v":""},{"$f":"IF($C48=\"\",\"\",VLOOKUP($C48,INSCRITS!$D$4:$W$501,9,0))","v":""},null,null,null,null,null,null,null,null,{"$f":"IF($N48=\"\",\"\",VLOOKUP($N48,INSCRITS!$D$4:$W$501,6,0))","v":""},{"$f":"IF($N48=\"\",\"\",VLOOKUP($N48,INSCRITS!$D$4:$W$501,7,0))","v":""},{"$f":"IF($N48=\"\",\"\",VLOOKUP($N48,INSCRITS!$D$4:$W$501,9,0))","v":""}]
[null,null,null,{"$f":"IF($C49=\"\",\"\",VLOOKUP($C49,INSCRITS!$D$4:$W$501,6,0))","v":""},{"$f":"IF($C49=\"\",\"\",VLOOKUP($C49,INSCRITS!$D$4:$W$501,7,0))","v":""},{"$f":"IF($C49=\"\",\"\",VLOOKUP($C49,INSCRITS!$D$4:$W$501,9,0))","v":""},null,null,null,null,null,null,null,null,{"$f":"IF($N49=\"\",\"\",VLOOKUP($N49,INSCRITS!$D$4:$W$501,6,0))","v":""},{"$f":"IF($N49=\"\",\"\",VLOOKUP($N49,INSCRITS!$D$4:$W$501,7,0))","v":""},{"$f":"IF($N49=\"\",\"\",VLOOKUP($N49,INSCRITS!$D$4:$W$501,9,0))","v":""}]
[null,null,null,{"$f":"IF($C50=\"\",\"\",VLOOKUP($C50,INSCRITS!$D$4:$W$501,6,0))","v":""},{"$f":"IF($C50=\"\",\"\",VLOOKUP($C50,INSCRITS!$D$4:$W$501,7,0))","v":""},{"$f":"IF($C50=\"\",\"\",VLOOKUP($C50,INSCRITS!$D$4:$W$501,9,0))","v":""},null,null,null,null,null,null,null,null,{"$f":"IF($N50=\"\",\"\",VLOOKUP($N50,INSCRITS!$D$4:$W$501,6,0))","v":""},{"$f":"IF($N50=\"\",\"\",VLOOKUP($N50,INSCRITS!$D$4:$W$501,7,0))","v":""},{"$f":"IF($N50=\"\",\"\",VLOOKUP($N50,INSCRITS!$D$4:$W$501,9,0))","v":""}]
[null,null,null,{"$f":"IF($C51=\"\",\"\",VLOOKUP($C51,INSCRITS!$D$4:$W$501,6,0))","v":""},{"$f":"IF($C51=\"\",\"\",VLOOKUP($C51,INSCRITS!$D$4:$W$501,7,0))","v":""},{"$f":"IF($C51=\"\",\"\",VLOOKUP($C51,INSCRITS!$D$4:$W$501,9,0))","v":""},null,null,null,null,null,null,null,null,{"$f":"IF($N51=\"\",\"\",VLOOKUP($N51,INSCRITS!$D$4:$W$501,6,0))","v":""},{"$f":"IF($N51=\"\",\"\",VLOOKUP($N51,INSCRITS!$D$4:$W$501,7,0))","v":""},{"$f":"IF($N51=\"\",\"\",VLOOKUP($N51,INSCRITS!$D$4:$W$501,9,0))","v":""}]
[null,null,null,{"$f":"IF($C52=\"\",\"\",VLOOKUP($C52,INSCRITS!$D$4:$W$501,6,0))","v":""},{"$f":"IF($C52=\"\",\"\",VLOOKUP($C52,INSCRITS!$D$4:$W$501,7,0))","v":""},{"$f":"IF($C52=\"\",\"\",VLOOKUP($C52,INSCRITS!$D$4:$W$501,9,0))","v":""},null,null,null,null,null,null,null,null,{"$f":"IF($N52=\"\",\"\",VLOOKUP($N52,INSCRITS!$D$4:$W$501,6,0))","v":""},{"$f":"IF($N52=\"\",\"\",VLOOKUP($N52,INSCRITS!$D$4:$W$501,7,0))","v":""},{"$f":"IF($N52=\"\",\"\",VLOOKUP($N52,INSCRITS!$D$4:$W$501,9,0))","v":""}]
[null,null,null,{"$f":"IF($C53=\"\",\"\",VLOOKUP($C53,INSCRITS!$D$4:$W$501,6,0))","v":""},{"$f":"IF($C53=\"\",\"\",VLOOKUP($C53,INSCRITS!$D$4:$W$501,7,0))","v":""},{"$f":"IF($C53=\"\",\"\",VLOOKUP($C53,INSCRITS!$D$4:$W$501,9,0))","v":""},null,null,null,null,null,null,null,null,{"$f":"IF($N53=\"\",\"\",VLOOKUP($N53,INSCRITS!$D$4:$W$501,6,0))","v":""},{"$f":"IF($N53=\"\",\"\",VLOOKUP($N53,INSCRITS!$D$4:$W$501,7,0))","v":""},{"$f":"IF($N53=\"\",\"\",VLOOKUP($N53,INSCRITS!$D$4:$W$501,9,0))","v":""}]
[null,null,null,{"$f":"IF($C54=\"\",\"\",VLOOKUP($C54,INSCRITS!$D$4:$W$501,6,0))","v":""},{"$f":"IF($C54=\"\",\"\",VLOOKUP($C54,INSCRITS!$D$4:$W$501,7,0))","v":""},{"$f":"IF($C54=\"\",\"\",VLOOKUP($C54,INSCRITS!$D$4:$W$501,9,0))","v":""},null,null,null,null,null,null,null,null,{"$f":"IF($N54=\"\",\"\",VLOOKUP($N54,INSCRITS!$D$4:$W$501,6,0))","v":""},{"$f":"IF($N54=\"\",\"\",VLOOKUP($N54,INSCRITS!$D$4:$W$501,7,0))","v":""},{"$f":"IF($N54=\"\",\"\",VLOOKUP($N54,INSCRITS!$D$4:$W$501,9,0))","v":""}]
[null,null,null,{"$f":"IF($C55=\"\",\"\",VLOOKUP($C55,INSCRITS!$D$4:$W$501,6,0))","v":""},{"$f":"IF($C55=\"\",\"\",VLOOKUP($C55,INSCRITS!$D$4:$W$501,7,0))","v":""},{"$f":"IF($C55=\"\",\"\",VLOOKUP($C55,INSCRITS!$D$4:$W$501,9,0))","v":""},null,null,null,null,null,null,"SERIE 4",null,{"$f":"IF($N55=\"\",\"\",VLOOKUP($N55,INSCRITS!$D$4:$W$501,6,0))","v":""},{"$f":"IF($N55=\"\",\"\",VLOOKUP($N55,INSCRITS!$D$4:$W$501,7,0))","v":""},{"$f":"IF($N55=\"\",\"\",VLOOKUP($N55,INSCRITS!$D$4:$W$501,9,0))","v":""}]
[null,null,null,{"$f":"IF($C56=\"\",\"\",VLOOKUP($C56,INSCRITS!$D$4:$W$501,6,0))","v":""},{"$f":"IF($C56=\"\",\"\",VLOOKUP($C56,INSCRITS!$D$4:$W$501,7,0))","v":""},{"$f":"IF($C56=\"\",\"\",VLOOKUP($C56,INSCRITS!$D$4:$W$501,9,0))","v":""},null,null,null,null,null,null,null,null,{"$f":"IF($N56=\"\",\"\",VLOOKUP($N56,INSCRITS!$D$4:$W$501,6,0))","v":""},{"$f":"IF($N56=\"\",\"\",VLOOKUP($N56,INSCRITS!$D$4:$W$501,7,0))","v":""},{"$f":"IF($N56=\"\",\"\",VLOOKUP($N56,INSCRITS!$D$4:$W$501,9,0))","v":""}]
[null,"SERIE 6",null,{"$f":"IF($C57=\"\",\"\",VLOOKUP($C57,INSCRITS!$D$4:$W$501,6,0))","v":""},{"$f":"IF($C57=\"\",\"\",VLOOKUP($C57,INSCRITS!$D$4:$W$501,7,0))","v":""},{"$f":"IF($C57=\"\",\"\",VLOOKUP($C57,INSCRITS!$D$4:$W$501,9,0))","v":""},null,null,null,null,null,null,null,null,{"$f":"IF($N57=\"\",\"\",VLOOKUP($N57,INSCRITS!$D$4:$W$501,6,0))","v":""},{"$f":"IF($N57=\"\",\"\",VLOOKUP($N57,INSCRITS!$D$4:$W$501,7,0))","v":""},{"$f":"IF($N57=\"\",\"\",VLOOKUP($N57,INSCRITS!$D$4:$W$501,9,0))","v":""}]
[null,null,null,{"$f":"IF($C58=\"\",\"\",VLOOKUP($C58,INSCRITS!$D$4:$W$501,6,0))","v":""},{"$f":"IF($C58=\"\",\"\",VLOOKUP($C58,INSCRITS!$D$4:$W$501,7,0))","v":""},{"$f":"IF($C58=\"\",\"\",VLOOKUP($C58,INSCRITS!$D$4:$W$501,9,0))","v":""},null,null,null,null,null,null,null,null,{"$f":"IF($N58=\"\",\"\",VLOOKUP($N58,INSCRITS!$D$4:$W$501,6,0))","v":""},{"$f":"IF($N58=\"\",\"\",VLOOKUP($N58,INSCRITS!$D$4:$W$501,7,0))","v":""},{"$f":"IF($N58=\"\",\"\",VLOOKUP($N58,INSCRITS!$D$4:$W$501,9,0))","v":""}]
[null,null,null,{"$f":"IF($C59=\"\",\"\",VLOOKUP($C59,INSCRITS!$D$4:$W$501,6,0))","v":""},{"$f":"IF($C59=\"\",\"\",VLOOKUP($C59,INSCRITS!$D$4:$W$501,7,0))","v":""},{"$f":"IF($C59=\"\",\"\",VLOOKUP($C59,INSCRITS!$D$4:$W$501,9,0))","v":""},null,null,null,null,null,null,null,null,{"$f":"IF($N59=\"\",\"\",VLOOKUP($N59,INSCRITS!$D$4:$W$501,6,0))","v":""},{"$f":"IF($N59=\"\",\"\",VLOOKUP($N59,INSCRITS!$D$4:$W$501,7,0))","v":""},{"$f":"IF($N59=\"\",\"\",VLOOKUP($N59,INSCRITS!$D$4:$W$501,9,0))","v":""}]
[null,null,null,{"$f":"IF($C60=\"\",\"\",VLOOKUP($C60,INSCRITS!$D$4:$W$501,6,0))","v":""},{"$f":"IF($C60=\"\",\"\",VLOOKUP($C60,INSCRITS!$D$4:$W$501,7,0))","v":""},{"$f":"IF($C60=\"\",\"\",VLOOKUP($C60,INSCRITS!$D$4:$W$501,9,0))","v":""},null,null,null,null,null,null,null,null,{"$f":"IF($N60=\"\",\"\",VLOOKUP($N60,INSCRITS!$D$4:$W$501,6,0))","v":""},{"$f":"IF($N60=\"\",\"\",VLOOKUP($N60,INSCRITS!$D$4:$W$501,7,0))","v":""},{"$f":"IF($N60=\"\",\"\",VLOOKUP($N60,INSCRITS!$D$4:$W$501,9,0))","v":""}]
[null,null,null,{"$f":"IF($C61=\"\",\"\",VLOOKUP($C61,INSCRITS!$D$4:$W$501,6,0))","v":""},{"$f":"IF($C61=\"\",\"\",VLOOKUP($C61,INSCRITS!$D$4:$W$501,7,0))","v":""},{"$f":"IF($C61=\"\",\"\",VLOOKUP($C61,INSCRITS!$D$4:$W$501,9,0))","v":""},null,null,null,null,null,null,null,null,{"$f":"IF($N61=\"\",\"\",VLOOKUP($N61,INSCRITS!$D$4:$W$501,6,0))","v":""},{"$f":"IF($N61=\"\",\"\",VLOOKUP($N61,INSCRITS!$D$4:$W$501,7,0))","v":""},{"$f":"IF($N61=\"\",\"\",VLOOKUP($N61,INSCRITS!$D$4:$W$501,9,0))","v":""}]
[null,null,null,{"$f":"IF($C62=\"\",\"\",VLOOKUP($C62,INSCRITS!$D$4:$W$501,6,0))","v":""},{"$f":"IF($C62=\"\",\"\",VLOOKUP($C62,INSCRITS!$D$4:$W$501,7,0))","v":""},{"$f":"IF($C62=\"\",\"\",VLOOKUP($C62,INSCRITS!$D$4:$W$501,9,0))","v":""},null,null,null,null,null,null,null,null,{"$f":"IF($N62=\"\",\"\",VLOOKUP($N62,INSCRITS!$D$4:$W$501,6,0))","v":""},{"$f":"IF($N62=\"\",\"\",VLOOKUP($N62,INSCRITS!$D$4:$W$501,7,0))","v":""},{"$f":"IF($N62=\"\",\"\",VLOOKUP($N62,INSCRITS!$D$4:$W$501,9,0))","v":""}]
[null,null,null,{"$f":"IF($C63=\"\",\"\",VLOOKUP($C63,INSCRITS!$D$4:$W$501,6,0))","v":""},{"$f":"IF($C63=\"\",\"\",VLOOKUP($C63,INSCRITS!$D$4:$W$501,7,0))","v":""},{"$f":"IF($C63=\"\",\"\",VLOOKUP($C63,INSCRITS!$D$4:$W$501,9,0))","v":""},null,null,null,null,null,null,null,null,{"$f":"IF($N63=\"\",\"\",VLOOKUP($N63,INSCRITS!$D$4:$W$501,6,0))","v":""},{"$f":"IF($N63=\"\",\"\",VLOOKUP($N63,INSCRITS!$D$4:$W$501,7,0))","v":""},{"$f":"IF($N63=\"\",\"\",VLOOKUP($N63,INSCRITS!$D$4:$W$501,9,0))","v":""}]
[null,null,null,{"$f":"IF($C64=\"\",\"\",VLOOKUP($C64,INSCRITS!$D$4:$W$501,6,0))","v":""},{"$f":"IF($C64=\"\",\"\",VLOOKUP($C64,INSCRITS!$D$4:$W$501,7,0))","v":""},{"$f":"IF($C64=\"\",\"\",VLOOKUP($C64,INSCRITS!$D$4:$W$501,9,0))","v":""},null,null,null,null,null,null,null,null,{"$f":"IF($N64=\"\",\"\",VLOOKUP($N64,INSCRITS!$D$4:$W$501,6,0))","v":""},{"$f":"IF($N64=\"\",\"\",VLOOKUP($N64,INSCRITS!$D$4:$W$501,7,0))","v":""},{"$f":"IF($N64=\"\",\"\",VLOOKUP($N64,INSCRITS!$D$4:$W$501,9,0))","v":""}]
[null,null,null,{"$f":"IF($C65=\"\",\"\",VLOOKUP($C65,INSCRITS!$D$4:$W$501,6,0))","v":""},{"$f":"IF($C65=\"\",\"\",VLOOKUP($C65,INSCRITS!$D$4:$W$501,7,0))","v":""},{"$f":"IF($C65=\"\",\"\",VLOOKUP($C65,INSCRITS!$D$4:$W$501,9,0))","v":""},null,null,null,null,null,null,null,null,{"$f":"IF($N65=\"\",\"\",VLOOKUP($N65,INSCRITS!$D$4:$W$501,6,0))","v":""},{"$f":"IF($N65=\"\",\"\",VLOOKUP($N65,INSCRITS!$D$4:$W$501,7,0))","v":""},{"$f":"IF($N65=\"\",\"\",VLOOKUP($N65,INSCRITS!$D$4:$W$501,9,0))","v":""}]
[null,null,null,{"$f":"IF($C66=\"\",\"\",VLOOKUP($C66,INSCRITS!$D$4:$W$501,6,0))","v":""},{"$f":"IF($C66=\"\",\"\",VLOOKUP($C66,INSCRITS!$D$4:$W$501,7,0))","v":""},{"$f":"IF($C66=\"\",\"\",VLOOKUP($C66,INSCRITS!$D$4:$W$501,9,0))","v":""},null,null,null,null,null,null,null,null,{"$f":"IF($N66=\"\",\"\",VLOOKUP($N66,INSCRITS!$D$4:$W$501,6,0))","v":""},{"$f":"IF($N66=\"\",\"\",VLOOKUP($N66,INSCRITS!$D$4:$W$501,7,0))","v":""},{"$f":"IF($N66=\"\",\"\",VLOOKUP($N66,INSCRITS!$D$4:$W$501,9,0))","v":""}]
[null,"SERIE 7",null,{"$f":"IF($C67=\"\",\"\",VLOOKUP($C67,INSCRITS!$D$4:$W$501,6,0))","v":""},{"$f":"IF($C67=\"\",\"\",VLOOKUP($C67,INSCRITS!$D$4:$W$501,7,0))","v":""},{"$f":"IF($C67=\"\",\"\",VLOOKUP($C67,INSCRITS!$D$4:$W$501,9,0))","v":""},null,null,null,null,null,null,null,null,{"$f":"IF($N67=\"\",\"\",VLOOKUP($N67,INSCRITS!$D$4:$W$501,6,0))","v":""},{"$f":"IF($N67=\"\",\"\",VLOOKUP($N67,INSCRITS!$D$4:$W$501,7,0))","v":""},{"$f":"IF($N67=\"\",\"\",VLOOKUP($N67,INSCRITS!$D$4:$W$501,9,0))","v":""}]
[null,null,null,{"$f":"IF($C68=\"\",\"\",VLOOKUP($C68,INSCRITS!$D$4:$W$501,6,0))","v":""},{"$f":"IF($C68=\"\",\"\",VLOOKUP($C68,INSCRITS!$D$4:$W$501,7,0))","v":""},{"$f":"IF($C68=\"\",\"\",VLOOKUP($C68,INSCRITS!$D$4:$W$501,9,0))","v":""},null,null,null,null,null,null,null,null,{"$f":"IF($N68=\"\",\"\",VLOOKUP($N68,INSCRITS!$D$4:$W$501,6,0))","v":""},{"$f":"IF($N68=\"\",\"\",VLOOKUP($N68,INSCRITS!$D$4:$W$501,7,0))","v":""},{"$f":"IF($N68=\"\",\"\",VLOOKUP($N68,INSCRITS!$D$4:$W$501,9,0))","v":""}]
[null,null,null,{"$f":"IF($C69=\"\",\"\",VLOOKUP($C69,INSCRITS!$D$4:$W$501,6,0))","v":""},{"$f":"IF($C69=\"\",\"\",VLOOKUP($C69,INSCRITS!$D$4:$W$501,7,0))","v":""},{"$f":"IF($C69=\"\",\"\",VLOOKUP($C69,INSCRITS!$D$4:$W$501,9,0))","v":""},null,null,null,null,null,null,null,null,{"$f":"IF($N69=\"\",\"\",VLOOKUP($N69,INSCRITS!$D$4:$W$501,6,0))","v":""},{"$f":"IF($N69=\"\",\"\",VLOOKUP($N69,INSCRITS!$D$4:$W$501,7,0))","v":""},{"$f":"IF($N69=\"\",\"\",VLOOKUP($N69,INSCRITS!$D$4:$W$501,9,0))","v":""}]
[null,null,null,{"$f":"IF($C70=\"\",\"\",VLOOKUP($C70,INSCRITS!$D$4:$W$501,6,0))","v":""},{"$f":"IF($C70=\"\",\"\",VLOOKUP($C70,INSCRITS!$D$4:$W$501,7,0))","v":""},{"$f":"IF($C70=\"\",\"\",VLOOKUP($C70,INSCRITS!$D$4:$W$501,9,0))","v":""},null,null,null,null,null,null,null,null,{"$f":"IF($N70=\"\",\"\",VLOOKUP($N70,INSCRITS!$D$4:$W$501,6,0))","v":""},{"$f":"IF($N70=\"\",\"\",VLOOKUP($N70,INSCRITS!$D$4:$W$501,7,0))","v":""},{"$f":"IF($N70=\"\",\"\",VLOOKUP($N70,INSCRITS!$D$4:$W$501,9,0))","v":""}]
[null,null,null,{"$f":"IF($C71=\"\",\"\",VLOOKUP($C71,INSCRITS!$D$4:$W$501,6,0))","v":""},{"$f":"IF($C71=\"\",\"\",VLOOKUP($C71,INSCRITS!$D$4:$W$501,7,0))","v":""},{"$f":"IF($C71=\"\",\"\",VLOOKUP($C71,INSCRITS!$D$4:$W$501,9,0))","v":""}]
[null,null,null,{"$f":"IF($C72=\"\",\"\",VLOOKUP($C72,INSCRITS!$D$4:$W$501,6,0))","v":""},{"$f":"IF($C72=\"\",\"\",VLOOKUP($C72,INSCRITS!$D$4:$W$501,7,0))","v":""},{"$f":"IF($C72=\"\",\"\",VLOOKUP($C72,INSCRITS!$D$4:$W$501,9,0))","v":""}]
[null,null,null,{"$f":"IF($C73=\"\",\"\",VLOOKUP($C73,INSCRITS!$D$4:$W$501,6,0))","v":""},{"$f":"IF($C73=\"\",\"\",VLOOKUP($C73,INSCRITS!$D$4:$W$501,7,0))","v":""},{"$f":"IF($C73=\"\",\"\",VLOOKUP($C73,INSCRITS!$D$4:$W$501,9,0))","v":""}]
[null,null,null,{"$f":"IF($C74=\"\",\"\",VLOOKUP($C74,INSCRITS!$D$4:$W$501,6,0))","v":""},{"$f":"IF($C74=\"\",\"\",VLOOKUP($C74,INSCRITS!$D$4:$W$501,7,0))","v":""},{"$f":"IF($C74=\"\",\"\",VLOOKUP($C74,INSCRITS!$D$4:$W$501,9,0))","v":""}]
[null,null,null,{"$f":"IF($C75=\"\",\"\",VLOOKUP($C75,INSCRITS!$D$4:$W$501,6,0))","v":""},{"$f":"IF($C75=\"\",\"\",VLOOKUP($C75,INSCRITS!$D$4:$W$501,7,0))","v":""},{"$f":"IF($C75=\"\",\"\",VLOOKUP($C75,INSCRITS!$D$4:$W$501,9,0))","v":""}]
[null,null,null,{"$f":"IF($C76=\"\",\"\",VLOOKUP($C76,INSCRITS!$D$4:$W$501,6,0))","v":""},{"$f":"IF($C76=\"\",\"\",VLOOKUP($C76,INSCRITS!$D$4:$W$501,7,0))","v":""},{"$f":"IF($C76=\"\",\"\",VLOOKUP($C76,INSCRITS!$D$4:$W$501,9,0))","v":""}]
[null,"SERIE 8",null,{"$f":"IF($C77=\"\",\"\",VLOOKUP($C77,INSCRITS!$D$4:$W$501,6,0))","v":""},{"$f":"IF($C77=\"\",\"\",VLOOKUP($C77,INSCRITS!$D$4:$W$501,7,0))","v":""},{"$f":"IF($C77=\"\",\"\",VLOOKUP($C77,INSCRITS!$D$4:$W$501,9,0))","v":""}]
[null,null,null,{"$f":"IF($C78=\"\",\"\",VLOOKUP($C78,INSCRITS!$D$4:$W$501,6,0))","v":""},{"$f":"IF($C78=\"\",\"\",VLOOKUP($C78,INSCRITS!$D$4:$W$501,7,0))","v":""},{"$f":"IF($C78=\"\",\"\",VLOOKUP($C78,INSCRITS!$D$4:$W$501,9,0))","v":""}]
[null,null,null,{"$f":"IF($C79=\"\",\"\",VLOOKUP($C79,INSCRITS!$D$4:$W$501,6,0))","v":""},{"$f":"IF($C79=\"\",\"\",VLOOKUP($C79,INSCRITS!$D$4:$W$501,7,0))","v":""},{"$f":"IF($C79=\"\",\"\",VLOOKUP($C79,INSCRITS!$D$4:$W$501,9,0))","v":""}]
[null,null,null,{"$f":"IF($C80=\"\",\"\",VLOOKUP($C80,INSCRITS!$D$4:$W$501,6,0))","v":""},{"$f":"IF($C80=\"\",\"\",VLOOKUP($C80,INSCRITS!$D$4:$W$501,7,0))","v":""},{"$f":"IF($C80=\"\",\"\",VLOOKUP($C80,INSCRITS!$D$4:$W$501,9,0))","v":""}]
[null,null,null,{"$f":"IF($C81=\"\",\"\",VLOOKUP($C81,INSCRITS!$D$4:$W$501,6,0))","v":""},{"$f":"IF($C81=\"\",\"\",VLOOKUP($C81,INSCRITS!$D$4:$W$501,7,0))","v":""},{"$f":"IF($C81=\"\",\"\",VLOOKUP($C81,INSCRITS!$D$4:$W$501,9,0))","v":""}]
[null,null,null,{"$f":"IF($C82=\"\",\"\",VLOOKUP($C82,INSCRITS!$D$4:$W$501,6,0))","v":""},{"$f":"IF($C82=\"\",\"\",VLOOKUP($C82,INSCRITS!$D$4:$W$501,7,0))","v":""},{"$f":"IF($C82=\"\",\"\",VLOOKUP($C82,INSCRITS!$D$4:$W$501,9,0))","v":""}]
[null,null,null,{"$f":"IF($C83=\"\",\"\",VLOOKUP($C83,INSCRITS!$D$4:$W$501,6,0))","v":""},{"$f":"IF($C83=\"\",\"\",VLOOKUP($C83,INSCRITS!$D$4:$W$501,7,0))","v":""},{"$f":"IF($C83=\"\",\"\",VLOOKUP($C83,INSCRITS!$D$4:$W$501,9,0))","v":""}]
[null,null,null,{"$f":"IF($C84=\"\",\"\",VLOOKUP($C84,INSCRITS!$D$4:$W$501,6,0))","v":""},{"$f":"IF($C84=\"\",\"\",VLOOKUP($C84,INSCRITS!$D$4:$W$501,7,0))","v":""},{"$f":"IF($C84=\"\",\"\",VLOOKUP($C84,INSCRITS!$D$4:$W$501,9,0))","v":""}]
[null,null,null,{"$f":"IF($C85=\"\",\"\",VLOOKUP($C85,INSCRITS!$D$4:$W$501,6,0))","v":""},{"$f":"IF($C85=\"\",\"\",VLOOKUP($C85,INSCRITS!$D$4:$W$501,7,0))","v":""},{"$f":"IF($C85=\"\",\"\",VLOOKUP($C85,INSCRITS!$D$4:$W$501,9,0))","v":""}]
[null,null,null,{"$f":"IF($C86=\"\",\"\",VLOOKUP($C86,INSCRITS!$D$4:$W$501,6,0))","v":""},{"$f":"IF($C86=\"\",\"\",VLOOKUP($C86,INSCRITS!$D$4:$W$501,7,0))","v":""},{"$f":"IF($C86=\"\",\"\",VLOOKUP($C86,INSCRITS!$D$4:$W$501,9,0))","v":""}]
[null,null,null,{"$f":"IF($C87=\"\",\"\",VLOOKUP($C87,INSCRITS!$D$4:$W$501,6,0))","v":""},{"$f":"IF($C87=\"\",\"\",VLOOKUP($C87,INSCRITS!$D$4:$W$501,7,0))","v":""},{"$f":"IF($C87=\"\",\"\",VLOOKUP($C87,INSCRITS!$D$4:$W$501,9,0))","v":""}]
[null,null,null,{"$f":"IF($C88=\"\",\"\",VLOOKUP($C88,INSCRITS!$D$4:$W$501,6,0))","v":""},{"$f":"IF($C88=\"\",\"\",VLOOKUP($C88,INSCRITS!$D$4:$W$501,7,0))","v":""},{"$f":"IF($C88=\"\",\"\",VLOOKUP($C88,INSCRITS!$D$4:$W$501,9,0))","v":""}]
[null,null,null,{"$f":"IF($C89=\"\",\"\",VLOOKUP($C89,INSCRITS!$D$4:$W$501,6,0))","v":""},{"$f":"IF($C89=\"\",\"\",VLOOKUP($C89,INSCRITS!$D$4:$W$501,7,0))","v":""},{"$f":"IF($C89=\"\",\"\",VLOOKUP($C89,INSCRITS!$D$4:$W$501,9,0))","v":""}]
[null,null,null,{"$f":"IF($C90=\"\",\"\",VLOOKUP($C90,INSCRITS!$D$4:$W$501,6,0))","v":""},{"$f":"IF($C90=\"\",\"\",VLOOKUP($C90,INSCRITS!$D$4:$W$501,7,0))","v":""},{"$f":"IF($C90=\"\",\"\",VLOOKUP($C90,INSCRITS!$D$4:$W$501,9,0))","v":""}]
[null,null,null,{"$f":"IF($C91=\"\",\"\",VLOOKUP($C91,INSCRITS!$D$4:$W$501,6,0))","v":""},{"$f":"IF($C91=\"\",\"\",VLOOKUP($C91,INSCRITS!$D$4:$W$501,7,0))","v":""},{"$f":"IF($C91=\"\",\"\",VLOOKUP($C91,INSCRITS!$D$4:$W$501,9,0))","v":""}]
[null,null,null,{"$f":"IF($C92=\"\",\"\",VLOOKUP($C92,INSCRITS!$D$4:$W$501,6,0))","v":""},{"$f":"IF($C92=\"\",\"\",VLOOKUP($C92,INSCRITS!$D$4:$W$501,7,0))","v":""},{"$f":"IF($C92=\"\",\"\",VLOOKUP($C92,INSCRITS!$D$4:$W$501,9,0))","v":""}]
[null,null,null,{"$f":"IF($C93=\"\",\"\",VLOOKUP($C93,INSCRITS!$D$4:$W$501,6,0))","v":""},{"$f":"IF($C93=\"\",\"\",VLOOKUP($C93,INSCRITS!$D$4:$W$501,7,0))","v":""},{"$f":"IF($C93=\"\",\"\",VLOOKUP($C93,INSCRITS!$D$4:$W$501,9,0))","v":""}]
[null,null,null,{"$f":"IF($C94=\"\",\"\",VLOOKUP($C94,INSCRITS!$D$4:$W$501,6,0))","v":""},{"$f":"IF($C94=\"\",\"\",VLOOKUP($C94,INSCRITS!$D$4:$W$501,7,0))","v":""},{"$f":"IF($C94=\"\",\"\",VLOOKUP($C94,INSCRITS!$D$4:$W$501,9,0))","v":""}]
[null,null,null,{"$f":"IF($C95=\"\",\"\",VLOOKUP($C95,INSCRITS!$D$4:$W$501,6,0))","v":""},{"$f":"IF($C95=\"\",\"\",VLOOKUP($C95,INSCRITS!$D$4:$W$501,7,0))","v":""},{"$f":"IF($C95=\"\",\"\",VLOOKUP($C95,INSCRITS!$D$4:$W$501,9,0))","v":""}]
[null,null,null,{"$f":"IF($C96=\"\",\"\",VLOOKUP($C96,INSCRITS!$D$4:$W$501,6,0))","v":""},{"$f":"IF($C96=\"\",\"\",VLOOKUP($C96,INSCRITS!$D$4:$W$501,7,0))","v":""},{"$f":"IF($C96=\"\",\"\",VLOOKUP($C96,INSCRITS!$D$4:$W$501,9,0))","v":""}]
[null,null,null,{"$f":"IF($C97=\"\",\"\",VLOOKUP($C97,INSCRITS!$D$4:$W$501,6,0))","v":""},{"$f":"IF($C97=\"\",\"\",VLOOKUP($C97,INSCRITS!$D$4:$W$501,7,0))","v":""},{"$f":"IF($C97=\"\",\"\",VLOOKUP($C97,INSCRITS!$D$4:$W$501,9,0))","v":""}]
[null,null,null,{"$f":"IF($C98=\"\",\"\",VLOOKUP($C98,INSCRITS!$D$4:$W$501,6,0))","v":""},{"$f":"IF($C98=\"\",\"\",VLOOKUP($C98,INSCRITS!$D$4:$W$501,7,0))","v":""},{"$f":"IF($C98=\"\",\"\",VLOOKUP($C98,INSCRITS!$D$4:$W$501,9,0))","v":""}]
[null,null,null,{"$f":"IF($C99=\"\",\"\",VLOOKUP($C99,INSCRITS!$D$4:$W$501,6,0))","v":""},{"$f":"IF($C99=\"\",\"\",VLOOKUP($C99,INSCRITS!$D$4:$W$501,7,0))","v":""},{"$f":"IF($C99=\"\",\"\",VLOOKUP($C99,INSCRITS!$D$4:$W$501,9,0))","v":""}]
[null,null,null,{"$f":"IF($C100=\"\",\"\",VLOOKUP($C100,INSCRITS!$D$4:$W$501,6,0))","v":""},{"$f":"IF($C100=\"\",\"\",VLOOKUP($C100,INSCRITS!$D$4:$W$501,7,0))","v":""},{"$f":"IF($C100=\"\",\"\",VLOOKUP($C100,INSCRITS!$D$4:$W$501,9,0))","v":""}]
[null,null,null,{"$f":"IF($C101=\"\",\"\",VLOOKUP($C101,INSCRITS!$D$4:$W$501,6,0))","v":""},{"$f":"IF($C101=\"\",\"\",VLOOKUP($C101,INSCRITS!$D$4:$W$501,7,0))","v":""},{"$f":"IF($C101=\"\",\"\",VLOOKUP($C101,INSCRITS!$D$4:$W$501,9,0))","v":""}]
[null,null,null,{"$f":"IF($C102=\"\",\"\",VLOOKUP($C102,INSCRITS!$D$4:$W$501,6,0))","v":""},{"$f":"IF($C102=\"\",\"\",VLOOKUP($C102,INSCRITS!$D$4:$W$501,7,0))","v":""},{"$f":"IF($C102=\"\",\"\",VLOOKUP($C102,INSCRITS!$D$4:$W$501,9,0))","v":""}]
[null,"SERIE 7",null,{"$f":"IF($C103=\"\",\"\",VLOOKUP($C103,INSCRITS!$D$4:$W$501,6,0))","v":""},{"$f":"IF($C103=\"\",\"\",VLOOKUP($C103,INSCRITS!$D$4:$W$501,7,0))","v":""},{"$f":"IF($C103=\"\",\"\",VLOOKUP($C103,INSCRITS!$D$4:$W$501,9,0))","v":""}]
[null,null,null,{"$f":"IF($C104=\"\",\"\",VLOOKUP($C104,INSCRITS!$D$4:$W$501,6,0))","v":""},{"$f":"IF($C104=\"\",\"\",VLOOKUP($C104,INSCRITS!$D$4:$W$501,7,0))","v":""},{"$f":"IF($C104=\"\",\"\",VLOOKUP($C104,INSCRITS!$D$4:$W$501,9,0))","v":""}]
[null,null,null,{"$f":"IF($C105=\"\",\"\",VLOOKUP($C105,INSCRITS!$D$4:$W$501,6,0))","v":""},{"$f":"IF($C105=\"\",\"\",VLOOKUP($C105,INSCRITS!$D$4:$W$501,7,0))","v":""},{"$f":"IF($C105=\"\",\"\",VLOOKUP($C105,INSCRITS!$D$4:$W$501,9,0))","v":""}]
[null,null,null,{"$f":"IF($C106=\"\",\"\",VLOOKUP($C106,INSCRITS!$D$4:$W$501,6,0))","v":""},{"$f":"IF($C106=\"\",\"\",VLOOKUP($C106,INSCRITS!$D$4:$W$501,7,0))","v":""},{"$f":"IF($C106=\"\",\"\",VLOOKUP($C106,INSCRITS!$D$4:$W$501,9,0))","v":""}]
[null,null,null,{"$f":"IF($C107=\"\",\"\",VLOOKUP($C107,INSCRITS!$D$4:$W$501,6,0))","v":""},{"$f":"IF($C107=\"\",\"\",VLOOKUP($C107,INSCRITS!$D$4:$W$501,7,0))","v":""},{"$f":"IF($C107=\"\",\"\",VLOOKUP($C107,INSCRITS!$D$4:$W$501,9,0))","v":""}]
[null,null,null,{"$f":"IF($C108=\"\",\"\",VLOOKUP($C108,INSCRITS!$D$4:$W$501,6,0))","v":""},{"$f":"IF($C108=\"\",\"\",VLOOKUP($C108,INSCRITS!$D$4:$W$501,7,0))","v":""},{"$f":"IF($C108=\"\",\"\",VLOOKUP($C108,INSCRITS!$D$4:$W$501,9,0))","v":""}]
[null,null,null,{"$f":"IF($C109=\"\",\"\",VLOOKUP($C109,INSCRITS!$D$4:$W$501,6,0))","v":""},{"$f":"IF($C109=\"\",\"\",VLOOKUP($C109,INSCRITS!$D$4:$W$501,7,0))","v":""},{"$f":"IF($C109=\"\",\"\",VLOOKUP($C109,INSCRITS!$D$4:$W$501,9,0))","v":""}]
[null,null,null,{"$f":"IF($C110=\"\",\"\",VLOOKUP($C110,INSCRITS!$D$4:$W$501,6,0))","v":""},{"$f":"IF($C110=\"\",\"\",VLOOKUP($C110,INSCRITS!$D$4:$W$501,7,0))","v":""},{"$f":"IF($C110=\"\",\"\",VLOOKUP($C110,INSCRITS!$D$4:$W$501,9,0))","v":""}]
[null,null,null,{"$f":"IF($C111=\"\",\"\",VLOOKUP($C111,INSCRITS!$D$4:$W$501,6,0))","v":""},{"$f":"IF($C111=\"\",\"\",VLOOKUP($C111,INSCRITS!$D$4:$W$501,7,0))","v":""},{"$f":"IF($C111=\"\",\"\",VLOOKUP($C111,INSCRITS!$D$4:$W$501,9,0))","v":""}]
[null,null,null,{"$f":"IF($C112=\"\",\"\",VLOOKUP($C112,INSCRITS!$D$4:$W$501,6,0))","v":""},{"$f":"IF($C112=\"\",\"\",VLOOKUP($C112,INSCRITS!$D$4:$W$501,7,0))","v":""},{"$f":"IF($C112=\"\",\"\",VLOOKUP($C112,INSCRITS!$D$4:$W$501,9,0))","v":""}]
[null,null,null,{"$f":"IF($C113=\"\",\"\",VLOOKUP($C113,INSCRITS!$D$4:$W$501,6,0))","v":""},{"$f":"IF($C113=\"\",\"\",VLOOKUP($C113,INSCRITS!$D$4:$W$501,7,0))","v":""},{"$f":"IF($C113=\"\",\"\",VLOOKUP($C113,INSCRITS!$D$4:$W$501,9,0))","v":""}]
[null,null,null,{"$f":"IF($C114=\"\",\"\",VLOOKUP($C114,INSCRITS!$D$4:$W$501,6,0))","v":""},{"$f":"IF($C114=\"\",\"\",VLOOKUP($C114,INSCRITS!$D$4:$W$501,7,0))","v":""},{"$f":"IF($C114=\"\",\"\",VLOOKUP($C114,INSCRITS!$D$4:$W$501,9,0))","v":""}]
[null,null,null,{"$f":"IF($C115=\"\",\"\",VLOOKUP($C115,INSCRITS!$D$4:$W$501,6,0))","v":""},{"$f":"IF($C115=\"\",\"\",VLOOKUP($C115,INSCRITS!$D$4:$W$501,7,0))","v":""},{"$f":"IF($C115=\"\",\"\",VLOOKUP($C115,INSCRITS!$D$4:$W$501,9,0))","v":""}]
[null,null,null,{"$f":"IF($C116=\"\",\"\",VLOOKUP($C116,INSCRITS!$D$4:$W$501,6,0))","v":""},{"$f":"IF($C116=\"\",\"\",VLOOKUP($C116,INSCRITS!$D$4:$W$501,7,0))","v":""},{"$f":"IF($C116=\"\",\"\",VLOOKUP($C116,INSCRITS!$D$4:$W$501,9,0))","v":""}]
[null,null,null,{"$f":"IF($C117=\"\",\"\",VLOOKUP($C117,INSCRITS!$D$4:$W$501,6,0))","v":""},{"$f":"IF($C117=\"\",\"\",VLOOKUP($C117,INSCRITS!$D$4:$W$501,7,0))","v":""},{"$f":"IF($C117=\"\",\"\",VLOOKUP($C117,INSCRITS!$D$4:$W$501,9,0))","v":""}]
[null,null,null,{"$f":"IF($C118=\"\",\"\",VLOOKUP($C118,INSCRITS!$D$4:$W$501,6,0))","v":""},{"$f":"IF($C118=\"\",\"\",VLOOKUP($C118,INSCRITS!$D$4:$W$501,7,0))","v":""},{"$f":"IF($C118=\"\",\"\",VLOOKUP($C118,INSCRITS!$D$4:$W$501,9,0))","v":""}]
[null,"SERIE 8",null,{"$f":"IF($C119=\"\",\"\",VLOOKUP($C119,INSCRITS!$D$4:$W$501,6,0))","v":""},{"$f":"IF($C119=\"\",\"\",VLOOKUP($C119,INSCRITS!$D$4:$W$501,7,0))","v":""},{"$f":"IF($C119=\"\",\"\",VLOOKUP($C119,INSCRITS!$D$4:$W$501,9,0))","v":""}]
[null,null,null,{"$f":"IF($C120=\"\",\"\",VLOOKUP($C120,INSCRITS!$D$4:$W$501,6,0))","v":""},{"$f":"IF($C120=\"\",\"\",VLOOKUP($C120,INSCRITS!$D$4:$W$501,7,0))","v":""},{"$f":"IF($C120=\"\",\"\",VLOOKUP($C120,INSCRITS!$D$4:$W$501,9,0))","v":""}]
[null,null,null,{"$f":"IF($C121=\"\",\"\",VLOOKUP($C121,INSCRITS!$D$4:$W$501,6,0))","v":""},{"$f":"IF($C121=\"\",\"\",VLOOKUP($C121,INSCRITS!$D$4:$W$501,7,0))","v":""},{"$f":"IF($C121=\"\",\"\",VLOOKUP($C121,INSCRITS!$D$4:$W$501,9,0))","v":""}]

{"sheet":"NAGE","index":4,"n_rows":109,"n_cols":20,"rows_kept":109,"cut":false,"hidden":false,"merged":[[6,12,37,12],[6,1,39,1],[40,1,73,1]]}
[]
[]
[null,"Séries Nage ",null,null,null,null,null,null,null,null,null,null,null,"FINALE Nage"]
[null,"Messieurs",null,null,null,null,null,null,null,null,null,null,null,"Messieurs"]
[]
[]
[null,"SERIE 1",null,{"$f":"IF($C7=\"\",\"\",VLOOKUP($C7,INSCRITS!$D$4:$W$501,6,0))","v":""},{"$f":"IF($C7=\"\",\"\",VLOOKUP($C7,INSCRITS!$D$4:$W$501,7,0))","v":""},{"$f":"IF($C7=\"\",\"\",VLOOKUP($C7,INSCRITS!$D$4:$W$501,9,0))","v":""},null,null,null,null,null,null,"FINALE",128,{"$f":"IF($N7=\"\",\"\",VLOOKUP($N7,INSCRITS!$D$4:$W$501,6,0))","v":"CORBEL"},{"$f":"IF($N7=\"\",\"\",VLOOKUP($N7,INSCRITS!$D$4:$W$501,7,0))","v":"Yann"},{"$f":"IF($N7=\"\",\"\",VLOOKUP($N7,INSCRITS!$D$4:$W$501,9,0))","v":"ASCE DINARD"},null,1,{"$f":"IF(S7=\"\",\"\",VLOOKUP(S7,points,2))","v":20}]
[null,null,null,{"$f":"IF($C8=\"\",\"\",VLOOKUP($C8,INSCRITS!$D$4:$W$501,6,0))","v":""},{"$f":"IF($C8=\"\",\"\",VLOOKUP($C8,INSCRITS!$D$4:$W$501,7,0))","v":""},{"$f":"IF($C8=\"\",\"\",VLOOKUP($C8,INSCRITS!$D$4:$W$501,9,0))","v":""},null,null,null,null,null,null,null,123,{"$f":"IF($N8=\"\",\"\",VLOOKUP($N8,INSCRITS!$D$4:$W$501,6,0))","v":"VANDENBERGHE"},{"$f":"IF($N8=\"\",\"\",VLOOKUP($N8,INSCRITS!$D$4:$W$501,7,0))","v":"Sébastien"},{"$f":"IF($N8=\"\",\"\",VLOOKUP($N8,INSCRITS!$D$4:$W$501,9,0))","v":"ANV"},null,2,18]
[null,null,null,{"$f":"IF($C9=\"\",\"\",VLOOKUP($C9,INSCRITS!$D$4:$W$501,6,0))","v":""},{"$f":"IF($C9=\"\",\"\",VLOOKUP($C9,INSCRITS!$D$4:$W$501,7,0))","v":""},{"$f":"IF($C9=\"\",\"\",VLOOKUP($C9,INSCRITS!$D$4:$W$501,9,0))","v":""},null,null,null,null,null,null,null,150,{"$f":"IF($N9=\"\",\"\",VLOOKUP($N9,INSCRITS!$D$4:$W$501,6,0))","v":"MATHIEU"},{"$f":"IF($N9=\"\",\"\",VLOOKUP($N9,INSCRITS!$D$4:$W$501,7,0))","v":"Simon"},{"$f":"IF($N9=\"\",\"\",VLOOKUP($N9,INSCRITS!$D$4:$W$501,9,0))","v":"ENA"},null,3,16]
[null,null,null,{"$f":"IF($C10=\"\",\"\",VLOOKUP($C10,INSCRITS!$D$4:$W$501,6,0))","v":""},{"$f":"IF($C10=\"\",\"\",VLOOKUP($C10,INSCRITS!$D$4:$W$501,7,0))","v":""},{"$f":"IF($C10=\"\",\"\",VLOOKUP($C10,INSCRITS!$D$4:$W$501,9,0))","v":""},null,null,null,null,null,null,null,149,{"$f":"IF($N10=\"\",\"\",VLOOKUP($N10,INSCRITS!$D$4:$W$501,6,0))","v":"CABROL"},{"$f":"IF($N10=\"\",\"\",VLOOKUP($N10,INSCRITS!$D$4:$W$501,7,0))","v":"Xavier"},{"$f":"IF($N10=\"\",\"\",VLOOKUP($N10,INSCRITS!$D$4:$W$501,9,0))","v":"ENA"},null,4,14]
[null,null,null,{"$f":"IF($C11=\"\",\"\",VLOOKUP($C11,INSCRITS!$D$4:$W$501,6,0))","v":""},{"$f":"IF($C11=\"\",\"\",VLOOKUP($C11,INSCRITS!$D$4:$W$501,7,0))","v":""},{"$f":"IF($C11=\"\",\"\",VLOOKUP($C11,INSCRITS!$D$4:$W$501,9,0))","v":""},null,null,null,null,null,null,null,124,{"$f":"IF($N11=\"\",\"\",VLOOKUP($N11,INSCRITS!$D$4:$W$501,6,0))","v":"ALARCON"},{"$f":"IF($N11=\"\",\"\",VLOOKUP($N11,INSCRITS!$D$4:$W$501,7,0))","v":"Benjamin"},{"$f":"IF($N11=\"\",\"\",VLOOKUP($N11,INSCRITS!$D$4:$W$501,9,0))","v":"AQUALOVE"},null,5,13]
[null,null,null,{"$f":"IF($C12=\"\",\"\",VLOOKUP($C12,INSCRITS!$D$4:$W$501,6,0))","v":""},{"$f":"IF($C12=\"\",\"\",VLOOKUP($C12,INSCRITS!$D$4:$W$501,7,0))","v":""},{"$f":"IF($C12=\"\",\"\",VLOOKUP($C12,INSCRITS!$D$4:$W$501,9,0))","v":""},null,null,null,null,null,null,null,121,{"$f":"IF($N12=\"\",\"\",VLOOKUP($N12,INSCRITS!$D$4:$W$501,6,0))","v":"COSSART"},{"$f":"IF($N12=\"\",\"\",VLOOKUP($N12,INSCRITS!$D$4:$W$501,7,0))","v":"Théo"},{"$f":"IF($N12=\"\",\"\",VLOOKUP($N12,INSCRITS!$D$4:$W$501,9,0))","v":"Amiens sauvetage"},null,6,12]
[null,null,null,{"$f":"IF($C13=\"\",\"\",VLOOKUP($C13,INSCRITS!$D$4:$W$501,6,0))","v":""},{"$f":"IF($C13=\"\",\"\",VLOOKUP($C13,INSCRITS!$D$4:$W$501,7,0))","v":""},{"$f":"IF($C13=\"\",\"\",VLOOKUP($C13,INSCRITS!$D$4:$W$501,9,0))","v":""},null,null,null,null,null,null,null,138,{"$f":"IF($N13=\"\",\"\",VLOOKUP($N13,INSCRITS!$D$4:$W$501,6,0))","v":"LABAT"},{"$f":"IF($N13=\"\",\"\",VLOOKUP($N13,INSCRITS!$D$4:$W$501,7,0))","v":"Maxime"},{"$f":"IF($N13=\"\",\"\",VLOOKUP($N13,INSCRITS!$D$4:$W$501,9,0))","v":"Biarritz SC"},null,7,11]
[null,null,null,{"$f":"IF($C14=\"\",\"\",VLOOKUP($C14,INSCRITS!$D$4:$W$501,6,0))","v":""},{"$f":"IF($C14=\"\",\"\",VLOOKUP($C14,INSCRITS!$D$4:$W$501,7,0))","v":""},{"$f":"IF($C14=\"\",\"\",VLOOKUP($C14,INSCRITS!$D$4:$W$501,9,0))","v":""},null,null,null,null,null,null,null,126,{"$f":"IF($N14=\"\",\"\",VLOOKUP($N14,INSCRITS!$D$4:$W$501,6,0))","v":"PLESSIS"},{"$f":"IF($N14=\"\",\"\",VLOOKUP($N14,INSCRITS!$D$4:$W$501,7,0))","v":"Quentin"},{"$f":"IF($N14=\"\",\"\",VLOOKUP($N14,INSCRITS!$D$4:$W$501,9,0))","v":"AQUALOVE"},null,8,10]
[null,null,null,{"$f":"IF($C15=\"\",\"\",VLOOKUP($C15,INSCRITS!$D$4:$W$501,6,0))","v":""},{"$f":"IF($C15=\"\",\"\",VLOOKUP($C15,INSCRITS!$D$4:$W$501,7,0))","v":""},{"$f":"IF($C15=\"\",\"\",VLOOKUP($C15,INSCRITS!$D$4:$W$501,9,0))","v":""},null,null,null,null,null,null,null,152,{"$f":"IF($N15=\"\",\"\",VLOOKUP($N15,INSCRITS!$D$4:$W$501,6,0))","v":"CIER"},{"$f":"IF($N15=\"\",\"\",VLOOKUP($N15,INSCRITS!$D$4:$W$501,7,0))","v":"Jules"},{"$f":"IF($N15=\"\",\"\",VLOOKUP($N15,INSCRITS!$D$4:$W$501,9,0))","v":"HSC"},null,9,8]
[null,null,null,{"$f":"IF($C16=\"\",\"\",VLOOKUP($C16,INSCRITS!$D$4:$W$501,6,0))","v":""},{"$f":"IF($C16=\"\",\"\",VLOOKUP($C16,INSCRITS!$D$4:$W$501,7,0))","v":""},{"$f":"IF($C16=\"\",\"\",VLOOKUP($C16,INSCRITS!$D$4:$W$501,9,0))","v":""},null,null,null,null,null,null,null,135,{"$f":"IF($N16=\"\",\"\",VLOOKUP($N16,INSCRITS!$D$4:$W$501,6,0))","v":"DE SAINT BLANQUAT"},{"$f":"IF($N16=\"\",\"\",VLOOKUP($N16,INSCRITS!$D$4:$W$501,7,0))","v":"Thomas"},{"$f":"IF($N16=\"\",\"\",VLOOKUP($N16,INSCRITS!$D$4:$W$501,9,0))","v":"Biarritz SC"},null,10,7]
[null,null,null,{"$f":"IF($C17=\"\",\"\",VLOOKUP($C17,INSCRITS!$D$4:$W$501,6,0))","v":""},{"$f":"IF($C17=\"\",\"\",VLOOKUP($C17,INSCRITS!$D$4:$W$501,7,0))","v":""},{"$f":"IF($C17=\"\",\"\",VLOOKUP($C17,INSCRITS!$D$4:$W$501,9,0))","v":""},null,null,null,null,null,null,null,125,{"$f":"IF($N17=\"\",\"\",VLOOKUP($N17,INSCRITS!$D$4:$W$501,6,0))","v":"EL KHATIR"},{"$f":"IF($N17=\"\",\"\",VLOOKUP($N17,INSCRITS!$D$4:$W$501,7,0))","v":"Younes"},{"$f":"IF($N17=\"\",\"\",VLOOKUP($N17,INSCRITS!$D$4:$W$501,9,0))","v":"AQUALOVE"},null,11,6]
[null,null,null,{"$f":"IF($C18=\"\",\"\",VLOOKUP($C18,INSCRITS!$D$4:$W$501,6,0))","v":""},{"$f":"IF($C18=\"\",\"\",VLOOKUP($C18,INSCRITS!$D$4:$W$501,7,0))","v":""},{"$f":"IF($C18=\"\",\"\",VLOOKUP($C18,INSCRITS!$D$4:$W$501,9,0))","v":""},null,null,null,null,null,null,null,148,{"$f":"IF($N18=\"\",\"\",VLOOKUP($N18,INSCRITS!$D$4:$W$501,6,0))","v":"CAZAUX"},{"$f":"IF($N18=\"\",\"\",VLOOKUP($N18,INSCRITS!$D$4:$W$501,7,0))","v":"Loïc"},{"$f":"IF($N18=\"\",\"\",VLOOKUP($N18,INSCRITS!$D$4:$W$501,9,0))","v":"CSSM"},null,12,5]
[null,null,null,{"$f":"IF($C19=\"\",\"\",VLOOKUP($C19,INSCRITS!$D$4:$W$501,6,0))","v":""},{"$f":"IF($C19=\"\",\"\",VLOOKUP($C19,INSCRITS!$D$4:$W$501,7,0))","v":""},{"$f":"IF($C19=\"\",\"\",VLOOKUP($C19,INSCRITS!$D$4:$W$501,9,0))","v":""},null,null,null,null,null,null,null,134,{"$f":"IF($N19=\"\",\"\",VLOOKUP($N19,INSCRITS!$D$4:$W$501,6,0))","v":"CAMGRAND"},{"$f":"IF($N19=\"\",\"\",VLOOKUP($N19,INSCRITS!$D$4:$W$501,7,0))","v":"Jérémie"},{"$f":"IF($N19=\"\",\"\",VLOOKUP($N19,INSCRITS!$D$4:$W$501,9,0))","v":"Biarritz SC"},null,13,4]
[null,null,null,{"$f":"IF($C20=\"\",\"\",VLOOKUP($C20,INSCRITS!$D$4:$W$501,6,0))","v":""},{"$f":"IF($C20=\"\",\"\",VLOOKUP($C20,INSCRITS!$D$4:$W$501,7,0))","v":""},{"$f":"IF($C20=\"\",\"\",VLOOKUP($C20,INSCRITS!$D$4:$W$501,9,0))","v":""},null,null,null,null,null,null,null,156,{"$f":"IF($N20=\"\",\"\",VLOOKUP($N20,INSCRITS!$D$4:$W$501,6,0))","v":"FORSANS"},{"$f":"IF($N20=\"\",\"\",VLOOKUP($N20,INSCRITS!$D$4:$W$501,7,0))","v":"Remy"},{"$f":"IF($N20=\"\",\"\",VLOOKUP($N20,INSCRITS!$D$4:$W$501,9,0))","v":"MNSL"},null,14,3]
[null,null,null,{"$f":"IF($C21=\"\",\"\",VLOOKUP($C21,INSCRITS!$D$4:$W$501,6,0))","v":""},{"$f":"IF($C21=\"\",\"\",VLOOKUP($C21,INSCRITS!$D$4:$W$501,7,0))","v":""},{"$f":"IF($C21=\"\",\"\",VLOOKUP($C21,INSCRITS!$D$4:$W$501,9,0))","v":""},null,null,null,null,null,null,null,122,{"$f":"IF($N21=\"\",\"\",VLOOKUP($N21,INSCRITS!$D$4:$W$501,6,0))","v":"LAVALLARD"},{"$f":"IF($N21=\"\",\"\",VLOOKUP($N21,INSCRITS!$D$4:$W$501,7,0))","v":"Logan"},{"$f":"IF($N21=\"\",\"\",VLOOKUP($N21,INSCRITS!$D$4:$W$501,9,0))","v":"Amiens sauvetage"},null,15,2]
[null,null,null,{"$f":"IF($C22=\"\",\"\",VLOOKUP($C22,INSCRITS!$D$4:$W$501,6,0))","v":""},{"$f":"IF($C22=\"\",\"\",VLOOKUP($C22,INSCRITS!$D$4:$W$501,7,0))","v":""},{"$f":"IF($C22=\"\",\"\",VLOOKUP($C22,INSCRITS!$D$4:$W$501,9,0))","v":""},null,null,null,null,null,null,null,153,{"$f":"IF($N22=\"\",\"\",VLOOKUP($N22,INSCRITS!$D$4:$W$501,6,0))","v":"TISSIER"},{"$f":"IF($N22=\"\",\"\",VLOOKUP($N22,INSCRITS!$D$4:$W$501,7,0))","v":"Mael"},{"$f":"IF($N22=\"\",\"\",VLOOKUP($N22,INSCRITS!$D$4:$W$501,9,0))","v":"HSC"},null,16,1]
[null,null,null,{"$f":"IF($C23=\"\",\"\",VLOOKUP($C23,INSCRITS!$D$4:$W$501,6,0))","v":""},{"$f":"IF($C23=\"\",\"\",VLOOKUP($C23,INSCRITS!$D$4:$W$501,7,0))","v":""},{"$f":"IF($C23=\"\",\"\",VLOOKUP($C23,INSCRITS!$D$4:$W$501,9,0))","v":""},null,null,null,null,null,null,null,154,{"$f":"IF($N23=\"\",\"\",VLOOKUP($N23,INSCRITS!$D$4:$W$501,6,0))","v":"LAUSSU"},{"$f":"IF($N23=\"\",\"\",VLOOKUP($N23,INSCRITS!$D$4:$W$501,7,0))","v":"Quentin"},{"$f":"IF($N23=\"\",\"\",VLOOKUP($N23,INSCRITS!$D$4:$W$501,9,0))","v":"lit et mixe"},null,17,0]
[null,null,null,{"$f":"IF($C24=\"\",\"\",VLOOKUP($C24,INSCRITS!$D$4:$W$501,6,0))","v":""},{"$f":"IF($C24=\"\",\"\",VLOOKUP($C24,INSCRITS!$D$4:$W$501,7,0))","v":""},{"$f":"IF($C24=\"\",\"\",VLOOKUP($C24,INSCRITS!$D$4:$W$501,9,0))","v":""},null,null,null,null,null,null,null,139,{"$f":"IF($N24=\"\",\"\",VLOOKUP($N24,INSCRITS!$D$4:$W$501,6,0))","v":"PUYAU"},{"$f":"IF($N24=\"\",\"\",VLOOKUP($N24,INSCRITS!$D$4:$W$501,7,0))","v":"Pierre"},{"$f":"IF($N24=\"\",\"\",VLOOKUP($N24,INSCRITS!$D$4:$W$501,9,0))","v":"Biarritz SC"},null,18,0]
[null,null,null,{"$f":"IF($C25=\"\",\"\",VLOOKUP($C25,INSCRITS!$D$4:$W$501,6,0))","v":""},{"$f":"IF($C25=\"\",\"\",VLOOKUP($C25,INSCRITS!$D$4:$W$501,7,0))","v":""},{"$f":"IF($C25=\"\",\"\",VLOOKUP($C25,INSCRITS!$D$4:$W$501,9,0))","v":""},null,null,null,null,null,null,null,144,{"$f":"IF($N25=\"\",\"\",VLOOKUP($N25,INSCRITS!$D$4:$W$501,6,0))","v":"LICARI"},{"$f":"IF($N25=\"\",\"\",VLOOKUP($N25,INSCRITS!$D$4:$W$501,7,0))","v":"Arnaud"},{"$f":"IF($N25=\"\",\"\",VLOOKUP($N25,INSCRITS!$D$4:$W$501,9,0))","v":"Cannes Sauvetage Côtier"},null,19,0]
[null,null,null,{"$f":"IF($C26=\"\",\"\",VLOOKUP($C26,INSCRITS!$D$4:$W$501,6,0))","v":""},{"$f":"IF($C26=\"\",\"\",VLOOKUP($C26,INSCRITS!$D$4:$W$501,7,0))","v":""},{"$f":"IF($C26=\"\",\"\",VLOOKUP($C26,INSCRITS!$D$4:$W$501,9,0))","v":""},null,null,null,null,null,null,null,137,{"$f":"IF($N26=\"\",\"\",VLOOKUP($N26,INSCRITS!$D$4:$W$501,6,0))","v":"GAUDIN"},{"$f":"IF($N26=\"\",\"\",VLOOKUP($N26,INSCRITS!$D$4:$W$501,7,0))","v":"Arnaud"},{"$f":"IF($N26=\"\",\"\",VLOOKUP($N26,INSCRITS!$D$4:$W$501,9,0))","v":"Biarritz SC"},null,20,0]
[null,null,null,{"$f":"IF($C27=\"\",\"\",VLOOKUP($C27,INSCRITS!$D$4:$W$501,6,0))","v":""},{"$f":"IF($C27=\"\",\"\",VLOOKUP($C27,INSCRITS!$D$4:$W$501,7,0))","v":""},{"$f":"IF($C27=\"\",\"\",VLOOKUP($C27,INSCRITS!$D$4:$W$501,9,0))","v":""},null,null,null,null,null,null,null,141,{"$f":"IF($N27=\"\",\"\",VLOOKUP($N27,INSCRITS!$D$4:$W$501,6,0))","v":"LAUBUGE"},{"$f":"IF($N27=\"\",\"\",VLOOKUP($N27,INSCRITS!$D$4:$W$501,7,0))","v":"Nathanael"},{"$f":"IF($N27=\"\",\"\",VLOOKUP($N27,INSCRITS!$D$4:$W$501,9,0))","v":"BOSS"},null,21,0]
[null,null,null,{"$f":"IF($C28=\"\",\"\",VLOOKUP($C28,INSCRITS!$D$4:$W$501,6,0))","v":""},{"$f":"IF($C28=\"\",\"\",VLOOKUP($C28,INSCRITS!$D$4:$W$501,7,0))","v":""},{"$f":"IF($C28=\"\",\"\",VLOOKUP($C28,INSCRITS!$D$4:$W$501,9,0))","v":""},null,null,null,null,null,null,null,146,{"$f":"IF($N28=\"\",\"\",VLOOKUP($N28,INSCRITS!$D$4:$W$501,6,0))","v":"DEMBLOCQUE"},{"$f":"IF($N28=\"\",\"\",VLOOKUP($N28,INSCRITS!$D$4:$W$501,7,0))","v":"Théo"},{"$f":"IF($N28=\"\",\"\",VLOOKUP($N28,INSCRITS!$D$4:$W$501,9,0))","v":"Capbreton"},null,22,0]
[null,null,null,{"$f":"IF($C29=\"\",\"\",VLOOKUP($C29,INSCRITS!$D$4:$W$501,6,0))","v":""},{"$f":"IF($C29=\"\",\"\",VLOOKUP($C29,INSCRITS!$D$4:$W$501,7,0))","v":""},{"$f":"IF($C29=\"\",\"\",VLOOKUP($C29,INSCRITS!$D$4:$W$501,9,0))","v":""},null,null,null,null,null,null,null,151,{"$f":"IF($N29=\"\",\"\",VLOOKUP($N29,INSCRITS!$D$4:$W$501,6,0))","v":"AMAUGER"},{"$f":"IF($N29=\"\",\"\",VLOOKUP($N29,INSCRITS!$D$4:$W$501,7,0))","v":"Valentin"},{"$f":"IF($N29=\"\",\"\",VLOOKUP($N29,INSCRITS!$D$4:$W$501,9,0))","v":"HSC"},null,23,0]
[null,null,null,{"$f":"IF($C30=\"\",\"\",VLOOKUP($C30,INSCRITS!$D$4:$W$501,6,0))","v":""},{"$f":"IF($C30=\"\",\"\",VLOOKUP($C30,INSCRITS!$D$4:$W$501,7,0))","v":""},{"$f":"IF($C30=\"\",\"\",VLOOKUP($C30,INSCRITS!$D$4:$W$501,9,0))","v":""},null,null,null,null,null,null,null,129,{"$f":"IF($N30=\"\",\"\",VLOOKUP($N30,INSCRITS!$D$4:$W$501,6,0))","v":"LEBRET"},{"$f":"IF($N30=\"\",\"\",VLOOKUP($N30,INSCRITS!$D$4:$W$501,7,0))","v":"Samuel"},{"$f":"IF($N30=\"\",\"\",VLOOKUP($N30,INSCRITS!$D$4:$W$501,9,0))","v":"ASCE DINARD "},null,24,0]
[null,null,null,{"$f":"IF($C31=\"\",\"\",VLOOKUP($C31,INSCRITS!$D$4:$W$501,6,0))","v":""},{"$f":"IF($C31=\"\",\"\",VLOOKUP($C31,INSCRITS!$D$4:$W$501,7,0))","v":""},{"$f":"IF($C31=\"\",\"\",VLOOKUP($C31,INSCRITS!$D$4:$W$501,9,0))","v":""},null,null,null,null,null,null,null,127,{"$f":"IF($N31=\"\",\"\",VLOOKUP($N31,INSCRITS!$D$4:$W$501,6,0))","v":"CADOT"},{"$f":"IF($N31=\"\",\"\",VLOOKUP($N31,INSCRITS!$D$4:$W$501,7,0))","v":"François"},{"$f":"IF($N31=\"\",\"\",VLOOKUP($N31,INSCRITS!$D$4:$W$501,9,0))","v":"ASCE DINARD"},null,25,0]
[null,null,null,{"$f":"IF($C32=\"\",\"\",VLOOKUP($C32,INSCRITS!$D$4:$W$501,6,0))","v":""},{"$f":"IF($C32=\"\",\"\",VLOOKUP($C32,INSCRITS!$D$4:$W$501,7,0))","v":""},{"$f":"IF($C32=\"\",\"\",VLOOKUP($C32,INSCRITS!$D$4:$W$501,9,0))","v":""},null,null,null,null,null,null,null,142,{"$f":"IF($N32=\"\",\"\",VLOOKUP($N32,INSCRITS!$D$4:$W$501,6,0))","v":"PERRIN"},{"$f":"IF($N32=\"\",\"\",VLOOKUP($N32,INSCRITS!$D$4:$W$501,7,0))","v":"Hugo"},{"$f":"IF($N32=\"\",\"\",VLOOKUP($N32,INSCRITS!$D$4:$W$501,9,0))","v":"BOSS"},null,"abs",0]
[null,null,null,{"$f":"IF($C33=\"\",\"\",VLOOKUP($C33,INSCRITS!$D$4:$W$501,6,0))","v":""},{"$f":"IF($C33=\"\",\"\",VLOOKUP($C33,INSCRITS!$D$4:$W$501,7,0))","v":""},{"$f":"IF($C33=\"\",\"\",VLOOKUP($C33,INSCRITS!$D$4:$W$501,9,0))","v":""},null,null,null,null,null,null,null,133,{"$f":"IF($N33=\"\",\"\",VLOOKUP($N33,INSCRITS!$D$4:$W$501,6,0))","v":"SOLABERRIETA"},{"$f":"IF($N33=\"\",\"\",VLOOKUP($N33,INSCRITS!$D$4:$W$501,7,0))","v":"Jean"},{"$f":"IF($N33=\"\",\"\",VLOOKUP($N33,INSCRITS!$D$4:$W$501,9,0))","v":"BELHARRA WC"},null,"abs",0]
[null,null,null,{"$f":"IF($C34=\"\",\"\",VLOOKUP($C34,INSCRITS!$D$4:$W$501,6,0))","v":""},{"$f":"IF($C34=\"\",\"\",VLOOKUP($C34,INSCRITS!$D$4:$W$501,7,0))","v":""},{"$f":"IF($C34=\"\",\"\",VLOOKUP($C34,INSCRITS!$D$4:$W$501,9,0))","v":""},null,null,null,null,null,null,null,136,{"$f":"IF($N34=\"\",\"\",VLOOKUP($N34,INSCRITS!$D$4:$W$501,6,0))","v":"DUCOUDRET"},{"$f":"IF($N34=\"\",\"\",VLOOKUP($N34,INSCRITS!$D$4:$W$501,7,0))","v":"Arnaud"},{"$f":"IF($N34=\"\",\"\",VLOOKUP($N34,INSCRITS!$D$4:$W$501,9,0))","v":"Biarritz SC"},null,"abs",0]
[null,null,null,{"$f":"IF($C35=\"\",\"\",VLOOKUP($C35,INSCRITS!$D$4:$W$501,6,0))","v":""},{"$f":"IF($C35=\"\",\"\",VLOOKUP($C35,INSCRITS!$D$4:$W$501,7,0))","v":""},{"$f":"IF($C35=\"\",\"\",VLOOKUP($C35,INSCRITS!$D$4:$W$501,9,0))","v":""},null,null,null,null,null,null,null,132,{"$f":"IF($N35=\"\",\"\",VLOOKUP($N35,INSCRITS!$D$4:$W$501,6,0))","v":"ARTOLA"},{"$f":"IF($N35=\"\",\"\",VLOOKUP($N35,INSCRITS!$D$4:$W$501,7,0))","v":"Bixente"},{"$f":"IF($N35=\"\",\"\",VLOOKUP($N35,INSCRITS!$D$4:$W$501,9,0))","v":"BELHARRA WC"},null,"abs",0]
[null,null,null,{"$f":"IF($C36=\"\",\"\",VLOOKUP($C36,INSCRITS!$D$4:$W$501,6,0))","v":""},{"$f":"IF($C36=\"\",\"\",VLOOKUP($C36,INSCRITS!$D$4:$W$501,7,0))","v":""},{"$f":"IF($C36=\"\",\"\",VLOOKUP($C36,INSCRITS!$D$4:$W$501,9,0))","v":""},null,null,null,null,null,null,null,null,{"$f":"IF($N36=\"\",\"\",VLOOKUP($N36,INSCRITS!$D$4:$W$501,6,0))","v":""},{"$f":"IF($N36=\"\",\"\",VLOOKUP($N36,INSCRITS!$D$4:$W$501,7,0))","v":""},{"$f":"IF($N36=\"\",\"\",VLOOKUP($N36,INSCRITS!$D$4:$W$501,9,0))","v":""},null,null,""]
[null,null,null,{"$f":"IF($C37=\"\",\"\",VLOOKUP($C37,INSCRITS!$D$4:$W$501,6,0))","v":""},{"$f":"IF($C37=\"\",\"\",VLOOKUP($C37,INSCRITS!$D$4:$W$501,7,0))","v":""},{"$f":"IF($C37=\"\",\"\",VLOOKUP($C37,INSCRITS!$D$4:$W$501,9,0))","v":""},null,null,null,null,null,null,null,null,{"$f":"IF($N37=\"\",\"\",VLOOKUP($N37,INSCRITS!$D$4:$W$501,6,0))","v":""},{"$f":"IF($N37=\"\",\"\",VLOOKUP($N37,INSCRITS!$D$4:$W$501,7,0))","v":""},{"$f":"IF($N37=\"\",\"\",VLOOKUP($N37,INSCRITS!$D$4:$W$501,9,0))","v":""},null,null,""]
[null,null,null,{"$f":"IF($C38=\"\",\"\",VLOOKUP($C38,INSCRITS!$D$4:$W$501,6,0))","v":""},{"$f":"IF($C38=\"\",\"\",VLOOKUP($C38,INSCRITS!$D$4:$W$501,7,0))","v":""},{"$f":"IF($C38=\"\",\"\",VLOOKUP($C38,INSCRITS!$D$4:$W$501,9,0))","v":""},null,null,null,null,null,null,null,null,{"$f":"IF($N38=\"\",\"\",VLOOKUP($N38,INSCRITS!$D$4:$W$501,6,0))","v":""},{"$f":"IF($N38=\"\",\"\",VLOOKUP($N38,INSCRITS!$D$4:$W$501,7,0))","v":""},{"$f":"IF($N38=\"\",\"\",VLOOKUP($N38,INSCRITS!$D$4:$W$501,9,0))","v":""},null,null,""]
[null,null,null,{"$f":"IF($C39=\"\",\"\",VLOOKUP($C39,INSCRITS!$D$4:$W$501,6,0))","v":""},{"$f":"IF($C39=\"\",\"\",VLOOKUP($C39,INSCRITS!$D$4:$W$501,7,0))","v":""},{"$f":"IF($C39=\"\",\"\",VLOOKUP($C39,INSCRITS!$D$4:$W$501,9,0))","v":""},null,null,null,null,null,null,null,null,{"$f":"IF($N39=\"\",\"\",VLOOKUP($N39,INSCRITS!$D$4:$W$501,6,0))","v":""},{"$f":"IF($N39=\"\",\"\",VLOOKUP($N39,INSCRITS!$D$4:$W$501,7,0))","v":""},{"$f":"IF($N39=\"\",\"\",VLOOKUP($N39,INSCRITS!$D$4:$W$501,9,0))","v":""},null,null,{"$f":"IF(S39=\"\",\"\",VLOOKUP(S39,points,2))","v":""}]
[null,null,null,{"$f":"IF($C40=\"\",\"\",VLOOKUP($C40,INSCRITS!$D$4:$W$501,6,0))","v":""},{"$f":"IF($C40=\"\",\"\",VLOOKUP($C40,INSCRITS!$D$4:$W$501,7,0))","v":""},{"$f":"IF($C40=\"\",\"\",VLOOKUP($C40,INSCRITS!$D$4:$W$501,9,0))","v":""},null,null,null,null,null,null,null,null,{"$f":"IF($N40=\"\",\"\",VLOOKUP($N40,INSCRITS!$D$4:$W$501,6,0))","v":""},{"$f":"IF($N40=\"\",\"\",VLOOKUP($N40,INSCRITS!$D$4:$W$501,7,0))","v":""},{"$f":"IF($N40=\"\",\"\",VLOOKUP($N40,INSCRITS!$D$4:$W$501,9,0))","v":""},null,null,""]
[null,"SERIE 2",null,{"$f":"IF($C41=\"\",\"\",VLOOKUP($C41,INSCRITS!$D$4:$W$501,6,0))","v":""},{"$f":"IF($C41=\"\",\"\",VLOOKUP($C41,INSCRITS!$D$4:$W$501,7,0))","v":""},{"$f":"IF($C41=\"\",\"\",VLOOKUP($C41,INSCRITS!$D$4:$W$501,9,0))","v":""},null,null,null,null,null,null,null,null,{"$f":"IF($N41=\"\",\"\",VLOOKUP($N41,INSCRITS!$D$4:$W$501,6,0))","v":""},{"$f":"IF($N41=\"\",\"\",VLOOKUP($N41,INSCRITS!$D$4:$W$501,7,0))","v":""},{"$f":"IF($N41=\"\",\"\",VLOOKUP($N41,INSCRITS!$D$4:$W$501,9,0))","v":""},null,null,""]
[null,null,null,{"$f":"IF($C42=\"\",\"\",VLOOKUP($C42,INSCRITS!$D$4:$W$501,6,0))","v":""},{"$f":"IF($C42=\"\",\"\",VLOOKUP($C42,INSCRITS!$D$4:$W$501,7,0))","v":""},{"$f":"IF($C42=\"\",\"\",VLOOKUP($C42,INSCRITS!$D$4:$W$501,9,0))","v":""},null,null,null,null,null,null,null,null,{"$f":"IF($N42=\"\",\"\",VLOOKUP($N42,INSCRITS!$D$4:$W$501,6,0))","v":""},{"$f":"IF($N42=\"\",\"\",VLOOKUP($N42,INSCRITS!$D$4:$W$501,7,0))","v":""},{"$f":"IF($N42=\"\",\"\",VLOOKUP($N42,INSCRITS!$D$4:$W$501,9,0))","v":""},null,null,""]
[null,null,null,{"$f":"IF($C43=\"\",\"\",VLOOKUP($C43,INSCRITS!$D$4:$W$501,6,0))","v":""},{"$f":"IF($C43=\"\",\"\",VLOOKUP($C43,INSCRITS!$D$4:$W$501,7,0))","v":""},{"$f":"IF($C43=\"\",\"\",VLOOKUP($C43,INSCRITS!$D$4:$W$501,9,0))","v":""},null,null,null,null,null,null,null,null,{"$f":"IF($N43=\"\",\"\",VLOOKUP($N43,INSCRITS!$D$4:$W$501,6,0))","v":""},{"$f":"IF($N43=\"\",\"\",VLOOKUP($N43,INSCRITS!$D$4:$W$501,7,0))","v":""},{"$f":"IF($N43=\"\",\"\",VLOOKUP($N43,INSCRITS!$D$4:$W$501,9,0))","v":""},null,null,""]
[null,null,null,{"$f":"IF($C44=\"\",\"\",VLOOKUP($C44,INSCRITS!$D$4:$W$501,6,0))","v":""},{"$f":"IF($C44=\"\",\"\",VLOOKUP($C44,INSCRITS!$D$4:$W$501,7,0))","v":""},{"$f":"IF($C44=\"\",\"\",VLOOKUP($C44,INSCRITS!$D$4:$W$501,9,0))","v":""},null,null,null,null,null,null,null,null,{"$f":"IF($N44=\"\",\"\",VLOOKUP($N44,INSCRITS!$D$4:$W$501,6,0))","v":""},{"$f":"IF($N44=\"\",\"\",VLOOKUP($N44,INSCRITS!$D$4:$W$501,7,0))","v":""},{"$f":"IF($N44=\"\",\"\",VLOOKUP($N44,INSCRITS!$D$4:$W$501,9,0))","v":""},null,null,""]
[null,null,null,{"$f":"IF($C45=\"\",\"\",VLOOKUP($C45,INSCRITS!$D$4:$W$501,6,0))","v":""},{"$f":"IF($C45=\"\",\"\",VLOOKUP($C45,INSCRITS!$D$4:$W$501,7,0))","v":""},{"$f":"IF($C45=\"\",\"\",VLOOKUP($C45,INSCRITS!$D$4:$W$501,9,0))","v":""},null,null,null,null,null,null,null,null,{"$f":"IF($N45=\"\",\"\",VLOOKUP($N45,INSCRITS!$D$4:$W$501,6,0))","v":""},{"$f":"IF($N45=\"\",\"\",VLOOKUP($N45,INSCRITS!$D$4:$W$501,7,0))","v":""},{"$f":"IF($N45=\"\",\"\",VLOOKUP($N45,INSCRITS!$D$4:$W$501,9,0))","v":""},null,null,""]
[null,null,null,{"$f":"IF($C46=\"\",\"\",VLOOKUP($C46,INSCRITS!$D$4:$W$501,6,0))","v":""},{"$f":"IF($C46=\"\",\"\",VLOOKUP($C46,INSCRITS!$D$4:$W$501,7,0))","v":""},{"$f":"IF($C46=\"\",\"\",VLOOKUP($C46,INSCRITS!$D$4:$W$501,9,0))","v":""},null,null,null,null,null,null,null,null,{"$f":"IF($N46=\"\",\"\",VLOOKUP($N46,INSCRITS!$D$4:$W$501,6,0))","v":""},{"$f":"IF($N46=\"\",\"\",VLOOKUP($N46,INSCRITS!$D$4:$W$501,7,0))","v":""},{"$f":"IF($N46=\"\",\"\",VLOOKUP($N46,INSCRITS!$D$4:$W$501,9,0))","v":""},null,null,""]
[null,null,null,{"$f":"IF($C47=\"\",\"\",VLOOKUP($C47,INSCRITS!$D$4:$W$501,6,0))","v":""},{"$f":"IF($C47=\"\",\"\",VLOOKUP($C47,INSCRITS!$D$4:$W$501,7,0))","v":""},{"$f":"IF($C47=\"\",\"\",VLOOKUP($C47,INSCRITS!$D$4:$W$501,9,0))","v":""},null,null,null,null,null,null,null,null,{"$f":"IF($N47=\"\",\"\",VLOOKUP($N47,INSCRITS!$D$4:$W$501,6,0))","v":""},{"$f":"IF($N47=\"\",\"\",VLOOKUP($N47,INSCRITS!$D$4:$W$501,7,0))","v":""},{"$f":"IF($N47=\"\",\"\",VLOOKUP($N47,INSCRITS!$D$4:$W$501,9,0))","v":""},null,null,""]
[null,null,null,{"$f":"IF($C48=\"\",\"\",VLOOKUP($C48,INSCRITS!$D$4:$W$501,6,0))","v":""},{"$f":"IF($C48=\"\",\"\",VLOOKUP($C48,INSCRITS!$D$4:$W$501,7,0))","v":""},{"$f":"IF($C48=\"\",\"\",VLOOKUP($C48,INSCRITS!$D$4:$W$501,9,0))","v":""},null,null,null,null,null,null,null,null,{"$f":"IF($N48=\"\",\"\",VLOOKUP($N48,INSCRITS!$D$4:$W$501,6,0))","v":""},{"$f":"IF($N48=\"\",\"\",VLOOKUP($N48,INSCRITS!$D$4:$W$501,7,0))","v":""},{"$f":"IF($N48=\"\",\"\",VLOOKUP($N48,INSCRITS!$D$4:$W$501,9,0))","v":""},null,null,""]
[null,null,null,{"$f":"IF($C49=\"\",\"\",VLOOKUP($C49,INSCRITS!$D$4:$W$501,6,0))","v":""},{"$f":"IF($C49=\"\",\"\",VLOOKUP($C49,INSCRITS!$D$4:$W$501,7,0))","v":""},{"$f":"IF($C49=\"\",\"\",VLOOKUP($C49,INSCRITS!$D$4:$W$501,9,0))","v":""},null,null,null,null,null,null,null,null,{"$f":"IF($N49=\"\",\"\",VLOOKUP($N49,INSCRITS!$D$4:$W$501,6,0))","v":""},{"$f":"IF($N49=\"\",\"\",VLOOKUP($N49,INSCRITS!$D$4:$W$501,7,0))","v":""},{"$f":"IF($N49=\"\",\"\",VLOOKUP($N49,INSCRITS!$D$4:$W$501,9,0))","v":""},null,null,""]
[null,null,null,{"$f":"IF($C50=\"\",\"\",VLOOKUP($C50,INSCRITS!$D$4:$W$501,6,0))","v":""},{"$f":"IF($C50=\"\",\"\",VLOOKUP($C50,INSCRITS!$D$4:$W$501,7,0))","v":""},{"$f":"IF($C50=\"\",\"\",VLOOKUP($C50,INSCRITS!$D$4:$W$501,9,0))","v":""},null,null,null,null,null,null,null,null,{"$f":"IF($N50=\"\",\"\",VLOOKUP($N50,INSCRITS!$D$4:$W$501,6,0))","v":""},{"$f":"IF($N50=\"\",\"\",VLOOKUP($N50,INSCRITS!$D$4:$W$501,7,0))","v":""},{"$f":"IF($N50=\"\",\"\",VLOOKUP($N50,INSCRITS!$D$4:$W$501,9,0))","v":""},null,null,""]
[null,null,null,{"$f":"IF($C51=\"\",\"\",VLOOKUP($C51,INSCRITS!$D$4:$W$501,6,0))","v":""},{"$f":"IF($C51=\"\",\"\",VLOOKUP($C51,INSCRITS!$D$4:$W$501,7,0))","v":""},{"$f":"IF($C51=\"\",\"\",VLOOKUP($C51,INSCRITS!$D$4:$W$501,9,0))","v":""},null,null,null,null,null,null,null,null,{"$f":"IF($N51=\"\",\"\",VLOOKUP($N51,INSCRITS!$D$4:$W$501,6,0))","v":""},{"$f":"IF($N51=\"\",\"\",VLOOKUP($N51,INSCRITS!$D$4:$W$501,7,0))","v":""},{"$f":"IF($N51=\"\",\"\",VLOOKUP($N51,INSCRITS!$D$4:$W$501,9,0))","v":""},null,null,""]
[null,null,null,{"$f":"IF($C52=\"\",\"\",VLOOKUP($C52,INSCRITS!$D$4:$W$501,6,0))","v":""},{"$f":"IF($C52=\"\",\"\",VLOOKUP($C52,INSCRITS!$D$4:$W$501,7,0))","v":""},{"$f":"IF($C52=\"\",\"\",VLOOKUP($C52,INSCRITS!$D$4:$W$501,9,0))","v":""},null,null,null,null,null,null,null,null,{"$f":"IF($N52=\"\",\"\",VLOOKUP($N52,INSCRITS!$D$4:$W$501,6,0))","v":""},{"$f":"IF($N52=\"\",\"\",VLOOKUP($N52,INSCRITS!$D$4:$W$501,7,0))","v":""},{"$f":"IF($N52=\"\",\"\",VLOOKUP($N52,INSCRITS!$D$4:$W$501,9,0))","v":""},null,null,""]
[null,null,null,{"$f":"IF($C53=\"\",\"\",VLOOKUP($C53,INSCRITS!$D$4:$W$501,6,0))","v":""},{"$f":"IF($C53=\"\",\"\",VLOOKUP($C53,INSCRITS!$D$4:$W$501,7,0))","v":""},{"$f":"IF($C53=\"\",\"\",VLOOKUP($C53,INSCRITS!$D$4:$W$501,9,0))","v":""},null,null,null,null,null,null,null,null,{"$f":"IF($N53=\"\",\"\",VLOOKUP($N53,INSCRITS!$D$4:$W$501,6,0))","v":""},{"$f":"IF($N53=\"\",\"\",VLOOKUP($N53,INSCRITS!$D$4:$W$501,7,0))","v":""},{"$f":"IF($N53=\"\",\"\",VLOOKUP($N53,INSCRITS!$D$4:$W$501,9,0))","v":""},null,null,""]
[null,null,null,{"$f":"IF($C54=\"\",\"\",VLOOKUP($C54,INSCRITS!$D$4:$W$501,6,0))","v":""},{"$f":"IF($C54=\"\",\"\",VLOOKUP($C54,INSCRITS!$D$4:$W$501,7,0))","v":""},{"$f":"IF($C54=\"\",\"\",VLOOKUP($C54,INSCRITS!$D$4:$W$501,9,0))","v":""},null,null,null,null,null,null,null,null,{"$f":"IF($N54=\"\",\"\",VLOOKUP($N54,INSCRITS!$D$4:$W$501,6,0))","v":""},{"$f":"IF($N54=\"\",\"\",VLOOKUP($N54,INSCRITS!$D$4:$W$501,7,0))","v":""},{"$f":"IF($N54=\"\",\"\",VLOOKUP($N54,INSCRITS!$D$4:$W$501,9,0))","v":""},null,null,""]
[null,null,null,{"$f":"IF($C55=\"\",\"\",VLOOKUP($C55,INSCRITS!$D$4:$W$501,6,0))","v":""},{"$f":"IF($C55=\"\",\"\",VLOOKUP($C55,INSCRITS!$D$4:$W$501,7,0))","v":""},{"$f":"IF($C55=\"\",\"\",VLOOKUP($C55,INSCRITS!$D$4:$W$501,9,0))","v":""}]
[null,null,null,{"$f":"IF($C56=\"\",\"\",VLOOKUP($C56,INSCRITS!$D$4:$W$501,6,0))","v":""},{"$f":"IF($C56=\"\",\"\",VLOOKUP($C56,INSCRITS!$D$4:$W$501,7,0))","v":""},{"$f":"IF($C56=\"\",\"\",VLOOKUP($C56,INSCRITS!$D$4:$W$501,9,0))","v":""}]
[null,null,null,{"$f":"IF($C57=\"\",\"\",VLOOKUP($C57,INSCRITS!$D$4:$W$501,6,0))","v":""},{"$f":"IF($C57=\"\",\"\",VLOOKUP($C57,INSCRITS!$D$4:$W$501,7,0))","v":""},{"$f":"IF($C57=\"\",\"\",VLOOKUP($C57,INSCRITS!$D$4:$W$501,9,0))","v":""}]
[null,null,null,{"$f":"IF($C58=\"\",\"\",VLOOKUP($C58,INSCRITS!$D$4:$W$501,6,0))","v":""},{"$f":"IF($C58=\"\",\"\",VLOOKUP($C58,INSCRITS!$D$4:$W$501,7,0))","v":""},{"$f":"IF($C58=\"\",\"\",VLOOKUP($C58,INSCRITS!$D$4:$W$501,9,0))","v":""}]
[null,null,null,{"$f":"IF($C59=\"\",\"\",VLOOKUP($C59,INSCRITS!$D$4:$W$501,6,0))","v":""},{"$f":"IF($C59=\"\",\"\",VLOOKUP($C59,INSCRITS!$D$4:$W$501,7,0))","v":""},{"$f":"IF($C59=\"\",\"\",VLOOKUP($C59,INSCRITS!$D$4:$W$501,9,0))","v":""}]
[null,null,null,{"$f":"IF($C60=\"\",\"\",VLOOKUP($C60,INSCRITS!$D$4:$W$501,6,0))","v":""},{"$f":"IF($C60=\"\",\"\",VLOOKUP($C60,INSCRITS!$D$4:$W$501,7,0))","v":""},{"$f":"IF($C60=\"\",\"\",VLOOKUP($C60,INSCRITS!$D$4:$W$501,9,0))","v":""}]
[null,null,null,{"$f":"IF($C61=\"\",\"\",VLOOKUP($C61,INSCRITS!$D$4:$W$501,6,0))","v":""},{"$f":"IF($C61=\"\",\"\",VLOOKUP($C61,INSCRITS!$D$4:$W$501,7,0))","v":""},{"$f":"IF($C61=\"\",\"\",VLOOKUP($C61,INSCRITS!$D$4:$W$501,9,0))","v":""}]
[null,null,null,{"$f":"IF($C62=\"\",\"\",VLOOKUP($C62,INSCRITS!$D$4:$W$501,6,0))","v":""},{"$f":"IF($C62=\"\",\"\",VLOOKUP($C62,INSCRITS!$D$4:$W$501,7,0))","v":""},{"$f":"IF($C62=\"\",\"\",VLOOKUP($C62,INSCRITS!$D$4:$W$501,9,0))","v":""}]
[null,null,null,{"$f":"IF($C63=\"\",\"\",VLOOKUP($C63,INSCRITS!$D$4:$W$501,6,0))","v":""},{"$f":"IF($C63=\"\",\"\",VLOOKUP($C63,INSCRITS!$D$4:$W$501,7,0))","v":""},{"$f":"IF($C63=\"\",\"\",VLOOKUP($C63,INSCRITS!$D$4:$W$501,9,0))","v":""}]
[null,null,null,{"$f":"IF($C64=\"\",\"\",VLOOKUP($C64,INSCRITS!$D$4:$W$501,6,0))","v":""},{"$f":"IF($C64=\"\",\"\",VLOOKUP($C64,INSCRITS!$D$4:$W$501,7,0))","v":""},{"$f":"IF($C64=\"\",\"\",VLOOKUP($C64,INSCRITS!$D$4:$W$501,9,0))","v":""}]
[null,null,null,{"$f":"IF($C65=\"\",\"\",VLOOKUP($C65,INSCRITS!$D$4:$W$501,6,0))","v":""},{"$f":"IF($C65=\"\",\"\",VLOOKUP($C65,INSCRITS!$D$4:$W$501,7,0))","v":""},{"$f":"IF($C65=\"\",\"\",VLOOKUP($C65,INSCRITS!$D$4:$W$501,9,0))","v":""}]
[null,null,null,{"$f":"IF($C66=\"\",\"\",VLOOKUP($C66,INSCRITS!$D$4:$W$501,6,0))","v":""},{"$f":"IF($C66=\"\",\"\",VLOOKUP($C66,INSCRITS!$D$4:$W$501,7,0))","v":""},{"$f":"IF($C66=\"\",\"\",VLOOKUP($C66,INSCRITS!$D$4:$W$501,9,0))","v":""}]
[null,null,null,{"$f":"IF($C67=\"\",\"\",VLOOKUP($C67,INSCRITS!$D$4:$W$501,6,0))","v":""},{"$f":"IF($C67=\"\",\"\",VLOOKUP($C67,INSCRITS!$D$4:$W$501,7,0))","v":""},{"$f":"IF($C67=\"\",\"\",VLOOKUP($C67,INSCRITS!$D$4:$W$501,9,0))","v":""}]
[null,null,null,{"$f":"IF($C68=\"\",\"\",VLOOKUP($C68,INSCRITS!$D$4:$W$501,6,0))","v":""},{"$f":"IF($C68=\"\",\"\",VLOOKUP($C68,INSCRITS!$D$4:$W$501,7,0))","v":""},{"$f":"IF($C68=\"\",\"\",VLOOKUP($C68,INSCRITS!$D$4:$W$501,9,0))","v":""}]
[null,null,null,{"$f":"IF($C69=\"\",\"\",VLOOKUP($C69,INSCRITS!$D$4:$W$501,6,0))","v":""},{"$f":"IF($C69=\"\",\"\",VLOOKUP($C69,INSCRITS!$D$4:$W$501,7,0))","v":""},{"$f":"IF($C69=\"\",\"\",VLOOKUP($C69,INSCRITS!$D$4:$W$501,9,0))","v":""}]
[null,null,null,{"$f":"IF($C70=\"\",\"\",VLOOKUP($C70,INSCRITS!$D$4:$W$501,6,0))","v":""},{"$f":"IF($C70=\"\",\"\",VLOOKUP($C70,INSCRITS!$D$4:$W$501,7,0))","v":""},{"$f":"IF($C70=\"\",\"\",VLOOKUP($C70,INSCRITS!$D$4:$W$501,9,0))","v":""}]
[null,null,null,{"$f":"IF($C71=\"\",\"\",VLOOKUP($C71,INSCRITS!$D$4:$W$501,6,0))","v":""},{"$f":"IF($C71=\"\",\"\",VLOOKUP($C71,INSCRITS!$D$4:$W$501,7,0))","v":""},{"$f":"IF($C71=\"\",\"\",VLOOKUP($C71,INSCRITS!$D$4:$W$501,9,0))","v":""}]
[null,null,null,{"$f":"IF($C72=\"\",\"\",VLOOKUP($C72,INSCRITS!$D$4:$W$501,6,0))","v":""},{"$f":"IF($C72=\"\",\"\",VLOOKUP($C72,INSCRITS!$D$4:$W$501,7,0))","v":""},{"$f":"IF($C72=\"\",\"\",VLOOKUP($C72,INSCRITS!$D$4:$W$501,9,0))","v":""}]
[null,null,null,{"$f":"IF($C73=\"\",\"\",VLOOKUP($C73,INSCRITS!$D$4:$W$501,6,0))","v":""},{"$f":"IF($C73=\"\",\"\",VLOOKUP($C73,INSCRITS!$D$4:$W$501,7,0))","v":""},{"$f":"IF($C73=\"\",\"\",VLOOKUP($C73,INSCRITS!$D$4:$W$501,9,0))","v":""}]
[null,null,null,{"$f":"IF($C74=\"\",\"\",VLOOKUP($C74,INSCRITS!$D$4:$W$501,6,0))","v":""},{"$f":"IF($C74=\"\",\"\",VLOOKUP($C74,INSCRITS!$D$4:$W$501,7,0))","v":""},{"$f":"IF($C74=\"\",\"\",VLOOKUP($C74,INSCRITS!$D$4:$W$501,9,0))","v":""}]
[null,null,null,{"$f":"IF($C75=\"\",\"\",VLOOKUP($C75,INSCRITS!$D$4:$W$501,6,0))","v":""},{"$f":"IF($C75=\"\",\"\",VLOOKUP($C75,INSCRITS!$D$4:$W$501,7,0))","v":""},{"$f":"IF($C75=\"\",\"\",VLOOKUP($C75,INSCRITS!$D$4:$W$501,9,0))","v":""}]
[null,null,null,{"$f":"IF($C76=\"\",\"\",VLOOKUP($C76,INSCRITS!$D$4:$W$501,6,0))","v":""},{"$f":"IF($C76=\"\",\"\",VLOOKUP($C76,INSCRITS!$D$4:$W$501,7,0))","v":""},{"$f":"IF($C76=\"\",\"\",VLOOKUP($C76,INSCRITS!$D$4:$W$501,9,0))","v":""}]
[null,null,null,{"$f":"IF($C77=\"\",\"\",VLOOKUP($C77,INSCRITS!$D$4:$W$501,6,0))","v":""},{"$f":"IF($C77=\"\",\"\",VLOOKUP($C77,INSCRITS!$D$4:$W$501,7,0))","v":""},{"$f":"IF($C77=\"\",\"\",VLOOKUP($C77,INSCRITS!$D$4:$W$501,9,0))","v":""}]
[null,null,null,{"$f":"IF($C78=\"\",\"\",VLOOKUP($C78,INSCRITS!$D$4:$W$501,6,0))","v":""},{"$f":"IF($C78=\"\",\"\",VLOOKUP($C78,INSCRITS!$D$4:$W$501,7,0))","v":""},{"$f":"IF($C78=\"\",\"\",VLOOKUP($C78,INSCRITS!$D$4:$W$501,9,0))","v":""}]
[null,null,null,{"$f":"IF($C79=\"\",\"\",VLOOKUP($C79,INSCRITS!$D$4:$W$501,6,0))","v":""},{"$f":"IF($C79=\"\",\"\",VLOOKUP($C79,INSCRITS!$D$4:$W$501,7,0))","v":""},{"$f":"IF($C79=\"\",\"\",VLOOKUP($C79,INSCRITS!$D$4:$W$501,9,0))","v":""}]
[null,null,null,{"$f":"IF($C80=\"\",\"\",VLOOKUP($C80,INSCRITS!$D$4:$W$501,6,0))","v":""},{"$f":"IF($C80=\"\",\"\",VLOOKUP($C80,INSCRITS!$D$4:$W$501,7,0))","v":""},{"$f":"IF($C80=\"\",\"\",VLOOKUP($C80,INSCRITS!$D$4:$W$501,9,0))","v":""}]
[null,null,null,{"$f":"IF($C81=\"\",\"\",VLOOKUP($C81,INSCRITS!$D$4:$W$501,6,0))","v":""},{"$f":"IF($C81=\"\",\"\",VLOOKUP($C81,INSCRITS!$D$4:$W$501,7,0))","v":""},{"$f":"IF($C81=\"\",\"\",VLOOKUP($C81,INSCRITS!$D$4:$W$501,9,0))","v":""}]
[null,null,null,{"$f":"IF($C82=\"\",\"\",VLOOKUP($C82,INSCRITS!$D$4:$W$501,6,0))","v":""},{"$f":"IF($C82=\"\",\"\",VLOOKUP($C82,INSCRITS!$D$4:$W$501,7,0))","v":""},{"$f":"IF($C82=\"\",\"\",VLOOKUP($C82,INSCRITS!$D$4:$W$501,9,0))","v":""}]
[null,null,null,{"$f":"IF($C83=\"\",\"\",VLOOKUP($C83,INSCRITS!$D$4:$W$501,6,0))","v":""},{"$f":"IF($C83=\"\",\"\",VLOOKUP($C83,INSCRITS!$D$4:$W$501,7,0))","v":""},{"$f":"IF($C83=\"\",\"\",VLOOKUP($C83,INSCRITS!$D$4:$W$501,9,0))","v":""}]
[null,null,null,{"$f":"IF($C84=\"\",\"\",VLOOKUP($C84,INSCRITS!$D$4:$W$501,6,0))","v":""},{"$f":"IF($C84=\"\",\"\",VLOOKUP($C84,INSCRITS!$D$4:$W$501,7,0))","v":""},{"$f":"IF($C84=\"\",\"\",VLOOKUP($C84,INSCRITS!$D$4:$W$501,9,0))","v":""}]
[null,null,null,{"$f":"IF($C85=\"\",\"\",VLOOKUP($C85,INSCRITS!$D$4:$W$501,6,0))","v":""},{"$f":"IF($C85=\"\",\"\",VLOOKUP($C85,INSCRITS!$D$4:$W$501,7,0))","v":""},{"$f":"IF($C85=\"\",\"\",VLOOKUP($C85,INSCRITS!$D$4:$W$501,9,0))","v":""}]
[null,null,null,{"$f":"IF($C86=\"\",\"\",VLOOKUP($C86,INSCRITS!$D$4:$W$501,6,0))","v":""},{"$f":"IF($C86=\"\",\"\",VLOOKUP($C86,INSCRITS!$D$4:$W$501,7,0))","v":""},{"$f":"IF($C86=\"\",\"\",VLOOKUP($C86,INSCRITS!$D$4:$W$501,9,0))","v":""}]
[null,null,null,{"$f":"IF($C87=\"\",\"\",VLOOKUP($C87,INSCRITS!$D$4:$W$501,6,0))","v":""},{"$f":"IF($C87=\"\",\"\",VLOOKUP($C87,INSCRITS!$D$4:$W$501,7,0))","v":""},{"$f":"IF($C87=\"\",\"\",VLOOKUP($C87,INSCRITS!$D$4:$W$501,9,0))","v":""}]
[null,null,null,{"$f":"IF($C88=\"\",\"\",VLOOKUP($C88,INSCRITS!$D$4:$W$501,6,0))","v":""},{"$f":"IF($C88=\"\",\"\",VLOOKUP($C88,INSCRITS!$D$4:$W$501,7,0))","v":""},{"$f":"IF($C88=\"\",\"\",VLOOKUP($C88,INSCRITS!$D$4:$W$501,9,0))","v":""}]
[null,null,null,{"$f":"IF($C89=\"\",\"\",VLOOKUP($C89,INSCRITS!$D$4:$W$501,6,0))","v":""},{"$f":"IF($C89=\"\",\"\",VLOOKUP($C89,INSCRITS!$D$4:$W$501,7,0))","v":""},{"$f":"IF($C89=\"\",\"\",VLOOKUP($C89,INSCRITS!$D$4:$W$501,9,0))","v":""}]
[null,null,null,{"$f":"IF($C90=\"\",\"\",VLOOKUP($C90,INSCRITS!$D$4:$W$501,6,0))","v":""},{"$f":"IF($C90=\"\",\"\",VLOOKUP($C90,INSCRITS!$D$4:$W$501,7,0))","v":""},{"$f":"IF($C90=\"\",\"\",VLOOKUP($C90,INSCRITS!$D$4:$W$501,9,0))","v":""}]
[null,null,null,{"$f":"IF($C91=\"\",\"\",VLOOKUP($C91,INSCRITS!$D$4:$W$501,6,0))","v":""},{"$f":"IF($C91=\"\",\"\",VLOOKUP($C91,INSCRITS!$D$4:$W$501,7,0))","v":""},{"$f":"IF($C91=\"\",\"\",VLOOKUP($C91,INSCRITS!$D$4:$W$501,9,0))","v":""}]
[null,null,null,{"$f":"IF($C92=\"\",\"\",VLOOKUP($C92,INSCRITS!$D$4:$W$501,6,0))","v":""},{"$f":"IF($C92=\"\",\"\",VLOOKUP($C92,INSCRITS!$D$4:$W$501,7,0))","v":""},{"$f":"IF($C92=\"\",\"\",VLOOKUP($C92,INSCRITS!$D$4:$W$501,9,0))","v":""}]
[null,null,null,{"$f":"IF($C93=\"\",\"\",VLOOKUP($C93,INSCRITS!$D$4:$W$501,6,0))","v":""},{"$f":"IF($C93=\"\",\"\",VLOOKUP($C93,INSCRITS!$D$4:$W$501,7,0))","v":""},{"$f":"IF($C93=\"\",\"\",VLOOKUP($C93,INSCRITS!$D$4:$W$501,9,0))","v":""}]
[null,null,null,{"$f":"IF($C94=\"\",\"\",VLOOKUP($C94,INSCRITS!$D$4:$W$501,6,0))","v":""},{"$f":"IF($C94=\"\",\"\",VLOOKUP($C94,INSCRITS!$D$4:$W$501,7,0))","v":""},{"$f":"IF($C94=\"\",\"\",VLOOKUP($C94,INSCRITS!$D$4:$W$501,9,0))","v":""}]
[null,null,null,{"$f":"IF($C95=\"\",\"\",VLOOKUP($C95,INSCRITS!$D$4:$W$501,6,0))","v":""},{"$f":"IF($C95=\"\",\"\",VLOOKUP($C95,INSCRITS!$D$4:$W$501,7,0))","v":""},{"$f":"IF($C95=\"\",\"\",VLOOKUP($C95,INSCRITS!$D$4:$W$501,9,0))","v":""}]
[null,null,null,{"$f":"IF($C96=\"\",\"\",VLOOKUP($C96,INSCRITS!$D$4:$W$501,6,0))","v":""},{"$f":"IF($C96=\"\",\"\",VLOOKUP($C96,INSCRITS!$D$4:$W$501,7,0))","v":""},{"$f":"IF($C96=\"\",\"\",VLOOKUP($C96,INSCRITS!$D$4:$W$501,9,0))","v":""}]
[null,null,null,{"$f":"IF($C97=\"\",\"\",VLOOKUP($C97,INSCRITS!$D$4:$W$501,6,0))","v":""},{"$f":"IF($C97=\"\",\"\",VLOOKUP($C97,INSCRITS!$D$4:$W$501,7,0))","v":""},{"$f":"IF($C97=\"\",\"\",VLOOKUP($C97,INSCRITS!$D$4:$W$501,9,0))","v":""}]
[null,null,null,{"$f":"IF($C98=\"\",\"\",VLOOKUP($C98,INSCRITS!$D$4:$W$501,6,0))","v":""},{"$f":"IF($C98=\"\",\"\",VLOOKUP($C98,INSCRITS!$D$4:$W$501,7,0))","v":""},{"$f":"IF($C98=\"\",\"\",VLOOKUP($C98,INSCRITS!$D$4:$W$501,9,0))","v":""}]
[null,null,null,{"$f":"IF($C99=\"\",\"\",VLOOKUP($C99,INSCRITS!$D$4:$W$501,6,0))","v":""},{"$f":"IF($C99=\"\",\"\",VLOOKUP($C99,INSCRITS!$D$4:$W$501,7,0))","v":""},{"$f":"IF($C99=\"\",\"\",VLOOKUP($C99,INSCRITS!$D$4:$W$501,9,0))","v":""}]
[null,null,null,{"$f":"IF($C100=\"\",\"\",VLOOKUP($C100,INSCRITS!$D$4:$W$501,6,0))","v":""},{"$f":"IF($C100=\"\",\"\",VLOOKUP($C100,INSCRITS!$D$4:$W$501,7,0))","v":""},{"$f":"IF($C100=\"\",\"\",VLOOKUP($C100,INSCRITS!$D$4:$W$501,9,0))","v":""}]
[null,null,null,{"$f":"IF($C101=\"\",\"\",VLOOKUP($C101,INSCRITS!$D$4:$W$501,6,0))","v":""},{"$f":"IF($C101=\"\",\"\",VLOOKUP($C101,INSCRITS!$D$4:$W$501,7,0))","v":""},{"$f":"IF($C101=\"\",\"\",VLOOKUP($C101,INSCRITS!$D$4:$W$501,9,0))","v":""}]
[null,null,null,{"$f":"IF($C102=\"\",\"\",VLOOKUP($C102,INSCRITS!$D$4:$W$501,6,0))","v":""},{"$f":"IF($C102=\"\",\"\",VLOOKUP($C102,INSCRITS!$D$4:$W$501,7,0))","v":""},{"$f":"IF($C102=\"\",\"\",VLOOKUP($C102,INSCRITS!$D$4:$W$501,9,0))","v":""}]
[null,null,null,{"$f":"IF($C103=\"\",\"\",VLOOKUP($C103,INSCRITS!$D$4:$W$501,6,0))","v":""},{"$f":"IF($C103=\"\",\"\",VLOOKUP($C103,INSCRITS!$D$4:$W$501,7,0))","v":""},{"$f":"IF($C103=\"\",\"\",VLOOKUP($C103,INSCRITS!$D$4:$W$501,9,0))","v":""}]
[null,null,null,{"$f":"IF($C104=\"\",\"\",VLOOKUP($C104,INSCRITS!$D$4:$W$501,6,0))","v":""},{"$f":"IF($C104=\"\",\"\",VLOOKUP($C104,INSCRITS!$D$4:$W$501,7,0))","v":""},{"$f":"IF($C104=\"\",\"\",VLOOKUP($C104,INSCRITS!$D$4:$W$501,9,0))","v":""}]
[null,null,null,{"$f":"IF($C105=\"\",\"\",VLOOKUP($C105,INSCRITS!$D$4:$W$501,6,0))","v":""},{"$f":"IF($C105=\"\",\"\",VLOOKUP($C105,INSCRITS!$D$4:$W$501,7,0))","v":""},{"$f":"IF($C105=\"\",\"\",VLOOKUP($C105,INSCRITS!$D$4:$W$501,9,0))","v":""}]
[null,null,null,{"$f":"IF($C106=\"\",\"\",VLOOKUP($C106,INSCRITS!$D$4:$W$501,6,0))","v":""},{"$f":"IF($C106=\"\",\"\",VLOOKUP($C106,INSCRITS!$D$4:$W$501,7,0))","v":""},{"$f":"IF($C106=\"\",\"\",VLOOKUP($C106,INSCRITS!$D$4:$W$501,9,0))","v":""}]
[null,null,null,{"$f":"IF($C107=\"\",\"\",VLOOKUP($C107,INSCRITS!$D$4:$W$501,6,0))","v":""},{"$f":"IF($C107=\"\",\"\",VLOOKUP($C107,INSCRITS!$D$4:$W$501,7,0))","v":""},{"$f":"IF($C107=\"\",\"\",VLOOKUP($C107,INSCRITS!$D$4:$W$501,9,0))","v":""}]
[null,null,null,{"$f":"IF($C108=\"\",\"\",VLOOKUP($C108,INSCRITS!$D$4:$W$501,6,0))","v":""},{"$f":"IF($C108=\"\",\"\",VLOOKUP($C108,INSCRITS!$D$4:$W$501,7,0))","v":""},{"$f":"IF($C108=\"\",\"\",VLOOKUP($C108,INSCRITS!$D$4:$W$501,9,0))","v":""}]
[null,null,null,{"$f":"IF($C109=\"\",\"\",VLOOKUP($C109,INSCRITS!$D$4:$W$501,6,0))","v":""},{"$f":"IF($C109=\"\",\"\",VLOOKUP($C109,INSCRITS!$D$4:$W$501,7,0))","v":""},{"$f":"IF($C109=\"\",\"\",VLOOKUP($C109,INSCRITS!$D$4:$W$501,9,0))","v":""}]

{"sheet":"PLANCHE","index":5,"n_rows":134,"n_cols":35,"rows_kept":134,"cut":false,"hidden":false,"merged":[[57,1,73,1],[32,1,44,1],[74,1,90,1],[91,1,107,1],[54,12,69,12],[26,27,41,27],[6,1,18,1],[19,1,31,1],[6,27,25,27],[6,20,23,20],[24,20,41,20],[22,12,37,12],[38,12,53,12],[6,12,21,12]]}
[]
[]
[null,"SERIES Planche",null,null,null,null,null,null,null,null,null,null,"QUART Planche",null,null,null,null,null,null,null,"DEMI-FINALES Planche",null,null,null,null,null,null,null,"FINALE Planche"]
[null,"Messieurs","Cadet",null,null,null,null,null,null,null,null,null,"Messieurs",null,null,null,null,null,null,null,"Messieurs",null,null,null,null,null,null,"Cadet","Messieurs"]
[null,null,null,null,null,null,null,null,null,null,null,null,null,null,null,null,null,null,null,null,null,"N°","NOM","Prénom","CLUB","PLACE",null,null,"N°","NOM","Prénom","CLUB",null,"PLACE","PTS"]
[]
[null,"SERIE 1",128,{"$f":"IF($C7=\"\",\"\",VLOOKUP($C7,INSCRITS!$D$4:$W$501,6,0))","v":"CORBEL"},{"$f":"IF($C7=\"\",\"\",VLOOKUP($C7,INSCRITS!$D$4:$W$501,7,0))","v":"Yann"},{"$f":"IF($C7=\"\",\"\",VLOOKUP($C7,INSCRITS!$D$4:$W$501,9,0))","v":"ASCE DINARD"},null,null,null,null,null,null,"SERIE 1",null,{"$f":"IF($N7=\"\",\"\",VLOOKUP($N7,INSCRITS!$D$4:$W$501,6,0))","v":""},{"$f":"IF($N7=\"\",\"\",VLOOKUP($N7,INSCRITS!$D$4:$W$501,7,0))","v":""},{"$f":"IF($N7=\"\",\"\",VLOOKUP($N7,INSCRITS!$D$4:$W$501,9,0))","v":""},null,null,null,"SERIE 1",null,{"$f":"IF($V7=\"\",\"\",VLOOKUP($V7,INSCRITS!$D$4:$W$501,6,0))","v":""},{"$f":"IF($V7=\"\",\"\",VLOOKUP($V7,INSCRITS!$D$4:$W$501,7,0))","v":""},{"$f":"IF($V7=\"\",\"\",VLOOKUP($V7,INSCRITS!$D$4:$W$501,9,0))","v":""},1,null,"FINALE A",152,{"$f":"IF($AC7=\"\",\"\",VLOOKUP($AC7,INSCRITS!$D$4:$W$501,6,0))","v":"CIER"},{"$f":"IF($AC7=\"\",\"\",VLOOKUP($AC7,INSCRITS!$D$4:$W$501,7,0))","v":"Jules"},{"$f":"IF($AC7=\"\",\"\",VLOOKUP($AC7,INSCRITS!$D$4:$W$501,9,0))","v":"HSC"},null,1,{"$f":"IF(AH7=\"\",\"\",VLOOKUP(AH7,points,2))","v":20}]
[null,null,121,{"$f":"IF($C8=\"\",\"\",VLOOKUP($C8,INSCRITS!$D$4:$W$501,6,0))","v":"COSSART"},{"$f":"IF($C8=\"\",\"\",VLOOKUP($C8,INSCRITS!$D$4:$W$501,7,0))","v":"Théo"},{"$f":"IF($C8=\"\",\"\",VLOOKUP($C8,INSCRITS!$D$4:$W$501,9,0))","v":"Amiens sauvetage"},null,null,null,null,null,null,null,null,{"$f":"IF($N8=\"\",\"\",VLOOKUP($N8,INSCRITS!$D$4:$W$501,6,0))","v":""},{"$f":"IF($N8=\"\",\"\",VLOOKUP($N8,INSCRITS!$D$4:$W$501,7,0))","v":""},{"$f":"IF($N8=\"\",\"\",VLOOKUP($N8,INSCRITS!$D$4:$W$501,9,0))","v":""},null,null,null,null,null,{"$f":"IF($V8=\"\",\"\",VLOOKUP($V8,INSCRITS!$D$4:$W$501,6,0))","v":""},{"$f":"IF($V8=\"\",\"\",VLOOKUP($V8,INSCRITS!$D$4:$W$501,7,0))","v":""},{"$f":"IF($V8=\"\",\"\",VLOOKUP($V8,INSCRITS!$D$4:$W$501,9,0))","v":""},2,null,null,153,{"$f":"IF($AC8=\"\",\"\",VLOOKUP($AC8,INSCRITS!$D$4:$W$501,6,0))","v":"TISSIER"},{"$f":"IF($AC8=\"\",\"\",VLOOKUP($AC8,INSCRITS!$D$4:$W$501,7,0))","v":"Mael"},{"$f":"IF($AC8=\"\",\"\",VLOOKUP($AC8,INSCRITS!$D$4:$W$501,9,0))","v":"HSC"},null,2,18]
[null,null,126,{"$f":"IF($C9=\"\",\"\",VLOOKUP($C9,INSCRITS!$D$4:$W$501,6,0))","v":"PLESSIS"},{"$f":"IF($C9=\"\",\"\",VLOOKUP($C9,INSCRITS!$D$4:$W$501,7,0))","v":"Quentin"},{"$f":"IF($C9=\"\",\"\",VLOOKUP($C9,INSCRITS!$D$4:$W$501,9,0))","v":"AQUALOVE"},null,null,null,null,null,null,null,null,{"$f":"IF($N9=\"\",\"\",VLOOKUP($N9,INSCRITS!$D$4:$W$501,6,0))","v":""},{"$f":"IF($N9=\"\",\"\",VLOOKUP($N9,INSCRITS!$D$4:$W$501,7,0))","v":""},{"$f":"IF($N9=\"\",\"\",VLOOKUP($N9,INSCRITS!$D$4:$W$501,9,0))","v":""},null,null,null,null,null,{"$f":"IF($V9=\"\",\"\",VLOOKUP($V9,INSCRITS!$D$4:$W$501,6,0))","v":""},{"$f":"IF($V9=\"\",\"\",VLOOKUP($V9,INSCRITS!$D$4:$W$501,7,0))","v":""},{"$f":"IF($V9=\"\",\"\",VLOOKUP($V9,INSCRITS!$D$4:$W$501,9,0))","v":""},3,null,null,134,{"$f":"IF($AC9=\"\",\"\",VLOOKUP($AC9,INSCRITS!$D$4:$W$501,6,0))","v":"CAMGRAND"},{"$f":"IF($AC9=\"\",\"\",VLOOKUP($AC9,INSCRITS!$D$4:$W$501,7,0))","v":"Jérémie"},{"$f":"IF($AC9=\"\",\"\",VLOOKUP($AC9,INSCRITS!$D$4:$W$501,9,0))","v":"Biarritz SC"},null,3,16]
[null,null,156,{"$f":"IF($C10=\"\",\"\",VLOOKUP($C10,INSCRITS!$D$4:$W$501,6,0))","v":"FORSANS"},{"$f":"IF($C10=\"\",\"\",VLOOKUP($C10,INSCRITS!$D$4:$W$501,7,0))","v":"Remy"},{"$f":"IF($C10=\"\",\"\",VLOOKUP($C10,INSCRITS!$D$4:$W$501,9,0))","v":"MNSL"},null,null,null,null,null,null,null,null,{"$f":"IF($N10=\"\",\"\",VLOOKUP($N10,INSCRITS!$D$4:$W$501,6,0))","v":""},{"$f":"IF($N10=\"\",\"\",VLOOKUP($N10,INSCRITS!$D$4:$W$501,7,0))","v":""},{"$f":"IF($N10=\"\",\"\",VLOOKUP($N10,INSCRITS!$D$4:$W$501,9,0))","v":""},null,null,null,null,null,{"$f":"IF($V10=\"\",\"\",VLOOKUP($V10,INSCRITS!$D$4:$W$501,6,0))","v":""},{"$f":"IF($V10=\"\",\"\",VLOOKUP($V10,INSCRITS!$D$4:$W$501,7,0))","v":""},{"$f":"IF($V10=\"\",\"\",VLOOKUP($V10,INSCRITS!$D$4:$W$501,9,0))","v":""},4,null,null,138,{"$f":"IF($AC10=\"\",\"\",VLOOKUP($AC10,INSCRITS!$D$4:$W$501,6,0))","v":"LABAT"},{"$f":"IF($AC10=\"\",\"\",VLOOKUP($AC10,INSCRITS!$D$4:$W$501,7,0))","v":"Maxime"},{"$f":"IF($AC10=\"\",\"\",VLOOKUP($AC10,INSCRITS!$D$4:$W$501,9,0))","v":"Biarritz SC"},null,4,14]
[null,null,136,{"$f":"IF($C11=\"\",\"\",VLOOKUP($C11,INSCRITS!$D$4:$W$501,6,0))","v":"DUCOUDRET"},{"$f":"IF($C11=\"\",\"\",VLOOKUP($C11,INSCRITS!$D$4:$W$501,7,0))","v":"Arnaud"},{"$f":"IF($C11=\"\",\"\",VLOOKUP($C11,INSCRITS!$D$4:$W$501,9,0))","v":"Biarritz SC"},null,null,null,null,null,null,null,null,{"$f":"IF($N11=\"\",\"\",VLOOKUP($N11,INSCRITS!$D$4:$W$501,6,0))","v":""},{"$f":"IF($N11=\"\",\"\",VLOOKUP($N11,INSCRITS!$D$4:$W$501,7,0))","v":""},{"$f":"IF($N11=\"\",\"\",VLOOKUP($N11,INSCRITS!$D$4:$W$501,9,0))","v":""},null,null,null,null,null,{"$f":"IF($V11=\"\",\"\",VLOOKUP($V11,INSCRITS!$D$4:$W$501,6,0))","v":""},{"$f":"IF($V11=\"\",\"\",VLOOKUP($V11,INSCRITS!$D$4:$W$501,7,0))","v":""},{"$f":"IF($V11=\"\",\"\",VLOOKUP($V11,INSCRITS!$D$4:$W$501,9,0))","v":""},4,null,null,126,{"$f":"IF($AC11=\"\",\"\",VLOOKUP($AC11,INSCRITS!$D$4:$W$501,6,0))","v":"PLESSIS"},{"$f":"IF($AC11=\"\",\"\",VLOOKUP($AC11,INSCRITS!$D$4:$W$501,7,0))","v":"Quentin"},{"$f":"IF($AC11=\"\",\"\",VLOOKUP($AC11,INSCRITS!$D$4:$W$501,9,0))","v":"AQUALOVE"},null,5,13]
[null,null,134,{"$f":"IF($C12=\"\",\"\",VLOOKUP($C12,INSCRITS!$D$4:$W$501,6,0))","v":"CAMGRAND"},{"$f":"IF($C12=\"\",\"\",VLOOKUP($C12,INSCRITS!$D$4:$W$501,7,0))","v":"Jérémie"},{"$f":"IF($C12=\"\",\"\",VLOOKUP($C12,INSCRITS!$D$4:$W$501,9,0))","v":"Biarritz SC"},null,null,null,null,null,null,null,null,{"$f":"IF($N12=\"\",\"\",VLOOKUP($N12,INSCRITS!$D$4:$W$501,6,0))","v":""},{"$f":"IF($N12=\"\",\"\",VLOOKUP($N12,INSCRITS!$D$4:$W$501,7,0))","v":""},{"$f":"IF($N12=\"\",\"\",VLOOKUP($N12,INSCRITS!$D$4:$W$501,9,0))","v":""},null,null,null,null,null,{"$f":"IF($V12=\"\",\"\",VLOOKUP($V12,INSCRITS!$D$4:$W$501,6,0))","v":""},{"$f":"IF($V12=\"\",\"\",VLOOKUP($V12,INSCRITS!$D$4:$W$501,7,0))","v":""},{"$f":"IF($V12=\"\",\"\",VLOOKUP($V12,INSCRITS!$D$4:$W$501,9,0))","v":""},6,null,null,154,{"$f":"IF($AC12=\"\",\"\",VLOOKUP($AC12,INSCRITS!$D$4:$W$501,6,0))","v":"LAUSSU"},{"$f":"IF($AC12=\"\",\"\",VLOOKUP($AC12,INSCRITS!$D$4:$W$501,7,0))","v":"Quentin"},{"$f":"IF($AC12=\"\",\"\",VLOOKUP($AC12,INSCRITS!$D$4:$W$501,9,0))","v":"lit et mixe"},null,6,12]
[null,null,157,{"$f":"IF($C13=\"\",\"\",VLOOKUP($C13,INSCRITS!$D$4:$W$501,6,0))","v":"KOZARD"},{"$f":"IF($C13=\"\",\"\",VLOOKUP($C13,INSCRITS!$D$4:$W$501,7,0))","v":"Pierre-Antoine"},{"$f":"IF($C13=\"\",\"\",VLOOKUP($C13,INSCRITS!$D$4:$W$501,9,0))","v":"MNSL"},null,null,null,null,null,null,null,null,{"$f":"IF($N13=\"\",\"\",VLOOKUP($N13,INSCRITS!$D$4:$W$501,6,0))","v":""},{"$f":"IF($N13=\"\",\"\",VLOOKUP($N13,INSCRITS!$D$4:$W$501,7,0))","v":""},{"$f":"IF($N13=\"\",\"\",VLOOKUP($N13,INSCRITS!$D$4:$W$501,9,0))","v":""},null,null,null,null,null,{"$f":"IF($V13=\"\",\"\",VLOOKUP($V13,INSCRITS!$D$4:$W$501,6,0))","v":""},{"$f":"IF($V13=\"\",\"\",VLOOKUP($V13,INSCRITS!$D$4:$W$501,7,0))","v":""},{"$f":"IF($V13=\"\",\"\",VLOOKUP($V13,INSCRITS!$D$4:$W$501,9,0))","v":""},7,null,null,151,{"$f":"IF($AC13=\"\",\"\",VLOOKUP($AC13,INSCRITS!$D$4:$W$501,6,0))","v":"AMAUGER"},{"$f":"IF($AC13=\"\",\"\",VLOOKUP($AC13,INSCRITS!$D$4:$W$501,7,0))","v":"Valentin"},{"$f":"IF($AC13=\"\",\"\",VLOOKUP($AC13,INSCRITS!$D$4:$W$501,9,0))","v":"HSC"},null,7,11]
[null,null,122,{"$f":"IF($C14=\"\",\"\",VLOOKUP($C14,INSCRITS!$D$4:$W$501,6,0))","v":"LAVALLARD"},{"$f":"IF($C14=\"\",\"\",VLOOKUP($C14,INSCRITS!$D$4:$W$501,7,0))","v":"Logan"},{"$f":"IF($C14=\"\",\"\",VLOOKUP($C14,INSCRITS!$D$4:$W$501,9,0))","v":"Amiens sauvetage"},null,null,null,null,null,null,null,null,{"$f":"IF($N14=\"\",\"\",VLOOKUP($N14,INSCRITS!$D$4:$W$501,6,0))","v":""},{"$f":"IF($N14=\"\",\"\",VLOOKUP($N14,INSCRITS!$D$4:$W$501,7,0))","v":""},{"$f":"IF($N14=\"\",\"\",VLOOKUP($N14,INSCRITS!$D$4:$W$501,9,0))","v":""},null,null,null,null,null,{"$f":"IF($V14=\"\",\"\",VLOOKUP($V14,INSCRITS!$D$4:$W$501,6,0))","v":""},{"$f":"IF($V14=\"\",\"\",VLOOKUP($V14,INSCRITS!$D$4:$W$501,7,0))","v":""},{"$f":"IF($V14=\"\",\"\",VLOOKUP($V14,INSCRITS!$D$4:$W$501,9,0))","v":""},8,null,null,124,{"$f":"IF($AC14=\"\",\"\",VLOOKUP($AC14,INSCRITS!$D$4:$W$501,6,0))","v":"ALARCON"},{"$f":"IF($AC14=\"\",\"\",VLOOKUP($AC14,INSCRITS!$D$4:$W$501,7,0))","v":"Benjamin"},{"$f":"IF($AC14=\"\",\"\",VLOOKUP($AC14,INSCRITS!$D$4:$W$501,9,0))","v":"AQUALOVE"},null,8,10]
[null,null,140,{"$f":"IF($C15=\"\",\"\",VLOOKUP($C15,INSCRITS!$D$4:$W$501,6,0))","v":"YOH"},{"$f":"IF($C15=\"\",\"\",VLOOKUP($C15,INSCRITS!$D$4:$W$501,7,0))","v":"Titouan"},{"$f":"IF($C15=\"\",\"\",VLOOKUP($C15,INSCRITS!$D$4:$W$501,9,0))","v":"Biarritz SC"},null,null,null,null,null,null,null,null,{"$f":"IF($N15=\"\",\"\",VLOOKUP($N15,INSCRITS!$D$4:$W$501,6,0))","v":""},{"$f":"IF($N15=\"\",\"\",VLOOKUP($N15,INSCRITS!$D$4:$W$501,7,0))","v":""},{"$f":"IF($N15=\"\",\"\",VLOOKUP($N15,INSCRITS!$D$4:$W$501,9,0))","v":""},null,null,null,null,null,{"$f":"IF($V15=\"\",\"\",VLOOKUP($V15,INSCRITS!$D$4:$W$501,6,0))","v":""},{"$f":"IF($V15=\"\",\"\",VLOOKUP($V15,INSCRITS!$D$4:$W$501,7,0))","v":""},{"$f":"IF($V15=\"\",\"\",VLOOKUP($V15,INSCRITS!$D$4:$W$501,9,0))","v":""},9,null,null,141,{"$f":"IF($AC15=\"\",\"\",VLOOKUP($AC15,INSCRITS!$D$4:$W$501,6,0))","v":"LAUBUGE"},{"$f":"IF($AC15=\"\",\"\",VLOOKUP($AC15,INSCRITS!$D$4:$W$501,7,0))","v":"Nathanael"},{"$f":"IF($AC15=\"\",\"\",VLOOKUP($AC15,INSCRITS!$D$4:$W$501,9,0))","v":"BOSS"},null,9,8]
[null,null,144,{"$f":"IF($C16=\"\",\"\",VLOOKUP($C16,INSCRITS!$D$4:$W$501,6,0))","v":"LICARI"},{"$f":"IF($C16=\"\",\"\",VLOOKUP($C16,INSCRITS!$D$4:$W$501,7,0))","v":"Arnaud"},{"$f":"IF($C16=\"\",\"\",VLOOKUP($C16,INSCRITS!$D$4:$W$501,9,0))","v":"Cannes Sauvetage Côtier"},null,null,null,null,null,null,null,null,{"$f":"IF($N16=\"\",\"\",VLOOKUP($N16,INSCRITS!$D$4:$W$501,6,0))","v":""},{"$f":"IF($N16=\"\",\"\",VLOOKUP($N16,INSCRITS!$D$4:$W$501,7,0))","v":""},{"$f":"IF($N16=\"\",\"\",VLOOKUP($N16,INSCRITS!$D$4:$W$501,9,0))","v":""},null,null,null,null,null,{"$f":"IF($V16=\"\",\"\",VLOOKUP($V16,INSCRITS!$D$4:$W$501,6,0))","v":""},{"$f":"IF($V16=\"\",\"\",VLOOKUP($V16,INSCRITS!$D$4:$W$501,7,0))","v":""},{"$f":"IF($V16=\"\",\"\",VLOOKUP($V16,INSCRITS!$D$4:$W$501,9,0))","v":""},10,null,null,140,{"$f":"IF($AC16=\"\",\"\",VLOOKUP($AC16,INSCRITS!$D$4:$W$501,6,0))","v":"YOH"},{"$f":"IF($AC16=\"\",\"\",VLOOKUP($AC16,INSCRITS!$D$4:$W$501,7,0))","v":"Titouan"},{"$f":"IF($AC16=\"\",\"\",VLOOKUP($AC16,INSCRITS!$D$4:$W$501,9,0))","v":"Biarritz SC"},null,10,7]
[null,null,158,{"$f":"IF($C17=\"\",\"\",VLOOKUP($C17,INSCRITS!$D$4:$W$501,6,0))","v":"PINTORI"},{"$f":"IF($C17=\"\",\"\",VLOOKUP($C17,INSCRITS!$D$4:$W$501,7,0))","v":"Luc"},{"$f":"IF($C17=\"\",\"\",VLOOKUP($C17,INSCRITS!$D$4:$W$501,9,0))","v":"MNSL"},null,null,null,null,null,null,null,null,{"$f":"IF($N17=\"\",\"\",VLOOKUP($N17,INSCRITS!$D$4:$W$501,6,0))","v":""},{"$f":"IF($N17=\"\",\"\",VLOOKUP($N17,INSCRITS!$D$4:$W$501,7,0))","v":""},{"$f":"IF($N17=\"\",\"\",VLOOKUP($N17,INSCRITS!$D$4:$W$501,9,0))","v":""},null,null,null,null,null,{"$f":"IF($V17=\"\",\"\",VLOOKUP($V17,INSCRITS!$D$4:$W$501,6,0))","v":""},{"$f":"IF($V17=\"\",\"\",VLOOKUP($V17,INSCRITS!$D$4:$W$501,7,0))","v":""},{"$f":"IF($V17=\"\",\"\",VLOOKUP($V17,INSCRITS!$D$4:$W$501,9,0))","v":""},11,null,null,136,{"$f":"IF($AC17=\"\",\"\",VLOOKUP($AC17,INSCRITS!$D$4:$W$501,6,0))","v":"DUCOUDRET"},{"$f":"IF($AC17=\"\",\"\",VLOOKUP($AC17,INSCRITS!$D$4:$W$501,7,0))","v":"Arnaud"},{"$f":"IF($AC17=\"\",\"\",VLOOKUP($AC17,INSCRITS!$D$4:$W$501,9,0))","v":"Biarritz SC"},null,11,6]
[null,null,124,{"$f":"IF($C18=\"\",\"\",VLOOKUP($C18,INSCRITS!$D$4:$W$501,6,0))","v":"ALARCON"},{"$f":"IF($C18=\"\",\"\",VLOOKUP($C18,INSCRITS!$D$4:$W$501,7,0))","v":"Benjamin"},{"$f":"IF($C18=\"\",\"\",VLOOKUP($C18,INSCRITS!$D$4:$W$501,9,0))","v":"AQUALOVE"},null,null,null,null,null,null,null,null,{"$f":"IF($N18=\"\",\"\",VLOOKUP($N18,INSCRITS!$D$4:$W$501,6,0))","v":""},{"$f":"IF($N18=\"\",\"\",VLOOKUP($N18,INSCRITS!$D$4:$W$501,7,0))","v":""},{"$f":"IF($N18=\"\",\"\",VLOOKUP($N18,INSCRITS!$D$4:$W$501,9,0))","v":""},null,null,null,null,null,{"$f":"IF($V18=\"\",\"\",VLOOKUP($V18,INSCRITS!$D$4:$W$501,6,0))","v":""},{"$f":"IF($V18=\"\",\"\",VLOOKUP($V18,INSCRITS!$D$4:$W$501,7,0))","v":""},{"$f":"IF($V18=\"\",\"\",VLOOKUP($V18,INSCRITS!$D$4:$W$501,9,0))","v":""},12,null,null,123,{"$f":"IF($AC18=\"\",\"\",VLOOKUP($AC18,INSCRITS!$D$4:$W$501,6,0))","v":"VANDENBERGHE"},{"$f":"IF($AC18=\"\",\"\",VLOOKUP($AC18,INSCRITS!$D$4:$W$501,7,0))","v":"Sébastien"},{"$f":"IF($AC18=\"\",\"\",VLOOKUP($AC18,INSCRITS!$D$4:$W$501,9,0))","v":"ANV"},null,12,5]
[null,null,152,{"$f":"IF($C19=\"\",\"\",VLOOKUP($C19,INSCRITS!$D$4:$W$501,6,0))","v":"CIER"},{"$f":"IF($C19=\"\",\"\",VLOOKUP($C19,INSCRITS!$D$4:$W$501,7,0))","v":"Jules"},{"$f":"IF($C19=\"\",\"\",VLOOKUP($C19,INSCRITS!$D$4:$W$501,9,0))","v":"HSC"},null,null,null,null,null,null,null,null,{"$f":"IF($N19=\"\",\"\",VLOOKUP($N19,INSCRITS!$D$4:$W$501,6,0))","v":""},{"$f":"IF($N19=\"\",\"\",VLOOKUP($N19,INSCRITS!$D$4:$W$501,7,0))","v":""},{"$f":"IF($N19=\"\",\"\",VLOOKUP($N19,INSCRITS!$D$4:$W$501,9,0))","v":""},null,null,null,null,null,{"$f":"IF($V19=\"\",\"\",VLOOKUP($V19,INSCRITS!$D$4:$W$501,6,0))","v":""},{"$f":"IF($V19=\"\",\"\",VLOOKUP($V19,INSCRITS!$D$4:$W$501,7,0))","v":""},{"$f":"IF($V19=\"\",\"\",VLOOKUP($V19,INSCRITS!$D$4:$W$501,9,0))","v":""},13,null,null,139,{"$f":"IF($AC19=\"\",\"\",VLOOKUP($AC19,INSCRITS!$D$4:$W$501,6,0))","v":"PUYAU"},{"$f":"IF($AC19=\"\",\"\",VLOOKUP($AC19,INSCRITS!$D$4:$W$501,7,0))","v":"Pierre"},{"$f":"IF($AC19=\"\",\"\",VLOOKUP($AC19,INSCRITS!$D$4:$W$501,9,0))","v":"Biarritz SC"},null,13,4]
[null,"SERIE 2",139,{"$f":"IF($C20=\"\",\"\",VLOOKUP($C20,INSCRITS!$D$4:$W$501,6,0))","v":"PUYAU"},{"$f":"IF($C20=\"\",\"\",VLOOKUP($C20,INSCRITS!$D$4:$W$501,7,0))","v":"Pierre"},{"$f":"IF($C20=\"\",\"\",VLOOKUP($C20,INSCRITS!$D$4:$W$501,9,0))","v":"Biarritz SC"},null,null,null,null,null,null,null,null,{"$f":"IF($N20=\"\",\"\",VLOOKUP($N20,INSCRITS!$D$4:$W$501,6,0))","v":""},{"$f":"IF($N20=\"\",\"\",VLOOKUP($N20,INSCRITS!$D$4:$W$501,7,0))","v":""},{"$f":"IF($N20=\"\",\"\",VLOOKUP($N20,INSCRITS!$D$4:$W$501,9,0))","v":""},null,null,null,null,null,{"$f":"IF($V20=\"\",\"\",VLOOKUP($V20,INSCRITS!$D$4:$W$501,6,0))","v":""},{"$f":"IF($V20=\"\",\"\",VLOOKUP($V20,INSCRITS!$D$4:$W$501,7,0))","v":""},{"$f":"IF($V20=\"\",\"\",VLOOKUP($V20,INSCRITS!$D$4:$W$501,9,0))","v":""},14,null,null,128,{"$f":"IF($AC20=\"\",\"\",VLOOKUP($AC20,INSCRITS!$D$4:$W$501,6,0))","v":"CORBEL"},{"$f":"IF($AC20=\"\",\"\",VLOOKUP($AC20,INSCRITS!$D$4:$W$501,7,0))","v":"Yann"},{"$f":"IF($AC20=\"\",\"\",VLOOKUP($AC20,INSCRITS!$D$4:$W$501,9,0))","v":"ASCE DINARD"},null,14,3]
[null,null,137,{"$f":"IF($C21=\"\",\"\",VLOOKUP($C21,INSCRITS!$D$4:$W$501,6,0))","v":"GAUDIN"},{"$f":"IF($C21=\"\",\"\",VLOOKUP($C21,INSCRITS!$D$4:$W$501,7,0))","v":"Arnaud"},{"$f":"IF($C21=\"\",\"\",VLOOKUP($C21,INSCRITS!$D$4:$W$501,9,0))","v":"Biarritz SC"},null,null,null,null,null,null,null,null,{"$f":"IF($N21=\"\",\"\",VLOOKUP($N21,INSCRITS!$D$4:$W$501,6,0))","v":""},{"$f":"IF($N21=\"\",\"\",VLOOKUP($N21,INSCRITS!$D$4:$W$501,7,0))","v":""},{"$f":"IF($N21=\"\",\"\",VLOOKUP($N21,INSCRITS!$D$4:$W$501,9,0))","v":""},null,null,null,null,null,{"$f":"IF($V21=\"\",\"\",VLOOKUP($V21,INSCRITS!$D$4:$W$501,6,0))","v":""},{"$f":"IF($V21=\"\",\"\",VLOOKUP($V21,INSCRITS!$D$4:$W$501,7,0))","v":""},{"$f":"IF($V21=\"\",\"\",VLOOKUP($V21,INSCRITS!$D$4:$W$501,9,0))","v":""},15,null,null,150,{"$f":"IF($AC21=\"\",\"\",VLOOKUP($AC21,INSCRITS!$D$4:$W$501,6,0))","v":"MATHIEU"},{"$f":"IF($AC21=\"\",\"\",VLOOKUP($AC21,INSCRITS!$D$4:$W$501,7,0))","v":"Simon"},{"$f":"IF($AC21=\"\",\"\",VLOOKUP($AC21,INSCRITS!$D$4:$W$501,9,0))","v":"ENA"},null,15,2]
[null,null,149,{"$f":"IF($C22=\"\",\"\",VLOOKUP($C22,INSCRITS!$D$4:$W$501,6,0))","v":"CABROL"},{"$f":"IF($C22=\"\",\"\",VLOOKUP($C22,INSCRITS!$D$4:$W$501,7,0))","v":"Xavier"},{"$f":"IF($C22=\"\",\"\",VLOOKUP($C22,INSCRITS!$D$4:$W$501,9,0))","v":"ENA"},null,null,null,null,null,null,null,null,{"$f":"IF($N22=\"\",\"\",VLOOKUP($N22,INSCRITS!$D$4:$W$501,6,0))","v":""},{"$f":"IF($N22=\"\",\"\",VLOOKUP($N22,INSCRITS!$D$4:$W$501,7,0))","v":""},{"$f":"IF($N22=\"\",\"\",VLOOKUP($N22,INSCRITS!$D$4:$W$501,9,0))","v":""},null,null,null,null,null,{"$f":"IF($V22=\"\",\"\",VLOOKUP($V22,INSCRITS!$D$4:$W$501,6,0))","v":""},{"$f":"IF($V22=\"\",\"\",VLOOKUP($V22,INSCRITS!$D$4:$W$501,7,0))","v":""},{"$f":"IF($V22=\"\",\"\",VLOOKUP($V22,INSCRITS!$D$4:$W$501,9,0))","v":""},16,null,null,143,{"$f":"IF($AC22=\"\",\"\",VLOOKUP($AC22,INSCRITS!$D$4:$W$501,6,0))","v":"LICARI"},{"$f":"IF($AC22=\"\",\"\",VLOOKUP($AC22,INSCRITS!$D$4:$W$501,7,0))","v":"Antoine"},{"$f":"IF($AC22=\"\",\"\",VLOOKUP($AC22,INSCRITS!$D$4:$W$501,9,0))","v":"Cannes Sauvetage Côtier"},null,16,1]
[null,null,132,{"$f":"IF($C23=\"\",\"\",VLOOKUP($C23,INSCRITS!$D$4:$W$501,6,0))","v":"ARTOLA"},{"$f":"IF($C23=\"\",\"\",VLOOKUP($C23,INSCRITS!$D$4:$W$501,7,0))","v":"Bixente"},{"$f":"IF($C23=\"\",\"\",VLOOKUP($C23,INSCRITS!$D$4:$W$501,9,0))","v":"BELHARRA WC"},null,null,null,null,null,null,"SERIE 2",null,{"$f":"IF($N23=\"\",\"\",VLOOKUP($N23,INSCRITS!$D$4:$W$501,6,0))","v":""},{"$f":"IF($N23=\"\",\"\",VLOOKUP($N23,INSCRITS!$D$4:$W$501,7,0))","v":""},{"$f":"IF($N23=\"\",\"\",VLOOKUP($N23,INSCRITS!$D$4:$W$501,9,0))","v":""},null,null,null,null,null,{"$f":"IF($V23=\"\",\"\",VLOOKUP($V23,INSCRITS!$D$4:$W$501,6,0))","v":""},{"$f":"IF($V23=\"\",\"\",VLOOKUP($V23,INSCRITS!$D$4:$W$501,7,0))","v":""},{"$f":"IF($V23=\"\",\"\",VLOOKUP($V23,INSCRITS!$D$4:$W$501,9,0))","v":""},17,null,null,144,{"$f":"IF($AC23=\"\",\"\",VLOOKUP($AC23,INSCRITS!$D$4:$W$501,6,0))","v":"LICARI"},{"$f":"IF($AC23=\"\",\"\",VLOOKUP($AC23,INSCRITS!$D$4:$W$501,7,0))","v":"Arnaud"},{"$f":"IF($AC23=\"\",\"\",VLOOKUP($AC23,INSCRITS!$D$4:$W$501,9,0))","v":"Cannes Sauvetage Côtier"},null,17,{"$f":"IF(AH23=\"\",\"\",VLOOKUP(AH23,points,2))","v":0}]
[null,null,135,{"$f":"IF($C24=\"\",\"\",VLOOKUP($C24,INSCRITS!$D$4:$W$501,6,0))","v":"DE SAINT BLANQUAT"},{"$f":"IF($C24=\"\",\"\",VLOOKUP($C24,INSCRITS!$D$4:$W$501,7,0))","v":"Thomas"},{"$f":"IF($C24=\"\",\"\",VLOOKUP($C24,INSCRITS!$D$4:$W$501,9,0))","v":"Biarritz SC"},null,null,null,null,null,null,null,null,{"$f":"IF($N24=\"\",\"\",VLOOKUP($N24,INSCRITS!$D$4:$W$501,6,0))","v":""},{"$f":"IF($N24=\"\",\"\",VLOOKUP($N24,INSCRITS!$D$4:$W$501,7,0))","v":""},{"$f":"IF($N24=\"\",\"\",VLOOKUP($N24,INSCRITS!$D$4:$W$501,9,0))","v":""},null,null,null,null,null,{"$f":"IF($V24=\"\",\"\",VLOOKUP($V24,INSCRITS!$D$4:$W$501,6,0))","v":""},{"$f":"IF($V24=\"\",\"\",VLOOKUP($V24,INSCRITS!$D$4:$W$501,7,0))","v":""},{"$f":"IF($V24=\"\",\"\",VLOOKUP($V24,INSCRITS!$D$4:$W$501,9,0))","v":""},18,null,null,135,{"$f":"IF($AC24=\"\",\"\",VLOOKUP($AC24,INSCRITS!$D$4:$W$501,6,0))","v":"DE SAINT BLANQUAT"},{"$f":"IF($AC24=\"\",\"\",VLOOKUP($AC24,INSCRITS!$D$4:$W$501,7,0))","v":"Thomas"},{"$f":"IF($AC24=\"\",\"\",VLOOKUP($AC24,INSCRITS!$D$4:$W$501,9,0))","v":"Biarritz SC"},null,18,0]
[null,null,153,{"$f":"IF($C25=\"\",\"\",VLOOKUP($C25,INSCRITS!$D$4:$W$501,6,0))","v":"TISSIER"},{"$f":"IF($C25=\"\",\"\",VLOOKUP($C25,INSCRITS!$D$4:$W$501,7,0))","v":"Mael"},{"$f":"IF($C25=\"\",\"\",VLOOKUP($C25,INSCRITS!$D$4:$W$501,9,0))","v":"HSC"},null,null,null,null,null,null,null,null,{"$f":"IF($N25=\"\",\"\",VLOOKUP($N25,INSCRITS!$D$4:$W$501,6,0))","v":""},{"$f":"IF($N25=\"\",\"\",VLOOKUP($N25,INSCRITS!$D$4:$W$501,7,0))","v":""},{"$f":"IF($N25=\"\",\"\",VLOOKUP($N25,INSCRITS!$D$4:$W$501,9,0))","v":""},null,null,null,"SERIE 2",null,{"$f":"IF($V25=\"\",\"\",VLOOKUP($V25,INSCRITS!$D$4:$W$501,6,0))","v":""},{"$f":"IF($V25=\"\",\"\",VLOOKUP($V25,INSCRITS!$D$4:$W$501,7,0))","v":""},{"$f":"IF($V25=\"\",\"\",VLOOKUP($V25,INSCRITS!$D$4:$W$501,9,0))","v":""},1,null,null,148,{"$f":"IF($AC25=\"\",\"\",VLOOKUP($AC25,INSCRITS!$D$4:$W$501,6,0))","v":"CAZAUX"},{"$f":"IF($AC25=\"\",\"\",VLOOKUP($AC25,INSCRITS!$D$4:$W$501,7,0))","v":"Loïc"},{"$f":"IF($AC25=\"\",\"\",VLOOKUP($AC25,INSCRITS!$D$4:$W$501,9,0))","v":"CSSM"},null,19,0]
[null,null,150,{"$f":"IF($C26=\"\",\"\",VLOOKUP($C26,INSCRITS!$D$4:$W$501,6,0))","v":"MATHIEU"},{"$f":"IF($C26=\"\",\"\",VLOOKUP($C26,INSCRITS!$D$4:$W$501,7,0))","v":"Simon"},{"$f":"IF($C26=\"\",\"\",VLOOKUP($C26,INSCRITS!$D$4:$W$501,9,0))","v":"ENA"},null,null,null,null,null,null,null,null,{"$f":"IF($N26=\"\",\"\",VLOOKUP($N26,INSCRITS!$D$4:$W$501,6,0))","v":""},{"$f":"IF($N26=\"\",\"\",VLOOKUP($N26,INSCRITS!$D$4:$W$501,7,0))","v":""},{"$f":"IF($N26=\"\",\"\",VLOOKUP($N26,INSCRITS!$D$4:$W$501,9,0))","v":""},null,null,null,null,null,{"$f":"IF($V26=\"\",\"\",VLOOKUP($V26,INSCRITS!$D$4:$W$501,6,0))","v":""},{"$f":"IF($V26=\"\",\"\",VLOOKUP($V26,INSCRITS!$D$4:$W$501,7,0))","v":""},{"$f":"IF($V26=\"\",\"\",VLOOKUP($V26,INSCRITS!$D$4:$W$501,9,0))","v":""},2,null,null,147,{"$f":"IF($AC26=\"\",\"\",VLOOKUP($AC26,INSCRITS!$D$4:$W$501,6,0))","v":"WAGNER"},{"$f":"IF($AC26=\"\",\"\",VLOOKUP($AC26,INSCRITS!$D$4:$W$501,7,0))","v":"Florian"},{"$f":"IF($AC26=\"\",\"\",VLOOKUP($AC26,INSCRITS!$D$4:$W$501,9,0))","v":"COLMAR ACSS"},null,20,0]
[null,null,141,{"$f":"IF($C27=\"\",\"\",VLOOKUP($C27,INSCRITS!$D$4:$W$501,6,0))","v":"LAUBUGE"},{"$f":"IF($C27=\"\",\"\",VLOOKUP($C27,INSCRITS!$D$4:$W$501,7,0))","v":"Nathanael"},{"$f":"IF($C27=\"\",\"\",VLOOKUP($C27,INSCRITS!$D$4:$W$501,9,0))","v":"BOSS"},null,null,null,null,null,null,null,null,{"$f":"IF($N27=\"\",\"\",VLOOKUP($N27,INSCRITS!$D$4:$W$501,6,0))","v":""},{"$f":"IF($N27=\"\",\"\",VLOOKUP($N27,INSCRITS!$D$4:$W$501,7,0))","v":""},{"$f":"IF($N27=\"\",\"\",VLOOKUP($N27,INSCRITS!$D$4:$W$501,9,0))","v":""},null,null,null,null,null,{"$f":"IF($V27=\"\",\"\",VLOOKUP($V27,INSCRITS!$D$4:$W$501,6,0))","v":""},{"$f":"IF($V27=\"\",\"\",VLOOKUP($V27,INSCRITS!$D$4:$W$501,7,0))","v":""},{"$f":"IF($V27=\"\",\"\",VLOOKUP($V27,INSCRITS!$D$4:$W$501,9,0))","v":""},3,null,"FINALE B",null,{"$f":"IF($AC27=\"\",\"\",VLOOKUP($AC27,INSCRITS!$D$4:$W$501,6,0))","v":""},{"$f":"IF($AC27=\"\",\"\",VLOOKUP($AC27,INSCRITS!$D$4:$W$501,7,0))","v":""},{"$f":"IF($AC27=\"\",\"\",VLOOKUP($AC27,INSCRITS!$D$4:$W$501,9,0))","v":""},null,1]
[null,null,155,{"$f":"IF($C28=\"\",\"\",VLOOKUP($C28,INSCRITS!$D$4:$W$501,6,0))","v":"BRIGOT"},{"$f":"IF($C28=\"\",\"\",VLOOKUP($C28,INSCRITS!$D$4:$W$501,7,0))","v":"Dorian"},{"$f":"IF($C28=\"\",\"\",VLOOKUP($C28,INSCRITS!$D$4:$W$501,9,0))","v":"MIMIZAN SAUVETAGE"},null,null,null,null,null,null,null,null,{"$f":"IF($N28=\"\",\"\",VLOOKUP($N28,INSCRITS!$D$4:$W$501,6,0))","v":""},{"$f":"IF($N28=\"\",\"\",VLOOKUP($N28,INSCRITS!$D$4:$W$501,7,0))","v":""},{"$f":"IF($N28=\"\",\"\",VLOOKUP($N28,INSCRITS!$D$4:$W$501,9,0))","v":""},null,null,null,null,null,{"$f":"IF($V28=\"\",\"\",VLOOKUP($V28,INSCRITS!$D$4:$W$501,6,0))","v":""},{"$f":"IF($V28=\"\",\"\",VLOOKUP($V28,INSCRITS!$D$4:$W$501,7,0))","v":""},{"$f":"IF($V28=\"\",\"\",VLOOKUP($V28,INSCRITS!$D$4:$W$501,9,0))","v":""},4,null,null,null,{"$f":"IF($AC28=\"\",\"\",VLOOKUP($AC28,INSCRITS!$D$4:$W$501,6,0))","v":""},{"$f":"IF($AC28=\"\",\"\",VLOOKUP($AC28,INSCRITS!$D$4:$W$501,7,0))","v":""},{"$f":"IF($AC28=\"\",\"\",VLOOKUP($AC28,INSCRITS!$D$4:$W$501,9,0))","v":""},null,2]
[null,null,125,{"$f":"IF($C29=\"\",\"\",VLOOKUP($C29,INSCRITS!$D$4:$W$501,6,0))","v":"EL KHATIR"},{"$f":"IF($C29=\"\",\"\",VLOOKUP($C29,INSCRITS!$D$4:$W$501,7,0))","v":"Younes"},{"$f":"IF($C29=\"\",\"\",VLOOKUP($C29,INSCRITS!$D$4:$W$501,9,0))","v":"AQUALOVE"},null,null,null,null,null,null,null,null,{"$f":"IF($N29=\"\",\"\",VLOOKUP($N29,INSCRITS!$D$4:$W$501,6,0))","v":""},{"$f":"IF($N29=\"\",\"\",VLOOKUP($N29,INSCRITS!$D$4:$W$501,7,0))","v":""},{"$f":"IF($N29=\"\",\"\",VLOOKUP($N29,INSCRITS!$D$4:$W$501,9,0))","v":""},null,null,null,null,null,{"$f":"IF($V29=\"\",\"\",VLOOKUP($V29,INSCRITS!$D$4:$W$501,6,0))","v":""},{"$f":"IF($V29=\"\",\"\",VLOOKUP($V29,INSCRITS!$D$4:$W$501,7,0))","v":""},{"$f":"IF($V29=\"\",\"\",VLOOKUP($V29,INSCRITS!$D$4:$W$501,9,0))","v":""},5,null,null,null,{"$f":"IF($AC29=\"\",\"\",VLOOKUP($AC29,INSCRITS!$D$4:$W$501,6,0))","v":""},{"$f":"IF($AC29=\"\",\"\",VLOOKUP($AC29,INSCRITS!$D$4:$W$501,7,0))","v":""},{"$f":"IF($AC29=\"\",\"\",VLOOKUP($AC29,INSCRITS!$D$4:$W$501,9,0))","v":""},null,3]
[null,null,154,{"$f":"IF($C30=\"\",\"\",VLOOKUP($C30,INSCRITS!$D$4:$W$501,6,0))","v":"LAUSSU"},{"$f":"IF($C30=\"\",\"\",VLOOKUP($C30,INSCRITS!$D$4:$W$501,7,0))","v":"Quentin"},{"$f":"IF($C30=\"\",\"\",VLOOKUP($C30,INSCRITS!$D$4:$W$501,9,0))","v":"lit et mixe"},null,null,null,null,null,null,null,null,{"$f":"IF($N30=\"\",\"\",VLOOKUP($N30,INSCRITS!$D$4:$W$501,6,0))","v":""},{"$f":"IF($N30=\"\",\"\",VLOOKUP($N30,INSCRITS!$D$4:$W$501,7,0))","v":""},{"$f":"IF($N30=\"\",\"\",VLOOKUP($N30,INSCRITS!$D$4:$W$501,9,0))","v":""},null,null,null,null,null,{"$f":"IF($V30=\"\",\"\",VLOOKUP($V30,INSCRITS!$D$4:$W$501,6,0))","v":""},{"$f":"IF($V30=\"\",\"\",VLOOKUP($V30,INSCRITS!$D$4:$W$501,7,0))","v":""},{"$f":"IF($V30=\"\",\"\",VLOOKUP($V30,INSCRITS!$D$4:$W$501,9,0))","v":""},6,null,null,null,{"$f":"IF($AC30=\"\",\"\",VLOOKUP($AC30,INSCRITS!$D$4:$W$501,6,0))","v":""},{"$f":"IF($AC30=\"\",\"\",VLOOKUP($AC30,INSCRITS!$D$4:$W$501,7,0))","v":""},{"$f":"IF($AC30=\"\",\"\",VLOOKUP($AC30,INSCRITS!$D$4:$W$501,9,0))","v":""},null,4]
[null,null,146,{"$f":"IF($C31=\"\",\"\",VLOOKUP($C31,INSCRITS!$D$4:$W$501,6,0))","v":"DEMBLOCQUE"},{"$f":"IF($C31=\"\",\"\",VLOOKUP($C31,INSCRITS!$D$4:$W$501,7,0))","v":"Théo"},{"$f":"IF($C31=\"\",\"\",VLOOKUP($C31,INSCRITS!$D$4:$W$501,9,0))","v":"Capbreton"},null,null,null,null,null,null,null,null,{"$f":"IF($N31=\"\",\"\",VLOOKUP($N31,INSCRITS!$D$4:$W$501,6,0))","v":""},{"$f":"IF($N31=\"\",\"\",VLOOKUP($N31,INSCRITS!$D$4:$W$501,7,0))","v":""},{"$f":"IF($N31=\"\",\"\",VLOOKUP($N31,INSCRITS!$D$4:$W$501,9,0))","v":""},null,null,null,null,null,{"$f":"IF($V31=\"\",\"\",VLOOKUP($V31,INSCRITS!$D$4:$W$501,6,0))","v":""},{"$f":"IF($V31=\"\",\"\",VLOOKUP($V31,INSCRITS!$D$4:$W$501,7,0))","v":""},{"$f":"IF($V31=\"\",\"\",VLOOKUP($V31,INSCRITS!$D$4:$W$501,9,0))","v":""},7,null,null,null,{"$f":"IF($AC31=\"\",\"\",VLOOKUP($AC31,INSCRITS!$D$4:$W$501,6,0))","v":""},{"$f":"IF($AC31=\"\",\"\",VLOOKUP($AC31,INSCRITS!$D$4:$W$501,7,0))","v":""},{"$f":"IF($AC31=\"\",\"\",VLOOKUP($AC31,INSCRITS!$D$4:$W$501,9,0))","v":""},null,5]
[null,null,127,{"$f":"IF($C32=\"\",\"\",VLOOKUP($C32,INSCRITS!$D$4:$W$501,6,0))","v":"CADOT"},{"$f":"IF($C32=\"\",\"\",VLOOKUP($C32,INSCRITS!$D$4:$W$501,7,0))","v":"François"},{"$f":"IF($C32=\"\",\"\",VLOOKUP($C32,INSCRITS!$D$4:$W$501,9,0))","v":"ASCE DINARD"},null,null,null,null,null,null,null,null,{"$f":"IF($N32=\"\",\"\",VLOOKUP($N32,INSCRITS!$D$4:$W$501,6,0))","v":""},{"$f":"IF($N32=\"\",\"\",VLOOKUP($N32,INSCRITS!$D$4:$W$501,7,0))","v":""},{"$f":"IF($N32=\"\",\"\",VLOOKUP($N32,INSCRITS!$D$4:$W$501,9,0))","v":""},null,null,null,null,null,{"$f":"IF($V32=\"\",\"\",VLOOKUP($V32,INSCRITS!$D$4:$W$501,6,0))","v":""},{"$f":"IF($V32=\"\",\"\",VLOOKUP($V32,INSCRITS!$D$4:$W$501,7,0))","v":""},{"$f":"IF($V32=\"\",\"\",VLOOKUP($V32,INSCRITS!$D$4:$W$501,9,0))","v":""},8,null,null,null,{"$f":"IF($AC32=\"\",\"\",VLOOKUP($AC32,INSCRITS!$D$4:$W$501,6,0))","v":""},{"$f":"IF($AC32=\"\",\"\",VLOOKUP($AC32,INSCRITS!$D$4:$W$501,7,0))","v":""},{"$f":"IF($AC32=\"\",\"\",VLOOKUP($AC32,INSCRITS!$D$4:$W$501,9,0))","v":""},null,6]
[null,"SERIE 3",129,{"$f":"IF($C33=\"\",\"\",VLOOKUP($C33,INSCRITS!$D$4:$W$501,6,0))","v":"LEBRET"},{"$f":"IF($C33=\"\",\"\",VLOOKUP($C33,INSCRITS!$D$4:$W$501,7,0))","v":"Samuel"},{"$f":"IF($C33=\"\",\"\",VLOOKUP($C33,INSCRITS!$D$4:$W$501,9,0))","v":"ASCE DINARD "},null,null,null,null,null,null,null,null,{"$f":"IF($N33=\"\",\"\",VLOOKUP($N33,INSCRITS!$D$4:$W$501,6,0))","v":""},{"$f":"IF($N33=\"\",\"\",VLOOKUP($N33,INSCRITS!$D$4:$W$501,7,0))","v":""},{"$f":"IF($N33=\"\",\"\",VLOOKUP($N33,INSCRITS!$D$4:$W$501,9,0))","v":""},null,null,null,null,null,{"$f":"IF($V33=\"\",\"\",VLOOKUP($V33,INSCRITS!$D$4:$W$501,6,0))","v":""},{"$f":"IF($V33=\"\",\"\",VLOOKUP($V33,INSCRITS!$D$4:$W$501,7,0))","v":""},{"$f":"IF($V33=\"\",\"\",VLOOKUP($V33,INSCRITS!$D$4:$W$501,9,0))","v":""},9,null,null,null,{"$f":"IF($AC33=\"\",\"\",VLOOKUP($AC33,INSCRITS!$D$4:$W$501,6,0))","v":""},{"$f":"IF($AC33=\"\",\"\",VLOOKUP($AC33,INSCRITS!$D$4:$W$501,7,0))","v":""},{"$f":"IF($AC33=\"\",\"\",VLOOKUP($AC33,INSCRITS!$D$4:$W$501,9,0))","v":""},null,7]
[null,null,145,{"$f":"IF($C34=\"\",\"\",VLOOKUP($C34,INSCRITS!$D$4:$W$501,6,0))","v":"VECCHINI"},{"$f":"IF($C34=\"\",\"\",VLOOKUP($C34,INSCRITS!$D$4:$W$501,7,0))","v":"Thierry"},{"$f":"IF($C34=\"\",\"\",VLOOKUP($C34,INSCRITS!$D$4:$W$501,9,0))","v":"Cannes Sauvetage Côtier"},null,null,null,null,null,null,null,null,{"$f":"IF($N34=\"\",\"\",VLOOKUP($N34,INSCRITS!$D$4:$W$501,6,0))","v":""},{"$f":"IF($N34=\"\",\"\",VLOOKUP($N34,INSCRITS!$D$4:$W$501,7,0))","v":""},{"$f":"IF($N34=\"\",\"\",VLOOKUP($N34,INSCRITS!$D$4:$W$501,9,0))","v":""},null,null,null,null,null,{"$f":"IF($V34=\"\",\"\",VLOOKUP($V34,INSCRITS!$D$4:$W$501,6,0))","v":""},{"$f":"IF($V34=\"\",\"\",VLOOKUP($V34,INSCRITS!$D$4:$W$501,7,0))","v":""},{"$f":"IF($V34=\"\",\"\",VLOOKUP($V34,INSCRITS!$D$4:$W$501,9,0))","v":""},10,null,null,null,{"$f":"IF($AC34=\"\",\"\",VLOOKUP($AC34,INSCRITS!$D$4:$W$501,6,0))","v":""},{"$f":"IF($AC34=\"\",\"\",VLOOKUP($AC34,INSCRITS!$D$4:$W$501,7,0))","v":""},{"$f":"IF($AC34=\"\",\"\",VLOOKUP($AC34,INSCRITS!$D$4:$W$501,9,0))","v":""},null,8]
[null,null,138,{"$f":"IF($C35=\"\",\"\",VLOOKUP($C35,INSCRITS!$D$4:$W$501,6,0))","v":"LABAT"},{"$f":"IF($C35=\"\",\"\",VLOOKUP($C35,INSCRITS!$D$4:$W$501,7,0))","v":"Maxime"},{"$f":"IF($C35=\"\",\"\",VLOOKUP($C35,INSCRITS!$D$4:$W$501,9,0))","v":"Biarritz SC"},null,null,null,null,null,null,null,null,{"$f":"IF($N35=\"\",\"\",VLOOKUP($N35,INSCRITS!$D$4:$W$501,6,0))","v":""},{"$f":"IF($N35=\"\",\"\",VLOOKUP($N35,INSCRITS!$D$4:$W$501,7,0))","v":""},{"$f":"IF($N35=\"\",\"\",VLOOKUP($N35,INSCRITS!$D$4:$W$501,9,0))","v":""},null,null,null,null,null,{"$f":"IF($V35=\"\",\"\",VLOOKUP($V35,INSCRITS!$D$4:$W$501,6,0))","v":""},{"$f":"IF($V35=\"\",\"\",VLOOKUP($V35,INSCRITS!$D$4:$W$501,7,0))","v":""},{"$f":"IF($V35=\"\",\"\",VLOOKUP($V35,INSCRITS!$D$4:$W$501,9,0))","v":""},11,null,null,null,{"$f":"IF($AC35=\"\",\"\",VLOOKUP($AC35,INSCRITS!$D$4:$W$501,6,0))","v":""},{"$f":"IF($AC35=\"\",\"\",VLOOKUP($AC35,INSCRITS!$D$4:$W$501,7,0))","v":""},{"$f":"IF($AC35=\"\",\"\",VLOOKUP($AC35,INSCRITS!$D$4:$W$501,9,0))","v":""},null,9]
[null,null,147,{"$f":"IF($C36=\"\",\"\",VLOOKUP($C36,INSCRITS!$D$4:$W$501,6,0))","v":"WAGNER"},{"$f":"IF($C36=\"\",\"\",VLOOKUP($C36,INSCRITS!$D$4:$W$501,7,0))","v":"Florian"},{"$f":"IF($C36=\"\",\"\",VLOOKUP($C36,INSCRITS!$D$4:$W$501,9,0))","v":"COLMAR ACSS"},null,null,null,null,null,null,null,null,{"$f":"IF($N36=\"\",\"\",VLOOKUP($N36,INSCRITS!$D$4:$W$501,6,0))","v":""},{"$f":"IF($N36=\"\",\"\",VLOOKUP($N36,INSCRITS!$D$4:$W$501,7,0))","v":""},{"$f":"IF($N36=\"\",\"\",VLOOKUP($N36,INSCRITS!$D$4:$W$501,9,0))","v":""},null,null,null,null,null,{"$f":"IF($V36=\"\",\"\",VLOOKUP($V36,INSCRITS!$D$4:$W$501,6,0))","v":""},{"$f":"IF($V36=\"\",\"\",VLOOKUP($V36,INSCRITS!$D$4:$W$501,7,0))","v":""},{"$f":"IF($V36=\"\",\"\",VLOOKUP($V36,INSCRITS!$D$4:$W$501,9,0))","v":""},12,null,null,null,{"$f":"IF($AC36=\"\",\"\",VLOOKUP($AC36,INSCRITS!$D$4:$W$501,6,0))","v":""},{"$f":"IF($AC36=\"\",\"\",VLOOKUP($AC36,INSCRITS!$D$4:$W$501,7,0))","v":""},{"$f":"IF($AC36=\"\",\"\",VLOOKUP($AC36,INSCRITS!$D$4:$W$501,9,0))","v":""},null,10]
[null,null,160,{"$f":"IF($C37=\"\",\"\",VLOOKUP($C37,INSCRITS!$D$4:$W$501,6,0))","v":"PANIS"},{"$f":"IF($C37=\"\",\"\",VLOOKUP($C37,INSCRITS!$D$4:$W$501,7,0))","v":"Valentin"},{"$f":"IF($C37=\"\",\"\",VLOOKUP($C37,INSCRITS!$D$4:$W$501,9,0))","v":"TOULOUSE CST"},null,null,null,null,null,null,null,null,{"$f":"IF($N37=\"\",\"\",VLOOKUP($N37,INSCRITS!$D$4:$W$501,6,0))","v":""},{"$f":"IF($N37=\"\",\"\",VLOOKUP($N37,INSCRITS!$D$4:$W$501,7,0))","v":""},{"$f":"IF($N37=\"\",\"\",VLOOKUP($N37,INSCRITS!$D$4:$W$501,9,0))","v":""},null,null,null,null,null,{"$f":"IF($V37=\"\",\"\",VLOOKUP($V37,INSCRITS!$D$4:$W$501,6,0))","v":""},{"$f":"IF($V37=\"\",\"\",VLOOKUP($V37,INSCRITS!$D$4:$W$501,7,0))","v":""},{"$f":"IF($V37=\"\",\"\",VLOOKUP($V37,INSCRITS!$D$4:$W$501,9,0))","v":""},13,null,null,null,{"$f":"IF($AC37=\"\",\"\",VLOOKUP($AC37,INSCRITS!$D$4:$W$501,6,0))","v":""},{"$f":"IF($AC37=\"\",\"\",VLOOKUP($AC37,INSCRITS!$D$4:$W$501,7,0))","v":""},{"$f":"IF($AC37=\"\",\"\",VLOOKUP($AC37,INSCRITS!$D$4:$W$501,9,0))","v":""},null,11]
[null,null,142,{"$f":"IF($C38=\"\",\"\",VLOOKUP($C38,INSCRITS!$D$4:$W$501,6,0))","v":"PERRIN"},{"$f":"IF($C38=\"\",\"\",VLOOKUP($C38,INSCRITS!$D$4:$W$501,7,0))","v":"Hugo"},{"$f":"IF($C38=\"\",\"\",VLOOKUP($C38,INSCRITS!$D$4:$W$501,9,0))","v":"BOSS"},null,null,null,null,null,null,null,null,{"$f":"IF($N38=\"\",\"\",VLOOKUP($N38,INSCRITS!$D$4:$W$501,6,0))","v":""},{"$f":"IF($N38=\"\",\"\",VLOOKUP($N38,INSCRITS!$D$4:$W$501,7,0))","v":""},{"$f":"IF($N38=\"\",\"\",VLOOKUP($N38,INSCRITS!$D$4:$W$501,9,0))","v":""},null,null,null,null,null,{"$f":"IF($V38=\"\",\"\",VLOOKUP($V38,INSCRITS!$D$4:$W$501,6,0))","v":""},{"$f":"IF($V38=\"\",\"\",VLOOKUP($V38,INSCRITS!$D$4:$W$501,7,0))","v":""},{"$f":"IF($V38=\"\",\"\",VLOOKUP($V38,INSCRITS!$D$4:$W$501,9,0))","v":""},14,null,null,null,{"$f":"IF($AC38=\"\",\"\",VLOOKUP($AC38,INSCRITS!$D$4:$W$501,6,0))","v":""},{"$f":"IF($AC38=\"\",\"\",VLOOKUP($AC38,INSCRITS!$D$4:$W$501,7,0))","v":""},{"$f":"IF($AC38=\"\",\"\",VLOOKUP($AC38,INSCRITS!$D$4:$W$501,9,0))","v":""},null,12]
[null,null,148,{"$f":"IF($C39=\"\",\"\",VLOOKUP($C39,INSCRITS!$D$4:$W$501,6,0))","v":"CAZAUX"},{"$f":"IF($C39=\"\",\"\",VLOOKUP($C39,INSCRITS!$D$4:$W$501,7,0))","v":"Loïc"},{"$f":"IF($C39=\"\",\"\",VLOOKUP($C39,INSCRITS!$D$4:$W$501,9,0))","v":"CSSM"},null,null,null,null,null,null,"SERIE 3",null,{"$f":"IF($N39=\"\",\"\",VLOOKUP($N39,INSCRITS!$D$4:$W$501,6,0))","v":""},{"$f":"IF($N39=\"\",\"\",VLOOKUP($N39,INSCRITS!$D$4:$W$501,7,0))","v":""},{"$f":"IF($N39=\"\",\"\",VLOOKUP($N39,INSCRITS!$D$4:$W$501,9,0))","v":""},null,null,null,null,null,{"$f":"IF($V39=\"\",\"\",VLOOKUP($V39,INSCRITS!$D$4:$W$501,6,0))","v":""},{"$f":"IF($V39=\"\",\"\",VLOOKUP($V39,INSCRITS!$D$4:$W$501,7,0))","v":""},{"$f":"IF($V39=\"\",\"\",VLOOKUP($V39,INSCRITS!$D$4:$W$501,9,0))","v":""},15,null,null,null,{"$f":"IF($AC39=\"\",\"\",VLOOKUP($AC39,INSCRITS!$D$4:$W$501,6,0))","v":""},{"$f":"IF($AC39=\"\",\"\",VLOOKUP($AC39,INSCRITS!$D$4:$W$501,7,0))","v":""},{"$f":"IF($AC39=\"\",\"\",VLOOKUP($AC39,INSCRITS!$D$4:$W$501,9,0))","v":""}]
[null,null,130,{"$f":"IF($C40=\"\",\"\",VLOOKUP($C40,INSCRITS!$D$4:$W$501,6,0))","v":"DUFFAUD"},{"$f":"IF($C40=\"\",\"\",VLOOKUP($C40,INSCRITS!$D$4:$W$501,7,0))","v":"Simon"},{"$f":"IF($C40=\"\",\"\",VLOOKUP($C40,INSCRITS!$D$4:$W$501,9,0))","v":"BEGLES"},null,null,null,null,null,null,null,null,{"$f":"IF($N40=\"\",\"\",VLOOKUP($N40,INSCRITS!$D$4:$W$501,6,0))","v":""},{"$f":"IF($N40=\"\",\"\",VLOOKUP($N40,INSCRITS!$D$4:$W$501,7,0))","v":""},{"$f":"IF($N40=\"\",\"\",VLOOKUP($N40,INSCRITS!$D$4:$W$501,9,0))","v":""},null,null,null,null,null,{"$f":"IF($V40=\"\",\"\",VLOOKUP($V40,INSCRITS!$D$4:$W$501,6,0))","v":""},{"$f":"IF($V40=\"\",\"\",VLOOKUP($V40,INSCRITS!$D$4:$W$501,7,0))","v":""},{"$f":"IF($V40=\"\",\"\",VLOOKUP($V40,INSCRITS!$D$4:$W$501,9,0))","v":""},16,null,null,null,{"$f":"IF($AC40=\"\",\"\",VLOOKUP($AC40,INSCRITS!$D$4:$W$501,6,0))","v":""},{"$f":"IF($AC40=\"\",\"\",VLOOKUP($AC40,INSCRITS!$D$4:$W$501,7,0))","v":""},{"$f":"IF($AC40=\"\",\"\",VLOOKUP($AC40,INSCRITS!$D$4:$W$501,9,0))","v":""}]
[null,null,159,{"$f":"IF($C41=\"\",\"\",VLOOKUP($C41,INSCRITS!$D$4:$W$501,6,0))","v":"BRIONGOS"},{"$f":"IF($C41=\"\",\"\",VLOOKUP($C41,INSCRITS!$D$4:$W$501,7,0))","v":"Alexis"},{"$f":"IF($C41=\"\",\"\",VLOOKUP($C41,INSCRITS!$D$4:$W$501,9,0))","v":"TOULOUSE CST"},null,null,null,null,null,null,null,null,{"$f":"IF($N41=\"\",\"\",VLOOKUP($N41,INSCRITS!$D$4:$W$501,6,0))","v":""},{"$f":"IF($N41=\"\",\"\",VLOOKUP($N41,INSCRITS!$D$4:$W$501,7,0))","v":""},{"$f":"IF($N41=\"\",\"\",VLOOKUP($N41,INSCRITS!$D$4:$W$501,9,0))","v":""},null,null,null,null,null,{"$f":"IF($V41=\"\",\"\",VLOOKUP($V41,INSCRITS!$D$4:$W$501,6,0))","v":""},{"$f":"IF($V41=\"\",\"\",VLOOKUP($V41,INSCRITS!$D$4:$W$501,7,0))","v":""},{"$f":"IF($V41=\"\",\"\",VLOOKUP($V41,INSCRITS!$D$4:$W$501,9,0))","v":""},17,null,null,null,{"$f":"IF($AC41=\"\",\"\",VLOOKUP($AC41,INSCRITS!$D$4:$W$501,6,0))","v":""},{"$f":"IF($AC41=\"\",\"\",VLOOKUP($AC41,INSCRITS!$D$4:$W$501,7,0))","v":""},{"$f":"IF($AC41=\"\",\"\",VLOOKUP($AC41,INSCRITS!$D$4:$W$501,9,0))","v":""}]
[null,null,143,{"$f":"IF($C42=\"\",\"\",VLOOKUP($C42,INSCRITS!$D$4:$W$501,6,0))","v":"LICARI"},{"$f":"IF($C42=\"\",\"\",VLOOKUP($C42,INSCRITS!$D$4:$W$501,7,0))","v":"Antoine"},{"$f":"IF($C42=\"\",\"\",VLOOKUP($C42,INSCRITS!$D$4:$W$501,9,0))","v":"Cannes Sauvetage Côtier"},null,null,null,null,null,null,null,null,{"$f":"IF($N42=\"\",\"\",VLOOKUP($N42,INSCRITS!$D$4:$W$501,6,0))","v":""},{"$f":"IF($N42=\"\",\"\",VLOOKUP($N42,INSCRITS!$D$4:$W$501,7,0))","v":""},{"$f":"IF($N42=\"\",\"\",VLOOKUP($N42,INSCRITS!$D$4:$W$501,9,0))","v":""},null,null,null,null,null,{"$f":"IF($V42=\"\",\"\",VLOOKUP($V42,INSCRITS!$D$4:$W$501,6,0))","v":""},{"$f":"IF($V42=\"\",\"\",VLOOKUP($V42,INSCRITS!$D$4:$W$501,7,0))","v":""},{"$f":"IF($V42=\"\",\"\",VLOOKUP($V42,INSCRITS!$D$4:$W$501,9,0))","v":""},18,null,null,null,{"$f":"IF($AC42=\"\",\"\",VLOOKUP($AC42,INSCRITS!$D$4:$W$501,6,0))","v":""},{"$f":"IF($AC42=\"\",\"\",VLOOKUP($AC42,INSCRITS!$D$4:$W$501,7,0))","v":""},{"$f":"IF($AC42=\"\",\"\",VLOOKUP($AC42,INSCRITS!$D$4:$W$501,9,0))","v":""}]
[null,null,133,{"$f":"IF($C43=\"\",\"\",VLOOKUP($C43,INSCRITS!$D$4:$W$501,6,0))","v":"SOLABERRIETA"},{"$f":"IF($C43=\"\",\"\",VLOOKUP($C43,INSCRITS!$D$4:$W$501,7,0))","v":"Jean"},{"$f":"IF($C43=\"\",\"\",VLOOKUP($C43,INSCRITS!$D$4:$W$501,9,0))","v":"BELHARRA WC"},null,null,null,null,null,null,null,null,{"$f":"IF($N43=\"\",\"\",VLOOKUP($N43,INSCRITS!$D$4:$W$501,6,0))","v":""},{"$f":"IF($N43=\"\",\"\",VLOOKUP($N43,INSCRITS!$D$4:$W$501,7,0))","v":""},{"$f":"IF($N43=\"\",\"\",VLOOKUP($N43,INSCRITS!$D$4:$W$501,9,0))","v":""}]
[null,null,123,{"$f":"IF($C44=\"\",\"\",VLOOKUP($C44,INSCRITS!$D$4:$W$501,6,0))","v":"VANDENBERGHE"},{"$f":"IF($C44=\"\",\"\",VLOOKUP($C44,INSCRITS!$D$4:$W$501,7,0))","v":"Sébastien"},{"$f":"IF($C44=\"\",\"\",VLOOKUP($C44,INSCRITS!$D$4:$W$501,9,0))","v":"ANV"},null,null,null,null,null,null,null,null,{"$f":"IF($N44=\"\",\"\",VLOOKUP($N44,INSCRITS!$D$4:$W$501,6,0))","v":""},{"$f":"IF($N44=\"\",\"\",VLOOKUP($N44,INSCRITS!$D$4:$W$501,7,0))","v":""},{"$f":"IF($N44=\"\",\"\",VLOOKUP($N44,INSCRITS!$D$4:$W$501,9,0))","v":""}]
[null,null,151,{"$f":"IF($C45=\"\",\"\",VLOOKUP($C45,INSCRITS!$D$4:$W$501,6,0))","v":"AMAUGER"},{"$f":"IF($C45=\"\",\"\",VLOOKUP($C45,INSCRITS!$D$4:$W$501,7,0))","v":"Valentin"},{"$f":"IF($C45=\"\",\"\",VLOOKUP($C45,INSCRITS!$D$4:$W$501,9,0))","v":"HSC"},null,null,null,null,null,null,null,null,{"$f":"IF($N45=\"\",\"\",VLOOKUP($N45,INSCRITS!$D$4:$W$501,6,0))","v":""},{"$f":"IF($N45=\"\",\"\",VLOOKUP($N45,INSCRITS!$D$4:$W$501,7,0))","v":""},{"$f":"IF($N45=\"\",\"\",VLOOKUP($N45,INSCRITS!$D$4:$W$501,9,0))","v":""}]
[null,null,null,{"$f":"IF($C46=\"\",\"\",VLOOKUP($C46,INSCRITS!$D$4:$W$501,6,0))","v":""},{"$f":"IF($C46=\"\",\"\",VLOOKUP($C46,INSCRITS!$D$4:$W$501,7,0))","v":""},{"$f":"IF($C46=\"\",\"\",VLOOKUP($C46,INSCRITS!$D$4:$W$501,9,0))","v":""},null,null,null,null,null,null,null,null,{"$f":"IF($N46=\"\",\"\",VLOOKUP($N46,INSCRITS!$D$4:$W$501,6,0))","v":""},{"$f":"IF($N46=\"\",\"\",VLOOKUP($N46,INSCRITS!$D$4:$W$501,7,0))","v":""},{"$f":"IF($N46=\"\",\"\",VLOOKUP($N46,INSCRITS!$D$4:$W$501,9,0))","v":""}]
[null,null,null,{"$f":"IF($C47=\"\",\"\",VLOOKUP($C47,INSCRITS!$D$4:$W$501,6,0))","v":""},{"$f":"IF($C47=\"\",\"\",VLOOKUP($C47,INSCRITS!$D$4:$W$501,7,0))","v":""},{"$f":"IF($C47=\"\",\"\",VLOOKUP($C47,INSCRITS!$D$4:$W$501,9,0))","v":""},null,null,null,null,null,null,null,null,{"$f":"IF($N47=\"\",\"\",VLOOKUP($N47,INSCRITS!$D$4:$W$501,6,0))","v":""},{"$f":"IF($N47=\"\",\"\",VLOOKUP($N47,INSCRITS!$D$4:$W$501,7,0))","v":""},{"$f":"IF($N47=\"\",\"\",VLOOKUP($N47,INSCRITS!$D$4:$W$501,9,0))","v":""}]
[null,null,null,{"$f":"IF($C48=\"\",\"\",VLOOKUP($C48,INSCRITS!$D$4:$W$501,6,0))","v":""},{"$f":"IF($C48=\"\",\"\",VLOOKUP($C48,INSCRITS!$D$4:$W$501,7,0))","v":""},{"$f":"IF($C48=\"\",\"\",VLOOKUP($C48,INSCRITS!$D$4:$W$501,9,0))","v":""},null,null,null,null,null,null,null,null,{"$f":"IF($N48=\"\",\"\",VLOOKUP($N48,INSCRITS!$D$4:$W$501,6,0))","v":""},{"$f":"IF($N48=\"\",\"\",VLOOKUP($N48,INSCRITS!$D$4:$W$501,7,0))","v":""},{"$f":"IF($N48=\"\",\"\",VLOOKUP($N48,INSCRITS!$D$4:$W$501,9,0))","v":""}]
[null,null,null,{"$f":"IF($C49=\"\",\"\",VLOOKUP($C49,INSCRITS!$D$4:$W$501,6,0))","v":""},{"$f":"IF($C49=\"\",\"\",VLOOKUP($C49,INSCRITS!$D$4:$W$501,7,0))","v":""},{"$f":"IF($C49=\"\",\"\",VLOOKUP($C49,INSCRITS!$D$4:$W$501,9,0))","v":""},null,null,null,null,null,null,null,null,{"$f":"IF($N49=\"\",\"\",VLOOKUP($N49,INSCRITS!$D$4:$W$501,6,0))","v":""},{"$f":"IF($N49=\"\",\"\",VLOOKUP($N49,INSCRITS!$D$4:$W$501,7,0))","v":""},{"$f":"IF($N49=\"\",\"\",VLOOKUP($N49,INSCRITS!$D$4:$W$501,9,0))","v":""}]
[null,null,null,{"$f":"IF($C50=\"\",\"\",VLOOKUP($C50,INSCRITS!$D$4:$W$501,6,0))","v":""},{"$f":"IF($C50=\"\",\"\",VLOOKUP($C50,INSCRITS!$D$4:$W$501,7,0))","v":""},{"$f":"IF($C50=\"\",\"\",VLOOKUP($C50,INSCRITS!$D$4:$W$501,9,0))","v":""},null,null,null,null,null,null,null,null,{"$f":"IF($N50=\"\",\"\",VLOOKUP($N50,INSCRITS!$D$4:$W$501,6,0))","v":""},{"$f":"IF($N50=\"\",\"\",VLOOKUP($N50,INSCRITS!$D$4:$W$501,7,0))","v":""},{"$f":"IF($N50=\"\",\"\",VLOOKUP($N50,INSCRITS!$D$4:$W$501,9,0))","v":""}]
[null,null,null,{"$f":"IF($C51=\"\",\"\",VLOOKUP($C51,INSCRITS!$D$4:$W$501,6,0))","v":""},{"$f":"IF($C51=\"\",\"\",VLOOKUP($C51,INSCRITS!$D$4:$W$501,7,0))","v":""},{"$f":"IF($C51=\"\",\"\",VLOOKUP($C51,INSCRITS!$D$4:$W$501,9,0))","v":""},null,null,null,null,null,null,null,null,{"$f":"IF($N51=\"\",\"\",VLOOKUP($N51,INSCRITS!$D$4:$W$501,6,0))","v":""},{"$f":"IF($N51=\"\",\"\",VLOOKUP($N51,INSCRITS!$D$4:$W$501,7,0))","v":""},{"$f":"IF($N51=\"\",\"\",VLOOKUP($N51,INSCRITS!$D$4:$W$501,9,0))","v":""}]
[null,null,null,{"$f":"IF($C52=\"\",\"\",VLOOKUP($C52,INSCRITS!$D$4:$W$501,6,0))","v":""},{"$f":"IF($C52=\"\",\"\",VLOOKUP($C52,INSCRITS!$D$4:$W$501,7,0))","v":""},{"$f":"IF($C52=\"\",\"\",VLOOKUP($C52,INSCRITS!$D$4:$W$501,9,0))","v":""},null,null,null,null,null,null,null,null,{"$f":"IF($N52=\"\",\"\",VLOOKUP($N52,INSCRITS!$D$4:$W$501,6,0))","v":""},{"$f":"IF($N52=\"\",\"\",VLOOKUP($N52,INSCRITS!$D$4:$W$501,7,0))","v":""},{"$f":"IF($N52=\"\",\"\",VLOOKUP($N52,INSCRITS!$D$4:$W$501,9,0))","v":""}]
[null,null,null,{"$f":"IF($C53=\"\",\"\",VLOOKUP($C53,INSCRITS!$D$4:$W$501,6,0))","v":""},{"$f":"IF($C53=\"\",\"\",VLOOKUP($C53,INSCRITS!$D$4:$W$501,7,0))","v":""},{"$f":"IF($C53=\"\",\"\",VLOOKUP($C53,INSCRITS!$D$4:$W$501,9,0))","v":""},null,null,null,null,null,null,null,null,{"$f":"IF($N53=\"\",\"\",VLOOKUP($N53,INSCRITS!$D$4:$W$501,6,0))","v":""},{"$f":"IF($N53=\"\",\"\",VLOOKUP($N53,INSCRITS!$D$4:$W$501,7,0))","v":""},{"$f":"IF($N53=\"\",\"\",VLOOKUP($N53,INSCRITS!$D$4:$W$501,9,0))","v":""}]
[null,null,null,{"$f":"IF($C54=\"\",\"\",VLOOKUP($C54,INSCRITS!$D$4:$W$501,6,0))","v":""},{"$f":"IF($C54=\"\",\"\",VLOOKUP($C54,INSCRITS!$D$4:$W$501,7,0))","v":""},{"$f":"IF($C54=\"\",\"\",VLOOKUP($C54,INSCRITS!$D$4:$W$501,9,0))","v":""},null,null,null,null,null,null,null,null,{"$f":"IF($N54=\"\",\"\",VLOOKUP($N54,INSCRITS!$D$4:$W$501,6,0))","v":""},{"$f":"IF($N54=\"\",\"\",VLOOKUP($N54,INSCRITS!$D$4:$W$501,7,0))","v":""},{"$f":"IF($N54=\"\",\"\",VLOOKUP($N54,INSCRITS!$D$4:$W$501,9,0))","v":""}]
[null,null,null,{"$f":"IF($C55=\"\",\"\",VLOOKUP($C55,INSCRITS!$D$4:$W$501,6,0))","v":""},{"$f":"IF($C55=\"\",\"\",VLOOKUP($C55,INSCRITS!$D$4:$W$501,7,0))","v":""},{"$f":"IF($C55=\"\",\"\",VLOOKUP($C55,INSCRITS!$D$4:$W$501,9,0))","v":""},null,null,null,null,null,null,"SERIE 4",null,{"$f":"IF($N55=\"\",\"\",VLOOKUP($N55,INSCRITS!$D$4:$W$501,6,0))","v":""},{"$f":"IF($N55=\"\",\"\",VLOOKUP($N55,INSCRITS!$D$4:$W$501,7,0))","v":""},{"$f":"IF($N55=\"\",\"\",VLOOKUP($N55,INSCRITS!$D$4:$W$501,9,0))","v":""}]
[null,null,null,{"$f":"IF($C56=\"\",\"\",VLOOKUP($C56,INSCRITS!$D$4:$W$501,6,0))","v":""},{"$f":"IF($C56=\"\",\"\",VLOOKUP($C56,INSCRITS!$D$4:$W$501,7,0))","v":""},{"$f":"IF($C56=\"\",\"\",VLOOKUP($C56,INSCRITS!$D$4:$W$501,9,0))","v":""},null,null,null,null,null,null,null,null,{"$f":"IF($N56=\"\",\"\",VLOOKUP($N56,INSCRITS!$D$4:$W$501,6,0))","v":""},{"$f":"IF($N56=\"\",\"\",VLOOKUP($N56,INSCRITS!$D$4:$W$501,7,0))","v":""},{"$f":"IF($N56=\"\",\"\",VLOOKUP($N56,INSCRITS!$D$4:$W$501,9,0))","v":""}]
[null,null,null,{"$f":"IF($C57=\"\",\"\",VLOOKUP($C57,INSCRITS!$D$4:$W$501,6,0))","v":""},{"$f":"IF($C57=\"\",\"\",VLOOKUP($C57,INSCRITS!$D$4:$W$501,7,0))","v":""},{"$f":"IF($C57=\"\",\"\",VLOOKUP($C57,INSCRITS!$D$4:$W$501,9,0))","v":""},null,null,null,null,null,null,null,null,{"$f":"IF($N57=\"\",\"\",VLOOKUP($N57,INSCRITS!$D$4:$W$501,6,0))","v":""},{"$f":"IF($N57=\"\",\"\",VLOOKUP($N57,INSCRITS!$D$4:$W$501,7,0))","v":""},{"$f":"IF($N57=\"\",\"\",VLOOKUP($N57,INSCRITS!$D$4:$W$501,9,0))","v":""}]
[null,"SERIE 4",null,{"$f":"IF($C58=\"\",\"\",VLOOKUP($C58,INSCRITS!$D$4:$W$501,6,0))","v":""},{"$f":"IF($C58=\"\",\"\",VLOOKUP($C58,INSCRITS!$D$4:$W$501,7,0))","v":""},{"$f":"IF($C58=\"\",\"\",VLOOKUP($C58,INSCRITS!$D$4:$W$501,9,0))","v":""},null,null,null,null,null,null,null,null,{"$f":"IF($N58=\"\",\"\",VLOOKUP($N58,INSCRITS!$D$4:$W$501,6,0))","v":""},{"$f":"IF($N58=\"\",\"\",VLOOKUP($N58,INSCRITS!$D$4:$W$501,7,0))","v":""},{"$f":"IF($N58=\"\",\"\",VLOOKUP($N58,INSCRITS!$D$4:$W$501,9,0))","v":""}]
[null,null,null,{"$f":"IF($C59=\"\",\"\",VLOOKUP($C59,INSCRITS!$D$4:$W$501,6,0))","v":""},{"$f":"IF($C59=\"\",\"\",VLOOKUP($C59,INSCRITS!$D$4:$W$501,7,0))","v":""},{"$f":"IF($C59=\"\",\"\",VLOOKUP($C59,INSCRITS!$D$4:$W$501,9,0))","v":""},null,null,null,null,null,null,null,null,{"$f":"IF($N59=\"\",\"\",VLOOKUP($N59,INSCRITS!$D$4:$W$501,6,0))","v":""},{"$f":"IF($N59=\"\",\"\",VLOOKUP($N59,INSCRITS!$D$4:$W$501,7,0))","v":""},{"$f":"IF($N59=\"\",\"\",VLOOKUP($N59,INSCRITS!$D$4:$W$501,9,0))","v":""}]
[null,null,null,{"$f":"IF($C60=\"\",\"\",VLOOKUP($C60,INSCRITS!$D$4:$W$501,6,0))","v":""},{"$f":"IF($C60=\"\",\"\",VLOOKUP($C60,INSCRITS!$D$4:$W$501,7,0))","v":""},{"$f":"IF($C60=\"\",\"\",VLOOKUP($C60,INSCRITS!$D$4:$W$501,9,0))","v":""},null,null,null,null,null,null,null,null,{"$f":"IF($N60=\"\",\"\",VLOOKUP($N60,INSCRITS!$D$4:$W$501,6,0))","v":""},{"$f":"IF($N60=\"\",\"\",VLOOKUP($N60,INSCRITS!$D$4:$W$501,7,0))","v":""},{"$f":"IF($N60=\"\",\"\",VLOOKUP($N60,INSCRITS!$D$4:$W$501,9,0))","v":""}]
[null,null,null,{"$f":"IF($C61=\"\",\"\",VLOOKUP($C61,INSCRITS!$D$4:$W$501,6,0))","v":""},{"$f":"IF($C61=\"\",\"\",VLOOKUP($C61,INSCRITS!$D$4:$W$501,7,0))","v":""},{"$f":"IF($C61=\"\",\"\",VLOOKUP($C61,INSCRITS!$D$4:$W$501,9,0))","v":""},null,null,null,null,null,null,null,null,{"$f":"IF($N61=\"\",\"\",VLOOKUP($N61,INSCRITS!$D$4:$W$501,6,0))","v":""},{"$f":"IF($N61=\"\",\"\",VLOOKUP($N61,INSCRITS!$D$4:$W$501,7,0))","v":""},{"$f":"IF($N61=\"\",\"\",VLOOKUP($N61,INSCRITS!$D$4:$W$501,9,0))","v":""}]
[null,null,null,{"$f":"IF($C62=\"\",\"\",VLOOKUP($C62,INSCRITS!$D$4:$W$501,6,0))","v":""},{"$f":"IF($C62=\"\",\"\",VLOOKUP($C62,INSCRITS!$D$4:$W$501,7,0))","v":""},{"$f":"IF($C62=\"\",\"\",VLOOKUP($C62,INSCRITS!$D$4:$W$501,9,0))","v":""},null,null,null,null,null,null,null,null,{"$f":"IF($N62=\"\",\"\",VLOOKUP($N62,INSCRITS!$D$4:$W$501,6,0))","v":""},{"$f":"IF($N62=\"\",\"\",VLOOKUP($N62,INSCRITS!$D$4:$W$501,7,0))","v":""},{"$f":"IF($N62=\"\",\"\",VLOOKUP($N62,INSCRITS!$D$4:$W$501,9,0))","v":""}]
[null,null,null,{"$f":"IF($C63=\"\",\"\",VLOOKUP($C63,INSCRITS!$D$4:$W$501,6,0))","v":""},{"$f":"IF($C63=\"\",\"\",VLOOKUP($C63,INSCRITS!$D$4:$W$501,7,0))","v":""},{"$f":"IF($C63=\"\",\"\",VLOOKUP($C63,INSCRITS!$D$4:$W$501,9,0))","v":""},null,null,null,null,null,null,null,null,{"$f":"IF($N63=\"\",\"\",VLOOKUP($N63,INSCRITS!$D$4:$W$501,6,0))","v":""},{"$f":"IF($N63=\"\",\"\",VLOOKUP($N63,INSCRITS!$D$4:$W$501,7,0))","v":""},{"$f":"IF($N63=\"\",\"\",VLOOKUP($N63,INSCRITS!$D$4:$W$501,9,0))","v":""}]
[null,null,null,{"$f":"IF($C64=\"\",\"\",VLOOKUP($C64,INSCRITS!$D$4:$W$501,6,0))","v":""},{"$f":"IF($C64=\"\",\"\",VLOOKUP($C64,INSCRITS!$D$4:$W$501,7,0))","v":""},{"$f":"IF($C64=\"\",\"\",VLOOKUP($C64,INSCRITS!$D$4:$W$501,9,0))","v":""},null,null,null,null,null,null,null,null,{"$f":"IF($N64=\"\",\"\",VLOOKUP($N64,INSCRITS!$D$4:$W$501,6,0))","v":""},{"$f":"IF($N64=\"\",\"\",VLOOKUP($N64,INSCRITS!$D$4:$W$501,7,0))","v":""},{"$f":"IF($N64=\"\",\"\",VLOOKUP($N64,INSCRITS!$D$4:$W$501,9,0))","v":""}]
[null,null,null,{"$f":"IF($C65=\"\",\"\",VLOOKUP($C65,INSCRITS!$D$4:$W$501,6,0))","v":""},{"$f":"IF($C65=\"\",\"\",VLOOKUP($C65,INSCRITS!$D$4:$W$501,7,0))","v":""},{"$f":"IF($C65=\"\",\"\",VLOOKUP($C65,INSCRITS!$D$4:$W$501,9,0))","v":""},null,null,null,null,null,null,null,null,{"$f":"IF($N65=\"\",\"\",VLOOKUP($N65,INSCRITS!$D$4:$W$501,6,0))","v":""},{"$f":"IF($N65=\"\",\"\",VLOOKUP($N65,INSCRITS!$D$4:$W$501,7,0))","v":""},{"$f":"IF($N65=\"\",\"\",VLOOKUP($N65,INSCRITS!$D$4:$W$501,9,0))","v":""}]
[null,null,null,{"$f":"IF($C66=\"\",\"\",VLOOKUP($C66,INSCRITS!$D$4:$W$501,6,0))","v":""},{"$f":"IF($C66=\"\",\"\",VLOOKUP($C66,INSCRITS!$D$4:$W$501,7,0))","v":""},{"$f":"IF($C66=\"\",\"\",VLOOKUP($C66,INSCRITS!$D$4:$W$501,9,0))","v":""},null,null,null,null,null,null,null,null,{"$f":"IF($N66=\"\",\"\",VLOOKUP($N66,INSCRITS!$D$4:$W$501,6,0))","v":""},{"$f":"IF($N66=\"\",\"\",VLOOKUP($N66,INSCRITS!$D$4:$W$501,7,0))","v":""},{"$f":"IF($N66=\"\",\"\",VLOOKUP($N66,INSCRITS!$D$4:$W$501,9,0))","v":""}]
[null,null,null,{"$f":"IF($C67=\"\",\"\",VLOOKUP($C67,INSCRITS!$D$4:$W$501,6,0))","v":""},{"$f":"IF($C67=\"\",\"\",VLOOKUP($C67,INSCRITS!$D$4:$W$501,7,0))","v":""},{"$f":"IF($C67=\"\",\"\",VLOOKUP($C67,INSCRITS!$D$4:$W$501,9,0))","v":""},null,null,null,null,null,null,null,null,{"$f":"IF($N67=\"\",\"\",VLOOKUP($N67,INSCRITS!$D$4:$W$501,6,0))","v":""},{"$f":"IF($N67=\"\",\"\",VLOOKUP($N67,INSCRITS!$D$4:$W$501,7,0))","v":""},{"$f":"IF($N67=\"\",\"\",VLOOKUP($N67,INSCRITS!$D$4:$W$501,9,0))","v":""}]
[null,null,null,{"$f":"IF($C68=\"\",\"\",VLOOKUP($C68,INSCRITS!$D$4:$W$501,6,0))","v":""},{"$f":"IF($C68=\"\",\"\",VLOOKUP($C68,INSCRITS!$D$4:$W$501,7,0))","v":""},{"$f":"IF($C68=\"\",\"\",VLOOKUP($C68,INSCRITS!$D$4:$W$501,9,0))","v":""},null,null,null,null,null,null,null,null,{"$f":"IF($N68=\"\",\"\",VLOOKUP($N68,INSCRITS!$D$4:$W$501,6,0))","v":""},{"$f":"IF($N68=\"\",\"\",VLOOKUP($N68,INSCRITS!$D$4:$W$501,7,0))","v":""},{"$f":"IF($N68=\"\",\"\",VLOOKUP($N68,INSCRITS!$D$4:$W$501,9,0))","v":""}]
[null,null,null,{"$f":"IF($C69=\"\",\"\",VLOOKUP($C69,INSCRITS!$D$4:$W$501,6,0))","v":""},{"$f":"IF($C69=\"\",\"\",VLOOKUP($C69,INSCRITS!$D$4:$W$501,7,0))","v":""},{"$f":"IF($C69=\"\",\"\",VLOOKUP($C69,INSCRITS!$D$4:$W$501,9,0))","v":""},null,null,null,null,null,null,null,null,{"$f":"IF($N69=\"\",\"\",VLOOKUP($N69,INSCRITS!$D$4:$W$501,6,0))","v":""},{"$f":"IF($N69=\"\",\"\",VLOOKUP($N69,INSCRITS!$D$4:$W$501,7,0))","v":""},{"$f":"IF($N69=\"\",\"\",VLOOKUP($N69,INSCRITS!$D$4:$W$501,9,0))","v":""}]
[null,null,null,{"$f":"IF($C70=\"\",\"\",VLOOKUP($C70,INSCRITS!$D$4:$W$501,6,0))","v":""},{"$f":"IF($C70=\"\",\"\",VLOOKUP($C70,INSCRITS!$D$4:$W$501,7,0))","v":""},{"$f":"IF($C70=\"\",\"\",VLOOKUP($C70,INSCRITS!$D$4:$W$501,9,0))","v":""},null,null,null,null,null,null,null,null,{"$f":"IF($N70=\"\",\"\",VLOOKUP($N70,INSCRITS!$D$4:$W$501,6,0))","v":""},{"$f":"IF($N70=\"\",\"\",VLOOKUP($N70,INSCRITS!$D$4:$W$501,7,0))","v":""},{"$f":"IF($N70=\"\",\"\",VLOOKUP($N70,INSCRITS!$D$4:$W$501,9,0))","v":""}]
[null,null,null,{"$f":"IF($C71=\"\",\"\",VLOOKUP($C71,INSCRITS!$D$4:$W$501,6,0))","v":""},{"$f":"IF($C71=\"\",\"\",VLOOKUP($C71,INSCRITS!$D$4:$W$501,7,0))","v":""},{"$f":"IF($C71=\"\",\"\",VLOOKUP($C71,INSCRITS!$D$4:$W$501,9,0))","v":""}]
[null,null,null,{"$f":"IF($C72=\"\",\"\",VLOOKUP($C72,INSCRITS!$D$4:$W$501,6,0))","v":""},{"$f":"IF($C72=\"\",\"\",VLOOKUP($C72,INSCRITS!$D$4:$W$501,7,0))","v":""},{"$f":"IF($C72=\"\",\"\",VLOOKUP($C72,INSCRITS!$D$4:$W$501,9,0))","v":""}]
[null,null,null,{"$f":"IF($C73=\"\",\"\",VLOOKUP($C73,INSCRITS!$D$4:$W$501,6,0))","v":""},{"$f":"IF($C73=\"\",\"\",VLOOKUP($C73,INSCRITS!$D$4:$W$501,7,0))","v":""},{"$f":"IF($C73=\"\",\"\",VLOOKUP($C73,INSCRITS!$D$4:$W$501,9,0))","v":""}]
[null,null,null,{"$f":"IF($C74=\"\",\"\",VLOOKUP($C74,INSCRITS!$D$4:$W$501,6,0))","v":""},{"$f":"IF($C74=\"\",\"\",VLOOKUP($C74,INSCRITS!$D$4:$W$501,7,0))","v":""},{"$f":"IF($C74=\"\",\"\",VLOOKUP($C74,INSCRITS!$D$4:$W$501,9,0))","v":""}]
[null,"SERIE 5",null,{"$f":"IF($C75=\"\",\"\",VLOOKUP($C75,INSCRITS!$D$4:$W$501,6,0))","v":""},{"$f":"IF($C75=\"\",\"\",VLOOKUP($C75,INSCRITS!$D$4:$W$501,7,0))","v":""},{"$f":"IF($C75=\"\",\"\",VLOOKUP($C75,INSCRITS!$D$4:$W$501,9,0))","v":""}]
[null,null,null,{"$f":"IF($C76=\"\",\"\",VLOOKUP($C76,INSCRITS!$D$4:$W$501,6,0))","v":""},{"$f":"IF($C76=\"\",\"\",VLOOKUP($C76,INSCRITS!$D$4:$W$501,7,0))","v":""},{"$f":"IF($C76=\"\",\"\",VLOOKUP($C76,INSCRITS!$D$4:$W$501,9,0))","v":""}]
[null,null,null,{"$f":"IF($C77=\"\",\"\",VLOOKUP($C77,INSCRITS!$D$4:$W$501,6,0))","v":""},{"$f":"IF($C77=\"\",\"\",VLOOKUP($C77,INSCRITS!$D$4:$W$501,7,0))","v":""},{"$f":"IF($C77=\"\",\"\",VLOOKUP($C77,INSCRITS!$D$4:$W$501,9,0))","v":""}]
[null,null,null,{"$f":"IF($C78=\"\",\"\",VLOOKUP($C78,INSCRITS!$D$4:$W$501,6,0))","v":""},{"$f":"IF($C78=\"\",\"\",VLOOKUP($C78,INSCRITS!$D$4:$W$501,7,0))","v":""},{"$f":"IF($C78=\"\",\"\",VLOOKUP($C78,INSCRITS!$D$4:$W$501,9,0))","v":""}]
[null,null,null,{"$f":"IF($C79=\"\",\"\",VLOOKUP($C79,INSCRITS!$D$4:$W$501,6,0))","v":""},{"$f":"IF($C79=\"\",\"\",VLOOKUP($C79,INSCRITS!$D$4:$W$501,7,0))","v":""},{"$f":"IF($C79=\"\",\"\",VLOOKUP($C79,INSCRITS!$D$4:$W$501,9,0))","v":""}]
[null,null,null,{"$f":"IF($C80=\"\",\"\",VLOOKUP($C80,INSCRITS!$D$4:$W$501,6,0))","v":""},{"$f":"IF($C80=\"\",\"\",VLOOKUP($C80,INSCRITS!$D$4:$W$501,7,0))","v":""},{"$f":"IF($C80=\"\",\"\",VLOOKUP($C80,INSCRITS!$D$4:$W$501,9,0))","v":""}]
[null,null,null,{"$f":"IF($C81=\"\",\"\",VLOOKUP($C81,INSCRITS!$D$4:$W$501,6,0))","v":""},{"$f":"IF($C81=\"\",\"\",VLOOKUP($C81,INSCRITS!$D$4:$W$501,7,0))","v":""},{"$f":"IF($C81=\"\",\"\",VLOOKUP($C81,INSCRITS!$D$4:$W$501,9,0))","v":""}]
[null,null,null,{"$f":"IF($C82=\"\",\"\",VLOOKUP($C82,INSCRITS!$D$4:$W$501,6,0))","v":""},{"$f":"IF($C82=\"\",\"\",VLOOKUP($C82,INSCRITS!$D$4:$W$501,7,0))","v":""},{"$f":"IF($C82=\"\",\"\",VLOOKUP($C82,INSCRITS!$D$4:$W$501,9,0))","v":""}]
[null,null,null,{"$f":"IF($C83=\"\",\"\",VLOOKUP($C83,INSCRITS!$D$4:$W$501,6,0))","v":""},{"$f":"IF($C83=\"\",\"\",VLOOKUP($C83,INSCRITS!$D$4:$W$501,7,0))","v":""},{"$f":"IF($C83=\"\",\"\",VLOOKUP($C83,INSCRITS!$D$4:$W$501,9,0))","v":""}]
[null,null,null,{"$f":"IF($C84=\"\",\"\",VLOOKUP($C84,INSCRITS!$D$4:$W$501,6,0))","v":""},{"$f":"IF($C84=\"\",\"\",VLOOKUP($C84,INSCRITS!$D$4:$W$501,7,0))","v":""},{"$f":"IF($C84=\"\",\"\",VLOOKUP($C84,INSCRITS!$D$4:$W$501,9,0))","v":""}]
[null,null,null,{"$f":"IF($C85=\"\",\"\",VLOOKUP($C85,INSCRITS!$D$4:$W$501,6,0))","v":""},{"$f":"IF($C85=\"\",\"\",VLOOKUP($C85,INSCRITS!$D$4:$W$501,7,0))","v":""},{"$f":"IF($C85=\"\",\"\",VLOOKUP($C85,INSCRITS!$D$4:$W$501,9,0))","v":""}]
[null,null,null,{"$f":"IF($C86=\"\",\"\",VLOOKUP($C86,INSCRITS!$D$4:$W$501,6,0))","v":""},{"$f":"IF($C86=\"\",\"\",VLOOKUP($C86,INSCRITS!$D$4:$W$501,7,0))","v":""},{"$f":"IF($C86=\"\",\"\",VLOOKUP($C86,INSCRITS!$D$4:$W$501,9,0))","v":""}]
[null,null,null,{"$f":"IF($C87=\"\",\"\",VLOOKUP($C87,INSCRITS!$D$4:$W$501,6,0))","v":""},{"$f":"IF($C87=\"\",\"\",VLOOKUP($C87,INSCRITS!$D$4:$W$501,7,0))","v":""},{"$f":"IF($C87=\"\",\"\",VLOOKUP($C87,INSCRITS!$D$4:$W$501,9,0))","v":""}]
[null,null,null,{"$f":"IF($C88=\"\",\"\",VLOOKUP($C88,INSCRITS!$D$4:$W$501,6,0))","v":""},{"$f":"IF($C88=\"\",\"\",VLOOKUP($C88,INSCRITS!$D$4:$W$501,7,0))","v":""},{"$f":"IF($C88=\"\",\"\",VLOOKUP($C88,INSCRITS!$D$4:$W$501,9,0))","v":""}]
[null,null,null,{"$f":"IF($C89=\"\",\"\",VLOOKUP($C89,INSCRITS!$D$4:$W$501,6,0))","v":""},{"$f":"IF($C89=\"\",\"\",VLOOKUP($C89,INSCRITS!$D$4:$W$501,7,0))","v":""},{"$f":"IF($C89=\"\",\"\",VLOOKUP($C89,INSCRITS!$D$4:$W$501,9,0))","v":""}]
[null,null,null,{"$f":"IF($C90=\"\",\"\",VLOOKUP($C90,INSCRITS!$D$4:$W$501,6,0))","v":""},{"$f":"IF($C90=\"\",\"\",VLOOKUP($C90,INSCRITS!$D$4:$W$501,7,0))","v":""},{"$f":"IF($C90=\"\",\"\",VLOOKUP($C90,INSCRITS!$D$4:$W$501,9,0))","v":""}]
[null,null,null,{"$f":"IF($C91=\"\",\"\",VLOOKUP($C91,INSCRITS!$D$4:$W$501,6,0))","v":""},{"$f":"IF($C91=\"\",\"\",VLOOKUP($C91,INSCRITS!$D$4:$W$501,7,0))","v":""},{"$f":"IF($C91=\"\",\"\",VLOOKUP($C91,INSCRITS!$D$4:$W$501,9,0))","v":""}]
[null,"SERIE 6",null,{"$f":"IF($C92=\"\",\"\",VLOOKUP($C92,INSCRITS!$D$4:$W$501,6,0))","v":""},{"$f":"IF($C92=\"\",\"\",VLOOKUP($C92,INSCRITS!$D$4:$W$501,7,0))","v":""},{"$f":"IF($C92=\"\",\"\",VLOOKUP($C92,INSCRITS!$D$4:$W$501,9,0))","v":""}]
[null,null,null,{"$f":"IF($C93=\"\",\"\",VLOOKUP($C93,INSCRITS!$D$4:$W$501,6,0))","v":""},{"$f":"IF($C93=\"\",\"\",VLOOKUP($C93,INSCRITS!$D$4:$W$501,7,0))","v":""},{"$f":"IF($C93=\"\",\"\",VLOOKUP($C93,INSCRITS!$D$4:$W$501,9,0))","v":""}]
[null,null,null,{"$f":"IF($C94=\"\",\"\",VLOOKUP($C94,INSCRITS!$D$4:$W$501,6,0))","v":""},{"$f":"IF($C94=\"\",\"\",VLOOKUP($C94,INSCRITS!$D$4:$W$501,7,0))","v":""},{"$f":"IF($C94=\"\",\"\",VLOOKUP($C94,INSCRITS!$D$4:$W$501,9,0))","v":""}]
[null,null,null,{"$f":"IF($C95=\"\",\"\",VLOOKUP($C95,INSCRITS!$D$4:$W$501,6,0))","v":""},{"$f":"IF($C95=\"\",\"\",VLOOKUP($C95,INSCRITS!$D$4:$W$501,7,0))","v":""},{"$f":"IF($C95=\"\",\"\",VLOOKUP($C95,INSCRITS!$D$4:$W$501,9,0))","v":""}]
[null,null,null,{"$f":"IF($C96=\"\",\"\",VLOOKUP($C96,INSCRITS!$D$4:$W$501,6,0))","v":""},{"$f":"IF($C96=\"\",\"\",VLOOKUP($C96,INSCRITS!$D$4:$W$501,7,0))","v":""},{"$f":"IF($C96=\"\",\"\",VLOOKUP($C96,INSCRITS!$D$4:$W$501,9,0))","v":""}]
[null,null,null,{"$f":"IF($C97=\"\",\"\",VLOOKUP($C97,INSCRITS!$D$4:$W$501,6,0))","v":""},{"$f":"IF($C97=\"\",\"\",VLOOKUP($C97,INSCRITS!$D$4:$W$501,7,0))","v":""},{"$f":"IF($C97=\"\",\"\",VLOOKUP($C97,INSCRITS!$D$4:$W$501,9,0))","v":""}]
[null,null,null,{"$f":"IF($C98=\"\",\"\",VLOOKUP($C98,INSCRITS!$D$4:$W$501,6,0))","v":""},{"$f":"IF($C98=\"\",\"\",VLOOKUP($C98,INSCRITS!$D$4:$W$501,7,0))","v":""},{"$f":"IF($C98=\"\",\"\",VLOOKUP($C98,INSCRITS!$D$4:$W$501,9,0))","v":""}]
[null,null,null,{"$f":"IF($C99=\"\",\"\",VLOOKUP($C99,INSCRITS!$D$4:$W$501,6,0))","v":""},{"$f":"IF($C99=\"\",\"\",VLOOKUP($C99,INSCRITS!$D$4:$W$501,7,0))","v":""},{"$f":"IF($C99=\"\",\"\",VLOOKUP($C99,INSCRITS!$D$4:$W$501,9,0))","v":""}]
[null,null,null,{"$f":"IF($C100=\"\",\"\",VLOOKUP($C100,INSCRITS!$D$4:$W$501,6,0))","v":""},{"$f":"IF($C100=\"\",\"\",VLOOKUP($C100,INSCRITS!$D$4:$W$501,7,0))","v":""},{"$f":"IF($C100=\"\",\"\",VLOOKUP($C100,INSCRITS!$D$4:$W$501,9,0))","v":""}]
[null,null,null,{"$f":"IF($C101=\"\",\"\",VLOOKUP($C101,INSCRITS!$D$4:$W$501,6,0))","v":""},{"$f":"IF($C101=\"\",\"\",VLOOKUP($C101,INSCRITS!$D$4:$W$501,7,0))","v":""},{"$f":"IF($C101=\"\",\"\",VLOOKUP($C101,INSCRITS!$D$4:$W$501,9,0))","v":""}]
[null,null,null,{"$f":"IF($C102=\"\",\"\",VLOOKUP($C102,INSCRITS!$D$4:$W$501,6,0))","v":""},{"$f":"IF($C102=\"\",\"\",VLOOKUP($C102,INSCRITS!$D$4:$W$501,7,0))","v":""},{"$f":"IF($C102=\"\",\"\",VLOOKUP($C102,INSCRITS!$D$4:$W$501,9,0))","v":""}]
[null,null,null,{"$f":"IF($C103=\"\",\"\",VLOOKUP($C103,INSCRITS!$D$4:$W$501,6,0))","v":""},{"$f":"IF($C103=\"\",\"\",VLOOKUP($C103,INSCRITS!$D$4:$W$501,7,0))","v":""},{"$f":"IF($C103=\"\",\"\",VLOOKUP($C103,INSCRITS!$D$4:$W$501,9,0))","v":""}]
[null,null,null,{"$f":"IF($C104=\"\",\"\",VLOOKUP($C104,INSCRITS!$D$4:$W$501,6,0))","v":""},{"$f":"IF($C104=\"\",\"\",VLOOKUP($C104,INSCRITS!$D$4:$W$501,7,0))","v":""},{"$f":"IF($C104=\"\",\"\",VLOOKUP($C104,INSCRITS!$D$4:$W$501,9,0))","v":""}]
[null,null,null,{"$f":"IF($C105=\"\",\"\",VLOOKUP($C105,INSCRITS!$D$4:$W$501,6,0))","v":""},{"$f":"IF($C105=\"\",\"\",VLOOKUP($C105,INSCRITS!$D$4:$W$501,7,0))","v":""},{"$f":"IF($C105=\"\",\"\",VLOOKUP($C105,INSCRITS!$D$4:$W$501,9,0))","v":""}]
[null,null,null,{"$f":"IF($C106=\"\",\"\",VLOOKUP($C106,INSCRITS!$D$4:$W$501,6,0))","v":""},{"$f":"IF($C106=\"\",\"\",VLOOKUP($C106,INSCRITS!$D$4:$W$501,7,0))","v":""},{"$f":"IF($C106=\"\",\"\",VLOOKUP($C106,INSCRITS!$D$4:$W$501,9,0))","v":""}]
[null,null,null,{"$f":"IF($C107=\"\",\"\",VLOOKUP($C107,INSCRITS!$D$4:$W$501,6,0))","v":""},{"$f":"IF($C107=\"\",\"\",VLOOKUP($C107,INSCRITS!$D$4:$W$501,7,0))","v":""},{"$f":"IF($C107=\"\",\"\",VLOOKUP($C107,INSCRITS!$D$4:$W$501,9,0))","v":""}]
[null,null,null,{"$f":"IF($C108=\"\",\"\",VLOOKUP($C108,INSCRITS!$D$4:$W$501,6,0))","v":""},{"$f":"IF($C108=\"\",\"\",VLOOKUP($C108,INSCRITS!$D$4:$W$501,7,0))","v":""},{"$f":"IF($C108=\"\",\"\",VLOOKUP($C108,INSCRITS!$D$4:$W$501,9,0))","v":""}]
[null,null,null,{"$f":"IF($C109=\"\",\"\",VLOOKUP($C109,INSCRITS!$D$4:$W$501,6,0))","v":""},{"$f":"IF($C109=\"\",\"\",VLOOKUP($C109,INSCRITS!$D$4:$W$501,7,0))","v":""},{"$f":"IF($C109=\"\",\"\",VLOOKUP($C109,INSCRITS!$D$4:$W$501,9,0))","v":""}]
[null,null,null,{"$f":"IF($C110=\"\",\"\",VLOOKUP($C110,INSCRITS!$D$4:$W$501,6,0))","v":""},{"$f":"IF($C110=\"\",\"\",VLOOKUP($C110,INSCRITS!$D$4:$W$501,7,0))","v":""},{"$f":"IF($C110=\"\",\"\",VLOOKUP($C110,INSCRITS!$D$4:$W$501,9,0))","v":""}]
[null,null,null,{"$f":"IF($C111=\"\",\"\",VLOOKUP($C111,INSCRITS!$D$4:$W$501,6,0))","v":""},{"$f":"IF($C111=\"\",\"\",VLOOKUP($C111,INSCRITS!$D$4:$W$501,7,0))","v":""},{"$f":"IF($C111=\"\",\"\",VLOOKUP($C111,INSCRITS!$D$4:$W$501,9,0))","v":""}]
[null,null,null,{"$f":"IF($C112=\"\",\"\",VLOOKUP($C112,INSCRITS!$D$4:$W$501,6,0))","v":""},{"$f":"IF($C112=\"\",\"\",VLOOKUP($C112,INSCRITS!$D$4:$W$501,7,0))","v":""},{"$f":"IF($C112=\"\",\"\",VLOOKUP($C112,INSCRITS!$D$4:$W$501,9,0))","v":""}]
[null,null,null,{"$f":"IF($C113=\"\",\"\",VLOOKUP($C113,INSCRITS!$D$4:$W$501,6,0))","v":""},{"$f":"IF($C113=\"\",\"\",VLOOKUP($C113,INSCRITS!$D$4:$W$501,7,0))","v":""},{"$f":"IF($C113=\"\",\"\",VLOOKUP($C113,INSCRITS!$D$4:$W$501,9,0))","v":""}]
[null,null,null,{"$f":"IF($C114=\"\",\"\",VLOOKUP($C114,INSCRITS!$D$4:$W$501,6,0))","v":""},{"$f":"IF($C114=\"\",\"\",VLOOKUP($C114,INSCRITS!$D$4:$W$501,7,0))","v":""},{"$f":"IF($C114=\"\",\"\",VLOOKUP($C114,INSCRITS!$D$4:$W$501,9,0))","v":""}]
[null,null,null,{"$f":"IF($C115=\"\",\"\",VLOOKUP($C115,INSCRITS!$D$4:$W$501,6,0))","v":""},{"$f":"IF($C115=\"\",\"\",VLOOKUP($C115,INSCRITS!$D$4:$W$501,7,0))","v":""},{"$f":"IF($C115=\"\",\"\",VLOOKUP($C115,INSCRITS!$D$4:$W$501,9,0))","v":""}]
[null,null,null,{"$f":"IF($C116=\"\",\"\",VLOOKUP($C116,INSCRITS!$D$4:$W$501,6,0))","v":""},{"$f":"IF($C116=\"\",\"\",VLOOKUP($C116,INSCRITS!$D$4:$W$501,7,0))","v":""},{"$f":"IF($C116=\"\",\"\",VLOOKUP($C116,INSCRITS!$D$4:$W$501,9,0))","v":""}]
[null,null,null,{"$f":"IF($C117=\"\",\"\",VLOOKUP($C117,INSCRITS!$D$4:$W$501,6,0))","v":""},{"$f":"IF($C117=\"\",\"\",VLOOKUP($C117,INSCRITS!$D$4:$W$501,7,0))","v":""},{"$f":"IF($C117=\"\",\"\",VLOOKUP($C117,INSCRITS!$D$4:$W$501,9,0))","v":""}]
[null,null,null,{"$f":"IF($C118=\"\",\"\",VLOOKUP($C118,INSCRITS!$D$4:$W$501,6,0))","v":""},{"$f":"IF($C118=\"\",\"\",VLOOKUP($C118,INSCRITS!$D$4:$W$501,7,0))","v":""},{"$f":"IF($C118=\"\",\"\",VLOOKUP($C118,INSCRITS!$D$4:$W$501,9,0))","v":""}]
[null,"SERIE 8",null,{"$f":"IF($C119=\"\",\"\",VLOOKUP($C119,INSCRITS!$D$4:$W$501,6,0))","v":""},{"$f":"IF($C119=\"\",\"\",VLOOKUP($C119,INSCRITS!$D$4:$W$501,7,0))","v":""},{"$f":"IF($C119=\"\",\"\",VLOOKUP($C119,INSCRITS!$D$4:$W$501,9,0))","v":""}]
[null,null,null,{"$f":"IF($C120=\"\",\"\",VLOOKUP($C120,INSCRITS!$D$4:$W$501,6,0))","v":""},{"$f":"IF($C120=\"\",\"\",VLOOKUP($C120,INSCRITS!$D$4:$W$501,7,0))","v":""},{"$f":"IF($C120=\"\",\"\",VLOOKUP($C120,INSCRITS!$D$4:$W$501,9,0))","v":""}]
[null,null,null,{"$f":"IF($C121=\"\",\"\",VLOOKUP($C121,INSCRITS!$D$4:$W$501,6,0))","v":""},{"$f":"IF($C121=\"\",\"\",VLOOKUP($C121,INSCRITS!$D$4:$W$501,7,0))","v":""},{"$f":"IF($C121=\"\",\"\",VLOOKUP($C121,INSCRITS!$D$4:$W$501,9,0))","v":""}]
[null,null,null,{"$f":"IF($C122=\"\",\"\",VLOOKUP($C122,INSCRITS!$D$4:$W$501,6,0))","v":""},{"$f":"IF($C122=\"\",\"\",VLOOKUP($C122,INSCRITS!$D$4:$W$501,7,0))","v":""},{"$f":"IF($C122=\"\",\"\",VLOOKUP($C122,INSCRITS!$D$4:$W$501,9,0))","v":""}]
[null,null,null,{"$f":"IF($C123=\"\",\"\",VLOOKUP($C123,INSCRITS!$D$4:$W$501,6,0))","v":""},{"$f":"IF($C123=\"\",\"\",VLOOKUP($C123,INSCRITS!$D$4:$W$501,7,0))","v":""},{"$f":"IF($C123=\"\",\"\",VLOOKUP($C123,INSCRITS!$D$4:$W$501,9,0))","v":""}]
[null,null,null,{"$f":"IF($C124=\"\",\"\",VLOOKUP($C124,INSCRITS!$D$4:$W$501,6,0))","v":""},{"$f":"IF($C124=\"\",\"\",VLOOKUP($C124,INSCRITS!$D$4:$W$501,7,0))","v":""},{"$f":"IF($C124=\"\",\"\",VLOOKUP($C124,INSCRITS!$D$4:$W$501,9,0))","v":""}]
[null,null,null,{"$f":"IF($C125=\"\",\"\",VLOOKUP($C125,INSCRITS!$D$4:$W$501,6,0))","v":""},{"$f":"IF($C125=\"\",\"\",VLOOKUP($C125,INSCRITS!$D$4:$W$501,7,0))","v":""},{"$f":"IF($C125=\"\",\"\",VLOOKUP($C125,INSCRITS!$D$4:$W$501,9,0))","v":""}]
[null,null,null,{"$f":"IF($C126=\"\",\"\",VLOOKUP($C126,INSCRITS!$D$4:$W$501,6,0))","v":""},{"$f":"IF($C126=\"\",\"\",VLOOKUP($C126,INSCRITS!$D$4:$W$501,7,0))","v":""},{"$f":"IF($C126=\"\",\"\",VLOOKUP($C126,INSCRITS!$D$4:$W$501,9,0))","v":""}]
[null,null,null,{"$f":"IF($C127=\"\",\"\",VLOOKUP($C127,INSCRITS!$D$4:$W$501,6,0))","v":""},{"$f":"IF($C127=\"\",\"\",VLOOKUP($C127,INSCRITS!$D$4:$W$501,7,0))","v":""},{"$f":"IF($C127=\"\",\"\",VLOOKUP($C127,INSCRITS!$D$4:$W$501,9,0))","v":""}]
[null,null,null,{"$f":"IF($C128=\"\",\"\",VLOOKUP($C128,INSCRITS!$D$4:$W$501,6,0))","v":""},{"$f":"IF($C128=\"\",\"\",VLOOKUP($C128,INSCRITS!$D$4:$W$501,7,0))","v":""},{"$f":"IF($C128=\"\",\"\",VLOOKUP($C128,INSCRITS!$D$4:$W$501,9,0))","v":""}]
[null,null,null,{"$f":"IF($C129=\"\",\"\",VLOOKUP($C129,INSCRITS!$D$4:$W$501,6,0))","v":""},{"$f":"IF($C129=\"\",\"\",VLOOKUP($C129,INSCRITS!$D$4:$W$501,7,0))","v":""},{"$f":"IF($C129=\"\",\"\",VLOOKUP($C129,INSCRITS!$D$4:$W$501,9,0))","v":""}]
[null,null,null,{"$f":"IF($C130=\"\",\"\",VLOOKUP($C130,INSCRITS!$D$4:$W$501,6,0))","v":""},{"$f":"IF($C130=\"\",\"\",VLOOKUP($C130,INSCRITS!$D$4:$W$501,7,0))","v":""},{"$f":"IF($C130=\"\",\"\",VLOOKUP($C130,INSCRITS!$D$4:$W$501,9,0))","v":""}]
[null,null,null,{"$f":"IF($C131=\"\",\"\",VLOOKUP($C131,INSCRITS!$D$4:$W$501,6,0))","v":""},{"$f":"IF($C131=\"\",\"\",VLOOKUP($C131,INSCRITS!$D$4:$W$501,7,0))","v":""},{"$f":"IF($C131=\"\",\"\",VLOOKUP($C131,INSCRITS!$D$4:$W$501,9,0))","v":""}]
[null,null,null,{"$f":"IF($C132=\"\",\"\",VLOOKUP($C132,INSCRITS!$D$4:$W$501,6,0))","v":""},{"$f":"IF($C132=\"\",\"\",VLOOKUP($C132,INSCRITS!$D$4:$W$501,7,0))","v":""},{"$f":"IF($C132=\"\",\"\",VLOOKUP($C132,INSCRITS!$D$4:$W$501,9,0))","v":""}]
[null,null,null,{"$f":"IF($C133=\"\",\"\",VLOOKUP($C133,INSCRITS!$D$4:$W$501,6,0))","v":""},{"$f":"IF($C133=\"\",\"\",VLOOKUP($C133,INSCRITS!$D$4:$W$501,7,0))","v":""},{"$f":"IF($C133=\"\",\"\",VLOOKUP($C133,INSCRITS!$D$4:$W$501,9,0))","v":""}]
[null,null,null,{"$f":"IF($C134=\"\",\"\",VLOOKUP($C134,INSCRITS!$D$4:$W$501,6,0))","v":""},{"$f":"IF($C134=\"\",\"\",VLOOKUP($C134,INSCRITS!$D$4:$W$501,7,0))","v":""},{"$f":"IF($C134=\"\",\"\",VLOOKUP($C134,INSCRITS!$D$4:$W$501,9,0))","v":""}]

{"sheet":"SURFSKI","index":6,"n_rows":128,"n_cols":35,"rows_kept":128,"cut":false,"hidden":false,"merged":[[7,20,22,20],[23,20,38,20],[23,12,38,12],[39,12,54,12],[29,27,45,27],[7,27,26,27],[55,12,70,12],[7,12,22,12],[6,1,20,1],[21,1,35,1],[36,1,50,1],[51,1,65,1]]}
[]
[]
[]
[null,"SERIES SURF SKI",null,null,null,null,null,null,null,null,null,null,"QUART SURF SKI",null,null,null,null,null,null,null,"DEMI-FINALES SURF SKI",null,null,null,null,null,null,null,"FINALE SURF SKI"]
[null,"Messieurs",null,null,null,null,null,null,null,null,null,null,null,null,null,null,null,null,null,null,"Messieurs",null,null,null,null,null,null,"Cadet","Messieurs"]
[null,null,null,"NOM","Prénom","CLUB","PLACE",null,null,null,null,null,null,"N°","NOM","Prénom","CLUB","PLACE",null,null,null,null,"NOM","Prénom","CLUB","PLACE",null,null,"N°","NOM","Prénom","CLUB",null,"PLACE","PTS"]
[null,"SERIE 1",123,{"$f":"IF($C7=\"\",\"\",VLOOKUP($C7,INSCRITS!$D$4:$W$501,6,0))","v":"VANDENBERGHE"},{"$f":"IF($C7=\"\",\"\",VLOOKUP($C7,INSCRITS!$D$4:$W$501,7,0))","v":"Sébastien"},{"$f":"IF($C7=\"\",\"\",VLOOKUP($C7,INSCRITS!$D$4:$W$501,9,0))","v":"ANV"}]
[null,null,158,{"$f":"IF($C8=\"\",\"\",VLOOKUP($C8,INSCRITS!$D$4:$W$501,6,0))","v":"PINTORI"},{"$f":"IF($C8=\"\",\"\",VLOOKUP($C8,INSCRITS!$D$4:$W$501,7,0))","v":"Luc"},{"$f":"IF($C8=\"\",\"\",VLOOKUP($C8,INSCRITS!$D$4:$W$501,9,0))","v":"MNSL"},null,null,null,null,null,null,"SERIE 1",null,{"$f":"IF($N8=\"\",\"\",VLOOKUP($N8,INSCRITS!$D$4:$W$501,6,0))","v":""},{"$f":"IF($N8=\"\",\"\",VLOOKUP($N8,INSCRITS!$D$4:$W$501,7,0))","v":""},{"$f":"IF($N8=\"\",\"\",VLOOKUP($N8,INSCRITS!$D$4:$W$501,9,0))","v":""},null,null,null,"SERIE 1",null,{"$f":"IF($V8=\"\",\"\",VLOOKUP($V8,INSCRITS!$D$4:$W$501,6,0))","v":""},{"$f":"IF($V8=\"\",\"\",VLOOKUP($V8,INSCRITS!$D$4:$W$501,7,0))","v":""},{"$f":"IF($V8=\"\",\"\",VLOOKUP($V8,INSCRITS!$D$4:$W$501,9,0))","v":""},null,null,"FINALE ",152,{"$f":"IF($AC8=\"\",\"\",VLOOKUP($AC8,INSCRITS!$D$4:$W$501,6,0))","v":"CIER"},{"$f":"IF($AC8=\"\",\"\",VLOOKUP($AC8,INSCRITS!$D$4:$W$501,7,0))","v":"Jules"},{"$f":"IF($AC8=\"\",\"\",VLOOKUP($AC8,INSCRITS!$D$4:$W$501,9,0))","v":"HSC"},null,1,{"$f":"IF(AH8=\"\",\"\",VLOOKUP(AH8,points,2))","v":20}]
[null,null,154,{"$f":"IF($C9=\"\",\"\",VLOOKUP($C9,INSCRITS!$D$4:$W$501,6,0))","v":"LAUSSU"},{"$f":"IF($C9=\"\",\"\",VLOOKUP($C9,INSCRITS!$D$4:$W$501,7,0))","v":"Quentin"},{"$f":"IF($C9=\"\",\"\",VLOOKUP($C9,INSCRITS!$D$4:$W$501,9,0))","v":"lit et mixe"},null,null,null,null,null,null,null,null,{"$f":"IF($N9=\"\",\"\",VLOOKUP($N9,INSCRITS!$D$4:$W$501,6,0))","v":""},{"$f":"IF($N9=\"\",\"\",VLOOKUP($N9,INSCRITS!$D$4:$W$501,7,0))","v":""},{"$f":"IF($N9=\"\",\"\",VLOOKUP($N9,INSCRITS!$D$4:$W$501,9,0))","v":""},null,null,null,null,null,{"$f":"IF($V9=\"\",\"\",VLOOKUP($V9,INSCRITS!$D$4:$W$501,6,0))","v":""},{"$f":"IF($V9=\"\",\"\",VLOOKUP($V9,INSCRITS!$D$4:$W$501,7,0))","v":""},{"$f":"IF($V9=\"\",\"\",VLOOKUP($V9,INSCRITS!$D$4:$W$501,9,0))","v":""},null,null,null,134,{"$f":"IF($AC9=\"\",\"\",VLOOKUP($AC9,INSCRITS!$D$4:$W$501,6,0))","v":"CAMGRAND"},{"$f":"IF($AC9=\"\",\"\",VLOOKUP($AC9,INSCRITS!$D$4:$W$501,7,0))","v":"Jérémie"},{"$f":"IF($AC9=\"\",\"\",VLOOKUP($AC9,INSCRITS!$D$4:$W$501,9,0))","v":"Biarritz SC"},null,2,18]
[null,null,153,{"$f":"IF($C10=\"\",\"\",VLOOKUP($C10,INSCRITS!$D$4:$W$501,6,0))","v":"TISSIER"},{"$f":"IF($C10=\"\",\"\",VLOOKUP($C10,INSCRITS!$D$4:$W$501,7,0))","v":"Mael"},{"$f":"IF($C10=\"\",\"\",VLOOKUP($C10,INSCRITS!$D$4:$W$501,9,0))","v":"HSC"},null,null,null,null,null,null,null,null,{"$f":"IF($N10=\"\",\"\",VLOOKUP($N10,INSCRITS!$D$4:$W$501,6,0))","v":""},{"$f":"IF($N10=\"\",\"\",VLOOKUP($N10,INSCRITS!$D$4:$W$501,7,0))","v":""},{"$f":"IF($N10=\"\",\"\",VLOOKUP($N10,INSCRITS!$D$4:$W$501,9,0))","v":""},null,null,null,null,null,{"$f":"IF($V10=\"\",\"\",VLOOKUP($V10,INSCRITS!$D$4:$W$501,6,0))","v":""},{"$f":"IF($V10=\"\",\"\",VLOOKUP($V10,INSCRITS!$D$4:$W$501,7,0))","v":""},{"$f":"IF($V10=\"\",\"\",VLOOKUP($V10,INSCRITS!$D$4:$W$501,9,0))","v":""},null,null,null,153,{"$f":"IF($AC10=\"\",\"\",VLOOKUP($AC10,INSCRITS!$D$4:$W$501,6,0))","v":"TISSIER"},{"$f":"IF($AC10=\"\",\"\",VLOOKUP($AC10,INSCRITS!$D$4:$W$501,7,0))","v":"Mael"},{"$f":"IF($AC10=\"\",\"\",VLOOKUP($AC10,INSCRITS!$D$4:$W$501,9,0))","v":"HSC"},null,3,16]
[null,null,152,{"$f":"IF($C11=\"\",\"\",VLOOKUP($C11,INSCRITS!$D$4:$W$501,6,0))","v":"CIER"},{"$f":"IF($C11=\"\",\"\",VLOOKUP($C11,INSCRITS!$D$4:$W$501,7,0))","v":"Jules"},{"$f":"IF($C11=\"\",\"\",VLOOKUP($C11,INSCRITS!$D$4:$W$501,9,0))","v":"HSC"},null,null,null,null,null,null,null,null,{"$f":"IF($N11=\"\",\"\",VLOOKUP($N11,INSCRITS!$D$4:$W$501,6,0))","v":""},{"$f":"IF($N11=\"\",\"\",VLOOKUP($N11,INSCRITS!$D$4:$W$501,7,0))","v":""},{"$f":"IF($N11=\"\",\"\",VLOOKUP($N11,INSCRITS!$D$4:$W$501,9,0))","v":""},null,null,null,null,null,{"$f":"IF($V11=\"\",\"\",VLOOKUP($V11,INSCRITS!$D$4:$W$501,6,0))","v":""},{"$f":"IF($V11=\"\",\"\",VLOOKUP($V11,INSCRITS!$D$4:$W$501,7,0))","v":""},{"$f":"IF($V11=\"\",\"\",VLOOKUP($V11,INSCRITS!$D$4:$W$501,9,0))","v":""},null,null,null,148,{"$f":"IF($AC11=\"\",\"\",VLOOKUP($AC11,INSCRITS!$D$4:$W$501,6,0))","v":"CAZAUX"},{"$f":"IF($AC11=\"\",\"\",VLOOKUP($AC11,INSCRITS!$D$4:$W$501,7,0))","v":"Loïc"},{"$f":"IF($AC11=\"\",\"\",VLOOKUP($AC11,INSCRITS!$D$4:$W$501,9,0))","v":"CSSM"},null,4,14]
[null,null,151,{"$f":"IF($C12=\"\",\"\",VLOOKUP($C12,INSCRITS!$D$4:$W$501,6,0))","v":"AMAUGER"},{"$f":"IF($C12=\"\",\"\",VLOOKUP($C12,INSCRITS!$D$4:$W$501,7,0))","v":"Valentin"},{"$f":"IF($C12=\"\",\"\",VLOOKUP($C12,INSCRITS!$D$4:$W$501,9,0))","v":"HSC"},null,null,null,null,null,null,null,null,{"$f":"IF($N12=\"\",\"\",VLOOKUP($N12,INSCRITS!$D$4:$W$501,6,0))","v":""},{"$f":"IF($N12=\"\",\"\",VLOOKUP($N12,INSCRITS!$D$4:$W$501,7,0))","v":""},{"$f":"IF($N12=\"\",\"\",VLOOKUP($N12,INSCRITS!$D$4:$W$501,9,0))","v":""},null,null,null,null,null,{"$f":"IF($V12=\"\",\"\",VLOOKUP($V12,INSCRITS!$D$4:$W$501,6,0))","v":""},{"$f":"IF($V12=\"\",\"\",VLOOKUP($V12,INSCRITS!$D$4:$W$501,7,0))","v":""},{"$f":"IF($V12=\"\",\"\",VLOOKUP($V12,INSCRITS!$D$4:$W$501,9,0))","v":""},null,null,null,138,{"$f":"IF($AC12=\"\",\"\",VLOOKUP($AC12,INSCRITS!$D$4:$W$501,6,0))","v":"LABAT"},{"$f":"IF($AC12=\"\",\"\",VLOOKUP($AC12,INSCRITS!$D$4:$W$501,7,0))","v":"Maxime"},{"$f":"IF($AC12=\"\",\"\",VLOOKUP($AC12,INSCRITS!$D$4:$W$501,9,0))","v":"Biarritz SC"},null,5,13]
[null,null,148,{"$f":"IF($C13=\"\",\"\",VLOOKUP($C13,INSCRITS!$D$4:$W$501,6,0))","v":"CAZAUX"},{"$f":"IF($C13=\"\",\"\",VLOOKUP($C13,INSCRITS!$D$4:$W$501,7,0))","v":"Loïc"},{"$f":"IF($C13=\"\",\"\",VLOOKUP($C13,INSCRITS!$D$4:$W$501,9,0))","v":"CSSM"},null,null,null,null,null,null,null,null,{"$f":"IF($N13=\"\",\"\",VLOOKUP($N13,INSCRITS!$D$4:$W$501,6,0))","v":""},{"$f":"IF($N13=\"\",\"\",VLOOKUP($N13,INSCRITS!$D$4:$W$501,7,0))","v":""},{"$f":"IF($N13=\"\",\"\",VLOOKUP($N13,INSCRITS!$D$4:$W$501,9,0))","v":""},null,null,null,null,null,{"$f":"IF($V13=\"\",\"\",VLOOKUP($V13,INSCRITS!$D$4:$W$501,6,0))","v":""},{"$f":"IF($V13=\"\",\"\",VLOOKUP($V13,INSCRITS!$D$4:$W$501,7,0))","v":""},{"$f":"IF($V13=\"\",\"\",VLOOKUP($V13,INSCRITS!$D$4:$W$501,9,0))","v":""},null,null,null,126,{"$f":"IF($AC13=\"\",\"\",VLOOKUP($AC13,INSCRITS!$D$4:$W$501,6,0))","v":"PLESSIS"},{"$f":"IF($AC13=\"\",\"\",VLOOKUP($AC13,INSCRITS!$D$4:$W$501,7,0))","v":"Quentin"},{"$f":"IF($AC13=\"\",\"\",VLOOKUP($AC13,INSCRITS!$D$4:$W$501,9,0))","v":"AQUALOVE"},null,6,12]
[null,null,147,{"$f":"IF($C14=\"\",\"\",VLOOKUP($C14,INSCRITS!$D$4:$W$501,6,0))","v":"WAGNER"},{"$f":"IF($C14=\"\",\"\",VLOOKUP($C14,INSCRITS!$D$4:$W$501,7,0))","v":"Florian"},{"$f":"IF($C14=\"\",\"\",VLOOKUP($C14,INSCRITS!$D$4:$W$501,9,0))","v":"COLMAR ACSS"},null,null,null,null,null,null,null,null,{"$f":"IF($N14=\"\",\"\",VLOOKUP($N14,INSCRITS!$D$4:$W$501,6,0))","v":""},{"$f":"IF($N14=\"\",\"\",VLOOKUP($N14,INSCRITS!$D$4:$W$501,7,0))","v":""},{"$f":"IF($N14=\"\",\"\",VLOOKUP($N14,INSCRITS!$D$4:$W$501,9,0))","v":""},null,null,null,null,null,{"$f":"IF($V14=\"\",\"\",VLOOKUP($V14,INSCRITS!$D$4:$W$501,6,0))","v":""},{"$f":"IF($V14=\"\",\"\",VLOOKUP($V14,INSCRITS!$D$4:$W$501,7,0))","v":""},{"$f":"IF($V14=\"\",\"\",VLOOKUP($V14,INSCRITS!$D$4:$W$501,9,0))","v":""},null,null,null,151,{"$f":"IF($AC14=\"\",\"\",VLOOKUP($AC14,INSCRITS!$D$4:$W$501,6,0))","v":"AMAUGER"},{"$f":"IF($AC14=\"\",\"\",VLOOKUP($AC14,INSCRITS!$D$4:$W$501,7,0))","v":"Valentin"},{"$f":"IF($AC14=\"\",\"\",VLOOKUP($AC14,INSCRITS!$D$4:$W$501,9,0))","v":"HSC"},null,7,11]
[null,null,145,{"$f":"IF($C15=\"\",\"\",VLOOKUP($C15,INSCRITS!$D$4:$W$501,6,0))","v":"VECCHINI"},{"$f":"IF($C15=\"\",\"\",VLOOKUP($C15,INSCRITS!$D$4:$W$501,7,0))","v":"Thierry"},{"$f":"IF($C15=\"\",\"\",VLOOKUP($C15,INSCRITS!$D$4:$W$501,9,0))","v":"Cannes Sauvetage Côtier"},null,null,null,null,null,null,null,null,{"$f":"IF($N15=\"\",\"\",VLOOKUP($N15,INSCRITS!$D$4:$W$501,6,0))","v":""},{"$f":"IF($N15=\"\",\"\",VLOOKUP($N15,INSCRITS!$D$4:$W$501,7,0))","v":""},{"$f":"IF($N15=\"\",\"\",VLOOKUP($N15,INSCRITS!$D$4:$W$501,9,0))","v":""},null,null,null,null,null,{"$f":"IF($V15=\"\",\"\",VLOOKUP($V15,INSCRITS!$D$4:$W$501,6,0))","v":""},{"$f":"IF($V15=\"\",\"\",VLOOKUP($V15,INSCRITS!$D$4:$W$501,7,0))","v":""},{"$f":"IF($V15=\"\",\"\",VLOOKUP($V15,INSCRITS!$D$4:$W$501,9,0))","v":""},null,null,null,125,{"$f":"IF($AC15=\"\",\"\",VLOOKUP($AC15,INSCRITS!$D$4:$W$501,6,0))","v":"EL KHATIR"},{"$f":"IF($AC15=\"\",\"\",VLOOKUP($AC15,INSCRITS!$D$4:$W$501,7,0))","v":"Younes"},{"$f":"IF($AC15=\"\",\"\",VLOOKUP($AC15,INSCRITS!$D$4:$W$501,9,0))","v":"AQUALOVE"},null,8,10]
[null,null,144,{"$f":"IF($C16=\"\",\"\",VLOOKUP($C16,INSCRITS!$D$4:$W$501,6,0))","v":"LICARI"},{"$f":"IF($C16=\"\",\"\",VLOOKUP($C16,INSCRITS!$D$4:$W$501,7,0))","v":"Arnaud"},{"$f":"IF($C16=\"\",\"\",VLOOKUP($C16,INSCRITS!$D$4:$W$501,9,0))","v":"Cannes Sauvetage Côtier"},null,null,null,null,null,null,null,null,{"$f":"IF($N16=\"\",\"\",VLOOKUP($N16,INSCRITS!$D$4:$W$501,6,0))","v":""},{"$f":"IF($N16=\"\",\"\",VLOOKUP($N16,INSCRITS!$D$4:$W$501,7,0))","v":""},{"$f":"IF($N16=\"\",\"\",VLOOKUP($N16,INSCRITS!$D$4:$W$501,9,0))","v":""},null,null,null,null,null,{"$f":"IF($V16=\"\",\"\",VLOOKUP($V16,INSCRITS!$D$4:$W$501,6,0))","v":""},{"$f":"IF($V16=\"\",\"\",VLOOKUP($V16,INSCRITS!$D$4:$W$501,7,0))","v":""},{"$f":"IF($V16=\"\",\"\",VLOOKUP($V16,INSCRITS!$D$4:$W$501,9,0))","v":""},null,null,null,123,{"$f":"IF($AC16=\"\",\"\",VLOOKUP($AC16,INSCRITS!$D$4:$W$501,6,0))","v":"VANDENBERGHE"},{"$f":"IF($AC16=\"\",\"\",VLOOKUP($AC16,INSCRITS!$D$4:$W$501,7,0))","v":"Sébastien"},{"$f":"IF($AC16=\"\",\"\",VLOOKUP($AC16,INSCRITS!$D$4:$W$501,9,0))","v":"ANV"},null,9,8]
[null,null,143,{"$f":"IF($C17=\"\",\"\",VLOOKUP($C17,INSCRITS!$D$4:$W$501,6,0))","v":"LICARI"},{"$f":"IF($C17=\"\",\"\",VLOOKUP($C17,INSCRITS!$D$4:$W$501,7,0))","v":"Antoine"},{"$f":"IF($C17=\"\",\"\",VLOOKUP($C17,INSCRITS!$D$4:$W$501,9,0))","v":"Cannes Sauvetage Côtier"},null,null,null,null,null,null,null,null,{"$f":"IF($N17=\"\",\"\",VLOOKUP($N17,INSCRITS!$D$4:$W$501,6,0))","v":""},{"$f":"IF($N17=\"\",\"\",VLOOKUP($N17,INSCRITS!$D$4:$W$501,7,0))","v":""},{"$f":"IF($N17=\"\",\"\",VLOOKUP($N17,INSCRITS!$D$4:$W$501,9,0))","v":""},null,null,null,null,null,{"$f":"IF($V17=\"\",\"\",VLOOKUP($V17,INSCRITS!$D$4:$W$501,6,0))","v":""},{"$f":"IF($V17=\"\",\"\",VLOOKUP($V17,INSCRITS!$D$4:$W$501,7,0))","v":""},{"$f":"IF($V17=\"\",\"\",VLOOKUP($V17,INSCRITS!$D$4:$W$501,9,0))","v":""},null,null,null,144,{"$f":"IF($AC17=\"\",\"\",VLOOKUP($AC17,INSCRITS!$D$4:$W$501,6,0))","v":"LICARI"},{"$f":"IF($AC17=\"\",\"\",VLOOKUP($AC17,INSCRITS!$D$4:$W$501,7,0))","v":"Arnaud"},{"$f":"IF($AC17=\"\",\"\",VLOOKUP($AC17,INSCRITS!$D$4:$W$501,9,0))","v":"Cannes Sauvetage Côtier"},null,10,7]
[null,null,142,{"$f":"IF($C18=\"\",\"\",VLOOKUP($C18,INSCRITS!$D$4:$W$501,6,0))","v":"PERRIN"},{"$f":"IF($C18=\"\",\"\",VLOOKUP($C18,INSCRITS!$D$4:$W$501,7,0))","v":"Hugo"},{"$f":"IF($C18=\"\",\"\",VLOOKUP($C18,INSCRITS!$D$4:$W$501,9,0))","v":"BOSS"},null,null,null,null,null,null,null,null,{"$f":"IF($N18=\"\",\"\",VLOOKUP($N18,INSCRITS!$D$4:$W$501,6,0))","v":""},{"$f":"IF($N18=\"\",\"\",VLOOKUP($N18,INSCRITS!$D$4:$W$501,7,0))","v":""},{"$f":"IF($N18=\"\",\"\",VLOOKUP($N18,INSCRITS!$D$4:$W$501,9,0))","v":""},null,null,null,null,null,{"$f":"IF($V18=\"\",\"\",VLOOKUP($V18,INSCRITS!$D$4:$W$501,6,0))","v":""},{"$f":"IF($V18=\"\",\"\",VLOOKUP($V18,INSCRITS!$D$4:$W$501,7,0))","v":""},{"$f":"IF($V18=\"\",\"\",VLOOKUP($V18,INSCRITS!$D$4:$W$501,9,0))","v":""},null,null,null,154,{"$f":"IF($AC18=\"\",\"\",VLOOKUP($AC18,INSCRITS!$D$4:$W$501,6,0))","v":"LAUSSU"},{"$f":"IF($AC18=\"\",\"\",VLOOKUP($AC18,INSCRITS!$D$4:$W$501,7,0))","v":"Quentin"},{"$f":"IF($AC18=\"\",\"\",VLOOKUP($AC18,INSCRITS!$D$4:$W$501,9,0))","v":"lit et mixe"},null,11,6]
[null,null,141,{"$f":"IF($C19=\"\",\"\",VLOOKUP($C19,INSCRITS!$D$4:$W$501,6,0))","v":"LAUBUGE"},{"$f":"IF($C19=\"\",\"\",VLOOKUP($C19,INSCRITS!$D$4:$W$501,7,0))","v":"Nathanael"},{"$f":"IF($C19=\"\",\"\",VLOOKUP($C19,INSCRITS!$D$4:$W$501,9,0))","v":"BOSS"},null,null,null,null,null,null,null,null,{"$f":"IF($N19=\"\",\"\",VLOOKUP($N19,INSCRITS!$D$4:$W$501,6,0))","v":""},{"$f":"IF($N19=\"\",\"\",VLOOKUP($N19,INSCRITS!$D$4:$W$501,7,0))","v":""},{"$f":"IF($N19=\"\",\"\",VLOOKUP($N19,INSCRITS!$D$4:$W$501,9,0))","v":""},null,null,null,null,null,{"$f":"IF($V19=\"\",\"\",VLOOKUP($V19,INSCRITS!$D$4:$W$501,6,0))","v":""},{"$f":"IF($V19=\"\",\"\",VLOOKUP($V19,INSCRITS!$D$4:$W$501,7,0))","v":""},{"$f":"IF($V19=\"\",\"\",VLOOKUP($V19,INSCRITS!$D$4:$W$501,9,0))","v":""},null,null,null,140,{"$f":"IF($AC19=\"\",\"\",VLOOKUP($AC19,INSCRITS!$D$4:$W$501,6,0))","v":"YOH"},{"$f":"IF($AC19=\"\",\"\",VLOOKUP($AC19,INSCRITS!$D$4:$W$501,7,0))","v":"Titouan"},{"$f":"IF($AC19=\"\",\"\",VLOOKUP($AC19,INSCRITS!$D$4:$W$501,9,0))","v":"Biarritz SC"},null,12,5]
[null,null,140,{"$f":"IF($C20=\"\",\"\",VLOOKUP($C20,INSCRITS!$D$4:$W$501,6,0))","v":"YOH"},{"$f":"IF($C20=\"\",\"\",VLOOKUP($C20,INSCRITS!$D$4:$W$501,7,0))","v":"Titouan"},{"$f":"IF($C20=\"\",\"\",VLOOKUP($C20,INSCRITS!$D$4:$W$501,9,0))","v":"Biarritz SC"},null,null,null,null,null,null,null,null,{"$f":"IF($N20=\"\",\"\",VLOOKUP($N20,INSCRITS!$D$4:$W$501,6,0))","v":""},{"$f":"IF($N20=\"\",\"\",VLOOKUP($N20,INSCRITS!$D$4:$W$501,7,0))","v":""},{"$f":"IF($N20=\"\",\"\",VLOOKUP($N20,INSCRITS!$D$4:$W$501,9,0))","v":""},null,null,null,null,null,{"$f":"IF($V20=\"\",\"\",VLOOKUP($V20,INSCRITS!$D$4:$W$501,6,0))","v":""},{"$f":"IF($V20=\"\",\"\",VLOOKUP($V20,INSCRITS!$D$4:$W$501,7,0))","v":""},{"$f":"IF($V20=\"\",\"\",VLOOKUP($V20,INSCRITS!$D$4:$W$501,9,0))","v":""},null,null,null,141,{"$f":"IF($AC20=\"\",\"\",VLOOKUP($AC20,INSCRITS!$D$4:$W$501,6,0))","v":"LAUBUGE"},{"$f":"IF($AC20=\"\",\"\",VLOOKUP($AC20,INSCRITS!$D$4:$W$501,7,0))","v":"Nathanael"},{"$f":"IF($AC20=\"\",\"\",VLOOKUP($AC20,INSCRITS!$D$4:$W$501,9,0))","v":"BOSS"},null,13,4]
[null,null,138,{"$f":"IF($C21=\"\",\"\",VLOOKUP($C21,INSCRITS!$D$4:$W$501,6,0))","v":"LABAT"},{"$f":"IF($C21=\"\",\"\",VLOOKUP($C21,INSCRITS!$D$4:$W$501,7,0))","v":"Maxime"},{"$f":"IF($C21=\"\",\"\",VLOOKUP($C21,INSCRITS!$D$4:$W$501,9,0))","v":"Biarritz SC"},null,null,null,null,null,null,null,null,{"$f":"IF($N21=\"\",\"\",VLOOKUP($N21,INSCRITS!$D$4:$W$501,6,0))","v":""},{"$f":"IF($N21=\"\",\"\",VLOOKUP($N21,INSCRITS!$D$4:$W$501,7,0))","v":""},{"$f":"IF($N21=\"\",\"\",VLOOKUP($N21,INSCRITS!$D$4:$W$501,9,0))","v":""},null,null,null,null,null,{"$f":"IF($V21=\"\",\"\",VLOOKUP($V21,INSCRITS!$D$4:$W$501,6,0))","v":""},{"$f":"IF($V21=\"\",\"\",VLOOKUP($V21,INSCRITS!$D$4:$W$501,7,0))","v":""},{"$f":"IF($V21=\"\",\"\",VLOOKUP($V21,INSCRITS!$D$4:$W$501,9,0))","v":""},null,null,null,143,{"$f":"IF($AC21=\"\",\"\",VLOOKUP($AC21,INSCRITS!$D$4:$W$501,6,0))","v":"LICARI"},{"$f":"IF($AC21=\"\",\"\",VLOOKUP($AC21,INSCRITS!$D$4:$W$501,7,0))","v":"Antoine"},{"$f":"IF($AC21=\"\",\"\",VLOOKUP($AC21,INSCRITS!$D$4:$W$501,9,0))","v":"Cannes Sauvetage Côtier"},null,14,3]
[null,"SERIE 2",134,{"$f":"IF($C22=\"\",\"\",VLOOKUP($C22,INSCRITS!$D$4:$W$501,6,0))","v":"CAMGRAND"},{"$f":"IF($C22=\"\",\"\",VLOOKUP($C22,INSCRITS!$D$4:$W$501,7,0))","v":"Jérémie"},{"$f":"IF($C22=\"\",\"\",VLOOKUP($C22,INSCRITS!$D$4:$W$501,9,0))","v":"Biarritz SC"},null,null,null,null,null,null,null,null,{"$f":"IF($N22=\"\",\"\",VLOOKUP($N22,INSCRITS!$D$4:$W$501,6,0))","v":""},{"$f":"IF($N22=\"\",\"\",VLOOKUP($N22,INSCRITS!$D$4:$W$501,7,0))","v":""},{"$f":"IF($N22=\"\",\"\",VLOOKUP($N22,INSCRITS!$D$4:$W$501,9,0))","v":""},null,null,null,null,null,{"$f":"IF($V22=\"\",\"\",VLOOKUP($V22,INSCRITS!$D$4:$W$501,6,0))","v":""},{"$f":"IF($V22=\"\",\"\",VLOOKUP($V22,INSCRITS!$D$4:$W$501,7,0))","v":""},{"$f":"IF($V22=\"\",\"\",VLOOKUP($V22,INSCRITS!$D$4:$W$501,9,0))","v":""},null,null,null,158,{"$f":"IF($AC22=\"\",\"\",VLOOKUP($AC22,INSCRITS!$D$4:$W$501,6,0))","v":"PINTORI"},{"$f":"IF($AC22=\"\",\"\",VLOOKUP($AC22,INSCRITS!$D$4:$W$501,7,0))","v":"Luc"},{"$f":"IF($AC22=\"\",\"\",VLOOKUP($AC22,INSCRITS!$D$4:$W$501,9,0))","v":"MNSL"},null,15,2]
[null,null,129,{"$f":"IF($C23=\"\",\"\",VLOOKUP($C23,INSCRITS!$D$4:$W$501,6,0))","v":"LEBRET"},{"$f":"IF($C23=\"\",\"\",VLOOKUP($C23,INSCRITS!$D$4:$W$501,7,0))","v":"Samuel"},{"$f":"IF($C23=\"\",\"\",VLOOKUP($C23,INSCRITS!$D$4:$W$501,9,0))","v":"ASCE DINARD "},null,null,null,null,null,null,null,null,{"$f":"IF($N23=\"\",\"\",VLOOKUP($N23,INSCRITS!$D$4:$W$501,6,0))","v":""},{"$f":"IF($N23=\"\",\"\",VLOOKUP($N23,INSCRITS!$D$4:$W$501,7,0))","v":""},{"$f":"IF($N23=\"\",\"\",VLOOKUP($N23,INSCRITS!$D$4:$W$501,9,0))","v":""},null,null,null,null,null,{"$f":"IF($V23=\"\",\"\",VLOOKUP($V23,INSCRITS!$D$4:$W$501,6,0))","v":""},{"$f":"IF($V23=\"\",\"\",VLOOKUP($V23,INSCRITS!$D$4:$W$501,7,0))","v":""},{"$f":"IF($V23=\"\",\"\",VLOOKUP($V23,INSCRITS!$D$4:$W$501,9,0))","v":""},null,null,null,147,{"$f":"IF($AC23=\"\",\"\",VLOOKUP($AC23,INSCRITS!$D$4:$W$501,6,0))","v":"WAGNER"},{"$f":"IF($AC23=\"\",\"\",VLOOKUP($AC23,INSCRITS!$D$4:$W$501,7,0))","v":"Florian"},{"$f":"IF($AC23=\"\",\"\",VLOOKUP($AC23,INSCRITS!$D$4:$W$501,9,0))","v":"COLMAR ACSS"},null,16,1]
[null,null,null,{"$f":"IF($C24=\"\",\"\",VLOOKUP($C24,INSCRITS!$D$4:$W$501,6,0))","v":""},{"$f":"IF($C24=\"\",\"\",VLOOKUP($C24,INSCRITS!$D$4:$W$501,7,0))","v":""},{"$f":"IF($C24=\"\",\"\",VLOOKUP($C24,INSCRITS!$D$4:$W$501,9,0))","v":""},null,null,null,null,null,null,"SERIE 2",null,{"$f":"IF($N24=\"\",\"\",VLOOKUP($N24,INSCRITS!$D$4:$W$501,6,0))","v":""},{"$f":"IF($N24=\"\",\"\",VLOOKUP($N24,INSCRITS!$D$4:$W$501,7,0))","v":""},{"$f":"IF($N24=\"\",\"\",VLOOKUP($N24,INSCRITS!$D$4:$W$501,9,0))","v":""},null,null,null,"SERIE 2",null,{"$f":"IF($V24=\"\",\"\",VLOOKUP($V24,INSCRITS!$D$4:$W$501,6,0))","v":""},{"$f":"IF($V24=\"\",\"\",VLOOKUP($V24,INSCRITS!$D$4:$W$501,7,0))","v":""},{"$f":"IF($V24=\"\",\"\",VLOOKUP($V24,INSCRITS!$D$4:$W$501,9,0))","v":""},null,null,null,145,{"$f":"IF($AC24=\"\",\"\",VLOOKUP($AC24,INSCRITS!$D$4:$W$501,6,0))","v":"VECCHINI"},{"$f":"IF($AC24=\"\",\"\",VLOOKUP($AC24,INSCRITS!$D$4:$W$501,7,0))","v":"Thierry"},{"$f":"IF($AC24=\"\",\"\",VLOOKUP($AC24,INSCRITS!$D$4:$W$501,9,0))","v":"Cannes Sauvetage Côtier"},null,17,{"$f":"IF(AH24=\"\",\"\",VLOOKUP(AH24,points,2))","v":0}]
[null,null,null,{"$f":"IF($C25=\"\",\"\",VLOOKUP($C25,INSCRITS!$D$4:$W$501,6,0))","v":""},{"$f":"IF($C25=\"\",\"\",VLOOKUP($C25,INSCRITS!$D$4:$W$501,7,0))","v":""},{"$f":"IF($C25=\"\",\"\",VLOOKUP($C25,INSCRITS!$D$4:$W$501,9,0))","v":""},null,null,null,null,null,null,null,null,{"$f":"IF($N25=\"\",\"\",VLOOKUP($N25,INSCRITS!$D$4:$W$501,6,0))","v":""},{"$f":"IF($N25=\"\",\"\",VLOOKUP($N25,INSCRITS!$D$4:$W$501,7,0))","v":""},{"$f":"IF($N25=\"\",\"\",VLOOKUP($N25,INSCRITS!$D$4:$W$501,9,0))","v":""},null,null,null,null,null,{"$f":"IF($V25=\"\",\"\",VLOOKUP($V25,INSCRITS!$D$4:$W$501,6,0))","v":""},{"$f":"IF($V25=\"\",\"\",VLOOKUP($V25,INSCRITS!$D$4:$W$501,7,0))","v":""},{"$f":"IF($V25=\"\",\"\",VLOOKUP($V25,INSCRITS!$D$4:$W$501,9,0))","v":""},null,null,null,127,{"$f":"IF($AC25=\"\",\"\",VLOOKUP($AC25,INSCRITS!$D$4:$W$501,6,0))","v":"CADOT"},{"$f":"IF($AC25=\"\",\"\",VLOOKUP($AC25,INSCRITS!$D$4:$W$501,7,0))","v":"François"},{"$f":"IF($AC25=\"\",\"\",VLOOKUP($AC25,INSCRITS!$D$4:$W$501,9,0))","v":"ASCE DINARD"},null,"abs",0]
[null,null,126,{"$f":"IF($C26=\"\",\"\",VLOOKUP($C26,INSCRITS!$D$4:$W$501,6,0))","v":"PLESSIS"},{"$f":"IF($C26=\"\",\"\",VLOOKUP($C26,INSCRITS!$D$4:$W$501,7,0))","v":"Quentin"},{"$f":"IF($C26=\"\",\"\",VLOOKUP($C26,INSCRITS!$D$4:$W$501,9,0))","v":"AQUALOVE"},null,null,null,null,null,null,null,null,{"$f":"IF($N26=\"\",\"\",VLOOKUP($N26,INSCRITS!$D$4:$W$501,6,0))","v":""},{"$f":"IF($N26=\"\",\"\",VLOOKUP($N26,INSCRITS!$D$4:$W$501,7,0))","v":""},{"$f":"IF($N26=\"\",\"\",VLOOKUP($N26,INSCRITS!$D$4:$W$501,9,0))","v":""},null,null,null,null,null,{"$f":"IF($V26=\"\",\"\",VLOOKUP($V26,INSCRITS!$D$4:$W$501,6,0))","v":""},{"$f":"IF($V26=\"\",\"\",VLOOKUP($V26,INSCRITS!$D$4:$W$501,7,0))","v":""},{"$f":"IF($V26=\"\",\"\",VLOOKUP($V26,INSCRITS!$D$4:$W$501,9,0))","v":""},null,null,null,124,{"$f":"IF($AC26=\"\",\"\",VLOOKUP($AC26,INSCRITS!$D$4:$W$501,6,0))","v":"ALARCON"},{"$f":"IF($AC26=\"\",\"\",VLOOKUP($AC26,INSCRITS!$D$4:$W$501,7,0))","v":"Benjamin"},{"$f":"IF($AC26=\"\",\"\",VLOOKUP($AC26,INSCRITS!$D$4:$W$501,9,0))","v":"AQUALOVE"},null,"abs",0]
[null,null,125,{"$f":"IF($C27=\"\",\"\",VLOOKUP($C27,INSCRITS!$D$4:$W$501,6,0))","v":"EL KHATIR"},{"$f":"IF($C27=\"\",\"\",VLOOKUP($C27,INSCRITS!$D$4:$W$501,7,0))","v":"Younes"},{"$f":"IF($C27=\"\",\"\",VLOOKUP($C27,INSCRITS!$D$4:$W$501,9,0))","v":"AQUALOVE"},null,null,null,null,null,null,null,null,{"$f":"IF($N27=\"\",\"\",VLOOKUP($N27,INSCRITS!$D$4:$W$501,6,0))","v":""},{"$f":"IF($N27=\"\",\"\",VLOOKUP($N27,INSCRITS!$D$4:$W$501,7,0))","v":""},{"$f":"IF($N27=\"\",\"\",VLOOKUP($N27,INSCRITS!$D$4:$W$501,9,0))","v":""},null,null,null,null,null,{"$f":"IF($V27=\"\",\"\",VLOOKUP($V27,INSCRITS!$D$4:$W$501,6,0))","v":""},{"$f":"IF($V27=\"\",\"\",VLOOKUP($V27,INSCRITS!$D$4:$W$501,7,0))","v":""},{"$f":"IF($V27=\"\",\"\",VLOOKUP($V27,INSCRITS!$D$4:$W$501,9,0))","v":""},null,null,null,142,{"$f":"IF($AC27=\"\",\"\",VLOOKUP($AC27,INSCRITS!$D$4:$W$501,6,0))","v":"PERRIN"},{"$f":"IF($AC27=\"\",\"\",VLOOKUP($AC27,INSCRITS!$D$4:$W$501,7,0))","v":"Hugo"},{"$f":"IF($AC27=\"\",\"\",VLOOKUP($AC27,INSCRITS!$D$4:$W$501,9,0))","v":"BOSS"},null,"abs",0]
[null,null,124,{"$f":"IF($C28=\"\",\"\",VLOOKUP($C28,INSCRITS!$D$4:$W$501,6,0))","v":"ALARCON"},{"$f":"IF($C28=\"\",\"\",VLOOKUP($C28,INSCRITS!$D$4:$W$501,7,0))","v":"Benjamin"},{"$f":"IF($C28=\"\",\"\",VLOOKUP($C28,INSCRITS!$D$4:$W$501,9,0))","v":"AQUALOVE"},null,null,null,null,null,null,null,null,{"$f":"IF($N28=\"\",\"\",VLOOKUP($N28,INSCRITS!$D$4:$W$501,6,0))","v":""},{"$f":"IF($N28=\"\",\"\",VLOOKUP($N28,INSCRITS!$D$4:$W$501,7,0))","v":""},{"$f":"IF($N28=\"\",\"\",VLOOKUP($N28,INSCRITS!$D$4:$W$501,9,0))","v":""},null,null,null,null,null,{"$f":"IF($V28=\"\",\"\",VLOOKUP($V28,INSCRITS!$D$4:$W$501,6,0))","v":""},{"$f":"IF($V28=\"\",\"\",VLOOKUP($V28,INSCRITS!$D$4:$W$501,7,0))","v":""},{"$f":"IF($V28=\"\",\"\",VLOOKUP($V28,INSCRITS!$D$4:$W$501,9,0))","v":""},null,null,null,null,{"$f":"IF($AC28=\"\",\"\",VLOOKUP($AC28,INSCRITS!$D$4:$W$501,6,0))","v":""},{"$f":"IF($AC28=\"\",\"\",VLOOKUP($AC28,INSCRITS!$D$4:$W$501,7,0))","v":""},{"$f":"IF($AC28=\"\",\"\",VLOOKUP($AC28,INSCRITS!$D$4:$W$501,9,0))","v":""},null,null,""]
[null,null,null,{"$f":"IF($C29=\"\",\"\",VLOOKUP($C29,INSCRITS!$D$4:$W$501,6,0))","v":""},{"$f":"IF($C29=\"\",\"\",VLOOKUP($C29,INSCRITS!$D$4:$W$501,7,0))","v":""},{"$f":"IF($C29=\"\",\"\",VLOOKUP($C29,INSCRITS!$D$4:$W$501,9,0))","v":""},null,null,null,null,null,null,null,null,{"$f":"IF($N29=\"\",\"\",VLOOKUP($N29,INSCRITS!$D$4:$W$501,6,0))","v":""},{"$f":"IF($N29=\"\",\"\",VLOOKUP($N29,INSCRITS!$D$4:$W$501,7,0))","v":""},{"$f":"IF($N29=\"\",\"\",VLOOKUP($N29,INSCRITS!$D$4:$W$501,9,0))","v":""},null,null,null,null,null,{"$f":"IF($V29=\"\",\"\",VLOOKUP($V29,INSCRITS!$D$4:$W$501,6,0))","v":""},{"$f":"IF($V29=\"\",\"\",VLOOKUP($V29,INSCRITS!$D$4:$W$501,7,0))","v":""},{"$f":"IF($V29=\"\",\"\",VLOOKUP($V29,INSCRITS!$D$4:$W$501,9,0))","v":""},null,null,null,null,{"$f":"IF($AC29=\"\",\"\",VLOOKUP($AC29,INSCRITS!$D$4:$W$501,6,0))","v":""},{"$f":"IF($AC29=\"\",\"\",VLOOKUP($AC29,INSCRITS!$D$4:$W$501,7,0))","v":""},{"$f":"IF($AC29=\"\",\"\",VLOOKUP($AC29,INSCRITS!$D$4:$W$501,9,0))","v":""},null,null,""]
[null,null,null,{"$f":"IF($C30=\"\",\"\",VLOOKUP($C30,INSCRITS!$D$4:$W$501,6,0))","v":""},{"$f":"IF($C30=\"\",\"\",VLOOKUP($C30,INSCRITS!$D$4:$W$501,7,0))","v":""},{"$f":"IF($C30=\"\",\"\",VLOOKUP($C30,INSCRITS!$D$4:$W$501,9,0))","v":""},null,null,null,null,null,null,null,null,{"$f":"IF($N30=\"\",\"\",VLOOKUP($N30,INSCRITS!$D$4:$W$501,6,0))","v":""},{"$f":"IF($N30=\"\",\"\",VLOOKUP($N30,INSCRITS!$D$4:$W$501,7,0))","v":""},{"$f":"IF($N30=\"\",\"\",VLOOKUP($N30,INSCRITS!$D$4:$W$501,9,0))","v":""},null,null,null,null,null,{"$f":"IF($V30=\"\",\"\",VLOOKUP($V30,INSCRITS!$D$4:$W$501,6,0))","v":""},{"$f":"IF($V30=\"\",\"\",VLOOKUP($V30,INSCRITS!$D$4:$W$501,7,0))","v":""},{"$f":"IF($V30=\"\",\"\",VLOOKUP($V30,INSCRITS!$D$4:$W$501,9,0))","v":""},null,null,"FINALE B",null,{"$f":"IF($AC30=\"\",\"\",VLOOKUP($AC30,INSCRITS!$D$4:$W$501,6,0))","v":""},{"$f":"IF($AC30=\"\",\"\",VLOOKUP($AC30,INSCRITS!$D$4:$W$501,7,0))","v":""},{"$f":"IF($AC30=\"\",\"\",VLOOKUP($AC30,INSCRITS!$D$4:$W$501,9,0))","v":""}]
[null,null,null,{"$f":"IF($C31=\"\",\"\",VLOOKUP($C31,INSCRITS!$D$4:$W$501,6,0))","v":""},{"$f":"IF($C31=\"\",\"\",VLOOKUP($C31,INSCRITS!$D$4:$W$501,7,0))","v":""},{"$f":"IF($C31=\"\",\"\",VLOOKUP($C31,INSCRITS!$D$4:$W$501,9,0))","v":""},null,null,null,null,null,null,null,null,{"$f":"IF($N31=\"\",\"\",VLOOKUP($N31,INSCRITS!$D$4:$W$501,6,0))","v":""},{"$f":"IF($N31=\"\",\"\",VLOOKUP($N31,INSCRITS!$D$4:$W$501,7,0))","v":""},{"$f":"IF($N31=\"\",\"\",VLOOKUP($N31,INSCRITS!$D$4:$W$501,9,0))","v":""},null,null,null,null,null,{"$f":"IF($V31=\"\",\"\",VLOOKUP($V31,INSCRITS!$D$4:$W$501,6,0))","v":""},{"$f":"IF($V31=\"\",\"\",VLOOKUP($V31,INSCRITS!$D$4:$W$501,7,0))","v":""},{"$f":"IF($V31=\"\",\"\",VLOOKUP($V31,INSCRITS!$D$4:$W$501,9,0))","v":""},null,null,null,null,{"$f":"IF($AC31=\"\",\"\",VLOOKUP($AC31,INSCRITS!$D$4:$W$501,6,0))","v":""},{"$f":"IF($AC31=\"\",\"\",VLOOKUP($AC31,INSCRITS!$D$4:$W$501,7,0))","v":""},{"$f":"IF($AC31=\"\",\"\",VLOOKUP($AC31,INSCRITS!$D$4:$W$501,9,0))","v":""}]
[null,null,null,{"$f":"IF($C32=\"\",\"\",VLOOKUP($C32,INSCRITS!$D$4:$W$501,6,0))","v":""},{"$f":"IF($C32=\"\",\"\",VLOOKUP($C32,INSCRITS!$D$4:$W$501,7,0))","v":""},{"$f":"IF($C32=\"\",\"\",VLOOKUP($C32,INSCRITS!$D$4:$W$501,9,0))","v":""},null,null,null,null,null,null,null,null,{"$f":"IF($N32=\"\",\"\",VLOOKUP($N32,INSCRITS!$D$4:$W$501,6,0))","v":""},{"$f":"IF($N32=\"\",\"\",VLOOKUP($N32,INSCRITS!$D$4:$W$501,7,0))","v":""},{"$f":"IF($N32=\"\",\"\",VLOOKUP($N32,INSCRITS!$D$4:$W$501,9,0))","v":""},null,null,null,null,null,{"$f":"IF($V32=\"\",\"\",VLOOKUP($V32,INSCRITS!$D$4:$W$501,6,0))","v":""},{"$f":"IF($V32=\"\",\"\",VLOOKUP($V32,INSCRITS!$D$4:$W$501,7,0))","v":""},{"$f":"IF($V32=\"\",\"\",VLOOKUP($V32,INSCRITS!$D$4:$W$501,9,0))","v":""},null,null,null,null,{"$f":"IF($AC32=\"\",\"\",VLOOKUP($AC32,INSCRITS!$D$4:$W$501,6,0))","v":""},{"$f":"IF($AC32=\"\",\"\",VLOOKUP($AC32,INSCRITS!$D$4:$W$501,7,0))","v":""},{"$f":"IF($AC32=\"\",\"\",VLOOKUP($AC32,INSCRITS!$D$4:$W$501,9,0))","v":""}]
[null,null,null,{"$f":"IF($C33=\"\",\"\",VLOOKUP($C33,INSCRITS!$D$4:$W$501,6,0))","v":""},{"$f":"IF($C33=\"\",\"\",VLOOKUP($C33,INSCRITS!$D$4:$W$501,7,0))","v":""},{"$f":"IF($C33=\"\",\"\",VLOOKUP($C33,INSCRITS!$D$4:$W$501,9,0))","v":""},null,null,null,null,null,null,null,null,{"$f":"IF($N33=\"\",\"\",VLOOKUP($N33,INSCRITS!$D$4:$W$501,6,0))","v":""},{"$f":"IF($N33=\"\",\"\",VLOOKUP($N33,INSCRITS!$D$4:$W$501,7,0))","v":""},{"$f":"IF($N33=\"\",\"\",VLOOKUP($N33,INSCRITS!$D$4:$W$501,9,0))","v":""},null,null,null,null,null,{"$f":"IF($V33=\"\",\"\",VLOOKUP($V33,INSCRITS!$D$4:$W$501,6,0))","v":""},{"$f":"IF($V33=\"\",\"\",VLOOKUP($V33,INSCRITS!$D$4:$W$501,7,0))","v":""},{"$f":"IF($V33=\"\",\"\",VLOOKUP($V33,INSCRITS!$D$4:$W$501,9,0))","v":""},null,null,null,null,{"$f":"IF($AC33=\"\",\"\",VLOOKUP($AC33,INSCRITS!$D$4:$W$501,6,0))","v":""},{"$f":"IF($AC33=\"\",\"\",VLOOKUP($AC33,INSCRITS!$D$4:$W$501,7,0))","v":""},{"$f":"IF($AC33=\"\",\"\",VLOOKUP($AC33,INSCRITS!$D$4:$W$501,9,0))","v":""}]
[null,null,null,{"$f":"IF($C34=\"\",\"\",VLOOKUP($C34,INSCRITS!$D$4:$W$501,6,0))","v":""},{"$f":"IF($C34=\"\",\"\",VLOOKUP($C34,INSCRITS!$D$4:$W$501,7,0))","v":""},{"$f":"IF($C34=\"\",\"\",VLOOKUP($C34,INSCRITS!$D$4:$W$501,9,0))","v":""},null,null,null,null,null,null,null,null,{"$f":"IF($N34=\"\",\"\",VLOOKUP($N34,INSCRITS!$D$4:$W$501,6,0))","v":""},{"$f":"IF($N34=\"\",\"\",VLOOKUP($N34,INSCRITS!$D$4:$W$501,7,0))","v":""},{"$f":"IF($N34=\"\",\"\",VLOOKUP($N34,INSCRITS!$D$4:$W$501,9,0))","v":""},null,null,null,null,null,{"$f":"IF($V34=\"\",\"\",VLOOKUP($V34,INSCRITS!$D$4:$W$501,6,0))","v":""},{"$f":"IF($V34=\"\",\"\",VLOOKUP($V34,INSCRITS!$D$4:$W$501,7,0))","v":""},{"$f":"IF($V34=\"\",\"\",VLOOKUP($V34,INSCRITS!$D$4:$W$501,9,0))","v":""},null,null,null,null,{"$f":"IF($AC34=\"\",\"\",VLOOKUP($AC34,INSCRITS!$D$4:$W$501,6,0))","v":""},{"$f":"IF($AC34=\"\",\"\",VLOOKUP($AC34,INSCRITS!$D$4:$W$501,7,0))","v":""},{"$f":"IF($AC34=\"\",\"\",VLOOKUP($AC34,INSCRITS!$D$4:$W$501,9,0))","v":""}]
[null,null,null,{"$f":"IF($C35=\"\",\"\",VLOOKUP($C35,INSCRITS!$D$4:$W$501,6,0))","v":""},{"$f":"IF($C35=\"\",\"\",VLOOKUP($C35,INSCRITS!$D$4:$W$501,7,0))","v":""},{"$f":"IF($C35=\"\",\"\",VLOOKUP($C35,INSCRITS!$D$4:$W$501,9,0))","v":""},null,null,null,null,null,null,null,null,{"$f":"IF($N35=\"\",\"\",VLOOKUP($N35,INSCRITS!$D$4:$W$501,6,0))","v":""},{"$f":"IF($N35=\"\",\"\",VLOOKUP($N35,INSCRITS!$D$4:$W$501,7,0))","v":""},{"$f":"IF($N35=\"\",\"\",VLOOKUP($N35,INSCRITS!$D$4:$W$501,9,0))","v":""},null,null,null,null,null,{"$f":"IF($V35=\"\",\"\",VLOOKUP($V35,INSCRITS!$D$4:$W$501,6,0))","v":""},{"$f":"IF($V35=\"\",\"\",VLOOKUP($V35,INSCRITS!$D$4:$W$501,7,0))","v":""},{"$f":"IF($V35=\"\",\"\",VLOOKUP($V35,INSCRITS!$D$4:$W$501,9,0))","v":""},null,null,null,null,{"$f":"IF($AC35=\"\",\"\",VLOOKUP($AC35,INSCRITS!$D$4:$W$501,6,0))","v":""},{"$f":"IF($AC35=\"\",\"\",VLOOKUP($AC35,INSCRITS!$D$4:$W$501,7,0))","v":""},{"$f":"IF($AC35=\"\",\"\",VLOOKUP($AC35,INSCRITS!$D$4:$W$501,9,0))","v":""}]
[null,null,null,{"$f":"IF($C36=\"\",\"\",VLOOKUP($C36,INSCRITS!$D$4:$W$501,6,0))","v":""},{"$f":"IF($C36=\"\",\"\",VLOOKUP($C36,INSCRITS!$D$4:$W$501,7,0))","v":""},{"$f":"IF($C36=\"\",\"\",VLOOKUP($C36,INSCRITS!$D$4:$W$501,9,0))","v":""},null,null,null,null,null,null,null,null,{"$f":"IF($N36=\"\",\"\",VLOOKUP($N36,INSCRITS!$D$4:$W$501,6,0))","v":""},{"$f":"IF($N36=\"\",\"\",VLOOKUP($N36,INSCRITS!$D$4:$W$501,7,0))","v":""},{"$f":"IF($N36=\"\",\"\",VLOOKUP($N36,INSCRITS!$D$4:$W$501,9,0))","v":""},null,null,null,null,null,{"$f":"IF($V36=\"\",\"\",VLOOKUP($V36,INSCRITS!$D$4:$W$501,6,0))","v":""},{"$f":"IF($V36=\"\",\"\",VLOOKUP($V36,INSCRITS!$D$4:$W$501,7,0))","v":""},{"$f":"IF($V36=\"\",\"\",VLOOKUP($V36,INSCRITS!$D$4:$W$501,9,0))","v":""},null,null,null,null,{"$f":"IF($AC36=\"\",\"\",VLOOKUP($AC36,INSCRITS!$D$4:$W$501,6,0))","v":""},{"$f":"IF($AC36=\"\",\"\",VLOOKUP($AC36,INSCRITS!$D$4:$W$501,7,0))","v":""},{"$f":"IF($AC36=\"\",\"\",VLOOKUP($AC36,INSCRITS!$D$4:$W$501,9,0))","v":""}]
[null,"SERIE 3",null,{"$f":"IF($C37=\"\",\"\",VLOOKUP($C37,INSCRITS!$D$4:$W$501,6,0))","v":""},{"$f":"IF($C37=\"\",\"\",VLOOKUP($C37,INSCRITS!$D$4:$W$501,7,0))","v":""},{"$f":"IF($C37=\"\",\"\",VLOOKUP($C37,INSCRITS!$D$4:$W$501,9,0))","v":""},null,null,null,null,null,null,null,null,{"$f":"IF($N37=\"\",\"\",VLOOKUP($N37,INSCRITS!$D$4:$W$501,6,0))","v":""},{"$f":"IF($N37=\"\",\"\",VLOOKUP($N37,INSCRITS!$D$4:$W$501,7,0))","v":""},{"$f":"IF($N37=\"\",\"\",VLOOKUP($N37,INSCRITS!$D$4:$W$501,9,0))","v":""},null,null,null,null,null,{"$f":"IF($V37=\"\",\"\",VLOOKUP($V37,INSCRITS!$D$4:$W$501,6,0))","v":""},{"$f":"IF($V37=\"\",\"\",VLOOKUP($V37,INSCRITS!$D$4:$W$501,7,0))","v":""},{"$f":"IF($V37=\"\",\"\",VLOOKUP($V37,INSCRITS!$D$4:$W$501,9,0))","v":""},null,null,null,null,{"$f":"IF($AC37=\"\",\"\",VLOOKUP($AC37,INSCRITS!$D$4:$W$501,6,0))","v":""},{"$f":"IF($AC37=\"\",\"\",VLOOKUP($AC37,INSCRITS!$D$4:$W$501,7,0))","v":""},{"$f":"IF($AC37=\"\",\"\",VLOOKUP($AC37,INSCRITS!$D$4:$W$501,9,0))","v":""}]
[null,null,null,{"$f":"IF($C38=\"\",\"\",VLOOKUP($C38,INSCRITS!$D$4:$W$501,6,0))","v":""},{"$f":"IF($C38=\"\",\"\",VLOOKUP($C38,INSCRITS!$D$4:$W$501,7,0))","v":""},{"$f":"IF($C38=\"\",\"\",VLOOKUP($C38,INSCRITS!$D$4:$W$501,9,0))","v":""},null,null,null,null,null,null,null,null,{"$f":"IF($N38=\"\",\"\",VLOOKUP($N38,INSCRITS!$D$4:$W$501,6,0))","v":""},{"$f":"IF($N38=\"\",\"\",VLOOKUP($N38,INSCRITS!$D$4:$W$501,7,0))","v":""},{"$f":"IF($N38=\"\",\"\",VLOOKUP($N38,INSCRITS!$D$4:$W$501,9,0))","v":""},null,null,null,null,null,{"$f":"IF($V38=\"\",\"\",VLOOKUP($V38,INSCRITS!$D$4:$W$501,6,0))","v":""},{"$f":"IF($V38=\"\",\"\",VLOOKUP($V38,INSCRITS!$D$4:$W$501,7,0))","v":""},{"$f":"IF($V38=\"\",\"\",VLOOKUP($V38,INSCRITS!$D$4:$W$501,9,0))","v":""},null,null,null,null,{"$f":"IF($AC38=\"\",\"\",VLOOKUP($AC38,INSCRITS!$D$4:$W$501,6,0))","v":""},{"$f":"IF($AC38=\"\",\"\",VLOOKUP($AC38,INSCRITS!$D$4:$W$501,7,0))","v":""},{"$f":"IF($AC38=\"\",\"\",VLOOKUP($AC38,INSCRITS!$D$4:$W$501,9,0))","v":""}]
[null,null,null,{"$f":"IF($C39=\"\",\"\",VLOOKUP($C39,INSCRITS!$D$4:$W$501,6,0))","v":""},{"$f":"IF($C39=\"\",\"\",VLOOKUP($C39,INSCRITS!$D$4:$W$501,7,0))","v":""},{"$f":"IF($C39=\"\",\"\",VLOOKUP($C39,INSCRITS!$D$4:$W$501,9,0))","v":""},null,null,null,null,null,null,null,null,{"$f":"IF($N39=\"\",\"\",VLOOKUP($N39,INSCRITS!$D$4:$W$501,6,0))","v":""},{"$f":"IF($N39=\"\",\"\",VLOOKUP($N39,INSCRITS!$D$4:$W$501,7,0))","v":""},{"$f":"IF($N39=\"\",\"\",VLOOKUP($N39,INSCRITS!$D$4:$W$501,9,0))","v":""},null,null,null,null,null,{"$f":"IF($V39=\"\",\"\",VLOOKUP($V39,INSCRITS!$D$4:$W$501,6,0))","v":""},{"$f":"IF($V39=\"\",\"\",VLOOKUP($V39,INSCRITS!$D$4:$W$501,7,0))","v":""},{"$f":"IF($V39=\"\",\"\",VLOOKUP($V39,INSCRITS!$D$4:$W$501,9,0))","v":""},null,null,null,null,{"$f":"IF($AC39=\"\",\"\",VLOOKUP($AC39,INSCRITS!$D$4:$W$501,6,0))","v":""},{"$f":"IF($AC39=\"\",\"\",VLOOKUP($AC39,INSCRITS!$D$4:$W$501,7,0))","v":""},{"$f":"IF($AC39=\"\",\"\",VLOOKUP($AC39,INSCRITS!$D$4:$W$501,9,0))","v":""}]
[null,null,null,{"$f":"IF($C40=\"\",\"\",VLOOKUP($C40,INSCRITS!$D$4:$W$501,6,0))","v":""},{"$f":"IF($C40=\"\",\"\",VLOOKUP($C40,INSCRITS!$D$4:$W$501,7,0))","v":""},{"$f":"IF($C40=\"\",\"\",VLOOKUP($C40,INSCRITS!$D$4:$W$501,9,0))","v":""},null,null,null,null,null,null,"SERIE 3",null,{"$f":"IF($N40=\"\",\"\",VLOOKUP($N40,INSCRITS!$D$4:$W$501,6,0))","v":""},{"$f":"IF($N40=\"\",\"\",VLOOKUP($N40,INSCRITS!$D$4:$W$501,7,0))","v":""},{"$f":"IF($N40=\"\",\"\",VLOOKUP($N40,INSCRITS!$D$4:$W$501,9,0))","v":""},null,null,null,null,null,null,null,null,null,null,null,null,{"$f":"IF($AC40=\"\",\"\",VLOOKUP($AC40,INSCRITS!$D$4:$W$501,6,0))","v":""},{"$f":"IF($AC40=\"\",\"\",VLOOKUP($AC40,INSCRITS!$D$4:$W$501,7,0))","v":""},{"$f":"IF($AC40=\"\",\"\",VLOOKUP($AC40,INSCRITS!$D$4:$W$501,9,0))","v":""}]
[null,null,null,{"$f":"IF($C41=\"\",\"\",VLOOKUP($C41,INSCRITS!$D$4:$W$501,6,0))","v":""},{"$f":"IF($C41=\"\",\"\",VLOOKUP($C41,INSCRITS!$D$4:$W$501,7,0))","v":""},{"$f":"IF($C41=\"\",\"\",VLOOKUP($C41,INSCRITS!$D$4:$W$501,9,0))","v":""},null,null,null,null,null,null,null,null,{"$f":"IF($N41=\"\",\"\",VLOOKUP($N41,INSCRITS!$D$4:$W$501,6,0))","v":""},{"$f":"IF($N41=\"\",\"\",VLOOKUP($N41,INSCRITS!$D$4:$W$501,7,0))","v":""},{"$f":"IF($N41=\"\",\"\",VLOOKUP($N41,INSCRITS!$D$4:$W$501,9,0))","v":""},null,null,null,null,null,null,null,null,null,null,null,null,{"$f":"IF($AC41=\"\",\"\",VLOOKUP($AC41,INSCRITS!$D$4:$W$501,6,0))","v":""},{"$f":"IF($AC41=\"\",\"\",VLOOKUP($AC41,INSCRITS!$D$4:$W$501,7,0))","v":""},{"$f":"IF($AC41=\"\",\"\",VLOOKUP($AC41,INSCRITS!$D$4:$W$501,9,0))","v":""}]
[null,null,null,{"$f":"IF($C42=\"\",\"\",VLOOKUP($C42,INSCRITS!$D$4:$W$501,6,0))","v":""},{"$f":"IF($C42=\"\",\"\",VLOOKUP($C42,INSCRITS!$D$4:$W$501,7,0))","v":""},{"$f":"IF($C42=\"\",\"\",VLOOKUP($C42,INSCRITS!$D$4:$W$501,9,0))","v":""},null,null,null,null,null,null,null,null,{"$f":"IF($N42=\"\",\"\",VLOOKUP($N42,INSCRITS!$D$4:$W$501,6,0))","v":""},{"$f":"IF($N42=\"\",\"\",VLOOKUP($N42,INSCRITS!$D$4:$W$501,7,0))","v":""},{"$f":"IF($N42=\"\",\"\",VLOOKUP($N42,INSCRITS!$D$4:$W$501,9,0))","v":""},null,null,null,null,null,null,null,null,null,null,null,null,{"$f":"IF($AC42=\"\",\"\",VLOOKUP($AC42,INSCRITS!$D$4:$W$501,6,0))","v":""},{"$f":"IF($AC42=\"\",\"\",VLOOKUP($AC42,INSCRITS!$D$4:$W$501,7,0))","v":""},{"$f":"IF($AC42=\"\",\"\",VLOOKUP($AC42,INSCRITS!$D$4:$W$501,9,0))","v":""}]
[null,null,null,{"$f":"IF($C43=\"\",\"\",VLOOKUP($C43,INSCRITS!$D$4:$W$501,6,0))","v":""},{"$f":"IF($C43=\"\",\"\",VLOOKUP($C43,INSCRITS!$D$4:$W$501,7,0))","v":""},{"$f":"IF($C43=\"\",\"\",VLOOKUP($C43,INSCRITS!$D$4:$W$501,9,0))","v":""},null,null,null,null,null,null,null,null,{"$f":"IF($N43=\"\",\"\",VLOOKUP($N43,INSCRITS!$D$4:$W$501,6,0))","v":""},{"$f":"IF($N43=\"\",\"\",VLOOKUP($N43,INSCRITS!$D$4:$W$501,7,0))","v":""},{"$f":"IF($N43=\"\",\"\",VLOOKUP($N43,INSCRITS!$D$4:$W$501,9,0))","v":""},null,null,null,null,null,null,null,null,null,null,null,null,{"$f":"IF($AC43=\"\",\"\",VLOOKUP($AC43,INSCRITS!$D$4:$W$501,6,0))","v":""},{"$f":"IF($AC43=\"\",\"\",VLOOKUP($AC43,INSCRITS!$D$4:$W$501,7,0))","v":""},{"$f":"IF($AC43=\"\",\"\",VLOOKUP($AC43,INSCRITS!$D$4:$W$501,9,0))","v":""}]
[null,null,null,{"$f":"IF($C44=\"\",\"\",VLOOKUP($C44,INSCRITS!$D$4:$W$501,6,0))","v":""},{"$f":"IF($C44=\"\",\"\",VLOOKUP($C44,INSCRITS!$D$4:$W$501,7,0))","v":""},{"$f":"IF($C44=\"\",\"\",VLOOKUP($C44,INSCRITS!$D$4:$W$501,9,0))","v":""},null,null,null,null,null,null,null,null,{"$f":"IF($N44=\"\",\"\",VLOOKUP($N44,INSCRITS!$D$4:$W$501,6,0))","v":""},{"$f":"IF($N44=\"\",\"\",VLOOKUP($N44,INSCRITS!$D$4:$W$501,7,0))","v":""},{"$f":"IF($N44=\"\",\"\",VLOOKUP($N44,INSCRITS!$D$4:$W$501,9,0))","v":""},null,null,null,null,null,null,null,null,null,null,null,null,{"$f":"IF($AC44=\"\",\"\",VLOOKUP($AC44,INSCRITS!$D$4:$W$501,6,0))","v":""},{"$f":"IF($AC44=\"\",\"\",VLOOKUP($AC44,INSCRITS!$D$4:$W$501,7,0))","v":""},{"$f":"IF($AC44=\"\",\"\",VLOOKUP($AC44,INSCRITS!$D$4:$W$501,9,0))","v":""}]
[null,null,null,{"$f":"IF($C45=\"\",\"\",VLOOKUP($C45,INSCRITS!$D$4:$W$501,6,0))","v":""},{"$f":"IF($C45=\"\",\"\",VLOOKUP($C45,INSCRITS!$D$4:$W$501,7,0))","v":""},{"$f":"IF($C45=\"\",\"\",VLOOKUP($C45,INSCRITS!$D$4:$W$501,9,0))","v":""},null,null,null,null,null,null,null,null,{"$f":"IF($N45=\"\",\"\",VLOOKUP($N45,INSCRITS!$D$4:$W$501,6,0))","v":""},{"$f":"IF($N45=\"\",\"\",VLOOKUP($N45,INSCRITS!$D$4:$W$501,7,0))","v":""},{"$f":"IF($N45=\"\",\"\",VLOOKUP($N45,INSCRITS!$D$4:$W$501,9,0))","v":""},null,null,null,null,null,null,null,null,null,null,null,null,{"$f":"IF($AC45=\"\",\"\",VLOOKUP($AC45,INSCRITS!$D$4:$W$501,6,0))","v":""},{"$f":"IF($AC45=\"\",\"\",VLOOKUP($AC45,INSCRITS!$D$4:$W$501,7,0))","v":""},{"$f":"IF($AC45=\"\",\"\",VLOOKUP($AC45,INSCRITS!$D$4:$W$501,9,0))","v":""}]
[null,null,null,{"$f":"IF($C46=\"\",\"\",VLOOKUP($C46,INSCRITS!$D$4:$W$501,6,0))","v":""},{"$f":"IF($C46=\"\",\"\",VLOOKUP($C46,INSCRITS!$D$4:$W$501,7,0))","v":""},{"$f":"IF($C46=\"\",\"\",VLOOKUP($C46,INSCRITS!$D$4:$W$501,9,0))","v":""},null,null,null,null,null,null,null,null,{"$f":"IF($N46=\"\",\"\",VLOOKUP($N46,INSCRITS!$D$4:$W$501,6,0))","v":""},{"$f":"IF($N46=\"\",\"\",VLOOKUP($N46,INSCRITS!$D$4:$W$501,7,0))","v":""},{"$f":"IF($N46=\"\",\"\",VLOOKUP($N46,INSCRITS!$D$4:$W$501,9,0))","v":""},null,null,null,null,null,null,null,null,null,null,null,null,{"$f":"IF($AC46=\"\",\"\",VLOOKUP($AC46,INSCRITS!$D$4:$W$501,6,0))","v":""},{"$f":"IF($AC46=\"\",\"\",VLOOKUP($AC46,INSCRITS!$D$4:$W$501,7,0))","v":""},{"$f":"IF($AC46=\"\",\"\",VLOOKUP($AC46,INSCRITS!$D$4:$W$501,9,0))","v":""}]
[null,null,null,{"$f":"IF($C47=\"\",\"\",VLOOKUP($C47,INSCRITS!$D$4:$W$501,6,0))","v":""},{"$f":"IF($C47=\"\",\"\",VLOOKUP($C47,INSCRITS!$D$4:$W$501,7,0))","v":""},{"$f":"IF($C47=\"\",\"\",VLOOKUP($C47,INSCRITS!$D$4:$W$501,9,0))","v":""},null,null,null,null,null,null,null,null,{"$f":"IF($N47=\"\",\"\",VLOOKUP($N47,INSCRITS!$D$4:$W$501,6,0))","v":""},{"$f":"IF($N47=\"\",\"\",VLOOKUP($N47,INSCRITS!$D$4:$W$501,7,0))","v":""},{"$f":"IF($N47=\"\",\"\",VLOOKUP($N47,INSCRITS!$D$4:$W$501,9,0))","v":""}]
[null,null,null,{"$f":"IF($C48=\"\",\"\",VLOOKUP($C48,INSCRITS!$D$4:$W$501,6,0))","v":""},{"$f":"IF($C48=\"\",\"\",VLOOKUP($C48,INSCRITS!$D$4:$W$501,7,0))","v":""},{"$f":"IF($C48=\"\",\"\",VLOOKUP($C48,INSCRITS!$D$4:$W$501,9,0))","v":""},null,null,null,null,null,null,null,null,{"$f":"IF($N48=\"\",\"\",VLOOKUP($N48,INSCRITS!$D$4:$W$501,6,0))","v":""},{"$f":"IF($N48=\"\",\"\",VLOOKUP($N48,INSCRITS!$D$4:$W$501,7,0))","v":""},{"$f":"IF($N48=\"\",\"\",VLOOKUP($N48,INSCRITS!$D$4:$W$501,9,0))","v":""}]
[null,null,null,{"$f":"IF($C49=\"\",\"\",VLOOKUP($C49,INSCRITS!$D$4:$W$501,6,0))","v":""},{"$f":"IF($C49=\"\",\"\",VLOOKUP($C49,INSCRITS!$D$4:$W$501,7,0))","v":""},{"$f":"IF($C49=\"\",\"\",VLOOKUP($C49,INSCRITS!$D$4:$W$501,9,0))","v":""},null,null,null,null,null,null,null,null,{"$f":"IF($N49=\"\",\"\",VLOOKUP($N49,INSCRITS!$D$4:$W$501,6,0))","v":""},{"$f":"IF($N49=\"\",\"\",VLOOKUP($N49,INSCRITS!$D$4:$W$501,7,0))","v":""},{"$f":"IF($N49=\"\",\"\",VLOOKUP($N49,INSCRITS!$D$4:$W$501,9,0))","v":""}]
[null,null,null,{"$f":"IF($C50=\"\",\"\",VLOOKUP($C50,INSCRITS!$D$4:$W$501,6,0))","v":""},{"$f":"IF($C50=\"\",\"\",VLOOKUP($C50,INSCRITS!$D$4:$W$501,7,0))","v":""},{"$f":"IF($C50=\"\",\"\",VLOOKUP($C50,INSCRITS!$D$4:$W$501,9,0))","v":""},null,null,null,null,null,null,null,null,{"$f":"IF($N50=\"\",\"\",VLOOKUP($N50,INSCRITS!$D$4:$W$501,6,0))","v":""},{"$f":"IF($N50=\"\",\"\",VLOOKUP($N50,INSCRITS!$D$4:$W$501,7,0))","v":""},{"$f":"IF($N50=\"\",\"\",VLOOKUP($N50,INSCRITS!$D$4:$W$501,9,0))","v":""}]
[null,null,null,{"$f":"IF($C51=\"\",\"\",VLOOKUP($C51,INSCRITS!$D$4:$W$501,6,0))","v":""},{"$f":"IF($C51=\"\",\"\",VLOOKUP($C51,INSCRITS!$D$4:$W$501,7,0))","v":""},{"$f":"IF($C51=\"\",\"\",VLOOKUP($C51,INSCRITS!$D$4:$W$501,9,0))","v":""},null,null,null,null,null,null,null,null,{"$f":"IF($N51=\"\",\"\",VLOOKUP($N51,INSCRITS!$D$4:$W$501,6,0))","v":""},{"$f":"IF($N51=\"\",\"\",VLOOKUP($N51,INSCRITS!$D$4:$W$501,7,0))","v":""},{"$f":"IF($N51=\"\",\"\",VLOOKUP($N51,INSCRITS!$D$4:$W$501,9,0))","v":""}]
[null,"SERIE 4",null,{"$f":"IF($C52=\"\",\"\",VLOOKUP($C52,INSCRITS!$D$4:$W$501,6,0))","v":""},{"$f":"IF($C52=\"\",\"\",VLOOKUP($C52,INSCRITS!$D$4:$W$501,7,0))","v":""},{"$f":"IF($C52=\"\",\"\",VLOOKUP($C52,INSCRITS!$D$4:$W$501,9,0))","v":""},null,null,null,null,null,null,null,null,{"$f":"IF($N52=\"\",\"\",VLOOKUP($N52,INSCRITS!$D$4:$W$501,6,0))","v":""},{"$f":"IF($N52=\"\",\"\",VLOOKUP($N52,INSCRITS!$D$4:$W$501,7,0))","v":""},{"$f":"IF($N52=\"\",\"\",VLOOKUP($N52,INSCRITS!$D$4:$W$501,9,0))","v":""}]
[null,null,null,{"$f":"IF($C53=\"\",\"\",VLOOKUP($C53,INSCRITS!$D$4:$W$501,6,0))","v":""},{"$f":"IF($C53=\"\",\"\",VLOOKUP($C53,INSCRITS!$D$4:$W$501,7,0))","v":""},{"$f":"IF($C53=\"\",\"\",VLOOKUP($C53,INSCRITS!$D$4:$W$501,9,0))","v":""},null,null,null,null,null,null,null,null,{"$f":"IF($N53=\"\",\"\",VLOOKUP($N53,INSCRITS!$D$4:$W$501,6,0))","v":""},{"$f":"IF($N53=\"\",\"\",VLOOKUP($N53,INSCRITS!$D$4:$W$501,7,0))","v":""},{"$f":"IF($N53=\"\",\"\",VLOOKUP($N53,INSCRITS!$D$4:$W$501,9,0))","v":""}]
[null,null,null,{"$f":"IF($C54=\"\",\"\",VLOOKUP($C54,INSCRITS!$D$4:$W$501,6,0))","v":""},{"$f":"IF($C54=\"\",\"\",VLOOKUP($C54,INSCRITS!$D$4:$W$501,7,0))","v":""},{"$f":"IF($C54=\"\",\"\",VLOOKUP($C54,INSCRITS!$D$4:$W$501,9,0))","v":""},null,null,null,null,null,null,null,null,{"$f":"IF($N54=\"\",\"\",VLOOKUP($N54,INSCRITS!$D$4:$W$501,6,0))","v":""},{"$f":"IF($N54=\"\",\"\",VLOOKUP($N54,INSCRITS!$D$4:$W$501,7,0))","v":""},{"$f":"IF($N54=\"\",\"\",VLOOKUP($N54,INSCRITS!$D$4:$W$501,9,0))","v":""}]
[null,null,null,{"$f":"IF($C55=\"\",\"\",VLOOKUP($C55,INSCRITS!$D$4:$W$501,6,0))","v":""},{"$f":"IF($C55=\"\",\"\",VLOOKUP($C55,INSCRITS!$D$4:$W$501,7,0))","v":""},{"$f":"IF($C55=\"\",\"\",VLOOKUP($C55,INSCRITS!$D$4:$W$501,9,0))","v":""},null,null,null,null,null,null,null,null,{"$f":"IF($N55=\"\",\"\",VLOOKUP($N55,INSCRITS!$D$4:$W$501,6,0))","v":""},{"$f":"IF($N55=\"\",\"\",VLOOKUP($N55,INSCRITS!$D$4:$W$501,7,0))","v":""},{"$f":"IF($N55=\"\",\"\",VLOOKUP($N55,INSCRITS!$D$4:$W$501,9,0))","v":""}]
[null,null,null,{"$f":"IF($C56=\"\",\"\",VLOOKUP($C56,INSCRITS!$D$4:$W$501,6,0))","v":""},{"$f":"IF($C56=\"\",\"\",VLOOKUP($C56,INSCRITS!$D$4:$W$501,7,0))","v":""},{"$f":"IF($C56=\"\",\"\",VLOOKUP($C56,INSCRITS!$D$4:$W$501,9,0))","v":""},null,null,null,null,null,null,"SERIE 4",null,{"$f":"IF($N56=\"\",\"\",VLOOKUP($N56,INSCRITS!$D$4:$W$501,6,0))","v":""},{"$f":"IF($N56=\"\",\"\",VLOOKUP($N56,INSCRITS!$D$4:$W$501,7,0))","v":""},{"$f":"IF($N56=\"\",\"\",VLOOKUP($N56,INSCRITS!$D$4:$W$501,9,0))","v":""}]
[null,null,null,{"$f":"IF($C57=\"\",\"\",VLOOKUP($C57,INSCRITS!$D$4:$W$501,6,0))","v":""},{"$f":"IF($C57=\"\",\"\",VLOOKUP($C57,INSCRITS!$D$4:$W$501,7,0))","v":""},{"$f":"IF($C57=\"\",\"\",VLOOKUP($C57,INSCRITS!$D$4:$W$501,9,0))","v":""},null,null,null,null,null,null,null,null,{"$f":"IF($N57=\"\",\"\",VLOOKUP($N57,INSCRITS!$D$4:$W$501,6,0))","v":""},{"$f":"IF($N57=\"\",\"\",VLOOKUP($N57,INSCRITS!$D$4:$W$501,7,0))","v":""},{"$f":"IF($N57=\"\",\"\",VLOOKUP($N57,INSCRITS!$D$4:$W$501,9,0))","v":""}]
[null,null,null,{"$f":"IF($C58=\"\",\"\",VLOOKUP($C58,INSCRITS!$D$4:$W$501,6,0))","v":""},{"$f":"IF($C58=\"\",\"\",VLOOKUP($C58,INSCRITS!$D$4:$W$501,7,0))","v":""},{"$f":"IF($C58=\"\",\"\",VLOOKUP($C58,INSCRITS!$D$4:$W$501,9,0))","v":""},null,null,null,null,null,null,null,null,{"$f":"IF($N58=\"\",\"\",VLOOKUP($N58,INSCRITS!$D$4:$W$501,6,0))","v":""},{"$f":"IF($N58=\"\",\"\",VLOOKUP($N58,INSCRITS!$D$4:$W$501,7,0))","v":""},{"$f":"IF($N58=\"\",\"\",VLOOKUP($N58,INSCRITS!$D$4:$W$501,9,0))","v":""}]
[null,null,null,{"$f":"IF($C59=\"\",\"\",VLOOKUP($C59,INSCRITS!$D$4:$W$501,6,0))","v":""},{"$f":"IF($C59=\"\",\"\",VLOOKUP($C59,INSCRITS!$D$4:$W$501,7,0))","v":""},{"$f":"IF($C59=\"\",\"\",VLOOKUP($C59,INSCRITS!$D$4:$W$501,9,0))","v":""},null,null,null,null,null,null,null,null,{"$f":"IF($N59=\"\",\"\",VLOOKUP($N59,INSCRITS!$D$4:$W$501,6,0))","v":""},{"$f":"IF($N59=\"\",\"\",VLOOKUP($N59,INSCRITS!$D$4:$W$501,7,0))","v":""},{"$f":"IF($N59=\"\",\"\",VLOOKUP($N59,INSCRITS!$D$4:$W$501,9,0))","v":""}]
[null,null,null,{"$f":"IF($C60=\"\",\"\",VLOOKUP($C60,INSCRITS!$D$4:$W$501,6,0))","v":""},{"$f":"IF($C60=\"\",\"\",VLOOKUP($C60,INSCRITS!$D$4:$W$501,7,0))","v":""},{"$f":"IF($C60=\"\",\"\",VLOOKUP($C60,INSCRITS!$D$4:$W$501,9,0))","v":""},null,null,null,null,null,null,null,null,{"$f":"IF($N60=\"\",\"\",VLOOKUP($N60,INSCRITS!$D$4:$W$501,6,0))","v":""},{"$f":"IF($N60=\"\",\"\",VLOOKUP($N60,INSCRITS!$D$4:$W$501,7,0))","v":""},{"$f":"IF($N60=\"\",\"\",VLOOKUP($N60,INSCRITS!$D$4:$W$501,9,0))","v":""}]
[null,null,null,{"$f":"IF($C61=\"\",\"\",VLOOKUP($C61,INSCRITS!$D$4:$W$501,6,0))","v":""},{"$f":"IF($C61=\"\",\"\",VLOOKUP($C61,INSCRITS!$D$4:$W$501,7,0))","v":""},{"$f":"IF($C61=\"\",\"\",VLOOKUP($C61,INSCRITS!$D$4:$W$501,9,0))","v":""},null,null,null,null,null,null,null,null,{"$f":"IF($N61=\"\",\"\",VLOOKUP($N61,INSCRITS!$D$4:$W$501,6,0))","v":""},{"$f":"IF($N61=\"\",\"\",VLOOKUP($N61,INSCRITS!$D$4:$W$501,7,0))","v":""},{"$f":"IF($N61=\"\",\"\",VLOOKUP($N61,INSCRITS!$D$4:$W$501,9,0))","v":""}]
[null,null,null,{"$f":"IF($C62=\"\",\"\",VLOOKUP($C62,INSCRITS!$D$4:$W$501,6,0))","v":""},{"$f":"IF($C62=\"\",\"\",VLOOKUP($C62,INSCRITS!$D$4:$W$501,7,0))","v":""},{"$f":"IF($C62=\"\",\"\",VLOOKUP($C62,INSCRITS!$D$4:$W$501,9,0))","v":""},null,null,null,null,null,null,null,null,{"$f":"IF($N62=\"\",\"\",VLOOKUP($N62,INSCRITS!$D$4:$W$501,6,0))","v":""},{"$f":"IF($N62=\"\",\"\",VLOOKUP($N62,INSCRITS!$D$4:$W$501,7,0))","v":""},{"$f":"IF($N62=\"\",\"\",VLOOKUP($N62,INSCRITS!$D$4:$W$501,9,0))","v":""}]
[null,null,null,{"$f":"IF($C63=\"\",\"\",VLOOKUP($C63,INSCRITS!$D$4:$W$501,6,0))","v":""},{"$f":"IF($C63=\"\",\"\",VLOOKUP($C63,INSCRITS!$D$4:$W$501,7,0))","v":""},{"$f":"IF($C63=\"\",\"\",VLOOKUP($C63,INSCRITS!$D$4:$W$501,9,0))","v":""},null,null,null,null,null,null,null,null,{"$f":"IF($N63=\"\",\"\",VLOOKUP($N63,INSCRITS!$D$4:$W$501,6,0))","v":""},{"$f":"IF($N63=\"\",\"\",VLOOKUP($N63,INSCRITS!$D$4:$W$501,7,0))","v":""},{"$f":"IF($N63=\"\",\"\",VLOOKUP($N63,INSCRITS!$D$4:$W$501,9,0))","v":""}]
[null,null,null,{"$f":"IF($C64=\"\",\"\",VLOOKUP($C64,INSCRITS!$D$4:$W$501,6,0))","v":""},{"$f":"IF($C64=\"\",\"\",VLOOKUP($C64,INSCRITS!$D$4:$W$501,7,0))","v":""},{"$f":"IF($C64=\"\",\"\",VLOOKUP($C64,INSCRITS!$D$4:$W$501,9,0))","v":""},null,null,null,null,null,null,null,null,{"$f":"IF($N64=\"\",\"\",VLOOKUP($N64,INSCRITS!$D$4:$W$501,6,0))","v":""},{"$f":"IF($N64=\"\",\"\",VLOOKUP($N64,INSCRITS!$D$4:$W$501,7,0))","v":""},{"$f":"IF($N64=\"\",\"\",VLOOKUP($N64,INSCRITS!$D$4:$W$501,9,0))","v":""}]
[null,null,null,{"$f":"IF($C65=\"\",\"\",VLOOKUP($C65,INSCRITS!$D$4:$W$501,6,0))","v":""},{"$f":"IF($C65=\"\",\"\",VLOOKUP($C65,INSCRITS!$D$4:$W$501,7,0))","v":""},{"$f":"IF($C65=\"\",\"\",VLOOKUP($C65,INSCRITS!$D$4:$W$501,9,0))","v":""},null,null,null,null,null,null,null,null,{"$f":"IF($N65=\"\",\"\",VLOOKUP($N65,INSCRITS!$D$4:$W$501,6,0))","v":""},{"$f":"IF($N65=\"\",\"\",VLOOKUP($N65,INSCRITS!$D$4:$W$501,7,0))","v":""},{"$f":"IF($N65=\"\",\"\",VLOOKUP($N65,INSCRITS!$D$4:$W$501,9,0))","v":""}]
[null,null,null,{"$f":"IF($C66=\"\",\"\",VLOOKUP($C66,INSCRITS!$D$4:$W$501,6,0))","v":""},{"$f":"IF($C66=\"\",\"\",VLOOKUP($C66,INSCRITS!$D$4:$W$501,7,0))","v":""},{"$f":"IF($C66=\"\",\"\",VLOOKUP($C66,INSCRITS!$D$4:$W$501,9,0))","v":""},null,null,null,null,null,null,null,null,{"$f":"IF($N66=\"\",\"\",VLOOKUP($N66,INSCRITS!$D$4:$W$501,6,0))","v":""},{"$f":"IF($N66=\"\",\"\",VLOOKUP($N66,INSCRITS!$D$4:$W$501,7,0))","v":""},{"$f":"IF($N66=\"\",\"\",VLOOKUP($N66,INSCRITS!$D$4:$W$501,9,0))","v":""}]
[null,null,null,{"$f":"IF($C67=\"\",\"\",VLOOKUP($C67,INSCRITS!$D$4:$W$501,6,0))","v":""},{"$f":"IF($C67=\"\",\"\",VLOOKUP($C67,INSCRITS!$D$4:$W$501,7,0))","v":""},{"$f":"IF($C67=\"\",\"\",VLOOKUP($C67,INSCRITS!$D$4:$W$501,9,0))","v":""},null,null,null,null,null,null,null,null,{"$f":"IF($N67=\"\",\"\",VLOOKUP($N67,INSCRITS!$D$4:$W$501,6,0))","v":""},{"$f":"IF($N67=\"\",\"\",VLOOKUP($N67,INSCRITS!$D$4:$W$501,7,0))","v":""},{"$f":"IF($N67=\"\",\"\",VLOOKUP($N67,INSCRITS!$D$4:$W$501,9,0))","v":""}]
[null,null,null,{"$f":"IF($C68=\"\",\"\",VLOOKUP($C68,INSCRITS!$D$4:$W$501,6,0))","v":""},{"$f":"IF($C68=\"\",\"\",VLOOKUP($C68,INSCRITS!$D$4:$W$501,7,0))","v":""},{"$f":"IF($C68=\"\",\"\",VLOOKUP($C68,INSCRITS!$D$4:$W$501,9,0))","v":""},null,null,null,null,null,null,null,null,{"$f":"IF($N68=\"\",\"\",VLOOKUP($N68,INSCRITS!$D$4:$W$501,6,0))","v":""},{"$f":"IF($N68=\"\",\"\",VLOOKUP($N68,INSCRITS!$D$4:$W$501,7,0))","v":""},{"$f":"IF($N68=\"\",\"\",VLOOKUP($N68,INSCRITS!$D$4:$W$501,9,0))","v":""}]
[null,null,null,{"$f":"IF($C69=\"\",\"\",VLOOKUP($C69,INSCRITS!$D$4:$W$501,6,0))","v":""},{"$f":"IF($C69=\"\",\"\",VLOOKUP($C69,INSCRITS!$D$4:$W$501,7,0))","v":""},{"$f":"IF($C69=\"\",\"\",VLOOKUP($C69,INSCRITS!$D$4:$W$501,9,0))","v":""},null,null,null,null,null,null,null,null,{"$f":"IF($N69=\"\",\"\",VLOOKUP($N69,INSCRITS!$D$4:$W$501,6,0))","v":""},{"$f":"IF($N69=\"\",\"\",VLOOKUP($N69,INSCRITS!$D$4:$W$501,7,0))","v":""},{"$f":"IF($N69=\"\",\"\",VLOOKUP($N69,INSCRITS!$D$4:$W$501,9,0))","v":""}]
[null,null,null,{"$f":"IF($C70=\"\",\"\",VLOOKUP($C70,INSCRITS!$D$4:$W$501,6,0))","v":""},{"$f":"IF($C70=\"\",\"\",VLOOKUP($C70,INSCRITS!$D$4:$W$501,7,0))","v":""},{"$f":"IF($C70=\"\",\"\",VLOOKUP($C70,INSCRITS!$D$4:$W$501,9,0))","v":""},null,null,null,null,null,null,null,null,{"$f":"IF($N70=\"\",\"\",VLOOKUP($N70,INSCRITS!$D$4:$W$501,6,0))","v":""},{"$f":"IF($N70=\"\",\"\",VLOOKUP($N70,INSCRITS!$D$4:$W$501,7,0))","v":""},{"$f":"IF($N70=\"\",\"\",VLOOKUP($N70,INSCRITS!$D$4:$W$501,9,0))","v":""}]
[null,null,null,{"$f":"IF($C71=\"\",\"\",VLOOKUP($C71,INSCRITS!$D$4:$W$501,6,0))","v":""},{"$f":"IF($C71=\"\",\"\",VLOOKUP($C71,INSCRITS!$D$4:$W$501,7,0))","v":""},{"$f":"IF($C71=\"\",\"\",VLOOKUP($C71,INSCRITS!$D$4:$W$501,9,0))","v":""},null,null,null,null,null,null,null,null,{"$f":"IF($N71=\"\",\"\",VLOOKUP($N71,INSCRITS!$D$4:$W$501,6,0))","v":""},{"$f":"IF($N71=\"\",\"\",VLOOKUP($N71,INSCRITS!$D$4:$W$501,7,0))","v":""},{"$f":"IF($N71=\"\",\"\",VLOOKUP($N71,INSCRITS!$D$4:$W$501,9,0))","v":""}]
[null,null,null,{"$f":"IF($C72=\"\",\"\",VLOOKUP($C72,INSCRITS!$D$4:$W$501,6,0))","v":""},{"$f":"IF($C72=\"\",\"\",VLOOKUP($C72,INSCRITS!$D$4:$W$501,7,0))","v":""},{"$f":"IF($C72=\"\",\"\",VLOOKUP($C72,INSCRITS!$D$4:$W$501,9,0))","v":""}]
[null,null,null,{"$f":"IF($C73=\"\",\"\",VLOOKUP($C73,INSCRITS!$D$4:$W$501,6,0))","v":""},{"$f":"IF($C73=\"\",\"\",VLOOKUP($C73,INSCRITS!$D$4:$W$501,7,0))","v":""},{"$f":"IF($C73=\"\",\"\",VLOOKUP($C73,INSCRITS!$D$4:$W$501,9,0))","v":""}]
[null,null,null,{"$f":"IF($C74=\"\",\"\",VLOOKUP($C74,INSCRITS!$D$4:$W$501,6,0))","v":""},{"$f":"IF($C74=\"\",\"\",VLOOKUP($C74,INSCRITS!$D$4:$W$501,7,0))","v":""},{"$f":"IF($C74=\"\",\"\",VLOOKUP($C74,INSCRITS!$D$4:$W$501,9,0))","v":""}]
[null,null,null,{"$f":"IF($C75=\"\",\"\",VLOOKUP($C75,INSCRITS!$D$4:$W$501,6,0))","v":""},{"$f":"IF($C75=\"\",\"\",VLOOKUP($C75,INSCRITS!$D$4:$W$501,7,0))","v":""},{"$f":"IF($C75=\"\",\"\",VLOOKUP($C75,INSCRITS!$D$4:$W$501,9,0))","v":""}]
[null,null,null,{"$f":"IF($C76=\"\",\"\",VLOOKUP($C76,INSCRITS!$D$4:$W$501,6,0))","v":""},{"$f":"IF($C76=\"\",\"\",VLOOKUP($C76,INSCRITS!$D$4:$W$501,7,0))","v":""},{"$f":"IF($C76=\"\",\"\",VLOOKUP($C76,INSCRITS!$D$4:$W$501,9,0))","v":""}]
[null,null,null,{"$f":"IF($C77=\"\",\"\",VLOOKUP($C77,INSCRITS!$D$4:$W$501,6,0))","v":""},{"$f":"IF($C77=\"\",\"\",VLOOKUP($C77,INSCRITS!$D$4:$W$501,7,0))","v":""},{"$f":"IF($C77=\"\",\"\",VLOOKUP($C77,INSCRITS!$D$4:$W$501,9,0))","v":""}]
[null,null,null,{"$f":"IF($C78=\"\",\"\",VLOOKUP($C78,INSCRITS!$D$4:$W$501,6,0))","v":""},{"$f":"IF($C78=\"\",\"\",VLOOKUP($C78,INSCRITS!$D$4:$W$501,7,0))","v":""},{"$f":"IF($C78=\"\",\"\",VLOOKUP($C78,INSCRITS!$D$4:$W$501,9,0))","v":""}]
[null,null,null,{"$f":"IF($C79=\"\",\"\",VLOOKUP($C79,INSCRITS!$D$4:$W$501,6,0))","v":""},{"$f":"IF($C79=\"\",\"\",VLOOKUP($C79,INSCRITS!$D$4:$W$501,7,0))","v":""},{"$f":"IF($C79=\"\",\"\",VLOOKUP($C79,INSCRITS!$D$4:$W$501,9,0))","v":""}]
[null,null,null,{"$f":"IF($C80=\"\",\"\",VLOOKUP($C80,INSCRITS!$D$4:$W$501,6,0))","v":""},{"$f":"IF($C80=\"\",\"\",VLOOKUP($C80,INSCRITS!$D$4:$W$501,7,0))","v":""},{"$f":"IF($C80=\"\",\"\",VLOOKUP($C80,INSCRITS!$D$4:$W$501,9,0))","v":""}]
[null,null,null,{"$f":"IF($C81=\"\",\"\",VLOOKUP($C81,INSCRITS!$D$4:$W$501,6,0))","v":""},{"$f":"IF($C81=\"\",\"\",VLOOKUP($C81,INSCRITS!$D$4:$W$501,7,0))","v":""},{"$f":"IF($C81=\"\",\"\",VLOOKUP($C81,INSCRITS!$D$4:$W$501,9,0))","v":""}]
[null,null,null,{"$f":"IF($C82=\"\",\"\",VLOOKUP($C82,INSCRITS!$D$4:$W$501,6,0))","v":""},{"$f":"IF($C82=\"\",\"\",VLOOKUP($C82,INSCRITS!$D$4:$W$501,7,0))","v":""},{"$f":"IF($C82=\"\",\"\",VLOOKUP($C82,INSCRITS!$D$4:$W$501,9,0))","v":""}]
[null,null,null,{"$f":"IF($C83=\"\",\"\",VLOOKUP($C83,INSCRITS!$D$4:$W$501,6,0))","v":""},{"$f":"IF($C83=\"\",\"\",VLOOKUP($C83,INSCRITS!$D$4:$W$501,7,0))","v":""},{"$f":"IF($C83=\"\",\"\",VLOOKUP($C83,INSCRITS!$D$4:$W$501,9,0))","v":""}]
[null,null,null,{"$f":"IF($C84=\"\",\"\",VLOOKUP($C84,INSCRITS!$D$4:$W$501,6,0))","v":""},{"$f":"IF($C84=\"\",\"\",VLOOKUP($C84,INSCRITS!$D$4:$W$501,7,0))","v":""},{"$f":"IF($C84=\"\",\"\",VLOOKUP($C84,INSCRITS!$D$4:$W$501,9,0))","v":""}]
[null,null,null,{"$f":"IF($C85=\"\",\"\",VLOOKUP($C85,INSCRITS!$D$4:$W$501,6,0))","v":""},{"$f":"IF($C85=\"\",\"\",VLOOKUP($C85,INSCRITS!$D$4:$W$501,7,0))","v":""},{"$f":"IF($C85=\"\",\"\",VLOOKUP($C85,INSCRITS!$D$4:$W$501,9,0))","v":""}]
[null,null,null,{"$f":"IF($C86=\"\",\"\",VLOOKUP($C86,INSCRITS!$D$4:$W$501,6,0))","v":""},{"$f":"IF($C86=\"\",\"\",VLOOKUP($C86,INSCRITS!$D$4:$W$501,7,0))","v":""},{"$f":"IF($C86=\"\",\"\",VLOOKUP($C86,INSCRITS!$D$4:$W$501,9,0))","v":""}]
[null,null,null,{"$f":"IF($C87=\"\",\"\",VLOOKUP($C87,INSCRITS!$D$4:$W$501,6,0))","v":""},{"$f":"IF($C87=\"\",\"\",VLOOKUP($C87,INSCRITS!$D$4:$W$501,7,0))","v":""},{"$f":"IF($C87=\"\",\"\",VLOOKUP($C87,INSCRITS!$D$4:$W$501,9,0))","v":""}]
[null,"SERIE 6",null,{"$f":"IF($C88=\"\",\"\",VLOOKUP($C88,INSCRITS!$D$4:$W$501,6,0))","v":""},{"$f":"IF($C88=\"\",\"\",VLOOKUP($C88,INSCRITS!$D$4:$W$501,7,0))","v":""},{"$f":"IF($C88=\"\",\"\",VLOOKUP($C88,INSCRITS!$D$4:$W$501,9,0))","v":""}]
[null,null,null,{"$f":"IF($C89=\"\",\"\",VLOOKUP($C89,INSCRITS!$D$4:$W$501,6,0))","v":""},{"$f":"IF($C89=\"\",\"\",VLOOKUP($C89,INSCRITS!$D$4:$W$501,7,0))","v":""},{"$f":"IF($C89=\"\",\"\",VLOOKUP($C89,INSCRITS!$D$4:$W$501,9,0))","v":""}]
[null,null,null,{"$f":"IF($C90=\"\",\"\",VLOOKUP($C90,INSCRITS!$D$4:$W$501,6,0))","v":""},{"$f":"IF($C90=\"\",\"\",VLOOKUP($C90,INSCRITS!$D$4:$W$501,7,0))","v":""},{"$f":"IF($C90=\"\",\"\",VLOOKUP($C90,INSCRITS!$D$4:$W$501,9,0))","v":""}]
[null,null,null,{"$f":"IF($C91=\"\",\"\",VLOOKUP($C91,INSCRITS!$D$4:$W$501,6,0))","v":""},{"$f":"IF($C91=\"\",\"\",VLOOKUP($C91,INSCRITS!$D$4:$W$501,7,0))","v":""},{"$f":"IF($C91=\"\",\"\",VLOOKUP($C91,INSCRITS!$D$4:$W$501,9,0))","v":""}]
[null,null,null,{"$f":"IF($C92=\"\",\"\",VLOOKUP($C92,INSCRITS!$D$4:$W$501,6,0))","v":""},{"$f":"IF($C92=\"\",\"\",VLOOKUP($C92,INSCRITS!$D$4:$W$501,7,0))","v":""},{"$f":"IF($C92=\"\",\"\",VLOOKUP($C92,INSCRITS!$D$4:$W$501,9,0))","v":""}]
[null,null,null,{"$f":"IF($C93=\"\",\"\",VLOOKUP($C93,INSCRITS!$D$4:$W$501,6,0))","v":""},{"$f":"IF($C93=\"\",\"\",VLOOKUP($C93,INSCRITS!$D$4:$W$501,7,0))","v":""},{"$f":"IF($C93=\"\",\"\",VLOOKUP($C93,INSCRITS!$D$4:$W$501,9,0))","v":""}]
[null,null,null,{"$f":"IF($C94=\"\",\"\",VLOOKUP($C94,INSCRITS!$D$4:$W$501,6,0))","v":""},{"$f":"IF($C94=\"\",\"\",VLOOKUP($C94,INSCRITS!$D$4:$W$501,7,0))","v":""},{"$f":"IF($C94=\"\",\"\",VLOOKUP($C94,INSCRITS!$D$4:$W$501,9,0))","v":""}]
[null,null,null,{"$f":"IF($C95=\"\",\"\",VLOOKUP($C95,INSCRITS!$D$4:$W$501,6,0))","v":""},{"$f":"IF($C95=\"\",\"\",VLOOKUP($C95,INSCRITS!$D$4:$W$501,7,0))","v":""},{"$f":"IF($C95=\"\",\"\",VLOOKUP($C95,INSCRITS!$D$4:$W$501,9,0))","v":""}]
[null,null,null,{"$f":"IF($C96=\"\",\"\",VLOOKUP($C96,INSCRITS!$D$4:$W$501,6,0))","v":""},{"$f":"IF($C96=\"\",\"\",VLOOKUP($C96,INSCRITS!$D$4:$W$501,7,0))","v":""},{"$f":"IF($C96=\"\",\"\",VLOOKUP($C96,INSCRITS!$D$4:$W$501,9,0))","v":""}]
[null,null,null,{"$f":"IF($C97=\"\",\"\",VLOOKUP($C97,INSCRITS!$D$4:$W$501,6,0))","v":""},{"$f":"IF($C97=\"\",\"\",VLOOKUP($C97,INSCRITS!$D$4:$W$501,7,0))","v":""},{"$f":"IF($C97=\"\",\"\",VLOOKUP($C97,INSCRITS!$D$4:$W$501,9,0))","v":""}]
[null,null,null,{"$f":"IF($C98=\"\",\"\",VLOOKUP($C98,INSCRITS!$D$4:$W$501,6,0))","v":""},{"$f":"IF($C98=\"\",\"\",VLOOKUP($C98,INSCRITS!$D$4:$W$501,7,0))","v":""},{"$f":"IF($C98=\"\",\"\",VLOOKUP($C98,INSCRITS!$D$4:$W$501,9,0))","v":""}]
[null,null,null,{"$f":"IF($C99=\"\",\"\",VLOOKUP($C99,INSCRITS!$D$4:$W$501,6,0))","v":""},{"$f":"IF($C99=\"\",\"\",VLOOKUP($C99,INSCRITS!$D$4:$W$501,7,0))","v":""},{"$f":"IF($C99=\"\",\"\",VLOOKUP($C99,INSCRITS!$D$4:$W$501,9,0))","v":""}]
[null,null,null,{"$f":"IF($C100=\"\",\"\",VLOOKUP($C100,INSCRITS!$D$4:$W$501,6,0))","v":""},{"$f":"IF($C100=\"\",\"\",VLOOKUP($C100,INSCRITS!$D$4:$W$501,7,0))","v":""},{"$f":"IF($C100=\"\",\"\",VLOOKUP($C100,INSCRITS!$D$4:$W$501,9,0))","v":""}]
[null,null,null,{"$f":"IF($C101=\"\",\"\",VLOOKUP($C101,INSCRITS!$D$4:$W$501,6,0))","v":""},{"$f":"IF($C101=\"\",\"\",VLOOKUP($C101,INSCRITS!$D$4:$W$501,7,0))","v":""},{"$f":"IF($C101=\"\",\"\",VLOOKUP($C101,INSCRITS!$D$4:$W$501,9,0))","v":""}]
[null,null,null,{"$f":"IF($C102=\"\",\"\",VLOOKUP($C102,INSCRITS!$D$4:$W$501,6,0))","v":""},{"$f":"IF($C102=\"\",\"\",VLOOKUP($C102,INSCRITS!$D$4:$W$501,7,0))","v":""},{"$f":"IF($C102=\"\",\"\",VLOOKUP($C102,INSCRITS!$D$4:$W$501,9,0))","v":""}]
[null,null,null,{"$f":"IF($C103=\"\",\"\",VLOOKUP($C103,INSCRITS!$D$4:$W$501,6,0))","v":""},{"$f":"IF($C103=\"\",\"\",VLOOKUP($C103,INSCRITS!$D$4:$W$501,7,0))","v":""},{"$f":"IF($C103=\"\",\"\",VLOOKUP($C103,INSCRITS!$D$4:$W$501,9,0))","v":""}]
[null,"SERIE 7",null,{"$f":"IF($C104=\"\",\"\",VLOOKUP($C104,INSCRITS!$D$4:$W$501,6,0))","v":""},{"$f":"IF($C104=\"\",\"\",VLOOKUP($C104,INSCRITS!$D$4:$W$501,7,0))","v":""},{"$f":"IF($C104=\"\",\"\",VLOOKUP($C104,INSCRITS!$D$4:$W$501,9,0))","v":""}]
[null,null,null,{"$f":"IF($C105=\"\",\"\",VLOOKUP($C105,INSCRITS!$D$4:$W$501,6,0))","v":""},{"$f":"IF($C105=\"\",\"\",VLOOKUP($C105,INSCRITS!$D$4:$W$501,7,0))","v":""},{"$f":"IF($C105=\"\",\"\",VLOOKUP($C105,INSCRITS!$D$4:$W$501,9,0))","v":""}]
[null,null,null,{"$f":"IF($C106=\"\",\"\",VLOOKUP($C106,INSCRITS!$D$4:$W$501,6,0))","v":""},{"$f":"IF($C106=\"\",\"\",VLOOKUP($C106,INSCRITS!$D$4:$W$501,7,0))","v":""},{"$f":"IF($C106=\"\",\"\",VLOOKUP($C106,INSCRITS!$D$4:$W$501,9,0))","v":""}]
[null,null,null,{"$f":"IF($C107=\"\",\"\",VLOOKUP($C107,INSCRITS!$D$4:$W$501,6,0))","v":""},{"$f":"IF($C107=\"\",\"\",VLOOKUP($C107,INSCRITS!$D$4:$W$501,7,0))","v":""},{"$f":"IF($C107=\"\",\"\",VLOOKUP($C107,INSCRITS!$D$4:$W$501,9,0))","v":""}]
[null,null,null,{"$f":"IF($C108=\"\",\"\",VLOOKUP($C108,INSCRITS!$D$4:$W$501,6,0))","v":""},{"$f":"IF($C108=\"\",\"\",VLOOKUP($C108,INSCRITS!$D$4:$W$501,7,0))","v":""},{"$f":"IF($C108=\"\",\"\",VLOOKUP($C108,INSCRITS!$D$4:$W$501,9,0))","v":""}]
[null,null,null,{"$f":"IF($C109=\"\",\"\",VLOOKUP($C109,INSCRITS!$D$4:$W$501,6,0))","v":""},{"$f":"IF($C109=\"\",\"\",VLOOKUP($C109,INSCRITS!$D$4:$W$501,7,0))","v":""},{"$f":"IF($C109=\"\",\"\",VLOOKUP($C109,INSCRITS!$D$4:$W$501,9,0))","v":""}]
[null,null,null,{"$f":"IF($C110=\"\",\"\",VLOOKUP($C110,INSCRITS!$D$4:$W$501,6,0))","v":""},{"$f":"IF($C110=\"\",\"\",VLOOKUP($C110,INSCRITS!$D$4:$W$501,7,0))","v":""},{"$f":"IF($C110=\"\",\"\",VLOOKUP($C110,INSCRITS!$D$4:$W$501,9,0))","v":""}]
[null,null,null,{"$f":"IF($C111=\"\",\"\",VLOOKUP($C111,INSCRITS!$D$4:$W$501,6,0))","v":""},{"$f":"IF($C111=\"\",\"\",VLOOKUP($C111,INSCRITS!$D$4:$W$501,7,0))","v":""},{"$f":"IF($C111=\"\",\"\",VLOOKUP($C111,INSCRITS!$D$4:$W$501,9,0))","v":""}]
[null,null,null,{"$f":"IF($C112=\"\",\"\",VLOOKUP($C112,INSCRITS!$D$4:$W$501,6,0))","v":""},{"$f":"IF($C112=\"\",\"\",VLOOKUP($C112,INSCRITS!$D$4:$W$501,7,0))","v":""},{"$f":"IF($C112=\"\",\"\",VLOOKUP($C112,INSCRITS!$D$4:$W$501,9,0))","v":""}]
[null,null,null,{"$f":"IF($C113=\"\",\"\",VLOOKUP($C113,INSCRITS!$D$4:$W$501,6,0))","v":""},{"$f":"IF($C113=\"\",\"\",VLOOKUP($C113,INSCRITS!$D$4:$W$501,7,0))","v":""},{"$f":"IF($C113=\"\",\"\",VLOOKUP($C113,INSCRITS!$D$4:$W$501,9,0))","v":""}]
[null,null,null,{"$f":"IF($C114=\"\",\"\",VLOOKUP($C114,INSCRITS!$D$4:$W$501,6,0))","v":""},{"$f":"IF($C114=\"\",\"\",VLOOKUP($C114,INSCRITS!$D$4:$W$501,7,0))","v":""},{"$f":"IF($C114=\"\",\"\",VLOOKUP($C114,INSCRITS!$D$4:$W$501,9,0))","v":""}]
[null,null,null,{"$f":"IF($C115=\"\",\"\",VLOOKUP($C115,INSCRITS!$D$4:$W$501,6,0))","v":""},{"$f":"IF($C115=\"\",\"\",VLOOKUP($C115,INSCRITS!$D$4:$W$501,7,0))","v":""},{"$f":"IF($C115=\"\",\"\",VLOOKUP($C115,INSCRITS!$D$4:$W$501,9,0))","v":""}]
[null,null,null,{"$f":"IF($C116=\"\",\"\",VLOOKUP($C116,INSCRITS!$D$4:$W$501,6,0))","v":""},{"$f":"IF($C116=\"\",\"\",VLOOKUP($C116,INSCRITS!$D$4:$W$501,7,0))","v":""},{"$f":"IF($C116=\"\",\"\",VLOOKUP($C116,INSCRITS!$D$4:$W$501,9,0))","v":""}]
[null,null,null,{"$f":"IF($C117=\"\",\"\",VLOOKUP($C117,INSCRITS!$D$4:$W$501,6,0))","v":""},{"$f":"IF($C117=\"\",\"\",VLOOKUP($C117,INSCRITS!$D$4:$W$501,7,0))","v":""},{"$f":"IF($C117=\"\",\"\",VLOOKUP($C117,INSCRITS!$D$4:$W$501,9,0))","v":""}]
[null,null,null,{"$f":"IF($C118=\"\",\"\",VLOOKUP($C118,INSCRITS!$D$4:$W$501,6,0))","v":""},{"$f":"IF($C118=\"\",\"\",VLOOKUP($C118,INSCRITS!$D$4:$W$501,7,0))","v":""},{"$f":"IF($C118=\"\",\"\",VLOOKUP($C118,INSCRITS!$D$4:$W$501,9,0))","v":""}]
[null,null,null,{"$f":"IF($C119=\"\",\"\",VLOOKUP($C119,INSCRITS!$D$4:$W$501,6,0))","v":""},{"$f":"IF($C119=\"\",\"\",VLOOKUP($C119,INSCRITS!$D$4:$W$501,7,0))","v":""},{"$f":"IF($C119=\"\",\"\",VLOOKUP($C119,INSCRITS!$D$4:$W$501,9,0))","v":""}]
[null,"SERIE 8",null,{"$f":"IF($C120=\"\",\"\",VLOOKUP($C120,INSCRITS!$D$4:$W$501,6,0))","v":""},{"$f":"IF($C120=\"\",\"\",VLOOKUP($C120,INSCRITS!$D$4:$W$501,7,0))","v":""},{"$f":"IF($C120=\"\",\"\",VLOOKUP($C120,INSCRITS!$D$4:$W$501,9,0))","v":""}]
[null,null,null,{"$f":"IF($C121=\"\",\"\",VLOOKUP($C121,INSCRITS!$D$4:$W$501,6,0))","v":""},{"$f":"IF($C121=\"\",\"\",VLOOKUP($C121,INSCRITS!$D$4:$W$501,7,0))","v":""},{"$f":"IF($C121=\"\",\"\",VLOOKUP($C121,INSCRITS!$D$4:$W$501,9,0))","v":""}]
[null,null,null,{"$f":"IF($C122=\"\",\"\",VLOOKUP($C122,INSCRITS!$D$4:$W$501,6,0))","v":""},{"$f":"IF($C122=\"\",\"\",VLOOKUP($C122,INSCRITS!$D$4:$W$501,7,0))","v":""},{"$f":"IF($C122=\"\",\"\",VLOOKUP($C122,INSCRITS!$D$4:$W$501,9,0))","v":""}]
[null,null,null,{"$f":"IF($C123=\"\",\"\",VLOOKUP($C123,INSCRITS!$D$4:$W$501,6,0))","v":""},{"$f":"IF($C123=\"\",\"\",VLOOKUP($C123,INSCRITS!$D$4:$W$501,7,0))","v":""},{"$f":"IF($C123=\"\",\"\",VLOOKUP($C123,INSCRITS!$D$4:$W$501,9,0))","v":""}]
[null,null,null,{"$f":"IF($C124=\"\",\"\",VLOOKUP($C124,INSCRITS!$D$4:$W$501,6,0))","v":""},{"$f":"IF($C124=\"\",\"\",VLOOKUP($C124,INSCRITS!$D$4:$W$501,7,0))","v":""},{"$f":"IF($C124=\"\",\"\",VLOOKUP($C124,INSCRITS!$D$4:$W$501,9,0))","v":""}]
[null,null,null,{"$f":"IF($C125=\"\",\"\",VLOOKUP($C125,INSCRITS!$D$4:$W$501,6,0))","v":""},{"$f":"IF($C125=\"\",\"\",VLOOKUP($C125,INSCRITS!$D$4:$W$501,7,0))","v":""},{"$f":"IF($C125=\"\",\"\",VLOOKUP($C125,INSCRITS!$D$4:$W$501,9,0))","v":""}]
[null,null,null,{"$f":"IF($C126=\"\",\"\",VLOOKUP($C126,INSCRITS!$D$4:$W$501,6,0))","v":""},{"$f":"IF($C126=\"\",\"\",VLOOKUP($C126,INSCRITS!$D$4:$W$501,7,0))","v":""},{"$f":"IF($C126=\"\",\"\",VLOOKUP($C126,INSCRITS!$D$4:$W$501,9,0))","v":""}]
[null,null,null,{"$f":"IF($C127=\"\",\"\",VLOOKUP($C127,INSCRITS!$D$4:$W$501,6,0))","v":""},{"$f":"IF($C127=\"\",\"\",VLOOKUP($C127,INSCRITS!$D$4:$W$501,7,0))","v":""},{"$f":"IF($C127=\"\",\"\",VLOOKUP($C127,INSCRITS!$D$4:$W$501,9,0))","v":""}]
[null,null,null,{"$f":"IF($C128=\"\",\"\",VLOOKUP($C128,INSCRITS!$D$4:$W$501,6,0))","v":""},{"$f":"IF($C128=\"\",\"\",VLOOKUP($C128,INSCRITS!$D$4:$W$501,7,0))","v":""},{"$f":"IF($C128=\"\",\"\",VLOOKUP($C128,INSCRITS!$D$4:$W$501,9,0))","v":""}]

{"sheet":"OCEANMAN","index":7,"n_rows":134,"n_cols":35,"rows_kept":134,"cut":false,"hidden":false,"merged":[[102,1,117,1],[118,1,133,1],[6,1,21,1],[6,12,21,12],[54,12,69,12],[54,1,70,1],[6,27,25,27],[6,20,21,20],[86,1,101,1],[22,20,37,20],[22,1,37,1],[22,12,37,12],[38,1,53,1],[38,12,53,12]]}
[]
[]
[null,"SERIES OCEANMAN",null,null,null,null,null,null,null,null,null,null,"QUART SPRINT OCEANMAN",null,null,null,null,null,null,null,"DEMI-FINALES OCEANMAN",null,null,null,null,null,null,null,"FINALE OCEANMAN"]
[null,null,null,null,null,null,null,null,null,null,null,null,null,null,null,null,null,null,null,null,null,null,null,null,null,null,null,null,"Cadet"]
[null,null,null,null,null,null,null,null,null,null,null,null,null,null,null,null,null,null,null,null,null,"N°","NOM","Prénom","CLUB","PLACE",null,null,"N°","NOM","Prénom","CLUB",null,"PLACE","PTS"]
[]
[null,"SERIE 1",null,{"$f":"IF($C7=\"\",\"\",VLOOKUP($C7,INSCRITS!$D$4:$W$501,6,0))","v":""},{"$f":"IF($C7=\"\",\"\",VLOOKUP($C7,INSCRITS!$D$4:$W$501,7,0))","v":""},{"$f":"IF($C7=\"\",\"\",VLOOKUP($C7,INSCRITS!$D$4:$W$501,9,0))","v":""},null,null,null,null,null,null,"SERIE 1",null,{"$f":"IF($N7=\"\",\"\",VLOOKUP($N7,INSCRITS!$D$4:$W$501,6,0))","v":""},{"$f":"IF($N7=\"\",\"\",VLOOKUP($N7,INSCRITS!$D$4:$W$501,7,0))","v":""},{"$f":"IF($N7=\"\",\"\",VLOOKUP($N7,INSCRITS!$D$4:$W$501,9,0))","v":""},null,null,null,"SERIE 1",null,{"$f":"IF($V7=\"\",\"\",VLOOKUP($V7,INSCRITS!$D$4:$W$501,6,0))","v":""},{"$f":"IF($V7=\"\",\"\",VLOOKUP($V7,INSCRITS!$D$4:$W$501,7,0))","v":""},{"$f":"IF($V7=\"\",\"\",VLOOKUP($V7,INSCRITS!$D$4:$W$501,9,0))","v":""},null,null,"FINALE",126,{"$f":"IF($AC7=\"\",\"\",VLOOKUP($AC7,INSCRITS!$D$4:$W$501,6,0))","v":"PLESSIS"},{"$f":"IF($AC7=\"\",\"\",VLOOKUP($AC7,INSCRITS!$D$4:$W$501,7,0))","v":"Quentin"},{"$f":"IF($AC7=\"\",\"\",VLOOKUP($AC7,INSCRITS!$D$4:$W$501,9,0))","v":"AQUALOVE"},null,1,{"$f":"IF(AH7=\"\",\"\",VLOOKUP(AH7,points,2))","v":20}]
[null,null,null,{"$f":"IF($C8=\"\",\"\",VLOOKUP($C8,INSCRITS!$D$4:$W$501,6,0))","v":""},{"$f":"IF($C8=\"\",\"\",VLOOKUP($C8,INSCRITS!$D$4:$W$501,7,0))","v":""},{"$f":"IF($C8=\"\",\"\",VLOOKUP($C8,INSCRITS!$D$4:$W$501,9,0))","v":""},null,null,null,null,null,null,null,null,{"$f":"IF($N8=\"\",\"\",VLOOKUP($N8,INSCRITS!$D$4:$W$501,6,0))","v":""},{"$f":"IF($N8=\"\",\"\",VLOOKUP($N8,INSCRITS!$D$4:$W$501,7,0))","v":""},{"$f":"IF($N8=\"\",\"\",VLOOKUP($N8,INSCRITS!$D$4:$W$501,9,0))","v":""},null,null,null,null,null,{"$f":"IF($V8=\"\",\"\",VLOOKUP($V8,INSCRITS!$D$4:$W$501,6,0))","v":""},{"$f":"IF($V8=\"\",\"\",VLOOKUP($V8,INSCRITS!$D$4:$W$501,7,0))","v":""},{"$f":"IF($V8=\"\",\"\",VLOOKUP($V8,INSCRITS!$D$4:$W$501,9,0))","v":""},null,null,null,123,{"$f":"IF($AC8=\"\",\"\",VLOOKUP($AC8,INSCRITS!$D$4:$W$501,6,0))","v":"VANDENBERGHE"},{"$f":"IF($AC8=\"\",\"\",VLOOKUP($AC8,INSCRITS!$D$4:$W$501,7,0))","v":"Sébastien"},{"$f":"IF($AC8=\"\",\"\",VLOOKUP($AC8,INSCRITS!$D$4:$W$501,9,0))","v":"ANV"},null,2,18]
[null,null,null,{"$f":"IF($C9=\"\",\"\",VLOOKUP($C9,INSCRITS!$D$4:$W$501,6,0))","v":""},{"$f":"IF($C9=\"\",\"\",VLOOKUP($C9,INSCRITS!$D$4:$W$501,7,0))","v":""},{"$f":"IF($C9=\"\",\"\",VLOOKUP($C9,INSCRITS!$D$4:$W$501,9,0))","v":""},null,null,null,null,null,null,null,null,{"$f":"IF($N9=\"\",\"\",VLOOKUP($N9,INSCRITS!$D$4:$W$501,6,0))","v":""},{"$f":"IF($N9=\"\",\"\",VLOOKUP($N9,INSCRITS!$D$4:$W$501,7,0))","v":""},{"$f":"IF($N9=\"\",\"\",VLOOKUP($N9,INSCRITS!$D$4:$W$501,9,0))","v":""},null,null,null,null,null,{"$f":"IF($V9=\"\",\"\",VLOOKUP($V9,INSCRITS!$D$4:$W$501,6,0))","v":""},{"$f":"IF($V9=\"\",\"\",VLOOKUP($V9,INSCRITS!$D$4:$W$501,7,0))","v":""},{"$f":"IF($V9=\"\",\"\",VLOOKUP($V9,INSCRITS!$D$4:$W$501,9,0))","v":""},null,null,null,152,{"$f":"IF($AC9=\"\",\"\",VLOOKUP($AC9,INSCRITS!$D$4:$W$501,6,0))","v":"CIER"},{"$f":"IF($AC9=\"\",\"\",VLOOKUP($AC9,INSCRITS!$D$4:$W$501,7,0))","v":"Jules"},{"$f":"IF($AC9=\"\",\"\",VLOOKUP($AC9,INSCRITS!$D$4:$W$501,9,0))","v":"HSC"},null,3,16]
[null,null,null,{"$f":"IF($C10=\"\",\"\",VLOOKUP($C10,INSCRITS!$D$4:$W$501,6,0))","v":""},{"$f":"IF($C10=\"\",\"\",VLOOKUP($C10,INSCRITS!$D$4:$W$501,7,0))","v":""},{"$f":"IF($C10=\"\",\"\",VLOOKUP($C10,INSCRITS!$D$4:$W$501,9,0))","v":""},null,null,null,null,null,null,null,null,{"$f":"IF($N10=\"\",\"\",VLOOKUP($N10,INSCRITS!$D$4:$W$501,6,0))","v":""},{"$f":"IF($N10=\"\",\"\",VLOOKUP($N10,INSCRITS!$D$4:$W$501,7,0))","v":""},{"$f":"IF($N10=\"\",\"\",VLOOKUP($N10,INSCRITS!$D$4:$W$501,9,0))","v":""},null,null,null,null,null,{"$f":"IF($V10=\"\",\"\",VLOOKUP($V10,INSCRITS!$D$4:$W$501,6,0))","v":""},{"$f":"IF($V10=\"\",\"\",VLOOKUP($V10,INSCRITS!$D$4:$W$501,7,0))","v":""},{"$f":"IF($V10=\"\",\"\",VLOOKUP($V10,INSCRITS!$D$4:$W$501,9,0))","v":""},null,null,null,138,{"$f":"IF($AC10=\"\",\"\",VLOOKUP($AC10,INSCRITS!$D$4:$W$501,6,0))","v":"LABAT"},{"$f":"IF($AC10=\"\",\"\",VLOOKUP($AC10,INSCRITS!$D$4:$W$501,7,0))","v":"Maxime"},{"$f":"IF($AC10=\"\",\"\",VLOOKUP($AC10,INSCRITS!$D$4:$W$501,9,0))","v":"Biarritz SC"},null,4,14]
[null,null,null,{"$f":"IF($C11=\"\",\"\",VLOOKUP($C11,INSCRITS!$D$4:$W$501,6,0))","v":""},{"$f":"IF($C11=\"\",\"\",VLOOKUP($C11,INSCRITS!$D$4:$W$501,7,0))","v":""},{"$f":"IF($C11=\"\",\"\",VLOOKUP($C11,INSCRITS!$D$4:$W$501,9,0))","v":""},null,null,null,null,null,null,null,null,{"$f":"IF($N11=\"\",\"\",VLOOKUP($N11,INSCRITS!$D$4:$W$501,6,0))","v":""},{"$f":"IF($N11=\"\",\"\",VLOOKUP($N11,INSCRITS!$D$4:$W$501,7,0))","v":""},{"$f":"IF($N11=\"\",\"\",VLOOKUP($N11,INSCRITS!$D$4:$W$501,9,0))","v":""},null,null,null,null,null,{"$f":"IF($V11=\"\",\"\",VLOOKUP($V11,INSCRITS!$D$4:$W$501,6,0))","v":""},{"$f":"IF($V11=\"\",\"\",VLOOKUP($V11,INSCRITS!$D$4:$W$501,7,0))","v":""},{"$f":"IF($V11=\"\",\"\",VLOOKUP($V11,INSCRITS!$D$4:$W$501,9,0))","v":""},null,null,null,153,{"$f":"IF($AC11=\"\",\"\",VLOOKUP($AC11,INSCRITS!$D$4:$W$501,6,0))","v":"TISSIER"},{"$f":"IF($AC11=\"\",\"\",VLOOKUP($AC11,INSCRITS!$D$4:$W$501,7,0))","v":"Mael"},{"$f":"IF($AC11=\"\",\"\",VLOOKUP($AC11,INSCRITS!$D$4:$W$501,9,0))","v":"HSC"},null,5,13]
[null,null,null,{"$f":"IF($C12=\"\",\"\",VLOOKUP($C12,INSCRITS!$D$4:$W$501,6,0))","v":""},{"$f":"IF($C12=\"\",\"\",VLOOKUP($C12,INSCRITS!$D$4:$W$501,7,0))","v":""},{"$f":"IF($C12=\"\",\"\",VLOOKUP($C12,INSCRITS!$D$4:$W$501,9,0))","v":""},null,null,null,null,null,null,null,null,{"$f":"IF($N12=\"\",\"\",VLOOKUP($N12,INSCRITS!$D$4:$W$501,6,0))","v":""},{"$f":"IF($N12=\"\",\"\",VLOOKUP($N12,INSCRITS!$D$4:$W$501,7,0))","v":""},{"$f":"IF($N12=\"\",\"\",VLOOKUP($N12,INSCRITS!$D$4:$W$501,9,0))","v":""},null,null,null,null,null,{"$f":"IF($V12=\"\",\"\",VLOOKUP($V12,INSCRITS!$D$4:$W$501,6,0))","v":""},{"$f":"IF($V12=\"\",\"\",VLOOKUP($V12,INSCRITS!$D$4:$W$501,7,0))","v":""},{"$f":"IF($V12=\"\",\"\",VLOOKUP($V12,INSCRITS!$D$4:$W$501,9,0))","v":""},null,null,null,134,{"$f":"IF($AC12=\"\",\"\",VLOOKUP($AC12,INSCRITS!$D$4:$W$501,6,0))","v":"CAMGRAND"},{"$f":"IF($AC12=\"\",\"\",VLOOKUP($AC12,INSCRITS!$D$4:$W$501,7,0))","v":"Jérémie"},{"$f":"IF($AC12=\"\",\"\",VLOOKUP($AC12,INSCRITS!$D$4:$W$501,9,0))","v":"Biarritz SC"},null,6,12]
[null,null,null,{"$f":"IF($C13=\"\",\"\",VLOOKUP($C13,INSCRITS!$D$4:$W$501,6,0))","v":""},{"$f":"IF($C13=\"\",\"\",VLOOKUP($C13,INSCRITS!$D$4:$W$501,7,0))","v":""},{"$f":"IF($C13=\"\",\"\",VLOOKUP($C13,INSCRITS!$D$4:$W$501,9,0))","v":""},null,null,null,null,null,null,null,null,{"$f":"IF($N13=\"\",\"\",VLOOKUP($N13,INSCRITS!$D$4:$W$501,6,0))","v":""},{"$f":"IF($N13=\"\",\"\",VLOOKUP($N13,INSCRITS!$D$4:$W$501,7,0))","v":""},{"$f":"IF($N13=\"\",\"\",VLOOKUP($N13,INSCRITS!$D$4:$W$501,9,0))","v":""},null,null,null,null,null,{"$f":"IF($V13=\"\",\"\",VLOOKUP($V13,INSCRITS!$D$4:$W$501,6,0))","v":""},{"$f":"IF($V13=\"\",\"\",VLOOKUP($V13,INSCRITS!$D$4:$W$501,7,0))","v":""},{"$f":"IF($V13=\"\",\"\",VLOOKUP($V13,INSCRITS!$D$4:$W$501,9,0))","v":""},null,null,null,124,{"$f":"IF($AC13=\"\",\"\",VLOOKUP($AC13,INSCRITS!$D$4:$W$501,6,0))","v":"ALARCON"},{"$f":"IF($AC13=\"\",\"\",VLOOKUP($AC13,INSCRITS!$D$4:$W$501,7,0))","v":"Benjamin"},{"$f":"IF($AC13=\"\",\"\",VLOOKUP($AC13,INSCRITS!$D$4:$W$501,9,0))","v":"AQUALOVE"},null,7,11]
[null,null,null,{"$f":"IF($C14=\"\",\"\",VLOOKUP($C14,INSCRITS!$D$4:$W$501,6,0))","v":""},{"$f":"IF($C14=\"\",\"\",VLOOKUP($C14,INSCRITS!$D$4:$W$501,7,0))","v":""},{"$f":"IF($C14=\"\",\"\",VLOOKUP($C14,INSCRITS!$D$4:$W$501,9,0))","v":""},null,null,null,null,null,null,null,null,{"$f":"IF($N14=\"\",\"\",VLOOKUP($N14,INSCRITS!$D$4:$W$501,6,0))","v":""},{"$f":"IF($N14=\"\",\"\",VLOOKUP($N14,INSCRITS!$D$4:$W$501,7,0))","v":""},{"$f":"IF($N14=\"\",\"\",VLOOKUP($N14,INSCRITS!$D$4:$W$501,9,0))","v":""},null,null,null,null,null,{"$f":"IF($V14=\"\",\"\",VLOOKUP($V14,INSCRITS!$D$4:$W$501,6,0))","v":""},{"$f":"IF($V14=\"\",\"\",VLOOKUP($V14,INSCRITS!$D$4:$W$501,7,0))","v":""},{"$f":"IF($V14=\"\",\"\",VLOOKUP($V14,INSCRITS!$D$4:$W$501,9,0))","v":""},null,null,null,125,{"$f":"IF($AC14=\"\",\"\",VLOOKUP($AC14,INSCRITS!$D$4:$W$501,6,0))","v":"EL KHATIR"},{"$f":"IF($AC14=\"\",\"\",VLOOKUP($AC14,INSCRITS!$D$4:$W$501,7,0))","v":"Younes"},{"$f":"IF($AC14=\"\",\"\",VLOOKUP($AC14,INSCRITS!$D$4:$W$501,9,0))","v":"AQUALOVE"},null,8,10]
[null,null,null,{"$f":"IF($C15=\"\",\"\",VLOOKUP($C15,INSCRITS!$D$4:$W$501,6,0))","v":""},{"$f":"IF($C15=\"\",\"\",VLOOKUP($C15,INSCRITS!$D$4:$W$501,7,0))","v":""},{"$f":"IF($C15=\"\",\"\",VLOOKUP($C15,INSCRITS!$D$4:$W$501,9,0))","v":""},null,null,null,null,null,null,null,null,{"$f":"IF($N15=\"\",\"\",VLOOKUP($N15,INSCRITS!$D$4:$W$501,6,0))","v":""},{"$f":"IF($N15=\"\",\"\",VLOOKUP($N15,INSCRITS!$D$4:$W$501,7,0))","v":""},{"$f":"IF($N15=\"\",\"\",VLOOKUP($N15,INSCRITS!$D$4:$W$501,9,0))","v":""},null,null,null,null,null,{"$f":"IF($V15=\"\",\"\",VLOOKUP($V15,INSCRITS!$D$4:$W$501,6,0))","v":""},{"$f":"IF($V15=\"\",\"\",VLOOKUP($V15,INSCRITS!$D$4:$W$501,7,0))","v":""},{"$f":"IF($V15=\"\",\"\",VLOOKUP($V15,INSCRITS!$D$4:$W$501,9,0))","v":""},null,null,null,148,{"$f":"IF($AC15=\"\",\"\",VLOOKUP($AC15,INSCRITS!$D$4:$W$501,6,0))","v":"CAZAUX"},{"$f":"IF($AC15=\"\",\"\",VLOOKUP($AC15,INSCRITS!$D$4:$W$501,7,0))","v":"Loïc"},{"$f":"IF($AC15=\"\",\"\",VLOOKUP($AC15,INSCRITS!$D$4:$W$501,9,0))","v":"CSSM"},null,9,8]
[null,null,null,{"$f":"IF($C16=\"\",\"\",VLOOKUP($C16,INSCRITS!$D$4:$W$501,6,0))","v":""},{"$f":"IF($C16=\"\",\"\",VLOOKUP($C16,INSCRITS!$D$4:$W$501,7,0))","v":""},{"$f":"IF($C16=\"\",\"\",VLOOKUP($C16,INSCRITS!$D$4:$W$501,9,0))","v":""},null,null,null,null,null,null,null,null,{"$f":"IF($N16=\"\",\"\",VLOOKUP($N16,INSCRITS!$D$4:$W$501,6,0))","v":""},{"$f":"IF($N16=\"\",\"\",VLOOKUP($N16,INSCRITS!$D$4:$W$501,7,0))","v":""},{"$f":"IF($N16=\"\",\"\",VLOOKUP($N16,INSCRITS!$D$4:$W$501,9,0))","v":""},null,null,null,null,null,{"$f":"IF($V16=\"\",\"\",VLOOKUP($V16,INSCRITS!$D$4:$W$501,6,0))","v":""},{"$f":"IF($V16=\"\",\"\",VLOOKUP($V16,INSCRITS!$D$4:$W$501,7,0))","v":""},{"$f":"IF($V16=\"\",\"\",VLOOKUP($V16,INSCRITS!$D$4:$W$501,9,0))","v":""},null,null,null,154,{"$f":"IF($AC16=\"\",\"\",VLOOKUP($AC16,INSCRITS!$D$4:$W$501,6,0))","v":"LAUSSU"},{"$f":"IF($AC16=\"\",\"\",VLOOKUP($AC16,INSCRITS!$D$4:$W$501,7,0))","v":"Quentin"},{"$f":"IF($AC16=\"\",\"\",VLOOKUP($AC16,INSCRITS!$D$4:$W$501,9,0))","v":"lit et mixe"},null,10,7]
[null,null,null,{"$f":"IF($C17=\"\",\"\",VLOOKUP($C17,INSCRITS!$D$4:$W$501,6,0))","v":""},{"$f":"IF($C17=\"\",\"\",VLOOKUP($C17,INSCRITS!$D$4:$W$501,7,0))","v":""},{"$f":"IF($C17=\"\",\"\",VLOOKUP($C17,INSCRITS!$D$4:$W$501,9,0))","v":""},null,null,null,null,null,null,null,null,{"$f":"IF($N17=\"\",\"\",VLOOKUP($N17,INSCRITS!$D$4:$W$501,6,0))","v":""},{"$f":"IF($N17=\"\",\"\",VLOOKUP($N17,INSCRITS!$D$4:$W$501,7,0))","v":""},{"$f":"IF($N17=\"\",\"\",VLOOKUP($N17,INSCRITS!$D$4:$W$501,9,0))","v":""},null,null,null,null,null,{"$f":"IF($V17=\"\",\"\",VLOOKUP($V17,INSCRITS!$D$4:$W$501,6,0))","v":""},{"$f":"IF($V17=\"\",\"\",VLOOKUP($V17,INSCRITS!$D$4:$W$501,7,0))","v":""},{"$f":"IF($V17=\"\",\"\",VLOOKUP($V17,INSCRITS!$D$4:$W$501,9,0))","v":""},null,null,null,144,{"$f":"IF($AC17=\"\",\"\",VLOOKUP($AC17,INSCRITS!$D$4:$W$501,6,0))","v":"LICARI"},{"$f":"IF($AC17=\"\",\"\",VLOOKUP($AC17,INSCRITS!$D$4:$W$501,7,0))","v":"Arnaud"},{"$f":"IF($AC17=\"\",\"\",VLOOKUP($AC17,INSCRITS!$D$4:$W$501,9,0))","v":"Cannes Sauvetage Côtier"},null,11,6]
[null,null,null,{"$f":"IF($C18=\"\",\"\",VLOOKUP($C18,INSCRITS!$D$4:$W$501,6,0))","v":""},{"$f":"IF($C18=\"\",\"\",VLOOKUP($C18,INSCRITS!$D$4:$W$501,7,0))","v":""},{"$f":"IF($C18=\"\",\"\",VLOOKUP($C18,INSCRITS!$D$4:$W$501,9,0))","v":""},null,null,null,null,null,null,null,null,{"$f":"IF($N18=\"\",\"\",VLOOKUP($N18,INSCRITS!$D$4:$W$501,6,0))","v":""},{"$f":"IF($N18=\"\",\"\",VLOOKUP($N18,INSCRITS!$D$4:$W$501,7,0))","v":""},{"$f":"IF($N18=\"\",\"\",VLOOKUP($N18,INSCRITS!$D$4:$W$501,9,0))","v":""},null,null,null,null,null,{"$f":"IF($V18=\"\",\"\",VLOOKUP($V18,INSCRITS!$D$4:$W$501,6,0))","v":""},{"$f":"IF($V18=\"\",\"\",VLOOKUP($V18,INSCRITS!$D$4:$W$501,7,0))","v":""},{"$f":"IF($V18=\"\",\"\",VLOOKUP($V18,INSCRITS!$D$4:$W$501,9,0))","v":""},null,null,null,147,{"$f":"IF($AC18=\"\",\"\",VLOOKUP($AC18,INSCRITS!$D$4:$W$501,6,0))","v":"WAGNER"},{"$f":"IF($AC18=\"\",\"\",VLOOKUP($AC18,INSCRITS!$D$4:$W$501,7,0))","v":"Florian"},{"$f":"IF($AC18=\"\",\"\",VLOOKUP($AC18,INSCRITS!$D$4:$W$501,9,0))","v":"COLMAR ACSS"},null,12,5]
[null,null,null,{"$f":"IF($C19=\"\",\"\",VLOOKUP($C19,INSCRITS!$D$4:$W$501,6,0))","v":""},{"$f":"IF($C19=\"\",\"\",VLOOKUP($C19,INSCRITS!$D$4:$W$501,7,0))","v":""},{"$f":"IF($C19=\"\",\"\",VLOOKUP($C19,INSCRITS!$D$4:$W$501,9,0))","v":""},null,null,null,null,null,null,null,null,{"$f":"IF($N19=\"\",\"\",VLOOKUP($N19,INSCRITS!$D$4:$W$501,6,0))","v":""},{"$f":"IF($N19=\"\",\"\",VLOOKUP($N19,INSCRITS!$D$4:$W$501,7,0))","v":""},{"$f":"IF($N19=\"\",\"\",VLOOKUP($N19,INSCRITS!$D$4:$W$501,9,0))","v":""},null,null,null,null,null,{"$f":"IF($V19=\"\",\"\",VLOOKUP($V19,INSCRITS!$D$4:$W$501,6,0))","v":""},{"$f":"IF($V19=\"\",\"\",VLOOKUP($V19,INSCRITS!$D$4:$W$501,7,0))","v":""},{"$f":"IF($V19=\"\",\"\",VLOOKUP($V19,INSCRITS!$D$4:$W$501,9,0))","v":""},null,null,null,151,{"$f":"IF($AC19=\"\",\"\",VLOOKUP($AC19,INSCRITS!$D$4:$W$501,6,0))","v":"AMAUGER"},{"$f":"IF($AC19=\"\",\"\",VLOOKUP($AC19,INSCRITS!$D$4:$W$501,7,0))","v":"Valentin"},{"$f":"IF($AC19=\"\",\"\",VLOOKUP($AC19,INSCRITS!$D$4:$W$501,9,0))","v":"HSC"},null,13,4]
[null,null,null,{"$f":"IF($C20=\"\",\"\",VLOOKUP($C20,INSCRITS!$D$4:$W$501,6,0))","v":""},{"$f":"IF($C20=\"\",\"\",VLOOKUP($C20,INSCRITS!$D$4:$W$501,7,0))","v":""},{"$f":"IF($C20=\"\",\"\",VLOOKUP($C20,INSCRITS!$D$4:$W$501,9,0))","v":""},null,null,null,null,null,null,null,null,{"$f":"IF($N20=\"\",\"\",VLOOKUP($N20,INSCRITS!$D$4:$W$501,6,0))","v":""},{"$f":"IF($N20=\"\",\"\",VLOOKUP($N20,INSCRITS!$D$4:$W$501,7,0))","v":""},{"$f":"IF($N20=\"\",\"\",VLOOKUP($N20,INSCRITS!$D$4:$W$501,9,0))","v":""},null,null,null,null,null,{"$f":"IF($V20=\"\",\"\",VLOOKUP($V20,INSCRITS!$D$4:$W$501,6,0))","v":""},{"$f":"IF($V20=\"\",\"\",VLOOKUP($V20,INSCRITS!$D$4:$W$501,7,0))","v":""},{"$f":"IF($V20=\"\",\"\",VLOOKUP($V20,INSCRITS!$D$4:$W$501,9,0))","v":""},null,null,null,158,{"$f":"IF($AC20=\"\",\"\",VLOOKUP($AC20,INSCRITS!$D$4:$W$501,6,0))","v":"PINTORI"},{"$f":"IF($AC20=\"\",\"\",VLOOKUP($AC20,INSCRITS!$D$4:$W$501,7,0))","v":"Luc"},{"$f":"IF($AC20=\"\",\"\",VLOOKUP($AC20,INSCRITS!$D$4:$W$501,9,0))","v":"MNSL"},null,14,3]
[null,null,null,{"$f":"IF($C21=\"\",\"\",VLOOKUP($C21,INSCRITS!$D$4:$W$501,6,0))","v":""},{"$f":"IF($C21=\"\",\"\",VLOOKUP($C21,INSCRITS!$D$4:$W$501,7,0))","v":""},{"$f":"IF($C21=\"\",\"\",VLOOKUP($C21,INSCRITS!$D$4:$W$501,9,0))","v":""},null,null,null,null,null,null,null,null,{"$f":"IF($N21=\"\",\"\",VLOOKUP($N21,INSCRITS!$D$4:$W$501,6,0))","v":""},{"$f":"IF($N21=\"\",\"\",VLOOKUP($N21,INSCRITS!$D$4:$W$501,7,0))","v":""},{"$f":"IF($N21=\"\",\"\",VLOOKUP($N21,INSCRITS!$D$4:$W$501,9,0))","v":""},null,null,null,null,null,{"$f":"IF($V21=\"\",\"\",VLOOKUP($V21,INSCRITS!$D$4:$W$501,6,0))","v":""},{"$f":"IF($V21=\"\",\"\",VLOOKUP($V21,INSCRITS!$D$4:$W$501,7,0))","v":""},{"$f":"IF($V21=\"\",\"\",VLOOKUP($V21,INSCRITS!$D$4:$W$501,9,0))","v":""},null,null,null,143,{"$f":"IF($AC21=\"\",\"\",VLOOKUP($AC21,INSCRITS!$D$4:$W$501,6,0))","v":"LICARI"},{"$f":"IF($AC21=\"\",\"\",VLOOKUP($AC21,INSCRITS!$D$4:$W$501,7,0))","v":"Antoine"},{"$f":"IF($AC21=\"\",\"\",VLOOKUP($AC21,INSCRITS!$D$4:$W$501,9,0))","v":"Cannes Sauvetage Côtier"},null,15,2]
[null,null,null,{"$f":"IF($C22=\"\",\"\",VLOOKUP($C22,INSCRITS!$D$4:$W$501,6,0))","v":""},{"$f":"IF($C22=\"\",\"\",VLOOKUP($C22,INSCRITS!$D$4:$W$501,7,0))","v":""},{"$f":"IF($C22=\"\",\"\",VLOOKUP($C22,INSCRITS!$D$4:$W$501,9,0))","v":""},null,null,null,null,null,null,null,null,{"$f":"IF($N22=\"\",\"\",VLOOKUP($N22,INSCRITS!$D$4:$W$501,6,0))","v":""},{"$f":"IF($N22=\"\",\"\",VLOOKUP($N22,INSCRITS!$D$4:$W$501,7,0))","v":""},{"$f":"IF($N22=\"\",\"\",VLOOKUP($N22,INSCRITS!$D$4:$W$501,9,0))","v":""},null,null,null,null,null,{"$f":"IF($V22=\"\",\"\",VLOOKUP($V22,INSCRITS!$D$4:$W$501,6,0))","v":""},{"$f":"IF($V22=\"\",\"\",VLOOKUP($V22,INSCRITS!$D$4:$W$501,7,0))","v":""},{"$f":"IF($V22=\"\",\"\",VLOOKUP($V22,INSCRITS!$D$4:$W$501,9,0))","v":""},null,null,null,141,{"$f":"IF($AC22=\"\",\"\",VLOOKUP($AC22,INSCRITS!$D$4:$W$501,6,0))","v":"LAUBUGE"},{"$f":"IF($AC22=\"\",\"\",VLOOKUP($AC22,INSCRITS!$D$4:$W$501,7,0))","v":"Nathanael"},{"$f":"IF($AC22=\"\",\"\",VLOOKUP($AC22,INSCRITS!$D$4:$W$501,9,0))","v":"BOSS"},null,16,1]
[null,"SERIE 2",null,{"$f":"IF($C23=\"\",\"\",VLOOKUP($C23,INSCRITS!$D$4:$W$501,6,0))","v":""},{"$f":"IF($C23=\"\",\"\",VLOOKUP($C23,INSCRITS!$D$4:$W$501,7,0))","v":""},{"$f":"IF($C23=\"\",\"\",VLOOKUP($C23,INSCRITS!$D$4:$W$501,9,0))","v":""},null,null,null,null,null,null,"SERIE 2",null,{"$f":"IF($N23=\"\",\"\",VLOOKUP($N23,INSCRITS!$D$4:$W$501,6,0))","v":""},{"$f":"IF($N23=\"\",\"\",VLOOKUP($N23,INSCRITS!$D$4:$W$501,7,0))","v":""},{"$f":"IF($N23=\"\",\"\",VLOOKUP($N23,INSCRITS!$D$4:$W$501,9,0))","v":""},null,null,null,"SERIE 2",null,{"$f":"IF($V23=\"\",\"\",VLOOKUP($V23,INSCRITS!$D$4:$W$501,6,0))","v":""},{"$f":"IF($V23=\"\",\"\",VLOOKUP($V23,INSCRITS!$D$4:$W$501,7,0))","v":""},{"$f":"IF($V23=\"\",\"\",VLOOKUP($V23,INSCRITS!$D$4:$W$501,9,0))","v":""},null,null,null,130,{"$f":"IF($AC23=\"\",\"\",VLOOKUP($AC23,INSCRITS!$D$4:$W$501,6,0))","v":"DUFFAUD"},{"$f":"IF($AC23=\"\",\"\",VLOOKUP($AC23,INSCRITS!$D$4:$W$501,7,0))","v":"Simon"},{"$f":"IF($AC23=\"\",\"\",VLOOKUP($AC23,INSCRITS!$D$4:$W$501,9,0))","v":"BEGLES"},null,17,{"$f":"IF(AH23=\"\",\"\",VLOOKUP(AH23,points,2))","v":0}]
[null,null,null,{"$f":"IF($C24=\"\",\"\",VLOOKUP($C24,INSCRITS!$D$4:$W$501,6,0))","v":""},{"$f":"IF($C24=\"\",\"\",VLOOKUP($C24,INSCRITS!$D$4:$W$501,7,0))","v":""},{"$f":"IF($C24=\"\",\"\",VLOOKUP($C24,INSCRITS!$D$4:$W$501,9,0))","v":""},null,null,null,null,null,null,null,null,{"$f":"IF($N24=\"\",\"\",VLOOKUP($N24,INSCRITS!$D$4:$W$501,6,0))","v":""},{"$f":"IF($N24=\"\",\"\",VLOOKUP($N24,INSCRITS!$D$4:$W$501,7,0))","v":""},{"$f":"IF($N24=\"\",\"\",VLOOKUP($N24,INSCRITS!$D$4:$W$501,9,0))","v":""},null,null,null,null,null,{"$f":"IF($V24=\"\",\"\",VLOOKUP($V24,INSCRITS!$D$4:$W$501,6,0))","v":""},{"$f":"IF($V24=\"\",\"\",VLOOKUP($V24,INSCRITS!$D$4:$W$501,7,0))","v":""},{"$f":"IF($V24=\"\",\"\",VLOOKUP($V24,INSCRITS!$D$4:$W$501,9,0))","v":""},null,null,null,133,{"$f":"IF($AC24=\"\",\"\",VLOOKUP($AC24,INSCRITS!$D$4:$W$501,6,0))","v":"SOLABERRIETA"},{"$f":"IF($AC24=\"\",\"\",VLOOKUP($AC24,INSCRITS!$D$4:$W$501,7,0))","v":"Jean"},{"$f":"IF($AC24=\"\",\"\",VLOOKUP($AC24,INSCRITS!$D$4:$W$501,9,0))","v":"BELHARRA WC"},null,"Abs",0]
[null,null,null,{"$f":"IF($C25=\"\",\"\",VLOOKUP($C25,INSCRITS!$D$4:$W$501,6,0))","v":""},{"$f":"IF($C25=\"\",\"\",VLOOKUP($C25,INSCRITS!$D$4:$W$501,7,0))","v":""},{"$f":"IF($C25=\"\",\"\",VLOOKUP($C25,INSCRITS!$D$4:$W$501,9,0))","v":""},null,null,null,null,null,null,null,null,{"$f":"IF($N25=\"\",\"\",VLOOKUP($N25,INSCRITS!$D$4:$W$501,6,0))","v":""},{"$f":"IF($N25=\"\",\"\",VLOOKUP($N25,INSCRITS!$D$4:$W$501,7,0))","v":""},{"$f":"IF($N25=\"\",\"\",VLOOKUP($N25,INSCRITS!$D$4:$W$501,9,0))","v":""},null,null,null,null,null,{"$f":"IF($V25=\"\",\"\",VLOOKUP($V25,INSCRITS!$D$4:$W$501,6,0))","v":""},{"$f":"IF($V25=\"\",\"\",VLOOKUP($V25,INSCRITS!$D$4:$W$501,7,0))","v":""},{"$f":"IF($V25=\"\",\"\",VLOOKUP($V25,INSCRITS!$D$4:$W$501,9,0))","v":""},null,null,null,140,{"$f":"IF($AC25=\"\",\"\",VLOOKUP($AC25,INSCRITS!$D$4:$W$501,6,0))","v":"YOH"},{"$f":"IF($AC25=\"\",\"\",VLOOKUP($AC25,INSCRITS!$D$4:$W$501,7,0))","v":"Titouan"},{"$f":"IF($AC25=\"\",\"\",VLOOKUP($AC25,INSCRITS!$D$4:$W$501,9,0))","v":"Biarritz SC"},null,"Abs",0]
[null,null,null,{"$f":"IF($C26=\"\",\"\",VLOOKUP($C26,INSCRITS!$D$4:$W$501,6,0))","v":""},{"$f":"IF($C26=\"\",\"\",VLOOKUP($C26,INSCRITS!$D$4:$W$501,7,0))","v":""},{"$f":"IF($C26=\"\",\"\",VLOOKUP($C26,INSCRITS!$D$4:$W$501,9,0))","v":""},null,null,null,null,null,null,null,null,{"$f":"IF($N26=\"\",\"\",VLOOKUP($N26,INSCRITS!$D$4:$W$501,6,0))","v":""},{"$f":"IF($N26=\"\",\"\",VLOOKUP($N26,INSCRITS!$D$4:$W$501,7,0))","v":""},{"$f":"IF($N26=\"\",\"\",VLOOKUP($N26,INSCRITS!$D$4:$W$501,9,0))","v":""},null,null,null,null,null,{"$f":"IF($V26=\"\",\"\",VLOOKUP($V26,INSCRITS!$D$4:$W$501,6,0))","v":""},{"$f":"IF($V26=\"\",\"\",VLOOKUP($V26,INSCRITS!$D$4:$W$501,7,0))","v":""},{"$f":"IF($V26=\"\",\"\",VLOOKUP($V26,INSCRITS!$D$4:$W$501,9,0))","v":""},null,null,null,142,{"$f":"IF($AC26=\"\",\"\",VLOOKUP($AC26,INSCRITS!$D$4:$W$501,6,0))","v":"PERRIN"},{"$f":"IF($AC26=\"\",\"\",VLOOKUP($AC26,INSCRITS!$D$4:$W$501,7,0))","v":"Hugo"},{"$f":"IF($AC26=\"\",\"\",VLOOKUP($AC26,INSCRITS!$D$4:$W$501,9,0))","v":"BOSS"},null,"Abs",0]
[null,null,null,{"$f":"IF($C27=\"\",\"\",VLOOKUP($C27,INSCRITS!$D$4:$W$501,6,0))","v":""},{"$f":"IF($C27=\"\",\"\",VLOOKUP($C27,INSCRITS!$D$4:$W$501,7,0))","v":""},{"$f":"IF($C27=\"\",\"\",VLOOKUP($C27,INSCRITS!$D$4:$W$501,9,0))","v":""},null,null,null,null,null,null,null,null,{"$f":"IF($N27=\"\",\"\",VLOOKUP($N27,INSCRITS!$D$4:$W$501,6,0))","v":""},{"$f":"IF($N27=\"\",\"\",VLOOKUP($N27,INSCRITS!$D$4:$W$501,7,0))","v":""},{"$f":"IF($N27=\"\",\"\",VLOOKUP($N27,INSCRITS!$D$4:$W$501,9,0))","v":""},null,null,null,null,null,{"$f":"IF($V27=\"\",\"\",VLOOKUP($V27,INSCRITS!$D$4:$W$501,6,0))","v":""},{"$f":"IF($V27=\"\",\"\",VLOOKUP($V27,INSCRITS!$D$4:$W$501,7,0))","v":""},{"$f":"IF($V27=\"\",\"\",VLOOKUP($V27,INSCRITS!$D$4:$W$501,9,0))","v":""},null,null,null,null,{"$f":"IF($AC27=\"\",\"\",VLOOKUP($AC27,INSCRITS!$D$4:$W$501,6,0))","v":""},{"$f":"IF($AC27=\"\",\"\",VLOOKUP($AC27,INSCRITS!$D$4:$W$501,7,0))","v":""},{"$f":"IF($AC27=\"\",\"\",VLOOKUP($AC27,INSCRITS!$D$4:$W$501,9,0))","v":""}]
[null,null,null,{"$f":"IF($C28=\"\",\"\",VLOOKUP($C28,INSCRITS!$D$4:$W$501,6,0))","v":""},{"$f":"IF($C28=\"\",\"\",VLOOKUP($C28,INSCRITS!$D$4:$W$501,7,0))","v":""},{"$f":"IF($C28=\"\",\"\",VLOOKUP($C28,INSCRITS!$D$4:$W$501,9,0))","v":""},null,null,null,null,null,null,null,null,{"$f":"IF($N28=\"\",\"\",VLOOKUP($N28,INSCRITS!$D$4:$W$501,6,0))","v":""},{"$f":"IF($N28=\"\",\"\",VLOOKUP($N28,INSCRITS!$D$4:$W$501,7,0))","v":""},{"$f":"IF($N28=\"\",\"\",VLOOKUP($N28,INSCRITS!$D$4:$W$501,9,0))","v":""},null,null,null,null,null,{"$f":"IF($V28=\"\",\"\",VLOOKUP($V28,INSCRITS!$D$4:$W$501,6,0))","v":""},{"$f":"IF($V28=\"\",\"\",VLOOKUP($V28,INSCRITS!$D$4:$W$501,7,0))","v":""},{"$f":"IF($V28=\"\",\"\",VLOOKUP($V28,INSCRITS!$D$4:$W$501,9,0))","v":""},null,null,null,null,{"$f":"IF($AC28=\"\",\"\",VLOOKUP($AC28,INSCRITS!$D$4:$W$501,6,0))","v":""},{"$f":"IF($AC28=\"\",\"\",VLOOKUP($AC28,INSCRITS!$D$4:$W$501,7,0))","v":""},{"$f":"IF($AC28=\"\",\"\",VLOOKUP($AC28,INSCRITS!$D$4:$W$501,9,0))","v":""}]
[null,null,null,{"$f":"IF($C29=\"\",\"\",VLOOKUP($C29,INSCRITS!$D$4:$W$501,6,0))","v":""},{"$f":"IF($C29=\"\",\"\",VLOOKUP($C29,INSCRITS!$D$4:$W$501,7,0))","v":""},{"$f":"IF($C29=\"\",\"\",VLOOKUP($C29,INSCRITS!$D$4:$W$501,9,0))","v":""},null,null,null,null,null,null,null,null,{"$f":"IF($N29=\"\",\"\",VLOOKUP($N29,INSCRITS!$D$4:$W$501,6,0))","v":""},{"$f":"IF($N29=\"\",\"\",VLOOKUP($N29,INSCRITS!$D$4:$W$501,7,0))","v":""},{"$f":"IF($N29=\"\",\"\",VLOOKUP($N29,INSCRITS!$D$4:$W$501,9,0))","v":""},null,null,null,null,null,{"$f":"IF($V29=\"\",\"\",VLOOKUP($V29,INSCRITS!$D$4:$W$501,6,0))","v":""},{"$f":"IF($V29=\"\",\"\",VLOOKUP($V29,INSCRITS!$D$4:$W$501,7,0))","v":""},{"$f":"IF($V29=\"\",\"\",VLOOKUP($V29,INSCRITS!$D$4:$W$501,9,0))","v":""},null,null,null,null,{"$f":"IF($AC29=\"\",\"\",VLOOKUP($AC29,INSCRITS!$D$4:$W$501,6,0))","v":""},{"$f":"IF($AC29=\"\",\"\",VLOOKUP($AC29,INSCRITS!$D$4:$W$501,7,0))","v":""},{"$f":"IF($AC29=\"\",\"\",VLOOKUP($AC29,INSCRITS!$D$4:$W$501,9,0))","v":""}]
[null,null,null,{"$f":"IF($C30=\"\",\"\",VLOOKUP($C30,INSCRITS!$D$4:$W$501,6,0))","v":""},{"$f":"IF($C30=\"\",\"\",VLOOKUP($C30,INSCRITS!$D$4:$W$501,7,0))","v":""},{"$f":"IF($C30=\"\",\"\",VLOOKUP($C30,INSCRITS!$D$4:$W$501,9,0))","v":""},null,null,null,null,null,null,null,null,{"$f":"IF($N30=\"\",\"\",VLOOKUP($N30,INSCRITS!$D$4:$W$501,6,0))","v":""},{"$f":"IF($N30=\"\",\"\",VLOOKUP($N30,INSCRITS!$D$4:$W$501,7,0))","v":""},{"$f":"IF($N30=\"\",\"\",VLOOKUP($N30,INSCRITS!$D$4:$W$501,9,0))","v":""},null,null,null,null,null,{"$f":"IF($V30=\"\",\"\",VLOOKUP($V30,INSCRITS!$D$4:$W$501,6,0))","v":""},{"$f":"IF($V30=\"\",\"\",VLOOKUP($V30,INSCRITS!$D$4:$W$501,7,0))","v":""},{"$f":"IF($V30=\"\",\"\",VLOOKUP($V30,INSCRITS!$D$4:$W$501,9,0))","v":""},null,null,null,null,{"$f":"IF($AC30=\"\",\"\",VLOOKUP($AC30,INSCRITS!$D$4:$W$501,6,0))","v":""},{"$f":"IF($AC30=\"\",\"\",VLOOKUP($AC30,INSCRITS!$D$4:$W$501,7,0))","v":""},{"$f":"IF($AC30=\"\",\"\",VLOOKUP($AC30,INSCRITS!$D$4:$W$501,9,0))","v":""}]
[null,null,null,{"$f":"IF($C31=\"\",\"\",VLOOKUP($C31,INSCRITS!$D$4:$W$501,6,0))","v":""},{"$f":"IF($C31=\"\",\"\",VLOOKUP($C31,INSCRITS!$D$4:$W$501,7,0))","v":""},{"$f":"IF($C31=\"\",\"\",VLOOKUP($C31,INSCRITS!$D$4:$W$501,9,0))","v":""},null,null,null,null,null,null,null,null,{"$f":"IF($N31=\"\",\"\",VLOOKUP($N31,INSCRITS!$D$4:$W$501,6,0))","v":""},{"$f":"IF($N31=\"\",\"\",VLOOKUP($N31,INSCRITS!$D$4:$W$501,7,0))","v":""},{"$f":"IF($N31=\"\",\"\",VLOOKUP($N31,INSCRITS!$D$4:$W$501,9,0))","v":""},null,null,null,null,null,{"$f":"IF($V31=\"\",\"\",VLOOKUP($V31,INSCRITS!$D$4:$W$501,6,0))","v":""},{"$f":"IF($V31=\"\",\"\",VLOOKUP($V31,INSCRITS!$D$4:$W$501,7,0))","v":""},{"$f":"IF($V31=\"\",\"\",VLOOKUP($V31,INSCRITS!$D$4:$W$501,9,0))","v":""},null,null,null,null,{"$f":"IF($AC31=\"\",\"\",VLOOKUP($AC31,INSCRITS!$D$4:$W$501,6,0))","v":""},{"$f":"IF($AC31=\"\",\"\",VLOOKUP($AC31,INSCRITS!$D$4:$W$501,7,0))","v":""},{"$f":"IF($AC31=\"\",\"\",VLOOKUP($AC31,INSCRITS!$D$4:$W$501,9,0))","v":""}]
[null,null,null,{"$f":"IF($C32=\"\",\"\",VLOOKUP($C32,INSCRITS!$D$4:$W$501,6,0))","v":""},{"$f":"IF($C32=\"\",\"\",VLOOKUP($C32,INSCRITS!$D$4:$W$501,7,0))","v":""},{"$f":"IF($C32=\"\",\"\",VLOOKUP($C32,INSCRITS!$D$4:$W$501,9,0))","v":""},null,null,null,null,null,null,null,null,{"$f":"IF($N32=\"\",\"\",VLOOKUP($N32,INSCRITS!$D$4:$W$501,6,0))","v":""},{"$f":"IF($N32=\"\",\"\",VLOOKUP($N32,INSCRITS!$D$4:$W$501,7,0))","v":""},{"$f":"IF($N32=\"\",\"\",VLOOKUP($N32,INSCRITS!$D$4:$W$501,9,0))","v":""},null,null,null,null,null,{"$f":"IF($V32=\"\",\"\",VLOOKUP($V32,INSCRITS!$D$4:$W$501,6,0))","v":""},{"$f":"IF($V32=\"\",\"\",VLOOKUP($V32,INSCRITS!$D$4:$W$501,7,0))","v":""},{"$f":"IF($V32=\"\",\"\",VLOOKUP($V32,INSCRITS!$D$4:$W$501,9,0))","v":""},null,null,null,null,{"$f":"IF($AC32=\"\",\"\",VLOOKUP($AC32,INSCRITS!$D$4:$W$501,6,0))","v":""},{"$f":"IF($AC32=\"\",\"\",VLOOKUP($AC32,INSCRITS!$D$4:$W$501,7,0))","v":""},{"$f":"IF($AC32=\"\",\"\",VLOOKUP($AC32,INSCRITS!$D$4:$W$501,9,0))","v":""}]
[null,null,null,{"$f":"IF($C33=\"\",\"\",VLOOKUP($C33,INSCRITS!$D$4:$W$501,6,0))","v":""},{"$f":"IF($C33=\"\",\"\",VLOOKUP($C33,INSCRITS!$D$4:$W$501,7,0))","v":""},{"$f":"IF($C33=\"\",\"\",VLOOKUP($C33,INSCRITS!$D$4:$W$501,9,0))","v":""},null,null,null,null,null,null,null,null,{"$f":"IF($N33=\"\",\"\",VLOOKUP($N33,INSCRITS!$D$4:$W$501,6,0))","v":""},{"$f":"IF($N33=\"\",\"\",VLOOKUP($N33,INSCRITS!$D$4:$W$501,7,0))","v":""},{"$f":"IF($N33=\"\",\"\",VLOOKUP($N33,INSCRITS!$D$4:$W$501,9,0))","v":""},null,null,null,null,null,{"$f":"IF($V33=\"\",\"\",VLOOKUP($V33,INSCRITS!$D$4:$W$501,6,0))","v":""},{"$f":"IF($V33=\"\",\"\",VLOOKUP($V33,INSCRITS!$D$4:$W$501,7,0))","v":""},{"$f":"IF($V33=\"\",\"\",VLOOKUP($V33,INSCRITS!$D$4:$W$501,9,0))","v":""},null,null,null,null,{"$f":"IF($AC33=\"\",\"\",VLOOKUP($AC33,INSCRITS!$D$4:$W$501,6,0))","v":""},{"$f":"IF($AC33=\"\",\"\",VLOOKUP($AC33,INSCRITS!$D$4:$W$501,7,0))","v":""},{"$f":"IF($AC33=\"\",\"\",VLOOKUP($AC33,INSCRITS!$D$4:$W$501,9,0))","v":""}]
[null,null,null,{"$f":"IF($C34=\"\",\"\",VLOOKUP($C34,INSCRITS!$D$4:$W$501,6,0))","v":""},{"$f":"IF($C34=\"\",\"\",VLOOKUP($C34,INSCRITS!$D$4:$W$501,7,0))","v":""},{"$f":"IF($C34=\"\",\"\",VLOOKUP($C34,INSCRITS!$D$4:$W$501,9,0))","v":""},null,null,null,null,null,null,null,null,{"$f":"IF($N34=\"\",\"\",VLOOKUP($N34,INSCRITS!$D$4:$W$501,6,0))","v":""},{"$f":"IF($N34=\"\",\"\",VLOOKUP($N34,INSCRITS!$D$4:$W$501,7,0))","v":""},{"$f":"IF($N34=\"\",\"\",VLOOKUP($N34,INSCRITS!$D$4:$W$501,9,0))","v":""},null,null,null,null,null,{"$f":"IF($V34=\"\",\"\",VLOOKUP($V34,INSCRITS!$D$4:$W$501,6,0))","v":""},{"$f":"IF($V34=\"\",\"\",VLOOKUP($V34,INSCRITS!$D$4:$W$501,7,0))","v":""},{"$f":"IF($V34=\"\",\"\",VLOOKUP($V34,INSCRITS!$D$4:$W$501,9,0))","v":""},null,null,null,null,{"$f":"IF($AC34=\"\",\"\",VLOOKUP($AC34,INSCRITS!$D$4:$W$501,6,0))","v":""},{"$f":"IF($AC34=\"\",\"\",VLOOKUP($AC34,INSCRITS!$D$4:$W$501,7,0))","v":""},{"$f":"IF($AC34=\"\",\"\",VLOOKUP($AC34,INSCRITS!$D$4:$W$501,9,0))","v":""}]
[null,null,null,{"$f":"IF($C35=\"\",\"\",VLOOKUP($C35,INSCRITS!$D$4:$W$501,6,0))","v":""},{"$f":"IF($C35=\"\",\"\",VLOOKUP($C35,INSCRITS!$D$4:$W$501,7,0))","v":""},{"$f":"IF($C35=\"\",\"\",VLOOKUP($C35,INSCRITS!$D$4:$W$501,9,0))","v":""},null,null,null,null,null,null,null,null,{"$f":"IF($N35=\"\",\"\",VLOOKUP($N35,INSCRITS!$D$4:$W$501,6,0))","v":""},{"$f":"IF($N35=\"\",\"\",VLOOKUP($N35,INSCRITS!$D$4:$W$501,7,0))","v":""},{"$f":"IF($N35=\"\",\"\",VLOOKUP($N35,INSCRITS!$D$4:$W$501,9,0))","v":""},null,null,null,null,null,{"$f":"IF($V35=\"\",\"\",VLOOKUP($V35,INSCRITS!$D$4:$W$501,6,0))","v":""},{"$f":"IF($V35=\"\",\"\",VLOOKUP($V35,INSCRITS!$D$4:$W$501,7,0))","v":""},{"$f":"IF($V35=\"\",\"\",VLOOKUP($V35,INSCRITS!$D$4:$W$501,9,0))","v":""},null,null,null,null,{"$f":"IF($AC35=\"\",\"\",VLOOKUP($AC35,INSCRITS!$D$4:$W$501,6,0))","v":""},{"$f":"IF($AC35=\"\",\"\",VLOOKUP($AC35,INSCRITS!$D$4:$W$501,7,0))","v":""},{"$f":"IF($AC35=\"\",\"\",VLOOKUP($AC35,INSCRITS!$D$4:$W$501,9,0))","v":""}]
[null,null,null,{"$f":"IF($C36=\"\",\"\",VLOOKUP($C36,INSCRITS!$D$4:$W$501,6,0))","v":""},{"$f":"IF($C36=\"\",\"\",VLOOKUP($C36,INSCRITS!$D$4:$W$501,7,0))","v":""},{"$f":"IF($C36=\"\",\"\",VLOOKUP($C36,INSCRITS!$D$4:$W$501,9,0))","v":""},null,null,null,null,null,null,null,null,{"$f":"IF($N36=\"\",\"\",VLOOKUP($N36,INSCRITS!$D$4:$W$501,6,0))","v":""},{"$f":"IF($N36=\"\",\"\",VLOOKUP($N36,INSCRITS!$D$4:$W$501,7,0))","v":""},{"$f":"IF($N36=\"\",\"\",VLOOKUP($N36,INSCRITS!$D$4:$W$501,9,0))","v":""},null,null,null,null,null,{"$f":"IF($V36=\"\",\"\",VLOOKUP($V36,INSCRITS!$D$4:$W$501,6,0))","v":""},{"$f":"IF($V36=\"\",\"\",VLOOKUP($V36,INSCRITS!$D$4:$W$501,7,0))","v":""},{"$f":"IF($V36=\"\",\"\",VLOOKUP($V36,INSCRITS!$D$4:$W$501,9,0))","v":""},null,null,null,null,{"$f":"IF($AC36=\"\",\"\",VLOOKUP($AC36,INSCRITS!$D$4:$W$501,6,0))","v":""},{"$f":"IF($AC36=\"\",\"\",VLOOKUP($AC36,INSCRITS!$D$4:$W$501,7,0))","v":""},{"$f":"IF($AC36=\"\",\"\",VLOOKUP($AC36,INSCRITS!$D$4:$W$501,9,0))","v":""}]
[null,null,null,{"$f":"IF($C37=\"\",\"\",VLOOKUP($C37,INSCRITS!$D$4:$W$501,6,0))","v":""},{"$f":"IF($C37=\"\",\"\",VLOOKUP($C37,INSCRITS!$D$4:$W$501,7,0))","v":""},{"$f":"IF($C37=\"\",\"\",VLOOKUP($C37,INSCRITS!$D$4:$W$501,9,0))","v":""},null,null,null,null,null,null,null,null,{"$f":"IF($N37=\"\",\"\",VLOOKUP($N37,INSCRITS!$D$4:$W$501,6,0))","v":""},{"$f":"IF($N37=\"\",\"\",VLOOKUP($N37,INSCRITS!$D$4:$W$501,7,0))","v":""},{"$f":"IF($N37=\"\",\"\",VLOOKUP($N37,INSCRITS!$D$4:$W$501,9,0))","v":""},null,null,null,null,null,{"$f":"IF($V37=\"\",\"\",VLOOKUP($V37,INSCRITS!$D$4:$W$501,6,0))","v":""},{"$f":"IF($V37=\"\",\"\",VLOOKUP($V37,INSCRITS!$D$4:$W$501,7,0))","v":""},{"$f":"IF($V37=\"\",\"\",VLOOKUP($V37,INSCRITS!$D$4:$W$501,9,0))","v":""},null,null,null,null,{"$f":"IF($AC37=\"\",\"\",VLOOKUP($AC37,INSCRITS!$D$4:$W$501,6,0))","v":""},{"$f":"IF($AC37=\"\",\"\",VLOOKUP($AC37,INSCRITS!$D$4:$W$501,7,0))","v":""},{"$f":"IF($AC37=\"\",\"\",VLOOKUP($AC37,INSCRITS!$D$4:$W$501,9,0))","v":""}]
[null,null,null,{"$f":"IF($C38=\"\",\"\",VLOOKUP($C38,INSCRITS!$D$4:$W$501,6,0))","v":""},{"$f":"IF($C38=\"\",\"\",VLOOKUP($C38,INSCRITS!$D$4:$W$501,7,0))","v":""},{"$f":"IF($C38=\"\",\"\",VLOOKUP($C38,INSCRITS!$D$4:$W$501,9,0))","v":""},null,null,null,null,null,null,null,null,{"$f":"IF($N38=\"\",\"\",VLOOKUP($N38,INSCRITS!$D$4:$W$501,6,0))","v":""},{"$f":"IF($N38=\"\",\"\",VLOOKUP($N38,INSCRITS!$D$4:$W$501,7,0))","v":""},{"$f":"IF($N38=\"\",\"\",VLOOKUP($N38,INSCRITS!$D$4:$W$501,9,0))","v":""},null,null,null,null,null,{"$f":"IF($V38=\"\",\"\",VLOOKUP($V38,INSCRITS!$D$4:$W$501,6,0))","v":""},{"$f":"IF($V38=\"\",\"\",VLOOKUP($V38,INSCRITS!$D$4:$W$501,7,0))","v":""},{"$f":"IF($V38=\"\",\"\",VLOOKUP($V38,INSCRITS!$D$4:$W$501,9,0))","v":""},null,null,null,null,{"$f":"IF($AC38=\"\",\"\",VLOOKUP($AC38,INSCRITS!$D$4:$W$501,6,0))","v":""},{"$f":"IF($AC38=\"\",\"\",VLOOKUP($AC38,INSCRITS!$D$4:$W$501,7,0))","v":""},{"$f":"IF($AC38=\"\",\"\",VLOOKUP($AC38,INSCRITS!$D$4:$W$501,9,0))","v":""}]
[null,"SERIE 3",null,{"$f":"IF($C39=\"\",\"\",VLOOKUP($C39,INSCRITS!$D$4:$W$501,6,0))","v":""},{"$f":"IF($C39=\"\",\"\",VLOOKUP($C39,INSCRITS!$D$4:$W$501,7,0))","v":""},{"$f":"IF($C39=\"\",\"\",VLOOKUP($C39,INSCRITS!$D$4:$W$501,9,0))","v":""},null,null,null,null,null,null,"SERIE 3",null,{"$f":"IF($N39=\"\",\"\",VLOOKUP($N39,INSCRITS!$D$4:$W$501,6,0))","v":""},{"$f":"IF($N39=\"\",\"\",VLOOKUP($N39,INSCRITS!$D$4:$W$501,7,0))","v":""},{"$f":"IF($N39=\"\",\"\",VLOOKUP($N39,INSCRITS!$D$4:$W$501,9,0))","v":""},null,null,null,null,null,null,null,null,null,null,null,null,{"$f":"IF($AC39=\"\",\"\",VLOOKUP($AC39,INSCRITS!$D$4:$W$501,6,0))","v":""},{"$f":"IF($AC39=\"\",\"\",VLOOKUP($AC39,INSCRITS!$D$4:$W$501,7,0))","v":""},{"$f":"IF($AC39=\"\",\"\",VLOOKUP($AC39,INSCRITS!$D$4:$W$501,9,0))","v":""}]
[null,null,null,{"$f":"IF($C40=\"\",\"\",VLOOKUP($C40,INSCRITS!$D$4:$W$501,6,0))","v":""},{"$f":"IF($C40=\"\",\"\",VLOOKUP($C40,INSCRITS!$D$4:$W$501,7,0))","v":""},{"$f":"IF($C40=\"\",\"\",VLOOKUP($C40,INSCRITS!$D$4:$W$501,9,0))","v":""},null,null,null,null,null,null,null,null,{"$f":"IF($N40=\"\",\"\",VLOOKUP($N40,INSCRITS!$D$4:$W$501,6,0))","v":""},{"$f":"IF($N40=\"\",\"\",VLOOKUP($N40,INSCRITS!$D$4:$W$501,7,0))","v":""},{"$f":"IF($N40=\"\",\"\",VLOOKUP($N40,INSCRITS!$D$4:$W$501,9,0))","v":""}]
[null,null,null,{"$f":"IF($C41=\"\",\"\",VLOOKUP($C41,INSCRITS!$D$4:$W$501,6,0))","v":""},{"$f":"IF($C41=\"\",\"\",VLOOKUP($C41,INSCRITS!$D$4:$W$501,7,0))","v":""},{"$f":"IF($C41=\"\",\"\",VLOOKUP($C41,INSCRITS!$D$4:$W$501,9,0))","v":""},null,null,null,null,null,null,null,null,{"$f":"IF($N41=\"\",\"\",VLOOKUP($N41,INSCRITS!$D$4:$W$501,6,0))","v":""},{"$f":"IF($N41=\"\",\"\",VLOOKUP($N41,INSCRITS!$D$4:$W$501,7,0))","v":""},{"$f":"IF($N41=\"\",\"\",VLOOKUP($N41,INSCRITS!$D$4:$W$501,9,0))","v":""}]
[null,null,null,{"$f":"IF($C42=\"\",\"\",VLOOKUP($C42,INSCRITS!$D$4:$W$501,6,0))","v":""},{"$f":"IF($C42=\"\",\"\",VLOOKUP($C42,INSCRITS!$D$4:$W$501,7,0))","v":""},{"$f":"IF($C42=\"\",\"\",VLOOKUP($C42,INSCRITS!$D$4:$W$501,9,0))","v":""},null,null,null,null,null,null,null,null,{"$f":"IF($N42=\"\",\"\",VLOOKUP($N42,INSCRITS!$D$4:$W$501,6,0))","v":""},{"$f":"IF($N42=\"\",\"\",VLOOKUP($N42,INSCRITS!$D$4:$W$501,7,0))","v":""},{"$f":"IF($N42=\"\",\"\",VLOOKUP($N42,INSCRITS!$D$4:$W$501,9,0))","v":""}]
[null,null,null,{"$f":"IF($C43=\"\",\"\",VLOOKUP($C43,INSCRITS!$D$4:$W$501,6,0))","v":""},{"$f":"IF($C43=\"\",\"\",VLOOKUP($C43,INSCRITS!$D$4:$W$501,7,0))","v":""},{"$f":"IF($C43=\"\",\"\",VLOOKUP($C43,INSCRITS!$D$4:$W$501,9,0))","v":""},null,null,null,null,null,null,null,null,{"$f":"IF($N43=\"\",\"\",VLOOKUP($N43,INSCRITS!$D$4:$W$501,6,0))","v":""},{"$f":"IF($N43=\"\",\"\",VLOOKUP($N43,INSCRITS!$D$4:$W$501,7,0))","v":""},{"$f":"IF($N43=\"\",\"\",VLOOKUP($N43,INSCRITS!$D$4:$W$501,9,0))","v":""}]
[null,null,null,{"$f":"IF($C44=\"\",\"\",VLOOKUP($C44,INSCRITS!$D$4:$W$501,6,0))","v":""},{"$f":"IF($C44=\"\",\"\",VLOOKUP($C44,INSCRITS!$D$4:$W$501,7,0))","v":""},{"$f":"IF($C44=\"\",\"\",VLOOKUP($C44,INSCRITS!$D$4:$W$501,9,0))","v":""},null,null,null,null,null,null,null,null,{"$f":"IF($N44=\"\",\"\",VLOOKUP($N44,INSCRITS!$D$4:$W$501,6,0))","v":""},{"$f":"IF($N44=\"\",\"\",VLOOKUP($N44,INSCRITS!$D$4:$W$501,7,0))","v":""},{"$f":"IF($N44=\"\",\"\",VLOOKUP($N44,INSCRITS!$D$4:$W$501,9,0))","v":""}]
[null,null,null,{"$f":"IF($C45=\"\",\"\",VLOOKUP($C45,INSCRITS!$D$4:$W$501,6,0))","v":""},{"$f":"IF($C45=\"\",\"\",VLOOKUP($C45,INSCRITS!$D$4:$W$501,7,0))","v":""},{"$f":"IF($C45=\"\",\"\",VLOOKUP($C45,INSCRITS!$D$4:$W$501,9,0))","v":""},null,null,null,null,null,null,null,null,{"$f":"IF($N45=\"\",\"\",VLOOKUP($N45,INSCRITS!$D$4:$W$501,6,0))","v":""},{"$f":"IF($N45=\"\",\"\",VLOOKUP($N45,INSCRITS!$D$4:$W$501,7,0))","v":""},{"$f":"IF($N45=\"\",\"\",VLOOKUP($N45,INSCRITS!$D$4:$W$501,9,0))","v":""}]
[null,null,null,{"$f":"IF($C46=\"\",\"\",VLOOKUP($C46,INSCRITS!$D$4:$W$501,6,0))","v":""},{"$f":"IF($C46=\"\",\"\",VLOOKUP($C46,INSCRITS!$D$4:$W$501,7,0))","v":""},{"$f":"IF($C46=\"\",\"\",VLOOKUP($C46,INSCRITS!$D$4:$W$501,9,0))","v":""},null,null,null,null,null,null,null,null,{"$f":"IF($N46=\"\",\"\",VLOOKUP($N46,INSCRITS!$D$4:$W$501,6,0))","v":""},{"$f":"IF($N46=\"\",\"\",VLOOKUP($N46,INSCRITS!$D$4:$W$501,7,0))","v":""},{"$f":"IF($N46=\"\",\"\",VLOOKUP($N46,INSCRITS!$D$4:$W$501,9,0))","v":""}]
[null,null,null,{"$f":"IF($C47=\"\",\"\",VLOOKUP($C47,INSCRITS!$D$4:$W$501,6,0))","v":""},{"$f":"IF($C47=\"\",\"\",VLOOKUP($C47,INSCRITS!$D$4:$W$501,7,0))","v":""},{"$f":"IF($C47=\"\",\"\",VLOOKUP($C47,INSCRITS!$D$4:$W$501,9,0))","v":""},null,null,null,null,null,null,null,null,{"$f":"IF($N47=\"\",\"\",VLOOKUP($N47,INSCRITS!$D$4:$W$501,6,0))","v":""},{"$f":"IF($N47=\"\",\"\",VLOOKUP($N47,INSCRITS!$D$4:$W$501,7,0))","v":""},{"$f":"IF($N47=\"\",\"\",VLOOKUP($N47,INSCRITS!$D$4:$W$501,9,0))","v":""}]
[null,null,null,{"$f":"IF($C48=\"\",\"\",VLOOKUP($C48,INSCRITS!$D$4:$W$501,6,0))","v":""},{"$f":"IF($C48=\"\",\"\",VLOOKUP($C48,INSCRITS!$D$4:$W$501,7,0))","v":""},{"$f":"IF($C48=\"\",\"\",VLOOKUP($C48,INSCRITS!$D$4:$W$501,9,0))","v":""},null,null,null,null,null,null,null,null,{"$f":"IF($N48=\"\",\"\",VLOOKUP($N48,INSCRITS!$D$4:$W$501,6,0))","v":""},{"$f":"IF($N48=\"\",\"\",VLOOKUP($N48,INSCRITS!$D$4:$W$501,7,0))","v":""},{"$f":"IF($N48=\"\",\"\",VLOOKUP($N48,INSCRITS!$D$4:$W$501,9,0))","v":""}]
[null,null,null,{"$f":"IF($C49=\"\",\"\",VLOOKUP($C49,INSCRITS!$D$4:$W$501,6,0))","v":""},{"$f":"IF($C49=\"\",\"\",VLOOKUP($C49,INSCRITS!$D$4:$W$501,7,0))","v":""},{"$f":"IF($C49=\"\",\"\",VLOOKUP($C49,INSCRITS!$D$4:$W$501,9,0))","v":""},null,null,null,null,null,null,null,null,{"$f":"IF($N49=\"\",\"\",VLOOKUP($N49,INSCRITS!$D$4:$W$501,6,0))","v":""},{"$f":"IF($N49=\"\",\"\",VLOOKUP($N49,INSCRITS!$D$4:$W$501,7,0))","v":""},{"$f":"IF($N49=\"\",\"\",VLOOKUP($N49,INSCRITS!$D$4:$W$501,9,0))","v":""}]
[null,null,null,{"$f":"IF($C50=\"\",\"\",VLOOKUP($C50,INSCRITS!$D$4:$W$501,6,0))","v":""},{"$f":"IF($C50=\"\",\"\",VLOOKUP($C50,INSCRITS!$D$4:$W$501,7,0))","v":""},{"$f":"IF($C50=\"\",\"\",VLOOKUP($C50,INSCRITS!$D$4:$W$501,9,0))","v":""},null,null,null,null,null,null,null,null,{"$f":"IF($N50=\"\",\"\",VLOOKUP($N50,INSCRITS!$D$4:$W$501,6,0))","v":""},{"$f":"IF($N50=\"\",\"\",VLOOKUP($N50,INSCRITS!$D$4:$W$501,7,0))","v":""},{"$f":"IF($N50=\"\",\"\",VLOOKUP($N50,INSCRITS!$D$4:$W$501,9,0))","v":""}]
[null,null,null,{"$f":"IF($C51=\"\",\"\",VLOOKUP($C51,INSCRITS!$D$4:$W$501,6,0))","v":""},{"$f":"IF($C51=\"\",\"\",VLOOKUP($C51,INSCRITS!$D$4:$W$501,7,0))","v":""},{"$f":"IF($C51=\"\",\"\",VLOOKUP($C51,INSCRITS!$D$4:$W$501,9,0))","v":""},null,null,null,null,null,null,null,null,{"$f":"IF($N51=\"\",\"\",VLOOKUP($N51,INSCRITS!$D$4:$W$501,6,0))","v":""},{"$f":"IF($N51=\"\",\"\",VLOOKUP($N51,INSCRITS!$D$4:$W$501,7,0))","v":""},{"$f":"IF($N51=\"\",\"\",VLOOKUP($N51,INSCRITS!$D$4:$W$501,9,0))","v":""}]
[null,null,null,{"$f":"IF($C52=\"\",\"\",VLOOKUP($C52,INSCRITS!$D$4:$W$501,6,0))","v":""},{"$f":"IF($C52=\"\",\"\",VLOOKUP($C52,INSCRITS!$D$4:$W$501,7,0))","v":""},{"$f":"IF($C52=\"\",\"\",VLOOKUP($C52,INSCRITS!$D$4:$W$501,9,0))","v":""},null,null,null,null,null,null,null,null,{"$f":"IF($N52=\"\",\"\",VLOOKUP($N52,INSCRITS!$D$4:$W$501,6,0))","v":""},{"$f":"IF($N52=\"\",\"\",VLOOKUP($N52,INSCRITS!$D$4:$W$501,7,0))","v":""},{"$f":"IF($N52=\"\",\"\",VLOOKUP($N52,INSCRITS!$D$4:$W$501,9,0))","v":""}]
[null,null,null,{"$f":"IF($C53=\"\",\"\",VLOOKUP($C53,INSCRITS!$D$4:$W$501,6,0))","v":""},{"$f":"IF($C53=\"\",\"\",VLOOKUP($C53,INSCRITS!$D$4:$W$501,7,0))","v":""},{"$f":"IF($C53=\"\",\"\",VLOOKUP($C53,INSCRITS!$D$4:$W$501,9,0))","v":""},null,null,null,null,null,null,null,null,{"$f":"IF($N53=\"\",\"\",VLOOKUP($N53,INSCRITS!$D$4:$W$501,6,0))","v":""},{"$f":"IF($N53=\"\",\"\",VLOOKUP($N53,INSCRITS!$D$4:$W$501,7,0))","v":""},{"$f":"IF($N53=\"\",\"\",VLOOKUP($N53,INSCRITS!$D$4:$W$501,9,0))","v":""}]
[null,null,null,{"$f":"IF($C54=\"\",\"\",VLOOKUP($C54,INSCRITS!$D$4:$W$501,6,0))","v":""},{"$f":"IF($C54=\"\",\"\",VLOOKUP($C54,INSCRITS!$D$4:$W$501,7,0))","v":""},{"$f":"IF($C54=\"\",\"\",VLOOKUP($C54,INSCRITS!$D$4:$W$501,9,0))","v":""},null,null,null,null,null,null,null,null,{"$f":"IF($N54=\"\",\"\",VLOOKUP($N54,INSCRITS!$D$4:$W$501,6,0))","v":""},{"$f":"IF($N54=\"\",\"\",VLOOKUP($N54,INSCRITS!$D$4:$W$501,7,0))","v":""},{"$f":"IF($N54=\"\",\"\",VLOOKUP($N54,INSCRITS!$D$4:$W$501,9,0))","v":""}]
[null,"SERIE 4",null,{"$f":"IF($C55=\"\",\"\",VLOOKUP($C55,INSCRITS!$D$4:$W$501,6,0))","v":""},{"$f":"IF($C55=\"\",\"\",VLOOKUP($C55,INSCRITS!$D$4:$W$501,7,0))","v":""},{"$f":"IF($C55=\"\",\"\",VLOOKUP($C55,INSCRITS!$D$4:$W$501,9,0))","v":""},null,null,null,null,null,null,"SERIE 4",null,{"$f":"IF($N55=\"\",\"\",VLOOKUP($N55,INSCRITS!$D$4:$W$501,6,0))","v":""},{"$f":"IF($N55=\"\",\"\",VLOOKUP($N55,INSCRITS!$D$4:$W$501,7,0))","v":""},{"$f":"IF($N55=\"\",\"\",VLOOKUP($N55,INSCRITS!$D$4:$W$501,9,0))","v":""}]
[null,null,null,{"$f":"IF($C56=\"\",\"\",VLOOKUP($C56,INSCRITS!$D$4:$W$501,6,0))","v":""},{"$f":"IF($C56=\"\",\"\",VLOOKUP($C56,INSCRITS!$D$4:$W$501,7,0))","v":""},{"$f":"IF($C56=\"\",\"\",VLOOKUP($C56,INSCRITS!$D$4:$W$501,9,0))","v":""},null,null,null,null,null,null,null,null,{"$f":"IF($N56=\"\",\"\",VLOOKUP($N56,INSCRITS!$D$4:$W$501,6,0))","v":""},{"$f":"IF($N56=\"\",\"\",VLOOKUP($N56,INSCRITS!$D$4:$W$501,7,0))","v":""},{"$f":"IF($N56=\"\",\"\",VLOOKUP($N56,INSCRITS!$D$4:$W$501,9,0))","v":""}]
[null,null,null,{"$f":"IF($C57=\"\",\"\",VLOOKUP($C57,INSCRITS!$D$4:$W$501,6,0))","v":""},{"$f":"IF($C57=\"\",\"\",VLOOKUP($C57,INSCRITS!$D$4:$W$501,7,0))","v":""},{"$f":"IF($C57=\"\",\"\",VLOOKUP($C57,INSCRITS!$D$4:$W$501,9,0))","v":""},null,null,null,null,null,null,null,null,{"$f":"IF($N57=\"\",\"\",VLOOKUP($N57,INSCRITS!$D$4:$W$501,6,0))","v":""},{"$f":"IF($N57=\"\",\"\",VLOOKUP($N57,INSCRITS!$D$4:$W$501,7,0))","v":""},{"$f":"IF($N57=\"\",\"\",VLOOKUP($N57,INSCRITS!$D$4:$W$501,9,0))","v":""}]
[null,null,null,{"$f":"IF($C58=\"\",\"\",VLOOKUP($C58,INSCRITS!$D$4:$W$501,6,0))","v":""},{"$f":"IF($C58=\"\",\"\",VLOOKUP($C58,INSCRITS!$D$4:$W$501,7,0))","v":""},{"$f":"IF($C58=\"\",\"\",VLOOKUP($C58,INSCRITS!$D$4:$W$501,9,0))","v":""},null,null,null,null,null,null,null,null,{"$f":"IF($N58=\"\",\"\",VLOOKUP($N58,INSCRITS!$D$4:$W$501,6,0))","v":""},{"$f":"IF($N58=\"\",\"\",VLOOKUP($N58,INSCRITS!$D$4:$W$501,7,0))","v":""},{"$f":"IF($N58=\"\",\"\",VLOOKUP($N58,INSCRITS!$D$4:$W$501,9,0))","v":""}]
[null,null,null,{"$f":"IF($C59=\"\",\"\",VLOOKUP($C59,INSCRITS!$D$4:$W$501,6,0))","v":""},{"$f":"IF($C59=\"\",\"\",VLOOKUP($C59,INSCRITS!$D$4:$W$501,7,0))","v":""},{"$f":"IF($C59=\"\",\"\",VLOOKUP($C59,INSCRITS!$D$4:$W$501,9,0))","v":""},null,null,null,null,null,null,null,null,{"$f":"IF($N59=\"\",\"\",VLOOKUP($N59,INSCRITS!$D$4:$W$501,6,0))","v":""},{"$f":"IF($N59=\"\",\"\",VLOOKUP($N59,INSCRITS!$D$4:$W$501,7,0))","v":""},{"$f":"IF($N59=\"\",\"\",VLOOKUP($N59,INSCRITS!$D$4:$W$501,9,0))","v":""}]
[null,null,null,{"$f":"IF($C60=\"\",\"\",VLOOKUP($C60,INSCRITS!$D$4:$W$501,6,0))","v":""},{"$f":"IF($C60=\"\",\"\",VLOOKUP($C60,INSCRITS!$D$4:$W$501,7,0))","v":""},{"$f":"IF($C60=\"\",\"\",VLOOKUP($C60,INSCRITS!$D$4:$W$501,9,0))","v":""},null,null,null,null,null,null,null,null,{"$f":"IF($N60=\"\",\"\",VLOOKUP($N60,INSCRITS!$D$4:$W$501,6,0))","v":""},{"$f":"IF($N60=\"\",\"\",VLOOKUP($N60,INSCRITS!$D$4:$W$501,7,0))","v":""},{"$f":"IF($N60=\"\",\"\",VLOOKUP($N60,INSCRITS!$D$4:$W$501,9,0))","v":""}]
[null,null,null,{"$f":"IF($C61=\"\",\"\",VLOOKUP($C61,INSCRITS!$D$4:$W$501,6,0))","v":""},{"$f":"IF($C61=\"\",\"\",VLOOKUP($C61,INSCRITS!$D$4:$W$501,7,0))","v":""},{"$f":"IF($C61=\"\",\"\",VLOOKUP($C61,INSCRITS!$D$4:$W$501,9,0))","v":""},null,null,null,null,null,null,null,null,{"$f":"IF($N61=\"\",\"\",VLOOKUP($N61,INSCRITS!$D$4:$W$501,6,0))","v":""},{"$f":"IF($N61=\"\",\"\",VLOOKUP($N61,INSCRITS!$D$4:$W$501,7,0))","v":""},{"$f":"IF($N61=\"\",\"\",VLOOKUP($N61,INSCRITS!$D$4:$W$501,9,0))","v":""}]
[null,null,null,{"$f":"IF($C62=\"\",\"\",VLOOKUP($C62,INSCRITS!$D$4:$W$501,6,0))","v":""},{"$f":"IF($C62=\"\",\"\",VLOOKUP($C62,INSCRITS!$D$4:$W$501,7,0))","v":""},{"$f":"IF($C62=\"\",\"\",VLOOKUP($C62,INSCRITS!$D$4:$W$501,9,0))","v":""},null,null,null,null,null,null,null,null,{"$f":"IF($N62=\"\",\"\",VLOOKUP($N62,INSCRITS!$D$4:$W$501,6,0))","v":""},{"$f":"IF($N62=\"\",\"\",VLOOKUP($N62,INSCRITS!$D$4:$W$501,7,0))","v":""},{"$f":"IF($N62=\"\",\"\",VLOOKUP($N62,INSCRITS!$D$4:$W$501,9,0))","v":""}]
[null,null,null,{"$f":"IF($C63=\"\",\"\",VLOOKUP($C63,INSCRITS!$D$4:$W$501,6,0))","v":""},{"$f":"IF($C63=\"\",\"\",VLOOKUP($C63,INSCRITS!$D$4:$W$501,7,0))","v":""},{"$f":"IF($C63=\"\",\"\",VLOOKUP($C63,INSCRITS!$D$4:$W$501,9,0))","v":""},null,null,null,null,null,null,null,null,{"$f":"IF($N63=\"\",\"\",VLOOKUP($N63,INSCRITS!$D$4:$W$501,6,0))","v":""},{"$f":"IF($N63=\"\",\"\",VLOOKUP($N63,INSCRITS!$D$4:$W$501,7,0))","v":""},{"$f":"IF($N63=\"\",\"\",VLOOKUP($N63,INSCRITS!$D$4:$W$501,9,0))","v":""}]
[null,null,null,{"$f":"IF($C64=\"\",\"\",VLOOKUP($C64,INSCRITS!$D$4:$W$501,6,0))","v":""},{"$f":"IF($C64=\"\",\"\",VLOOKUP($C64,INSCRITS!$D$4:$W$501,7,0))","v":""},{"$f":"IF($C64=\"\",\"\",VLOOKUP($C64,INSCRITS!$D$4:$W$501,9,0))","v":""},null,null,null,null,null,null,null,null,{"$f":"IF($N64=\"\",\"\",VLOOKUP($N64,INSCRITS!$D$4:$W$501,6,0))","v":""},{"$f":"IF($N64=\"\",\"\",VLOOKUP($N64,INSCRITS!$D$4:$W$501,7,0))","v":""},{"$f":"IF($N64=\"\",\"\",VLOOKUP($N64,INSCRITS!$D$4:$W$501,9,0))","v":""}]
[null,null,null,{"$f":"IF($C65=\"\",\"\",VLOOKUP($C65,INSCRITS!$D$4:$W$501,6,0))","v":""},{"$f":"IF($C65=\"\",\"\",VLOOKUP($C65,INSCRITS!$D$4:$W$501,7,0))","v":""},{"$f":"IF($C65=\"\",\"\",VLOOKUP($C65,INSCRITS!$D$4:$W$501,9,0))","v":""},null,null,null,null,null,null,null,null,{"$f":"IF($N65=\"\",\"\",VLOOKUP($N65,INSCRITS!$D$4:$W$501,6,0))","v":""},{"$f":"IF($N65=\"\",\"\",VLOOKUP($N65,INSCRITS!$D$4:$W$501,7,0))","v":""},{"$f":"IF($N65=\"\",\"\",VLOOKUP($N65,INSCRITS!$D$4:$W$501,9,0))","v":""}]
[null,null,null,{"$f":"IF($C66=\"\",\"\",VLOOKUP($C66,INSCRITS!$D$4:$W$501,6,0))","v":""},{"$f":"IF($C66=\"\",\"\",VLOOKUP($C66,INSCRITS!$D$4:$W$501,7,0))","v":""},{"$f":"IF($C66=\"\",\"\",VLOOKUP($C66,INSCRITS!$D$4:$W$501,9,0))","v":""},null,null,null,null,null,null,null,null,{"$f":"IF($N66=\"\",\"\",VLOOKUP($N66,INSCRITS!$D$4:$W$501,6,0))","v":""},{"$f":"IF($N66=\"\",\"\",VLOOKUP($N66,INSCRITS!$D$4:$W$501,7,0))","v":""},{"$f":"IF($N66=\"\",\"\",VLOOKUP($N66,INSCRITS!$D$4:$W$501,9,0))","v":""}]
[null,null,null,{"$f":"IF($C67=\"\",\"\",VLOOKUP($C67,INSCRITS!$D$4:$W$501,6,0))","v":""},{"$f":"IF($C67=\"\",\"\",VLOOKUP($C67,INSCRITS!$D$4:$W$501,7,0))","v":""},{"$f":"IF($C67=\"\",\"\",VLOOKUP($C67,INSCRITS!$D$4:$W$501,9,0))","v":""},null,null,null,null,null,null,null,null,{"$f":"IF($N67=\"\",\"\",VLOOKUP($N67,INSCRITS!$D$4:$W$501,6,0))","v":""},{"$f":"IF($N67=\"\",\"\",VLOOKUP($N67,INSCRITS!$D$4:$W$501,7,0))","v":""},{"$f":"IF($N67=\"\",\"\",VLOOKUP($N67,INSCRITS!$D$4:$W$501,9,0))","v":""}]
[null,null,null,{"$f":"IF($C68=\"\",\"\",VLOOKUP($C68,INSCRITS!$D$4:$W$501,6,0))","v":""},{"$f":"IF($C68=\"\",\"\",VLOOKUP($C68,INSCRITS!$D$4:$W$501,7,0))","v":""},{"$f":"IF($C68=\"\",\"\",VLOOKUP($C68,INSCRITS!$D$4:$W$501,9,0))","v":""},null,null,null,null,null,null,null,null,{"$f":"IF($N68=\"\",\"\",VLOOKUP($N68,INSCRITS!$D$4:$W$501,6,0))","v":""},{"$f":"IF($N68=\"\",\"\",VLOOKUP($N68,INSCRITS!$D$4:$W$501,7,0))","v":""},{"$f":"IF($N68=\"\",\"\",VLOOKUP($N68,INSCRITS!$D$4:$W$501,9,0))","v":""}]
[null,null,null,{"$f":"IF($C69=\"\",\"\",VLOOKUP($C69,INSCRITS!$D$4:$W$501,6,0))","v":""},{"$f":"IF($C69=\"\",\"\",VLOOKUP($C69,INSCRITS!$D$4:$W$501,7,0))","v":""},{"$f":"IF($C69=\"\",\"\",VLOOKUP($C69,INSCRITS!$D$4:$W$501,9,0))","v":""},null,null,null,null,null,null,null,null,{"$f":"IF($N69=\"\",\"\",VLOOKUP($N69,INSCRITS!$D$4:$W$501,6,0))","v":""},{"$f":"IF($N69=\"\",\"\",VLOOKUP($N69,INSCRITS!$D$4:$W$501,7,0))","v":""},{"$f":"IF($N69=\"\",\"\",VLOOKUP($N69,INSCRITS!$D$4:$W$501,9,0))","v":""}]
[null,null,null,{"$f":"IF($C70=\"\",\"\",VLOOKUP($C70,INSCRITS!$D$4:$W$501,6,0))","v":""},{"$f":"IF($C70=\"\",\"\",VLOOKUP($C70,INSCRITS!$D$4:$W$501,7,0))","v":""},{"$f":"IF($C70=\"\",\"\",VLOOKUP($C70,INSCRITS!$D$4:$W$501,9,0))","v":""},null,null,null,null,null,null,null,null,{"$f":"IF($N70=\"\",\"\",VLOOKUP($N70,INSCRITS!$D$4:$W$501,6,0))","v":""},{"$f":"IF($N70=\"\",\"\",VLOOKUP($N70,INSCRITS!$D$4:$W$501,7,0))","v":""},{"$f":"IF($N70=\"\",\"\",VLOOKUP($N70,INSCRITS!$D$4:$W$501,9,0))","v":""}]
[null,null,null,{"$f":"IF($C71=\"\",\"\",VLOOKUP($C71,INSCRITS!$D$4:$W$501,6,0))","v":""},{"$f":"IF($C71=\"\",\"\",VLOOKUP($C71,INSCRITS!$D$4:$W$501,7,0))","v":""},{"$f":"IF($C71=\"\",\"\",VLOOKUP($C71,INSCRITS!$D$4:$W$501,9,0))","v":""}]
[null,null,null,{"$f":"IF($C72=\"\",\"\",VLOOKUP($C72,INSCRITS!$D$4:$W$501,6,0))","v":""},{"$f":"IF($C72=\"\",\"\",VLOOKUP($C72,INSCRITS!$D$4:$W$501,7,0))","v":""},{"$f":"IF($C72=\"\",\"\",VLOOKUP($C72,INSCRITS!$D$4:$W$501,9,0))","v":""}]
[null,null,null,{"$f":"IF($C73=\"\",\"\",VLOOKUP($C73,INSCRITS!$D$4:$W$501,6,0))","v":""},{"$f":"IF($C73=\"\",\"\",VLOOKUP($C73,INSCRITS!$D$4:$W$501,7,0))","v":""},{"$f":"IF($C73=\"\",\"\",VLOOKUP($C73,INSCRITS!$D$4:$W$501,9,0))","v":""}]
[null,null,null,{"$f":"IF($C74=\"\",\"\",VLOOKUP($C74,INSCRITS!$D$4:$W$501,6,0))","v":""},{"$f":"IF($C74=\"\",\"\",VLOOKUP($C74,INSCRITS!$D$4:$W$501,7,0))","v":""},{"$f":"IF($C74=\"\",\"\",VLOOKUP($C74,INSCRITS!$D$4:$W$501,9,0))","v":""}]
[null,null,null,{"$f":"IF($C75=\"\",\"\",VLOOKUP($C75,INSCRITS!$D$4:$W$501,6,0))","v":""},{"$f":"IF($C75=\"\",\"\",VLOOKUP($C75,INSCRITS!$D$4:$W$501,7,0))","v":""},{"$f":"IF($C75=\"\",\"\",VLOOKUP($C75,INSCRITS!$D$4:$W$501,9,0))","v":""}]
[null,null,null,{"$f":"IF($C76=\"\",\"\",VLOOKUP($C76,INSCRITS!$D$4:$W$501,6,0))","v":""},{"$f":"IF($C76=\"\",\"\",VLOOKUP($C76,INSCRITS!$D$4:$W$501,7,0))","v":""},{"$f":"IF($C76=\"\",\"\",VLOOKUP($C76,INSCRITS!$D$4:$W$501,9,0))","v":""}]
[null,null,null,{"$f":"IF($C77=\"\",\"\",VLOOKUP($C77,INSCRITS!$D$4:$W$501,6,0))","v":""},{"$f":"IF($C77=\"\",\"\",VLOOKUP($C77,INSCRITS!$D$4:$W$501,7,0))","v":""},{"$f":"IF($C77=\"\",\"\",VLOOKUP($C77,INSCRITS!$D$4:$W$501,9,0))","v":""}]
[null,null,null,{"$f":"IF($C78=\"\",\"\",VLOOKUP($C78,INSCRITS!$D$4:$W$501,6,0))","v":""},{"$f":"IF($C78=\"\",\"\",VLOOKUP($C78,INSCRITS!$D$4:$W$501,7,0))","v":""},{"$f":"IF($C78=\"\",\"\",VLOOKUP($C78,INSCRITS!$D$4:$W$501,9,0))","v":""}]
[null,null,null,{"$f":"IF($C79=\"\",\"\",VLOOKUP($C79,INSCRITS!$D$4:$W$501,6,0))","v":""},{"$f":"IF($C79=\"\",\"\",VLOOKUP($C79,INSCRITS!$D$4:$W$501,7,0))","v":""},{"$f":"IF($C79=\"\",\"\",VLOOKUP($C79,INSCRITS!$D$4:$W$501,9,0))","v":""}]
[null,null,null,{"$f":"IF($C80=\"\",\"\",VLOOKUP($C80,INSCRITS!$D$4:$W$501,6,0))","v":""},{"$f":"IF($C80=\"\",\"\",VLOOKUP($C80,INSCRITS!$D$4:$W$501,7,0))","v":""},{"$f":"IF($C80=\"\",\"\",VLOOKUP($C80,INSCRITS!$D$4:$W$501,9,0))","v":""}]
[null,null,null,{"$f":"IF($C81=\"\",\"\",VLOOKUP($C81,INSCRITS!$D$4:$W$501,6,0))","v":""},{"$f":"IF($C81=\"\",\"\",VLOOKUP($C81,INSCRITS!$D$4:$W$501,7,0))","v":""},{"$f":"IF($C81=\"\",\"\",VLOOKUP($C81,INSCRITS!$D$4:$W$501,9,0))","v":""}]
[null,null,null,{"$f":"IF($C82=\"\",\"\",VLOOKUP($C82,INSCRITS!$D$4:$W$501,6,0))","v":""},{"$f":"IF($C82=\"\",\"\",VLOOKUP($C82,INSCRITS!$D$4:$W$501,7,0))","v":""},{"$f":"IF($C82=\"\",\"\",VLOOKUP($C82,INSCRITS!$D$4:$W$501,9,0))","v":""}]
[null,null,null,{"$f":"IF($C83=\"\",\"\",VLOOKUP($C83,INSCRITS!$D$4:$W$501,6,0))","v":""},{"$f":"IF($C83=\"\",\"\",VLOOKUP($C83,INSCRITS!$D$4:$W$501,7,0))","v":""},{"$f":"IF($C83=\"\",\"\",VLOOKUP($C83,INSCRITS!$D$4:$W$501,9,0))","v":""}]
[null,null,null,{"$f":"IF($C84=\"\",\"\",VLOOKUP($C84,INSCRITS!$D$4:$W$501,6,0))","v":""},{"$f":"IF($C84=\"\",\"\",VLOOKUP($C84,INSCRITS!$D$4:$W$501,7,0))","v":""},{"$f":"IF($C84=\"\",\"\",VLOOKUP($C84,INSCRITS!$D$4:$W$501,9,0))","v":""}]
[null,null,null,{"$f":"IF($C85=\"\",\"\",VLOOKUP($C85,INSCRITS!$D$4:$W$501,6,0))","v":""},{"$f":"IF($C85=\"\",\"\",VLOOKUP($C85,INSCRITS!$D$4:$W$501,7,0))","v":""},{"$f":"IF($C85=\"\",\"\",VLOOKUP($C85,INSCRITS!$D$4:$W$501,9,0))","v":""}]
[null,null,null,{"$f":"IF($C86=\"\",\"\",VLOOKUP($C86,INSCRITS!$D$4:$W$501,6,0))","v":""},{"$f":"IF($C86=\"\",\"\",VLOOKUP($C86,INSCRITS!$D$4:$W$501,7,0))","v":""},{"$f":"IF($C86=\"\",\"\",VLOOKUP($C86,INSCRITS!$D$4:$W$501,9,0))","v":""}]
[null,"SERIE 6",null,{"$f":"IF($C87=\"\",\"\",VLOOKUP($C87,INSCRITS!$D$4:$W$501,6,0))","v":""},{"$f":"IF($C87=\"\",\"\",VLOOKUP($C87,INSCRITS!$D$4:$W$501,7,0))","v":""},{"$f":"IF($C87=\"\",\"\",VLOOKUP($C87,INSCRITS!$D$4:$W$501,9,0))","v":""}]
[null,null,null,{"$f":"IF($C88=\"\",\"\",VLOOKUP($C88,INSCRITS!$D$4:$W$501,6,0))","v":""},{"$f":"IF($C88=\"\",\"\",VLOOKUP($C88,INSCRITS!$D$4:$W$501,7,0))","v":""},{"$f":"IF($C88=\"\",\"\",VLOOKUP($C88,INSCRITS!$D$4:$W$501,9,0))","v":""}]
[null,null,null,{"$f":"IF($C89=\"\",\"\",VLOOKUP($C89,INSCRITS!$D$4:$W$501,6,0))","v":""},{"$f":"IF($C89=\"\",\"\",VLOOKUP($C89,INSCRITS!$D$4:$W$501,7,0))","v":""},{"$f":"IF($C89=\"\",\"\",VLOOKUP($C89,INSCRITS!$D$4:$W$501,9,0))","v":""}]
[null,null,null,{"$f":"IF($C90=\"\",\"\",VLOOKUP($C90,INSCRITS!$D$4:$W$501,6,0))","v":""},{"$f":"IF($C90=\"\",\"\",VLOOKUP($C90,INSCRITS!$D$4:$W$501,7,0))","v":""},{"$f":"IF($C90=\"\",\"\",VLOOKUP($C90,INSCRITS!$D$4:$W$501,9,0))","v":""}]
[null,null,null,{"$f":"IF($C91=\"\",\"\",VLOOKUP($C91,INSCRITS!$D$4:$W$501,6,0))","v":""},{"$f":"IF($C91=\"\",\"\",VLOOKUP($C91,INSCRITS!$D$4:$W$501,7,0))","v":""},{"$f":"IF($C91=\"\",\"\",VLOOKUP($C91,INSCRITS!$D$4:$W$501,9,0))","v":""}]
[null,null,null,{"$f":"IF($C92=\"\",\"\",VLOOKUP($C92,INSCRITS!$D$4:$W$501,6,0))","v":""},{"$f":"IF($C92=\"\",\"\",VLOOKUP($C92,INSCRITS!$D$4:$W$501,7,0))","v":""},{"$f":"IF($C92=\"\",\"\",VLOOKUP($C92,INSCRITS!$D$4:$W$501,9,0))","v":""}]
[null,null,null,{"$f":"IF($C93=\"\",\"\",VLOOKUP($C93,INSCRITS!$D$4:$W$501,6,0))","v":""},{"$f":"IF($C93=\"\",\"\",VLOOKUP($C93,INSCRITS!$D$4:$W$501,7,0))","v":""},{"$f":"IF($C93=\"\",\"\",VLOOKUP($C93,INSCRITS!$D$4:$W$501,9,0))","v":""}]
[null,null,null,{"$f":"IF($C94=\"\",\"\",VLOOKUP($C94,INSCRITS!$D$4:$W$501,6,0))","v":""},{"$f":"IF($C94=\"\",\"\",VLOOKUP($C94,INSCRITS!$D$4:$W$501,7,0))","v":""},{"$f":"IF($C94=\"\",\"\",VLOOKUP($C94,INSCRITS!$D$4:$W$501,9,0))","v":""}]
[null,null,null,{"$f":"IF($C95=\"\",\"\",VLOOKUP($C95,INSCRITS!$D$4:$W$501,6,0))","v":""},{"$f":"IF($C95=\"\",\"\",VLOOKUP($C95,INSCRITS!$D$4:$W$501,7,0))","v":""},{"$f":"IF($C95=\"\",\"\",VLOOKUP($C95,INSCRITS!$D$4:$W$501,9,0))","v":""}]
[null,null,null,{"$f":"IF($C96=\"\",\"\",VLOOKUP($C96,INSCRITS!$D$4:$W$501,6,0))","v":""},{"$f":"IF($C96=\"\",\"\",VLOOKUP($C96,INSCRITS!$D$4:$W$501,7,0))","v":""},{"$f":"IF($C96=\"\",\"\",VLOOKUP($C96,INSCRITS!$D$4:$W$501,9,0))","v":""}]
[null,null,null,{"$f":"IF($C97=\"\",\"\",VLOOKUP($C97,INSCRITS!$D$4:$W$501,6,0))","v":""},{"$f":"IF($C97=\"\",\"\",VLOOKUP($C97,INSCRITS!$D$4:$W$501,7,0))","v":""},{"$f":"IF($C97=\"\",\"\",VLOOKUP($C97,INSCRITS!$D$4:$W$501,9,0))","v":""}]
[null,null,null,{"$f":"IF($C98=\"\",\"\",VLOOKUP($C98,INSCRITS!$D$4:$W$501,6,0))","v":""},{"$f":"IF($C98=\"\",\"\",VLOOKUP($C98,INSCRITS!$D$4:$W$501,7,0))","v":""},{"$f":"IF($C98=\"\",\"\",VLOOKUP($C98,INSCRITS!$D$4:$W$501,9,0))","v":""}]
[null,null,null,{"$f":"IF($C99=\"\",\"\",VLOOKUP($C99,INSCRITS!$D$4:$W$501,6,0))","v":""},{"$f":"IF($C99=\"\",\"\",VLOOKUP($C99,INSCRITS!$D$4:$W$501,7,0))","v":""},{"$f":"IF($C99=\"\",\"\",VLOOKUP($C99,INSCRITS!$D$4:$W$501,9,0))","v":""}]
[null,null,null,{"$f":"IF($C100=\"\",\"\",VLOOKUP($C100,INSCRITS!$D$4:$W$501,6,0))","v":""},{"$f":"IF($C100=\"\",\"\",VLOOKUP($C100,INSCRITS!$D$4:$W$501,7,0))","v":""},{"$f":"IF($C100=\"\",\"\",VLOOKUP($C100,INSCRITS!$D$4:$W$501,9,0))","v":""}]
[null,null,null,{"$f":"IF($C101=\"\",\"\",VLOOKUP($C101,INSCRITS!$D$4:$W$501,6,0))","v":""},{"$f":"IF($C101=\"\",\"\",VLOOKUP($C101,INSCRITS!$D$4:$W$501,7,0))","v":""},{"$f":"IF($C101=\"\",\"\",VLOOKUP($C101,INSCRITS!$D$4:$W$501,9,0))","v":""}]
[null,null,null,{"$f":"IF($C102=\"\",\"\",VLOOKUP($C102,INSCRITS!$D$4:$W$501,6,0))","v":""},{"$f":"IF($C102=\"\",\"\",VLOOKUP($C102,INSCRITS!$D$4:$W$501,7,0))","v":""},{"$f":"IF($C102=\"\",\"\",VLOOKUP($C102,INSCRITS!$D$4:$W$501,9,0))","v":""}]
[null,"SERIE 7",null,{"$f":"IF($C103=\"\",\"\",VLOOKUP($C103,INSCRITS!$D$4:$W$501,6,0))","v":""},{"$f":"IF($C103=\"\",\"\",VLOOKUP($C103,INSCRITS!$D$4:$W$501,7,0))","v":""},{"$f":"IF($C103=\"\",\"\",VLOOKUP($C103,INSCRITS!$D$4:$W$501,9,0))","v":""}]
[null,null,null,{"$f":"IF($C104=\"\",\"\",VLOOKUP($C104,INSCRITS!$D$4:$W$501,6,0))","v":""},{"$f":"IF($C104=\"\",\"\",VLOOKUP($C104,INSCRITS!$D$4:$W$501,7,0))","v":""},{"$f":"IF($C104=\"\",\"\",VLOOKUP($C104,INSCRITS!$D$4:$W$501,9,0))","v":""}]
[null,null,null,{"$f":"IF($C105=\"\",\"\",VLOOKUP($C105,INSCRITS!$D$4:$W$501,6,0))","v":""},{"$f":"IF($C105=\"\",\"\",VLOOKUP($C105,INSCRITS!$D$4:$W$501,7,0))","v":""},{"$f":"IF($C105=\"\",\"\",VLOOKUP($C105,INSCRITS!$D$4:$W$501,9,0))","v":""}]
[null,null,null,{"$f":"IF($C106=\"\",\"\",VLOOKUP($C106,INSCRITS!$D$4:$W$501,6,0))","v":""},{"$f":"IF($C106=\"\",\"\",VLOOKUP($C106,INSCRITS!$D$4:$W$501,7,0))","v":""},{"$f":"IF($C106=\"\",\"\",VLOOKUP($C106,INSCRITS!$D$4:$W$501,9,0))","v":""}]
[null,null,null,{"$f":"IF($C107=\"\",\"\",VLOOKUP($C107,INSCRITS!$D$4:$W$501,6,0))","v":""},{"$f":"IF($C107=\"\",\"\",VLOOKUP($C107,INSCRITS!$D$4:$W$501,7,0))","v":""},{"$f":"IF($C107=\"\",\"\",VLOOKUP($C107,INSCRITS!$D$4:$W$501,9,0))","v":""}]
[null,null,null,{"$f":"IF($C108=\"\",\"\",VLOOKUP($C108,INSCRITS!$D$4:$W$501,6,0))","v":""},{"$f":"IF($C108=\"\",\"\",VLOOKUP($C108,INSCRITS!$D$4:$W$501,7,0))","v":""},{"$f":"IF($C108=\"\",\"\",VLOOKUP($C108,INSCRITS!$D$4:$W$501,9,0))","v":""}]
[null,null,null,{"$f":"IF($C109=\"\",\"\",VLOOKUP($C109,INSCRITS!$D$4:$W$501,6,0))","v":""},{"$f":"IF($C109=\"\",\"\",VLOOKUP($C109,INSCRITS!$D$4:$W$501,7,0))","v":""},{"$f":"IF($C109=\"\",\"\",VLOOKUP($C109,INSCRITS!$D$4:$W$501,9,0))","v":""}]
[null,null,null,{"$f":"IF($C110=\"\",\"\",VLOOKUP($C110,INSCRITS!$D$4:$W$501,6,0))","v":""},{"$f":"IF($C110=\"\",\"\",VLOOKUP($C110,INSCRITS!$D$4:$W$501,7,0))","v":""},{"$f":"IF($C110=\"\",\"\",VLOOKUP($C110,INSCRITS!$D$4:$W$501,9,0))","v":""}]
[null,null,null,{"$f":"IF($C111=\"\",\"\",VLOOKUP($C111,INSCRITS!$D$4:$W$501,6,0))","v":""},{"$f":"IF($C111=\"\",\"\",VLOOKUP($C111,INSCRITS!$D$4:$W$501,7,0))","v":""},{"$f":"IF($C111=\"\",\"\",VLOOKUP($C111,INSCRITS!$D$4:$W$501,9,0))","v":""}]
[null,null,null,{"$f":"IF($C112=\"\",\"\",VLOOKUP($C112,INSCRITS!$D$4:$W$501,6,0))","v":""},{"$f":"IF($C112=\"\",\"\",VLOOKUP($C112,INSCRITS!$D$4:$W$501,7,0))","v":""},{"$f":"IF($C112=\"\",\"\",VLOOKUP($C112,INSCRITS!$D$4:$W$501,9,0))","v":""}]
[null,null,null,{"$f":"IF($C113=\"\",\"\",VLOOKUP($C113,INSCRITS!$D$4:$W$501,6,0))","v":""},{"$f":"IF($C113=\"\",\"\",VLOOKUP($C113,INSCRITS!$D$4:$W$501,7,0))","v":""},{"$f":"IF($C113=\"\",\"\",VLOOKUP($C113,INSCRITS!$D$4:$W$501,9,0))","v":""}]
[null,null,null,{"$f":"IF($C114=\"\",\"\",VLOOKUP($C114,INSCRITS!$D$4:$W$501,6,0))","v":""},{"$f":"IF($C114=\"\",\"\",VLOOKUP($C114,INSCRITS!$D$4:$W$501,7,0))","v":""},{"$f":"IF($C114=\"\",\"\",VLOOKUP($C114,INSCRITS!$D$4:$W$501,9,0))","v":""}]
[null,null,null,{"$f":"IF($C115=\"\",\"\",VLOOKUP($C115,INSCRITS!$D$4:$W$501,6,0))","v":""},{"$f":"IF($C115=\"\",\"\",VLOOKUP($C115,INSCRITS!$D$4:$W$501,7,0))","v":""},{"$f":"IF($C115=\"\",\"\",VLOOKUP($C115,INSCRITS!$D$4:$W$501,9,0))","v":""}]
[null,null,null,{"$f":"IF($C116=\"\",\"\",VLOOKUP($C116,INSCRITS!$D$4:$W$501,6,0))","v":""},{"$f":"IF($C116=\"\",\"\",VLOOKUP($C116,INSCRITS!$D$4:$W$501,7,0))","v":""},{"$f":"IF($C116=\"\",\"\",VLOOKUP($C116,INSCRITS!$D$4:$W$501,9,0))","v":""}]
[null,null,null,{"$f":"IF($C117=\"\",\"\",VLOOKUP($C117,INSCRITS!$D$4:$W$501,6,0))","v":""},{"$f":"IF($C117=\"\",\"\",VLOOKUP($C117,INSCRITS!$D$4:$W$501,7,0))","v":""},{"$f":"IF($C117=\"\",\"\",VLOOKUP($C117,INSCRITS!$D$4:$W$501,9,0))","v":""}]
[null,null,null,{"$f":"IF($C118=\"\",\"\",VLOOKUP($C118,INSCRITS!$D$4:$W$501,6,0))","v":""},{"$f":"IF($C118=\"\",\"\",VLOOKUP($C118,INSCRITS!$D$4:$W$501,7,0))","v":""},{"$f":"IF($C118=\"\",\"\",VLOOKUP($C118,INSCRITS!$D$4:$W$501,9,0))","v":""}]
[null,"SERIE 8",null,{"$f":"IF($C119=\"\",\"\",VLOOKUP($C119,INSCRITS!$D$4:$W$501,6,0))","v":""},{"$f":"IF($C119=\"\",\"\",VLOOKUP($C119,INSCRITS!$D$4:$W$501,7,0))","v":""},{"$f":"IF($C119=\"\",\"\",VLOOKUP($C119,INSCRITS!$D$4:$W$501,9,0))","v":""}]
[null,null,null,{"$f":"IF($C120=\"\",\"\",VLOOKUP($C120,INSCRITS!$D$4:$W$501,6,0))","v":""},{"$f":"IF($C120=\"\",\"\",VLOOKUP($C120,INSCRITS!$D$4:$W$501,7,0))","v":""},{"$f":"IF($C120=\"\",\"\",VLOOKUP($C120,INSCRITS!$D$4:$W$501,9,0))","v":""}]
[null,null,null,{"$f":"IF($C121=\"\",\"\",VLOOKUP($C121,INSCRITS!$D$4:$W$501,6,0))","v":""},{"$f":"IF($C121=\"\",\"\",VLOOKUP($C121,INSCRITS!$D$4:$W$501,7,0))","v":""},{"$f":"IF($C121=\"\",\"\",VLOOKUP($C121,INSCRITS!$D$4:$W$501,9,0))","v":""}]
[null,null,null,{"$f":"IF($C122=\"\",\"\",VLOOKUP($C122,INSCRITS!$D$4:$W$501,6,0))","v":""},{"$f":"IF($C122=\"\",\"\",VLOOKUP($C122,INSCRITS!$D$4:$W$501,7,0))","v":""},{"$f":"IF($C122=\"\",\"\",VLOOKUP($C122,INSCRITS!$D$4:$W$501,9,0))","v":""}]
[null,null,null,{"$f":"IF($C123=\"\",\"\",VLOOKUP($C123,INSCRITS!$D$4:$W$501,6,0))","v":""},{"$f":"IF($C123=\"\",\"\",VLOOKUP($C123,INSCRITS!$D$4:$W$501,7,0))","v":""},{"$f":"IF($C123=\"\",\"\",VLOOKUP($C123,INSCRITS!$D$4:$W$501,9,0))","v":""}]
[null,null,null,{"$f":"IF($C124=\"\",\"\",VLOOKUP($C124,INSCRITS!$D$4:$W$501,6,0))","v":""},{"$f":"IF($C124=\"\",\"\",VLOOKUP($C124,INSCRITS!$D$4:$W$501,7,0))","v":""},{"$f":"IF($C124=\"\",\"\",VLOOKUP($C124,INSCRITS!$D$4:$W$501,9,0))","v":""}]
[null,null,null,{"$f":"IF($C125=\"\",\"\",VLOOKUP($C125,INSCRITS!$D$4:$W$501,6,0))","v":""},{"$f":"IF($C125=\"\",\"\",VLOOKUP($C125,INSCRITS!$D$4:$W$501,7,0))","v":""},{"$f":"IF($C125=\"\",\"\",VLOOKUP($C125,INSCRITS!$D$4:$W$501,9,0))","v":""}]
[null,null,null,{"$f":"IF($C126=\"\",\"\",VLOOKUP($C126,INSCRITS!$D$4:$W$501,6,0))","v":""},{"$f":"IF($C126=\"\",\"\",VLOOKUP($C126,INSCRITS!$D$4:$W$501,7,0))","v":""},{"$f":"IF($C126=\"\",\"\",VLOOKUP($C126,INSCRITS!$D$4:$W$501,9,0))","v":""}]
[null,null,null,{"$f":"IF($C127=\"\",\"\",VLOOKUP($C127,INSCRITS!$D$4:$W$501,6,0))","v":""},{"$f":"IF($C127=\"\",\"\",VLOOKUP($C127,INSCRITS!$D$4:$W$501,7,0))","v":""},{"$f":"IF($C127=\"\",\"\",VLOOKUP($C127,INSCRITS!$D$4:$W$501,9,0))","v":""}]
[null,null,null,{"$f":"IF($C128=\"\",\"\",VLOOKUP($C128,INSCRITS!$D$4:$W$501,6,0))","v":""},{"$f":"IF($C128=\"\",\"\",VLOOKUP($C128,INSCRITS!$D$4:$W$501,7,0))","v":""},{"$f":"IF($C128=\"\",\"\",VLOOKUP($C128,INSCRITS!$D$4:$W$501,9,0))","v":""}]
[null,null,null,{"$f":"IF($C129=\"\",\"\",VLOOKUP($C129,INSCRITS!$D$4:$W$501,6,0))","v":""},{"$f":"IF($C129=\"\",\"\",VLOOKUP($C129,INSCRITS!$D$4:$W$501,7,0))","v":""},{"$f":"IF($C129=\"\",\"\",VLOOKUP($C129,INSCRITS!$D$4:$W$501,9,0))","v":""}]
[null,null,null,{"$f":"IF($C130=\"\",\"\",VLOOKUP($C130,INSCRITS!$D$4:$W$501,6,0))","v":""},{"$f":"IF($C130=\"\",\"\",VLOOKUP($C130,INSCRITS!$D$4:$W$501,7,0))","v":""},{"$f":"IF($C130=\"\",\"\",VLOOKUP($C130,INSCRITS!$D$4:$W$501,9,0))","v":""}]
[null,null,null,{"$f":"IF($C131=\"\",\"\",VLOOKUP($C131,INSCRITS!$D$4:$W$501,6,0))","v":""},{"$f":"IF($C131=\"\",\"\",VLOOKUP($C131,INSCRITS!$D$4:$W$501,7,0))","v":""},{"$f":"IF($C131=\"\",\"\",VLOOKUP($C131,INSCRITS!$D$4:$W$501,9,0))","v":""}]
[null,null,null,{"$f":"IF($C132=\"\",\"\",VLOOKUP($C132,INSCRITS!$D$4:$W$501,6,0))","v":""},{"$f":"IF($C132=\"\",\"\",VLOOKUP($C132,INSCRITS!$D$4:$W$501,7,0))","v":""},{"$f":"IF($C132=\"\",\"\",VLOOKUP($C132,INSCRITS!$D$4:$W$501,9,0))","v":""}]
[null,null,null,{"$f":"IF($C133=\"\",\"\",VLOOKUP($C133,INSCRITS!$D$4:$W$501,6,0))","v":""},{"$f":"IF($C133=\"\",\"\",VLOOKUP($C133,INSCRITS!$D$4:$W$501,7,0))","v":""},{"$f":"IF($C133=\"\",\"\",VLOOKUP($C133,INSCRITS!$D$4:$W$501,9,0))","v":""}]
[null,null,null,{"$f":"IF($C134=\"\",\"\",VLOOKUP($C134,INSCRITS!$D$4:$W$501,6,0))","v":""},{"$f":"IF($C134=\"\",\"\",VLOOKUP($C134,INSCRITS!$D$4:$W$501,7,0))","v":""},{"$f":"IF($C134=\"\",\"\",VLOOKUP($C134,INSCRITS!$D$4:$W$501,9,0))","v":""}]

{"sheet":"CNC","index":8,"n_rows":109,"n_cols":20,"rows_kept":109,"cut":false,"hidden":false,"merged":[[66,1,85,1],[6,1,35,1],[36,1,65,1],[6,12,41,12]]}
[]
[]
[null,"Séries CNC",null,null,null,null,null,null,null,null,null,null,null,"FINALE CNC"]
[null,"Messieurs",null,null,null,null,null,null,null,null,null,null,null,"Messieurs"]
[]
[]
[null,"SERIE 1",null,{"$f":"IF($C7=\"\",\"\",VLOOKUP($C7,INSCRITS!$D$4:$W$501,6,0))","v":""},{"$f":"IF($C7=\"\",\"\",VLOOKUP($C7,INSCRITS!$D$4:$W$501,7,0))","v":""},{"$f":"IF($C7=\"\",\"\",VLOOKUP($C7,INSCRITS!$D$4:$W$501,9,0))","v":""},null,null,null,null,null,null,"FINALE",128,{"$f":"IF($N7=\"\",\"\",VLOOKUP($N7,INSCRITS!$D$4:$W$501,6,0))","v":"CORBEL"},{"$f":"IF($N7=\"\",\"\",VLOOKUP($N7,INSCRITS!$D$4:$W$501,7,0))","v":"Yann"},{"$f":"IF($N7=\"\",\"\",VLOOKUP($N7,INSCRITS!$D$4:$W$501,9,0))","v":"ASCE DINARD"},null,1,{"$f":"IF(S7=\"\",\"\",VLOOKUP(S7,points,2))","v":20}]
[null,null,null,{"$f":"IF($C8=\"\",\"\",VLOOKUP($C8,INSCRITS!$D$4:$W$501,6,0))","v":""},{"$f":"IF($C8=\"\",\"\",VLOOKUP($C8,INSCRITS!$D$4:$W$501,7,0))","v":""},{"$f":"IF($C8=\"\",\"\",VLOOKUP($C8,INSCRITS!$D$4:$W$501,9,0))","v":""},null,null,null,null,null,null,null,149,{"$f":"IF($N8=\"\",\"\",VLOOKUP($N8,INSCRITS!$D$4:$W$501,6,0))","v":"CABROL"},{"$f":"IF($N8=\"\",\"\",VLOOKUP($N8,INSCRITS!$D$4:$W$501,7,0))","v":"Xavier"},{"$f":"IF($N8=\"\",\"\",VLOOKUP($N8,INSCRITS!$D$4:$W$501,9,0))","v":"ENA"},null,2,18]
[null,null,null,{"$f":"IF($C9=\"\",\"\",VLOOKUP($C9,INSCRITS!$D$4:$W$501,6,0))","v":""},{"$f":"IF($C9=\"\",\"\",VLOOKUP($C9,INSCRITS!$D$4:$W$501,7,0))","v":""},{"$f":"IF($C9=\"\",\"\",VLOOKUP($C9,INSCRITS!$D$4:$W$501,9,0))","v":""},null,null,null,null,null,null,null,123,{"$f":"IF($N9=\"\",\"\",VLOOKUP($N9,INSCRITS!$D$4:$W$501,6,0))","v":"VANDENBERGHE"},{"$f":"IF($N9=\"\",\"\",VLOOKUP($N9,INSCRITS!$D$4:$W$501,7,0))","v":"Sébastien"},{"$f":"IF($N9=\"\",\"\",VLOOKUP($N9,INSCRITS!$D$4:$W$501,9,0))","v":"ANV"},null,3,16]
[null,null,null,{"$f":"IF($C10=\"\",\"\",VLOOKUP($C10,INSCRITS!$D$4:$W$501,6,0))","v":""},{"$f":"IF($C10=\"\",\"\",VLOOKUP($C10,INSCRITS!$D$4:$W$501,7,0))","v":""},{"$f":"IF($C10=\"\",\"\",VLOOKUP($C10,INSCRITS!$D$4:$W$501,9,0))","v":""},null,null,null,null,null,null,null,150,{"$f":"IF($N10=\"\",\"\",VLOOKUP($N10,INSCRITS!$D$4:$W$501,6,0))","v":"MATHIEU"},{"$f":"IF($N10=\"\",\"\",VLOOKUP($N10,INSCRITS!$D$4:$W$501,7,0))","v":"Simon"},{"$f":"IF($N10=\"\",\"\",VLOOKUP($N10,INSCRITS!$D$4:$W$501,9,0))","v":"ENA"},null,4,14]
[null,null,null,{"$f":"IF($C11=\"\",\"\",VLOOKUP($C11,INSCRITS!$D$4:$W$501,6,0))","v":""},{"$f":"IF($C11=\"\",\"\",VLOOKUP($C11,INSCRITS!$D$4:$W$501,7,0))","v":""},{"$f":"IF($C11=\"\",\"\",VLOOKUP($C11,INSCRITS!$D$4:$W$501,9,0))","v":""},null,null,null,null,null,null,null,126,{"$f":"IF($N11=\"\",\"\",VLOOKUP($N11,INSCRITS!$D$4:$W$501,6,0))","v":"PLESSIS"},{"$f":"IF($N11=\"\",\"\",VLOOKUP($N11,INSCRITS!$D$4:$W$501,7,0))","v":"Quentin"},{"$f":"IF($N11=\"\",\"\",VLOOKUP($N11,INSCRITS!$D$4:$W$501,9,0))","v":"AQUALOVE"},null,5,13]
[null,null,null,{"$f":"IF($C12=\"\",\"\",VLOOKUP($C12,INSCRITS!$D$4:$W$501,6,0))","v":""},{"$f":"IF($C12=\"\",\"\",VLOOKUP($C12,INSCRITS!$D$4:$W$501,7,0))","v":""},{"$f":"IF($C12=\"\",\"\",VLOOKUP($C12,INSCRITS!$D$4:$W$501,9,0))","v":""},null,null,null,null,null,null,null,138,{"$f":"IF($N12=\"\",\"\",VLOOKUP($N12,INSCRITS!$D$4:$W$501,6,0))","v":"LABAT"},{"$f":"IF($N12=\"\",\"\",VLOOKUP($N12,INSCRITS!$D$4:$W$501,7,0))","v":"Maxime"},{"$f":"IF($N12=\"\",\"\",VLOOKUP($N12,INSCRITS!$D$4:$W$501,9,0))","v":"Biarritz SC"},null,6,12]
[null,null,null,{"$f":"IF($C13=\"\",\"\",VLOOKUP($C13,INSCRITS!$D$4:$W$501,6,0))","v":""},{"$f":"IF($C13=\"\",\"\",VLOOKUP($C13,INSCRITS!$D$4:$W$501,7,0))","v":""},{"$f":"IF($C13=\"\",\"\",VLOOKUP($C13,INSCRITS!$D$4:$W$501,9,0))","v":""},null,null,null,null,null,null,null,152,{"$f":"IF($N13=\"\",\"\",VLOOKUP($N13,INSCRITS!$D$4:$W$501,6,0))","v":"CIER"},{"$f":"IF($N13=\"\",\"\",VLOOKUP($N13,INSCRITS!$D$4:$W$501,7,0))","v":"Jules"},{"$f":"IF($N13=\"\",\"\",VLOOKUP($N13,INSCRITS!$D$4:$W$501,9,0))","v":"HSC"},null,7,11]
[null,null,null,{"$f":"IF($C14=\"\",\"\",VLOOKUP($C14,INSCRITS!$D$4:$W$501,6,0))","v":""},{"$f":"IF($C14=\"\",\"\",VLOOKUP($C14,INSCRITS!$D$4:$W$501,7,0))","v":""},{"$f":"IF($C14=\"\",\"\",VLOOKUP($C14,INSCRITS!$D$4:$W$501,9,0))","v":""},null,null,null,null,null,null,null,121,{"$f":"IF($N14=\"\",\"\",VLOOKUP($N14,INSCRITS!$D$4:$W$501,6,0))","v":"COSSART"},{"$f":"IF($N14=\"\",\"\",VLOOKUP($N14,INSCRITS!$D$4:$W$501,7,0))","v":"Théo"},{"$f":"IF($N14=\"\",\"\",VLOOKUP($N14,INSCRITS!$D$4:$W$501,9,0))","v":"Amiens sauvetage"},null,8,10]
[null,null,null,{"$f":"IF($C15=\"\",\"\",VLOOKUP($C15,INSCRITS!$D$4:$W$501,6,0))","v":""},{"$f":"IF($C15=\"\",\"\",VLOOKUP($C15,INSCRITS!$D$4:$W$501,7,0))","v":""},{"$f":"IF($C15=\"\",\"\",VLOOKUP($C15,INSCRITS!$D$4:$W$501,9,0))","v":""},null,null,null,null,null,null,null,124,{"$f":"IF($N15=\"\",\"\",VLOOKUP($N15,INSCRITS!$D$4:$W$501,6,0))","v":"ALARCON"},{"$f":"IF($N15=\"\",\"\",VLOOKUP($N15,INSCRITS!$D$4:$W$501,7,0))","v":"Benjamin"},{"$f":"IF($N15=\"\",\"\",VLOOKUP($N15,INSCRITS!$D$4:$W$501,9,0))","v":"AQUALOVE"},null,9,8]
[null,null,null,{"$f":"IF($C16=\"\",\"\",VLOOKUP($C16,INSCRITS!$D$4:$W$501,6,0))","v":""},{"$f":"IF($C16=\"\",\"\",VLOOKUP($C16,INSCRITS!$D$4:$W$501,7,0))","v":""},{"$f":"IF($C16=\"\",\"\",VLOOKUP($C16,INSCRITS!$D$4:$W$501,9,0))","v":""},null,null,null,null,null,null,null,153,{"$f":"IF($N16=\"\",\"\",VLOOKUP($N16,INSCRITS!$D$4:$W$501,6,0))","v":"TISSIER"},{"$f":"IF($N16=\"\",\"\",VLOOKUP($N16,INSCRITS!$D$4:$W$501,7,0))","v":"Mael"},{"$f":"IF($N16=\"\",\"\",VLOOKUP($N16,INSCRITS!$D$4:$W$501,9,0))","v":"HSC"},null,10,7]
[null,null,null,{"$f":"IF($C17=\"\",\"\",VLOOKUP($C17,INSCRITS!$D$4:$W$501,6,0))","v":""},{"$f":"IF($C17=\"\",\"\",VLOOKUP($C17,INSCRITS!$D$4:$W$501,7,0))","v":""},{"$f":"IF($C17=\"\",\"\",VLOOKUP($C17,INSCRITS!$D$4:$W$501,9,0))","v":""},null,null,null,null,null,null,null,135,{"$f":"IF($N17=\"\",\"\",VLOOKUP($N17,INSCRITS!$D$4:$W$501,6,0))","v":"DE SAINT BLANQUAT"},{"$f":"IF($N17=\"\",\"\",VLOOKUP($N17,INSCRITS!$D$4:$W$501,7,0))","v":"Thomas"},{"$f":"IF($N17=\"\",\"\",VLOOKUP($N17,INSCRITS!$D$4:$W$501,9,0))","v":"Biarritz SC"},null,11,6]
[null,null,null,{"$f":"IF($C18=\"\",\"\",VLOOKUP($C18,INSCRITS!$D$4:$W$501,6,0))","v":""},{"$f":"IF($C18=\"\",\"\",VLOOKUP($C18,INSCRITS!$D$4:$W$501,7,0))","v":""},{"$f":"IF($C18=\"\",\"\",VLOOKUP($C18,INSCRITS!$D$4:$W$501,9,0))","v":""},null,null,null,null,null,null,null,147,{"$f":"IF($N18=\"\",\"\",VLOOKUP($N18,INSCRITS!$D$4:$W$501,6,0))","v":"WAGNER"},{"$f":"IF($N18=\"\",\"\",VLOOKUP($N18,INSCRITS!$D$4:$W$501,7,0))","v":"Florian"},{"$f":"IF($N18=\"\",\"\",VLOOKUP($N18,INSCRITS!$D$4:$W$501,9,0))","v":"COLMAR ACSS"},null,12,5]
[null,null,null,{"$f":"IF($C19=\"\",\"\",VLOOKUP($C19,INSCRITS!$D$4:$W$501,6,0))","v":""},{"$f":"IF($C19=\"\",\"\",VLOOKUP($C19,INSCRITS!$D$4:$W$501,7,0))","v":""},{"$f":"IF($C19=\"\",\"\",VLOOKUP($C19,INSCRITS!$D$4:$W$501,9,0))","v":""},null,null,null,null,null,null,null,154,{"$f":"IF($N19=\"\",\"\",VLOOKUP($N19,INSCRITS!$D$4:$W$501,6,0))","v":"LAUSSU"},{"$f":"IF($N19=\"\",\"\",VLOOKUP($N19,INSCRITS!$D$4:$W$501,7,0))","v":"Quentin"},{"$f":"IF($N19=\"\",\"\",VLOOKUP($N19,INSCRITS!$D$4:$W$501,9,0))","v":"lit et mixe"},null,13,4]
[null,null,null,{"$f":"IF($C20=\"\",\"\",VLOOKUP($C20,INSCRITS!$D$4:$W$501,6,0))","v":""},{"$f":"IF($C20=\"\",\"\",VLOOKUP($C20,INSCRITS!$D$4:$W$501,7,0))","v":""},{"$f":"IF($C20=\"\",\"\",VLOOKUP($C20,INSCRITS!$D$4:$W$501,9,0))","v":""},null,null,null,null,null,null,null,160,{"$f":"IF($N20=\"\",\"\",VLOOKUP($N20,INSCRITS!$D$4:$W$501,6,0))","v":"PANIS"},{"$f":"IF($N20=\"\",\"\",VLOOKUP($N20,INSCRITS!$D$4:$W$501,7,0))","v":"Valentin"},{"$f":"IF($N20=\"\",\"\",VLOOKUP($N20,INSCRITS!$D$4:$W$501,9,0))","v":"TOULOUSE CST"},null,14,3]
[null,null,null,{"$f":"IF($C21=\"\",\"\",VLOOKUP($C21,INSCRITS!$D$4:$W$501,6,0))","v":""},{"$f":"IF($C21=\"\",\"\",VLOOKUP($C21,INSCRITS!$D$4:$W$501,7,0))","v":""},{"$f":"IF($C21=\"\",\"\",VLOOKUP($C21,INSCRITS!$D$4:$W$501,9,0))","v":""},null,null,null,null,null,null,null,125,{"$f":"IF($N21=\"\",\"\",VLOOKUP($N21,INSCRITS!$D$4:$W$501,6,0))","v":"EL KHATIR"},{"$f":"IF($N21=\"\",\"\",VLOOKUP($N21,INSCRITS!$D$4:$W$501,7,0))","v":"Younes"},{"$f":"IF($N21=\"\",\"\",VLOOKUP($N21,INSCRITS!$D$4:$W$501,9,0))","v":"AQUALOVE"},null,15,2]
[null,null,null,{"$f":"IF($C22=\"\",\"\",VLOOKUP($C22,INSCRITS!$D$4:$W$501,6,0))","v":""},{"$f":"IF($C22=\"\",\"\",VLOOKUP($C22,INSCRITS!$D$4:$W$501,7,0))","v":""},{"$f":"IF($C22=\"\",\"\",VLOOKUP($C22,INSCRITS!$D$4:$W$501,9,0))","v":""},null,null,null,null,null,null,null,158,{"$f":"IF($N22=\"\",\"\",VLOOKUP($N22,INSCRITS!$D$4:$W$501,6,0))","v":"PINTORI"},{"$f":"IF($N22=\"\",\"\",VLOOKUP($N22,INSCRITS!$D$4:$W$501,7,0))","v":"Luc"},{"$f":"IF($N22=\"\",\"\",VLOOKUP($N22,INSCRITS!$D$4:$W$501,9,0))","v":"MNSL"},null,16,1]
[null,null,null,{"$f":"IF($C23=\"\",\"\",VLOOKUP($C23,INSCRITS!$D$4:$W$501,6,0))","v":""},{"$f":"IF($C23=\"\",\"\",VLOOKUP($C23,INSCRITS!$D$4:$W$501,7,0))","v":""},{"$f":"IF($C23=\"\",\"\",VLOOKUP($C23,INSCRITS!$D$4:$W$501,9,0))","v":""},null,null,null,null,null,null,null,151,{"$f":"IF($N23=\"\",\"\",VLOOKUP($N23,INSCRITS!$D$4:$W$501,6,0))","v":"AMAUGER"},{"$f":"IF($N23=\"\",\"\",VLOOKUP($N23,INSCRITS!$D$4:$W$501,7,0))","v":"Valentin"},{"$f":"IF($N23=\"\",\"\",VLOOKUP($N23,INSCRITS!$D$4:$W$501,9,0))","v":"HSC"},null,"ABD",0]
[null,null,null,{"$f":"IF($C24=\"\",\"\",VLOOKUP($C24,INSCRITS!$D$4:$W$501,6,0))","v":""},{"$f":"IF($C24=\"\",\"\",VLOOKUP($C24,INSCRITS!$D$4:$W$501,7,0))","v":""},{"$f":"IF($C24=\"\",\"\",VLOOKUP($C24,INSCRITS!$D$4:$W$501,9,0))","v":""},null,null,null,null,null,null,null,156,{"$f":"IF($N24=\"\",\"\",VLOOKUP($N24,INSCRITS!$D$4:$W$501,6,0))","v":"FORSANS"},{"$f":"IF($N24=\"\",\"\",VLOOKUP($N24,INSCRITS!$D$4:$W$501,7,0))","v":"Remy"},{"$f":"IF($N24=\"\",\"\",VLOOKUP($N24,INSCRITS!$D$4:$W$501,9,0))","v":"MNSL"},null,"NC",0]
[null,null,null,{"$f":"IF($C25=\"\",\"\",VLOOKUP($C25,INSCRITS!$D$4:$W$501,6,0))","v":""},{"$f":"IF($C25=\"\",\"\",VLOOKUP($C25,INSCRITS!$D$4:$W$501,7,0))","v":""},{"$f":"IF($C25=\"\",\"\",VLOOKUP($C25,INSCRITS!$D$4:$W$501,9,0))","v":""},null,null,null,null,null,null,null,142,{"$f":"IF($N25=\"\",\"\",VLOOKUP($N25,INSCRITS!$D$4:$W$501,6,0))","v":"PERRIN"},{"$f":"IF($N25=\"\",\"\",VLOOKUP($N25,INSCRITS!$D$4:$W$501,7,0))","v":"Hugo"},{"$f":"IF($N25=\"\",\"\",VLOOKUP($N25,INSCRITS!$D$4:$W$501,9,0))","v":"BOSS"},null,"NC",0]
[null,null,null,{"$f":"IF($C26=\"\",\"\",VLOOKUP($C26,INSCRITS!$D$4:$W$501,6,0))","v":""},{"$f":"IF($C26=\"\",\"\",VLOOKUP($C26,INSCRITS!$D$4:$W$501,7,0))","v":""},{"$f":"IF($C26=\"\",\"\",VLOOKUP($C26,INSCRITS!$D$4:$W$501,9,0))","v":""},null,null,null,null,null,null,null,129,{"$f":"IF($N26=\"\",\"\",VLOOKUP($N26,INSCRITS!$D$4:$W$501,6,0))","v":"LEBRET"},{"$f":"IF($N26=\"\",\"\",VLOOKUP($N26,INSCRITS!$D$4:$W$501,7,0))","v":"Samuel"},{"$f":"IF($N26=\"\",\"\",VLOOKUP($N26,INSCRITS!$D$4:$W$501,9,0))","v":"ASCE DINARD "},null,"NC",0]
[null,null,null,{"$f":"IF($C27=\"\",\"\",VLOOKUP($C27,INSCRITS!$D$4:$W$501,6,0))","v":""},{"$f":"IF($C27=\"\",\"\",VLOOKUP($C27,INSCRITS!$D$4:$W$501,7,0))","v":""},{"$f":"IF($C27=\"\",\"\",VLOOKUP($C27,INSCRITS!$D$4:$W$501,9,0))","v":""},null,null,null,null,null,null,null,137,{"$f":"IF($N27=\"\",\"\",VLOOKUP($N27,INSCRITS!$D$4:$W$501,6,0))","v":"GAUDIN"},{"$f":"IF($N27=\"\",\"\",VLOOKUP($N27,INSCRITS!$D$4:$W$501,7,0))","v":"Arnaud"},{"$f":"IF($N27=\"\",\"\",VLOOKUP($N27,INSCRITS!$D$4:$W$501,9,0))","v":"Biarritz SC"},null,"NC",0]
[null,null,null,{"$f":"IF($C28=\"\",\"\",VLOOKUP($C28,INSCRITS!$D$4:$W$501,6,0))","v":""},{"$f":"IF($C28=\"\",\"\",VLOOKUP($C28,INSCRITS!$D$4:$W$501,7,0))","v":""},{"$f":"IF($C28=\"\",\"\",VLOOKUP($C28,INSCRITS!$D$4:$W$501,9,0))","v":""},null,null,null,null,null,null,null,136,{"$f":"IF($N28=\"\",\"\",VLOOKUP($N28,INSCRITS!$D$4:$W$501,6,0))","v":"DUCOUDRET"},{"$f":"IF($N28=\"\",\"\",VLOOKUP($N28,INSCRITS!$D$4:$W$501,7,0))","v":"Arnaud"},{"$f":"IF($N28=\"\",\"\",VLOOKUP($N28,INSCRITS!$D$4:$W$501,9,0))","v":"Biarritz SC"},null,"NC",0]
[null,null,null,{"$f":"IF($C29=\"\",\"\",VLOOKUP($C29,INSCRITS!$D$4:$W$501,6,0))","v":""},{"$f":"IF($C29=\"\",\"\",VLOOKUP($C29,INSCRITS!$D$4:$W$501,7,0))","v":""},{"$f":"IF($C29=\"\",\"\",VLOOKUP($C29,INSCRITS!$D$4:$W$501,9,0))","v":""},null,null,null,null,null,null,null,145,{"$f":"IF($N29=\"\",\"\",VLOOKUP($N29,INSCRITS!$D$4:$W$501,6,0))","v":"VECCHINI"},{"$f":"IF($N29=\"\",\"\",VLOOKUP($N29,INSCRITS!$D$4:$W$501,7,0))","v":"Thierry"},{"$f":"IF($N29=\"\",\"\",VLOOKUP($N29,INSCRITS!$D$4:$W$501,9,0))","v":"Cannes Sauvetage Côtier"},null,"NC",0]
[null,null,null,{"$f":"IF($C30=\"\",\"\",VLOOKUP($C30,INSCRITS!$D$4:$W$501,6,0))","v":""},{"$f":"IF($C30=\"\",\"\",VLOOKUP($C30,INSCRITS!$D$4:$W$501,7,0))","v":""},{"$f":"IF($C30=\"\",\"\",VLOOKUP($C30,INSCRITS!$D$4:$W$501,9,0))","v":""},null,null,null,null,null,null,null,127,{"$f":"IF($N30=\"\",\"\",VLOOKUP($N30,INSCRITS!$D$4:$W$501,6,0))","v":"CADOT"},{"$f":"IF($N30=\"\",\"\",VLOOKUP($N30,INSCRITS!$D$4:$W$501,7,0))","v":"François"},{"$f":"IF($N30=\"\",\"\",VLOOKUP($N30,INSCRITS!$D$4:$W$501,9,0))","v":"ASCE DINARD"},null,"NC",0]
[null,null,null,{"$f":"IF($C31=\"\",\"\",VLOOKUP($C31,INSCRITS!$D$4:$W$501,6,0))","v":""},{"$f":"IF($C31=\"\",\"\",VLOOKUP($C31,INSCRITS!$D$4:$W$501,7,0))","v":""},{"$f":"IF($C31=\"\",\"\",VLOOKUP($C31,INSCRITS!$D$4:$W$501,9,0))","v":""},null,null,null,null,null,null,null,141,{"$f":"IF($N31=\"\",\"\",VLOOKUP($N31,INSCRITS!$D$4:$W$501,6,0))","v":"LAUBUGE"},{"$f":"IF($N31=\"\",\"\",VLOOKUP($N31,INSCRITS!$D$4:$W$501,7,0))","v":"Nathanael"},{"$f":"IF($N31=\"\",\"\",VLOOKUP($N31,INSCRITS!$D$4:$W$501,9,0))","v":"BOSS"},null,"NC",0]
[null,null,null,{"$f":"IF($C32=\"\",\"\",VLOOKUP($C32,INSCRITS!$D$4:$W$501,6,0))","v":""},{"$f":"IF($C32=\"\",\"\",VLOOKUP($C32,INSCRITS!$D$4:$W$501,7,0))","v":""},{"$f":"IF($C32=\"\",\"\",VLOOKUP($C32,INSCRITS!$D$4:$W$501,9,0))","v":""},null,null,null,null,null,null,null,130,{"$f":"IF($N32=\"\",\"\",VLOOKUP($N32,INSCRITS!$D$4:$W$501,6,0))","v":"DUFFAUD"},{"$f":"IF($N32=\"\",\"\",VLOOKUP($N32,INSCRITS!$D$4:$W$501,7,0))","v":"Simon"},{"$f":"IF($N32=\"\",\"\",VLOOKUP($N32,INSCRITS!$D$4:$W$501,9,0))","v":"BEGLES"},null,"NC",0]
[null,null,null,{"$f":"IF($C33=\"\",\"\",VLOOKUP($C33,INSCRITS!$D$4:$W$501,6,0))","v":""},{"$f":"IF($C33=\"\",\"\",VLOOKUP($C33,INSCRITS!$D$4:$W$501,7,0))","v":""},{"$f":"IF($C33=\"\",\"\",VLOOKUP($C33,INSCRITS!$D$4:$W$501,9,0))","v":""},null,null,null,null,null,null,null,139,{"$f":"IF($N33=\"\",\"\",VLOOKUP($N33,INSCRITS!$D$4:$W$501,6,0))","v":"PUYAU"},{"$f":"IF($N33=\"\",\"\",VLOOKUP($N33,INSCRITS!$D$4:$W$501,7,0))","v":"Pierre"},{"$f":"IF($N33=\"\",\"\",VLOOKUP($N33,INSCRITS!$D$4:$W$501,9,0))","v":"Biarritz SC"},null,"NC",0]
[null,null,null,{"$f":"IF($C34=\"\",\"\",VLOOKUP($C34,INSCRITS!$D$4:$W$501,6,0))","v":""},{"$f":"IF($C34=\"\",\"\",VLOOKUP($C34,INSCRITS!$D$4:$W$501,7,0))","v":""},{"$f":"IF($C34=\"\",\"\",VLOOKUP($C34,INSCRITS!$D$4:$W$501,9,0))","v":""},null,null,null,null,null,null,null,133,{"$f":"IF($N34=\"\",\"\",VLOOKUP($N34,INSCRITS!$D$4:$W$501,6,0))","v":"SOLABERRIETA"},{"$f":"IF($N34=\"\",\"\",VLOOKUP($N34,INSCRITS!$D$4:$W$501,7,0))","v":"Jean"},{"$f":"IF($N34=\"\",\"\",VLOOKUP($N34,INSCRITS!$D$4:$W$501,9,0))","v":"BELHARRA WC"},null,"NC",0]
[null,null,null,{"$f":"IF($C35=\"\",\"\",VLOOKUP($C35,INSCRITS!$D$4:$W$501,6,0))","v":""},{"$f":"IF($C35=\"\",\"\",VLOOKUP($C35,INSCRITS!$D$4:$W$501,7,0))","v":""},{"$f":"IF($C35=\"\",\"\",VLOOKUP($C35,INSCRITS!$D$4:$W$501,9,0))","v":""},null,null,null,null,null,null,null,157,{"$f":"IF($N35=\"\",\"\",VLOOKUP($N35,INSCRITS!$D$4:$W$501,6,0))","v":"KOZARD"},{"$f":"IF($N35=\"\",\"\",VLOOKUP($N35,INSCRITS!$D$4:$W$501,7,0))","v":"Pierre-Antoine"},{"$f":"IF($N35=\"\",\"\",VLOOKUP($N35,INSCRITS!$D$4:$W$501,9,0))","v":"MNSL"},null,"NC",0]
[null,null,null,{"$f":"IF($C36=\"\",\"\",VLOOKUP($C36,INSCRITS!$D$4:$W$501,6,0))","v":""},{"$f":"IF($C36=\"\",\"\",VLOOKUP($C36,INSCRITS!$D$4:$W$501,7,0))","v":""},{"$f":"IF($C36=\"\",\"\",VLOOKUP($C36,INSCRITS!$D$4:$W$501,9,0))","v":""},null,null,null,null,null,null,null,148,{"$f":"IF($N36=\"\",\"\",VLOOKUP($N36,INSCRITS!$D$4:$W$501,6,0))","v":"CAZAUX"},{"$f":"IF($N36=\"\",\"\",VLOOKUP($N36,INSCRITS!$D$4:$W$501,7,0))","v":"Loïc"},{"$f":"IF($N36=\"\",\"\",VLOOKUP($N36,INSCRITS!$D$4:$W$501,9,0))","v":"CSSM"},null,"NC",0]
[null,"SERIE 2",null,{"$f":"IF($C37=\"\",\"\",VLOOKUP($C37,INSCRITS!$D$4:$W$501,6,0))","v":""},{"$f":"IF($C37=\"\",\"\",VLOOKUP($C37,INSCRITS!$D$4:$W$501,7,0))","v":""},{"$f":"IF($C37=\"\",\"\",VLOOKUP($C37,INSCRITS!$D$4:$W$501,9,0))","v":""},null,null,null,null,null,null,null,122,{"$f":"IF($N37=\"\",\"\",VLOOKUP($N37,INSCRITS!$D$4:$W$501,6,0))","v":"LAVALLARD"},{"$f":"IF($N37=\"\",\"\",VLOOKUP($N37,INSCRITS!$D$4:$W$501,7,0))","v":"Logan"},{"$f":"IF($N37=\"\",\"\",VLOOKUP($N37,INSCRITS!$D$4:$W$501,9,0))","v":"Amiens sauvetage"},null,"NC",0]
[null,null,null,{"$f":"IF($C38=\"\",\"\",VLOOKUP($C38,INSCRITS!$D$4:$W$501,6,0))","v":""},{"$f":"IF($C38=\"\",\"\",VLOOKUP($C38,INSCRITS!$D$4:$W$501,7,0))","v":""},{"$f":"IF($C38=\"\",\"\",VLOOKUP($C38,INSCRITS!$D$4:$W$501,9,0))","v":""},null,null,null,null,null,null,null,144,{"$f":"IF($N38=\"\",\"\",VLOOKUP($N38,INSCRITS!$D$4:$W$501,6,0))","v":"LICARI"},{"$f":"IF($N38=\"\",\"\",VLOOKUP($N38,INSCRITS!$D$4:$W$501,7,0))","v":"Arnaud"},{"$f":"IF($N38=\"\",\"\",VLOOKUP($N38,INSCRITS!$D$4:$W$501,9,0))","v":"Cannes Sauvetage Côtier"},null,"NC",0]
[null,null,null,{"$f":"IF($C39=\"\",\"\",VLOOKUP($C39,INSCRITS!$D$4:$W$501,6,0))","v":""},{"$f":"IF($C39=\"\",\"\",VLOOKUP($C39,INSCRITS!$D$4:$W$501,7,0))","v":""},{"$f":"IF($C39=\"\",\"\",VLOOKUP($C39,INSCRITS!$D$4:$W$501,9,0))","v":""},null,null,null,null,null,null,null,132,{"$f":"IF($N39=\"\",\"\",VLOOKUP($N39,INSCRITS!$D$4:$W$501,6,0))","v":"ARTOLA"},{"$f":"IF($N39=\"\",\"\",VLOOKUP($N39,INSCRITS!$D$4:$W$501,7,0))","v":"Bixente"},{"$f":"IF($N39=\"\",\"\",VLOOKUP($N39,INSCRITS!$D$4:$W$501,9,0))","v":"BELHARRA WC"},null,"NC",0]
[null,null,null,{"$f":"IF($C40=\"\",\"\",VLOOKUP($C40,INSCRITS!$D$4:$W$501,6,0))","v":""},{"$f":"IF($C40=\"\",\"\",VLOOKUP($C40,INSCRITS!$D$4:$W$501,7,0))","v":""},{"$f":"IF($C40=\"\",\"\",VLOOKUP($C40,INSCRITS!$D$4:$W$501,9,0))","v":""},null,null,null,null,null,null,null,146,{"$f":"IF($N40=\"\",\"\",VLOOKUP($N40,INSCRITS!$D$4:$W$501,6,0))","v":"DEMBLOCQUE"},{"$f":"IF($N40=\"\",\"\",VLOOKUP($N40,INSCRITS!$D$4:$W$501,7,0))","v":"Théo"},{"$f":"IF($N40=\"\",\"\",VLOOKUP($N40,INSCRITS!$D$4:$W$501,9,0))","v":"Capbreton"},null,"NC",0]
[null,null,null,{"$f":"IF($C41=\"\",\"\",VLOOKUP($C41,INSCRITS!$D$4:$W$501,6,0))","v":""},{"$f":"IF($C41=\"\",\"\",VLOOKUP($C41,INSCRITS!$D$4:$W$501,7,0))","v":""},{"$f":"IF($C41=\"\",\"\",VLOOKUP($C41,INSCRITS!$D$4:$W$501,9,0))","v":""},null,null,null,null,null,null,null,null,{"$f":"IF($N41=\"\",\"\",VLOOKUP($N41,INSCRITS!$D$4:$W$501,6,0))","v":""},{"$f":"IF($N41=\"\",\"\",VLOOKUP($N41,INSCRITS!$D$4:$W$501,7,0))","v":""},{"$f":"IF($N41=\"\",\"\",VLOOKUP($N41,INSCRITS!$D$4:$W$501,9,0))","v":""},null,null,""]
[null,null,null,{"$f":"IF($C42=\"\",\"\",VLOOKUP($C42,INSCRITS!$D$4:$W$501,6,0))","v":""},{"$f":"IF($C42=\"\",\"\",VLOOKUP($C42,INSCRITS!$D$4:$W$501,7,0))","v":""},{"$f":"IF($C42=\"\",\"\",VLOOKUP($C42,INSCRITS!$D$4:$W$501,9,0))","v":""},null,null,null,null,null,null,null,null,{"$f":"IF($N42=\"\",\"\",VLOOKUP($N42,INSCRITS!$D$4:$W$501,6,0))","v":""},{"$f":"IF($N42=\"\",\"\",VLOOKUP($N42,INSCRITS!$D$4:$W$501,7,0))","v":""},{"$f":"IF($N42=\"\",\"\",VLOOKUP($N42,INSCRITS!$D$4:$W$501,9,0))","v":""},null,null,""]
[null,null,null,{"$f":"IF($C43=\"\",\"\",VLOOKUP($C43,INSCRITS!$D$4:$W$501,6,0))","v":""},{"$f":"IF($C43=\"\",\"\",VLOOKUP($C43,INSCRITS!$D$4:$W$501,7,0))","v":""},{"$f":"IF($C43=\"\",\"\",VLOOKUP($C43,INSCRITS!$D$4:$W$501,9,0))","v":""},null,null,null,null,null,null,null,null,{"$f":"IF($N43=\"\",\"\",VLOOKUP($N43,INSCRITS!$D$4:$W$501,6,0))","v":""},{"$f":"IF($N43=\"\",\"\",VLOOKUP($N43,INSCRITS!$D$4:$W$501,7,0))","v":""},{"$f":"IF($N43=\"\",\"\",VLOOKUP($N43,INSCRITS!$D$4:$W$501,9,0))","v":""},null,null,""]
[null,null,null,{"$f":"IF($C44=\"\",\"\",VLOOKUP($C44,INSCRITS!$D$4:$W$501,6,0))","v":""},{"$f":"IF($C44=\"\",\"\",VLOOKUP($C44,INSCRITS!$D$4:$W$501,7,0))","v":""},{"$f":"IF($C44=\"\",\"\",VLOOKUP($C44,INSCRITS!$D$4:$W$501,9,0))","v":""},null,null,null,null,null,null,null,null,{"$f":"IF($N44=\"\",\"\",VLOOKUP($N44,INSCRITS!$D$4:$W$501,6,0))","v":""},{"$f":"IF($N44=\"\",\"\",VLOOKUP($N44,INSCRITS!$D$4:$W$501,7,0))","v":""},{"$f":"IF($N44=\"\",\"\",VLOOKUP($N44,INSCRITS!$D$4:$W$501,9,0))","v":""},null,null,""]
[null,null,null,{"$f":"IF($C45=\"\",\"\",VLOOKUP($C45,INSCRITS!$D$4:$W$501,6,0))","v":""},{"$f":"IF($C45=\"\",\"\",VLOOKUP($C45,INSCRITS!$D$4:$W$501,7,0))","v":""},{"$f":"IF($C45=\"\",\"\",VLOOKUP($C45,INSCRITS!$D$4:$W$501,9,0))","v":""},null,null,null,null,null,null,null,null,{"$f":"IF($N45=\"\",\"\",VLOOKUP($N45,INSCRITS!$D$4:$W$501,6,0))","v":""},{"$f":"IF($N45=\"\",\"\",VLOOKUP($N45,INSCRITS!$D$4:$W$501,7,0))","v":""},{"$f":"IF($N45=\"\",\"\",VLOOKUP($N45,INSCRITS!$D$4:$W$501,9,0))","v":""},null,null,""]
[null,null,null,{"$f":"IF($C46=\"\",\"\",VLOOKUP($C46,INSCRITS!$D$4:$W$501,6,0))","v":""},{"$f":"IF($C46=\"\",\"\",VLOOKUP($C46,INSCRITS!$D$4:$W$501,7,0))","v":""},{"$f":"IF($C46=\"\",\"\",VLOOKUP($C46,INSCRITS!$D$4:$W$501,9,0))","v":""},null,null,null,null,null,null,null,null,{"$f":"IF($N46=\"\",\"\",VLOOKUP($N46,INSCRITS!$D$4:$W$501,6,0))","v":""},{"$f":"IF($N46=\"\",\"\",VLOOKUP($N46,INSCRITS!$D$4:$W$501,7,0))","v":""},{"$f":"IF($N46=\"\",\"\",VLOOKUP($N46,INSCRITS!$D$4:$W$501,9,0))","v":""},null,null,""]
[null,null,null,{"$f":"IF($C47=\"\",\"\",VLOOKUP($C47,INSCRITS!$D$4:$W$501,6,0))","v":""},{"$f":"IF($C47=\"\",\"\",VLOOKUP($C47,INSCRITS!$D$4:$W$501,7,0))","v":""},{"$f":"IF($C47=\"\",\"\",VLOOKUP($C47,INSCRITS!$D$4:$W$501,9,0))","v":""},null,null,null,null,null,null,null,null,{"$f":"IF($N47=\"\",\"\",VLOOKUP($N47,INSCRITS!$D$4:$W$501,6,0))","v":""},{"$f":"IF($N47=\"\",\"\",VLOOKUP($N47,INSCRITS!$D$4:$W$501,7,0))","v":""},{"$f":"IF($N47=\"\",\"\",VLOOKUP($N47,INSCRITS!$D$4:$W$501,9,0))","v":""},null,null,""]
[null,null,null,{"$f":"IF($C48=\"\",\"\",VLOOKUP($C48,INSCRITS!$D$4:$W$501,6,0))","v":""},{"$f":"IF($C48=\"\",\"\",VLOOKUP($C48,INSCRITS!$D$4:$W$501,7,0))","v":""},{"$f":"IF($C48=\"\",\"\",VLOOKUP($C48,INSCRITS!$D$4:$W$501,9,0))","v":""},null,null,null,null,null,null,null,null,{"$f":"IF($N48=\"\",\"\",VLOOKUP($N48,INSCRITS!$D$4:$W$501,6,0))","v":""},{"$f":"IF($N48=\"\",\"\",VLOOKUP($N48,INSCRITS!$D$4:$W$501,7,0))","v":""},{"$f":"IF($N48=\"\",\"\",VLOOKUP($N48,INSCRITS!$D$4:$W$501,9,0))","v":""},null,null,""]
[null,null,null,{"$f":"IF($C49=\"\",\"\",VLOOKUP($C49,INSCRITS!$D$4:$W$501,6,0))","v":""},{"$f":"IF($C49=\"\",\"\",VLOOKUP($C49,INSCRITS!$D$4:$W$501,7,0))","v":""},{"$f":"IF($C49=\"\",\"\",VLOOKUP($C49,INSCRITS!$D$4:$W$501,9,0))","v":""},null,null,null,null,null,null,null,null,{"$f":"IF($N49=\"\",\"\",VLOOKUP($N49,INSCRITS!$D$4:$W$501,6,0))","v":""},{"$f":"IF($N49=\"\",\"\",VLOOKUP($N49,INSCRITS!$D$4:$W$501,7,0))","v":""},{"$f":"IF($N49=\"\",\"\",VLOOKUP($N49,INSCRITS!$D$4:$W$501,9,0))","v":""},null,null,""]
[null,null,null,{"$f":"IF($C50=\"\",\"\",VLOOKUP($C50,INSCRITS!$D$4:$W$501,6,0))","v":""},{"$f":"IF($C50=\"\",\"\",VLOOKUP($C50,INSCRITS!$D$4:$W$501,7,0))","v":""},{"$f":"IF($C50=\"\",\"\",VLOOKUP($C50,INSCRITS!$D$4:$W$501,9,0))","v":""},null,null,null,null,null,null,null,null,{"$f":"IF($N50=\"\",\"\",VLOOKUP($N50,INSCRITS!$D$4:$W$501,6,0))","v":""},{"$f":"IF($N50=\"\",\"\",VLOOKUP($N50,INSCRITS!$D$4:$W$501,7,0))","v":""},{"$f":"IF($N50=\"\",\"\",VLOOKUP($N50,INSCRITS!$D$4:$W$501,9,0))","v":""},null,null,""]
[null,null,null,{"$f":"IF($C51=\"\",\"\",VLOOKUP($C51,INSCRITS!$D$4:$W$501,6,0))","v":""},{"$f":"IF($C51=\"\",\"\",VLOOKUP($C51,INSCRITS!$D$4:$W$501,7,0))","v":""},{"$f":"IF($C51=\"\",\"\",VLOOKUP($C51,INSCRITS!$D$4:$W$501,9,0))","v":""},null,null,null,null,null,null,null,null,{"$f":"IF($N51=\"\",\"\",VLOOKUP($N51,INSCRITS!$D$4:$W$501,6,0))","v":""},{"$f":"IF($N51=\"\",\"\",VLOOKUP($N51,INSCRITS!$D$4:$W$501,7,0))","v":""},{"$f":"IF($N51=\"\",\"\",VLOOKUP($N51,INSCRITS!$D$4:$W$501,9,0))","v":""},null,null,""]
[null,null,null,{"$f":"IF($C52=\"\",\"\",VLOOKUP($C52,INSCRITS!$D$4:$W$501,6,0))","v":""},{"$f":"IF($C52=\"\",\"\",VLOOKUP($C52,INSCRITS!$D$4:$W$501,7,0))","v":""},{"$f":"IF($C52=\"\",\"\",VLOOKUP($C52,INSCRITS!$D$4:$W$501,9,0))","v":""},null,null,null,null,null,null,null,null,{"$f":"IF($N52=\"\",\"\",VLOOKUP($N52,INSCRITS!$D$4:$W$501,6,0))","v":""},{"$f":"IF($N52=\"\",\"\",VLOOKUP($N52,INSCRITS!$D$4:$W$501,7,0))","v":""},{"$f":"IF($N52=\"\",\"\",VLOOKUP($N52,INSCRITS!$D$4:$W$501,9,0))","v":""},null,null,""]
[null,null,null,{"$f":"IF($C53=\"\",\"\",VLOOKUP($C53,INSCRITS!$D$4:$W$501,6,0))","v":""},{"$f":"IF($C53=\"\",\"\",VLOOKUP($C53,INSCRITS!$D$4:$W$501,7,0))","v":""},{"$f":"IF($C53=\"\",\"\",VLOOKUP($C53,INSCRITS!$D$4:$W$501,9,0))","v":""},null,null,null,null,null,null,null,null,{"$f":"IF($N53=\"\",\"\",VLOOKUP($N53,INSCRITS!$D$4:$W$501,6,0))","v":""},{"$f":"IF($N53=\"\",\"\",VLOOKUP($N53,INSCRITS!$D$4:$W$501,7,0))","v":""},{"$f":"IF($N53=\"\",\"\",VLOOKUP($N53,INSCRITS!$D$4:$W$501,9,0))","v":""},null,null,""]
[null,null,null,{"$f":"IF($C54=\"\",\"\",VLOOKUP($C54,INSCRITS!$D$4:$W$501,6,0))","v":""},{"$f":"IF($C54=\"\",\"\",VLOOKUP($C54,INSCRITS!$D$4:$W$501,7,0))","v":""},{"$f":"IF($C54=\"\",\"\",VLOOKUP($C54,INSCRITS!$D$4:$W$501,9,0))","v":""},null,null,null,null,null,null,null,null,{"$f":"IF($N54=\"\",\"\",VLOOKUP($N54,INSCRITS!$D$4:$W$501,6,0))","v":""},{"$f":"IF($N54=\"\",\"\",VLOOKUP($N54,INSCRITS!$D$4:$W$501,7,0))","v":""},{"$f":"IF($N54=\"\",\"\",VLOOKUP($N54,INSCRITS!$D$4:$W$501,9,0))","v":""},null,null,""]
[null,null,null,{"$f":"IF($C55=\"\",\"\",VLOOKUP($C55,INSCRITS!$D$4:$W$501,6,0))","v":""},{"$f":"IF($C55=\"\",\"\",VLOOKUP($C55,INSCRITS!$D$4:$W$501,7,0))","v":""},{"$f":"IF($C55=\"\",\"\",VLOOKUP($C55,INSCRITS!$D$4:$W$501,9,0))","v":""}]
[null,null,null,{"$f":"IF($C56=\"\",\"\",VLOOKUP($C56,INSCRITS!$D$4:$W$501,6,0))","v":""},{"$f":"IF($C56=\"\",\"\",VLOOKUP($C56,INSCRITS!$D$4:$W$501,7,0))","v":""},{"$f":"IF($C56=\"\",\"\",VLOOKUP($C56,INSCRITS!$D$4:$W$501,9,0))","v":""}]
[null,null,null,{"$f":"IF($C57=\"\",\"\",VLOOKUP($C57,INSCRITS!$D$4:$W$501,6,0))","v":""},{"$f":"IF($C57=\"\",\"\",VLOOKUP($C57,INSCRITS!$D$4:$W$501,7,0))","v":""},{"$f":"IF($C57=\"\",\"\",VLOOKUP($C57,INSCRITS!$D$4:$W$501,9,0))","v":""}]
[null,null,null,{"$f":"IF($C58=\"\",\"\",VLOOKUP($C58,INSCRITS!$D$4:$W$501,6,0))","v":""},{"$f":"IF($C58=\"\",\"\",VLOOKUP($C58,INSCRITS!$D$4:$W$501,7,0))","v":""},{"$f":"IF($C58=\"\",\"\",VLOOKUP($C58,INSCRITS!$D$4:$W$501,9,0))","v":""}]
[null,null,null,{"$f":"IF($C59=\"\",\"\",VLOOKUP($C59,INSCRITS!$D$4:$W$501,6,0))","v":""},{"$f":"IF($C59=\"\",\"\",VLOOKUP($C59,INSCRITS!$D$4:$W$501,7,0))","v":""},{"$f":"IF($C59=\"\",\"\",VLOOKUP($C59,INSCRITS!$D$4:$W$501,9,0))","v":""}]
[null,null,null,{"$f":"IF($C60=\"\",\"\",VLOOKUP($C60,INSCRITS!$D$4:$W$501,6,0))","v":""},{"$f":"IF($C60=\"\",\"\",VLOOKUP($C60,INSCRITS!$D$4:$W$501,7,0))","v":""},{"$f":"IF($C60=\"\",\"\",VLOOKUP($C60,INSCRITS!$D$4:$W$501,9,0))","v":""}]
[null,null,null,{"$f":"IF($C61=\"\",\"\",VLOOKUP($C61,INSCRITS!$D$4:$W$501,6,0))","v":""},{"$f":"IF($C61=\"\",\"\",VLOOKUP($C61,INSCRITS!$D$4:$W$501,7,0))","v":""},{"$f":"IF($C61=\"\",\"\",VLOOKUP($C61,INSCRITS!$D$4:$W$501,9,0))","v":""}]
[null,null,null,{"$f":"IF($C62=\"\",\"\",VLOOKUP($C62,INSCRITS!$D$4:$W$501,6,0))","v":""},{"$f":"IF($C62=\"\",\"\",VLOOKUP($C62,INSCRITS!$D$4:$W$501,7,0))","v":""},{"$f":"IF($C62=\"\",\"\",VLOOKUP($C62,INSCRITS!$D$4:$W$501,9,0))","v":""}]
[null,null,null,{"$f":"IF($C63=\"\",\"\",VLOOKUP($C63,INSCRITS!$D$4:$W$501,6,0))","v":""},{"$f":"IF($C63=\"\",\"\",VLOOKUP($C63,INSCRITS!$D$4:$W$501,7,0))","v":""},{"$f":"IF($C63=\"\",\"\",VLOOKUP($C63,INSCRITS!$D$4:$W$501,9,0))","v":""}]
[null,null,null,{"$f":"IF($C64=\"\",\"\",VLOOKUP($C64,INSCRITS!$D$4:$W$501,6,0))","v":""},{"$f":"IF($C64=\"\",\"\",VLOOKUP($C64,INSCRITS!$D$4:$W$501,7,0))","v":""},{"$f":"IF($C64=\"\",\"\",VLOOKUP($C64,INSCRITS!$D$4:$W$501,9,0))","v":""}]
[null,null,null,{"$f":"IF($C65=\"\",\"\",VLOOKUP($C65,INSCRITS!$D$4:$W$501,6,0))","v":""},{"$f":"IF($C65=\"\",\"\",VLOOKUP($C65,INSCRITS!$D$4:$W$501,7,0))","v":""},{"$f":"IF($C65=\"\",\"\",VLOOKUP($C65,INSCRITS!$D$4:$W$501,9,0))","v":""}]
[null,null,null,{"$f":"IF($C66=\"\",\"\",VLOOKUP($C66,INSCRITS!$D$4:$W$501,6,0))","v":""},{"$f":"IF($C66=\"\",\"\",VLOOKUP($C66,INSCRITS!$D$4:$W$501,7,0))","v":""},{"$f":"IF($C66=\"\",\"\",VLOOKUP($C66,INSCRITS!$D$4:$W$501,9,0))","v":""}]
[null,"SERIE 4",null,{"$f":"IF($C67=\"\",\"\",VLOOKUP($C67,INSCRITS!$D$4:$W$501,6,0))","v":""},{"$f":"IF($C67=\"\",\"\",VLOOKUP($C67,INSCRITS!$D$4:$W$501,7,0))","v":""},{"$f":"IF($C67=\"\",\"\",VLOOKUP($C67,INSCRITS!$D$4:$W$501,9,0))","v":""}]
[null,null,null,{"$f":"IF($C68=\"\",\"\",VLOOKUP($C68,INSCRITS!$D$4:$W$501,6,0))","v":""},{"$f":"IF($C68=\"\",\"\",VLOOKUP($C68,INSCRITS!$D$4:$W$501,7,0))","v":""},{"$f":"IF($C68=\"\",\"\",VLOOKUP($C68,INSCRITS!$D$4:$W$501,9,0))","v":""}]
[null,null,null,{"$f":"IF($C69=\"\",\"\",VLOOKUP($C69,INSCRITS!$D$4:$W$501,6,0))","v":""},{"$f":"IF($C69=\"\",\"\",VLOOKUP($C69,INSCRITS!$D$4:$W$501,7,0))","v":""},{"$f":"IF($C69=\"\",\"\",VLOOKUP($C69,INSCRITS!$D$4:$W$501,9,0))","v":""}]
[null,null,null,{"$f":"IF($C70=\"\",\"\",VLOOKUP($C70,INSCRITS!$D$4:$W$501,6,0))","v":""},{"$f":"IF($C70=\"\",\"\",VLOOKUP($C70,INSCRITS!$D$4:$W$501,7,0))","v":""},{"$f":"IF($C70=\"\",\"\",VLOOKUP($C70,INSCRITS!$D$4:$W$501,9,0))","v":""}]
[null,null,null,{"$f":"IF($C71=\"\",\"\",VLOOKUP($C71,INSCRITS!$D$4:$W$501,6,0))","v":""},{"$f":"IF($C71=\"\",\"\",VLOOKUP($C71,INSCRITS!$D$4:$W$501,7,0))","v":""},{"$f":"IF($C71=\"\",\"\",VLOOKUP($C71,INSCRITS!$D$4:$W$501,9,0))","v":""}]
[null,null,null,{"$f":"IF($C72=\"\",\"\",VLOOKUP($C72,INSCRITS!$D$4:$W$501,6,0))","v":""},{"$f":"IF($C72=\"\",\"\",VLOOKUP($C72,INSCRITS!$D$4:$W$501,7,0))","v":""},{"$f":"IF($C72=\"\",\"\",VLOOKUP($C72,INSCRITS!$D$4:$W$501,9,0))","v":""}]
[null,null,null,{"$f":"IF($C73=\"\",\"\",VLOOKUP($C73,INSCRITS!$D$4:$W$501,6,0))","v":""},{"$f":"IF($C73=\"\",\"\",VLOOKUP($C73,INSCRITS!$D$4:$W$501,7,0))","v":""},{"$f":"IF($C73=\"\",\"\",VLOOKUP($C73,INSCRITS!$D$4:$W$501,9,0))","v":""}]
[null,null,null,{"$f":"IF($C74=\"\",\"\",VLOOKUP($C74,INSCRITS!$D$4:$W$501,6,0))","v":""},{"$f":"IF($C74=\"\",\"\",VLOOKUP($C74,INSCRITS!$D$4:$W$501,7,0))","v":""},{"$f":"IF($C74=\"\",\"\",VLOOKUP($C74,INSCRITS!$D$4:$W$501,9,0))","v":""}]
[null,null,null,{"$f":"IF($C75=\"\",\"\",VLOOKUP($C75,INSCRITS!$D$4:$W$501,6,0))","v":""},{"$f":"IF($C75=\"\",\"\",VLOOKUP($C75,INSCRITS!$D$4:$W$501,7,0))","v":""},{"$f":"IF($C75=\"\",\"\",VLOOKUP($C75,INSCRITS!$D$4:$W$501,9,0))","v":""}]
[null,null,null,{"$f":"IF($C76=\"\",\"\",VLOOKUP($C76,INSCRITS!$D$4:$W$501,6,0))","v":""},{"$f":"IF($C76=\"\",\"\",VLOOKUP($C76,INSCRITS!$D$4:$W$501,7,0))","v":""},{"$f":"IF($C76=\"\",\"\",VLOOKUP($C76,INSCRITS!$D$4:$W$501,9,0))","v":""}]
[null,null,null,{"$f":"IF($C77=\"\",\"\",VLOOKUP($C77,INSCRITS!$D$4:$W$501,6,0))","v":""},{"$f":"IF($C77=\"\",\"\",VLOOKUP($C77,INSCRITS!$D$4:$W$501,7,0))","v":""},{"$f":"IF($C77=\"\",\"\",VLOOKUP($C77,INSCRITS!$D$4:$W$501,9,0))","v":""}]
[null,null,null,{"$f":"IF($C78=\"\",\"\",VLOOKUP($C78,INSCRITS!$D$4:$W$501,6,0))","v":""},{"$f":"IF($C78=\"\",\"\",VLOOKUP($C78,INSCRITS!$D$4:$W$501,7,0))","v":""},{"$f":"IF($C78=\"\",\"\",VLOOKUP($C78,INSCRITS!$D$4:$W$501,9,0))","v":""}]
[null,null,null,{"$f":"IF($C79=\"\",\"\",VLOOKUP($C79,INSCRITS!$D$4:$W$501,6,0))","v":""},{"$f":"IF($C79=\"\",\"\",VLOOKUP($C79,INSCRITS!$D$4:$W$501,7,0))","v":""},{"$f":"IF($C79=\"\",\"\",VLOOKUP($C79,INSCRITS!$D$4:$W$501,9,0))","v":""}]
[null,null,null,{"$f":"IF($C80=\"\",\"\",VLOOKUP($C80,INSCRITS!$D$4:$W$501,6,0))","v":""},{"$f":"IF($C80=\"\",\"\",VLOOKUP($C80,INSCRITS!$D$4:$W$501,7,0))","v":""},{"$f":"IF($C80=\"\",\"\",VLOOKUP($C80,INSCRITS!$D$4:$W$501,9,0))","v":""}]
[null,null,null,{"$f":"IF($C81=\"\",\"\",VLOOKUP($C81,INSCRITS!$D$4:$W$501,6,0))","v":""},{"$f":"IF($C81=\"\",\"\",VLOOKUP($C81,INSCRITS!$D$4:$W$501,7,0))","v":""},{"$f":"IF($C81=\"\",\"\",VLOOKUP($C81,INSCRITS!$D$4:$W$501,9,0))","v":""}]
[null,null,null,{"$f":"IF($C82=\"\",\"\",VLOOKUP($C82,INSCRITS!$D$4:$W$501,6,0))","v":""},{"$f":"IF($C82=\"\",\"\",VLOOKUP($C82,INSCRITS!$D$4:$W$501,7,0))","v":""},{"$f":"IF($C82=\"\",\"\",VLOOKUP($C82,INSCRITS!$D$4:$W$501,9,0))","v":""}]
[null,null,null,{"$f":"IF($C83=\"\",\"\",VLOOKUP($C83,INSCRITS!$D$4:$W$501,6,0))","v":""},{"$f":"IF($C83=\"\",\"\",VLOOKUP($C83,INSCRITS!$D$4:$W$501,7,0))","v":""},{"$f":"IF($C83=\"\",\"\",VLOOKUP($C83,INSCRITS!$D$4:$W$501,9,0))","v":""}]
[null,null,null,{"$f":"IF($C84=\"\",\"\",VLOOKUP($C84,INSCRITS!$D$4:$W$501,6,0))","v":""},{"$f":"IF($C84=\"\",\"\",VLOOKUP($C84,INSCRITS!$D$4:$W$501,7,0))","v":""},{"$f":"IF($C84=\"\",\"\",VLOOKUP($C84,INSCRITS!$D$4:$W$501,9,0))","v":""}]
[null,null,null,{"$f":"IF($C85=\"\",\"\",VLOOKUP($C85,INSCRITS!$D$4:$W$501,6,0))","v":""},{"$f":"IF($C85=\"\",\"\",VLOOKUP($C85,INSCRITS!$D$4:$W$501,7,0))","v":""},{"$f":"IF($C85=\"\",\"\",VLOOKUP($C85,INSCRITS!$D$4:$W$501,9,0))","v":""}]
[null,null,null,{"$f":"IF($C86=\"\",\"\",VLOOKUP($C86,INSCRITS!$D$4:$W$501,6,0))","v":""},{"$f":"IF($C86=\"\",\"\",VLOOKUP($C86,INSCRITS!$D$4:$W$501,7,0))","v":""},{"$f":"IF($C86=\"\",\"\",VLOOKUP($C86,INSCRITS!$D$4:$W$501,9,0))","v":""}]
[null,null,null,{"$f":"IF($C87=\"\",\"\",VLOOKUP($C87,INSCRITS!$D$4:$W$501,6,0))","v":""},{"$f":"IF($C87=\"\",\"\",VLOOKUP($C87,INSCRITS!$D$4:$W$501,7,0))","v":""},{"$f":"IF($C87=\"\",\"\",VLOOKUP($C87,INSCRITS!$D$4:$W$501,9,0))","v":""}]
[null,null,null,{"$f":"IF($C88=\"\",\"\",VLOOKUP($C88,INSCRITS!$D$4:$W$501,6,0))","v":""},{"$f":"IF($C88=\"\",\"\",VLOOKUP($C88,INSCRITS!$D$4:$W$501,7,0))","v":""},{"$f":"IF($C88=\"\",\"\",VLOOKUP($C88,INSCRITS!$D$4:$W$501,9,0))","v":""}]
[null,null,null,{"$f":"IF($C89=\"\",\"\",VLOOKUP($C89,INSCRITS!$D$4:$W$501,6,0))","v":""},{"$f":"IF($C89=\"\",\"\",VLOOKUP($C89,INSCRITS!$D$4:$W$501,7,0))","v":""},{"$f":"IF($C89=\"\",\"\",VLOOKUP($C89,INSCRITS!$D$4:$W$501,9,0))","v":""}]
[null,null,null,{"$f":"IF($C90=\"\",\"\",VLOOKUP($C90,INSCRITS!$D$4:$W$501,6,0))","v":""},{"$f":"IF($C90=\"\",\"\",VLOOKUP($C90,INSCRITS!$D$4:$W$501,7,0))","v":""},{"$f":"IF($C90=\"\",\"\",VLOOKUP($C90,INSCRITS!$D$4:$W$501,9,0))","v":""}]
[null,null,null,{"$f":"IF($C91=\"\",\"\",VLOOKUP($C91,INSCRITS!$D$4:$W$501,6,0))","v":""},{"$f":"IF($C91=\"\",\"\",VLOOKUP($C91,INSCRITS!$D$4:$W$501,7,0))","v":""},{"$f":"IF($C91=\"\",\"\",VLOOKUP($C91,INSCRITS!$D$4:$W$501,9,0))","v":""}]
[null,null,null,{"$f":"IF($C92=\"\",\"\",VLOOKUP($C92,INSCRITS!$D$4:$W$501,6,0))","v":""},{"$f":"IF($C92=\"\",\"\",VLOOKUP($C92,INSCRITS!$D$4:$W$501,7,0))","v":""},{"$f":"IF($C92=\"\",\"\",VLOOKUP($C92,INSCRITS!$D$4:$W$501,9,0))","v":""}]
[null,null,null,{"$f":"IF($C93=\"\",\"\",VLOOKUP($C93,INSCRITS!$D$4:$W$501,6,0))","v":""},{"$f":"IF($C93=\"\",\"\",VLOOKUP($C93,INSCRITS!$D$4:$W$501,7,0))","v":""},{"$f":"IF($C93=\"\",\"\",VLOOKUP($C93,INSCRITS!$D$4:$W$501,9,0))","v":""}]
[null,null,null,{"$f":"IF($C94=\"\",\"\",VLOOKUP($C94,INSCRITS!$D$4:$W$501,6,0))","v":""},{"$f":"IF($C94=\"\",\"\",VLOOKUP($C94,INSCRITS!$D$4:$W$501,7,0))","v":""},{"$f":"IF($C94=\"\",\"\",VLOOKUP($C94,INSCRITS!$D$4:$W$501,9,0))","v":""}]
[null,null,null,{"$f":"IF($C95=\"\",\"\",VLOOKUP($C95,INSCRITS!$D$4:$W$501,6,0))","v":""},{"$f":"IF($C95=\"\",\"\",VLOOKUP($C95,INSCRITS!$D$4:$W$501,7,0))","v":""},{"$f":"IF($C95=\"\",\"\",VLOOKUP($C95,INSCRITS!$D$4:$W$501,9,0))","v":""}]
[null,null,null,{"$f":"IF($C96=\"\",\"\",VLOOKUP($C96,INSCRITS!$D$4:$W$501,6,0))","v":""},{"$f":"IF($C96=\"\",\"\",VLOOKUP($C96,INSCRITS!$D$4:$W$501,7,0))","v":""},{"$f":"IF($C96=\"\",\"\",VLOOKUP($C96,INSCRITS!$D$4:$W$501,9,0))","v":""}]
[null,null,null,{"$f":"IF($C97=\"\",\"\",VLOOKUP($C97,INSCRITS!$D$4:$W$501,6,0))","v":""},{"$f":"IF($C97=\"\",\"\",VLOOKUP($C97,INSCRITS!$D$4:$W$501,7,0))","v":""},{"$f":"IF($C97=\"\",\"\",VLOOKUP($C97,INSCRITS!$D$4:$W$501,9,0))","v":""}]
[null,null,null,{"$f":"IF($C98=\"\",\"\",VLOOKUP($C98,INSCRITS!$D$4:$W$501,6,0))","v":""},{"$f":"IF($C98=\"\",\"\",VLOOKUP($C98,INSCRITS!$D$4:$W$501,7,0))","v":""},{"$f":"IF($C98=\"\",\"\",VLOOKUP($C98,INSCRITS!$D$4:$W$501,9,0))","v":""}]
[null,null,null,{"$f":"IF($C99=\"\",\"\",VLOOKUP($C99,INSCRITS!$D$4:$W$501,6,0))","v":""},{"$f":"IF($C99=\"\",\"\",VLOOKUP($C99,INSCRITS!$D$4:$W$501,7,0))","v":""},{"$f":"IF($C99=\"\",\"\",VLOOKUP($C99,INSCRITS!$D$4:$W$501,9,0))","v":""}]
[null,null,null,{"$f":"IF($C100=\"\",\"\",VLOOKUP($C100,INSCRITS!$D$4:$W$501,6,0))","v":""},{"$f":"IF($C100=\"\",\"\",VLOOKUP($C100,INSCRITS!$D$4:$W$501,7,0))","v":""},{"$f":"IF($C100=\"\",\"\",VLOOKUP($C100,INSCRITS!$D$4:$W$501,9,0))","v":""}]
[null,null,null,{"$f":"IF($C101=\"\",\"\",VLOOKUP($C101,INSCRITS!$D$4:$W$501,6,0))","v":""},{"$f":"IF($C101=\"\",\"\",VLOOKUP($C101,INSCRITS!$D$4:$W$501,7,0))","v":""},{"$f":"IF($C101=\"\",\"\",VLOOKUP($C101,INSCRITS!$D$4:$W$501,9,0))","v":""}]
[null,null,null,{"$f":"IF($C102=\"\",\"\",VLOOKUP($C102,INSCRITS!$D$4:$W$501,6,0))","v":""},{"$f":"IF($C102=\"\",\"\",VLOOKUP($C102,INSCRITS!$D$4:$W$501,7,0))","v":""},{"$f":"IF($C102=\"\",\"\",VLOOKUP($C102,INSCRITS!$D$4:$W$501,9,0))","v":""}]
[null,null,null,{"$f":"IF($C103=\"\",\"\",VLOOKUP($C103,INSCRITS!$D$4:$W$501,6,0))","v":""},{"$f":"IF($C103=\"\",\"\",VLOOKUP($C103,INSCRITS!$D$4:$W$501,7,0))","v":""},{"$f":"IF($C103=\"\",\"\",VLOOKUP($C103,INSCRITS!$D$4:$W$501,9,0))","v":""}]
[null,null,null,{"$f":"IF($C104=\"\",\"\",VLOOKUP($C104,INSCRITS!$D$4:$W$501,6,0))","v":""},{"$f":"IF($C104=\"\",\"\",VLOOKUP($C104,INSCRITS!$D$4:$W$501,7,0))","v":""},{"$f":"IF($C104=\"\",\"\",VLOOKUP($C104,INSCRITS!$D$4:$W$501,9,0))","v":""}]
[null,null,null,{"$f":"IF($C105=\"\",\"\",VLOOKUP($C105,INSCRITS!$D$4:$W$501,6,0))","v":""},{"$f":"IF($C105=\"\",\"\",VLOOKUP($C105,INSCRITS!$D$4:$W$501,7,0))","v":""},{"$f":"IF($C105=\"\",\"\",VLOOKUP($C105,INSCRITS!$D$4:$W$501,9,0))","v":""}]
[null,null,null,{"$f":"IF($C106=\"\",\"\",VLOOKUP($C106,INSCRITS!$D$4:$W$501,6,0))","v":""},{"$f":"IF($C106=\"\",\"\",VLOOKUP($C106,INSCRITS!$D$4:$W$501,7,0))","v":""},{"$f":"IF($C106=\"\",\"\",VLOOKUP($C106,INSCRITS!$D$4:$W$501,9,0))","v":""}]
[null,null,null,{"$f":"IF($C107=\"\",\"\",VLOOKUP($C107,INSCRITS!$D$4:$W$501,6,0))","v":""},{"$f":"IF($C107=\"\",\"\",VLOOKUP($C107,INSCRITS!$D$4:$W$501,7,0))","v":""},{"$f":"IF($C107=\"\",\"\",VLOOKUP($C107,INSCRITS!$D$4:$W$501,9,0))","v":""}]
[null,null,null,{"$f":"IF($C108=\"\",\"\",VLOOKUP($C108,INSCRITS!$D$4:$W$501,6,0))","v":""},{"$f":"IF($C108=\"\",\"\",VLOOKUP($C108,INSCRITS!$D$4:$W$501,7,0))","v":""},{"$f":"IF($C108=\"\",\"\",VLOOKUP($C108,INSCRITS!$D$4:$W$501,9,0))","v":""}]
[null,null,null,{"$f":"IF($C109=\"\",\"\",VLOOKUP($C109,INSCRITS!$D$4:$W$501,6,0))","v":""},{"$f":"IF($C109=\"\",\"\",VLOOKUP($C109,INSCRITS!$D$4:$W$501,7,0))","v":""},{"$f":"IF($C109=\"\",\"\",VLOOKUP($C109,INSCRITS!$D$4:$W$501,9,0))","v":""}]

{"sheet":"RELAIS SPRINT","index":9,"n_rows":35,"n_cols":22,"rows_kept":35,"cut":false,"hidden":true,"merged":[[34,1,41,1],[4,1,11,1],[14,15,21,15],[26,15,33,15],[12,8,19,8],[22,8,29,8],[24,1,31,1],[14,1,22,1]]}
[null,"QUART RELAIS SPRINT"]
[null,"DAMES"]
[null,null,"CLUB","Composition","PLACE"]
[]
[null,"SERIE 1"]
[]
[]
[]
[null,null,null,null,null,null,null,"DEMI-FINALES RELAIS SPRINT"]
[]
[null,null,null,null,null,null,null,null,null,"CLUB","Composition","PLACE",null,null,null,"FINALES RELAIS SPRINT"]
[null,null,null,null,null,null,null,null,null,null,null,null,null,null,null,"Dames"]
[null,null,null,null,null,null,null,null,"SERIE 1",null,null,null,null,null,null,null,"NOM","Composition","PLACE",null,"PLACE","PTS"]
[]
[null,"SERIE 2",null,null,null,null,null,null,null,null,null,null,null,null,null,"FINALE A"]
[]
[]
[]
[]
[]
[]
[]
[null,null,null,null,null,null,null,null,"SERIE 2"]
[]
[null,"SERIE 3"]
[]
[null,null,null,null,null,null,null,null,null,null,null,null,null,null,null,"FINALE B"]
[]
[]
[]
[]
[null,null,null,null,null,null,null,null,null,null,null,null,null,null,null,null,null,null,null,null,null,{"$f":"IF(U32=\"\",\"\",VLOOKUP(U32,points,2))","v":""}]
[null,null,null,null,null,null,null,null,null,null,null,null,null,null,null,null,null,null,null,null,null,""]
[null,null,null,null,null,null,null,null,null,null,null,null,null,null,null,null,null,null,null,null,null,""]
[null,"SERIE 4"]

{"sheet":"RELAIS TUBE","index":10,"n_rows":46,"n_cols":24,"rows_kept":46,"cut":false,"hidden":true,"merged":[[37,1,45,1],[4,1,12,1],[13,9,21,9],[15,1,23,1],[14,16,22,16],[24,9,32,9],[26,1,34,1],[27,16,35,16]]}
[null,"QUART RELAIS BOUEE TUBE"]
[null,"DAMES"]
[null,null,"N°","CLUB","Composition","PLACE"]
[]
[null,"SERIE 1"]
[]
[]
[]
[]
[null,null,null,null,null,null,null,null,"DEMI-FINALES RELAIS BOUEE TUBE"]
[null,null,null,null,null,null,null,null,null,null,null,null,null,null,null,null,"FINALES RELAIS BOUEE TUBE"]
[null,null,null,null,null,null,null,null,null,null,"N°","CLUB","Composition","PLACE"]
[null,null,null,null,null,null,null,null,null,null,null,null,null,null,null,null,null,"N°","NOM","Composition","PLACE",null,"PLACE","PTS"]
[null,null,null,null,null,null,null,null,null,"SERIE 1",null,{"$f":"IF($K14=\"\",\"\",VLOOKUP($K14,INSCRITS!$D$4:$W$501,6,0))","v":""}]
[null,null,null,null,null,null,null,null,null,null,null,{"$f":"IF($K15=\"\",\"\",VLOOKUP($K15,INSCRITS!$D$4:$W$501,6,0))","v":""},null,null,null,null,"FINALE A",null,{"$f":"IF($R15=\"\",\"\",VLOOKUP($R15,INSCRITS!$D$4:$W$501,6,0))","v":""},null,null,null,null,{"$f":"IF(W15=\"\",\"\",VLOOKUP(W15,points,2))","v":""}]
[null,"SERIE 2",null,null,null,null,null,null,null,null,null,{"$f":"IF($K16=\"\",\"\",VLOOKUP($K16,INSCRITS!$D$4:$W$501,6,0))","v":""},null,null,null,null,null,null,{"$f":"IF($R16=\"\",\"\",VLOOKUP($R16,INSCRITS!$D$4:$W$501,6,0))","v":""},null,null,null,null,""]
[null,null,null,null,null,null,null,null,null,null,null,{"$f":"IF($K17=\"\",\"\",VLOOKUP($K17,INSCRITS!$D$4:$W$501,6,0))","v":""},null,null,null,null,null,null,{"$f":"IF($R17=\"\",\"\",VLOOKUP($R17,INSCRITS!$D$4:$W$501,6,0))","v":""},null,null,null,null,""]
[null,null,null,null,null,null,null,null,null,null,null,{"$f":"IF($K18=\"\",\"\",VLOOKUP($K18,INSCRITS!$D$4:$W$501,6,0))","v":""}]
[null,null,null,null,null,null,null,null,null,null,null,null,null,null,null,null,null,null,{"$f":"IF($R19=\"\",\"\",VLOOKUP($R19,INSCRITS!$D$4:$W$501,6,0))","v":""},null,null,null,null,""]
[null,null,null,null,null,null,null,null,null,null,null,{"$f":"IF($K20=\"\",\"\",VLOOKUP($K20,INSCRITS!$D$4:$W$501,6,0))","v":""},null,null,null,null,null,null,{"$f":"IF($R20=\"\",\"\",VLOOKUP($R20,INSCRITS!$D$4:$W$501,6,0))","v":""},null,null,null,null,""]
[null,null,null,null,null,null,null,null,null,null,null,{"$f":"IF($K21=\"\",\"\",VLOOKUP($K21,INSCRITS!$D$4:$W$501,6,0))","v":""},null,null,null,null,null,null,{"$f":"IF($R21=\"\",\"\",VLOOKUP($R21,INSCRITS!$D$4:$W$501,6,0))","v":""},null,null,null,null,""]
[null,null,null,null,null,null,null,null,null,null,null,{"$f":"IF($K22=\"\",\"\",VLOOKUP($K22,INSCRITS!$D$4:$W$501,6,0))","v":""},null,null,null,null,null,null,{"$f":"IF($R22=\"\",\"\",VLOOKUP($R22,INSCRITS!$D$4:$W$501,6,0))","v":""},null,null,null,null,""]
[null,null,null,null,null,null,null,null,null,null,null,null,null,null,null,null,null,null,{"$f":"IF($R23=\"\",\"\",VLOOKUP($R23,INSCRITS!$D$4:$W$501,6,0))","v":""},null,null,null,null,""]
[null,null,null,{"$f":"IF($C24=\"\",\"\",VLOOKUP($C24,INSCRITS!$D$4:$W$501,6,0))","v":""}]
[null,null,null,null,null,null,null,null,null,"SERIE 2",null,{"$f":"IF($K25=\"\",\"\",VLOOKUP($K25,INSCRITS!$D$4:$W$501,6,0))","v":""}]
[null,null,null,null,null,null,null,null,null,null,null,{"$f":"IF($K26=\"\",\"\",VLOOKUP($K26,INSCRITS!$D$4:$W$501,6,0))","v":""}]
[null,"SERIE 3",null,{"$f":"IF($C27=\"\",\"\",VLOOKUP($C27,INSCRITS!$D$4:$W$501,6,0))","v":""},null,null,null,null,null,null,null,{"$f":"IF($K27=\"\",\"\",VLOOKUP($K27,INSCRITS!$D$4:$W$501,6,0))","v":""}]
[null,null,null,{"$f":"IF($C28=\"\",\"\",VLOOKUP($C28,INSCRITS!$D$4:$W$501,6,0))","v":""},null,null,null,null,null,null,null,{"$f":"IF($K28=\"\",\"\",VLOOKUP($K28,INSCRITS!$D$4:$W$501,6,0))","v":""},null,null,null,null,"FINALE B",null,{"$f":"IF($R28=\"\",\"\",VLOOKUP($R28,INSCRITS!$D$4:$W$501,6,0))","v":""},null,null,null,null,{"$f":"IF(W28=\"\",\"\",VLOOKUP(W28,points,2))","v":""}]
[null,null,null,{"$f":"IF($C29=\"\",\"\",VLOOKUP($C29,INSCRITS!$D$4:$W$501,6,0))","v":""},null,null,null,null,null,null,null,{"$f":"IF($K29=\"\",\"\",VLOOKUP($K29,INSCRITS!$D$4:$W$501,6,0))","v":""},null,null,null,null,null,null,{"$f":"IF($R29=\"\",\"\",VLOOKUP($R29,INSCRITS!$D$4:$W$501,6,0))","v":""},null,null,null,null,""]
[null,null,null,{"$f":"IF($C30=\"\",\"\",VLOOKUP($C30,INSCRITS!$D$4:$W$501,6,0))","v":""},null,null,null,null,null,null,null,{"$f":"IF($K30=\"\",\"\",VLOOKUP($K30,INSCRITS!$D$4:$W$501,6,0))","v":""}]
[null,null,null,null,null,null,null,null,null,null,null,null,null,null,null,null,null,null,{"$f":"IF($R31=\"\",\"\",VLOOKUP($R31,INSCRITS!$D$4:$W$501,6,0))","v":""},null,null,null,null,""]
[null,null,null,{"$f":"IF($C32=\"\",\"\",VLOOKUP($C32,INSCRITS!$D$4:$W$501,6,0))","v":""},null,null,null,null,null,null,null,{"$f":"IF($K32=\"\",\"\",VLOOKUP($K32,INSCRITS!$D$4:$W$501,6,0))","v":""},null,null,null,null,null,null,{"$f":"IF($R32=\"\",\"\",VLOOKUP($R32,INSCRITS!$D$4:$W$501,6,0))","v":""},null,null,null,null,""]
[null,null,null,{"$f":"IF($C33=\"\",\"\",VLOOKUP($C33,INSCRITS!$D$4:$W$501,6,0))","v":""},null,null,null,null,null,null,null,{"$f":"IF($K33=\"\",\"\",VLOOKUP($K33,INSCRITS!$D$4:$W$501,6,0))","v":""},null,null,null,null,null,null,{"$f":"IF($R33=\"\",\"\",VLOOKUP($R33,INSCRITS!$D$4:$W$501,6,0))","v":""},null,null,null,null,""]
[null,null,null,{"$f":"IF($C34=\"\",\"\",VLOOKUP($C34,INSCRITS!$D$4:$W$501,6,0))","v":""},null,null,null,null,null,null,null,null,null,null,null,null,null,null,{"$f":"IF($R34=\"\",\"\",VLOOKUP($R34,INSCRITS!$D$4:$W$501,6,0))","v":""},null,null,null,null,""]
[null,null,null,{"$f":"IF($C35=\"\",\"\",VLOOKUP($C35,INSCRITS!$D$4:$W$501,6,0))","v":""},null,null,null,null,null,null,null,null,null,null,null,null,null,null,{"$f":"IF($R35=\"\",\"\",VLOOKUP($R35,INSCRITS!$D$4:$W$501,6,0))","v":""},null,null,null,null,""]
[null,null,null,null,null,null,null,null,null,null,null,null,null,null,null,null,null,null,{"$f":"IF($R36=\"\",\"\",VLOOKUP($R36,INSCRITS!$D$4:$W$501,6,0))","v":""},null,null,null,null,""]
[]
[null,"SERIE 4",null,{"$f":"IF($C38=\"\",\"\",VLOOKUP($C38,INSCRITS!$D$4:$W$501,6,0))","v":""}]
[null,null,null,{"$f":"IF($C39=\"\",\"\",VLOOKUP($C39,INSCRITS!$D$4:$W$501,6,0))","v":""}]
[null,null,null,{"$f":"IF($C40=\"\",\"\",VLOOKUP($C40,INSCRITS!$D$4:$W$501,6,0))","v":""}]
[null,null,null,{"$f":"IF($C41=\"\",\"\",VLOOKUP($C41,INSCRITS!$D$4:$W$501,6,0))","v":""}]
[]
[null,null,null,{"$f":"IF($C43=\"\",\"\",VLOOKUP($C43,INSCRITS!$D$4:$W$501,6,0))","v":""}]
[null,null,null,{"$f":"IF($C44=\"\",\"\",VLOOKUP($C44,INSCRITS!$D$4:$W$501,6,0))","v":""}]
[null,null,null,{"$f":"IF($C45=\"\",\"\",VLOOKUP($C45,INSCRITS!$D$4:$W$501,6,0))","v":""}]
[null,null,null,{"$f":"IF($C46=\"\",\"\",VLOOKUP($C46,INSCRITS!$D$4:$W$501,6,0))","v":""}]

{"sheet":"SAUV PLANCHE","index":11,"n_rows":36,"n_cols":24,"rows_kept":36,"cut":false,"hidden":true,"merged":[[4,1,12,1],[13,9,21,9],[14,16,22,16],[24,9,32,9],[27,16,35,16],[13,1,21,1],[22,1,30,1],[31,1,39,1]]}
[null,"QUART SAUVETAGE PLANCHE"]
[null,"Dames"]
[null,null,"N°","CLUB","Composition","PLACE"]
[]
[null,"SERIE 1"]
[]
[]
[]
[]
[null,null,null,null,null,null,null,null,"DEMI-FINALES SAUVETAGE PLANCHE"]
[null,null,null,null,null,null,null,null,null,null,null,null,null,null,null,null,"FINALES SAUVETAGE PLANCHE"]
[null,null,null,null,null,null,null,null,null,null,"N°","CLUB","Composition","PLACE",null,null,"DAMES"]
[null,null,null,null,null,null,null,null,null,null,null,null,null,null,null,null,null,"N°","NOM","Composition","PLACE",null,"PLACE","PTS"]
[null,"SERIE 2",null,null,null,null,null,null,null,"SERIE 1",null,{"$f":"IF($K14=\"\",\"\",VLOOKUP($K14,INSCRITS!$D$4:$W$501,6,0))","v":""}]
[null,null,null,null,null,null,null,null,null,null,null,{"$f":"IF($K15=\"\",\"\",VLOOKUP($K15,INSCRITS!$D$4:$W$501,6,0))","v":""},null,null,null,null,"FINALE A",null,null,null,null,null,1,{"$f":"IF(W15=\"\",\"\",VLOOKUP(W15,points,2))","v":20}]
[null,null,null,null,null,null,null,null,null,null,null,{"$f":"IF($K16=\"\",\"\",VLOOKUP($K16,INSCRITS!$D$4:$W$501,6,0))","v":""},null,null,null,null,null,null,null,null,null,null,2,18]
[null,null,null,null,null,null,null,null,null,null,null,{"$f":"IF($K17=\"\",\"\",VLOOKUP($K17,INSCRITS!$D$4:$W$501,6,0))","v":""},null,null,null,null,null,null,null,null,null,null,3,16]
[null,null,null,null,null,null,null,null,null,null,null,{"$f":"IF($K18=\"\",\"\",VLOOKUP($K18,INSCRITS!$D$4:$W$501,6,0))","v":""},null,null,null,null,null,null,null,null,null,null,4,14]
[null,null,null,null,null,null,null,null,null,null,null,null,null,null,null,null,null,null,null,null,null,null,5,13]
[null,null,null,null,null,null,null,null,null,null,null,{"$f":"IF($K20=\"\",\"\",VLOOKUP($K20,INSCRITS!$D$4:$W$501,6,0))","v":""},null,null,null,null,null,null,null,null,null,null,6,12]
[null,null,null,null,null,null,null,null,null,null,null,{"$f":"IF($K21=\"\",\"\",VLOOKUP($K21,INSCRITS!$D$4:$W$501,6,0))","v":""},null,null,null,null,null,null,null,null,null,null,7,11]
[null,null,null,null,null,null,null,null,null,null,null,{"$f":"IF($K22=\"\",\"\",VLOOKUP($K22,INSCRITS!$D$4:$W$501,6,0))","v":""},null,null,null,null,null,null,null,null,null,null,8,10]
[null,"SERIE 3",null,null,null,null,null,null,null,null,null,null,null,null,null,null,null,null,null,null,null,null,null,{"$f":"IF(W23=\"\",\"\",VLOOKUP(W23,points,2))","v":""}]
[]
[null,null,null,null,null,null,null,null,null,"SERIE 2",null,{"$f":"IF($K25=\"\",\"\",VLOOKUP($K25,INSCRITS!$D$4:$W$501,6,0))","v":""}]
[null,null,null,null,null,null,null,null,null,null,null,{"$f":"IF($K26=\"\",\"\",VLOOKUP($K26,INSCRITS!$D$4:$W$501,6,0))","v":""}]
[null,null,null,null,null,null,null,null,null,null,null,{"$f":"IF($K27=\"\",\"\",VLOOKUP($K27,INSCRITS!$D$4:$W$501,6,0))","v":""}]
[null,null,null,null,null,null,null,null,null,null,null,{"$f":"IF($K28=\"\",\"\",VLOOKUP($K28,INSCRITS!$D$4:$W$501,6,0))","v":""},null,null,null,null,"FINALE B",null,null,null,null,null,9,{"$f":"IF(W28=\"\",\"\",VLOOKUP(W28,points,2))","v":8}]
[null,null,null,null,null,null,null,null,null,null,null,{"$f":"IF($K29=\"\",\"\",VLOOKUP($K29,INSCRITS!$D$4:$W$501,6,0))","v":""},null,null,null,null,null,null,null,null,null,null,10,7]
[null,null,null,null,null,null,null,null,null,null,null,{"$f":"IF($K30=\"\",\"\",VLOOKUP($K30,INSCRITS!$D$4:$W$501,6,0))","v":""},null,null,null,null,null,null,null,null,null,null,11,6]
[null,null,null,null,null,null,null,null,null,null,null,null,null,null,null,null,null,null,null,null,null,null,12,5]
[null,"SERIE 4",null,null,null,null,null,null,null,null,null,{"$f":"IF($K32=\"\",\"\",VLOOKUP($K32,INSCRITS!$D$4:$W$501,6,0))","v":""},null,null,null,null,null,null,null,null,null,null,13,4]
[null,null,null,null,null,null,null,null,null,null,null,{"$f":"IF($K33=\"\",\"\",VLOOKUP($K33,INSCRITS!$D$4:$W$501,6,0))","v":""},null,null,null,null,null,null,null,null,null,null,14,3]
[null,null,null,null,null,null,null,null,null,null,null,null,null,null,null,null,null,null,null,null,null,null,15,2]
[null,null,null,null,null,null,null,null,null,null,null,null,null,null,null,null,null,null,null,null,null,null,"Disq",0]
[null,null,null,null,null,null,null,null,null,null,null,null,null,null,null,null,null,null,null,null,null,null,null,{"$f":"IF(W36=\"\",\"\",VLOOKUP(W36,points,2))","v":""}]

{"sheet":"RELAIS COMBINE","index":12,"n_rows":30,"n_cols":15,"rows_kept":30,"cut":false,"hidden":true,"merged":[[24,1,39,1],[14,8,29,8],[4,1,21,1]]}
[null,"DEMIE  FINALE RELAIS COMBINE"]
[null,"DAMES"]
[null,null,"CLUB","Composition","PLACE"]
[]
[null,"SERIE 1"]
[]
[]
[]
[]
[]
[null,null,null,null,null,null,null,null,"FINALES RELAIS COMBINE"]
[]
[null,null,null,null,null,null,null,null,null,"NOM","Composition","PLACE",null,"PLACE","PTS"]
[]
[null,null,null,null,null,null,null,null,"FINALE A",null,null,null,null,null,{"$f":"IF(N15=\"\",\"\",VLOOKUP(N15,points,2))","v":""}]
[null,null,null,null,null,null,null,null,null,null,null,null,null,null,""]
[null,null,null,null,null,null,null,null,null,null,null,null,null,null,""]
[null,null,null,null,null,null,null,null,null,null,null,null,null,null,""]
[null,null,null,null,null,null,null,null,null,null,null,null,null,null,""]
[null,null,null,null,null,null,null,null,null,null,null,null,null,null,""]
[null,null,null,null,null,null,null,null,null,null,null,null,null,null,""]
[null,null,null,null,null,null,null,null,null,null,null,null,null,null,""]
[null,null,null,null,null,null,null,null,null,null,null,null,null,null,{"$f":"IF(N23=\"\",\"\",VLOOKUP(N23,points,2))","v":""}]
[null,null,null,null,null,null,null,null,null,null,null,null,null,null,""]
[null,"SERIE 2",null,null,null,null,null,null,null,null,null,null,null,null,""]
[null,null,null,null,null,null,null,null,null,null,null,null,null,null,""]
[null,null,null,null,null,null,null,null,null,null,null,null,null,null,""]
[null,null,null,null,null,null,null,null,null,null,null,null,null,null,""]
[null,null,null,null,null,null,null,null,null,null,null,null,null,null,""]
[null,null,null,null,null,null,null,null,null,null,null,null,null,null,""]

{"sheet":"EQUIPE","index":13,"n_rows":36,"n_cols":11,"rows_kept":36,"cut":false,"hidden":true,"merged":[[4,4,4,6],[4,7,4,9],[2,1,2,10]]}
[]
[]
[null,"RESULTATS"]
[]
[]
[null,"Places","Clubs","Composition","Indiv.","Relais","Total","Indiv.","Relais","Total","Interclubs"]
[null,1,null,null,null,null,null,null,{"$f":"SUM($F5:$K5)","v":0},null,{"$f":"SUM(G7+J7)","v":0}]
[null,2,null,null,null,null,null,null,null,null,{"$f":"SUM(G8+J8)","v":0}]
[null,3,null,null,null,null,null,null,null,null,0]
[null,4,null,null,null,null,null,null,null,null,0]
[null,5,null,null,null,null,null,null,null,null,0]
[null,6,null,null,null,null,null,null,null,null,0]
[null,7,null,null,null,null,null,null,null,null,0]
[null,8,null,null,null,null,null,null,null,null,0]
[null,9,null,null,null,null,null,null,null,null,0]
[null,10,null,null,null,null,null,null,null,null,0]
[null,11,null,null,null,null,null,null,null,null,0]
[null,12,null,null,null,null,null,null,null,null,0]
[null,13,null,null,null,null,null,null,null,null,0]
[null,14,null,null,null,null,null,null,null,null,0]
[null,15,null,null,null,null,null,null,null,null,0]
[null,16,null,null,null,null,null,null,null,null,0]
[null,17,null,null,null,null,null,null,null,null,0]
[null,18,null,null,null,null,null,null,null,null,0]
[null,19,null,null,null,null,null,null,null,null,0]
[null,20,null,null,null,null,null,null,null,null,0]
[null,21,null,null,null,null,null,null,null,null,0]
[null,22,null,null,null,null,null,null,null,null,0]
[null,23,null,null,null,null,null,null,null,null,{"$f":"SUM(G29+J29)","v":0}]
[null,24,null,null,null,null,null,null,null,null,0]
[null,25,null,null,null,null,null,null,null,null,0]
[null,26,null,null,null,null,null,null,null,null,0]
[null,27,null,null,null,null,null,null,null,null,0]
[null,28,null,null,null,null,null,null,null,null,0]
[null,29,null,null,null,null,null,null,null,null,0]
[null,30,null,null,null,null,null,null,null,null,0]